{"text_format":"1","workbook":"xlsx","n_sheets":34,"sheets":["Instructions","Objective & Limitations","Building Info","Executive Summary","Executive Summary Cont'd","Inspection - Physical Needs","Flood & Heat Hazard Exposure","Inspection - Energy and Water","Electrification Screening","Energy and Water Use","Solar Screening Results ","LL97 Compliance - NYC ONLY","Scope and Prelim. Cost Est.","Quality Control","Calcs","Replacement Cost Schedule","ZipCode Map","Operation and Maintenance","Healthy Rehab Interventions ","Completeness Check","Project Savings Summary","Photos","External Calcs - Optional","Health Questionnaire - Optional","Cover Page","Energy and Water PRINT","Scope and Prelim. PRINT","Replacement Cost Sched PRINT","Project Summary Sheet (PSS)_1","PSS Savings Check_1","PSS Notes List","PSS References","References","drop down tables"],"not_rendered":{"charts":0,"images":9,"macros":1,"external_links":0,"defined_names":2546,"comments":16,"pivot_tables":0},"unopened":[],"bounds":{"document_bytes":16777216,"sheet_cells":100000,"rows_first":2000,"rows_last":500,"rows_between":2000,"halvings":0,"cell_chars":16384,"cell_head_chars":4096},"cells_cut":0,"cells_raw":0,"read":"whole","date_system":"1900"}

{"sheet":"Instructions","index":0,"n_rows":58,"n_cols":4,"rows_kept":58,"cut":false,"hidden":false,"merged":[[22,2,22,18],[12,2,12,18],[18,2,18,18],[19,2,19,18],[20,2,20,18],[21,2,21,18],[15,2,15,18],[13,2,13,18]]}
[]
[]
[]
[]
[]
[]
[]
[null,"INTEGRATED PHYSICAL NEEDS ASSESSMENT"]
[]
[]
[null,"General Instructions"]
[]
[null,1,"Firms are required to use this template. Compliance with local laws, state laws and codes are reliant on the IPNA Provider and Building Owner. The IPNA Provider should be aware of relevant codes and laws and integrate that in document.  "]
[null,2,"The IPNA is intended to be used across New York State. References to New York City (NYC) requirements do not preclude its use outside of NYC."]
[null,3,"Tabs and cells highlighted in purple are NYC-specific and do not need to be completed for projects outside of the city."]
[null,4,"All HPD projects must be assessed for solar feasibility using the Solar Screening Tool. The link to the Solar Screening Tool is found on \"Solar Screening Results (HPD)\" tab. HPD projects are also required to submit the fully populated Solar Screening Tool to HPD along with this IPNA submission."]
[null,5,"Follow the instructions at the top of each section and in the comments of certain cells."]
[null,6,"Enter N/A or leave as blank if a particular field does not apply."]
[null,7,"Provide recommendations for energy efficiency and water conservation measures with associated payback period.  Recommendations for energy efficiency and water conservation should not be limited to only low-cost measures; include all applicable energy and water conservation measures, and where feasible deeper retrofit measures including on-site renewables."]
[null,8,"For multi-building projects, please refer to the IPNA Standard to determine how to show each section appropriately."]
[null,9,"Grey tabs have required data inputs."]
[null,10,"Green tabs:  no data is entered by the user on these tabs.  They aggregated data from other tabs in the tool."]
[null,11,"Red tabs are copies of grey tabs (e.g. Energy and Water PRINT is a copy of Inspection- Energy and Water). They are formatted to allow for easy printing to PDF. "]
[null,12,"Do not change or edit cells shaded in white. These are automatically calculating cells. Calculations should be carefully reviewed to make sure they are accurate for your project.  "]
[null,13,"Cells that are highlighted in blue are for inputs."]
[null,14,"Cells that are highlighted in orange are required for the tool to function correctly."]
[null,15,"Provide a separate attachment with photos from the assessment."]
[null,16,"Macros must be enabled for full functionality of this tool. The Executive Summary tab may take a few minutes to load."]
[]
[null,"Original Release Date:",null,"2017-06-23"]
[null,"Draft Release Date:",null,"2024-06-03"]
[]
[]
[null,null,"Tab"]
[null,"Lock","Instructions"]
[null,"Unlock","Objective & Limitations"]
[null,"Lock","Cover Page"]
[null,"Lock","Executive Summary"]
[null,"Lock","Executive Summary Cont'd"]
[null,"Unlock","Building Info"]
[null,"Lock","Inspection - Physical Needs"]
[null,"Lock","Inspection - Energy and Water"]
[null,"Lock","Energy and Water PRINT"]
[null,"Lock","Energy and Water Use"]
[null,"Unlock","Solar Screening Results (HPD)"]
[null,"Unlock","LL97 Compliance - NYC ONLY"]
[null,"Lock","Scope and Prelim. Cost Est. "]
[null,"Lock","Scope and Prelim. PRINT"]
[null,"Lock","Quality Control"]
[null,"Lock","Replacement Cost Schedule"]
[null,"Lock","Replacement Cost Sched PRINT"]
[null,"Lock","Operation and Maintenance"]
[null,"Lock","Healthy Rehab Interventions"]
[null,"Lock","Completeness Check"]
[null,"Lock","Project Savings Summary"]
[null,"Unlock","Photos "]
[null,"Unlock","External Calcs - Optional"]
[null,"Unlock","Healthy Questionaire - Optional"]

{"sheet":"Objective & Limitations","index":1,"n_rows":32,"n_cols":3,"rows_kept":32,"cut":false,"hidden":false,"merged":[[2,2,2,9],[9,1,9,9],[10,1,10,9],[8,1,8,9],[15,2,15,9],[16,2,16,9],[17,2,17,9],[18,2,18,9],[19,2,19,9],[11,1,11,9],[14,1,14,8],[26,2,26,9],[22,2,22,9],[29,2,29,9],[30,2,30,9],[31,2,31,9],[23,2,23,9],[24,2,24,9],[25,2,25,9]]}
[]
[null,"Instructions / Definitions / Notes"]
[null,"1.","Sample objectives, procedures, and limitations are provided below.  Edit text, if necessary, to reflect your project."]
[]
[null,"OBJECTIVE, PROCEDURES, AND LIMITATIONS"]
[]
[null,"OBJECTIVE"]
[null,"Background:"]
[null,"An Integrated Physical Needs Assessment (IPNA) combines the traditional PNA with an energy audit."]
[null,"A physical needs assessment (PNA) identifies building deficiencies and makes recommendations for improvements. These recommendations are accompanied by an implementation timeline and overall cost of each improvement."]
[null,"An energy audit is an assessment of water and energy savings improvements, including their estimated cost, estimated annual energy savings, and estimated annual cost savings."]
[null,"In addition to combining a traditional PNA with an energy audit, the IPNA also integrates a Health Overlay that guides building owners to making changes that will improve the health and safety of tenants.  It is possible that additional parts will be added to the IPNA in the future."]
[]
[null,"Focus:"]
[null,"The end goals of the IPNA are to:"]
[null,"• ","Identify needed improvements for the building"]
[null,"• ","Provide expected costs of improvements, along with the cost savings for energy and water improvements, to allow prioritization of improvements for capital planning purposes"]
[null,"• ","Reduce overall energy and water consumption within the building with suggestions from the results of the energy audit  "]
[null,"• ","Support the search for and acquisition of financing (loans) and funding (grants and tax credits)"]
[null,"• ","Identify needed improvements to the operations, energy efficiency, and water efficiency of the building, including identifying components nearing the end of their useful life before they fail"]
[]
[null,"PROCEDURES"]
[null,"1."," A visual survey was conducted from basement to roof, including, but not limited to, the following: site and public elements; structural frame and building envelope; insulation and roof/wall cavities; mechanical, electrical, and plumbing systems and utilities; life safety/fire protection equipment; and interior elements. This survey included the inspection of 3 units or 10% of the total project’s dwelling units, whichever is greater. Units were inspected that contain varying characteristics and conditions, including location (ground floor, top floor, basement, exposed edge and corner units) as well as type, size, and history of rehabilitation. "]
[null,"2.","Pertinent documentation was reviewed, including violations issued, Certificate of Occupancy, architectural drawings, maintenance logs, O&M plans, and certifications of training for building maintenance staff."]
[null,"3.","Twenty four months of consecutive energy and water billing statements were reviewed and analyzed to determine the energy and water consumption of the building."]
[null,"4.","Interviews were conducted with the property owner, management, and maintenance staff, and existing O&M logs were reviewed."]
[null,"5.","The energy assessment sought to identify a minimum of 30% energy savings.  Energy calculations were interactively calculated, to avoid the double counting of savings. "]
[]
[null,"LIMITATIONS"]
[null,"• ","Evaluation of building consisted of visual inspection of readily-accessible locations"]
[null,"• ","No special testing occurred, beyond what can be measured with human faculties, and other than some defined health, water, and energy-related measurements.  Examples of measurements taken include boiler efficiency, carbon monoxide levels, and gas leaks; ventilation airflow; relative humidity and indoor temperature; and water flow rates through faucets and showerheads."]
[null,"• ","The report represents an extrapolation and is not technically exhaustive, being limited to a specific point in time; also it is not without uncertainty (per ASTM  E 2018-15)."]

{"sheet":"Building Info","index":2,"n_rows":70,"n_cols":100,"rows_kept":70,"cut":false,"hidden":false,"merged":[[55,32,55,34],[55,22,55,24],[55,12,55,14],[56,72,56,74],[57,72,57,74],[58,72,58,74],[59,72,59,74],[55,17,55,18],[55,25,55,26],[55,27,55,28],[58,62,58,64],[57,62,57,64],[56,62,56,64],[59,12,59,14],[58,12,58,14],[55,62,55,64],[55,72,55,74],[55,55,55,56],[55,57,55,58],[56,12,56,14],[49,82,49,84],[55,92,55,94],[56,92,56,94],[57,92,57,94],[58,92,58,94],[59,92,59,94],[60,92,60,94],[61,92,61,94],[63,92,63,94],[56,82,56,84],[57,82,57,84],[58,82,58,84],[59,82,59,84],[60,82,60,84],[61,82,61,84],[63,82,63,84],[53,95,53,99],[64,72,64,74],[64,82,64,84],[64,92,64,94],[53,12,53,14],[53,15,53,19],[53,22,53,24],[53,25,53,29],[53,32,53,34],[53,35,53,39],[53,42,53,44],[53,45,53,49],[53,52,53,54],[53,55,53,59],[53,62,53,64],[53,65,53,69],[53,72,53,74],[53,75,53,79],[53,82,53,84],[53,85,53,89],[53,92,53,94],[55,42,55,44],[55,52,55,54],[62,15,62,16],[50,45,50,49],[51,45,51,49],[52,45,52,49],[54,45,54,49],[49,92,49,94],[50,92,50,94],[51,92,51,94],[52,92,52,94],[54,92,54,94],[50,85,50,89],[51,85,51,89],[52,85,52,89],[54,85,54,89],[49,55,49,59],[50,55,50,59],[51,55,51,59],[52,55,52,59],[54,55,54,59],[50,65,50,69],[51,65,51,69],[52,65,52,69],[54,65,54,69],[50,75,50,79],[51,75,51,79],[50,22,50,24],[51,22,51,24],[52,22,52,24],[54,22,54,24],[50,32,50,34],[51,32,51,34],[52,32,52,34],[54,32,54,34],[50,42,50,44],[51,42,51,44],[52,42,52,44],[54,42,54,44],[50,25,50,29],[51,25,51,29],[52,25,52,29],[54,25,54,29],[89,6,89,8],[90,6,90,8],[91,6,91,8],[92,6,92,8],[102,6,102,8],[108,6,108,8],[109,6,109,8],[103,6,103,8],[104,6,104,8],[105,6,105,8],[106,6,106,8],[107,6,107,8],[93,6,93,8],[94,6,94,8],[95,6,95,8],[96,6,96,8],[97,6,97,8],[98,6,98,8],[99,6,99,8],[100,6,100,8],[101,6,101,8],[8,1,8,9],[19,5,19,9],[20,5,20,9],[21,5,21,9],[18,5,18,9],[24,5,24,9],[26,5,26,9],[23,2,23,4],[18,2,18,4],[19,2,19,4],[20,2,20,4],[21,2,21,4],[24,2,24,4],[25,2,25,4],[26,2,26,4],[22,2,22,4],[23,5,23,9],[12,1,12,9],[13,1,16,9],[25,5,25,9],[22,5,22,9],[48,15,48,19],[54,3,54,8],[39,3,39,4],[40,7,40,8],[43,7,43,8],[43,5,43,6],[38,5,38,6],[49,12,49,14],[39,5,39,6],[50,3,50,8],[48,3,48,8],[49,3,49,8],[53,3,53,8],[51,3,51,8],[58,3,58,4],[58,5,58,6],[58,7,58,8],[59,3,59,4],[59,5,59,6],[59,7,59,8],[56,3,56,4],[56,5,56,6],[50,15,50,19],[51,15,51,19],[52,15,52,19],[54,15,54,19],[50,12,50,14],[51,12,51,14],[52,12,52,14],[54,12,54,14],[55,3,55,4],[52,3,52,8],[57,3,57,4],[57,5,57,6],[57,7,57,8],[57,12,57,14],[55,5,55,6],[55,7,55,8],[34,3,34,4],[36,5,36,6],[41,7,41,8],[42,7,42,8],[39,7,39,8],[38,7,38,8],[36,3,36,4],[40,3,40,4],[40,5,40,6],[36,7,36,8],[37,5,37,6],[37,7,37,8],[27,2,27,4],[42,3,42,4],[42,5,42,6],[38,3,38,4],[43,3,43,4],[41,3,41,4],[41,5,41,6],[27,5,27,9],[28,2,28,4],[37,3,37,4],[35,3,35,4],[30,3,30,8],[31,3,31,8],[33,3,33,4],[35,5,35,6],[35,7,35,8],[33,7,33,8],[34,5,34,6],[34,7,34,8],[33,5,33,6],[32,7,32,8],[28,5,28,9],[32,3,32,4],[32,5,32,6],[66,3,66,4],[66,5,66,6],[66,7,66,8],[64,3,64,4],[64,5,64,6],[64,7,64,8],[65,3,65,4],[65,5,65,6],[65,7,65,8],[62,3,62,4],[62,5,62,6],[62,7,62,8],[63,3,63,4],[63,5,63,6],[63,7,63,8],[60,3,60,4],[60,5,60,6],[61,3,61,4],[60,7,60,8],[61,5,61,6],[61,7,61,8],[98,16,98,18],[99,16,99,18],[100,16,100,18],[101,16,101,18],[71,16,71,18],[68,12,68,19],[64,17,64,18],[64,12,64,14],[65,12,65,14],[66,12,66,14],[92,16,92,18],[93,16,93,18],[94,16,94,18],[95,16,95,18],[62,17,62,18],[61,12,61,14],[63,12,63,14],[64,15,64,16],[55,15,55,16],[56,7,56,8],[69,6,69,8],[70,6,70,8],[84,6,84,8],[60,12,60,14],[80,6,80,8],[81,6,81,8],[82,6,82,8],[78,6,78,8],[77,6,77,8],[71,6,71,8],[72,6,72,8],[73,6,73,8],[74,6,74,8],[75,6,75,8],[76,6,76,8],[79,6,79,8],[68,2,68,9],[83,6,83,8],[85,6,85,8],[86,6,86,8],[87,6,87,8],[88,6,88,8],[63,22,63,24],[64,22,64,24],[62,25,62,26],[62,27,62,28],[107,16,107,18],[72,16,72,18],[73,16,73,18],[74,16,74,18],[75,16,75,18],[76,16,76,18],[69,16,69,18],[70,16,70,18],[70,26,70,28],[71,26,71,28],[72,26,72,28],[73,26,73,28],[74,26,74,28],[69,26,69,28],[68,22,68,29],[65,22,65,24],[108,16,108,18],[109,16,109,18],[84,16,84,18],[85,16,85,18],[86,16,86,18],[77,16,77,18],[78,16,78,18],[79,16,79,18],[80,16,80,18],[81,16,81,18],[82,16,82,18],[83,16,83,18],[96,16,96,18],[87,16,87,18],[88,16,88,18],[89,16,89,18],[90,16,90,18],[91,16,91,18],[102,16,102,18],[103,16,103,18],[104,16,104,18],[105,16,105,18],[106,16,106,18],[97,16,97,18],[66,22,66,24],[75,26,75,28],[76,26,76,28],[109,26,109,28],[100,26,100,28],[101,26,101,28],[102,26,102,28],[103,26,103,28],[104,26,104,28],[95,26,95,28],[96,26,96,28],[97,26,97,28],[98,26,98,28],[99,26,99,28],[77,26,77,28],[78,26,78,28],[79,26,79,28],[85,26,85,28],[86,26,86,28],[87,26,87,28],[88,26,88,28],[89,26,89,28],[80,26,80,28],[81,26,81,28],[84,26,84,28],[105,26,105,28],[106,26,106,28],[107,26,107,28],[108,26,108,28],[90,26,90,28],[91,26,91,28],[92,26,92,28],[93,26,93,28],[94,26,94,28],[48,35,48,39],[49,35,49,39],[49,32,49,34],[50,35,50,39],[51,35,51,39],[52,35,52,39],[54,35,54,39],[82,26,82,28],[83,26,83,28],[64,25,64,26],[64,27,64,28],[69,36,69,38],[70,36,70,38],[71,36,71,38],[72,36,72,38],[73,36,73,38],[66,32,66,34],[68,32,68,39],[64,35,64,36],[64,37,64,38],[64,32,64,34],[65,32,65,34],[79,36,79,38],[80,36,80,38],[81,36,81,38],[82,36,82,38],[83,36,83,38],[74,36,74,38],[75,36,75,38],[76,36,76,38],[77,36,77,38],[78,36,78,38],[90,36,90,38],[91,36,91,38],[92,36,92,38],[93,36,93,38],[84,36,84,38],[85,36,85,38],[86,36,86,38],[87,36,87,38],[88,36,88,38],[64,45,64,46],[71,46,71,48],[72,46,72,48],[73,46,73,48],[74,46,74,48],[69,46,69,48],[68,42,68,49],[65,42,65,44],[66,42,66,44],[87,46,87,48],[88,46,88,48],[89,46,89,48],[80,46,80,48],[81,46,81,48],[82,46,82,48],[83,46,83,48],[64,47,64,48],[64,42,64,44],[62,45,62,46],[62,47,62,48],[109,36,109,38],[55,45,55,46],[55,47,55,48],[104,36,104,38],[105,36,105,38],[106,36,106,38],[107,36,107,38],[108,36,108,38],[99,36,99,38],[100,36,100,38],[101,36,101,38],[102,36,102,38],[103,36,103,38],[94,36,94,38],[95,36,95,38],[96,36,96,38],[97,36,97,38],[98,36,98,38],[89,36,89,38],[70,46,70,48],[84,46,84,48],[75,46,75,48],[76,46,76,48],[77,46,77,48],[78,46,78,48],[79,46,79,48],[48,75,48,79],[48,65,48,69],[105,46,105,48],[95,46,95,48],[96,46,96,48],[97,46,97,48],[98,46,98,48],[99,46,99,48],[90,46,90,48],[91,46,91,48],[92,46,92,48],[93,46,93,48],[94,46,94,48],[85,46,85,48],[86,46,86,48],[49,75,49,79],[49,65,49,69],[49,62,49,64],[106,46,106,48],[107,46,107,48],[108,46,108,48],[109,46,109,48],[100,46,100,48],[101,46,101,48],[102,46,102,48],[103,46,103,48],[104,46,104,48],[52,75,52,79],[54,75,54,79],[49,72,49,74],[50,72,50,74],[51,72,51,74],[52,72,52,74],[54,72,54,74],[50,62,50,64],[51,62,51,64],[52,62,52,64],[54,62,54,64],[61,62,61,64],[60,62,60,64],[59,62,59,64],[60,72,60,74],[61,72,61,74],[63,72,63,74],[55,85,55,86],[55,87,55,88],[55,67,55,68],[55,75,55,76],[55,77,55,78],[55,65,55,66],[55,82,55,84],[64,67,64,68],[64,75,64,76],[64,77,64,78],[64,55,64,56],[64,57,64,58],[64,65,64,66],[64,62,64,64],[64,52,64,54],[62,65,62,66],[62,62,62,64],[62,67,62,68],[62,75,62,76],[62,77,62,78],[62,72,62,74],[62,57,62,58],[62,55,62,56],[63,62,63,64],[63,52,63,54],[68,92,68,99],[68,82,68,89],[68,72,68,79],[68,62,68,69],[68,52,68,59],[66,62,66,64],[66,52,66,54],[65,62,65,64],[65,52,65,54],[66,82,66,84],[65,82,65,84],[66,92,66,94],[65,72,65,74],[66,72,66,74],[65,92,65,94],[70,56,70,58],[70,66,70,68],[70,76,70,78],[70,86,70,88],[70,96,70,98],[69,56,69,58],[69,66,69,68],[69,76,69,78],[69,86,69,88],[69,96,69,98],[72,56,72,58],[72,66,72,68],[72,76,72,78],[72,86,72,88],[72,96,72,98],[71,56,71,58],[71,66,71,68],[71,76,71,78],[71,86,71,88],[71,96,71,98],[74,56,74,58],[74,66,74,68],[74,76,74,78],[74,86,74,88],[74,96,74,98],[73,56,73,58],[73,66,73,68],[73,76,73,78],[73,86,73,88],[73,96,73,98],[76,56,76,58],[76,66,76,68],[76,76,76,78],[76,86,76,88],[76,96,76,98],[75,56,75,58],[75,66,75,68],[75,76,75,78],[75,86,75,88],[75,96,75,98],[78,56,78,58],[78,66,78,68],[78,76,78,78],[78,86,78,88],[78,96,78,98],[77,56,77,58],[77,66,77,68],[77,76,77,78],[77,86,77,88],[77,96,77,98],[80,56,80,58],[80,66,80,68],[80,76,80,78],[80,86,80,88],[80,96,80,98],[79,56,79,58],[79,66,79,68],[79,76,79,78],[79,86,79,88],[79,96,79,98],[82,56,82,58],[82,66,82,68],[82,76,82,78],[82,86,82,88],[82,96,82,98],[81,56,81,58],[81,66,81,68],[81,76,81,78],[81,86,81,88],[81,96,81,98],[84,56,84,58],[84,66,84,68],[84,76,84,78],[84,86,84,88],[84,96,84,98],[83,56,83,58],[83,66,83,68],[83,76,83,78],[83,86,83,88],[83,96,83,98],[86,56,86,58],[86,66,86,68],[86,76,86,78],[86,86,86,88],[86,96,86,98],[85,56,85,58],[85,66,85,68],[85,76,85,78],[85,86,85,88],[85,96,85,98],[88,56,88,58],[88,66,88,68],[88,76,88,78],[88,86,88,88],[88,96,88,98],[87,56,87,58],[87,66,87,68],[87,76,87,78],[87,86,87,88],[87,96,87,98],[90,56,90,58],[90,66,90,68],[90,76,90,78],[90,86,90,88],[90,96,90,98],[89,56,89,58],[89,66,89,68],[89,76,89,78],[89,86,89,88],[89,96,89,98],[92,56,92,58],[92,66,92,68],[92,76,92,78],[92,86,92,88],[92,96,92,98],[91,56,91,58],[91,66,91,68],[91,76,91,78],[91,86,91,88],[91,96,91,98],[94,56,94,58],[94,66,94,68],[94,76,94,78],[94,86,94,88],[94,96,94,98],[93,56,93,58],[93,66,93,68],[93,76,93,78],[93,86,93,88],[93,96,93,98],[96,56,96,58],[96,66,96,68],[96,76,96,78],[96,86,96,88],[96,96,96,98],[95,56,95,58],[95,66,95,68],[95,76,95,78],[95,86,95,88],[95,96,95,98],[98,56,98,58],[98,66,98,68],[98,76,98,78],[98,86,98,88],[98,96,98,98],[97,56,97,58],[97,66,97,68],[97,76,97,78],[97,86,97,88],[97,96,97,98],[100,56,100,58],[100,66,100,68],[100,76,100,78],[100,86,100,88],[100,96,100,98],[99,56,99,58],[99,66,99,68],[99,76,99,78],[99,86,99,88],[99,96,99,98],[102,56,102,58],[102,66,102,68],[102,76,102,78],[102,86,102,88],[102,96,102,98],[101,56,101,58],[101,66,101,68],[101,76,101,78],[101,86,101,88],[101,96,101,98],[105,86,105,88],[105,96,105,98],[104,56,104,58],[104,66,104,68],[104,76,104,78],[104,86,104,88],[104,96,104,98],[103,56,103,58],[103,66,103,68],[103,76,103,78],[103,86,103,88],[103,96,103,98],[48,55,48,59],[109,56,109,58],[109,66,109,68],[109,76,109,78],[109,86,109,88],[109,96,109,98],[108,56,108,58],[108,66,108,68],[108,76,108,78],[108,86,108,88],[108,96,108,98],[107,56,107,58],[107,66,107,68],[107,76,107,78],[107,86,107,88],[107,96,107,98],[106,56,106,58],[106,66,106,68],[106,76,106,78],[106,86,106,88],[106,96,106,98],[105,56,105,58],[105,66,105,68],[105,76,105,78],[64,95,64,96],[64,97,64,98],[48,85,48,89],[49,85,49,89],[62,82,62,84],[55,95,55,96],[55,97,55,98],[49,95,49,99],[48,95,48,99],[62,92,62,94],[62,95,62,96],[62,97,62,98],[62,85,62,86],[62,87,62,88],[64,85,64,86],[64,87,64,88],[50,95,50,99],[51,95,51,99],[52,95,52,99],[54,95,54,99],[50,82,50,84],[51,82,51,84],[52,82,52,84],[54,82,54,84],[60,22,60,24],[62,52,62,54],[49,52,49,54],[56,52,56,54],[57,52,57,54],[58,52,58,54],[59,52,59,54],[60,52,60,54],[61,52,61,54],[62,35,62,36],[62,37,62,38],[50,52,50,54],[51,52,51,54],[52,52,52,54],[54,52,54,54],[61,22,61,24],[61,32,61,34],[58,32,58,34],[59,32,59,34],[56,32,56,34],[57,32,57,34],[55,35,55,36],[55,37,55,38],[62,32,62,34],[4,2,4,9],[58,42,58,44],[59,42,59,44],[60,42,60,44],[61,42,61,44],[63,42,63,44],[48,45,48,49],[49,45,49,49],[62,42,62,44],[49,42,49,44],[56,42,56,44],[57,42,57,44],[49,15,49,19],[62,12,62,14],[48,25,48,29],[49,25,49,29],[62,22,62,24],[49,22,49,24],[56,22,56,24],[57,22,57,24],[58,22,58,24],[59,22,59,24],[63,32,63,34],[60,32,60,34]]}
[]
[null,"Instructions / Definitions / Notes"]
[null,1,"Fill out the blue and purple cells below."]
[null,2,"Cells highlighted in purple are only required for buildings located in NYC."]
[null,3,"The information on this tab is used to populate the Executive Summary and Cover Page tabs."]
[null,4,"Please refer to the IPNA Standard on how multiple buildings should be addressed. "]
[]
[]
[null,"BUILDING INFORMATION"]
[]
[null,"Project Info"]
[]
[null,"If this project includes multiple buildings, please describe how the multiple buildings are being accounted for within this IPNA tool. Describe what information is aggregated and what information is building specific. Please note, a separate IPNA tool should be used for each building type and for each scope of work. Multiple buildings may be grouped in a single IPNA tool if they are of the same building type with the same scope of work."]
[]
[]
[]
[]
[]
[null,null,"Project Name"]
[null,null,"Address (enter primary address)"]
[null,null,"City"]
[null,null,"Zip Code"]
[null,null,"Number of Above-Ground Floors (for multi-building projects, enter the height of the tallest building)"]
[null,null,"Building Gross Area (SF) (aggregate for all buildings included in this tool)"]
[null,null,"Project owner type? (rental or coop/condo)"]
[null,null,"Non-profit owner?"]
[null,null,"Landmarked Building(s)?"]
[null,null,"Is project in a historic district?"]
[null,null,"Construction Type of buildings in this tool"]
[]
[null,null,null,"Aggregated information for All buildings included in this IPNA Tool"]
[null,null,"Number of Buildings Addressed in this IPNA Tool"]
[null,null,null,"Occupied (# units)",null,"Vacant (# units)",null,"Total"]
[null,null,"Studio",null,null,null,null,{"$f":"SUM(D34:G34)","v":0}]
[null,null,"1 Bedroom",null,null,null,null,0]
[null,null,"2 Bedroom",null,null,null,null,0]
[null,null,"3 Bedroom",null,null,null,null,0]
[null,null,"4 Bedroom",null,null,null,null,0]
[null,null,"5 Bedroom",null,null,null,null,0]
[null,null,"Total Residential Units Only",{"$f":"SUM(D34:E39)","v":0},null,{"$f":"SUM(F34:G39)","v":0},null,{"$f":"SUM(H34:I39)","v":0}]
[null,null,"Commercial Spaces",null,null,null,null,{"$f":"SUM(D41:G41)","v":0}]
[null,null,"Total Units (Commercial and Residential)",{"$f":"SUM(D40:E41)","v":0},null,{"$f":"SUM(F40:G41)","v":0},null,{"$f":"SUM(H40:I41)","v":0}]
[null,null,"Total Ground Floor Units",null,null,null,null,{"$f":"SUM(D43:G43)","v":0}]
[null,null,"Total Basement Units",null,null,null,null,{"$f":"SUM(D44:G44)","v":0}]
[]
[null,"Building Info for each building included in this IPNA Tool (add more buildings to the right as necessary)"]
[]
[]
[null,null,null,"Building 1",null,null,null,null,null,null,null,null,null,null,null,"Building 2",null,null,null,null,null,null,null,null,null,"Building 3",null,null,null,null,null,null,null,null,null,"Building 4",null,null,null,null,null,null,null,null,null,"Building 5",null,null,null,null,null,null,null,null,null,"Building 6",null,null,null,null,null,null,null,null,null,"Building 7",null,null,null,null,null,null,null,null,null,"Building 8",null,null,null,null,null,null,null,null,null,"Building 9",null,null,null,null,null,null,null,null,null,"Building 10"]
[null,null,"Building Address (Street, City, Zip)",null,null,null,null,null,null,null,null,null,"Building Address",null,null,null,null,null,null,null,null,null,"Building Address",null,null,null,null,null,null,null,null,null,"Building Address",null,null,null,null,null,null,null,null,null,"Building Address",null,null,null,null,null,null,null,null,null,"Building Address",null,null,null,null,null,null,null,null,null,"Building Address",null,null,null,null,null,null,null,null,null,"Building Address",null,null,null,null,null,null,null,null,null,"Building Address",null,null,null,null,null,null,null,null,null,"Building Address"]
[null,null,"Borough, Block, Lot (BBL) (NYC only)",null,null,null,null,null,null,null,null,null,"Borough, Block, Lot (BBL) (NYC only)",null,null,null,null,null,null,null,null,null,"Borough, Block, Lot (BBL) (NYC only)",null,null,null,null,null,null,null,null,null,"Borough, Block, Lot (BBL) (NYC only)",null,null,null,null,null,null,null,null,null,"Borough, Block, Lot (BBL) (NYC only)",null,null,null,null,null,null,null,null,null,"Borough, Block, Lot (BBL) (NYC only)",null,null,null,null,null,null,null,null,null,"Borough, Block, Lot (BBL) (NYC only)",null,null,null,null,null,null,null,null,null,"Borough, Block, Lot (BBL) (NYC only)",null,null,null,null,null,null,null,null,null,"Borough, Block, Lot (BBL) (NYC only)",null,null,null,null,null,null,null,null,null,"Borough, Block, Lot (BBL) (NYC only)"]
[null,null,"Date of Last FISP or LL 11/98 Report (NYC only)",null,null,null,null,null,null,null,null,null,"Date of Last FISP or LL 11/98 Report (NYC only)",null,null,null,null,null,null,null,null,null,"Date of Last FISP or LL 11/98 Report (NYC only)",null,null,null,null,null,null,null,null,null,"Date of Last FISP or LL 11/98 Report (NYC only)",null,null,null,null,null,null,null,null,null,"Date of Last FISP or LL 11/98 Report (NYC only)",null,null,null,null,null,null,null,null,null,"Date of Last FISP or LL 11/98 Report (NYC only)",null,null,null,null,null,null,null,null,null,"Date of Last FISP or LL 11/98 Report (NYC only)",null,null,null,null,null,null,null,null,null,"Date of Last FISP or LL 11/98 Report (NYC only)",null,null,null,null,null,null,null,null,null,"Date of Last FISP or LL 11/98 Report (NYC only)",null,null,null,null,null,null,null,null,null,"Date of Last FISP or LL 11/98 Report (NYC only)"]
[null,null,"Year Built",null,null,null,null,null,null,null,null,null,"Year Built",null,null,null,null,null,null,null,null,null,"Year Built",null,null,null,null,null,null,null,null,null,"Year Built",null,null,null,null,null,null,null,null,null,"Year Built",null,null,null,null,null,null,null,null,null,"Year Built",null,null,null,null,null,null,null,null,null,"Year Built",null,null,null,null,null,null,null,null,null,"Year Built",null,null,null,null,null,null,null,null,null,"Year Built",null,null,null,null,null,null,null,null,null,"Year Built"]
[null,null,"Building Gross Area (SF)",null,null,null,null,null,null,null,null,null,"Building Gross Area (SF)",null,null,null,null,null,null,null,null,null,"Building Gross Area (SF)",null,null,null,null,null,null,null,null,null,"Building Gross Area (SF)",null,null,null,null,null,null,null,null,null,"Building Gross Area (SF)",null,null,null,null,null,null,null,null,null,"Building Gross Area (SF)",null,null,null,null,null,null,null,null,null,"Building Gross Area (SF)",null,null,null,null,null,null,null,null,null,"Building Gross Area (SF)",null,null,null,null,null,null,null,null,null,"Building Gross Area (SF)",null,null,null,null,null,null,null,null,null,"Building Gross Area (SF)"]
[null,null,"Does the building have a basement or cellar?",null,null,null,null,null,null,null,null,null,"Does the building have a basement or cellar?",null,null,null,null,null,null,null,null,null,"Does the building have a basement or cellar?",null,null,null,null,null,null,null,null,null,"Does the building have a basement or cellar?",null,null,null,null,null,null,null,null,null,"Does the building have a basement or cellar?",null,null,null,null,null,null,null,null,null,"Does the building have a basement or cellar?",null,null,null,null,null,null,null,null,null,"Does the building have a basement or cellar?",null,null,null,null,null,null,null,null,null,"Does the building have a basement or cellar?",null,null,null,null,null,null,null,null,null,"Does the building have a basement or cellar?",null,null,null,null,null,null,null,null,null,"Does the building have a basement or cellar?"]
[null,null,null,"Occupied (# units)",null,"Vacant (# units)",null,"Total",null,null,null,null,null,null,null,"Occupied (# units)",null,"Vacant (# units)",null,"Total",null,null,null,null,null,"Occupied (# units)",null,"Vacant (# units)",null,"Total",null,null,null,null,null,"Occupied (# units)",null,"Vacant (# units)",null,"Total",null,null,null,null,null,"Occupied (# units)",null,"Vacant (# units)",null,"Total",null,null,null,null,null,"Occupied (# units)",null,"Vacant (# units)",null,"Total",null,null,null,null,null,"Occupied (# units)",null,"Vacant (# units)",null,"Total",null,null,null,null,null,"Occupied (# units)",null,"Vacant (# units)",null,"Total",null,null,null,null,null,"Occupied (# units)",null,"Vacant (# units)",null,"Total",null,null,null,null,null,"Occupied (# units)",null,"Vacant (# units)",null,"Total"]
[null,null,"Studio",null,null,null,null,{"$f":"SUM(D57:G57)","v":0},null,null,null,null,"Studio",null,null,null,null,null,null,{"$f":"SUM(P57:S57)","v":0},null,null,"Studio",null,null,null,null,null,null,{"$f":"SUM(Z57:AC57)","v":0},null,null,"Studio",null,null,null,null,null,null,{"$f":"SUM(AJ57:AM57)","v":0},null,null,"Studio",null,null,null,null,null,null,{"$f":"SUM(AT57:AW57)","v":0},null,null,"Studio",null,null,null,null,null,null,{"$f":"SUM(BD57:BG57)","v":0},null,null,"Studio",null,null,null,null,null,null,{"$f":"SUM(BN57:BQ57)","v":0},null,null,"Studio",null,null,null,null,null,null,{"$f":"SUM(BX57:CA57)","v":0},null,null,"Studio",null,null,null,null,null,null,{"$f":"SUM(CH57:CK57)","v":0},null,null,"Studio",null,null,null,null,null,null,{"$f":"SUM(CR57:CU57)","v":0}]
[null,null,"1 Bedroom",null,null,null,null,0,null,null,null,null,"1 Bedroom",null,null,null,null,null,null,0,null,null,"1 Bedroom",null,null,null,null,null,null,0,null,null,"1 Bedroom",null,null,null,null,null,null,0,null,null,"1 Bedroom",null,null,null,null,null,null,0,null,null,"1 Bedroom",null,null,null,null,null,null,0,null,null,"1 Bedroom",null,null,null,null,null,null,0,null,null,"1 Bedroom",null,null,null,null,null,null,0,null,null,"1 Bedroom",null,null,null,null,null,null,0,null,null,"1 Bedroom",null,null,null,null,null,null,0]
[null,null,"2 Bedroom",null,null,null,null,0,null,null,null,null,"2 Bedroom",null,null,null,null,null,null,0,null,null,"2 Bedroom",null,null,null,null,null,null,0,null,null,"2 Bedroom",null,null,null,null,null,null,0,null,null,"2 Bedroom",null,null,null,null,null,null,0,null,null,"2 Bedroom",null,null,null,null,null,null,0,null,null,"2 Bedroom",null,null,null,null,null,null,0,null,null,"2 Bedroom",null,null,null,null,null,null,0,null,null,"2 Bedroom",null,null,null,null,null,null,0,null,null,"2 Bedroom",null,null,null,null,null,null,0]
[null,null,"3 Bedroom",null,null,null,null,0,null,null,null,null,"3 Bedroom",null,null,null,null,null,null,0,null,null,"3 Bedroom",null,null,null,null,null,null,0,null,null,"3 Bedroom",null,null,null,null,null,null,0,null,null,"3 Bedroom",null,null,null,null,null,null,0,null,null,"3 Bedroom",null,null,null,null,null,null,0,null,null,"3 Bedroom",null,null,null,null,null,null,0,null,null,"3 Bedroom",null,null,null,null,null,null,0,null,null,"3 Bedroom",null,null,null,null,null,null,0,null,null,"3 Bedroom",null,null,null,null,null,null,0]
[null,null,"4 Bedroom",null,null,null,null,0,null,null,null,null,"4 Bedroom",null,null,null,null,null,null,0,null,null,"4 Bedroom",null,null,null,null,null,null,0,null,null,"4 Bedroom",null,null,null,null,null,null,0,null,null,"4 Bedroom",null,null,null,null,null,null,0,null,null,"4 Bedroom",null,null,null,null,null,null,0,null,null,"4 Bedroom",null,null,null,null,null,null,0,null,null,"4 Bedroom",null,null,null,null,null,null,0,null,null,"4 Bedroom",null,null,null,null,null,null,0,null,null,"4 Bedroom",null,null,null,null,null,null,0]
[null,null,"5 Bedroom",null,null,null,null,0,null,null,null,null,"5 Bedroom",null,null,null,null,null,null,0,null,null,"5 Bedroom",null,null,null,null,null,null,0,null,null,"5 Bedroom",null,null,null,null,null,null,0,null,null,"5 Bedroom",null,null,null,null,null,null,0,null,null,"5 Bedroom",null,null,null,null,null,null,0,null,null,"5 Bedroom",null,null,null,null,null,null,0,null,null,"5 Bedroom",null,null,null,null,null,null,0,null,null,"5 Bedroom",null,null,null,null,null,null,0,null,null,"5 Bedroom",null,null,null,null,null,null,0]
[null,null,"Total Residential Units Only",{"$f":"SUM(D57:E62)","v":0},null,{"$f":"SUM(F57:G62)","v":0},null,{"$f":"SUM(H57:I62)","v":0},null,null,null,null,"Total Residential Units Only",null,null,{"$f":"SUM(P57:Q62)","v":0},null,{"$f":"SUM(R57:S62)","v":0},null,{"$f":"SUM(T57:T62)","v":0},null,null,"Total Residential Units Only",null,null,{"$f":"SUM(Z57:AA62)","v":0},null,{"$f":"SUM(AB57:AC62)","v":0},null,{"$f":"SUM(AD57:AD62)","v":0},null,null,"Total Residential Units Only",null,null,{"$f":"SUM(AJ57:AK62)","v":0},null,{"$f":"SUM(AL57:AM62)","v":0},null,{"$f":"SUM(AN57:AN62)","v":0},null,null,"Total Residential Units Only",null,null,{"$f":"SUM(AT57:AU62)","v":0},null,{"$f":"SUM(AV57:AW62)","v":0},null,{"$f":"SUM(AX57:AX62)","v":0},null,null,"Total Residential Units Only",null,null,{"$f":"SUM(BD57:BE62)","v":0},null,{"$f":"SUM(BF57:BG62)","v":0},null,{"$f":"SUM(BH57:BH62)","v":0},null,null,"Total Residential Units Only",null,null,{"$f":"SUM(BN57:BO62)","v":0},null,{"$f":"SUM(BP57:BQ62)","v":0},null,{"$f":"SUM(BR57:BR62)","v":0},null,null,"Total Residential Units Only",null,null,{"$f":"SUM(BX57:BY62)","v":0},null,{"$f":"SUM(BZ57:CA62)","v":0},null,{"$f":"SUM(CB57:CB62)","v":0},null,null,"Total Residential Units Only",null,null,{"$f":"SUM(CH57:CI62)","v":0},null,{"$f":"SUM(CJ57:CK62)","v":0},null,{"$f":"SUM(CL57:CL62)","v":0},null,null,"Total Residential Units Only",null,null,{"$f":"SUM(CR57:CS62)","v":0},null,{"$f":"SUM(CT57:CU62)","v":0},null,{"$f":"SUM(CV57:CV62)","v":0}]
[null,null,"Commercial Spaces",null,null,null,null,{"$f":"SUM(D64:G64)","v":0},null,null,null,null,"Commercial Spaces",null,null,null,null,null,null,{"$f":"SUM(P64:S64)","v":0},null,null,"Commercial Spaces",null,null,null,null,null,null,{"$f":"SUM(Z64:AC64)","v":0},null,null,"Commercial Spaces",null,null,null,null,null,null,{"$f":"SUM(AJ64:AM64)","v":0},null,null,"Commercial Spaces",null,null,null,null,null,null,{"$f":"SUM(AT64:AW64)","v":0},null,null,"Commercial Spaces",null,null,null,null,null,null,{"$f":"SUM(BD64:BG64)","v":0},null,null,"Commercial Spaces",null,null,null,null,null,null,{"$f":"SUM(BN64:BQ64)","v":0},null,null,"Commercial Spaces",null,null,null,null,null,null,{"$f":"SUM(BX64:CA64)","v":0},null,null,"Commercial Spaces",null,null,null,null,null,null,{"$f":"SUM(CH64:CK64)","v":0},null,null,"Commercial Spaces",null,null,null,null,null,null,{"$f":"SUM(CR64:CU64)","v":0}]
[null,null,"Total Units (Commercial and Residential)",{"$f":"SUM(D63:E64)","v":0},null,{"$f":"SUM(F63:G64)","v":0},null,{"$f":"SUM(H63:I64)","v":0},null,null,null,null,"Total Units (Commercial and Residential)",null,null,{"$f":"SUM(P63:Q64)","v":0},null,{"$f":"SUM(R63:S64)","v":0},null,{"$f":"SUM(T57:T64)","v":0},null,null,"Total Units (Commercial and Residential)",null,null,{"$f":"SUM(Z63:AA64)","v":0},null,{"$f":"SUM(AB63:AC64)","v":0},null,{"$f":"SUM(AD57:AD64)","v":0},null,null,"Total Units (Commercial and Residential)",null,null,{"$f":"SUM(AJ63:AK64)","v":0},null,{"$f":"SUM(AL63:AM64)","v":0},null,{"$f":"SUM(AN57:AN64)","v":0},null,null,"Total Units (Commercial and Residential)",null,null,{"$f":"SUM(AT63:AU64)","v":0},null,{"$f":"SUM(AV63:AW64)","v":0},null,{"$f":"SUM(AX57:AX64)","v":0},null,null,"Total Units (Commercial and Residential)",null,null,{"$f":"SUM(BD63:BE64)","v":0},null,{"$f":"SUM(BF63:BG64)","v":0},null,{"$f":"SUM(BH57:BH64)","v":0},null,null,"Total Units (Commercial and Residential)",null,null,{"$f":"SUM(BN63:BO64)","v":0},null,{"$f":"SUM(BP63:BQ64)","v":0},null,{"$f":"SUM(BR57:BR64)","v":0},null,null,"Total Units (Commercial and Residential)",null,null,{"$f":"SUM(BX63:BY64)","v":0},null,{"$f":"SUM(BZ63:CA64)","v":0},null,{"$f":"SUM(CB57:CB64)","v":0},null,null,"Total Units (Commercial and Residential)",null,null,{"$f":"SUM(CH63:CI64)","v":0},null,{"$f":"SUM(CJ63:CK64)","v":0},null,{"$f":"SUM(CL57:CL64)","v":0},null,null,"Total Units (Commercial and Residential)",null,null,{"$f":"SUM(CR63:CS64)","v":0},null,{"$f":"SUM(CT63:CU64)","v":0},null,{"$f":"SUM(CV57:CV64)","v":0}]
[null,null,"Total Ground Floor Units",null,null,null,null,{"$f":"SUM(D66:G66)","v":0},null,null,null,null,"Total Ground Floor Units",null,null,null,null,null,null,{"$f":"SUM(P66:S66)","v":0},null,null,"Total Ground Floor Units",null,null,null,null,null,null,{"$f":"SUM(Z66:AC66)","v":0},null,null,"Total Ground Floor Units",null,null,null,null,null,null,{"$f":"SUM(AJ66:AM66)","v":0},null,null,"Total Ground Floor Units",null,null,null,null,null,null,{"$f":"SUM(AT66:AW66)","v":0},null,null,"Total Ground Floor Units",null,null,null,null,null,null,{"$f":"SUM(BD66:BG66)","v":0},null,null,"Total Ground Floor Units",null,null,null,null,null,null,{"$f":"SUM(BN66:BQ66)","v":0},null,null,"Total Ground Floor Units",null,null,null,null,null,null,{"$f":"SUM(BX66:CA66)","v":0},null,null,"Total Ground Floor Units",null,null,null,null,null,null,{"$f":"SUM(CH66:CK66)","v":0},null,null,"Total Ground Floor Units",null,null,null,null,null,null,{"$f":"SUM(CR66:CU66)","v":0}]
[null,null,"Total Basement Units",null,null,null,null,{"$f":"SUM(D67:G67)","v":0},null,null,null,null,"Total Basement Units",null,null,null,null,null,null,{"$f":"SUM(P67:S67)","v":0},null,null,"Total Basement Units",null,null,null,null,null,null,{"$f":"SUM(Z67:AC67)","v":0},null,null,"Total Basement Units",null,null,null,null,null,null,{"$f":"SUM(AJ67:AM67)","v":0},null,null,"Total Basement Units",null,null,null,null,null,null,{"$f":"SUM(AT67:AW67)","v":0},null,null,"Total Basement Units",null,null,null,null,null,null,{"$f":"SUM(BD67:BG67)","v":0},null,null,"Total Basement Units",null,null,null,null,null,null,{"$f":"SUM(BN67:BQ67)","v":0},null,null,"Total Basement Units",null,null,null,null,null,null,{"$f":"SUM(BX67:CA67)","v":0},null,null,"Total Basement Units",null,null,null,null,null,null,{"$f":"SUM(CH67:CK67)","v":0},null,null,"Total Basement Units",null,null,null,null,null,null,{"$f":"SUM(CR67:CU67)","v":0}]
[]
[null,null,"VIOLATIONS NARRATIVE - Building 1",null,null,null,null,null,null,null,null,null,"VIOLATIONS NARRATIVE - Building 2",null,null,null,null,null,null,null,null,null,"VIOLATIONS NARRATIVE - Building 3",null,null,null,null,null,null,null,null,null,"VIOLATIONS NARRATIVE - Building 4",null,null,null,null,null,null,null,null,null,"VIOLATIONS NARRATIVE - Building 5",null,null,null,null,null,null,null,null,null,"VIOLATIONS NARRATIVE - Building 6",null,null,null,null,null,null,null,null,null,"VIOLATIONS NARRATIVE - Building 7",null,null,null,null,null,null,null,null,null,"VIOLATIONS NARRATIVE - Building 8",null,null,null,null,null,null,null,null,null,"VIOLATIONS NARRATIVE - Building 9",null,null,null,null,null,null,null,null,null,"VIOLATIONS NARRATIVE - Building 10"]
[null,null,"Violation Type","Issuing agency","Date of Violation","Description of violation","Would the recommended scope address this violation? ",null,null,"Estimated Cost to Remediate",null,null,"Violation Type","Issuing agency","Date of Violation","Description of violation","Would the recommended scope address this violation? ",null,null,"Estimated Cost to Remediate",null,null,"Violation Type","Issuing agency","Date of Violation","Description of violation","Would the recommended scope address this violation? ",null,null,"Estimated Cost to Remediate",null,null,"Violation Type","Issuing agency","Date of Violation","Description of violation","Would the recommended scope address this violation? ",null,null,"Estimated Cost to Remediate",null,null,"Violation Type","Issuing agency","Date of Violation","Description of violation","Would the recommended scope address this violation? ",null,null,"Estimated Cost to Remediate",null,null,"Violation Type","Issuing agency","Date of Violation","Description of violation","Would the recommended scope address this violation? ",null,null,"Estimated Cost to Remediate",null,null,"Violation Type","Issuing agency","Date of Violation","Description of violation","Would the recommended scope address this violation? ",null,null,"Estimated Cost to Remediate",null,null,"Violation Type","Issuing agency","Date of Violation","Description of violation","Would the recommended scope address this violation? ",null,null,"Estimated Cost to Remediate",null,null,"Violation Type","Issuing agency","Date of Violation","Description of violation","Would the recommended scope address this violation? ",null,null,"Estimated Cost to Remediate",null,null,"Violation Type","Issuing agency","Date of Violation","Description of violation","Would the recommended scope address this violation? ",null,null,"Estimated Cost to Remediate"]

{"sheet":"Executive Summary","index":3,"n_rows":210,"n_cols":10,"rows_kept":210,"cut":false,"hidden":false,"merged":[[20,4,20,9],[21,4,21,9],[2,2,2,5],[125,4,125,9],[15,2,15,3],[169,8,169,9],[168,4,168,9],[175,4,175,6],[176,4,176,6],[173,4,173,6],[174,4,174,6],[172,4,172,6],[169,4,169,6],[170,8,170,9],[171,8,171,9],[172,8,172,9],[173,8,173,9],[174,8,174,9],[171,4,171,6],[170,4,170,6],[177,4,177,6],[179,4,179,6],[178,4,178,6],[175,8,175,9],[176,8,176,9],[177,8,177,9],[178,8,178,9],[179,8,179,9],[180,8,180,9],[181,8,181,9],[182,8,182,9],[180,4,180,6],[181,4,181,6],[182,4,182,6],[204,8,204,9],[199,8,199,9],[200,8,200,9],[201,8,201,9],[202,8,202,9],[203,8,203,9],[197,8,197,9],[198,8,198,9],[191,8,191,9],[192,8,192,9],[193,8,193,9],[194,8,194,9],[189,8,189,9],[190,8,190,9],[204,4,204,6],[199,4,199,6],[200,4,200,6],[201,4,201,6],[202,4,202,6],[203,4,203,6],[197,4,197,6],[198,4,198,6],[191,4,191,6],[192,4,192,6],[193,4,193,6],[194,4,194,6],[195,8,195,9],[196,8,196,9],[189,4,189,6],[190,4,190,6],[185,4,185,6],[195,4,195,6],[196,4,196,6],[186,4,186,6],[183,4,183,6],[184,4,184,6],[185,8,185,9],[187,4,187,6],[188,4,188,6],[184,8,184,9],[186,8,186,9],[183,8,183,9],[187,8,187,9],[188,8,188,9]]}
[1]
[1,null,"Instructions / Definitions / Notes"]
[1,null,"1. Please note the recommendation tables will auto populate based on inputs from other tabs in this workbook."]
[1]
[1,null,"EXECUTIVE SUMMARY"]
[1]
[1,null,"Project/Building Name (if any) or Address(es)",null,{"$f":"IF(ISBLANK('Building Info'!F19),CONCATENATE('Building Info'!F20,\", \",'Building Info'!F21),'Building Info'!F19)","v":", "}]
[1,null,"# of Buildings "]
[1,null,"# of Total Units",null,{"$f":"IF('Building Info'!$H$42>0,'Building Info'!$H$42,\"\")","v":""}]
[1,null,"Report Prepared For"]
[1,null,"Report Prepared By"]
[1,null,"Needs Assessor"]
[1,null,"Energy Assessor"]
[1,null,"Needs Portion Reviewed By"]
[1,null,"Energy Portion Reviewed By"]
[1,null,"Additional attendees during site visit (super, etc.)"]
[1,null,"Date of Site Visit"]
[1,null,"Date of Report"]
[1,null,"Date of Revised Report"]
[1]
[1,null,null,null,"Recommended Energy Efficiency, Water Conservation, Resiliency, and Physical Needs Improvements "]
[1,null,null,null,"Please note the below recommendations do not take full code compliance into consideration. Please consult with a design profession for implementation. "]
[1,null,null,null,"Improvement Name","Improvement Description","Improvement Type","Estimated Implementation Cost ($)","Estimated Annual Utility Cost Savings ($/yr)","Potential Health Benefit"]
[{"$f":"IF(E24=\"\",0,1)","v":0},null,null,null,{"$f":"IF('Scope and Prelim. Cost Est.'!B26>0,'Scope and Prelim. Cost Est.'!B26,\"\")","v":""},{"$f":"IF('Scope and Prelim. Cost Est.'!C26>0,'Scope and Prelim. Cost Est.'!C26,\"\")","v":""},{"$f":"IF('Scope and Prelim. Cost Est.'!E26>0,'Scope and Prelim. Cost Est.'!E26,\"\")","v":""},{"$f":"IF('Scope and Prelim. Cost Est.'!P26>0,'Scope and Prelim. Cost Est.'!P26,\"\")","v":""},{"$f":"IF('Scope and Prelim. Cost Est.'!V26>0,'Scope and Prelim. Cost Est.'!V26,\"\")","v":""},{"$f":"IF('Scope and Prelim. Cost Est.'!AE26>0,'Scope and Prelim. Cost Est.'!AE26,\"\")","v":""}]
[{"$f":"IF(E25=\"\",0,1)","v":0},null,null,null,{"$f":"IF('Scope and Prelim. Cost Est.'!B27>0,'Scope and Prelim. Cost Est.'!B27,\"\")","v":""},{"$f":"IF('Scope and Prelim. Cost Est.'!C27>0,'Scope and Prelim. Cost Est.'!C27,\"\")","v":""},{"$f":"IF('Scope and Prelim. Cost Est.'!E27>0,'Scope and Prelim. Cost Est.'!E27,\"\")","v":""},{"$f":"IF('Scope and Prelim. Cost Est.'!P27>0,'Scope and Prelim. Cost Est.'!P27,\"\")","v":""},{"$f":"IF('Scope and Prelim. Cost Est.'!V27>0,'Scope and Prelim. Cost Est.'!V27,\"\")","v":""},{"$f":"IF('Scope and Prelim. Cost Est.'!AE27>0,'Scope and Prelim. Cost Est.'!AE27,\"\")","v":""}]
[0,null,null,null,{"$f":"IF('Scope and Prelim. Cost Est.'!B28>0,'Scope and Prelim. Cost Est.'!B28,\"\")","v":""},{"$f":"IF('Scope and Prelim. Cost Est.'!C28>0,'Scope and Prelim. Cost Est.'!C28,\"\")","v":""},{"$f":"IF('Scope and Prelim. Cost Est.'!E28>0,'Scope and Prelim. Cost Est.'!E28,\"\")","v":""},{"$f":"IF('Scope and Prelim. Cost Est.'!P28>0,'Scope and Prelim. Cost Est.'!P28,\"\")","v":""},{"$f":"IF('Scope and Prelim. Cost Est.'!V28>0,'Scope and Prelim. Cost Est.'!V28,\"\")","v":""},{"$f":"IF('Scope and Prelim. Cost Est.'!AE28>0,'Scope and Prelim. Cost Est.'!AE28,\"\")","v":""}]
[0,null,null,null,{"$f":"IF('Scope and Prelim. Cost Est.'!B29>0,'Scope and Prelim. Cost Est.'!B29,\"\")","v":""},{"$f":"IF('Scope and Prelim. Cost Est.'!C29>0,'Scope and Prelim. Cost Est.'!C29,\"\")","v":""},{"$f":"IF('Scope and Prelim. Cost Est.'!E29>0,'Scope and Prelim. Cost Est.'!E29,\"\")","v":""},{"$f":"IF('Scope and Prelim. Cost Est.'!P29>0,'Scope and Prelim. Cost Est.'!P29,\"\")","v":""},{"$f":"IF('Scope and Prelim. Cost Est.'!V29>0,'Scope and Prelim. Cost Est.'!V29,\"\")","v":""},{"$f":"IF('Scope and Prelim. Cost Est.'!AE29>0,'Scope and Prelim. Cost Est.'!AE29,\"\")","v":""}]
[0,null,null,null,{"$f":"IF('Scope and Prelim. Cost Est.'!B30>0,'Scope and Prelim. Cost Est.'!B30,\"\")","v":""},{"$f":"IF('Scope and Prelim. Cost Est.'!C30>0,'Scope and Prelim. Cost Est.'!C30,\"\")","v":""},null,{"$f":"IF('Scope and Prelim. Cost Est.'!P30>0,'Scope and Prelim. Cost Est.'!P30,\"\")","v":""},{"$f":"IF('Scope and Prelim. Cost Est.'!V30>0,'Scope and Prelim. Cost Est.'!V30,\"\")","v":""},{"$f":"IF('Scope and Prelim. Cost Est.'!AE30>0,'Scope and Prelim. Cost Est.'!AE30,\"\")","v":""}]
[0,null,null,null,{"$f":"IF('Scope and Prelim. Cost Est.'!B31>0,'Scope and Prelim. Cost Est.'!B31,\"\")","v":""},{"$f":"IF('Scope and Prelim. Cost Est.'!C31>0,'Scope and Prelim. Cost Est.'!C31,\"\")","v":""},{"$f":"IF('Scope and Prelim. Cost Est.'!E31>0,'Scope and Prelim. Cost Est.'!E31,\"\")","v":""},{"$f":"IF('Scope and Prelim. Cost Est.'!P31>0,'Scope and Prelim. Cost Est.'!P31,\"\")","v":""},{"$f":"IF('Scope and Prelim. Cost Est.'!V31>0,'Scope and Prelim. Cost Est.'!V31,\"\")","v":""},{"$f":"IF('Scope and Prelim. Cost Est.'!AE31>0,'Scope and Prelim. Cost Est.'!AE31,\"\")","v":""}]
[0,null,null,null,{"$f":"IF('Scope and Prelim. Cost Est.'!B32>0,'Scope and Prelim. Cost Est.'!B32,\"\")","v":""},{"$f":"IF('Scope and Prelim. Cost Est.'!C32>0,'Scope and Prelim. Cost Est.'!C32,\"\")","v":""},{"$f":"IF('Scope and Prelim. Cost Est.'!E32>0,'Scope and Prelim. Cost Est.'!E32,\"\")","v":""},{"$f":"IF('Scope and Prelim. Cost Est.'!P32>0,'Scope and Prelim. Cost Est.'!P32,\"\")","v":""},{"$f":"IF('Scope and Prelim. Cost Est.'!V32>0,'Scope and Prelim. Cost Est.'!V32,\"\")","v":""},{"$f":"IF('Scope and Prelim. Cost Est.'!AE32>0,'Scope and Prelim. Cost Est.'!AE32,\"\")","v":""}]
[0,null,null,null,{"$f":"IF('Scope and Prelim. Cost Est.'!B33>0,'Scope and Prelim. Cost Est.'!B33,\"\")","v":""},{"$f":"IF('Scope and Prelim. Cost Est.'!C33>0,'Scope and Prelim. Cost Est.'!C33,\"\")","v":""},{"$f":"IF('Scope and Prelim. Cost Est.'!E33>0,'Scope and Prelim. Cost Est.'!E33,\"\")","v":""},{"$f":"IF('Scope and Prelim. Cost Est.'!P33>0,'Scope and Prelim. Cost Est.'!P33,\"\")","v":""},{"$f":"IF('Scope and Prelim. Cost Est.'!V33>0,'Scope and Prelim. Cost Est.'!V33,\"\")","v":""},{"$f":"IF('Scope and Prelim. Cost Est.'!AE33>0,'Scope and Prelim. Cost Est.'!AE33,\"\")","v":""}]
[0,null,null,null,{"$f":"IF('Scope and Prelim. Cost Est.'!B34>0,'Scope and Prelim. Cost Est.'!B34,\"\")","v":""},{"$f":"IF('Scope and Prelim. Cost Est.'!C34>0,'Scope and Prelim. Cost Est.'!C34,\"\")","v":""},{"$f":"IF('Scope and Prelim. Cost Est.'!E34>0,'Scope and Prelim. Cost Est.'!E34,\"\")","v":""},{"$f":"IF('Scope and Prelim. Cost Est.'!P34>0,'Scope and Prelim. Cost Est.'!P34,\"\")","v":""},{"$f":"IF('Scope and Prelim. Cost Est.'!V34>0,'Scope and Prelim. Cost Est.'!V34,\"\")","v":""},{"$f":"IF('Scope and Prelim. Cost Est.'!AE34>0,'Scope and Prelim. Cost Est.'!AE34,\"\")","v":""}]
[0,null,null,null,{"$f":"IF('Scope and Prelim. Cost Est.'!B35>0,'Scope and Prelim. Cost Est.'!B35,\"\")","v":""},{"$f":"IF('Scope and Prelim. Cost Est.'!C35>0,'Scope and Prelim. Cost Est.'!C35,\"\")","v":""},{"$f":"IF('Scope and Prelim. Cost Est.'!E35>0,'Scope and Prelim. Cost Est.'!E35,\"\")","v":""},{"$f":"IF('Scope and Prelim. Cost Est.'!P35>0,'Scope and Prelim. Cost Est.'!P35,\"\")","v":""},{"$f":"IF('Scope and Prelim. Cost Est.'!V35>0,'Scope and Prelim. Cost Est.'!V35,\"\")","v":""},{"$f":"IF('Scope and Prelim. Cost Est.'!AE35>0,'Scope and Prelim. Cost Est.'!AE35,\"\")","v":""}]
[0,null,null,null,{"$f":"IF('Scope and Prelim. Cost Est.'!B36>0,'Scope and Prelim. Cost Est.'!B36,\"\")","v":""},{"$f":"IF('Scope and Prelim. Cost Est.'!C36>0,'Scope and Prelim. Cost Est.'!C36,\"\")","v":""},{"$f":"IF('Scope and Prelim. Cost Est.'!E36>0,'Scope and Prelim. Cost Est.'!E36,\"\")","v":""},{"$f":"IF('Scope and Prelim. Cost Est.'!P36>0,'Scope and Prelim. Cost Est.'!P36,\"\")","v":""},{"$f":"IF('Scope and Prelim. Cost Est.'!V36>0,'Scope and Prelim. Cost Est.'!V36,\"\")","v":""},{"$f":"IF('Scope and Prelim. Cost Est.'!AE36>0,'Scope and Prelim. Cost Est.'!AE36,\"\")","v":""}]
[0,null,null,null,{"$f":"IF('Scope and Prelim. Cost Est.'!B37>0,'Scope and Prelim. Cost Est.'!B37,\"\")","v":""},{"$f":"IF('Scope and Prelim. Cost Est.'!C37>0,'Scope and Prelim. Cost Est.'!C37,\"\")","v":""},{"$f":"IF('Scope and Prelim. Cost Est.'!E37>0,'Scope and Prelim. Cost Est.'!E37,\"\")","v":""},{"$f":"IF('Scope and Prelim. Cost Est.'!P37>0,'Scope and Prelim. Cost Est.'!P37,\"\")","v":""},{"$f":"IF('Scope and Prelim. Cost Est.'!V37>0,'Scope and Prelim. Cost Est.'!V37,\"\")","v":""},{"$f":"IF('Scope and Prelim. Cost Est.'!AE37>0,'Scope and Prelim. Cost Est.'!AE37,\"\")","v":""}]
[0,null,null,null,{"$f":"IF('Scope and Prelim. Cost Est.'!B38>0,'Scope and Prelim. Cost Est.'!B38,\"\")","v":""},{"$f":"IF('Scope and Prelim. Cost Est.'!C38>0,'Scope and Prelim. Cost Est.'!C38,\"\")","v":""},{"$f":"IF('Scope and Prelim. Cost Est.'!E38>0,'Scope and Prelim. Cost Est.'!E38,\"\")","v":""},{"$f":"IF('Scope and Prelim. Cost Est.'!P38>0,'Scope and Prelim. Cost Est.'!P38,\"\")","v":""},{"$f":"IF('Scope and Prelim. Cost Est.'!V38>0,'Scope and Prelim. Cost Est.'!V38,\"\")","v":""},{"$f":"IF('Scope and Prelim. Cost Est.'!AE38>0,'Scope and Prelim. Cost Est.'!AE38,\"\")","v":""}]
[0,null,null,null,{"$f":"IF('Scope and Prelim. Cost Est.'!B39>0,'Scope and Prelim. Cost Est.'!B39,\"\")","v":""},{"$f":"IF('Scope and Prelim. Cost Est.'!C39>0,'Scope and Prelim. Cost Est.'!C39,\"\")","v":""},{"$f":"IF('Scope and Prelim. Cost Est.'!E39>0,'Scope and Prelim. Cost Est.'!E39,\"\")","v":""},{"$f":"IF('Scope and Prelim. Cost Est.'!P39>0,'Scope and Prelim. Cost Est.'!P39,\"\")","v":""},{"$f":"IF('Scope and Prelim. Cost Est.'!V39>0,'Scope and Prelim. Cost Est.'!V39,\"\")","v":""},{"$f":"IF('Scope and Prelim. Cost Est.'!AE39>0,'Scope and Prelim. Cost Est.'!AE39,\"\")","v":""}]
[0,null,null,null,{"$f":"IF('Scope and Prelim. Cost Est.'!B40>0,'Scope and Prelim. Cost Est.'!B40,\"\")","v":""},{"$f":"IF('Scope and Prelim. Cost Est.'!C40>0,'Scope and Prelim. Cost Est.'!C40,\"\")","v":""},{"$f":"IF('Scope and Prelim. Cost Est.'!E40>0,'Scope and Prelim. Cost Est.'!E40,\"\")","v":""},{"$f":"IF('Scope and Prelim. Cost Est.'!P40>0,'Scope and Prelim. Cost Est.'!P40,\"\")","v":""},{"$f":"IF('Scope and Prelim. Cost Est.'!V40>0,'Scope and Prelim. Cost Est.'!V40,\"\")","v":""},{"$f":"IF('Scope and Prelim. Cost Est.'!AE40>0,'Scope and Prelim. Cost Est.'!AE40,\"\")","v":""}]
[0,null,null,null,{"$f":"IF('Scope and Prelim. Cost Est.'!B41>0,'Scope and Prelim. Cost Est.'!B41,\"\")","v":""},{"$f":"IF('Scope and Prelim. Cost Est.'!C41>0,'Scope and Prelim. Cost Est.'!C41,\"\")","v":""},{"$f":"IF('Scope and Prelim. Cost Est.'!E41>0,'Scope and Prelim. Cost Est.'!E41,\"\")","v":""},{"$f":"IF('Scope and Prelim. Cost Est.'!P41>0,'Scope and Prelim. Cost Est.'!P41,\"\")","v":""},{"$f":"IF('Scope and Prelim. Cost Est.'!V41>0,'Scope and Prelim. Cost Est.'!V41,\"\")","v":""},{"$f":"IF('Scope and Prelim. Cost Est.'!AE41>0,'Scope and Prelim. Cost Est.'!AE41,\"\")","v":""}]
[0,null,null,null,{"$f":"IF('Scope and Prelim. Cost Est.'!B42>0,'Scope and Prelim. Cost Est.'!B42,\"\")","v":""},{"$f":"IF('Scope and Prelim. Cost Est.'!C42>0,'Scope and Prelim. Cost Est.'!C42,\"\")","v":""},{"$f":"IF('Scope and Prelim. Cost Est.'!E42>0,'Scope and Prelim. Cost Est.'!E42,\"\")","v":""},{"$f":"IF('Scope and Prelim. Cost Est.'!P42>0,'Scope and Prelim. Cost Est.'!P42,\"\")","v":""},{"$f":"IF('Scope and Prelim. Cost Est.'!V42>0,'Scope and Prelim. Cost Est.'!V42,\"\")","v":""},{"$f":"IF('Scope and Prelim. Cost Est.'!AE42>0,'Scope and Prelim. Cost Est.'!AE42,\"\")","v":""}]
[0,null,null,null,{"$f":"IF('Scope and Prelim. Cost Est.'!B43>0,'Scope and Prelim. Cost Est.'!B43,\"\")","v":""},{"$f":"IF('Scope and Prelim. Cost Est.'!C43>0,'Scope and Prelim. Cost Est.'!C43,\"\")","v":""},{"$f":"IF('Scope and Prelim. Cost Est.'!E43>0,'Scope and Prelim. Cost Est.'!E43,\"\")","v":""},{"$f":"IF('Scope and Prelim. Cost Est.'!P43>0,'Scope and Prelim. Cost Est.'!P43,\"\")","v":""},{"$f":"IF('Scope and Prelim. Cost Est.'!V43>0,'Scope and Prelim. Cost Est.'!V43,\"\")","v":""},{"$f":"IF('Scope and Prelim. Cost Est.'!AE43>0,'Scope and Prelim. Cost Est.'!AE43,\"\")","v":""}]
[0,null,null,null,{"$f":"IF('Scope and Prelim. Cost Est.'!B44>0,'Scope and Prelim. Cost Est.'!B44,\"\")","v":""},{"$f":"IF('Scope and Prelim. Cost Est.'!C44>0,'Scope and Prelim. Cost Est.'!C44,\"\")","v":""},{"$f":"IF('Scope and Prelim. Cost Est.'!E44>0,'Scope and Prelim. Cost Est.'!E44,\"\")","v":""},{"$f":"IF('Scope and Prelim. Cost Est.'!P44>0,'Scope and Prelim. Cost Est.'!P44,\"\")","v":""},{"$f":"IF('Scope and Prelim. Cost Est.'!V44>0,'Scope and Prelim. Cost Est.'!V44,\"\")","v":""},{"$f":"IF('Scope and Prelim. Cost Est.'!AE44>0,'Scope and Prelim. Cost Est.'!AE44,\"\")","v":""}]
[0,null,null,null,{"$f":"IF('Scope and Prelim. Cost Est.'!B45>0,'Scope and Prelim. Cost Est.'!B45,\"\")","v":""},{"$f":"IF('Scope and Prelim. Cost Est.'!C45>0,'Scope and Prelim. Cost Est.'!C45,\"\")","v":""},{"$f":"IF('Scope and Prelim. Cost Est.'!E45>0,'Scope and Prelim. Cost Est.'!E45,\"\")","v":""},{"$f":"IF('Scope and Prelim. Cost Est.'!P45>0,'Scope and Prelim. Cost Est.'!P45,\"\")","v":""},{"$f":"IF('Scope and Prelim. Cost Est.'!V45>0,'Scope and Prelim. Cost Est.'!V45,\"\")","v":""},{"$f":"IF('Scope and Prelim. Cost Est.'!AE45>0,'Scope and Prelim. Cost Est.'!AE45,\"\")","v":""}]
[0,null,null,null,{"$f":"IF('Scope and Prelim. Cost Est.'!B46>0,'Scope and Prelim. Cost Est.'!B46,\"\")","v":""},{"$f":"IF('Scope and Prelim. Cost Est.'!C46>0,'Scope and Prelim. Cost Est.'!C46,\"\")","v":""},{"$f":"IF('Scope and Prelim. Cost Est.'!E46>0,'Scope and Prelim. Cost Est.'!E46,\"\")","v":""},{"$f":"IF('Scope and Prelim. Cost Est.'!P46>0,'Scope and Prelim. Cost Est.'!P46,\"\")","v":""},{"$f":"IF('Scope and Prelim. Cost Est.'!V46>0,'Scope and Prelim. Cost Est.'!V46,\"\")","v":""},{"$f":"IF('Scope and Prelim. Cost Est.'!AE46>0,'Scope and Prelim. Cost Est.'!AE46,\"\")","v":""}]
[0,null,null,null,{"$f":"IF('Scope and Prelim. Cost Est.'!B47>0,'Scope and Prelim. Cost Est.'!B47,\"\")","v":""},{"$f":"IF('Scope and Prelim. Cost Est.'!C47>0,'Scope and Prelim. Cost Est.'!C47,\"\")","v":""},{"$f":"IF('Scope and Prelim. Cost Est.'!E47>0,'Scope and Prelim. Cost Est.'!E47,\"\")","v":""},{"$f":"IF('Scope and Prelim. Cost Est.'!P47>0,'Scope and Prelim. Cost Est.'!P47,\"\")","v":""},{"$f":"IF('Scope and Prelim. Cost Est.'!V47>0,'Scope and Prelim. Cost Est.'!V47,\"\")","v":""},{"$f":"IF('Scope and Prelim. Cost Est.'!AE47>0,'Scope and Prelim. Cost Est.'!AE47,\"\")","v":""}]
[0,null,null,null,{"$f":"IF('Scope and Prelim. Cost Est.'!B48>0,'Scope and Prelim. Cost Est.'!B48,\"\")","v":""},{"$f":"IF('Scope and Prelim. Cost Est.'!C48>0,'Scope and Prelim. Cost Est.'!C48,\"\")","v":""},{"$f":"IF('Scope and Prelim. Cost Est.'!E48>0,'Scope and Prelim. Cost Est.'!E48,\"\")","v":""},{"$f":"IF('Scope and Prelim. Cost Est.'!P48>0,'Scope and Prelim. Cost Est.'!P48,\"\")","v":""},{"$f":"IF('Scope and Prelim. Cost Est.'!V48>0,'Scope and Prelim. Cost Est.'!V48,\"\")","v":""},{"$f":"IF('Scope and Prelim. Cost Est.'!AE48>0,'Scope and Prelim. Cost Est.'!AE48,\"\")","v":""}]
[0,null,null,null,{"$f":"IF('Scope and Prelim. Cost Est.'!B49>0,'Scope and Prelim. Cost Est.'!B49,\"\")","v":""},{"$f":"IF('Scope and Prelim. Cost Est.'!C49>0,'Scope and Prelim. Cost Est.'!C49,\"\")","v":""},{"$f":"IF('Scope and Prelim. Cost Est.'!E49>0,'Scope and Prelim. Cost Est.'!E49,\"\")","v":""},{"$f":"IF('Scope and Prelim. Cost Est.'!P49>0,'Scope and Prelim. Cost Est.'!P49,\"\")","v":""},{"$f":"IF('Scope and Prelim. Cost Est.'!V49>0,'Scope and Prelim. Cost Est.'!V49,\"\")","v":""},{"$f":"IF('Scope and Prelim. Cost Est.'!AE49>0,'Scope and Prelim. Cost Est.'!AE49,\"\")","v":""}]
[0,null,null,null,{"$f":"IF('Scope and Prelim. Cost Est.'!B50>0,'Scope and Prelim. Cost Est.'!B50,\"\")","v":""},{"$f":"IF('Scope and Prelim. Cost Est.'!C50>0,'Scope and Prelim. Cost Est.'!C50,\"\")","v":""},{"$f":"IF('Scope and Prelim. Cost Est.'!E50>0,'Scope and Prelim. Cost Est.'!E50,\"\")","v":""},{"$f":"IF('Scope and Prelim. Cost Est.'!P50>0,'Scope and Prelim. Cost Est.'!P50,\"\")","v":""},{"$f":"IF('Scope and Prelim. Cost Est.'!V50>0,'Scope and Prelim. Cost Est.'!V50,\"\")","v":""},{"$f":"IF('Scope and Prelim. Cost Est.'!AE50>0,'Scope and Prelim. Cost Est.'!AE50,\"\")","v":""}]
[0,null,null,null,{"$f":"IF('Scope and Prelim. Cost Est.'!B51>0,'Scope and Prelim. Cost Est.'!B51,\"\")","v":""},{"$f":"IF('Scope and Prelim. Cost Est.'!C51>0,'Scope and Prelim. Cost Est.'!C51,\"\")","v":""},{"$f":"IF('Scope and Prelim. Cost Est.'!E51>0,'Scope and Prelim. Cost Est.'!E51,\"\")","v":""},{"$f":"IF('Scope and Prelim. Cost Est.'!P51>0,'Scope and Prelim. Cost Est.'!P51,\"\")","v":""},{"$f":"IF('Scope and Prelim. Cost Est.'!V51>0,'Scope and Prelim. Cost Est.'!V51,\"\")","v":""},{"$f":"IF('Scope and Prelim. Cost Est.'!AE51>0,'Scope and Prelim. Cost Est.'!AE51,\"\")","v":""}]
[0,null,null,null,{"$f":"IF('Scope and Prelim. Cost Est.'!B52>0,'Scope and Prelim. Cost Est.'!B52,\"\")","v":""},{"$f":"IF('Scope and Prelim. Cost Est.'!C52>0,'Scope and Prelim. Cost Est.'!C52,\"\")","v":""},{"$f":"IF('Scope and Prelim. Cost Est.'!E52>0,'Scope and Prelim. Cost Est.'!E52,\"\")","v":""},{"$f":"IF('Scope and Prelim. Cost Est.'!P52>0,'Scope and Prelim. Cost Est.'!P52,\"\")","v":""},{"$f":"IF('Scope and Prelim. Cost Est.'!V52>0,'Scope and Prelim. Cost Est.'!V52,\"\")","v":""},{"$f":"IF('Scope and Prelim. Cost Est.'!AE52>0,'Scope and Prelim. Cost Est.'!AE52,\"\")","v":""}]
[0,null,null,null,{"$f":"IF('Scope and Prelim. Cost Est.'!B53>0,'Scope and Prelim. Cost Est.'!B53,\"\")","v":""},{"$f":"IF('Scope and Prelim. Cost Est.'!C53>0,'Scope and Prelim. Cost Est.'!C53,\"\")","v":""},{"$f":"IF('Scope and Prelim. Cost Est.'!E53>0,'Scope and Prelim. Cost Est.'!E53,\"\")","v":""},{"$f":"IF('Scope and Prelim. Cost Est.'!P53>0,'Scope and Prelim. Cost Est.'!P53,\"\")","v":""},{"$f":"IF('Scope and Prelim. Cost Est.'!V53>0,'Scope and Prelim. Cost Est.'!V53,\"\")","v":""},{"$f":"IF('Scope and Prelim. Cost Est.'!AE53>0,'Scope and Prelim. Cost Est.'!AE53,\"\")","v":""}]
[0,null,null,null,{"$f":"IF('Scope and Prelim. Cost Est.'!B54>0,'Scope and Prelim. Cost Est.'!B54,\"\")","v":""},{"$f":"IF('Scope and Prelim. Cost Est.'!C54>0,'Scope and Prelim. Cost Est.'!C54,\"\")","v":""},{"$f":"IF('Scope and Prelim. Cost Est.'!E54>0,'Scope and Prelim. Cost Est.'!E54,\"\")","v":""},{"$f":"IF('Scope and Prelim. Cost Est.'!P54>0,'Scope and Prelim. Cost Est.'!P54,\"\")","v":""},{"$f":"IF('Scope and Prelim. Cost Est.'!V54>0,'Scope and Prelim. Cost Est.'!V54,\"\")","v":""},{"$f":"IF('Scope and Prelim. Cost Est.'!AE54>0,'Scope and Prelim. Cost Est.'!AE54,\"\")","v":""}]
[0,null,null,null,{"$f":"IF('Scope and Prelim. Cost Est.'!B55>0,'Scope and Prelim. Cost Est.'!B55,\"\")","v":""},{"$f":"IF('Scope and Prelim. Cost Est.'!C55>0,'Scope and Prelim. Cost Est.'!C55,\"\")","v":""},{"$f":"IF('Scope and Prelim. Cost Est.'!E55>0,'Scope and Prelim. Cost Est.'!E55,\"\")","v":""},{"$f":"IF('Scope and Prelim. Cost Est.'!P55>0,'Scope and Prelim. Cost Est.'!P55,\"\")","v":""},{"$f":"IF('Scope and Prelim. Cost Est.'!V55>0,'Scope and Prelim. Cost Est.'!V55,\"\")","v":""},{"$f":"IF('Scope and Prelim. Cost Est.'!AE55>0,'Scope and Prelim. Cost Est.'!AE55,\"\")","v":""}]
[0,null,null,null,{"$f":"IF('Scope and Prelim. Cost Est.'!B56>0,'Scope and Prelim. Cost Est.'!B56,\"\")","v":""},{"$f":"IF('Scope and Prelim. Cost Est.'!C56>0,'Scope and Prelim. Cost Est.'!C56,\"\")","v":""},{"$f":"IF('Scope and Prelim. Cost Est.'!E56>0,'Scope and Prelim. Cost Est.'!E56,\"\")","v":""},{"$f":"IF('Scope and Prelim. Cost Est.'!P56>0,'Scope and Prelim. Cost Est.'!P56,\"\")","v":""},{"$f":"IF('Scope and Prelim. Cost Est.'!V56>0,'Scope and Prelim. Cost Est.'!V56,\"\")","v":""},{"$f":"IF('Scope and Prelim. Cost Est.'!AE56>0,'Scope and Prelim. Cost Est.'!AE56,\"\")","v":""}]
[0,null,null,null,{"$f":"IF('Scope and Prelim. Cost Est.'!B57>0,'Scope and Prelim. Cost Est.'!B57,\"\")","v":""},{"$f":"IF('Scope and Prelim. Cost Est.'!C57>0,'Scope and Prelim. Cost Est.'!C57,\"\")","v":""},{"$f":"IF('Scope and Prelim. Cost Est.'!E57>0,'Scope and Prelim. Cost Est.'!E57,\"\")","v":""},{"$f":"IF('Scope and Prelim. Cost Est.'!P57>0,'Scope and Prelim. Cost Est.'!P57,\"\")","v":""},{"$f":"IF('Scope and Prelim. Cost Est.'!V57>0,'Scope and Prelim. Cost Est.'!V57,\"\")","v":""},{"$f":"IF('Scope and Prelim. Cost Est.'!AE57>0,'Scope and Prelim. Cost Est.'!AE57,\"\")","v":""}]
[0,null,null,null,{"$f":"IF('Scope and Prelim. Cost Est.'!B58>0,'Scope and Prelim. Cost Est.'!B58,\"\")","v":""},{"$f":"IF('Scope and Prelim. Cost Est.'!C58>0,'Scope and Prelim. Cost Est.'!C58,\"\")","v":""},{"$f":"IF('Scope and Prelim. Cost Est.'!E58>0,'Scope and Prelim. Cost Est.'!E58,\"\")","v":""},{"$f":"IF('Scope and Prelim. Cost Est.'!P58>0,'Scope and Prelim. Cost Est.'!P58,\"\")","v":""},{"$f":"IF('Scope and Prelim. Cost Est.'!V58>0,'Scope and Prelim. Cost Est.'!V58,\"\")","v":""},{"$f":"IF('Scope and Prelim. Cost Est.'!AE58>0,'Scope and Prelim. Cost Est.'!AE58,\"\")","v":""}]
[0,null,null,null,{"$f":"IF('Scope and Prelim. Cost Est.'!B59>0,'Scope and Prelim. Cost Est.'!B59,\"\")","v":""},{"$f":"IF('Scope and Prelim. Cost Est.'!C59>0,'Scope and Prelim. Cost Est.'!C59,\"\")","v":""},{"$f":"IF('Scope and Prelim. Cost Est.'!E59>0,'Scope and Prelim. Cost Est.'!E59,\"\")","v":""},{"$f":"IF('Scope and Prelim. Cost Est.'!P59>0,'Scope and Prelim. Cost Est.'!P59,\"\")","v":""},{"$f":"IF('Scope and Prelim. Cost Est.'!V59>0,'Scope and Prelim. Cost Est.'!V59,\"\")","v":""},{"$f":"IF('Scope and Prelim. Cost Est.'!AE59>0,'Scope and Prelim. Cost Est.'!AE59,\"\")","v":""}]
[0,null,null,null,{"$f":"IF('Scope and Prelim. Cost Est.'!B60>0,'Scope and Prelim. Cost Est.'!B60,\"\")","v":""},{"$f":"IF('Scope and Prelim. Cost Est.'!C60>0,'Scope and Prelim. Cost Est.'!C60,\"\")","v":""},{"$f":"IF('Scope and Prelim. Cost Est.'!E60>0,'Scope and Prelim. Cost Est.'!E60,\"\")","v":""},{"$f":"IF('Scope and Prelim. Cost Est.'!P60>0,'Scope and Prelim. Cost Est.'!P60,\"\")","v":""},{"$f":"IF('Scope and Prelim. Cost Est.'!V60>0,'Scope and Prelim. Cost Est.'!V60,\"\")","v":""},{"$f":"IF('Scope and Prelim. Cost Est.'!AE60>0,'Scope and Prelim. Cost Est.'!AE60,\"\")","v":""}]
[0,null,null,null,{"$f":"IF('Scope and Prelim. Cost Est.'!B61>0,'Scope and Prelim. Cost Est.'!B61,\"\")","v":""},{"$f":"IF('Scope and Prelim. Cost Est.'!C61>0,'Scope and Prelim. Cost Est.'!C61,\"\")","v":""},{"$f":"IF('Scope and Prelim. Cost Est.'!E61>0,'Scope and Prelim. Cost Est.'!E61,\"\")","v":""},{"$f":"IF('Scope and Prelim. Cost Est.'!P61>0,'Scope and Prelim. Cost Est.'!P61,\"\")","v":""},{"$f":"IF('Scope and Prelim. Cost Est.'!V61>0,'Scope and Prelim. Cost Est.'!V61,\"\")","v":""},{"$f":"IF('Scope and Prelim. Cost Est.'!AE61>0,'Scope and Prelim. Cost Est.'!AE61,\"\")","v":""}]
[0,null,null,null,{"$f":"IF('Scope and Prelim. Cost Est.'!B62>0,'Scope and Prelim. Cost Est.'!B62,\"\")","v":""},{"$f":"IF('Scope and Prelim. Cost Est.'!C62>0,'Scope and Prelim. Cost Est.'!C62,\"\")","v":""},{"$f":"IF('Scope and Prelim. Cost Est.'!E62>0,'Scope and Prelim. Cost Est.'!E62,\"\")","v":""},{"$f":"IF('Scope and Prelim. Cost Est.'!P62>0,'Scope and Prelim. Cost Est.'!P62,\"\")","v":""},{"$f":"IF('Scope and Prelim. Cost Est.'!V62>0,'Scope and Prelim. Cost Est.'!V62,\"\")","v":""},{"$f":"IF('Scope and Prelim. Cost Est.'!AE62>0,'Scope and Prelim. Cost Est.'!AE62,\"\")","v":""}]
[0,null,null,null,{"$f":"IF('Scope and Prelim. Cost Est.'!B63>0,'Scope and Prelim. Cost Est.'!B63,\"\")","v":""},{"$f":"IF('Scope and Prelim. Cost Est.'!C63>0,'Scope and Prelim. Cost Est.'!C63,\"\")","v":""},{"$f":"IF('Scope and Prelim. Cost Est.'!E63>0,'Scope and Prelim. Cost Est.'!E63,\"\")","v":""},{"$f":"IF('Scope and Prelim. Cost Est.'!P63>0,'Scope and Prelim. Cost Est.'!P63,\"\")","v":""},{"$f":"IF('Scope and Prelim. Cost Est.'!V63>0,'Scope and Prelim. Cost Est.'!V63,\"\")","v":""},{"$f":"IF('Scope and Prelim. Cost Est.'!AE63>0,'Scope and Prelim. Cost Est.'!AE63,\"\")","v":""}]
[0,null,null,null,{"$f":"IF('Scope and Prelim. Cost Est.'!B64>0,'Scope and Prelim. Cost Est.'!B64,\"\")","v":""},{"$f":"IF('Scope and Prelim. Cost Est.'!C64>0,'Scope and Prelim. Cost Est.'!C64,\"\")","v":""},{"$f":"IF('Scope and Prelim. Cost Est.'!E64>0,'Scope and Prelim. Cost Est.'!E64,\"\")","v":""},{"$f":"IF('Scope and Prelim. Cost Est.'!P64>0,'Scope and Prelim. Cost Est.'!P64,\"\")","v":""},{"$f":"IF('Scope and Prelim. Cost Est.'!V64>0,'Scope and Prelim. Cost Est.'!V64,\"\")","v":""},{"$f":"IF('Scope and Prelim. Cost Est.'!AE64>0,'Scope and Prelim. Cost Est.'!AE64,\"\")","v":""}]
[0,null,null,null,{"$f":"IF('Scope and Prelim. Cost Est.'!B65>0,'Scope and Prelim. Cost Est.'!B65,\"\")","v":""},{"$f":"IF('Scope and Prelim. Cost Est.'!C65>0,'Scope and Prelim. Cost Est.'!C65,\"\")","v":""},{"$f":"IF('Scope and Prelim. Cost Est.'!E65>0,'Scope and Prelim. Cost Est.'!E65,\"\")","v":""},{"$f":"IF('Scope and Prelim. Cost Est.'!P65>0,'Scope and Prelim. Cost Est.'!P65,\"\")","v":""},{"$f":"IF('Scope and Prelim. Cost Est.'!V65>0,'Scope and Prelim. Cost Est.'!V65,\"\")","v":""},{"$f":"IF('Scope and Prelim. Cost Est.'!AE65>0,'Scope and Prelim. Cost Est.'!AE65,\"\")","v":""}]
[0,null,null,null,{"$f":"IF('Scope and Prelim. Cost Est.'!B66>0,'Scope and Prelim. Cost Est.'!B66,\"\")","v":""},{"$f":"IF('Scope and Prelim. Cost Est.'!C66>0,'Scope and Prelim. Cost Est.'!C66,\"\")","v":""},{"$f":"IF('Scope and Prelim. Cost Est.'!E66>0,'Scope and Prelim. Cost Est.'!E66,\"\")","v":""},{"$f":"IF('Scope and Prelim. Cost Est.'!P66>0,'Scope and Prelim. Cost Est.'!P66,\"\")","v":""},{"$f":"IF('Scope and Prelim. Cost Est.'!V66>0,'Scope and Prelim. Cost Est.'!V66,\"\")","v":""},{"$f":"IF('Scope and Prelim. Cost Est.'!AE66>0,'Scope and Prelim. Cost Est.'!AE66,\"\")","v":""}]
[0,null,null,null,{"$f":"IF('Scope and Prelim. Cost Est.'!B67>0,'Scope and Prelim. Cost Est.'!B67,\"\")","v":""},{"$f":"IF('Scope and Prelim. Cost Est.'!C67>0,'Scope and Prelim. Cost Est.'!C67,\"\")","v":""},{"$f":"IF('Scope and Prelim. Cost Est.'!E67>0,'Scope and Prelim. Cost Est.'!E67,\"\")","v":""},{"$f":"IF('Scope and Prelim. Cost Est.'!P67>0,'Scope and Prelim. Cost Est.'!P67,\"\")","v":""},{"$f":"IF('Scope and Prelim. Cost Est.'!V67>0,'Scope and Prelim. Cost Est.'!V67,\"\")","v":""},{"$f":"IF('Scope and Prelim. Cost Est.'!AE67>0,'Scope and Prelim. Cost Est.'!AE67,\"\")","v":""}]
[0,null,null,null,{"$f":"IF('Scope and Prelim. Cost Est.'!B68>0,'Scope and Prelim. Cost Est.'!B68,\"\")","v":""},{"$f":"IF('Scope and Prelim. Cost Est.'!C68>0,'Scope and Prelim. Cost Est.'!C68,\"\")","v":""},{"$f":"IF('Scope and Prelim. Cost Est.'!E68>0,'Scope and Prelim. Cost Est.'!E68,\"\")","v":""},{"$f":"IF('Scope and Prelim. Cost Est.'!P68>0,'Scope and Prelim. Cost Est.'!P68,\"\")","v":""},{"$f":"IF('Scope and Prelim. Cost Est.'!V68>0,'Scope and Prelim. Cost Est.'!V68,\"\")","v":""},{"$f":"IF('Scope and Prelim. Cost Est.'!AE68>0,'Scope and Prelim. Cost Est.'!AE68,\"\")","v":""}]
[0,null,null,null,{"$f":"IF('Scope and Prelim. Cost Est.'!B69>0,'Scope and Prelim. Cost Est.'!B69,\"\")","v":""},{"$f":"IF('Scope and Prelim. Cost Est.'!C69>0,'Scope and Prelim. Cost Est.'!C69,\"\")","v":""},{"$f":"IF('Scope and Prelim. Cost Est.'!E69>0,'Scope and Prelim. Cost Est.'!E69,\"\")","v":""},{"$f":"IF('Scope and Prelim. Cost Est.'!P69>0,'Scope and Prelim. Cost Est.'!P69,\"\")","v":""},{"$f":"IF('Scope and Prelim. Cost Est.'!V69>0,'Scope and Prelim. Cost Est.'!V69,\"\")","v":""},{"$f":"IF('Scope and Prelim. Cost Est.'!AE69>0,'Scope and Prelim. Cost Est.'!AE69,\"\")","v":""}]
[0,null,null,null,{"$f":"IF('Scope and Prelim. Cost Est.'!B70>0,'Scope and Prelim. Cost Est.'!B70,\"\")","v":""},{"$f":"IF('Scope and Prelim. Cost Est.'!C70>0,'Scope and Prelim. Cost Est.'!C70,\"\")","v":""},{"$f":"IF('Scope and Prelim. Cost Est.'!E70>0,'Scope and Prelim. Cost Est.'!E70,\"\")","v":""},{"$f":"IF('Scope and Prelim. Cost Est.'!P70>0,'Scope and Prelim. Cost Est.'!P70,\"\")","v":""},{"$f":"IF('Scope and Prelim. Cost Est.'!V70>0,'Scope and Prelim. Cost Est.'!V70,\"\")","v":""},{"$f":"IF('Scope and Prelim. Cost Est.'!AE70>0,'Scope and Prelim. Cost Est.'!AE70,\"\")","v":""}]
[0,null,null,null,{"$f":"IF('Scope and Prelim. Cost Est.'!B71>0,'Scope and Prelim. Cost Est.'!B71,\"\")","v":""},{"$f":"IF('Scope and Prelim. Cost Est.'!C71>0,'Scope and Prelim. Cost Est.'!C71,\"\")","v":""},{"$f":"IF('Scope and Prelim. Cost Est.'!E71>0,'Scope and Prelim. Cost Est.'!E71,\"\")","v":""},{"$f":"IF('Scope and Prelim. Cost Est.'!P71>0,'Scope and Prelim. Cost Est.'!P71,\"\")","v":""},{"$f":"IF('Scope and Prelim. Cost Est.'!V71>0,'Scope and Prelim. Cost Est.'!V71,\"\")","v":""},{"$f":"IF('Scope and Prelim. Cost Est.'!AE71>0,'Scope and Prelim. Cost Est.'!AE71,\"\")","v":""}]
[0,null,null,null,{"$f":"IF('Scope and Prelim. Cost Est.'!B72>0,'Scope and Prelim. Cost Est.'!B72,\"\")","v":""},{"$f":"IF('Scope and Prelim. Cost Est.'!C72>0,'Scope and Prelim. Cost Est.'!C72,\"\")","v":""},{"$f":"IF('Scope and Prelim. Cost Est.'!E72>0,'Scope and Prelim. Cost Est.'!E72,\"\")","v":""},{"$f":"IF('Scope and Prelim. Cost Est.'!P72>0,'Scope and Prelim. Cost Est.'!P72,\"\")","v":""},{"$f":"IF('Scope and Prelim. Cost Est.'!V72>0,'Scope and Prelim. Cost Est.'!V72,\"\")","v":""},{"$f":"IF('Scope and Prelim. Cost Est.'!AE72>0,'Scope and Prelim. Cost Est.'!AE72,\"\")","v":""}]
[0,null,null,null,{"$f":"IF('Scope and Prelim. Cost Est.'!B73>0,'Scope and Prelim. Cost Est.'!B73,\"\")","v":""},{"$f":"IF('Scope and Prelim. Cost Est.'!C73>0,'Scope and Prelim. Cost Est.'!C73,\"\")","v":""},{"$f":"IF('Scope and Prelim. Cost Est.'!E73>0,'Scope and Prelim. Cost Est.'!E73,\"\")","v":""},{"$f":"IF('Scope and Prelim. Cost Est.'!P73>0,'Scope and Prelim. Cost Est.'!P73,\"\")","v":""},{"$f":"IF('Scope and Prelim. Cost Est.'!V73>0,'Scope and Prelim. Cost Est.'!V73,\"\")","v":""},{"$f":"IF('Scope and Prelim. Cost Est.'!AE73>0,'Scope and Prelim. Cost Est.'!AE73,\"\")","v":""}]
[{"$f":"IF(E72=\"\",0,1)","v":0},null,null,null,{"$f":"IF('Scope and Prelim. Cost Est.'!B74>0,'Scope and Prelim. Cost Est.'!B74,\"\")","v":""},{"$f":"IF('Scope and Prelim. Cost Est.'!C74>0,'Scope and Prelim. Cost Est.'!C74,\"\")","v":""},{"$f":"IF('Scope and Prelim. Cost Est.'!E74>0,'Scope and Prelim. Cost Est.'!E74,\"\")","v":""},{"$f":"IF('Scope and Prelim. Cost Est.'!P74>0,'Scope and Prelim. Cost Est.'!P74,\"\")","v":""},{"$f":"IF('Scope and Prelim. Cost Est.'!V74>0,'Scope and Prelim. Cost Est.'!V74,\"\")","v":""},{"$f":"IF('Scope and Prelim. Cost Est.'!AE74>0,'Scope and Prelim. Cost Est.'!AE74,\"\")","v":""}]
[0,null,null,null,{"$f":"IF('Scope and Prelim. Cost Est.'!B75>0,'Scope and Prelim. Cost Est.'!B75,\"\")","v":""},{"$f":"IF('Scope and Prelim. Cost Est.'!C75>0,'Scope and Prelim. Cost Est.'!C75,\"\")","v":""},{"$f":"IF('Scope and Prelim. Cost Est.'!E75>0,'Scope and Prelim. Cost Est.'!E75,\"\")","v":""},{"$f":"IF('Scope and Prelim. Cost Est.'!P75>0,'Scope and Prelim. Cost Est.'!P75,\"\")","v":""},{"$f":"IF('Scope and Prelim. Cost Est.'!V75>0,'Scope and Prelim. Cost Est.'!V75,\"\")","v":""},{"$f":"IF('Scope and Prelim. Cost Est.'!AE75>0,'Scope and Prelim. Cost Est.'!AE75,\"\")","v":""}]
[0,null,null,null,{"$f":"IF('Scope and Prelim. Cost Est.'!B76>0,'Scope and Prelim. Cost Est.'!B76,\"\")","v":""},{"$f":"IF('Scope and Prelim. Cost Est.'!C76>0,'Scope and Prelim. Cost Est.'!C76,\"\")","v":""},{"$f":"IF('Scope and Prelim. Cost Est.'!E76>0,'Scope and Prelim. Cost Est.'!E76,\"\")","v":""},{"$f":"IF('Scope and Prelim. Cost Est.'!P76>0,'Scope and Prelim. Cost Est.'!P76,\"\")","v":""},{"$f":"IF('Scope and Prelim. Cost Est.'!V76>0,'Scope and Prelim. Cost Est.'!V76,\"\")","v":""},{"$f":"IF('Scope and Prelim. Cost Est.'!AE76>0,'Scope and Prelim. Cost Est.'!AE76,\"\")","v":""}]
[0,null,null,null,{"$f":"IF('Scope and Prelim. Cost Est.'!B77>0,'Scope and Prelim. Cost Est.'!B77,\"\")","v":""},{"$f":"IF('Scope and Prelim. Cost Est.'!C77>0,'Scope and Prelim. Cost Est.'!C77,\"\")","v":""},{"$f":"IF('Scope and Prelim. Cost Est.'!E77>0,'Scope and Prelim. Cost Est.'!E77,\"\")","v":""},{"$f":"IF('Scope and Prelim. Cost Est.'!P77>0,'Scope and Prelim. Cost Est.'!P77,\"\")","v":""},{"$f":"IF('Scope and Prelim. Cost Est.'!V77>0,'Scope and Prelim. Cost Est.'!V77,\"\")","v":""},{"$f":"IF('Scope and Prelim. Cost Est.'!AE77>0,'Scope and Prelim. Cost Est.'!AE77,\"\")","v":""}]
[0,null,null,null,{"$f":"IF('Scope and Prelim. Cost Est.'!B78>0,'Scope and Prelim. Cost Est.'!B78,\"\")","v":""},{"$f":"IF('Scope and Prelim. Cost Est.'!C78>0,'Scope and Prelim. Cost Est.'!C78,\"\")","v":""},{"$f":"IF('Scope and Prelim. Cost Est.'!E78>0,'Scope and Prelim. Cost Est.'!E78,\"\")","v":""},{"$f":"IF('Scope and Prelim. Cost Est.'!P78>0,'Scope and Prelim. Cost Est.'!P78,\"\")","v":""},{"$f":"IF('Scope and Prelim. Cost Est.'!V78>0,'Scope and Prelim. Cost Est.'!V78,\"\")","v":""},{"$f":"IF('Scope and Prelim. Cost Est.'!AE78>0,'Scope and Prelim. Cost Est.'!AE78,\"\")","v":""}]
[0,null,null,null,{"$f":"IF('Scope and Prelim. Cost Est.'!B79>0,'Scope and Prelim. Cost Est.'!B79,\"\")","v":""},{"$f":"IF('Scope and Prelim. Cost Est.'!C79>0,'Scope and Prelim. Cost Est.'!C79,\"\")","v":""},{"$f":"IF('Scope and Prelim. Cost Est.'!E79>0,'Scope and Prelim. Cost Est.'!E79,\"\")","v":""},{"$f":"IF('Scope and Prelim. Cost Est.'!P79>0,'Scope and Prelim. Cost Est.'!P79,\"\")","v":""},{"$f":"IF('Scope and Prelim. Cost Est.'!V79>0,'Scope and Prelim. Cost Est.'!V79,\"\")","v":""},{"$f":"IF('Scope and Prelim. Cost Est.'!AE79>0,'Scope and Prelim. Cost Est.'!AE79,\"\")","v":""}]
[0,null,null,null,{"$f":"IF('Scope and Prelim. Cost Est.'!B80>0,'Scope and Prelim. Cost Est.'!B80,\"\")","v":""},{"$f":"IF('Scope and Prelim. Cost Est.'!C80>0,'Scope and Prelim. Cost Est.'!C80,\"\")","v":""},{"$f":"IF('Scope and Prelim. Cost Est.'!E80>0,'Scope and Prelim. Cost Est.'!E80,\"\")","v":""},{"$f":"IF('Scope and Prelim. Cost Est.'!P80>0,'Scope and Prelim. Cost Est.'!P80,\"\")","v":""},{"$f":"IF('Scope and Prelim. Cost Est.'!V80>0,'Scope and Prelim. Cost Est.'!V80,\"\")","v":""},{"$f":"IF('Scope and Prelim. Cost Est.'!AE80>0,'Scope and Prelim. Cost Est.'!AE80,\"\")","v":""}]
[0,null,null,null,{"$f":"IF('Scope and Prelim. Cost Est.'!B81>0,'Scope and Prelim. Cost Est.'!B81,\"\")","v":""},{"$f":"IF('Scope and Prelim. Cost Est.'!C81>0,'Scope and Prelim. Cost Est.'!C81,\"\")","v":""},{"$f":"IF('Scope and Prelim. Cost Est.'!E81>0,'Scope and Prelim. Cost Est.'!E81,\"\")","v":""},{"$f":"IF('Scope and Prelim. Cost Est.'!P81>0,'Scope and Prelim. Cost Est.'!P81,\"\")","v":""},{"$f":"IF('Scope and Prelim. Cost Est.'!V81>0,'Scope and Prelim. Cost Est.'!V81,\"\")","v":""},{"$f":"IF('Scope and Prelim. Cost Est.'!AE81>0,'Scope and Prelim. Cost Est.'!AE81,\"\")","v":""}]
[0,null,null,null,{"$f":"IF('Scope and Prelim. Cost Est.'!B82>0,'Scope and Prelim. Cost Est.'!B82,\"\")","v":""},{"$f":"IF('Scope and Prelim. Cost Est.'!C82>0,'Scope and Prelim. Cost Est.'!C82,\"\")","v":""},{"$f":"IF('Scope and Prelim. Cost Est.'!E82>0,'Scope and Prelim. Cost Est.'!E82,\"\")","v":""},{"$f":"IF('Scope and Prelim. Cost Est.'!P82>0,'Scope and Prelim. Cost Est.'!P82,\"\")","v":""},{"$f":"IF('Scope and Prelim. Cost Est.'!V82>0,'Scope and Prelim. Cost Est.'!V82,\"\")","v":""},{"$f":"IF('Scope and Prelim. Cost Est.'!AE82>0,'Scope and Prelim. Cost Est.'!AE82,\"\")","v":""}]
[0,null,null,null,{"$f":"IF('Scope and Prelim. Cost Est.'!B83>0,'Scope and Prelim. Cost Est.'!B83,\"\")","v":""},{"$f":"IF('Scope and Prelim. Cost Est.'!C83>0,'Scope and Prelim. Cost Est.'!C83,\"\")","v":""},{"$f":"IF('Scope and Prelim. Cost Est.'!E83>0,'Scope and Prelim. Cost Est.'!E83,\"\")","v":""},{"$f":"IF('Scope and Prelim. Cost Est.'!P83>0,'Scope and Prelim. Cost Est.'!P83,\"\")","v":""},{"$f":"IF('Scope and Prelim. Cost Est.'!V83>0,'Scope and Prelim. Cost Est.'!V83,\"\")","v":""},{"$f":"IF('Scope and Prelim. Cost Est.'!AE83>0,'Scope and Prelim. Cost Est.'!AE83,\"\")","v":""}]
[0,null,null,null,{"$f":"IF('Scope and Prelim. Cost Est.'!B84>0,'Scope and Prelim. Cost Est.'!B84,\"\")","v":""},{"$f":"IF('Scope and Prelim. Cost Est.'!C84>0,'Scope and Prelim. Cost Est.'!C84,\"\")","v":""},{"$f":"IF('Scope and Prelim. Cost Est.'!E84>0,'Scope and Prelim. Cost Est.'!E84,\"\")","v":""},{"$f":"IF('Scope and Prelim. Cost Est.'!P84>0,'Scope and Prelim. Cost Est.'!P84,\"\")","v":""},{"$f":"IF('Scope and Prelim. Cost Est.'!V84>0,'Scope and Prelim. Cost Est.'!V84,\"\")","v":""},{"$f":"IF('Scope and Prelim. Cost Est.'!AE84>0,'Scope and Prelim. Cost Est.'!AE84,\"\")","v":""}]
[0,null,null,null,{"$f":"IF('Scope and Prelim. Cost Est.'!B85>0,'Scope and Prelim. Cost Est.'!B85,\"\")","v":""},{"$f":"IF('Scope and Prelim. Cost Est.'!C85>0,'Scope and Prelim. Cost Est.'!C85,\"\")","v":""},{"$f":"IF('Scope and Prelim. Cost Est.'!E85>0,'Scope and Prelim. Cost Est.'!E85,\"\")","v":""},{"$f":"IF('Scope and Prelim. Cost Est.'!P85>0,'Scope and Prelim. Cost Est.'!P85,\"\")","v":""},{"$f":"IF('Scope and Prelim. Cost Est.'!V85>0,'Scope and Prelim. Cost Est.'!V85,\"\")","v":""},{"$f":"IF('Scope and Prelim. Cost Est.'!AE85>0,'Scope and Prelim. Cost Est.'!AE85,\"\")","v":""}]
[0,null,null,null,{"$f":"IF('Scope and Prelim. Cost Est.'!B86>0,'Scope and Prelim. Cost Est.'!B86,\"\")","v":""},{"$f":"IF('Scope and Prelim. Cost Est.'!C86>0,'Scope and Prelim. Cost Est.'!C86,\"\")","v":""},{"$f":"IF('Scope and Prelim. Cost Est.'!E86>0,'Scope and Prelim. Cost Est.'!E86,\"\")","v":""},{"$f":"IF('Scope and Prelim. Cost Est.'!P86>0,'Scope and Prelim. Cost Est.'!P86,\"\")","v":""},{"$f":"IF('Scope and Prelim. Cost Est.'!V86>0,'Scope and Prelim. Cost Est.'!V86,\"\")","v":""},{"$f":"IF('Scope and Prelim. Cost Est.'!AE86>0,'Scope and Prelim. Cost Est.'!AE86,\"\")","v":""}]
[0,null,null,null,{"$f":"IF('Scope and Prelim. Cost Est.'!B87>0,'Scope and Prelim. Cost Est.'!B87,\"\")","v":""},{"$f":"IF('Scope and Prelim. Cost Est.'!C87>0,'Scope and Prelim. Cost Est.'!C87,\"\")","v":""},{"$f":"IF('Scope and Prelim. Cost Est.'!E87>0,'Scope and Prelim. Cost Est.'!E87,\"\")","v":""},{"$f":"IF('Scope and Prelim. Cost Est.'!P87>0,'Scope and Prelim. Cost Est.'!P87,\"\")","v":""},{"$f":"IF('Scope and Prelim. Cost Est.'!V87>0,'Scope and Prelim. Cost Est.'!V87,\"\")","v":""},{"$f":"IF('Scope and Prelim. Cost Est.'!AE87>0,'Scope and Prelim. Cost Est.'!AE87,\"\")","v":""}]
[0,null,null,null,{"$f":"IF('Scope and Prelim. Cost Est.'!B88>0,'Scope and Prelim. Cost Est.'!B88,\"\")","v":""},{"$f":"IF('Scope and Prelim. Cost Est.'!C88>0,'Scope and Prelim. Cost Est.'!C88,\"\")","v":""},{"$f":"IF('Scope and Prelim. Cost Est.'!E88>0,'Scope and Prelim. Cost Est.'!E88,\"\")","v":""},{"$f":"IF('Scope and Prelim. Cost Est.'!P88>0,'Scope and Prelim. Cost Est.'!P88,\"\")","v":""},{"$f":"IF('Scope and Prelim. Cost Est.'!V88>0,'Scope and Prelim. Cost Est.'!V88,\"\")","v":""},{"$f":"IF('Scope and Prelim. Cost Est.'!AE88>0,'Scope and Prelim. Cost Est.'!AE88,\"\")","v":""}]
[0,null,null,null,{"$f":"IF('Scope and Prelim. Cost Est.'!B89>0,'Scope and Prelim. Cost Est.'!B89,\"\")","v":""},{"$f":"IF('Scope and Prelim. Cost Est.'!C89>0,'Scope and Prelim. Cost Est.'!C89,\"\")","v":""},{"$f":"IF('Scope and Prelim. Cost Est.'!E89>0,'Scope and Prelim. Cost Est.'!E89,\"\")","v":""},{"$f":"IF('Scope and Prelim. Cost Est.'!P89>0,'Scope and Prelim. Cost Est.'!P89,\"\")","v":""},{"$f":"IF('Scope and Prelim. Cost Est.'!V89>0,'Scope and Prelim. Cost Est.'!V89,\"\")","v":""},{"$f":"IF('Scope and Prelim. Cost Est.'!AE89>0,'Scope and Prelim. Cost Est.'!AE89,\"\")","v":""}]
[0,null,null,null,{"$f":"IF('Scope and Prelim. Cost Est.'!B90>0,'Scope and Prelim. Cost Est.'!B90,\"\")","v":""},{"$f":"IF('Scope and Prelim. Cost Est.'!C90>0,'Scope and Prelim. Cost Est.'!C90,\"\")","v":""},{"$f":"IF('Scope and Prelim. Cost Est.'!E90>0,'Scope and Prelim. Cost Est.'!E90,\"\")","v":""},{"$f":"IF('Scope and Prelim. Cost Est.'!P90>0,'Scope and Prelim. Cost Est.'!P90,\"\")","v":""},{"$f":"IF('Scope and Prelim. Cost Est.'!V90>0,'Scope and Prelim. Cost Est.'!V90,\"\")","v":""},{"$f":"IF('Scope and Prelim. Cost Est.'!AE90>0,'Scope and Prelim. Cost Est.'!AE90,\"\")","v":""}]
[0,null,null,null,{"$f":"IF('Scope and Prelim. Cost Est.'!B91>0,'Scope and Prelim. Cost Est.'!B91,\"\")","v":""},{"$f":"IF('Scope and Prelim. Cost Est.'!C91>0,'Scope and Prelim. Cost Est.'!C91,\"\")","v":""},{"$f":"IF('Scope and Prelim. Cost Est.'!E91>0,'Scope and Prelim. Cost Est.'!E91,\"\")","v":""},{"$f":"IF('Scope and Prelim. Cost Est.'!P91>0,'Scope and Prelim. Cost Est.'!P91,\"\")","v":""},{"$f":"IF('Scope and Prelim. Cost Est.'!V91>0,'Scope and Prelim. Cost Est.'!V91,\"\")","v":""},{"$f":"IF('Scope and Prelim. Cost Est.'!AE91>0,'Scope and Prelim. Cost Est.'!AE91,\"\")","v":""}]
[0,null,null,null,{"$f":"IF('Scope and Prelim. Cost Est.'!B92>0,'Scope and Prelim. Cost Est.'!B92,\"\")","v":""},{"$f":"IF('Scope and Prelim. Cost Est.'!C92>0,'Scope and Prelim. Cost Est.'!C92,\"\")","v":""},{"$f":"IF('Scope and Prelim. Cost Est.'!E92>0,'Scope and Prelim. Cost Est.'!E92,\"\")","v":""},{"$f":"IF('Scope and Prelim. Cost Est.'!P92>0,'Scope and Prelim. Cost Est.'!P92,\"\")","v":""},{"$f":"IF('Scope and Prelim. Cost Est.'!V92>0,'Scope and Prelim. Cost Est.'!V92,\"\")","v":""},{"$f":"IF('Scope and Prelim. Cost Est.'!AE92>0,'Scope and Prelim. Cost Est.'!AE92,\"\")","v":""}]
[0,null,null,null,{"$f":"IF('Scope and Prelim. Cost Est.'!B93>0,'Scope and Prelim. Cost Est.'!B93,\"\")","v":""},{"$f":"IF('Scope and Prelim. Cost Est.'!C93>0,'Scope and Prelim. Cost Est.'!C93,\"\")","v":""},{"$f":"IF('Scope and Prelim. Cost Est.'!E93>0,'Scope and Prelim. Cost Est.'!E93,\"\")","v":""},{"$f":"IF('Scope and Prelim. Cost Est.'!P93>0,'Scope and Prelim. Cost Est.'!P93,\"\")","v":""},{"$f":"IF('Scope and Prelim. Cost Est.'!V93>0,'Scope and Prelim. Cost Est.'!V93,\"\")","v":""},{"$f":"IF('Scope and Prelim. Cost Est.'!AE93>0,'Scope and Prelim. Cost Est.'!AE93,\"\")","v":""}]
[0,null,null,null,{"$f":"IF('Scope and Prelim. Cost Est.'!B94>0,'Scope and Prelim. Cost Est.'!B94,\"\")","v":""},{"$f":"IF('Scope and Prelim. Cost Est.'!C94>0,'Scope and Prelim. Cost Est.'!C94,\"\")","v":""},{"$f":"IF('Scope and Prelim. Cost Est.'!E94>0,'Scope and Prelim. Cost Est.'!E94,\"\")","v":""},{"$f":"IF('Scope and Prelim. Cost Est.'!P94>0,'Scope and Prelim. Cost Est.'!P94,\"\")","v":""},{"$f":"IF('Scope and Prelim. Cost Est.'!V94>0,'Scope and Prelim. Cost Est.'!V94,\"\")","v":""},{"$f":"IF('Scope and Prelim. Cost Est.'!AE94>0,'Scope and Prelim. Cost Est.'!AE94,\"\")","v":""}]
[0,null,null,null,{"$f":"IF('Scope and Prelim. Cost Est.'!B95>0,'Scope and Prelim. Cost Est.'!B95,\"\")","v":""},{"$f":"IF('Scope and Prelim. Cost Est.'!C95>0,'Scope and Prelim. Cost Est.'!C95,\"\")","v":""},{"$f":"IF('Scope and Prelim. Cost Est.'!E95>0,'Scope and Prelim. Cost Est.'!E95,\"\")","v":""},{"$f":"IF('Scope and Prelim. Cost Est.'!P95>0,'Scope and Prelim. Cost Est.'!P95,\"\")","v":""},{"$f":"IF('Scope and Prelim. Cost Est.'!V95>0,'Scope and Prelim. Cost Est.'!V95,\"\")","v":""},{"$f":"IF('Scope and Prelim. Cost Est.'!AE95>0,'Scope and Prelim. Cost Est.'!AE95,\"\")","v":""}]
[0,null,null,null,{"$f":"IF('Scope and Prelim. Cost Est.'!B96>0,'Scope and Prelim. Cost Est.'!B96,\"\")","v":""},{"$f":"IF('Scope and Prelim. Cost Est.'!C96>0,'Scope and Prelim. Cost Est.'!C96,\"\")","v":""},{"$f":"IF('Scope and Prelim. Cost Est.'!E96>0,'Scope and Prelim. Cost Est.'!E96,\"\")","v":""},{"$f":"IF('Scope and Prelim. Cost Est.'!P96>0,'Scope and Prelim. Cost Est.'!P96,\"\")","v":""},{"$f":"IF('Scope and Prelim. Cost Est.'!V96>0,'Scope and Prelim. Cost Est.'!V96,\"\")","v":""},{"$f":"IF('Scope and Prelim. Cost Est.'!AE96>0,'Scope and Prelim. Cost Est.'!AE96,\"\")","v":""}]
[0,null,null,null,{"$f":"IF('Scope and Prelim. Cost Est.'!B97>0,'Scope and Prelim. Cost Est.'!B97,\"\")","v":""},{"$f":"IF('Scope and Prelim. Cost Est.'!C97>0,'Scope and Prelim. Cost Est.'!C97,\"\")","v":""},{"$f":"IF('Scope and Prelim. Cost Est.'!E97>0,'Scope and Prelim. Cost Est.'!E97,\"\")","v":""},{"$f":"IF('Scope and Prelim. Cost Est.'!P97>0,'Scope and Prelim. Cost Est.'!P97,\"\")","v":""},{"$f":"IF('Scope and Prelim. Cost Est.'!V97>0,'Scope and Prelim. Cost Est.'!V97,\"\")","v":""},{"$f":"IF('Scope and Prelim. Cost Est.'!AE97>0,'Scope and Prelim. Cost Est.'!AE97,\"\")","v":""}]
[0,null,null,null,{"$f":"IF('Scope and Prelim. Cost Est.'!B98>0,'Scope and Prelim. Cost Est.'!B98,\"\")","v":""},{"$f":"IF('Scope and Prelim. Cost Est.'!C98>0,'Scope and Prelim. Cost Est.'!C98,\"\")","v":""},{"$f":"IF('Scope and Prelim. Cost Est.'!E98>0,'Scope and Prelim. Cost Est.'!E98,\"\")","v":""},{"$f":"IF('Scope and Prelim. Cost Est.'!P98>0,'Scope and Prelim. Cost Est.'!P98,\"\")","v":""},{"$f":"IF('Scope and Prelim. Cost Est.'!V98>0,'Scope and Prelim. Cost Est.'!V98,\"\")","v":""},{"$f":"IF('Scope and Prelim. Cost Est.'!AE98>0,'Scope and Prelim. Cost Est.'!AE98,\"\")","v":""}]
[0,null,null,null,{"$f":"IF('Scope and Prelim. Cost Est.'!B99>0,'Scope and Prelim. Cost Est.'!B99,\"\")","v":""},{"$f":"IF('Scope and Prelim. Cost Est.'!C99>0,'Scope and Prelim. Cost Est.'!C99,\"\")","v":""},{"$f":"IF('Scope and Prelim. Cost Est.'!E99>0,'Scope and Prelim. Cost Est.'!E99,\"\")","v":""},{"$f":"IF('Scope and Prelim. Cost Est.'!P99>0,'Scope and Prelim. Cost Est.'!P99,\"\")","v":""},{"$f":"IF('Scope and Prelim. Cost Est.'!V99>0,'Scope and Prelim. Cost Est.'!V99,\"\")","v":""},{"$f":"IF('Scope and Prelim. Cost Est.'!AE99>0,'Scope and Prelim. Cost Est.'!AE99,\"\")","v":""}]
[0,null,null,null,{"$f":"IF('Scope and Prelim. Cost Est.'!B100>0,'Scope and Prelim. Cost Est.'!B100,\"\")","v":""},{"$f":"IF('Scope and Prelim. Cost Est.'!C100>0,'Scope and Prelim. Cost Est.'!C100,\"\")","v":""},{"$f":"IF('Scope and Prelim. Cost Est.'!E100>0,'Scope and Prelim. Cost Est.'!E100,\"\")","v":""},{"$f":"IF('Scope and Prelim. Cost Est.'!P100>0,'Scope and Prelim. Cost Est.'!P100,\"\")","v":""},{"$f":"IF('Scope and Prelim. Cost Est.'!V100>0,'Scope and Prelim. Cost Est.'!V100,\"\")","v":""},{"$f":"IF('Scope and Prelim. Cost Est.'!AE100>0,'Scope and Prelim. Cost Est.'!AE100,\"\")","v":""}]
[0,null,null,null,{"$f":"IF('Scope and Prelim. Cost Est.'!B101>0,'Scope and Prelim. Cost Est.'!B101,\"\")","v":""},{"$f":"IF('Scope and Prelim. Cost Est.'!C101>0,'Scope and Prelim. Cost Est.'!C101,\"\")","v":""},{"$f":"IF('Scope and Prelim. Cost Est.'!E101>0,'Scope and Prelim. Cost Est.'!E101,\"\")","v":""},{"$f":"IF('Scope and Prelim. Cost Est.'!P101>0,'Scope and Prelim. Cost Est.'!P101,\"\")","v":""},{"$f":"IF('Scope and Prelim. Cost Est.'!V101>0,'Scope and Prelim. Cost Est.'!V101,\"\")","v":""},{"$f":"IF('Scope and Prelim. Cost Est.'!AE101>0,'Scope and Prelim. Cost Est.'!AE101,\"\")","v":""}]
[0,null,null,null,{"$f":"IF('Scope and Prelim. Cost Est.'!B102>0,'Scope and Prelim. Cost Est.'!B102,\"\")","v":""},{"$f":"IF('Scope and Prelim. Cost Est.'!C102>0,'Scope and Prelim. Cost Est.'!C102,\"\")","v":""},{"$f":"IF('Scope and Prelim. Cost Est.'!E102>0,'Scope and Prelim. Cost Est.'!E102,\"\")","v":""},{"$f":"IF('Scope and Prelim. Cost Est.'!P102>0,'Scope and Prelim. Cost Est.'!P102,\"\")","v":""},{"$f":"IF('Scope and Prelim. Cost Est.'!V102>0,'Scope and Prelim. Cost Est.'!V102,\"\")","v":""},{"$f":"IF('Scope and Prelim. Cost Est.'!AE102>0,'Scope and Prelim. Cost Est.'!AE102,\"\")","v":""}]
[0,null,null,null,{"$f":"IF('Scope and Prelim. Cost Est.'!B103>0,'Scope and Prelim. Cost Est.'!B103,\"\")","v":""},{"$f":"IF('Scope and Prelim. Cost Est.'!C103>0,'Scope and Prelim. Cost Est.'!C103,\"\")","v":""},{"$f":"IF('Scope and Prelim. Cost Est.'!E103>0,'Scope and Prelim. Cost Est.'!E103,\"\")","v":""},{"$f":"IF('Scope and Prelim. Cost Est.'!P103>0,'Scope and Prelim. Cost Est.'!P103,\"\")","v":""},{"$f":"IF('Scope and Prelim. Cost Est.'!V103>0,'Scope and Prelim. Cost Est.'!V103,\"\")","v":""},{"$f":"IF('Scope and Prelim. Cost Est.'!AE103>0,'Scope and Prelim. Cost Est.'!AE103,\"\")","v":""}]
[0,null,null,null,{"$f":"IF('Scope and Prelim. Cost Est.'!B104>0,'Scope and Prelim. Cost Est.'!B104,\"\")","v":""},{"$f":"IF('Scope and Prelim. Cost Est.'!C104>0,'Scope and Prelim. Cost Est.'!C104,\"\")","v":""},{"$f":"IF('Scope and Prelim. Cost Est.'!E104>0,'Scope and Prelim. Cost Est.'!E104,\"\")","v":""},{"$f":"IF('Scope and Prelim. Cost Est.'!P104>0,'Scope and Prelim. Cost Est.'!P104,\"\")","v":""},{"$f":"IF('Scope and Prelim. Cost Est.'!V104>0,'Scope and Prelim. Cost Est.'!V104,\"\")","v":""},{"$f":"IF('Scope and Prelim. Cost Est.'!AE104>0,'Scope and Prelim. Cost Est.'!AE104,\"\")","v":""}]
[0,null,null,null,{"$f":"IF('Scope and Prelim. Cost Est.'!B105>0,'Scope and Prelim. Cost Est.'!B105,\"\")","v":""},{"$f":"IF('Scope and Prelim. Cost Est.'!C105>0,'Scope and Prelim. Cost Est.'!C105,\"\")","v":""},{"$f":"IF('Scope and Prelim. Cost Est.'!E105>0,'Scope and Prelim. Cost Est.'!E105,\"\")","v":""},{"$f":"IF('Scope and Prelim. Cost Est.'!P105>0,'Scope and Prelim. Cost Est.'!P105,\"\")","v":""},{"$f":"IF('Scope and Prelim. Cost Est.'!V105>0,'Scope and Prelim. Cost Est.'!V105,\"\")","v":""},{"$f":"IF('Scope and Prelim. Cost Est.'!AE105>0,'Scope and Prelim. Cost Est.'!AE105,\"\")","v":""}]
[0,null,null,null,{"$f":"IF('Scope and Prelim. Cost Est.'!B106>0,'Scope and Prelim. Cost Est.'!B106,\"\")","v":""},{"$f":"IF('Scope and Prelim. Cost Est.'!C106>0,'Scope and Prelim. Cost Est.'!C106,\"\")","v":""},{"$f":"IF('Scope and Prelim. Cost Est.'!E106>0,'Scope and Prelim. Cost Est.'!E106,\"\")","v":""},{"$f":"IF('Scope and Prelim. Cost Est.'!P106>0,'Scope and Prelim. Cost Est.'!P106,\"\")","v":""},{"$f":"IF('Scope and Prelim. Cost Est.'!V106>0,'Scope and Prelim. Cost Est.'!V106,\"\")","v":""},{"$f":"IF('Scope and Prelim. Cost Est.'!AE106>0,'Scope and Prelim. Cost Est.'!AE106,\"\")","v":""}]
[0,null,null,null,{"$f":"IF('Scope and Prelim. Cost Est.'!B107>0,'Scope and Prelim. Cost Est.'!B107,\"\")","v":""},{"$f":"IF('Scope and Prelim. Cost Est.'!C107>0,'Scope and Prelim. Cost Est.'!C107,\"\")","v":""},{"$f":"IF('Scope and Prelim. Cost Est.'!E107>0,'Scope and Prelim. Cost Est.'!E107,\"\")","v":""},{"$f":"IF('Scope and Prelim. Cost Est.'!P107>0,'Scope and Prelim. Cost Est.'!P107,\"\")","v":""},{"$f":"IF('Scope and Prelim. Cost Est.'!V107>0,'Scope and Prelim. Cost Est.'!V107,\"\")","v":""},{"$f":"IF('Scope and Prelim. Cost Est.'!AE107>0,'Scope and Prelim. Cost Est.'!AE107,\"\")","v":""}]
[0,null,null,null,{"$f":"IF('Scope and Prelim. Cost Est.'!B108>0,'Scope and Prelim. Cost Est.'!B108,\"\")","v":""},{"$f":"IF('Scope and Prelim. Cost Est.'!C108>0,'Scope and Prelim. Cost Est.'!C108,\"\")","v":""},{"$f":"IF('Scope and Prelim. Cost Est.'!E108>0,'Scope and Prelim. Cost Est.'!E108,\"\")","v":""},{"$f":"IF('Scope and Prelim. Cost Est.'!P108>0,'Scope and Prelim. Cost Est.'!P108,\"\")","v":""},{"$f":"IF('Scope and Prelim. Cost Est.'!V108>0,'Scope and Prelim. Cost Est.'!V108,\"\")","v":""},{"$f":"IF('Scope and Prelim. Cost Est.'!AE108>0,'Scope and Prelim. Cost Est.'!AE108,\"\")","v":""}]
[0,null,null,null,{"$f":"IF('Scope and Prelim. Cost Est.'!B109>0,'Scope and Prelim. Cost Est.'!B109,\"\")","v":""},{"$f":"IF('Scope and Prelim. Cost Est.'!C109>0,'Scope and Prelim. Cost Est.'!C109,\"\")","v":""},{"$f":"IF('Scope and Prelim. Cost Est.'!E109>0,'Scope and Prelim. Cost Est.'!E109,\"\")","v":""},{"$f":"IF('Scope and Prelim. Cost Est.'!P109>0,'Scope and Prelim. Cost Est.'!P109,\"\")","v":""},{"$f":"IF('Scope and Prelim. Cost Est.'!V109>0,'Scope and Prelim. Cost Est.'!V109,\"\")","v":""},{"$f":"IF('Scope and Prelim. Cost Est.'!AE109>0,'Scope and Prelim. Cost Est.'!AE109,\"\")","v":""}]
[0,null,null,null,{"$f":"IF('Scope and Prelim. Cost Est.'!B110>0,'Scope and Prelim. Cost Est.'!B110,\"\")","v":""},{"$f":"IF('Scope and Prelim. Cost Est.'!C110>0,'Scope and Prelim. Cost Est.'!C110,\"\")","v":""},{"$f":"IF('Scope and Prelim. Cost Est.'!E110>0,'Scope and Prelim. Cost Est.'!E110,\"\")","v":""},{"$f":"IF('Scope and Prelim. Cost Est.'!P110>0,'Scope and Prelim. Cost Est.'!P110,\"\")","v":""},{"$f":"IF('Scope and Prelim. Cost Est.'!V110>0,'Scope and Prelim. Cost Est.'!V110,\"\")","v":""},{"$f":"IF('Scope and Prelim. Cost Est.'!AE110>0,'Scope and Prelim. Cost Est.'!AE110,\"\")","v":""}]
[0,null,null,null,{"$f":"IF('Scope and Prelim. Cost Est.'!B111>0,'Scope and Prelim. Cost Est.'!B111,\"\")","v":""},{"$f":"IF('Scope and Prelim. Cost Est.'!C111>0,'Scope and Prelim. Cost Est.'!C111,\"\")","v":""},{"$f":"IF('Scope and Prelim. Cost Est.'!E111>0,'Scope and Prelim. Cost Est.'!E111,\"\")","v":""},{"$f":"IF('Scope and Prelim. Cost Est.'!P111>0,'Scope and Prelim. Cost Est.'!P111,\"\")","v":""},{"$f":"IF('Scope and Prelim. Cost Est.'!V111>0,'Scope and Prelim. Cost Est.'!V111,\"\")","v":""},{"$f":"IF('Scope and Prelim. Cost Est.'!AE111>0,'Scope and Prelim. Cost Est.'!AE111,\"\")","v":""}]
[0,null,null,null,{"$f":"IF('Scope and Prelim. Cost Est.'!B112>0,'Scope and Prelim. Cost Est.'!B112,\"\")","v":""},{"$f":"IF('Scope and Prelim. Cost Est.'!C112>0,'Scope and Prelim. Cost Est.'!C112,\"\")","v":""},{"$f":"IF('Scope and Prelim. Cost Est.'!E112>0,'Scope and Prelim. Cost Est.'!E112,\"\")","v":""},{"$f":"IF('Scope and Prelim. Cost Est.'!P112>0,'Scope and Prelim. Cost Est.'!P112,\"\")","v":""},{"$f":"IF('Scope and Prelim. Cost Est.'!V112>0,'Scope and Prelim. Cost Est.'!V112,\"\")","v":""},{"$f":"IF('Scope and Prelim. Cost Est.'!AE112>0,'Scope and Prelim. Cost Est.'!AE112,\"\")","v":""}]
[0,null,null,null,{"$f":"IF('Scope and Prelim. Cost Est.'!B113>0,'Scope and Prelim. Cost Est.'!B113,\"\")","v":""},{"$f":"IF('Scope and Prelim. Cost Est.'!C113>0,'Scope and Prelim. Cost Est.'!C113,\"\")","v":""},{"$f":"IF('Scope and Prelim. Cost Est.'!E113>0,'Scope and Prelim. Cost Est.'!E113,\"\")","v":""},{"$f":"IF('Scope and Prelim. Cost Est.'!P113>0,'Scope and Prelim. Cost Est.'!P113,\"\")","v":""},{"$f":"IF('Scope and Prelim. Cost Est.'!V113>0,'Scope and Prelim. Cost Est.'!V113,\"\")","v":""},{"$f":"IF('Scope and Prelim. Cost Est.'!AE113>0,'Scope and Prelim. Cost Est.'!AE113,\"\")","v":""}]
[0,null,null,null,{"$f":"IF('Scope and Prelim. Cost Est.'!B114>0,'Scope and Prelim. Cost Est.'!B114,\"\")","v":""},{"$f":"IF('Scope and Prelim. Cost Est.'!C114>0,'Scope and Prelim. Cost Est.'!C114,\"\")","v":""},{"$f":"IF('Scope and Prelim. Cost Est.'!E114>0,'Scope and Prelim. Cost Est.'!E114,\"\")","v":""},{"$f":"IF('Scope and Prelim. Cost Est.'!P114>0,'Scope and Prelim. Cost Est.'!P114,\"\")","v":""},{"$f":"IF('Scope and Prelim. Cost Est.'!V114>0,'Scope and Prelim. Cost Est.'!V114,\"\")","v":""},{"$f":"IF('Scope and Prelim. Cost Est.'!AE114>0,'Scope and Prelim. Cost Est.'!AE114,\"\")","v":""}]
[0,null,null,null,{"$f":"IF('Scope and Prelim. Cost Est.'!B115>0,'Scope and Prelim. Cost Est.'!B115,\"\")","v":""},{"$f":"IF('Scope and Prelim. Cost Est.'!C115>0,'Scope and Prelim. Cost Est.'!C115,\"\")","v":""},{"$f":"IF('Scope and Prelim. Cost Est.'!E115>0,'Scope and Prelim. Cost Est.'!E115,\"\")","v":""},{"$f":"IF('Scope and Prelim. Cost Est.'!P115>0,'Scope and Prelim. Cost Est.'!P115,\"\")","v":""},{"$f":"IF('Scope and Prelim. Cost Est.'!V115>0,'Scope and Prelim. Cost Est.'!V115,\"\")","v":""},{"$f":"IF('Scope and Prelim. Cost Est.'!AE115>0,'Scope and Prelim. Cost Est.'!AE115,\"\")","v":""}]
[0,null,null,null,{"$f":"IF('Scope and Prelim. Cost Est.'!B116>0,'Scope and Prelim. Cost Est.'!B116,\"\")","v":""},{"$f":"IF('Scope and Prelim. Cost Est.'!C116>0,'Scope and Prelim. Cost Est.'!C116,\"\")","v":""},{"$f":"IF('Scope and Prelim. Cost Est.'!E116>0,'Scope and Prelim. Cost Est.'!E116,\"\")","v":""},{"$f":"IF('Scope and Prelim. Cost Est.'!P116>0,'Scope and Prelim. Cost Est.'!P116,\"\")","v":""},{"$f":"IF('Scope and Prelim. Cost Est.'!V116>0,'Scope and Prelim. Cost Est.'!V116,\"\")","v":""},{"$f":"IF('Scope and Prelim. Cost Est.'!AE116>0,'Scope and Prelim. Cost Est.'!AE116,\"\")","v":""}]
[0,null,null,null,{"$f":"IF('Scope and Prelim. Cost Est.'!B117>0,'Scope and Prelim. Cost Est.'!B117,\"\")","v":""},{"$f":"IF('Scope and Prelim. Cost Est.'!C117>0,'Scope and Prelim. Cost Est.'!C117,\"\")","v":""},{"$f":"IF('Scope and Prelim. Cost Est.'!E117>0,'Scope and Prelim. Cost Est.'!E117,\"\")","v":""},{"$f":"IF('Scope and Prelim. Cost Est.'!P117>0,'Scope and Prelim. Cost Est.'!P117,\"\")","v":""},{"$f":"IF('Scope and Prelim. Cost Est.'!V117>0,'Scope and Prelim. Cost Est.'!V117,\"\")","v":""},{"$f":"IF('Scope and Prelim. Cost Est.'!AE117>0,'Scope and Prelim. Cost Est.'!AE117,\"\")","v":""}]
[0,null,null,null,{"$f":"IF('Scope and Prelim. Cost Est.'!B118>0,'Scope and Prelim. Cost Est.'!B118,\"\")","v":""},{"$f":"IF('Scope and Prelim. Cost Est.'!C118>0,'Scope and Prelim. Cost Est.'!C118,\"\")","v":""},{"$f":"IF('Scope and Prelim. Cost Est.'!E118>0,'Scope and Prelim. Cost Est.'!E118,\"\")","v":""},{"$f":"IF('Scope and Prelim. Cost Est.'!P118>0,'Scope and Prelim. Cost Est.'!P118,\"\")","v":""},{"$f":"IF('Scope and Prelim. Cost Est.'!V118>0,'Scope and Prelim. Cost Est.'!V118,\"\")","v":""},{"$f":"IF('Scope and Prelim. Cost Est.'!AE118>0,'Scope and Prelim. Cost Est.'!AE118,\"\")","v":""}]
[0,null,null,null,{"$f":"IF('Scope and Prelim. Cost Est.'!B119>0,'Scope and Prelim. Cost Est.'!B119,\"\")","v":""},{"$f":"IF('Scope and Prelim. Cost Est.'!C119>0,'Scope and Prelim. Cost Est.'!C119,\"\")","v":""},{"$f":"IF('Scope and Prelim. Cost Est.'!E119>0,'Scope and Prelim. Cost Est.'!E119,\"\")","v":""},{"$f":"IF('Scope and Prelim. Cost Est.'!P119>0,'Scope and Prelim. Cost Est.'!P119,\"\")","v":""},{"$f":"IF('Scope and Prelim. Cost Est.'!V119>0,'Scope and Prelim. Cost Est.'!V119,\"\")","v":""},{"$f":"IF('Scope and Prelim. Cost Est.'!AE119>0,'Scope and Prelim. Cost Est.'!AE119,\"\")","v":""}]
[0,null,null,null,{"$f":"IF('Scope and Prelim. Cost Est.'!B120>0,'Scope and Prelim. Cost Est.'!B120,\"\")","v":""},{"$f":"IF('Scope and Prelim. Cost Est.'!C120>0,'Scope and Prelim. Cost Est.'!C120,\"\")","v":""},{"$f":"IF('Scope and Prelim. Cost Est.'!E120>0,'Scope and Prelim. Cost Est.'!E120,\"\")","v":""},{"$f":"IF('Scope and Prelim. Cost Est.'!P120>0,'Scope and Prelim. Cost Est.'!P120,\"\")","v":""},{"$f":"IF('Scope and Prelim. Cost Est.'!V120>0,'Scope and Prelim. Cost Est.'!V120,\"\")","v":""},{"$f":"IF('Scope and Prelim. Cost Est.'!AE120>0,'Scope and Prelim. Cost Est.'!AE120,\"\")","v":""}]
[0,null,null,null,{"$f":"IF('Scope and Prelim. Cost Est.'!B121>0,'Scope and Prelim. Cost Est.'!B121,\"\")","v":""},{"$f":"IF('Scope and Prelim. Cost Est.'!C121>0,'Scope and Prelim. Cost Est.'!C121,\"\")","v":""},{"$f":"IF('Scope and Prelim. Cost Est.'!E121>0,'Scope and Prelim. Cost Est.'!E121,\"\")","v":""},{"$f":"IF('Scope and Prelim. Cost Est.'!P121>0,'Scope and Prelim. Cost Est.'!P121,\"\")","v":""},{"$f":"IF('Scope and Prelim. Cost Est.'!V121>0,'Scope and Prelim. Cost Est.'!V121,\"\")","v":""},{"$f":"IF('Scope and Prelim. Cost Est.'!AE121>0,'Scope and Prelim. Cost Est.'!AE121,\"\")","v":""}]
[0,null,null,null,{"$f":"IF('Scope and Prelim. Cost Est.'!B122>0,'Scope and Prelim. Cost Est.'!B122,\"\")","v":""},{"$f":"IF('Scope and Prelim. Cost Est.'!C122>0,'Scope and Prelim. Cost Est.'!C122,\"\")","v":""},{"$f":"IF('Scope and Prelim. Cost Est.'!E122>0,'Scope and Prelim. Cost Est.'!E122,\"\")","v":""},{"$f":"IF('Scope and Prelim. Cost Est.'!P122>0,'Scope and Prelim. Cost Est.'!P122,\"\")","v":""},{"$f":"IF('Scope and Prelim. Cost Est.'!V122>0,'Scope and Prelim. Cost Est.'!V122,\"\")","v":""},{"$f":"IF('Scope and Prelim. Cost Est.'!AE122>0,'Scope and Prelim. Cost Est.'!AE122,\"\")","v":""}]
[0,null,null,null,{"$f":"IF('Scope and Prelim. Cost Est.'!B123>0,'Scope and Prelim. Cost Est.'!B123,\"\")","v":""},{"$f":"IF('Scope and Prelim. Cost Est.'!C123>0,'Scope and Prelim. Cost Est.'!C123,\"\")","v":""},{"$f":"IF('Scope and Prelim. Cost Est.'!E123>0,'Scope and Prelim. Cost Est.'!E123,\"\")","v":""},{"$f":"IF('Scope and Prelim. Cost Est.'!P123>0,'Scope and Prelim. Cost Est.'!P123,\"\")","v":""},{"$f":"IF('Scope and Prelim. Cost Est.'!V123>0,'Scope and Prelim. Cost Est.'!V123,\"\")","v":""},{"$f":"IF('Scope and Prelim. Cost Est.'!AE123>0,'Scope and Prelim. Cost Est.'!AE123,\"\")","v":""}]
[0,null,null,null,{"$f":"IF('Scope and Prelim. Cost Est.'!B124>0,'Scope and Prelim. Cost Est.'!B124,\"\")","v":""},{"$f":"IF('Scope and Prelim. Cost Est.'!C124>0,'Scope and Prelim. Cost Est.'!C124,\"\")","v":""},{"$f":"IF('Scope and Prelim. Cost Est.'!E124>0,'Scope and Prelim. Cost Est.'!E124,\"\")","v":""},{"$f":"IF('Scope and Prelim. Cost Est.'!P124>0,'Scope and Prelim. Cost Est.'!P124,\"\")","v":""},{"$f":"IF('Scope and Prelim. Cost Est.'!V124>0,'Scope and Prelim. Cost Est.'!V124,\"\")","v":""},{"$f":"IF('Scope and Prelim. Cost Est.'!AE124>0,'Scope and Prelim. Cost Est.'!AE124,\"\")","v":""}]
[0,null,null,null,{"$f":"IF('Scope and Prelim. Cost Est.'!B125>0,'Scope and Prelim. Cost Est.'!B125,\"\")","v":""},{"$f":"IF('Scope and Prelim. Cost Est.'!C125>0,'Scope and Prelim. Cost Est.'!C125,\"\")","v":""},{"$f":"IF('Scope and Prelim. Cost Est.'!E125>0,'Scope and Prelim. Cost Est.'!E125,\"\")","v":""},{"$f":"IF('Scope and Prelim. Cost Est.'!P125>0,'Scope and Prelim. Cost Est.'!P125,\"\")","v":""},{"$f":"IF('Scope and Prelim. Cost Est.'!V125>0,'Scope and Prelim. Cost Est.'!V125,\"\")","v":""},{"$f":"IF('Scope and Prelim. Cost Est.'!AE125>0,'Scope and Prelim. Cost Est.'!AE125,\"\")","v":""}]
[1,null,null,null,null,null,"Total",{"$f":"SUM(H24:H123)","v":0},{"$f":"SUM(I24:I123)","v":0}]
[1]
[1,null,null,null,"Recommended Operations and Maintenance Interventions"]
[1,null,null,null,"General Recommended O&M Interventions","Intervention Type","Why Do It","Frequency","Impact / Cost","Relevant NYC Code and Resources"]
[{"$f":"IF('Operation and Maintenance'!D8=\"Yes\",1,0)","v":0},null,null,null,{"$f":"IF('Operation and Maintenance'!B8>0,'Operation and Maintenance'!B8,\"\")","v":""},{"$f":"IF('Operation and Maintenance'!C8>0,'Operation and Maintenance'!C8,\"\")","v":""},{"$f":"IF('Operation and Maintenance'!E8>0,'Operation and Maintenance'!E8,\"\")","v":""},{"$f":"IF('Operation and Maintenance'!F8>0,'Operation and Maintenance'!F8,\"\")","v":""},{"$f":"IF('Operation and Maintenance'!G8>0,'Operation and Maintenance'!G8,\"\")","v":""},{"$f":"IF('Operation and Maintenance'!H8>0,'Operation and Maintenance'!H8,\"\")","v":""}]
[{"$f":"IF('Operation and Maintenance'!D9=\"Yes\",1,0)","v":0},null,null,null,{"$f":"IF('Operation and Maintenance'!B9>0,'Operation and Maintenance'!B9,\"\")","v":""},null,null,null,null,{"$f":"IF('Operation and Maintenance'!H9>0,'Operation and Maintenance'!H9,\"\")","v":""}]
[{"$f":"IF('Operation and Maintenance'!D10=\"Yes\",1,0)","v":0},null,null,null,{"$f":"IF('Operation and Maintenance'!B10>0,'Operation and Maintenance'!B10,\"\")","v":""},null,null,null,null,{"$f":"IF('Operation and Maintenance'!H10>0,'Operation and Maintenance'!H10,\"\")","v":""}]
[{"$f":"IF('Operation and Maintenance'!D11=\"Yes\",1,0)","v":0},null,null,null,{"$f":"IF('Operation and Maintenance'!B11>0,'Operation and Maintenance'!B11,\"\")","v":""},null,null,null,null,{"$f":"IF('Operation and Maintenance'!H11>0,'Operation and Maintenance'!H11,\"\")","v":""}]
[{"$f":"IF('Operation and Maintenance'!D12=\"Yes\",1,0)","v":0},null,null,null,{"$f":"IF('Operation and Maintenance'!B12>0,'Operation and Maintenance'!B12,\"\")","v":""},null,null,null,null,{"$f":"IF('Operation and Maintenance'!H12>0,'Operation and Maintenance'!H12,\"\")","v":""}]
[{"$f":"IF('Operation and Maintenance'!D13=\"Yes\",1,0)","v":0},null,null,null,{"$f":"IF('Operation and Maintenance'!B13>0,'Operation and Maintenance'!B13,\"\")","v":""},null,null,null,null,{"$f":"IF('Operation and Maintenance'!H13>0,'Operation and Maintenance'!H13,\"\")","v":""}]
[{"$f":"IF('Operation and Maintenance'!D14=\"Yes\",1,0)","v":0},null,null,null,{"$f":"IF('Operation and Maintenance'!B14>0,'Operation and Maintenance'!B14,\"\")","v":""},null,null,null,null,{"$f":"IF('Operation and Maintenance'!H14>0,'Operation and Maintenance'!H14,\"\")","v":""}]
[{"$f":"IF('Operation and Maintenance'!D15=\"Yes\",1,0)","v":0},null,null,null,{"$f":"IF('Operation and Maintenance'!B15>0,'Operation and Maintenance'!B15,\"\")","v":""},null,null,null,null,{"$f":"IF('Operation and Maintenance'!H15>0,'Operation and Maintenance'!H15,\"\")","v":""}]
[{"$f":"IF('Operation and Maintenance'!D16=\"Yes\",1,0)","v":0},null,null,null,{"$f":"IF('Operation and Maintenance'!B16>0,'Operation and Maintenance'!B16,\"\")","v":""},null,null,null,null,{"$f":"IF('Operation and Maintenance'!H16>0,'Operation and Maintenance'!H16,\"\")","v":""}]
[{"$f":"IF('Operation and Maintenance'!D17=\"Yes\",1,0)","v":0},null,null,null,{"$f":"IF('Operation and Maintenance'!B17>0,'Operation and Maintenance'!B17,\"\")","v":""},null,null,null,null,{"$f":"IF('Operation and Maintenance'!H17>0,'Operation and Maintenance'!H17,\"\")","v":""}]
[{"$f":"IF('Operation and Maintenance'!D18=\"Yes\",1,0)","v":0},null,null,null,{"$f":"IF('Operation and Maintenance'!B18>0,'Operation and Maintenance'!B18,\"\")","v":""},null,null,null,null,{"$f":"IF('Operation and Maintenance'!H18>0,'Operation and Maintenance'!H18,\"\")","v":""}]
[{"$f":"IF('Operation and Maintenance'!D19=\"Yes\",1,0)","v":0},null,null,null,{"$f":"IF('Operation and Maintenance'!B19>0,'Operation and Maintenance'!B19,\"\")","v":""},null,null,null,null,{"$f":"IF('Operation and Maintenance'!H19>0,'Operation and Maintenance'!H19,\"\")","v":""}]
[{"$f":"IF('Operation and Maintenance'!D20=\"Yes\",1,0)","v":0},null,null,null,{"$f":"IF('Operation and Maintenance'!B20>0,'Operation and Maintenance'!B20,\"\")","v":""},null,null,null,null,{"$f":"IF('Operation and Maintenance'!H20>0,'Operation and Maintenance'!H20,\"\")","v":""}]
[{"$f":"IF('Operation and Maintenance'!D21=\"Yes\",1,0)","v":0},null,null,null,{"$f":"IF('Operation and Maintenance'!B21>0,'Operation and Maintenance'!B21,\"\")","v":""},null,null,null,null,{"$f":"IF('Operation and Maintenance'!H21>0,'Operation and Maintenance'!H21,\"\")","v":""}]
[{"$f":"IF('Operation and Maintenance'!D22=\"Yes\",1,0)","v":0},null,null,null,{"$f":"IF('Operation and Maintenance'!B22>0,'Operation and Maintenance'!B22,\"\")","v":""},null,null,null,null,{"$f":"IF('Operation and Maintenance'!H22>0,'Operation and Maintenance'!H22,\"\")","v":""}]
[{"$f":"IF('Operation and Maintenance'!D23=\"Yes\",1,0)","v":0},null,null,null,{"$f":"IF('Operation and Maintenance'!B23>0,'Operation and Maintenance'!B23,\"\")","v":""},null,null,null,null,{"$f":"IF('Operation and Maintenance'!H23>0,'Operation and Maintenance'!H23,\"\")","v":""}]
[{"$f":"IF('Operation and Maintenance'!D25=\"Yes\",1,0)","v":0},null,null,null,{"$f":"IF('Operation and Maintenance'!B25>0,'Operation and Maintenance'!B25,\"\")","v":"Inspect fans, fix and clean vents/ventilation ducts, replace filters. Set regular inspection schedule.\n"},{"$f":"IF('Operation and Maintenance'!C25>0,'Operation and Maintenance'!C25,\"\")","v":"Health - Air Quality and Ventilation"},{"$f":"IF('Operation and Maintenance'!D25>0,'Operation and Maintenance'!D25,\"\")","v":""},{"$f":"IF('Operation and Maintenance'!E25>0,'Operation and Maintenance'!E25,\"\")","v":"Asthma & respiratory risks"},{"$f":"IF('Operation and Maintenance'!F25>0,'Operation and Maintenance'!F25,\"\")","v":"Annual, Filters every 6 mos."},{"$f":"IF('Operation and Maintenance'!H25>0,'Operation and Maintenance'!H25,\"\")","v":"§[C26-1205.1] 27-745 Occupiable rooms. All occupiable rooms shall be ventilated by natural or mechanical means, or by a combination of both. Natural ventilation may be provided except where  mechanical ventilation is required by article seven or eight of this subchapter."}]
[{"$f":"IF('Operation and Maintenance'!D26=\"Yes\",1,0)","v":0},null,null,null,{"$f":"IF('Operation and Maintenance'!B26>0,'Operation and Maintenance'!B26,\"\")","v":"Educate tenants about ways to improve ventilation and about reporting fans that don’t work and windows that don't open.  "},{"$f":"IF('Operation and Maintenance'!C26>0,'Operation and Maintenance'!C26,\"\")","v":"Health - Air Quality and Ventilation"},{"$f":"IF('Operation and Maintenance'!D26>0,'Operation and Maintenance'!D26,\"\")","v":""},{"$f":"IF('Operation and Maintenance'!E26>0,'Operation and Maintenance'!E26,\"\")","v":"Asthma & respiratory risks "},{"$f":"IF('Operation and Maintenance'!F26>0,'Operation and Maintenance'!F26,\"\")","v":"Lease up & annual "},{"$f":"IF('Operation and Maintenance'!H26>0,'Operation and Maintenance'!H26,\"\")","v":""}]
[{"$f":"IF('Operation and Maintenance'!D27=\"Yes\",1,0)","v":0},null,null,null,{"$f":"IF('Operation and Maintenance'!B27>0,'Operation and Maintenance'!B27,\"\")","v":"Educate tenants about identifying and reporting problems with central heating/cooling."},{"$f":"IF('Operation and Maintenance'!C27>0,'Operation and Maintenance'!C27,\"\")","v":"Health - Air Quality and Ventilation"},{"$f":"IF('Operation and Maintenance'!D27>0,'Operation and Maintenance'!D27,\"\")","v":""},{"$f":"IF('Operation and Maintenance'!E27>0,'Operation and Maintenance'!E27,\"\")","v":"General health; energy efficiency"},{"$f":"IF('Operation and Maintenance'!F27>0,'Operation and Maintenance'!F27,\"\")","v":"Lease up & annual "},{"$f":"IF('Operation and Maintenance'!H27>0,'Operation and Maintenance'!H27,\"\")","v":""}]
[{"$f":"IF('Operation and Maintenance'!D28=\"Yes\",1,0)","v":0},null,null,null,{"$f":"IF('Operation and Maintenance'!B28>0,'Operation and Maintenance'!B28,\"\")","v":"Ensure regular cleaning of dryers to improve functionality and to reduce fire hazards."},{"$f":"IF('Operation and Maintenance'!C28>0,'Operation and Maintenance'!C28,\"\")","v":"Health - Air Quality and Ventilation"},{"$f":"IF('Operation and Maintenance'!D28>0,'Operation and Maintenance'!D28,\"\")","v":""},{"$f":"IF('Operation and Maintenance'!E28>0,'Operation and Maintenance'!E28,\"\")","v":"Respiratory risks & fire hazards"},{"$f":"IF('Operation and Maintenance'!F28>0,'Operation and Maintenance'!F28,\"\")","v":"Annual"},{"$f":"IF('Operation and Maintenance'!H28>0,'Operation and Maintenance'!H28,\"\")","v":""}]
[{"$f":"IF('Operation and Maintenance'!D29=\"Yes\",1,0)","v":0},null,null,null,{"$f":"IF('Operation and Maintenance'!B29>0,'Operation and Maintenance'!B29,\"\")","v":"Ensure proper venting of dryers."},{"$f":"IF('Operation and Maintenance'!C29>0,'Operation and Maintenance'!C29,\"\")","v":"Health - Air Quality and Ventilation"},{"$f":"IF('Operation and Maintenance'!D29>0,'Operation and Maintenance'!D29,\"\")","v":""},{"$f":"IF('Operation and Maintenance'!E29>0,'Operation and Maintenance'!E29,\"\")","v":"Respiratory risks & moisture control"},{"$f":"IF('Operation and Maintenance'!F29>0,'Operation and Maintenance'!F29,\"\")","v":"Annual"},{"$f":"IF('Operation and Maintenance'!H29>0,'Operation and Maintenance'!H29,\"\")","v":""}]
[{"$f":"IF('Operation and Maintenance'!D30=\"Yes\",1,0)","v":0},null,null,null,{"$f":"IF('Operation and Maintenance'!B30>0,'Operation and Maintenance'!B30,\"\")","v":"Evaluate boiler to ensure proper combustion safety to ensure proper combustion safety and to efficiently manage temperature. "},{"$f":"IF('Operation and Maintenance'!C30>0,'Operation and Maintenance'!C30,\"\")","v":"Health - Air Quality and Ventilation"},{"$f":"IF('Operation and Maintenance'!D30>0,'Operation and Maintenance'!D30,\"\")","v":""},{"$f":"IF('Operation and Maintenance'!E30>0,'Operation and Maintenance'!E30,\"\")","v":""},{"$f":"IF('Operation and Maintenance'!F30>0,'Operation and Maintenance'!F30,\"\")","v":""},{"$f":"IF('Operation and Maintenance'!H30>0,'Operation and Maintenance'!H30,\"\")","v":""}]
[{"$f":"IF('Operation and Maintenance'!D31=\"Yes\",1,0)","v":0},null,null,null,{"$f":"IF('Operation and Maintenance'!B31>0,'Operation and Maintenance'!B31,\"\")","v":"Prohibit smoking within units and within 20ft of building. Incorporate no smoking provisions in lease. Note"},{"$f":"IF('Operation and Maintenance'!C31>0,'Operation and Maintenance'!C31,\"\")","v":"Health - Air Quality and Ventilation"},{"$f":"IF('Operation and Maintenance'!D31>0,'Operation and Maintenance'!D31,\"\")","v":""},{"$f":"IF('Operation and Maintenance'!E31>0,'Operation and Maintenance'!E31,\"\")","v":"Asthma and cancer risks"},{"$f":"IF('Operation and Maintenance'!F31>0,'Operation and Maintenance'!F31,\"\")","v":"One time change"},{"$f":"IF('Operation and Maintenance'!H31>0,'Operation and Maintenance'!H31,\"\")","v":"https://www1.nyc.gov/site/doh/health/health-topics/smoking-smoke-free-housing.page"}]
[{"$f":"IF('Operation and Maintenance'!D32=\"Yes\",1,0)","v":0},null,null,null,{"$f":"IF('Operation and Maintenance'!B32>0,'Operation and Maintenance'!B32,\"\")","v":"Clean mold, eliminate water leaks, clean surfaces and replace surfaces as needed.  Fix drainage as needed. "},{"$f":"IF('Operation and Maintenance'!C32>0,'Operation and Maintenance'!C32,\"\")","v":"Health - Moisture "},{"$f":"IF('Operation and Maintenance'!D32>0,'Operation and Maintenance'!D32,\"\")","v":""},{"$f":"IF('Operation and Maintenance'!E32>0,'Operation and Maintenance'!E32,\"\")","v":"Asthma & respiratory risks; moisture control"},{"$f":"IF('Operation and Maintenance'!F32>0,'Operation and Maintenance'!F32,\"\")","v":"As needed"},{"$f":"IF('Operation and Maintenance'!H32>0,'Operation and Maintenance'!H32,\"\")","v":"http://www1.nyc.gov/site/doh/health/health-topics/air-quality-indoor-moisture.page"}]
[{"$f":"IF('Operation and Maintenance'!D33=\"Yes\",1,0)","v":0},null,null,null,{"$f":"IF('Operation and Maintenance'!B33>0,'Operation and Maintenance'!B33,\"\")","v":"Educate tenants about importance of and ways to report leaks (running toilets, leaking radiators, dripping faucets, moisture problems, and mold issues in the building."},{"$f":"IF('Operation and Maintenance'!C33>0,'Operation and Maintenance'!C33,\"\")","v":"Health - Moisture "},{"$f":"IF('Operation and Maintenance'!D33>0,'Operation and Maintenance'!D33,\"\")","v":""},{"$f":"IF('Operation and Maintenance'!E33>0,'Operation and Maintenance'!E33,\"\")","v":"Asthma & respiratory risks; moisture control"},{"$f":"IF('Operation and Maintenance'!F33>0,'Operation and Maintenance'!F33,\"\")","v":"Lease up & annual"},{"$f":"IF('Operation and Maintenance'!H33>0,'Operation and Maintenance'!H33,\"\")","v":""}]
[{"$f":"IF('Operation and Maintenance'!D34=\"Yes\",1,0)","v":0},null,null,null,{"$f":"IF('Operation and Maintenance'!B34>0,'Operation and Maintenance'!B34,\"\")","v":"Replace or place entry door weather-stripping and door sweeps. "},{"$f":"IF('Operation and Maintenance'!C34>0,'Operation and Maintenance'!C34,\"\")","v":"Health - Moisture "},{"$f":"IF('Operation and Maintenance'!D34>0,'Operation and Maintenance'!D34,\"\")","v":""},{"$f":"IF('Operation and Maintenance'!E34>0,'Operation and Maintenance'!E34,\"\")","v":"Moisture control; energy efficiency"},{"$f":"IF('Operation and Maintenance'!F34>0,'Operation and Maintenance'!F34,\"\")","v":""},{"$f":"IF('Operation and Maintenance'!H34>0,'Operation and Maintenance'!H34,\"\")","v":""}]
[{"$f":"IF('Operation and Maintenance'!D35=\"Yes\",1,0)","v":0},null,null,null,{"$f":"IF('Operation and Maintenance'!B35>0,'Operation and Maintenance'!B35,\"\")","v":"Seal holes and cracks, including around plumbing and utility openings and foundation. Install door sweeps to prevent pest entry. Use pest resistant materials during  repairs. Accompany pest management professional during each service visit to identify areas in need or repair. Train staff to monitor pest prone places for conditions conducive to pests. Adopt the use of reduced risk pesticides building wide. Review pest proofing tips for building owners, managers and staff in NYC DOHMH IPM Toolkit."},{"$f":"IF('Operation and Maintenance'!C35>0,'Operation and Maintenance'!C35,\"\")","v":"Health - Pests"},{"$f":"IF('Operation and Maintenance'!D35>0,'Operation and Maintenance'!D35,\"\")","v":""},{"$f":"IF('Operation and Maintenance'!E35>0,'Operation and Maintenance'!E35,\"\")","v":"Asthma risks, pest control"},{"$f":"IF('Operation and Maintenance'!F35>0,'Operation and Maintenance'!F35,\"\")","v":"Rehab, unit turnover, annual inspections"},{"$f":"IF('Operation and Maintenance'!H35>0,'Operation and Maintenance'!H35,\"\")","v":"NYC Integrated Pest Management Tool Kit http://www.nyc.gov/html/doh/downloads/pdf/pesticide/ipm-toolkit.pdf"}]
[{"$f":"IF('Operation and Maintenance'!D36=\"Yes\",1,0)","v":0},null,null,null,{"$f":"IF('Operation and Maintenance'!B36>0,'Operation and Maintenance'!B36,\"\")","v":"Educate residents on how to minimize food and water sources for pests;  identify and report openings for repair; on the use of reduced risk pesticides (gel bait, bait stations).  Educate management on implementation of  a building-wide Integrated Pest Management (IPM) protocol."},{"$f":"IF('Operation and Maintenance'!C36>0,'Operation and Maintenance'!C36,\"\")","v":"Health - Pests"},{"$f":"IF('Operation and Maintenance'!D36>0,'Operation and Maintenance'!D36,\"\")","v":""},{"$f":"IF('Operation and Maintenance'!E36>0,'Operation and Maintenance'!E36,\"\")","v":"Asthma risks, pest control"},{"$f":"IF('Operation and Maintenance'!F36>0,'Operation and Maintenance'!F36,\"\")","v":"Lease up & annual"},{"$f":"IF('Operation and Maintenance'!H36>0,'Operation and Maintenance'!H36,\"\")","v":""}]
[{"$f":"IF('Operation and Maintenance'!D37=\"Yes\",1,0)","v":0},null,null,null,{"$f":"IF('Operation and Maintenance'!B37>0,'Operation and Maintenance'!B37,\"\")","v":"Adopt an integrated pest management scope of work"},{"$f":"IF('Operation and Maintenance'!C37>0,'Operation and Maintenance'!C37,\"\")","v":"Health - Pests"},{"$f":"IF('Operation and Maintenance'!D37>0,'Operation and Maintenance'!D37,\"\")","v":""},{"$f":"IF('Operation and Maintenance'!E37>0,'Operation and Maintenance'!E37,\"\")","v":"Asthma risks, pest control"},{"$f":"IF('Operation and Maintenance'!F37>0,'Operation and Maintenance'!F37,\"\")","v":"Pest contract"},{"$f":"IF('Operation and Maintenance'!H37>0,'Operation and Maintenance'!H37,\"\")","v":"NYCDOHMH Toolkit"}]
[{"$f":"IF('Operation and Maintenance'!D38=\"Yes\",1,0)","v":0},null,null,null,{"$f":"IF('Operation and Maintenance'!B38>0,'Operation and Maintenance'!B38,\"\")","v":"Ensure garbage room is properly maintained through maintenance and ensure waste storage capacity meets the needs of the building"},{"$f":"IF('Operation and Maintenance'!C38>0,'Operation and Maintenance'!C38,\"\")","v":"Health - Pests"},{"$f":"IF('Operation and Maintenance'!D38>0,'Operation and Maintenance'!D38,\"\")","v":""},{"$f":"IF('Operation and Maintenance'!E38>0,'Operation and Maintenance'!E38,\"\")","v":"Asthma risks, pest control"},{"$f":"IF('Operation and Maintenance'!F38>0,'Operation and Maintenance'!F38,\"\")","v":"6 months"},{"$f":"IF('Operation and Maintenance'!H38>0,'Operation and Maintenance'!H38,\"\")","v":""}]
[{"$f":"IF('Operation and Maintenance'!D39=\"Yes\",1,0)","v":0},null,null,null,{"$f":"IF('Operation and Maintenance'!B39>0,'Operation and Maintenance'!B39,\"\")","v":"Institute an off gassing period for units before occupancy after rehabilitation, especially after carpeting, painting, and floor work"},{"$f":"IF('Operation and Maintenance'!C39>0,'Operation and Maintenance'!C39,\"\")","v":"Health - Hazardous Materials and Conditions"},{"$f":"IF('Operation and Maintenance'!D39>0,'Operation and Maintenance'!D39,\"\")","v":""},{"$f":"IF('Operation and Maintenance'!E39>0,'Operation and Maintenance'!E39,\"\")","v":"Respiratory and other health risks"},{"$f":"IF('Operation and Maintenance'!F39>0,'Operation and Maintenance'!F39,\"\")","v":"Post rehab"},{"$f":"IF('Operation and Maintenance'!H39>0,'Operation and Maintenance'!H39,\"\")","v":"NYC Local Law 2 (2012) - VOC Emissions Limits in Carpets and Carpet Cushions: https://www1.nyc.gov/site/doh/health/health-topics/air-quality-vocs-and-carpeting-what-consumers-and-the-public-should-know.page \nand https://www1.nyc.gov/assets/buildings/local_laws/ll2of2012.pdf \n\nFloor Refinishing and Moisture-Cure Urethanes: https://www1.nyc.gov/site/doh/health/health-topics/floor-refinishing.page \n"}]
[{"$f":"IF('Operation and Maintenance'!D40=\"Yes\",1,0)","v":0},null,null,null,{"$f":"IF('Operation and Maintenance'!B40>0,'Operation and Maintenance'!B40,\"\")","v":"Ensure carbon monoxide (CO) detectors are installed pursuant to code. Mitigate sources of CO build-up, i.e. back drafting, unventilated heaters, or other combustion effects. Educate tenants to report if their CO detector is going off."},{"$f":"IF('Operation and Maintenance'!C40>0,'Operation and Maintenance'!C40,\"\")","v":"Health - Hazardous Materials and Conditions"},{"$f":"IF('Operation and Maintenance'!D40>0,'Operation and Maintenance'!D40,\"\")","v":""},{"$f":"IF('Operation and Maintenance'!E40>0,'Operation and Maintenance'!E40,\"\")","v":"CO poisoning risks"},{"$f":"IF('Operation and Maintenance'!F40>0,'Operation and Maintenance'!F40,\"\")","v":"Annual inspection; Lease up"},{"$f":"IF('Operation and Maintenance'!H40>0,'Operation and Maintenance'!H40,\"\")","v":"http://www1.nyc.gov/site/hpd/owners/Smoke-carbon-monoxide-detectors.page"}]
[{"$f":"IF('Operation and Maintenance'!D41=\"Yes\",1,0)","v":0},null,null,null,{"$f":"IF('Operation and Maintenance'!B41>0,'Operation and Maintenance'!B41,\"\")","v":"Use green products in cleaning, rehab, repairs, painting.  Use low-/no-volatile organic compounds (VOCs), low/no formaldehyde in cleaning products, paint, sealants, adhesives, building materials.  "},{"$f":"IF('Operation and Maintenance'!C41>0,'Operation and Maintenance'!C41,\"\")","v":"Health - Hazardous Materials and Conditions"},{"$f":"IF('Operation and Maintenance'!D41>0,'Operation and Maintenance'!D41,\"\")","v":""},{"$f":"IF('Operation and Maintenance'!E41>0,'Operation and Maintenance'!E41,\"\")","v":"Respiratory and other health risks"},{"$f":"IF('Operation and Maintenance'!F41>0,'Operation and Maintenance'!F41,\"\")","v":"Ongoing"},{"$f":"IF('Operation and Maintenance'!H41>0,'Operation and Maintenance'!H41,\"\")","v":"http://programs.lisc.org/NYC/Images/Two_Shades_of_Green_-_Green_Cleaning_Toolkit.pdf; \nGreenseal; \nGreenshield; \nEPA Safer Choice; \nEPA Formaldehyde emissions standards for composite wood products: https://www.epa.gov/formaldehyde/formaldehyde-emission-standards-composite-wood-products "}]
[{"$f":"IF('Operation and Maintenance'!D42=\"Yes\",1,0)","v":0},null,null,null,{"$f":"IF('Operation and Maintenance'!B42>0,'Operation and Maintenance'!B42,\"\")","v":"Seal and clean ventilation ducts, can be HVAC or maintenance staff"},{"$f":"IF('Operation and Maintenance'!C42>0,'Operation and Maintenance'!C42,\"\")","v":"Health - Hazardous Materials and Conditions"},{"$f":"IF('Operation and Maintenance'!D42>0,'Operation and Maintenance'!D42,\"\")","v":""},{"$f":"IF('Operation and Maintenance'!E42>0,'Operation and Maintenance'!E42,\"\")","v":"Respiratory and other health risks"},{"$f":"IF('Operation and Maintenance'!F42>0,'Operation and Maintenance'!F42,\"\")","v":"Rehab, energy projects"},{"$f":"IF('Operation and Maintenance'!H42>0,'Operation and Maintenance'!H42,\"\")","v":""}]
[{"$f":"IF('Operation and Maintenance'!D43=\"Yes\",1,0)","v":0},null,null,null,{"$f":"IF('Operation and Maintenance'!B43>0,'Operation and Maintenance'!B43,\"\")","v":"Use no-VOC and no-formaldehyde paint, adhesives, sealants, cleaners, and products"},{"$f":"IF('Operation and Maintenance'!C43>0,'Operation and Maintenance'!C43,\"\")","v":"Health - Hazardous Materials and Conditions"},{"$f":"IF('Operation and Maintenance'!D43>0,'Operation and Maintenance'!D43,\"\")","v":""},{"$f":"IF('Operation and Maintenance'!E43>0,'Operation and Maintenance'!E43,\"\")","v":""},{"$f":"IF('Operation and Maintenance'!F43>0,'Operation and Maintenance'!F43,\"\")","v":""},{"$f":"IF('Operation and Maintenance'!H43>0,'Operation and Maintenance'!H43,\"\")","v":"EPA Formaldehyde emissions standards for composite wood products: https://www.epa.gov/formaldehyde/formaldehyde-emission-standards-composite-wood-products "}]
[{"$f":"IF('Operation and Maintenance'!D44=\"Yes\",1,0)","v":0},null,null,null,{"$f":"IF('Operation and Maintenance'!B44>0,'Operation and Maintenance'!B44,\"\")","v":"Lead:  In buildings constructed prior to 1978 (or 1960 in NYC), ensure that lead-safe renovation practices are utilized for any repairs that could disturb \nlead-based paint.  Have building maintenance staff trained and certified in EPA Renovation,  Repair and Painting (RRP).  "},{"$f":"IF('Operation and Maintenance'!C44>0,'Operation and Maintenance'!C44,\"\")","v":"Health - Hazardous Materials and Conditions"},{"$f":"IF('Operation and Maintenance'!D44>0,'Operation and Maintenance'!D44,\"\")","v":""},{"$f":"IF('Operation and Maintenance'!E44>0,'Operation and Maintenance'!E44,\"\")","v":"Neurological damage"},{"$f":"IF('Operation and Maintenance'!F44>0,'Operation and Maintenance'!F44,\"\")","v":"Rehab, annually for units occupied by young children"},{"$f":"IF('Operation and Maintenance'!H44>0,'Operation and Maintenance'!H44,\"\")","v":"In NYC, Local Law 1 of 2004 (the Lead Paint Law) requires owners to annually inspect units occupied by children under the age of six, to identify and fix lead paint hazards."}]
[{"$f":"IF('Operation and Maintenance'!D45=\"Yes\",1,0)","v":0},null,null,null,{"$f":"IF('Operation and Maintenance'!B45>0,'Operation and Maintenance'!B45,\"\")","v":"Ensure indoor and outdoor areas are well lit"},{"$f":"IF('Operation and Maintenance'!C45>0,'Operation and Maintenance'!C45,\"\")","v":"Health - Active Design Opportunities to Encourage Physical Activity"},{"$f":"IF('Operation and Maintenance'!D45>0,'Operation and Maintenance'!D45,\"\")","v":""},{"$f":"IF('Operation and Maintenance'!E45>0,'Operation and Maintenance'!E45,\"\")","v":"Encourage physical activity"},{"$f":"IF('Operation and Maintenance'!F45>0,'Operation and Maintenance'!F45,\"\")","v":"Rehab, ongoing"},{"$f":"IF('Operation and Maintenance'!H45>0,'Operation and Maintenance'!H45,\"\")","v":""}]
[{"$f":"IF('Operation and Maintenance'!D46=\"Yes\",1,0)","v":0},null,null,null,{"$f":"IF('Operation and Maintenance'!B46>0,'Operation and Maintenance'!B46,\"\")","v":"Ensure stairs are attractive option over elevators - located close to the entrance and well-lit (with daylight if possible); stair prompt signage"},{"$f":"IF('Operation and Maintenance'!C46>0,'Operation and Maintenance'!C46,\"\")","v":"Health - Active Design Opportunities to Encourage Physical Activity"},{"$f":"IF('Operation and Maintenance'!D46>0,'Operation and Maintenance'!D46,\"\")","v":""},{"$f":"IF('Operation and Maintenance'!E46>0,'Operation and Maintenance'!E46,\"\")","v":"Encourage physical activity"},{"$f":"IF('Operation and Maintenance'!F46>0,'Operation and Maintenance'!F46,\"\")","v":"Ongoing"},{"$f":"IF('Operation and Maintenance'!H46>0,'Operation and Maintenance'!H46,\"\")","v":"Stair prompt sign: www1.nyc.gov/assets/doh/downloads/pdf/tcny/takethestairs.pdf or call 311 to order signs in English or Spanish  \n\nNYC Active Design Guidelines - http://www1.nyc.gov/assets/doh/downloads/pdf/environmental/active-design-guidelines.pdf \n\nCenter for Active Design Guidelines:\nhttps://centerforactivedesign.org/dl/guidelines.pdf"}]
[{"$f":"IF('Operation and Maintenance'!D47=\"Yes\",1,0)","v":0},null,null,null,{"$f":"IF('Operation and Maintenance'!B47>0,'Operation and Maintenance'!B47,\"\")","v":"Install hand held and adjustable shower heads"},{"$f":"IF('Operation and Maintenance'!C47>0,'Operation and Maintenance'!C47,\"\")","v":"Health - Fall, Trip, and Fire Hazard"},{"$f":"IF('Operation and Maintenance'!D47>0,'Operation and Maintenance'!D47,\"\")","v":""},{"$f":"IF('Operation and Maintenance'!E47>0,'Operation and Maintenance'!E47,\"\")","v":"Reduce trip and fall risks"},{"$f":"IF('Operation and Maintenance'!F47>0,'Operation and Maintenance'!F47,\"\")","v":"Annual inspection"},{"$f":"IF('Operation and Maintenance'!H47>0,'Operation and Maintenance'!H47,\"\")","v":""}]
[{"$f":"IF('Operation and Maintenance'!D48=\"Yes\",1,0)","v":0},null,null,null,{"$f":"IF('Operation and Maintenance'!B48>0,'Operation and Maintenance'!B48,\"\")","v":"Install slip-resistant adhesive in dark or contrasting color at the edge of each stair"},{"$f":"IF('Operation and Maintenance'!C48>0,'Operation and Maintenance'!C48,\"\")","v":"Health - Fall, Trip, and Fire Hazard"},{"$f":"IF('Operation and Maintenance'!D48>0,'Operation and Maintenance'!D48,\"\")","v":""},{"$f":"IF('Operation and Maintenance'!E48>0,'Operation and Maintenance'!E48,\"\")","v":"Reduce trip and fall risks"},{"$f":"IF('Operation and Maintenance'!F48>0,'Operation and Maintenance'!F48,\"\")","v":"Annual inspection"},{"$f":"IF('Operation and Maintenance'!H48>0,'Operation and Maintenance'!H48,\"\")","v":""}]
[1]
[1,null,null,null,"Recommended Healthy Rehab Interventions"]
[1,null,null,null," ",null,null,"Impact / Potential Cost","Relevant NYC Code and Resources"]
[{"$f":"IF('Healthy Rehab Interventions '!C9=\"Yes\",1,0)","v":0},null,null,null,{"$f":"'Healthy Rehab Interventions '!B9","v":"Vent gas combustion appliances (boilers, hot water heater, stove top)"},null,null,{"$f":"'Healthy Rehab Interventions '!D9","v":"High Impact, Variable Cost"},{"$f":"IF('Healthy Rehab Interventions '!E9>0,'Healthy Rehab Interventions '!E9,\"\")","v":""}]
[{"$f":"IF('Healthy Rehab Interventions '!C10=\"Yes\",1,0)","v":0},null,null,null,{"$f":"'Healthy Rehab Interventions '!B10","v":"Remove carpet; make floors smooth and cleanable"},null,null,{"$f":"'Healthy Rehab Interventions '!D10","v":"Medium Impact, Variable cost"},{"$f":"IF('Healthy Rehab Interventions '!E10>0,'Healthy Rehab Interventions '!E10,\"\")","v":""}]
[{"$f":"IF('Healthy Rehab Interventions '!C11=\"Yes\",1,0)","v":0},null,null,null,{"$f":"'Healthy Rehab Interventions '!B11","v":"Replace gas stoves with electric"},null,null,{"$f":"'Healthy Rehab Interventions '!D11","v":"Medium Impact, High Cost"},{"$f":"IF('Healthy Rehab Interventions '!E11>0,'Healthy Rehab Interventions '!E11,\"\")","v":""}]
[{"$f":"IF('Healthy Rehab Interventions '!C12=\"Yes\",1,0)","v":0},null,null,null,{"$f":"'Healthy Rehab Interventions '!B12","v":"New building materials meet green and health standards (VOC, formaldehyde)"},null,null,{"$f":"'Healthy Rehab Interventions '!D12","v":"Medium Impact, Low Cost"},{"$f":"IF('Healthy Rehab Interventions '!E12>0,'Healthy Rehab Interventions '!E12,\"\")","v":"http://living-future.org/redlist"}]
[{"$f":"IF('Healthy Rehab Interventions '!C13=\"Yes\",1,0)","v":0},null,null,null,{"$f":"'Healthy Rehab Interventions '!B13","v":"Repair/replace roof top fans, and seal duct work"},null,null,{"$f":"'Healthy Rehab Interventions '!D13","v":"Medium Impact, Med-Hi Cost"},{"$f":"IF('Healthy Rehab Interventions '!E13>0,'Healthy Rehab Interventions '!E13,\"\")","v":""}]
[{"$f":"IF('Healthy Rehab Interventions '!C14=\"Yes\",1,0)","v":0},null,null,null,{"$f":"'Healthy Rehab Interventions '!B14","v":"Install constant airflow regulators w/ continuous exhausts"},null,null,{"$f":"'Healthy Rehab Interventions '!D14","v":"Medium Impact, Variable cost"},{"$f":"IF('Healthy Rehab Interventions '!E14>0,'Healthy Rehab Interventions '!E14,\"\")","v":"Cost decreases with scale"}]
[{"$f":"IF('Healthy Rehab Interventions '!C16=\"Yes\",1,0)","v":0},null,null,null,{"$f":"'Healthy Rehab Interventions '!B16","v":"Install enhanced air filtration in building ventilation/HVAC"},null,null,{"$f":"'Healthy Rehab Interventions '!D16","v":"High impact, medium cost"},{"$f":"IF('Healthy Rehab Interventions '!E16>0,'Healthy Rehab Interventions '!E16,\"\")","v":""}]
[{"$f":"IF('Healthy Rehab Interventions '!C17=\"Yes\",1,0)","v":0},null,null,null,{"$f":"'Healthy Rehab Interventions '!B17","v":"Locate exterior intake grilles to minimize intake of contaminants"},null,null,{"$f":"'Healthy Rehab Interventions '!D17","v":"Medium Impact, Variable Cost"},{"$f":"IF('Healthy Rehab Interventions '!E17>0,'Healthy Rehab Interventions '!E17,\"\")","v":""}]
[{"$f":"IF('Healthy Rehab Interventions '!C19=\"Yes\",1,0)","v":0},null,null,null,{"$f":"'Healthy Rehab Interventions '!B19","v":"Repair leaks, structural issues, water damage, radiator valves, drainage "},null,null,{"$f":"'Healthy Rehab Interventions '!D19","v":"High Impact, Variable Cost"},{"$f":"IF('Healthy Rehab Interventions '!E19>0,'Healthy Rehab Interventions '!E19,\"\")","v":"NYC Mold Guidelines - http://www1.nyc.gov/assets/doh/downloads/pdf/epi/epi-mold-guidelines.pdf \n\nEPA Mold/Moisture Guide - https://www.epa.gov/sites/production/files/2016-10/documents/moldguide12.pdf"}]
[{"$f":"IF('Healthy Rehab Interventions '!C20=\"Yes\",1,0)","v":0},null,null,null,{"$f":"'Healthy Rehab Interventions '!B20","v":"Repair/install ventilation/fans (bathroom, kitchen, dryer)"},null,null,{"$f":"'Healthy Rehab Interventions '!D20","v":"Medium Impact, Med-Hi Cost"},{"$f":"IF('Healthy Rehab Interventions '!E20>0,'Healthy Rehab Interventions '!E20,\"\")","v":""}]
[{"$f":"IF('Healthy Rehab Interventions '!C21=\"Yes\",1,0)","v":0},null,null,null,{"$f":"'Healthy Rehab Interventions '!B21","v":"Replace carpet with smooth flooring in wet areas (bath, kitchen); meet Enterprise Green Criteria standards"},null,null,{"$f":"'Healthy Rehab Interventions '!D21","v":"Medium Impact, Medium Cost"},{"$f":"IF('Healthy Rehab Interventions '!E21>0,'Healthy Rehab Interventions '!E21,\"\")","v":""}]
[{"$f":"IF('Healthy Rehab Interventions '!C22=\"Yes\",1,0)","v":0},null,null,null,{"$f":"'Healthy Rehab Interventions '!B22","v":"Steam leaks elimination- change radiator valve. "},null,null,{"$f":"'Healthy Rehab Interventions '!D22","v":"Medium Impact, Med-Hi Cost"},{"$f":"IF('Healthy Rehab Interventions '!E22>0,'Healthy Rehab Interventions '!E22,\"\")","v":""}]
[{"$f":"IF('Healthy Rehab Interventions '!C23=\"Yes\",1,0)","v":0},null,null,null,{"$f":"'Healthy Rehab Interventions '!B23","v":"Bath: Minimize moisture hold materials (tub surround, particle board vanity)"},null,null,{"$f":"'Healthy Rehab Interventions '!D23","v":"Medium Impact, Variable cost"},{"$f":"IF('Healthy Rehab Interventions '!E23>0,'Healthy Rehab Interventions '!E23,\"\")","v":"NYC LL13 (2014) - Requires the use of mold-resistant materials in moisture-prone locations: https://www1.nyc.gov/assets/buildings/local_laws/ll13of2014.pdf "}]
[{"$f":"IF('Healthy Rehab Interventions '!C25=\"Yes\",1,0)","v":0},null,null,null,{"$f":"'Healthy Rehab Interventions '!B25","v":"Pest proof exterior doorways. Install door sweeps and pest resistant door brushes to all exterior doors and waste storage areas. Ensure entryway thresholds are sealed properly."},null,null,{"$f":"'Healthy Rehab Interventions '!D25","v":"High-impact, Low Cost"},{"$f":"IF('Healthy Rehab Interventions '!E25>0,'Healthy Rehab Interventions '!E25,\"\")","v":"NYC DOHMH IPM Toolkit, Pest Prevention By Design Guidelines"}]
[{"$f":"IF('Healthy Rehab Interventions '!C26=\"Yes\",1,0)","v":0},null,null,null,{"$f":"'Healthy Rehab Interventions '!B26","v":"Prevent pest access from sub-areas into living areas through exclusion and the use of pest resistant materials "},null,null,{"$f":"'Healthy Rehab Interventions '!D26","v":"High Impact, Low Cost"},{"$f":"IF('Healthy Rehab Interventions '!E26>0,'Healthy Rehab Interventions '!E26,\"\")","v":""}]
[{"$f":"IF('Healthy Rehab Interventions '!C27=\"Yes\",1,0)","v":0},null,null,null,{"$f":"'Healthy Rehab Interventions '!B27","v":"Seal all joint penetrations with low VOC caulk."},null,null,{"$f":"'Healthy Rehab Interventions '!D27","v":"High Impact, Low cost"},{"$f":"IF('Healthy Rehab Interventions '!E27>0,'Healthy Rehab Interventions '!E27,\"\")","v":""}]
[{"$f":"IF('Healthy Rehab Interventions '!C28=\"Yes\",1,0)","v":0},null,null,null,{"$f":"'Healthy Rehab Interventions '!B28","v":"Pest proof units and common areas using guidelines presented in the NYC DOHMH IPM Toolkit “Pest Proofing Tips for Owners and Staff”"},null,null,{"$f":"'Healthy Rehab Interventions '!D28","v":"High impact, medium cost"},{"$f":"IF('Healthy Rehab Interventions '!E28>0,'Healthy Rehab Interventions '!E28,\"\")","v":""}]
[{"$f":"IF('Healthy Rehab Interventions '!C29=\"Yes\",1,0)","v":0},null,null,null,{"$f":"'Healthy Rehab Interventions '!B29","v":"Properly install all unit fixtures, including kitchen cabinetry, radiators, sinks, and flooring to prevent pest access and harborage into and through units. Provide QA on unit interiors to guarantee pest prevention."},null,null,{"$f":"'Healthy Rehab Interventions '!D29","v":"High Impact, Low cost"},{"$f":"IF('Healthy Rehab Interventions '!E29>0,'Healthy Rehab Interventions '!E29,\"\")","v":""}]
[{"$f":"IF('Healthy Rehab Interventions '!C30=\"Yes\",1,0)","v":0},null,null,null,{"$f":"'Healthy Rehab Interventions '!B30","v":"Seal utility lines entering apartments to prevent pest access into and through units"},null,null,{"$f":"'Healthy Rehab Interventions '!D30","v":"High Impact, Low cost"},{"$f":"IF('Healthy Rehab Interventions '!E30>0,'Healthy Rehab Interventions '!E30,\"\")","v":""}]
[{"$f":"IF('Healthy Rehab Interventions '!C31=\"Yes\",1,0)","v":0},null,null,null,{"$f":"'Healthy Rehab Interventions '!B31","v":"Ensure building has enough storage capacity for waste generated by the building and the means to clean waste storage areas. Renovate waste storage areas to improve capacity and improve waste storage sanitation."},null,null,{"$f":"'Healthy Rehab Interventions '!D31","v":"High Impact, Medium-Hi Cost"},{"$f":"IF('Healthy Rehab Interventions '!E31>0,'Healthy Rehab Interventions '!E31,\"\")","v":""}]
[{"$f":"IF('Healthy Rehab Interventions '!C32=\"Yes\",1,0)","v":0},null,null,null,{"$f":"'Healthy Rehab Interventions '!B32","v":"Use durable pest resistant materials for all renovation work."},null,null,{"$f":"'Healthy Rehab Interventions '!D32","v":"High Impact, Medium Cost"},{"$f":"IF('Healthy Rehab Interventions '!E32>0,'Healthy Rehab Interventions '!E32,\"\")","v":""}]
[{"$f":"IF('Healthy Rehab Interventions '!C34=\"Yes\",1,0)","v":0},null,null,null,{"$f":"'Healthy Rehab Interventions '!B34","v":"Hire lead-paint professional to abate or implement lead hazard control measures.  For NYC, see Local Law 1 (2004) for building owner requirements."},null,null,{"$f":"'Healthy Rehab Interventions '!D34","v":"High Impact, Med-Hi Cost"},{"$f":"IF('Healthy Rehab Interventions '!E34>0,'Healthy Rehab Interventions '!E34,\"\")","v":"http://www1.nyc.gov/site/hpd/owners/Lead-Based-Paint.page"}]
[{"$f":"IF('Healthy Rehab Interventions '!C35=\"Yes\",1,0)","v":0},null,null,null,{"$f":"'Healthy Rehab Interventions '!B35","v":"Hire asbestos specialists to inspect, test and remove any asbestos in non intact condition or that may be disrupted during other rehab work."},null,null,{"$f":"'Healthy Rehab Interventions '!D35","v":"Medium Impact, High Cost"},{"$f":"IF('Healthy Rehab Interventions '!E35>0,'Healthy Rehab Interventions '!E35,\"\")","v":"http://www.nyc.gov/html/fdny/pdf/cda/atru_guidance_document_final.pdf"}]
[{"$f":"IF('Healthy Rehab Interventions '!C36=\"Yes\",1,0)","v":0},null,null,null,{"$f":"'Healthy Rehab Interventions '!B36","v":"Repair /install carbon monoxide alarms"},null,null,{"$f":"'Healthy Rehab Interventions '!D36","v":"High Impact, Low Cost per Unit"},{"$f":"IF('Healthy Rehab Interventions '!E36>0,'Healthy Rehab Interventions '!E36,\"\")","v":"http://www1.nyc.gov/site/hpd/owners/Smoke-carbon-monoxide-detectors.page"}]
[{"$f":"IF('Healthy Rehab Interventions '!C38=\"Yes\",1,0)","v":0},null,null,null,{"$f":"'Healthy Rehab Interventions '!B38","v":"Stairways: improve lighting, access, appeal, safety"},null,null,{"$f":"'Healthy Rehab Interventions '!D38","v":"Medium Impact, Low Cost"},{"$f":"IF('Healthy Rehab Interventions '!E38>0,'Healthy Rehab Interventions '!E38,\"\")","v":"NYC Active Design Guidelines - http://www1.nyc.gov/assets/doh/downloads/pdf/environmental/active-design-guidelines.pdf   \nCenter for Active Design Guidelines:\nhttps://centerforactivedesign.org/dl/guidelines.pdf"}]
[{"$f":"IF('Healthy Rehab Interventions '!C39=\"Yes\",1,0)","v":0},null,null,null,{"$f":"'Healthy Rehab Interventions '!B39","v":"Create added indoor and exterior play areas, exterior gardens"},null,null,{"$f":"'Healthy Rehab Interventions '!D39","v":"Medium Impact, Med-Hi Cost"},{"$f":"IF('Healthy Rehab Interventions '!E39>0,'Healthy Rehab Interventions '!E39,\"\")","v":""}]
[{"$f":"IF('Healthy Rehab Interventions '!C40=\"Yes\",1,0)","v":0},null,null,null,{"$f":"'Healthy Rehab Interventions '!B40","v":"Improve daylighting "},null,null,{"$f":"'Healthy Rehab Interventions '!D40","v":"Low impact, Variable Cost"},{"$f":"IF('Healthy Rehab Interventions '!E40>0,'Healthy Rehab Interventions '!E40,\"\")","v":""}]
[{"$f":"IF('Healthy Rehab Interventions '!C41=\"Yes\",1,0)","v":0},null,null,null,{"$f":"'Healthy Rehab Interventions '!B41","v":"Add vegetation to landscaping plans "},null,null,{"$f":"'Healthy Rehab Interventions '!D41","v":"Low impact, low cost"},{"$f":"IF('Healthy Rehab Interventions '!E41>0,'Healthy Rehab Interventions '!E41,\"\")","v":""}]
[{"$f":"IF('Healthy Rehab Interventions '!C42=\"Yes\",1,0)","v":0},null,null,null,{"$f":"'Healthy Rehab Interventions '!B42","v":"Provide secure, ground-floor parking areas for bicycles"},null,null,{"$f":"'Healthy Rehab Interventions '!D42","v":"Low impact, low cost"},{"$f":"IF('Healthy Rehab Interventions '!E42>0,'Healthy Rehab Interventions '!E42,\"\")","v":""}]
[{"$f":"IF('Healthy Rehab Interventions '!C44=\"Yes\",1,0)","v":0},null,null,null,{"$f":"'Healthy Rehab Interventions '!B44","v":"Install dual stairway handrails; slip resistant stairs "},null,null,{"$f":"'Healthy Rehab Interventions '!D44","v":"High impact, medium cost"},{"$f":"IF('Healthy Rehab Interventions '!E44>0,'Healthy Rehab Interventions '!E44,\"\")","v":""}]
[{"$f":"IF('Healthy Rehab Interventions '!C45=\"Yes\",1,0)","v":0},null,null,null,{"$f":"'Healthy Rehab Interventions '!B45","v":"Repair faulty wiring"},null,null,{"$f":"'Healthy Rehab Interventions '!D45","v":"High impact, medium cost"},{"$f":"IF('Healthy Rehab Interventions '!E45>0,'Healthy Rehab Interventions '!E45,\"\")","v":""}]
[{"$f":"IF('Healthy Rehab Interventions '!C46=\"Yes\",1,0)","v":0},null,null,null,{"$f":"'Healthy Rehab Interventions '!B46","v":"Incorporate age-friendly elements in ground floor units, i.e. accessible walk-in showers with no threshold or compressible rubber threshold; wider doorways; grab bars at tubs, showers and toilets "},null,null,{"$f":"'Healthy Rehab Interventions '!D46","v":"High impact, high cost"},{"$f":"IF('Healthy Rehab Interventions '!E46>0,'Healthy Rehab Interventions '!E46,\"\")","v":"NYC Aging in Place Guide for Building Owners - http://www.nyc.gov/html/dfta/downloads/pdf/publications/AIPGuide2016.pdf"}]
[{"$f":"IF('Healthy Rehab Interventions '!C47=\"Yes\",1,0)","v":0},null,null,null,{"$f":"'Healthy Rehab Interventions '!B47","v":"Ensure light switches are located close to room entrances and outlets are placed at accessible height; occupancy sensor bath light "},null,null,{"$f":"'Healthy Rehab Interventions '!D47","v":"Medium impact, low cost"},{"$f":"IF('Healthy Rehab Interventions '!E47>0,'Healthy Rehab Interventions '!E47,\"\")","v":""}]
[{"$f":"IF('Healthy Rehab Interventions '!C48=\"Yes\",1,0)","v":0},null,null,null,{"$f":"'Healthy Rehab Interventions '!B48","v":"Install reinforcements for potential future grab bar installation in bathroom walls. Grab bars must be securely anchored to wall studs or masonry."},null,null,{"$f":"'Healthy Rehab Interventions '!D48","v":"Medium impact, medium cost"},{"$f":"IF('Healthy Rehab Interventions '!E48>0,'Healthy Rehab Interventions '!E48,\"\")","v":""}]
[{"$f":"IF('Healthy Rehab Interventions '!C49=\"Yes\",1,0)","v":0},null,null,null,{"$f":"'Healthy Rehab Interventions '!B49","v":"Temperature-controlled water faucets"},null,null,{"$f":"'Healthy Rehab Interventions '!D49","v":"Low impact, low cost"},{"$f":"IF('Healthy Rehab Interventions '!E49>0,'Healthy Rehab Interventions '!E49,\"\")","v":""}]
[1]
[1]
[1]
[1]
[1]

{"sheet":"Executive Summary Cont'd","index":4,"n_rows":94,"n_cols":10,"rows_kept":94,"cut":false,"hidden":false,"merged":[[30,1,32,6],[28,1,28,6],[42,1,42,6],[24,8,25,8],[5,1,5,6],[9,8,9,9],[9,6,10,6],[9,1,10,1],[24,9,25,9],[4,1,4,6],[93,1,93,6],[54,1,60,6],[85,1,86,6],[87,1,88,6],[89,1,90,6],[91,1,92,6],[63,1,63,6],[65,1,71,6],[74,1,74,6],[76,1,82,6],[9,2,9,5],[25,1,25,6],[52,1,52,6],[34,1,39,6],[44,1,49,6]]}
[]
[null,"Instructions / Definitions / Notes"]
[null,"1. Mark the condition of each building element in the table below by putting an X in the appropriate column."]
[null,"2. Describe maintenance, accessibility, violations, FEMA compliance, and Appendix G compliance in the blue boxes in rows 29-81."]
[null,"3. It is expected that two entities will complete this report.  The Needs Assessor is a firm or individual qualified to perform the physical needs assessment.  The Energy Assessor is a firm or individual qualified to perform the energy/water assessment.  The Division of Responsibility table below describes which Assessor should complete each portion of this table, and by extension, who should complete the related portions of this tool."]
[null,"4. Use the notes column to describe the condition."]
[]
[null,"EXECUTIVE SUMMARY CONTINUED"]
[]
[null,"Scope (major elements per ASTM E2018)","Condition *",null,null,null,"Notes",null,"Division of Responsibility"]
[null,null,"Poor","Average","Good","Not Applicable",null,null,"Responsibility","Scope"]
[null,"Site (except lighting)",null,null,null,null,null,null,"Needs Assessor"]
[null,"Structural Frame and Building Envelope (except windows and insulation)",null,null,null,null,null,null,"Needs Assessor"]
[null,"Windows and Insulation",null,null,null,null,null,null,"Energy Assessor","EA is responsible for all aspects of windows, including function, not only energy aspects"]
[null,"Roofing (except insulation)",null,null,null,null,null,null,"Needs Assessor"]
[null,"Plumbing (except domestic hot water)",null,null,null,null,null,null,"Needs Assessor"]
[null,"Domestic Hot Water",null,null,null,null,null,null,"Energy Assessor"]
[null,"Heating",null,null,null,null,null,null,"Energy Assessor"]
[null,"Air Conditioning",null,null,null,null,null,null,"Energy Assessor"]
[null,"Ventilation",null,null,null,null,null,null,"Energy Assessor"]
[null,"Electrical (except lighting)",null,null,null,null,null,null,"Needs Assessor","Includes electrical service, panels, distribution within the building, and elements such as receptacles."]
[null,"Lighting (including controls and site lighting)",null,null,null,null,null,null,"Energy Assessor"]
[null,"Vertical Transportation",null,null,null,null,null,null,"Needs Assessor"]
[null,"Life Safety / Fire Protection",null,null,null,null,null,null,"Needs Assessor"]
[null,"Interior Elements ",null,null,null,null,null,null,"Needs Assessor","From ASTM Standard 2018-15:  \"8.4.10.1 Observe typical common areas including, but not limited to, lobbies, corridors, assembly areas, and restrooms. Identify and observe typical finishes, that is, flooring, ceilings, walls, etc., and material building amenities or special features, that is spas, fountains, clubs, shops, restaurants, etc.\""]
[null,"*Good condition—in working condition and does not require immediate or short term repairs; Average condition—in working condition, but may require immediate or short term repairs; Poor condition—not in working condition or requires immediate or short term repairs."]
[]
[null,"MAINTENANCE OVERVIEW"]
[null,"Provide an overview of the maintenance of the property, including existing staff and maintenance and/or janitorial contracts.  Document existing practices, products, and outcomes, including the type of products used, and pest management strategies."]
[null,"Maintenance and/or janitorial contracts:"]
[]
[]
[]
[null,"Maintenance issues:"]
[]
[]
[]
[]
[]
[]
[]
[null,"ACCESSIBILITY"]
[null,"Outline the existing ADA accessibility and identify any outstanding accessibility issues."]
[null,"Existing accessibility:"]
[]
[]
[]
[]
[]
[]
[]
[null,"VIOLATIONS"]
[null,"Provide a summary of any open violations."]
[null,"Open violations:"]
[]
[]
[]
[]
[]
[]
[]
[]
[null,"FEMA COMPLIANCE"]
[null,"Provide a summary of any building characteristics that place the building out of compliance with the FEMA National Flood Insurance Program "]
[null,"Compliance Issues: "]
[]
[]
[]
[]
[]
[]
[]
[]
[null,"APPENDIX G COMPLAINCE"]
[null,"Provide a summary of any building characteristics that place the building out of compliance with the Appendix G of New York City Building Code for Substantial Improvement of buildings in Special Flood Hazard Areas"]
[null,"Compliance Issues:"]
[]
[]
[]
[]
[]
[]
[]
[]
[null,"IMPLEMENTATION"]
[null,"Many resources are available to assist developers in proceeding to implement recommendations in this Integrated Physical Needs Assessment, to upgrade our low and moderate income housing stock, to reduce energy and water use, and improve health and safety in them."]
[]
[null,"• Housing finance agencies provide guidance and oversight for renovation projects and can provide access to financial resources such as tax credits."]
[]
[null,"• Financing can be provided through organizations that specialize in low and moderate income housing, such as CPC and NYCEEC, as well as by traditional banks."]
[]
[null,"• In New York City, the NYC Retrofit Accelerator offers free, personalized advisory services that streamline the process of making energy efficiency improvements to your building that will reduce operating costs, enhance tenant comfort, and improve our environment."]
[]
[null,"• Across New York State, NYSERDA provides a variety of services and support for energy projects. Electric and gas utilities are also under mandate to support energy projects with a variety of incentives."]

{"sheet":"Inspection - Physical Needs","index":5,"n_rows":268,"n_cols":17,"rows_kept":268,"cut":false,"hidden":false,"merged":[[5,2,5,16],[260,1,260,16],[264,1,264,16],[48,1,48,3],[70,1,70,3],[70,7,70,12],[69,13,74,16],[60,4,60,9],[61,4,61,9],[62,4,62,9],[69,7,69,12],[57,4,57,6],[58,4,58,6],[119,4,119,6],[89,4,89,6],[90,4,90,6],[148,4,148,6],[49,13,49,16],[50,4,50,6],[50,7,50,12],[51,4,51,6],[51,7,51,12],[50,13,52,16],[52,4,52,6],[111,4,111,6],[111,7,111,12],[91,4,91,6],[92,4,92,6],[93,4,93,6],[111,13,115,16],[112,4,112,6],[112,7,112,12],[256,1,256,16],[110,4,110,6],[110,7,110,12],[96,10,96,12],[102,7,102,9],[102,10,102,12],[124,4,124,6],[124,7,124,12],[121,13,121,16],[122,4,122,6],[122,7,122,12],[122,13,129,16],[125,4,125,6],[123,4,123,6],[121,4,121,6],[121,7,121,12],[29,7,29,12],[30,4,30,6],[30,7,30,12],[41,4,41,6],[42,4,42,6],[49,4,49,6],[65,4,65,9],[66,4,66,9],[67,4,67,9],[63,4,63,9],[49,7,49,12],[55,4,55,6],[55,7,55,12],[54,4,54,6],[54,7,54,12],[52,7,52,12],[53,7,53,12],[64,4,64,9],[56,7,56,12],[57,7,57,12],[58,7,58,12],[60,10,60,16],[61,10,67,16],[32,13,48,16],[25,4,25,6],[26,4,26,6],[31,4,31,6],[32,4,32,6],[33,4,33,6],[43,4,43,6],[56,4,56,6],[39,4,39,6],[40,4,40,6],[28,4,28,6],[36,4,36,6],[34,4,34,6],[35,4,35,6],[29,4,29,6],[37,4,37,6],[38,4,38,6],[20,7,20,12],[28,13,30,16],[33,7,33,12],[34,7,34,12],[35,7,35,12],[36,7,36,12],[47,1,47,3],[47,4,47,6],[40,7,40,12],[41,7,41,12],[42,7,42,12],[43,7,43,12],[44,7,44,12],[45,7,45,12],[46,7,46,12],[45,4,45,6],[46,4,46,6],[44,4,44,6],[29,1,29,3],[30,1,30,3],[31,1,31,3],[38,7,38,12],[39,7,39,12],[28,7,28,12],[12,7,12,12],[13,7,13,12],[14,7,14,12],[15,7,15,12],[16,7,16,12],[17,7,17,12],[18,7,18,12],[19,7,19,12],[18,4,18,6],[19,4,19,6],[11,13,11,16],[12,13,26,16],[27,4,27,6],[27,7,27,12],[27,13,27,16],[21,7,21,12],[22,7,22,12],[23,7,23,12],[24,7,24,12],[25,7,25,12],[26,7,26,12],[20,4,20,6],[21,4,21,6],[22,4,22,6],[23,4,23,6],[24,4,24,6],[11,7,11,12],[11,4,11,6],[12,4,12,6],[13,4,13,6],[14,4,14,6],[15,4,15,6],[16,4,16,6],[17,4,17,6],[82,4,82,15],[47,7,47,12],[48,7,48,12],[31,13,31,16],[73,7,73,12],[74,7,74,12],[72,7,72,12],[32,7,32,12],[37,7,37,12],[68,7,68,12],[31,7,31,12],[53,13,53,16],[54,13,58,16],[68,13,68,16],[71,7,71,12],[94,1,94,3],[79,4,79,15],[110,13,110,16],[108,10,108,12],[53,4,53,6],[116,13,116,16],[117,7,117,12],[118,4,118,6],[118,7,118,12],[117,4,117,6],[116,7,116,12],[116,4,116,6],[113,4,113,6],[113,7,113,12],[114,4,114,6],[114,7,114,12],[115,4,115,6],[115,7,115,12],[117,13,120,16],[119,7,119,12],[120,4,120,6],[120,7,120,12],[80,4,80,15],[81,4,81,15],[95,1,95,3],[95,4,95,6],[95,7,95,9],[95,10,95,12],[96,1,96,3],[96,4,96,6],[96,7,96,9],[106,1,106,3],[106,4,106,6],[123,7,123,12],[146,4,146,6],[146,7,146,12],[137,7,137,12],[138,4,138,6],[138,7,138,12],[142,7,142,12],[132,7,132,12],[133,4,133,6],[144,4,144,6],[133,7,133,12],[136,7,136,12],[142,13,142,16],[143,13,148,16],[140,4,140,16],[141,4,141,16],[144,7,144,12],[145,4,145,6],[145,7,145,12],[139,4,139,16],[137,4,137,6],[142,4,142,6],[131,13,138,16],[134,4,134,6],[136,4,136,6],[134,7,134,12],[135,4,135,6],[135,7,135,12],[143,4,143,6],[143,7,143,12],[147,4,147,6],[147,7,147,12],[148,7,148,12],[132,4,132,6],[131,4,131,6],[131,7,131,12],[176,13,184,16],[186,13,186,16],[180,4,180,12],[181,4,181,12],[182,4,182,12],[183,4,183,12],[184,4,184,12],[170,7,170,12],[168,4,168,6],[168,7,168,12],[169,4,169,6],[169,7,169,12],[173,4,173,6],[173,7,173,12],[175,13,175,16],[186,4,186,6],[186,7,186,12],[175,4,175,12],[176,4,176,12],[177,4,177,12],[168,13,173,16],[178,4,178,12],[187,4,187,6],[187,7,187,12],[188,4,188,6],[188,7,188,12],[189,4,189,6],[189,7,189,12],[190,4,190,6],[197,4,197,6],[197,7,197,12],[191,4,191,6],[191,7,191,12],[205,1,205,3],[207,1,207,3],[195,1,195,3],[196,1,196,3],[197,1,197,3],[199,1,199,3],[186,1,186,3],[187,1,187,3],[188,1,188,3],[189,1,189,3],[190,1,190,3],[191,1,191,3],[192,1,192,3],[193,1,193,3],[194,1,194,3],[208,1,208,3],[209,1,209,3],[210,1,210,3],[211,1,211,3],[213,1,213,3],[214,1,214,3],[215,1,215,3],[216,1,216,3],[218,1,218,3],[217,1,217,3],[149,13,149,16],[149,7,149,12],[150,7,150,12],[168,1,168,3],[148,1,148,3],[149,1,149,3],[151,7,151,12],[155,7,155,12],[152,7,152,12],[160,1,160,3],[153,7,153,12],[154,7,154,12],[150,13,155,16],[151,1,151,3],[152,1,152,3],[153,1,153,3],[154,1,154,3],[155,1,155,3],[156,1,156,3],[158,1,158,16],[159,1,159,3],[150,1,150,3],[161,1,161,3],[159,4,159,16],[44,1,44,3],[45,1,45,3],[46,1,46,3],[32,1,32,3],[33,1,33,3],[34,1,34,3],[35,1,35,3],[36,1,36,3],[37,1,37,3],[39,1,39,3],[40,1,40,3],[38,1,38,3],[147,1,147,3],[143,1,143,3],[144,1,144,3],[145,1,145,3],[137,1,137,3],[138,1,138,3],[61,1,61,3],[62,1,62,3],[63,1,63,3],[124,1,124,3],[110,1,110,3],[111,1,111,3],[112,1,112,3],[113,1,113,3],[114,1,114,3],[115,1,115,3],[116,1,116,3],[117,1,117,3],[118,1,118,3],[119,1,119,3],[120,1,120,3],[121,1,121,3],[122,1,122,3],[123,1,123,3],[142,1,142,3],[129,1,129,3],[130,1,130,3],[131,1,131,3],[132,1,132,3],[133,1,133,3],[134,1,134,3],[135,1,135,3],[146,1,146,3],[139,1,139,3],[140,1,140,3],[141,1,141,3],[136,1,136,3],[125,1,125,3],[126,1,126,3],[127,1,127,3],[130,13,130,16],[129,4,129,6],[130,4,130,6],[127,4,127,6],[127,7,127,12],[128,4,128,6],[126,7,126,12],[128,7,128,12],[129,7,129,12],[130,7,130,12],[125,7,125,12],[126,4,126,6],[156,4,156,16],[170,4,170,6],[179,1,179,3],[180,1,180,3],[181,1,181,3],[179,4,179,12],[171,4,171,6],[171,7,171,12],[172,4,172,6],[172,7,172,12],[162,1,162,3],[163,1,163,3],[164,1,164,3],[165,1,165,3],[167,1,167,3],[176,1,176,3],[177,1,177,3],[178,1,178,3],[160,4,160,16],[161,4,161,16],[162,4,162,16],[171,1,171,3],[172,1,172,3],[173,1,173,3],[214,4,214,6],[214,7,214,12],[215,4,215,6],[215,7,215,12],[216,4,216,6],[216,7,216,12],[214,13,218,16],[208,4,208,6],[208,7,208,12],[209,4,209,6],[209,7,209,12],[208,13,211,16],[210,4,210,6],[210,7,210,12],[211,4,211,6],[211,7,211,12],[217,4,217,6],[217,7,217,12],[213,4,213,6],[213,7,213,12],[213,13,213,16],[244,10,244,16],[245,4,245,9],[245,10,245,16],[246,4,246,9],[246,10,246,16],[247,4,247,9],[247,10,247,16],[247,1,247,3],[241,1,246,2],[2,2,2,16],[89,7,89,9],[90,7,90,9],[91,7,91,9],[92,7,92,9],[93,7,93,9],[94,7,94,9],[94,10,94,12],[93,10,93,12],[92,10,92,12],[91,10,91,12],[90,10,90,12],[89,10,89,12],[4,2,4,16],[92,1,92,3],[93,1,93,3],[19,1,19,3],[20,1,20,3],[21,1,21,3],[22,1,22,3],[23,1,23,3],[24,1,24,3],[25,1,25,3],[43,1,43,3],[14,1,14,3],[15,1,15,3],[238,10,238,16],[240,1,240,16],[250,1,250,3],[250,4,250,9],[250,10,250,16],[249,1,249,3],[249,4,249,9],[249,10,249,16],[200,1,200,3],[201,1,201,3],[128,1,128,3],[228,4,228,9],[228,10,228,16],[229,1,229,16],[202,1,202,3],[203,1,203,3],[204,1,204,3],[225,4,225,9],[225,10,225,16],[226,4,226,9],[231,4,231,9],[232,4,232,9],[3,2,3,16],[64,1,64,3],[65,1,65,3],[66,1,66,3],[72,1,72,3],[67,1,67,3],[68,1,68,3],[69,1,69,3],[71,1,71,3],[56,1,56,3],[49,1,49,3],[50,1,50,3],[51,1,51,3],[52,1,52,3],[53,1,53,3],[54,1,54,3],[11,1,11,3],[12,1,12,3],[13,1,13,3],[26,1,26,3],[27,1,27,3],[28,1,28,3],[41,1,41,3],[42,1,42,3],[16,1,16,3],[17,1,17,3],[18,1,18,3],[248,1,248,3],[248,4,248,9],[248,10,248,16],[220,4,220,6],[220,7,220,12],[220,13,220,16],[221,1,221,3],[221,4,221,6],[221,7,221,12],[222,1,222,3],[222,4,222,6],[222,7,222,12],[233,4,233,9],[233,10,233,16],[227,4,227,9],[227,10,227,16],[224,1,224,16],[226,1,228,2],[225,1,225,3],[81,1,81,3],[82,1,82,3],[83,4,83,15],[84,4,84,15],[85,4,85,15],[85,1,85,3],[90,13,109,16],[105,7,105,9],[105,10,105,12],[89,13,89,16],[88,1,88,16],[89,1,89,3],[94,4,94,6],[107,1,107,3],[107,4,107,6],[107,7,107,9],[107,10,107,12],[108,1,108,3],[108,4,108,6],[108,7,108,9],[103,1,103,3],[103,4,103,6],[90,1,90,3],[91,1,91,3],[106,7,106,9],[106,10,106,12],[57,1,57,3],[58,1,58,3],[59,1,59,16],[60,1,60,3],[74,1,74,3],[73,1,73,3],[77,1,77,16],[79,1,79,3],[80,1,80,3],[78,1,78,3],[78,4,78,15],[204,4,204,6],[204,7,204,12],[205,4,205,6],[205,7,205,12],[199,13,199,16],[200,13,205,16],[207,4,207,6],[207,7,207,12],[207,13,207,16],[199,4,199,6],[199,7,199,12],[200,4,200,6],[200,7,200,12],[201,4,201,6],[201,7,201,12],[202,4,202,6],[202,7,202,12],[203,4,203,6],[203,7,203,12],[221,13,222,16],[220,1,220,3],[175,1,175,3],[164,4,164,16],[165,4,165,16],[167,4,167,6],[167,7,167,12],[167,13,167,16],[192,4,192,6],[196,4,196,6],[196,7,196,12],[169,1,169,3],[170,1,170,3],[182,1,182,3],[183,1,183,3],[190,7,190,12],[187,13,197,16],[192,7,192,12],[193,4,193,6],[193,7,193,12],[194,4,194,6],[194,7,194,12],[195,4,195,6],[195,7,195,12],[232,10,232,16],[231,10,231,16],[235,10,235,16],[236,4,236,9],[236,10,236,16],[237,4,237,9],[237,10,237,16],[238,4,238,9],[55,1,55,3],[184,1,184,3],[83,1,83,3],[84,1,84,3],[218,4,218,6],[218,7,218,12],[103,7,103,9],[103,10,103,12],[104,1,104,3],[104,4,104,6],[104,7,104,9],[104,10,104,12],[105,1,105,3],[105,4,105,6],[102,4,102,6],[109,1,109,3],[234,10,234,16],[235,4,235,9],[268,1,268,16],[97,1,97,3],[97,4,97,6],[97,7,97,9],[97,10,97,12],[98,1,98,3],[98,4,98,6],[98,7,98,9],[98,10,98,12],[99,1,99,3],[99,4,99,6],[99,7,99,9],[99,10,99,12],[100,1,100,3],[100,4,100,6],[100,7,100,9],[100,10,100,12],[101,1,101,3],[101,4,101,6],[101,7,101,9],[101,10,101,12],[102,1,102,3],[7,2,7,16],[6,2,6,16],[267,1,267,16],[109,4,109,6],[109,7,109,9],[109,10,109,12],[252,1,252,16],[259,1,259,16],[263,1,263,16],[241,4,241,9],[241,10,241,16],[242,4,242,9],[239,4,239,9],[239,10,239,16],[242,10,242,16],[243,4,243,9],[243,10,243,16],[244,4,244,9],[226,10,226,16],[163,4,163,16],[230,4,230,9],[230,10,230,16],[230,1,239,2],[234,4,234,9]]}
[]
[null,"Instructions / Definitions / Notes"]
[null,1,"Elaborate on conditions and provide recommended scope items in the \"Narrative / Recommendations\" sections."]
[null,2,"Submit photos of findings in a separate attachment. "]
[null,3,"The Needs Assessor should conduct this portion of the IPNA. For qualifications requirements, see the IPNA Standard."]
[null,4,"Select the condition description based on the following definitions: *Good —in working condition and does not require immediate or short term repairs; Average —in working condition, but may require immediate or short term repairs; Poor —not in working condition or requires immediate or short term repairs."]
[null,5,"Fannie Mae estimates useful life tables may be used, but should be adjusted based on the Needs Assessor's observations of the building component. See Fannie Mae Form 4099F: \n"]
[null,null,"https://multifamily.fanniemae.com/media/6701/display"]
[]
[null,"INSPECTION - PHYSICAL NEEDS"]
[]
[null,"Site Inspection",null,null,"Material",null,null,"Condition",null,null,null,null,null,"Site Inspection Narrative / Recommendations"]
[null,"Sidewalk"]
[null,"Curbs"]
[null,"Yard / Courtyard Concrete"]
[null,"Area / Yard Drains"]
[null,"Ramps"]
[null,"Stoop and Stairs"]
[null,"Areaway / Sidewalk Grates"]
[null,"Fire Passages"]
[null,"Wrought Iron Fence/Gates"]
[null,"Chain Link Fences"]
[null,"Debris"]
[null,"Exterior Stairs"]
[null,"Trash Enclosures"]
[null,"Landscaping / Vegetation"]
[null,"Open Space / Playground"]
[null,"Structure Inspection",null,null,"Material",null,null,"Condition",null,null,null,null,null,"Structure Inspection Narrative / Recommendations"]
[null,"Foundation"]
[null,"Typical Floor"]
[null,"Roof Deck"]
[null,"Roof Inspection",null,null,"Material",null,null,"Condition",null,null,null,null,null,"Roof Inspection Narrative / Recommendations"]
[null,"Exterior Walls"]
[null,"Type"]
[null,"Membrane"]
[null,"Entry Floor"]
[null,"Insulation"]
[null,"Coatings"]
[null,"Flashings / Pitch Pockets"]
[null,"Chimney"]
[null,"Parapets "]
[null,"Roof Railings"]
[null,"Dumbwaiter/Shafts"]
[null,"Bulkhead(s)"]
[null,"Vents"]
[null,"Roof Drainage"]
[null,"Bulkhead Drainage"]
[null,"Water Storage"]
[null,"Mechanical Systems on Roof"]
[null,"Exterior Structure Inspection",null,null,"Quantity",null,null,"Condition",null,null,null,null,null,"Exterior Structure Inspection Narrative / Recommendations"]
[null,"Fire Escape"]
[null,"Metal Stairs"]
[null,"Overhang"]
[null,"Exterior Doors Inspection",null,null,"Quantity",null,null,"Condition",null,null,null,null,null,"Exterior Doors Inspection Narrative / Recommendations"]
[null,"Main Entrance"]
[null,"Vestibule"]
[null,"Basement / Cellar"]
[null,"Bulkhead"]
[null,"Other"]
[null,"Interior Common Area"]
[null,"Common Areas",null,null,"Condition",null,null,null,null,null,"Common Areas Inspection Narrative / Recommendations"]
[null,"Vestibule"]
[null,"Lobby"]
[null,"Stairs"]
[null,"Typical Floor"]
[null,"Doors"]
[null,"Landing"]
[null,"Other"]
[null,"Electrical",null,null,"Fixtures (#)","Switches (#)","Outlets (#)","General Conditions / Wiring",null,null,null,null,null,"Electrical Inspection Narrative / Recommendations \n(Excluding lighting. See \"Inspection - Energy and Water\" tab for lighting.)"]
[null,"Vestibule"]
[null,"Basement/Cellar"]
[null,"Lobby"]
[null,"First Floor"]
[null,"Other Floor"]
[null,"Other Floor"]
[]
[]
[null,"Health-Related Concerns (with particular focus on basement)  -  See Health Questionnaire and Healthy Rehab Interventions tabs for details"]
[null,"Item of Concern",null,null,"Notes",null,null,null,null,null,null,null,null,null,null,null,"Area/Location of Concern"]
[null,"Air Contaminants or Allergens From Interior Sources"]
[null,"Air Contaminants or Allergens From Exterior Sources"]
[null,"Moisture"]
[null,"Pets"]
[null,"Hazardous Materials"]
[null,"Active Design Opportunities"]
[null,"Fall/Trip/Fire Hazard"]
[]
[]
[null,"Apartments "]
[null,"Apartments Inspected",null,null,"Unit",null,null,"Unit Size",null,null,"Occupied (Y/N)",null,null,"Apartments Inspection Narrative / Recommendations"]
[null,"Apartment 1"]
[null,"Apartment 2"]
[null,"Apartment 3"]
[null,"Apartment 4"]
[null,"Apartment 5"]
[null,"Apartment 6"]
[null,"Apartment 7"]
[null,"Apartment 8"]
[null,"Apartment 9"]
[null,"Apartment 10"]
[null,"Apartment 11"]
[null,"Apartment 12"]
[null,"Apartment 13"]
[null,"Apartment 14"]
[null,"Apartment 15"]
[null,"Apartment 16"]
[null,"Apartment 17"]
[null,"Apartment 18"]
[null,"Apartment 19"]
[null,"Apartment 20"]
[null,"Entryway",null,null,"Material",null,null,"Condition",null,null,null,null,null,"Entryway Inspection Narrative / Recommendations"]
[null,"Walls"]
[null,"Floor"]
[null,"Ceiling"]
[null,"Doors"]
[null,"Intercom Panel"]
[null,"Living / Dining Room",null,null,"Material",null,null,"Condition",null,null,null,null,null,"Livingroom/Dining Room Inspection Narrative / Recommendations"]
[null,"Walls"]
[null,"Floor"]
[null,"Ceiling"]
[null,"Doors"]
[null,"Bathroom(s)",null,null,"Material",null,null,"Condition",null,null,null,null,null,"Bathroom(s) Inspection Narrative / Recommendations"]
[null,"Walls"]
[null,"Floor"]
[null,"Ceiling"]
[null,"Doors"]
[null,"Toilet"]
[null,"Sink / Vanity"]
[null,"Tub / Shower"]
[null,"Other"]
[null,"Kitchen",null,null,"Material",null,null,"Condition",null,null,null,null,null,"Kitchen Inspection Narrative / Recommendations"]
[null,"Walls"]
[null,"Floor"]
[null,"Ceiling"]
[null,"Doors"]
[null,"Cabinets"]
[null,"Countertops"]
[null,"Sink / Faucet"]
[null,"Other"]
[null,"Refrigerator",null,null,"See \"Inspection - Energy and Water\" tab"]
[null,"Stove / Range",null,null,"See \"Inspection - Energy and Water\" tab"]
[null,"Dishwasher",null,null,"See \"Inspection - Energy and Water\" tab"]
[null,"Bedrooms",null,null,"Material",null,null,"Condition",null,null,null,null,null,"Bedrooms Inspection Narrative / Recommendations"]
[null,"Walls"]
[null,"Floor"]
[null,"Ceiling"]
[null,"Doors"]
[null,"Closets"]
[null,"Other"]
[null,"Electrical",null,null,"Fixtures (#)","Switches (#)","Outlets (#)","General Conditions / Wiring",null,null,null,null,null,"Apartment Electrical Inspection Narrative / Recommendations \n(Excluding lighting. See \"Inspection - Energy and Water\" tab for lighting.)"]
[null,"Entryway"]
[null,"Living / Dining"]
[null,"Bathroom"]
[null,"Bedrooms"]
[null,"Hallway"]
[null,"Exterior"]
[null,"Electrical Panel"]
[]
[null,"Health-Related Concerns in Apartments - See \"Health Questionnaire\" and \"Healthy Rehab Interventions\" tabs for details"]
[null,"Air Contaminants or Allergens From Interior Sources"]
[null,"Air Contaminants or Allergens From Exterior Sources"]
[null,"Moisture"]
[null,"Pets"]
[null,"Hazardous Materials"]
[null,"Active Design Opportunities"]
[null,"Fall/Trip/Fire Hazard"]
[]
[null,"Plumbing",null,null,"Description",null,null,"Condition",null,null,null,null,null,"Plumbing Inspection Narrative / Recommendations"]
[null,"Water Services"]
[null,"Sanitary Waste"]
[null,"Storm Waste"]
[null,"Sump Pumps"]
[null,"House Trap(s)"]
[null,"Water/Waste Leaks"]
[]
[null,"Electrical",null,null,"Description",null,null,null,null,null,null,null,null,"Electrical Inspection Narrative / Recommendations"]
[null,"Point of Service"]
[null,"Meter Bank Location"]
[null,"Service Size"]
[null,"Main Fuse Disconnect"]
[null,"Distribution Panel"]
[null,"Emergency Lighting"]
[null,"Wiring"]
[null,"Intercom"]
[null,"Other Elec. Util. "]
[]
[null,"Elevator",null,null,"Description/Location",null,null,"Condition",null,null,null,null,null,"Elevator Inspection Narrative / Recommendations"]
[null,"Quantity"]
[null,"Manufacturer"]
[null,"Cab"]
[null,"Cab Door"]
[null,"Hall Door"]
[null,"Interlocks"]
[null,"Type"]
[null,"If Traction - Cables (Hoist)"]
[null,"If Traction - Cables (Gov.)"]
[null,"Machine"]
[null,"Controller"]
[]
[null,"Fire Protection",null,null,"Description/Location",null,null,"Condition",null,null,null,null,null,"Fire Protection Inspection Narrative / Recommendations"]
[null,"Sprinkler"]
[null,"Fire Alarm"]
[null,"Smoke / CO Detectors"]
[null,"Equipment"]
[null,"Other"]
[null,"Interlocks"]
[]
[null,"Compactor",null,null,"Description",null,null,"Condition",null,null,null,null,null,"Compactor Inspection Narrative / Recommendations"]
[null,"Compactor"]
[null,"Chute"]
[null,"Hopper Doors"]
[null,"Sprinkler"]
[]
[null,"Security",null,null,"Description",null,null,"Condition",null,null,null,null,null,"Security Inspection Narrative / Recommendations"]
[null,"Cameras"]
[null,"Monitors"]
[null,"DVR"]
[null,"Mailboxes"]
[null,"Other"]
[]
[null,"Utility Areas",null,null,"Description",null,null,"Condition",null,null,null,null,null,"Utility Areas Inspection Narrative / Recommendations"]
[null,"Mechanical Rooms"]
[null,"Other - Physical Spaces "]
[]
[null,"Special Considerations"]
[null,"Environmental",null,null,"Description",null,null,null,null,null,"Condition"]
[null,"Toxic Materials",null,"Petroleum Storage"]
[null,null,null,"PCBs"]
[null,null,null,"Other"]
[null,"Unless already tested, assume the presence of asbestos if any window, boiler, facade or roof work is recommended."]
[null,"Asbestos Suspected Materials",null,"Boiler"]
[null,null,null,"DHW Heater"]
[null,null,null,"DHW Tank"]
[null,null,null,"Pipe Covering"]
[null,null,null,"Insulation"]
[null,null,null,"Floor tile (e.g.  9\" x9\")"]
[null,null,null,"Plaster / gyp board"]
[null,null,null,"Roof"]
[null,null,null,"Façade"]
[null,null,null,"Other"]
[null,"Indicate whether the building has been tested for lead. If no testing was previously conducted, assume the presence of lead."]
[null,"Lead-Based Paint Suspected",null,"In-Unit"]
[null,null,null,"Common Area"]
[null,null,null,"Fire Escape"]
[null,null,null,"Entryway"]
[null,null,null,"Exterior"]
[null,null,null,"Other"]
[null,"Other Hazardous Materials"]
[null,"Call-for-Aid Systems",null,null,"Description",null,null,null,null,null,"Condition"]
[null,"System 1"]
[null,"System 2"]
[]
[null,"Additional Information"]
[]
[null,"Environmental Narrative"]
[null,"Describe whether any of the following exist at the building: asbestos containing materials, petroleum storage, lead paint, etc."]
[]
[]
[null,"Accessibility Issues (Section 504 Compliant, etc.)"]
[null,"Describe whether the building meets all the requirements for persons with disabilities, based on the laws in effect at the time the building was constructed and subsequent renovations."]
[]
[]
[null,"Historic Preservation Issues"]
[null,"Describe any special requirements related to Historic Preservation if a Federal, State, and/or City listed site."]
[]
[]
[null,"Additional Inspection Notes Not Covered in the Sections Above"]
[null,"Include any additional inspection related notes not covered in the above sections."]

{"sheet":"Flood & Heat Hazard Exposure","index":6,"n_rows":61,"n_cols":31,"rows_kept":61,"cut":false,"hidden":false,"merged":[[17,15,19,15],[16,1,16,15],[8,1,8,11],[9,1,9,3],[9,4,9,13],[10,1,10,3],[10,4,10,13],[11,1,11,3],[11,4,11,13],[18,14,19,14],[2,1,2,13],[3,2,3,13],[4,2,4,13],[5,2,5,13],[6,2,6,13],[7,2,7,13],[18,8,19,8],[18,9,19,9],[18,10,19,11],[18,12,19,12],[18,13,19,13],[17,2,17,4],[17,5,17,9],[17,10,17,12],[17,13,17,14],[18,1,19,1],[18,2,19,3],[18,4,19,4],[18,5,19,5],[18,6,19,7],[22,2,22,3],[22,6,22,7],[22,10,22,11],[22,24,22,28],[23,2,23,3],[23,6,23,7],[23,10,23,11],[20,2,20,3],[20,6,20,7],[20,10,20,11],[21,2,21,3],[21,6,21,7],[21,10,21,11],[26,2,26,3],[26,6,26,7],[26,10,26,11],[27,2,27,3],[27,6,27,7],[27,10,27,11],[24,2,24,3],[24,6,24,7],[24,10,24,11],[25,2,25,3],[25,6,25,7],[25,10,25,11],[30,1,30,2],[31,2,31,12],[32,2,32,12],[33,2,33,12],[34,2,34,12],[35,2,35,12],[28,2,28,3],[28,6,28,7],[28,10,28,11],[29,2,29,3],[29,6,29,7],[29,10,29,11],[40,2,40,3],[40,13,40,14],[41,2,41,3],[41,13,41,14],[42,2,42,3],[42,13,42,14],[37,1,37,14],[38,1,39,1],[38,2,38,4],[38,5,39,5],[38,6,38,10],[38,11,38,12],[38,13,39,14],[39,2,39,3],[46,2,46,3],[46,13,46,14],[47,2,47,3],[47,13,47,14],[48,2,48,3],[48,13,48,14],[43,2,43,3],[43,13,43,14],[44,2,44,3],[44,13,44,14],[45,2,45,3],[45,13,45,14],[58,2,58,12],[58,13,58,14],[59,2,59,12],[60,2,60,12],[49,2,49,3],[49,13,49,14],[50,1,50,2],[51,2,51,13],[53,2,53,13],[57,1,57,12],[57,13,57,14]]}
[]
[null,"FLOOD HAZARD AND HEAT EXPOSURE SCREENING"]
[null,"Instructions "]
[null,1,"This tab applies to all projects. Completion of this tab is mandatory and flood risks identified must be represented in project summary and recommended scopes in this IPNA. "]
[null,2,"All projects must complete Table 1. If YES response is indicated as a response in Table 1 for Coastal Flood Exposure or Stormwater Exposure, then proceed to complete Table 2. "]
[null,3,"Buildings that are exposed to flood risk must complete Table 2. The purpose of Table 2 is to identify if there are residential uses or critical equipment located in areas of the building that are prone to flooding. Please ensure that you scroll all the way to the right [columns X-AI] to access reference tables/calculators for First Floor Flood Elevation, Design Flood Elevation, and Estimated Flood Depth at Site."]
[null,4,"Table 3 helps determine minimum required flood mitigation strategy for all buildings that are exposed to flood hazard. Provide additional comments and recommendations as needed."]
[null,5,"See Flood Map resources list below for links to reference maps. "]
[null,"Flood Map Resources"]
[null,"FEMA Flood Insurance Rate Maps ",null,null,"FEMA Flood Maps"]
[null,"NYC Flood Hazard Mapper",null,null,"NYC Flood Hazard Mapper "]
[null,"NYC Stormwater Flood Maps",null,null,"New York City Stormwater Flood Maps"]
[]
[]
[]
[]
[null,"TABLE 1: FLOOD HAZARD AND HEAT EXPOSURE SCREENING  (complete screening for each building being assessed)",null,null,null,null,null,null,null,null,null,null,null,null,null,null,null,"DATA VALIDATION"]
[null,null,"Property Information",null,null,"Coastal Flood Exposure \n(see note 1) ",null,null,null,null,"Stormwater Exposure",null,null,"Heat Exposure\n(see note 5)",null,"Comments\n(see note 4)",null,"YES","+1FT NAVD88",1,null,null,null,"Figure 1.0 - Flood Elevations Diagram"]
[null,"#","Address",null,"BBL","Current Special Flood Hazard Area","Current Shaded X Zone [0.2% Annual Chance Flood] (see note 1)",null,"Base Flood \nElevation [BFE] (see note1)","NYC ONLY\nFuture (2050s) Flood Hazard Area \n(see note 2)","NYC ONLY\nStormwater Flood Exposure\n(see note 3)",null,"Prior Flood History\n(see note 4)","NYC ONLY\nHeat Vulnerability Index\n(see note 5)","NYC ONLY\nIs project considered High Risk for Heat Vulnerability",null,null,"NO ","+2FT NAVD88",2]
[null,null,null,null,null,null,null,null,null,null,null,null,null,null,null,null,null,"UNKNOWN","+3FT NAVD88",3,null,null,null,null,"Determine Design Flood Elevation "]
[null,1,{"$f":"IF('Building Info'!$D$50<>\"\",'Building Info'!$D$50,\"\")","v":""},null,{"$f":"IF('Building Info'!$D51<>\"\",'Building Info'!$D51,\"\")","v":""},null,null,null,{"$f":"IF(TRIM(G21)=\"NO\",\"N/A\",\"\")","v":""},null,null,null,null,null,{"$f":"IF(N21=\"\",\"\",IF(N21>4,\"YES\",\"NO\"))","v":""},null,null,"YES (1ft+)","+4FT NAVD88",4,null,null,null,1,"Base Flood Elevation from FEMA PFIRM ",null,null,null,null,null,"FT (User Input)"]
[null,{"$f":"B21+1","v":2},{"$f":"IF('Building Info'!$P50<>\"\",'Building Info'!$P50,\"\")","v":""},null,{"$f":"IF('Building Info'!$P51<>\"\",'Building Info'!$P51,\"\")","v":""},null,null,null,"",null,null,null,null,null,{"$f":"IF(N22=\"\",\"\",IF(N22>4,\"YES\",\"NO\"))","v":""},null,null,"YES (4in to 1ft)","+6FT NAVD88",5,null,null,null,2,"Freeboard *",null,null,null,null,2,"FT"]
[null,3,{"$f":"IF('Building Info'!$Z50<>\"\",'Building Info'!$Z50,\"\")","v":""},null,{"$f":"IF('Building Info'!$Z51<>\"\",'Building Info'!$Z51,\"\")","v":""},null,null,null,"",null,null,null,null,null,"",null,null,"NO","+7FT NAVD88",null,null,null,null,3,"DFE relative to NAVD88",null,null,null,null,{"$f":"SUM(AD21:AD22)","v":2},"FT above NAVD88 (Insert in Table 2)"]
[null,4,{"$f":"IF('Building Info'!$AJ50<>\"\",'Building Info'!$AJ50,\"\")","v":""},null,{"$f":"IF('Building Info'!$AJ51<>\"\",'Building Info'!$AJ51,\"\")","v":""},null,null,null,"",null,null,null,null,null,"",null,null,"Current / Coastal","+8FT NAVD88"]
[null,5,{"$f":"IF('Building Info'!$AT50<>\"\",'Building Info'!$AT50,\"\")","v":""},null,{"$f":"IF('Building Info'!$AT51<>\"\",'Building Info'!$AT51,\"\")","v":""},null,null,null,"",null,null,null,null,null,"",null,null,"Current / Compound","+9FT NAVD88",null,null,null,null,4,"Sea Level Rise Adjustment (2050s)",null,null,null,null,1.25,"FT"]
[null,6,{"$f":"IF('Building Info'!$BD50<>\"\",'Building Info'!$BD50,\"\")","v":""},null,{"$f":"IF('Building Info'!$BD51<>\"\",'Building Info'!$BD51,\"\")","v":""},null,null,null,"",null,null,null,null,null,"",null,null,"Stormwater","+10FT NAVD88",null,null,null,null,5,"Sea Level Rise Adjusted DFE relative to NAVD88",null,null,null,null,{"$f":"SUM(AD23:AD25)","v":3.25},"FT above NAVD88 (Insert in Table 2)"]
[null,7,{"$f":"IF('Building Info'!$BN50<>\"\",'Building Info'!$BN50,\"\")","v":""},null,{"$f":"IF('Building Info'!$BN51<>\"\",'Building Info'!$BN51,\"\")","v":""},null,null,null,"",null,null,null,null,null,"",null,null,"Future / Coastal","+11FT NAVD88"]
[null,8,{"$f":"IF('Building Info'!$BX50<>\"\",'Building Info'!$BX50,\"\")","v":""},null,{"$f":"IF('Building Info'!$BX51<>\"\",'Building Info'!$BX51,\"\")","v":""},null,null,null,"",null,null,null,null,null,"",null,null,"Future / Compound","+12FT NAVD88",null,null,null,null,null,"* For projects in VE zone, refer to Appendix G for appropriate freeboard elevation"]
[null,9,{"$f":"IF('Building Info'!$CH50<>\"\",'Building Info'!$CH50,\"\")","v":""},null,{"$f":"IF('Building Info'!$CH51<>\"\",'Building Info'!$CH51,\"\")","v":""},null,null,null,"",null,null,null,null,null,"",null,null,"Prior Flood Experienced","+13FT NAVD88"]
[null,10,{"$f":"IF('Building Info'!$CR50<>\"\",'Building Info'!$CR50,\"\")","v":""},null,{"$f":"IF('Building Info'!$CR51<>\"\",'Building Info'!$CR51,\"\")","v":""},null,null,null,"",null,null,null,null,null,"",null,null,null,"+14FT NAVD88"]
[null,"NOTES:",null,null,null,null,null,null,null,null,null,null,null,null,null,null,null,"Appendix G","+16FT NAVD88"]
[null,1,"Refer to FEMA Flood Insurance Rate Maps (2007 FIRM and 2015 PFIRM). Answer YES if building is within the illustrated current Special Flood Hazard Area (1% Annual Chance Flood) or Shaded X Zone (.2% Annual Chance Flood) and NO if it is not. For YES responses, indicate the BFE noted on the FIRM in next column.",null,null,null,null,null,null,null,null,null,null,null,null,null,null,"HPD Design Guidelines for Preservation, Baseline","+17FT NAVD88"]
[null,2,"For NYC Properties Only: Refer to the NYC Flood Hazard Mapper and view map layer \"Future Flood Plain 2050s \". Answer YES if building is within the  1% Annual Chance Flood Area indicated and NO if it is not.",null,null,null,null,null,null,null,null,null,null,null,null,null,null,"HPD Design Guidelines for Preservation, Reach","+18FT NAVD88"]
[null,3,"For NYC Properties Only: Refer to the NYC Stormwater Flood Maps and view layer \"Extreme Stormwater Flood with 2080s Sea Level Rise\". Answer YES if building is within or adjacent to a flooded area. indicated. ",null,null,null,null,null,null,null,null,null,null,null,null,null,null,"None Needed","+19FT NAVD89"]
[null,4,"Talk with building manager and on-site staff to determine if the building has experienced flooding of any kind in the past. Indicate YES if it has and NO if it has not and provide descriptions (including flood levels and degree of damage) in the comments column. ",null,null,null,null,null,null,null,null,null,null,null,null,null,null,"Incremental Mitigation Measures, See Comments","+20FT NAVD90"]
[null,5,"For NYC Properties Only: refer to NYC's Environment and Health Data Portal here: https://a816-dohbesp.nyc.gov/IndicatorPublic/beta/data-explorer/weather-related-illness/?id=2191#display=summary"]
[]
[null,"TABLE 2: PROPERTY RISK ASSESSMENT (complete for all buildings with a YES response for Coastal Flood Exposure or Stormwater Exposure in Table 1)"]
[null,"#","Property Information",null,null,"Risk Exposure Type\n(see note 1)","Coastal Flood Risk \n(see note 2)",null,null,null,null,"NYC ONLY\nStormwater Flood Risk \n(See note 4)",null,"Comments\n(see note 5)"]
[null,null,"Address",null,"BBL",null,"First Floor Elevation\n(FFE)\n(see note 2)","Design Flood Elevation (DFE) \n(see note 3)","Is FFE Below DFE?","Are there Residential Uses \nBelow DFE?","Is there Critical Equipment \nBelow DFE?","Residential Use Below Anticipated Flood Level or Below Grade\n(see note 4)","Critical Equipment Below Anticipated Flood Level or Below Grade? \n(see note 4)"]
[null,1,{"$f":"IFERROR(INDEX($C$19:$C$30,SMALL(IF(($F$21:$F$30=\"Yes\")*1=1,ROW($F$21:$F$30)-ROW($F$19)+1),ROWS($F$19:F19))),\"\")","v":""},null,{"$f":"IFERROR(INDEX($E$19:$E$30,SMALL(IF(($F$21:$F$30=\"Yes\")*1=1,ROW($F$21:$F$30)-ROW($F$19)+1),ROWS($F$19:F19))),\"\")","v":""},null,null,null,{"$f":"IF(OR(G41=\"\",H41=\"\"),\"\",IF(MID(G41,2,1)<MID(H41,2,1)=TRUE,\"YES\",IF(MID(G41,2,1)>MID(H41,2,1)=TRUE,\"NO\",\"UNKNOWN\")))","v":""}]
[null,{"$f":"B41+1","v":2},{"$f":"IFERROR(INDEX($C$19:$C$30,SMALL(IF(($F$21:$F$30=\"Yes\")*1=1,ROW($F$21:$F$30)-ROW($F$19)+1),ROWS($F$19:F20))),\"\")","v":""},null,{"$f":"IFERROR(INDEX($E$19:$E$30,SMALL(IF(($F$21:$F$30=\"Yes\")*1=1,ROW($F$21:$F$30)-ROW($F$19)+1),ROWS($F$19:F20))),\"\")","v":""},null,null,null,{"$f":"IF(OR(G42=\"\",H42=\"\"),\"\",IF(MID(G42,2,1)<MID(H42,2,1)=TRUE,\"YES\",IF(MID(G42,2,1)>MID(H42,2,1)=TRUE,\"NO\",\"UNKNOWN\")))","v":""}]
[null,3,{"$f":"IFERROR(INDEX($C$19:$C$30,SMALL(IF(($F$21:$F$30=\"Yes\")*1=1,ROW($F$21:$F$30)-ROW($F$19)+1),ROWS($F$19:F21))),\"\")","v":""},null,{"$f":"IFERROR(INDEX($E$19:$E$30,SMALL(IF(($F$21:$F$30=\"Yes\")*1=1,ROW($F$21:$F$30)-ROW($F$19)+1),ROWS($F$19:F21))),\"\")","v":""},null,null,null,""]
[null,4,{"$f":"IFERROR(INDEX($C$19:$C$30,SMALL(IF(($F$21:$F$30=\"Yes\")*1=1,ROW($F$21:$F$30)-ROW($F$19)+1),ROWS($F$19:F22))),\"\")","v":""},null,{"$f":"IFERROR(INDEX($E$19:$E$30,SMALL(IF(($F$21:$F$30=\"Yes\")*1=1,ROW($F$21:$F$30)-ROW($F$19)+1),ROWS($F$19:F22))),\"\")","v":""},null,null,null,"",null,null,null,null,null,null,null,null,null,null,null,null,null,null,null,"Estimated Flood Depth at Site**"]
[null,5,{"$f":"IFERROR(INDEX($C$19:$C$30,SMALL(IF(($F$21:$F$30=\"Yes\")*1=1,ROW($F$21:$F$30)-ROW($F$19)+1),ROWS($F$19:F23))),\"\")","v":""},null,{"$f":"IFERROR(INDEX($E$19:$E$30,SMALL(IF(($F$21:$F$30=\"Yes\")*1=1,ROW($F$21:$F$30)-ROW($F$19)+1),ROWS($F$19:F23))),\"\")","v":""},null,null,null,null,null,null,null,null,null,null,null,null,null,null,null,null,null,null,1,"DFE Relative to NAVD88",null,null,null,null,{"$f":"AD23","v":2},"FT  above NAVD88"]
[null,6,{"$f":"IFERROR(INDEX($C$19:$C$30,SMALL(IF(($F$21:$F$30=\"Yes\")*1=1,ROW($F$21:$F$30)-ROW($F$19)+1),ROWS($F$19:F24))),\"\")","v":""},null,{"$f":"IFERROR(INDEX($E$19:$E$30,SMALL(IF(($F$21:$F$30=\"Yes\")*1=1,ROW($F$21:$F$30)-ROW($F$19)+1),ROWS($F$19:F24))),\"\")","v":""},null,null,null,null,null,null,null,null,null,null,null,null,null,null,null,null,null,null,2,"Elevation of lowest adjacent grade on site",null,null,null,null,null,"FT  above NAVD88 (User Input)"]
[null,7,{"$f":"IFERROR(INDEX($C$19:$C$30,SMALL(IF(($F$21:$F$30=\"Yes\")*1=1,ROW($F$21:$F$30)-ROW($F$19)+1),ROWS($F$19:F25))),\"\")","v":""},null,{"$f":"IFERROR(INDEX($E$19:$E$30,SMALL(IF(($F$21:$F$30=\"Yes\")*1=1,ROW($F$21:$F$30)-ROW($F$19)+1),ROWS($F$19:F25))),\"\")","v":""},null,null,null,null,null,null,null,null,null,null,null,null,null,null,null,null,null,null,3,"Predicted height of flood waters on site",null,null,null,null,{"$f":"SUM(AD45-AD46)","v":2},"FT flood water depth at site"]
[null,8,{"$f":"IFERROR(INDEX($C$19:$C$30,SMALL(IF(($F$21:$F$30=\"Yes\")*1=1,ROW($F$21:$F$30)-ROW($F$19)+1),ROWS($F$19:F26))),\"\")","v":""},null,{"$f":"IFERROR(INDEX($E$19:$E$30,SMALL(IF(($F$21:$F$30=\"Yes\")*1=1,ROW($F$21:$F$30)-ROW($F$19)+1),ROWS($F$19:F26))),\"\")","v":""}]
[null,9,{"$f":"IFERROR(INDEX($C$19:$C$30,SMALL(IF(($F$21:$F$30=\"Yes\")*1=1,ROW($F$21:$F$30)-ROW($F$19)+1),ROWS($F$19:F27))),\"\")","v":""},null,{"$f":"IFERROR(INDEX($E$19:$E$30,SMALL(IF(($F$21:$F$30=\"Yes\")*1=1,ROW($F$21:$F$30)-ROW($F$19)+1),ROWS($F$19:F27))),\"\")","v":""},null,null,null,null,null,null,null,null,null,null,null,null,null,null,null,null,null,null,null,"** If site elevation information is not available, then refer to NYC Flood Hazard Mapper \"Base Flood Elevation\" layer. Use high end of range provided"]
[null,10,{"$f":"IFERROR(INDEX($C$19:$C$30,SMALL(IF(($F$21:$F$30=\"Yes\")*1=1,ROW($F$21:$F$30)-ROW($F$19)+1),ROWS($F$19:F28))),\"\")","v":""},null,{"$f":"IFERROR(INDEX($E$19:$E$30,SMALL(IF(($F$21:$F$30=\"Yes\")*1=1,ROW($F$21:$F$30)-ROW($F$19)+1),ROWS($F$19:F28))),\"\")","v":""}]
[null,"NOTES:"]
[null,1,"Choose category based on results of screening in Table 1"]
[null,2,"Provide First Floor Elevation relative to NAVD88m if possible. Use inset Figure 1 to determine DFE at each building. "]
[null,3,"For NYC Properties Only: Projects must design to the 2050s Sea-Level-Rise-Adjusted DFE "]
[null,4,"For NYC Properties Only: If there are any below grade or first floor residential uses or critical equipment below estimate flood depth (from Table 1) indicate YES"]
[null,5,"In the comments section: please note any existing resiliency measures in the building. Also, please note if the building has been flood proofed."]
[]
[null,"REFERENCE TABLE 3: Flood Risk Mitigation Measures ",null,null,null,null,null,null,null,null,null,null,null,"Links"]
[null,1,"If overall scope of capital project triggers compliance with NYS or NYC Building Code Appendix G, then refer to Appendix G for minimum flood protection standards required.",null,null,null,null,null,null,null,null,null,null,"NYS Construction Code Appendix G"]
[null,2,"For NYC PROJECTS:  If TABLE 1 shows that project is exposed to current or future flood hazard then refer to HPD Design Guidelines for Preservation for baseline and reach incremental flood risk mitigation measures applicable to all preservation projects not subject to Appendix G Flood protection Standards.",null,null,null,null,null,null,null,null,null,null,"HPD Design Guidelines for Preservation"]
[null,3,"FOR NYS PROJECTS:  If TABLE 1 shows that project is exposed to current or future flood hazard then refer to HCR Design Guidelines for Existing Buildings for baseline and reach incremental flood risk mitigation measures applicable to all preservation projects not subject to Appendix G: Flood-Resistant Construction. ",null,null,null,null,null,null,null,null,null,null,"HCR Sustainability Guidelines for Existing Buildings"]

{"sheet":"Inspection - Energy and Water","index":7,"n_rows":280,"n_cols":48,"rows_kept":280,"cut":false,"hidden":false,"merged":[[93,14,93,17],[92,14,92,17],[142,2,143,2],[101,3,101,4],[99,5,99,6],[100,3,100,4],[108,3,108,4],[108,5,108,6],[124,7,124,8],[124,9,124,10],[124,12,124,13],[114,12,114,13],[112,9,113,10],[97,2,102,2],[104,2,106,2],[112,2,113,2],[116,3,116,5],[130,5,130,7],[127,5,127,7],[141,3,141,5],[141,7,141,8],[112,11,113,11],[112,12,113,13],[141,11,141,12],[159,8,159,13],[159,14,159,20],[156,3,157,5],[194,2,194,4],[195,2,195,4],[127,3,127,4],[128,3,128,4],[129,3,129,4],[130,3,130,4],[131,3,131,4],[132,3,132,4],[149,2,150,2],[151,3,151,5],[152,3,152,5],[132,5,132,7],[128,5,128,7],[153,6,153,7],[144,3,144,5],[140,3,140,5],[140,7,140,8],[149,6,150,7],[152,6,152,7],[151,6,151,7],[149,8,150,13],[145,19,145,20],[142,3,143,5],[142,6,143,6],[142,7,143,7],[142,8,143,8],[142,9,143,9],[142,10,143,10],[142,12,143,12],[152,8,152,13],[151,8,151,13],[152,14,152,20],[149,3,150,5],[145,3,145,5],[142,11,143,11],[99,14,99,17],[100,14,100,17],[109,14,109,17],[108,14,108,17],[181,16,181,20],[182,16,182,20],[183,16,183,20],[184,16,184,20],[141,9,141,10],[99,18,99,23],[100,18,100,23],[120,9,120,10],[120,12,120,13],[119,9,119,10],[130,8,130,11],[151,14,151,20],[149,14,150,20],[135,6,135,8],[135,16,135,17],[133,16,133,17],[134,6,134,8],[171,16,171,20],[172,16,172,20],[173,16,173,20],[9,3,9,16],[103,18,103,23],[122,3,122,5],[122,7,122,8],[122,9,122,10],[122,12,122,13],[91,5,91,6],[104,14,104,17],[107,14,107,17],[96,14,96,17],[95,14,95,17],[94,14,94,17],[88,3,88,4],[88,5,88,6],[89,3,89,4],[101,14,101,17],[102,14,102,17],[103,14,103,17],[97,14,97,17],[98,14,98,17],[94,3,94,4],[94,5,94,6],[95,3,95,4],[95,5,95,6],[89,5,89,6],[109,3,109,4],[109,5,109,6],[120,3,120,5],[120,7,120,8],[119,3,119,5],[119,7,119,8],[90,3,90,4],[90,5,90,6],[91,3,91,4],[112,3,113,5],[112,6,113,6],[112,7,113,8],[115,3,115,5],[117,3,117,5],[117,7,117,8],[103,5,103,6],[104,3,104,4],[104,5,104,6],[107,3,107,4],[107,5,107,6],[103,3,103,4],[112,14,113,14],[116,9,116,10],[116,12,116,13],[117,9,117,10],[117,12,117,13],[140,9,140,10],[140,11,140,12],[121,3,121,5],[121,7,121,8],[139,3,139,5],[139,7,139,8],[112,15,113,15],[135,3,135,4],[124,3,124,5],[134,3,134,4],[146,3,146,4],[147,3,147,4],[114,3,114,5],[114,7,114,8],[114,9,114,10],[115,7,115,8],[115,9,115,10],[115,12,115,13],[121,9,121,10],[121,12,121,13],[118,3,118,5],[118,7,118,8],[118,9,118,10],[118,12,118,13],[119,12,119,13],[123,3,123,5],[123,7,123,8],[123,9,123,10],[123,12,123,13],[116,7,116,8],[3,2,3,8],[105,3,105,4],[105,5,105,6],[105,14,105,17],[105,18,105,23],[106,3,106,4],[106,5,106,6],[106,14,106,17],[106,18,106,23],[97,3,97,4],[97,5,97,6],[98,3,98,4],[98,5,98,6],[92,3,92,4],[93,3,93,4],[92,5,92,6],[93,5,93,6],[99,3,99,4],[96,5,96,6],[101,5,101,6],[102,3,102,4],[102,5,102,6],[100,5,100,6],[96,3,96,4],[79,3,79,4],[85,3,85,4],[81,5,81,6],[82,3,82,4],[82,5,82,6],[83,3,83,4],[83,5,83,6],[84,3,84,4],[81,3,81,4],[79,5,79,6],[80,3,80,4],[80,5,80,6],[57,5,57,6],[58,3,58,4],[58,5,58,6],[65,3,65,4],[65,5,65,6],[70,3,70,4],[70,5,70,6],[71,3,71,4],[71,5,71,6],[64,3,64,4],[64,5,64,6],[59,3,59,4],[59,5,59,6],[60,3,60,4],[60,5,60,6],[61,3,61,4],[62,3,62,4],[62,5,62,6],[63,3,63,4],[63,5,63,6],[61,5,61,6],[72,3,72,4],[72,5,72,6],[78,5,78,6],[73,3,73,4],[73,5,73,6],[55,5,55,6],[56,5,56,6],[48,3,48,4],[48,5,48,6],[49,3,49,4],[49,5,49,6],[50,3,50,4],[50,5,50,6],[51,3,51,4],[51,5,51,6],[52,3,52,4],[52,5,52,6],[53,3,53,4],[53,5,53,6],[54,3,54,4],[55,3,55,4],[56,3,56,4],[54,5,54,6],[57,3,57,4],[37,3,37,4],[36,3,36,4],[38,3,38,4],[38,5,38,6],[39,3,39,4],[39,5,39,6],[40,3,40,4],[40,5,40,6],[47,3,47,4],[47,5,47,6],[44,3,44,4],[44,5,44,6],[45,3,45,4],[45,5,45,6],[46,3,46,4],[46,5,46,6],[42,5,42,6],[36,5,36,6],[42,3,42,4],[31,3,31,4],[31,5,31,6],[31,8,31,9],[31,10,31,11],[30,16,30,22],[31,16,31,22],[34,3,34,4],[34,5,34,6],[32,3,32,4],[32,5,32,6],[32,8,32,9],[32,10,32,11],[33,3,33,4],[33,5,33,6],[33,8,33,9],[33,10,33,11],[30,3,30,4],[30,5,30,6],[30,8,30,9],[32,16,32,22],[33,16,33,22],[10,11,10,16],[25,19,25,22],[26,17,26,18],[26,19,26,22],[27,17,27,18],[27,19,27,22],[22,19,22,22],[23,17,23,18],[26,14,26,15],[27,14,27,15],[25,17,25,18],[22,17,22,18],[22,14,22,15],[23,14,23,15],[23,19,23,22],[24,14,24,15],[24,17,24,18],[24,19,24,22],[25,14,25,15],[13,11,13,16],[24,3,24,4],[24,5,24,6],[24,10,24,11],[22,3,22,4],[22,5,22,6],[22,10,22,11],[23,3,23,4],[23,5,23,6],[23,10,23,11],[21,3,21,8],[21,11,21,16],[14,3,14,8],[14,11,14,16],[15,3,15,8],[15,11,15,16],[16,3,16,8],[16,11,16,16],[17,3,17,8],[17,11,17,16],[18,3,18,8],[18,11,18,16],[10,3,10,8],[48,2,59,2],[74,3,74,4],[78,3,78,4],[19,3,19,8],[19,11,19,16],[66,5,66,6],[66,2,70,2],[74,2,80,2],[74,5,74,6],[75,3,75,4],[75,5,75,6],[20,3,20,8],[20,11,20,16],[76,3,76,4],[76,5,76,6],[77,3,77,4],[77,5,77,6],[28,3,28,4],[11,3,11,8],[11,11,11,16],[12,3,12,8],[12,11,12,16],[13,3,13,8],[28,5,28,6],[28,8,28,9],[28,10,28,11],[29,3,29,4],[29,5,29,6],[29,8,29,9],[25,3,25,4],[25,5,25,6],[25,10,25,11],[26,3,26,4],[26,5,26,6],[26,10,26,11],[27,3,27,4],[27,5,27,6],[27,10,27,11],[29,10,29,11],[109,18,109,23],[101,18,101,23],[102,18,102,23],[108,18,108,23],[94,18,94,23],[95,18,95,23],[104,18,104,23],[107,18,107,23],[96,18,96,23],[97,18,97,23],[98,18,98,23],[114,37,114,38],[114,40,114,44],[112,16,113,16],[112,17,113,17],[112,30,113,30],[112,21,113,21],[112,31,112,36],[112,29,113,29],[112,37,113,38],[112,39,113,39],[112,40,113,44],[112,18,113,18],[112,19,113,19],[112,20,113,20],[112,22,113,22],[112,23,112,28],[136,16,136,17],[132,8,132,11],[126,3,126,5],[126,7,126,8],[126,9,126,10],[126,12,126,13],[131,8,131,11],[128,8,128,11],[139,23,139,24],[133,12,133,13],[136,3,136,4],[136,6,136,8],[138,7,138,8],[138,9,138,10],[138,11,138,12],[133,3,133,4],[133,6,133,8],[139,9,139,10],[139,11,139,12],[137,12,137,13],[136,12,136,13],[135,12,135,13],[138,31,138,34],[138,27,138,30],[139,31,139,34],[139,27,139,30],[138,3,138,5],[123,37,123,38],[137,3,137,4],[137,6,137,8],[137,16,137,17],[137,30,137,33],[136,30,136,33],[134,16,134,17],[134,26,134,29],[133,26,133,29],[135,30,135,33],[134,30,134,33],[125,3,125,5],[125,7,125,8],[125,9,125,10],[125,12,125,13],[125,37,125,38],[127,8,127,11],[131,5,131,7],[134,12,134,13],[145,21,145,22],[145,24,145,25],[145,41,145,42],[145,47,145,49],[142,13,142,18],[144,43,144,46],[145,43,145,46],[142,31,143,31],[142,32,143,32],[142,19,143,20],[142,21,143,22],[142,23,143,23],[142,24,143,25],[142,26,143,26],[142,27,143,27],[142,33,143,33],[142,34,142,39],[142,40,143,40],[142,41,143,42],[142,47,143,49],[144,19,144,20],[144,21,144,22],[144,24,144,25],[144,41,144,42],[144,47,144,49],[142,28,143,28],[142,29,143,29],[142,30,143,30],[133,30,133,33],[140,20,140,22],[140,23,140,24],[124,37,124,38],[141,20,141,22],[141,23,141,24],[141,31,141,34],[141,27,141,30],[140,27,140,30],[140,31,140,34],[138,20,138,22],[138,23,138,24],[125,40,125,44],[137,26,137,29],[136,26,136,29],[135,26,135,29],[132,20,132,25],[142,43,143,46],[124,40,124,44],[139,20,139,22],[198,3,198,4],[198,5,198,6],[198,8,198,9],[198,11,198,12],[198,27,198,30],[199,3,199,4],[199,5,199,6],[199,8,199,9],[199,11,199,12],[199,27,199,30],[179,16,179,20],[192,2,192,4],[193,2,193,4],[156,8,157,13],[156,2,157,2],[161,8,161,13],[174,16,174,20],[153,8,153,13],[153,3,153,5],[175,16,175,20],[176,16,176,20],[177,16,177,20],[178,16,178,20],[180,16,180,20],[164,16,164,20],[165,16,165,20],[166,16,166,20],[167,16,167,20],[168,16,168,20],[169,16,169,20],[170,16,170,20],[153,14,153,20],[158,8,158,13],[158,14,158,20],[202,3,202,4],[202,5,202,6],[202,8,202,9],[202,11,202,12],[202,27,202,30],[203,3,203,4],[203,5,203,6],[203,8,203,9],[203,11,203,12],[200,3,200,4],[200,5,200,6],[200,8,200,9],[200,11,200,12],[200,27,200,30],[201,3,201,4],[201,5,201,6],[201,8,201,9],[201,11,201,12],[201,27,201,30],[204,27,204,30],[205,3,205,4],[205,5,205,6],[205,8,205,9],[205,11,205,12],[205,27,205,30],[204,8,204,9],[203,27,203,30],[206,5,206,6],[206,8,206,9],[206,11,206,12],[206,27,206,30],[204,11,204,12],[206,3,206,4],[217,21,217,27],[208,3,208,4],[208,5,208,6],[208,8,208,9],[208,11,208,12],[208,27,208,30],[209,3,209,4],[209,5,209,6],[209,8,209,9],[209,11,209,12],[209,27,209,30],[210,3,210,4],[210,5,210,6],[210,8,210,9],[210,11,210,12],[210,27,210,30],[211,3,211,4],[211,5,211,6],[211,8,211,9],[216,3,216,4],[216,5,216,6],[216,8,216,9],[216,11,216,12],[216,21,216,27],[211,11,211,12],[211,27,211,30],[212,27,212,30],[213,3,213,4],[213,5,213,6],[213,8,213,9],[213,11,213,12],[213,27,213,30],[207,5,207,6],[207,8,207,9],[207,11,207,12],[207,27,207,30],[225,21,225,27],[218,3,218,4],[218,5,218,6],[218,8,218,9],[218,11,218,12],[218,21,218,27],[219,3,219,4],[219,5,219,6],[219,8,219,9],[219,11,219,12],[219,21,219,27],[220,3,220,4],[220,5,220,6],[220,8,220,9],[220,11,220,12],[220,21,220,27],[224,21,224,27],[224,5,224,6],[224,8,224,9],[224,11,224,12],[226,21,226,27],[229,3,229,4],[229,5,229,6],[229,8,229,9],[229,11,229,12],[229,19,229,27],[221,3,221,4],[221,5,221,6],[221,8,221,9],[221,11,221,12],[221,21,221,27],[222,21,222,27],[223,3,223,4],[223,5,223,6],[223,8,223,9],[223,11,223,12],[223,21,223,27],[226,8,226,9],[226,11,226,12],[222,3,222,4],[222,5,222,6],[222,8,222,9],[222,11,222,12],[224,3,224,4],[230,3,230,4],[230,5,230,6],[230,8,230,9],[230,11,230,12],[231,3,231,4],[231,5,231,6],[231,8,231,9],[231,11,231,12],[232,11,232,12],[235,8,235,9],[235,11,235,12],[232,3,232,4],[232,5,232,6],[232,8,232,9],[233,5,233,6],[233,8,233,9],[233,11,233,12],[233,3,233,4],[234,3,234,4],[234,5,234,6],[234,8,234,9],[234,11,234,12],[235,3,235,4],[28,16,28,22],[29,16,29,22],[30,10,30,11],[261,2,262,2],[261,8,262,8],[261,7,262,7],[263,3,263,4],[264,3,264,4],[265,3,265,4],[225,3,225,4],[225,5,225,6],[225,8,225,9],[225,11,225,12],[212,3,212,4],[212,5,212,6],[212,8,212,9],[212,11,212,12],[217,3,217,4],[217,5,217,6],[217,8,217,9],[217,11,217,12],[204,3,204,4],[204,5,204,6],[239,19,239,27],[272,3,272,4],[272,5,272,6],[273,3,273,4],[273,5,273,6],[269,3,269,4],[269,5,269,6],[270,3,270,4],[270,5,270,6],[271,3,271,4],[271,5,271,6],[266,3,266,4],[261,5,261,6],[261,3,262,4],[239,3,239,4],[239,5,239,6],[260,3,260,22],[238,19,238,27],[237,19,237,27],[236,19,236,27],[239,8,239,9],[239,11,239,12],[236,3,236,4],[236,5,236,6],[236,8,236,9],[236,11,236,12],[237,3,237,4],[237,5,237,6],[237,8,237,9],[237,11,237,12],[238,3,238,4],[238,5,238,6],[238,8,238,9],[238,11,238,12],[235,19,235,27],[234,19,234,27],[233,19,233,27],[232,19,232,27],[231,19,231,27],[230,19,230,27],[146,7,146,13],[148,3,148,4],[148,7,148,13],[147,7,147,13],[161,14,161,20],[156,6,157,7],[158,3,158,5],[158,6,158,7],[159,3,159,5],[159,6,159,7],[161,3,161,5],[161,6,161,7],[156,14,157,20],[160,3,160,5],[160,6,160,7],[160,8,160,13],[160,14,160,20],[235,5,235,6],[226,3,226,4],[226,5,226,6],[35,2,39,2],[69,3,69,4],[69,5,69,6],[68,3,68,4],[68,5,68,6],[67,3,67,4],[67,5,67,6],[66,3,66,4],[64,2,65,2],[60,2,63,2],[46,2,47,2],[44,2,45,2],[42,2,43,2],[40,2,41,2],[37,5,37,6],[43,3,43,4],[43,5,43,6],[35,3,35,4],[35,5,35,6],[41,3,41,4],[41,5,41,6],[207,3,207,4],[115,37,115,38],[115,40,115,44],[120,37,120,38],[120,40,120,44],[123,40,123,44],[126,31,126,36],[126,37,126,38],[126,40,126,44],[117,37,117,38],[117,40,117,44],[118,40,118,44],[116,37,116,38],[116,40,116,44],[118,37,118,38],[121,37,121,38],[121,40,121,44],[118,31,118,36],[119,37,119,38],[119,40,119,44],[122,40,122,44],[122,31,122,36],[122,37,122,38],[64,7,64,12],[65,7,65,12],[66,7,66,12],[88,18,88,23],[88,14,88,17],[91,14,91,17],[73,7,73,12],[74,7,74,12],[75,7,75,12],[76,7,76,12],[77,7,77,12],[78,7,78,12],[79,7,79,12],[80,7,80,12],[90,14,90,17],[89,14,89,17],[82,7,82,12],[81,7,81,12],[83,7,83,12],[89,18,89,23],[90,18,90,23],[91,18,91,23],[28,13,28,15],[29,13,29,15],[30,13,30,15],[31,13,31,15],[32,13,32,15],[33,13,33,15],[34,7,34,12],[35,7,35,12],[36,7,36,12],[62,7,62,12],[63,7,63,12],[37,7,37,12],[38,7,38,12],[39,7,39,12],[40,7,40,12],[41,7,41,12],[42,7,42,12],[43,7,43,12],[44,7,44,12],[45,7,45,12],[57,7,57,12],[58,7,58,12],[59,7,59,12],[60,7,60,12],[2,2,2,6],[4,2,4,4],[280,2,280,9],[279,2,279,9],[278,2,278,9],[276,2,276,9],[46,7,46,12],[47,7,47,12],[48,7,48,12],[49,7,49,12],[50,7,50,12],[67,7,67,12],[68,7,68,12],[69,7,69,12],[70,7,70,12],[71,7,71,12],[72,7,72,12],[51,7,51,12],[52,7,52,12],[53,7,53,12],[54,7,54,12],[55,7,55,12],[56,7,56,12],[61,7,61,12]]}
[]
[null,"Instructions / Definitions / Notes "]
[null,"1.","The Energy Assessor should conduct this portion of the IPNA. For qualifications requirements, see the IPNA Standard."]
[null,"2.","Fannie Mae estimated useful life tables may be used, but should be adjusted based on the Needs Assessor's observations of the building component. See Fannie May Form 4099F:"]
[null,null,"https://multifamily.fanniemae.com/media/6701/display"]
[]
[null,"INSPECTION - ENERGY AND WATER"]
[]
[null,null,"Building Envelope"]
[null,null,"General Building/Envelope Description"]
[null,null,"Envelope Components","Construction Description",null,null,null,null,null,"Estimated Total R-Value","Verification method","Additional Notes"]
[null,null,"Above Grade Exterior Walls"]
[null,null,"Floor Perimeter/ Rim Joists"]
[null,null,"Below Grade Walls"]
[null,null,"Floor Above Unconditioned Space"]
[null,null,"Slab On/Below Grade"]
[null,null,"Roof"]
[null,null,"Ceilings to Unconditioned Attics"]
[null,null,"Wall to Unconditioned Space"]
[]
[]
[]
[null,null,"Windows","Location",null,"Operation Type",null,"Framing Material","Thermal Break","# of Panes","Glass Coating",null,"Gas Filled","U-value","Weather-stripping",null,"Qty. ","Condition",null,"Additional Notes"]
[null,null,"Window Type 1","In-Unit"]
[null,null,"Window Type 2","Common Area"]
[null,null,"Window Type 3","Bulkhead"]
[null,null,"Window Type 4"]
[null,null,"Window Type 5"]
[null,null,"Exterior Doors","Location",null,"Material",null,"% Glazing","Glazing Type",null,"Weather-stripping",null,"Qty.","Condition",null,null,"Additional Notes"]
[null,null,"Door Type 1"]
[null,null,"Door Type 2"]
[null,null,"Door Type 3"]
[null,null,"Door Type 4"]
[null,null,"Door Type 5"]
[null,null,"Air Infiltration","Location of Leakage",null,"Tightness",null,"Additional Notes"]
[null,null,"Measurable Infiltration","Open Window"]
[null,null,null,"Broken Window"]
[null,null,null,"Stairwell"]
[null,null,null,"Elevator"]
[null,null,null,"Other"]
[null,null,"Common Area Windows","Frame"]
[null,null,null,"Moving Surfaces"]
[null,null,"In-unit Windows","Frame"]
[null,null,null,"Moving Surfaces"]
[null,null,"Exterior Doors","Frame"]
[null,null,null,"Moving Surfaces"]
[null,null,"Laundry Room","Dryer Vent"]
[null,null,null,"Exhaust Fans"]
[null,null,"Attic","Hatch Frame"]
[null,null,null,"Hatch Door"]
[null,null,null,"Pipe Penetrations"]
[null,null,null,"Electrical Boxes"]
[null,null,null,"Recessed Lights"]
[null,null,null,"Wall Caps"]
[null,null,null,"Exhaust Fans"]
[null,null,null,"Open Chases"]
[null,null,null,"Chimney and Vents"]
[null,null,null,"Duct Penetrations"]
[null,null,null,"Party/firewalls"]
[null,null,null,"Other"]
[null,null,"Apartments","Pipe Penetrations"]
[null,null,null,"Exhaust Fans"]
[null,null,null,"Electrical Boxes"]
[null,null,null,"Patio Doors"]
[null,null,"Room Air Conditioner","Sleeve-to-wall Junction"]
[null,null,null,"Unit Fit in Sleeve"]
[null,null,"Basement Penetrations","Doors"]
[null,null,null,"Sill plates"]
[null,null,null,"Windows"]
[null,null,null,"Vents "]
[null,null,null,"Other"]
[null,null,"Roof Penetrations"]
[null,null,"Elevator Penthouses"]
[null,null,"Stairwells"]
[null,null,"Stack Effect","Abandoned chimneys/chases"]
[null,null,null,"Pipe penetrations into chases"]
[null,null,null,"Duct riser leakage"]
[null,null,null,"Floor-to-floor openings"]
[null,null,null,"Stairwell Doors"]
[null,null,null,"Openings between building interior and mechanical room, if mechanical room has an operating chimney"]
[null,null,null,"Other"]
[]
[]
[]
[null,null,"Blower Door Test, CFM50 (OPTIONAL)"]
[null,null,"Assumed or Modeled ACH"]
[]
[null,null,"Appliances"]
[null,null,"Common Area Appliances","Location of Equipment",null,"Manufacturer",null,"Model No.","EStar?","Qty.","Year Manufactured","Capacity (ft.3)","Annual kWh/unit","Fuel Source","Condition",null,null,null,"Additional Notes"]
[null,null,"Refrigerator"]
[null,null,"Stove/Range"]
[null,null,"Vending Machine"]
[null,null,"Clothes Washer"]
[null,null,"Clothes Dryer"]
[]
[]
[null,null,"Apartment Appliances","List Apartment Numbers",null,"Manufacturer",null,"Model No.","EStar?","Qty.","Year Manufactured","Capacity (ft.3)","Annual kWh/unit","Fuel Source","Condition","Additional Notes",null,null,"Additional Notes"]
[null,null,"Refrigerators"]
[]
[]
[]
[]
[]
[null,null,"Dishwashers"]
[null,null,"Stove/Range"]
[]
[]
[]
[]
[]
[]
[null,null,"Mechanical Systems"]
[null,null,"Heating Components","Equipment Type",null,null,"Qty.","Location of Equipment",null,"Spaces Served",null,"EStar?","Manufacturer",null,"Model No.","Year Installed","Fuel Source","Rated Efficiency Units","Rated Efficiency","Venting Type","Total System Input (Mbh)","Total System Output (Mbh)","Gas Meter(s) Gas Piping","Combustion Testing",null,null,null,null,null,"Supply  Temp.","Return  Temp.","Controls",null,null,null,null,null,"Thermostat Setpoints",null,"Condition","Additional Notes"]
[null,null,null,null,null,null,null,null,null,null,null,null,null,null,null,null,null,null,null,null,null,null,null,"Draft","Stack Temp.","% O2","% CO2","CO/CO air free","Combustion Efficiency",null,null,"Heat Timer","Energy Mgt. System (EMS)","Outdoor Air Reset","Night Setback","Sequencing Controls","Aquastat/ Pressuretrol"]
[null,null,"Primary Heating System"]
[null,null,"Heating System"]
[null,null,"Burner"]
[null,null,"Oil Storage Tanks"]
[null,null,"End Use Equipment"]
[null,null,"Secondary Heating System"]
[null,null,"Heating System"]
[null,null,"Burner"]
[null,null,"End Use Equipment"]
[null,null,"Tertiary Heating System"]
[null,null,"Heating System"]
[null,null,"Burner"]
[null,null,"End Use Equipment"]
[null,null,"Other Equipment","Location of Equipment",null,"Description",null,null,"Condition"]
[null,null,"ex. equipment"]
[]
[]
[]
[null,null,null,null,null,null,null,null,null,null,null,null,null,null,null,null,null,null,null,null,"Steam Systems "]
[null,null,"Heating Distribution","Central Distribution Type",null,"Operation Control","Description of Zones",null,null,"Qty. of Zones","Condensate Return Tanks","In-Unit Heating","In-Unit Heating Controls",null,"Hot Water Return Temp (F°)","Piping Description","Insulation Material",null,"Insulation Thickness","Linear ft. un-insulated","TRV's","Valve Type/Condition","Radiator Type/Condition","Steam Traps","Master Venting","Other","Other Equipment/Additional Notes",null,null,null,"Condition"]
[null,null,"Heating System Distribution",null,null,null,null,null,null,null,null,null,null,null,"."]
[null,null,"Primary Heating System Distribution"]
[null,null,"Secondary Heating System Distribution"]
[null,null,"Tertiary Heating System Distribution"]
[null,null,"Cooling Components","Equipment Type",null,null,"Qty.","Location of Equipment",null,"Spaces Served",null,"Manufacturer",null,"Model No.","EStar?","Year Installed","Fuel Source","Btu/h","Rated Efficiency","Rated Efficiency Units","Controls",null,null,"Thermostat Setpoints",null,"Ownership","% of Apartments w/ Cooling","Additional Notes",null,null,null,"Condition"]
[null,null,"Primary Cooling System"]
[null,null,"Secondary Cooling System"]
[null,null,"Tertiary Cooling System"]
[null,null,"DHW System","Equipment Description",null,null,"Qty.","DHW from Space Heating Boiler?","External Heat Exchanger?","Tankless Coil?","Mixing Valve?","Recirc. Pump?","Expansion Tank?","Storage Tank",null,null,null,null,null,"Location of Equipment",null,"Spaces Served",null,"EStar?","Manufacturer",null,"Model No.","Year Installed","Fuel Source","Rated Efficiency","Rated Efficiency (units)","Venting Type","Input (Mbh)","Output (Mbh)","Combustion Testing",null,null,null,null,null,"Controls","Thermostat Setpoints",null,"Condition",null,null,null,"Additional Notes"]
[null,null,null,null,null,null,null,null,null,null,null,null,null,"Storage Tank?","Heating Element?"," Capacity","Water Temp.","Insulated?","Insulation Thickness",null,null,null,null,null,null,null,null,null,null,null,null,null,null,null,"Draft","Stack Temp.","% O2","% CO2","CO/CO air free","Combustion Efficiency"]
[null,null,"DHW System 1"]
[null,null,"DHW System 2"]
[null,null,"DHW Distribution ","Insulation Material",null,"Insulation Thickness","Linear ft. un-insulated","Additional Notes"]
[null,null,"DHW System 1 Distribution"]
[null,null,"DHW System 2 Distribution"]
[null,null,"Gas","Description",null,null,"Location",null,"Condition",null,null,null,null,null,"Additional Notes"]
[]
[null,null,"Meters"]
[null,null,"Piping"]
[null,null,"Gas Leaks"]
[]
[null,null,"Other/Advanced Systems"]
[null,null,"Name of System","Description",null,null,"Location",null,"Condition",null,null,null,null,null,"Additional Notes"]
[]
[]
[]
[]
[]
[]
[null,null,"Building Lighting"]
[null,null,"Space","Lamp Watts","Lamps per Fixture","Watts per Fixture","Number of Fixtures","Floor Area (SF)","Lighting Power Density (LPD) (Divide total watts by floor area - w/SF)","Control","Hours per Year","Lamp Type","Ballast Type","Condition","Age (Years)","Back-up Battery?","Additional Notes"]
[null,null,"Common Area"]
[null,null,"Example:  Corridor"]
[null,null,"Basement Stairs"]
[null,null,"Basement "]
[null,null,"Basement "]
[null,null,"Basement Supers Office"]
[null,null,"Basement Boiler Room"]
[null,null,"Basement Bath"]
[null,null,"1st Floor Entry Vest"]
[null,null,"1st Floor Lobby Hall"]
[null,null,"2nd Floor Hall"]
[null,null,"3rd Floor Hall"]
[null,null,"4th Floor Hall"]
[null,null,"Exterior "]
[null,null,"Apartments"]
[null,null,"Example:  Apt5l Kitchen"]
[null,null,"Lighting: Apartments"]
[null,null,"Lighting: Apartments"]
[null,null,"Lighting: Apartments"]
[]
[]
[null,null,"Diagnostic Testing Results"]
[null,null,"Carbon Monoxide Testing","Appliance","Location","CO Concentration (ppm)"]
[null,null,"CO Test 1"]
[null,null,"CO Test 2"]
[null,null,"CO Test 3"]
[null,null,"Natural Gas Leaks"]
[null,null,"Tested for leaks with a gas detector along the length of visible gas pipes in all common areas?"]
[null,null,"Tested for leaks with a gas detector along the length of visible gas pipes in a sample of apartments, if apartments have gas appliances (minimum three apartments)?"]
[null,null,"Were leaks detected?"]
[null,null,"If Yes, was the building owner notified in writing?"]
[]
[null,null,"Fans (OPTIONAL SECTION - only required if there is a recommended upgrade)"]
[null,null,"System/Equipment Type","Motor Type",null,"Spaces/Systems Served",null,"Qty","Location",null,"Annual Hours","Controls",null,"Setpoints","Condition of Fans","Condition of Ducts","Type of Ductwork","Motor HP","Phase","CFM at Fan","CFM Data Source","CFM at Registers","CFM Data Source","CAR Dampers?","Motor Efficiency","NEMA Premium?","Annual kWh","Additional Notes"]
[]
[]
[]
[]
[]
[]
[]
[]
[]
[]
[]
[]
[]
[]
[]
[]
[null,null,"Pumps (OPTIONAL SECTION - only required if there is a recommended upgrade)"]
[null,null,"System/Equipment Type","Motor Type",null,"Spaces/Systems Served",null,"Qty","Location",null,"Annual Hours","Controls",null,"Setpoints","Motor HP","Phase","GPM at Pump","GPM Data Source","Motor Efficiency","NEMA Premium?","Annual kWh","Additional Notes"]
[]
[]
[]
[]
[]
[]
[]
[]
[]
[]
[]
[null,null,"Other Motors (OPTIONAL SECTION - only required if there is a recommended upgrade)"]
[null,null,"System/Equipment Type","Motor Type",null,"Spaces/Systems Served",null,"Qty","Location",null,"Annual Hours","Controls",null,"Setpoints","Motor HP","Phase","Motor Efficiency","NEMA Premium?","Annual kWh","Additional Notes"]
[]
[]
[]
[]
[]
[]
[]
[]
[]
[]
[]
[null,null,"Measurement Testing",null,"Measurement 1","Measurement 2","Measurement 3","Measurement 4","Measurement 5","Measurement 6","Measurement 7","Measurement 8","Measurement 9","Measurement 10","Measurement 11","Measurement 12","Measurement 13","Measurement 14","Measurement 15","Measurement 16","Measurement 17","Measurement 18","Measurement 19","Measurement 20"]
[null,null,"Moisture Testing"]
[null,null,"Location / Apartment Number"]
[null,null,"Relative Humidity"]
[null,null,"Note standing water, water damage, mold, etc."]
[null,null,"Interior Temperatures"]
[null,null,"Location / Apartment Number"]
[null,null,"Measured Room Temperature "]
[null,null,"Overheating Observations"]
[null,null,"Outdoor Temp. at Time of Measurements"]
[null,null,"Was heating/cooling system in operation at time of measurements?"]
[null,null,"Avg. Indoor Temp. in Heating Season"]
[null,null,"DHW Temperatures/ Fixture Flow Rates","Measurement 1","Measurement 2","Measurement 3","Measurement 4","Measurement 5","Measurement 6","Measurement 7","Measurement 8","Measurement 9","Measurement 10","Measurement 11","Measurement 12","Measurement 13","Measurement 14","Measurement 15","Measurement 16","Measurement 17","Measurement 18","Measurement 19","Measurement 20"]
[null,null,"Location / Apartment Number"]
[null,null,"Measured Tap Temperature "]
[null,null,"Toilets (rated GPF)"]
[null,null,"Showerhead Flow Rate (GPM)"]
[null,null,"Kitchen Faucet Flow Rate (GPM)"]
[null,null,"Bathroom Faucet Flow Rate (GPM)"]
[null,null,"Additional Notes"]
[null,null,"DHW Summary","Number of Fixtures",null,"Average Flow (gpf, gpm)",null,"Toilets: Average flushes per day\nShower/Faucets: Average minutes per day","Savings (gallons/year)"]
[null,null,null,null,null,"Existing","Proposed"]
[null,null,"Toilets",null,null,null,null,2,{"$f":"IFERROR(D264*(F264-G264)*H264*365,\"\")","v":0}]
[null,null,"Showers",null,null,null,null,2,{"$f":"IFERROR(D265*(F265-G265)*H265*365,\"\")","v":0}]
[null,null,"Kitchen Faucets",null,null,null,null,2,{"$f":"IFERROR(D266*(F266-G266)*H266*365,\"\")","v":0}]
[null,null,"Bathroom Faucets",null,null,null,null,null,0]
[null,null,"Total Savings per year (gallons)",null,null,null,null,null,{"$f":"SUM(I264:I267)","v":0}]
[null,null,"Guidelines"]
[null,null,"Fixture","NYC Multifamily Conservation Program (MCP)",null,"EPA WaterSense",null,"Better Practice"]
[null,null,"Toilet","1.6 gpf",null,"1.28 gpf",null,"0.8/1.6 gpf (dual flush)"]
[null,null,"Shower","2.5 gpm",null,"2.0 gpm",null,"1.5 gpm"]
[null,null,"Kitchen Faucet","No requirements",null,"No requirements",null,"1.8 gpm (based on CA requirements)"]
[null,null,"Bathroom Faucet","No requirements",null,"1.5 gpm",null,"0.35 gpm"]
[]
[]
[null,null,"Additional Information"]
[]
[null,null,"Additional Inspection Notes Not Covered in the Sections Above"]
[null,null,"Include any additional inspection related notes not covered in the above sections."]

{"sheet":"Electrification Screening","index":8,"n_rows":56,"n_cols":14,"rows_kept":56,"cut":false,"hidden":false,"merged":[[55,1,55,3],[7,1,7,8],[9,1,9,8],[10,1,10,8],[13,1,15,2],[15,3,15,6],[15,7,15,8],[8,1,8,8],[15,9,15,13],[17,1,17,13],[39,1,39,13],[47,1,47,2],[54,1,54,3]]}
[]
[]
[null,"ELECTRIFICATION AND ELECTRIFICATION-READINESS SCREENING"]
[]
[null,"Instructions / Definitions / Notes"]
[null,"1. Please determine Evaluation Status and fill in 'Evaluation Status' column for each measure."]
[null,"2. If Recommended: please fill in columns D and G if a particular measure is recommended, otherwise leave blank. If one of the measures identified is included in the Scope and Preliminary Cost Estimate tab, specify the measure number in column E and measure name in column F below."]
[null,"3. If not Recommended or Evaluated: fill in column H if a measure is evaluated, but not recommended - otherwise leave blank. Fill in column I if a measure was not evaluated - otherwise leave blank."]
[null,"4. Cost Factors: complete column H for each measure. If YES is indicated in column J, complete remaining cost factor columns if cost of a particular measure is known; estimated costs are acceptable. Otherwise leave blank."]
[null,"5. High Efficiency or Energy Efficient Measures: To determine, please use guidelines laid out by corresponding agencies (ie. HPD Preservation Design Guidelines and HCR Sustainability Guidelines). If not explicit, please use Energy Star."]
[]
[]
[]
[null,"Objective: This tab serves to capture any electrification or electrification-readiness measures that were considered during the scoping process. New York State initiatives have set goals to decarbonize the state's building stock and specifically low- to-moderate income housing. Please consider your building(s') path to electrification, even if there are not currently electrification or electrification-readiness recommendations for a specific project. See Note 1 for definitions of electrification and electrification-readiness upgrades. "]
[]
[null,null,null,"If Recommended",null,null,null,"If not Recommended or Evaluated",null,"Cost Factors"]
[null,"Measure","Evaluation Status (if measure is \"Present\", skip all other cells in row)","Recommended Work Scope Description","Measure Number","Measure Name","When would you consider installing measure?","Explanation of why measure is not recommended","Reason for Not Evaluating ","Was cost considered?","Unit Type","Quantity","Cost Per Unit","How did cost impact the evaluation status?"]
[null,"Electrification Readiness Measures"]
[null,"Envelope"]
[null,"Air Sealing (including weather stripping)"]
[null,"Insulation - Roof Deck or Attic"]
[null,"Insulation - Wall"]
[null,"Windows - High Efficiency Windows and/or Storm Windows (when single-pane windows are present)"]
[null,"Energy-Efficient Exterior Door Replacements"]
[null,"HVAC - Distribution "]
[null,"Insulate All Hot Surfaces (condensate tank, steam & HW piping)"]
[null,"Heat Recovery Ventilation or Energy Recovery Ventilation"]
[null,"Onsite Solar"]
[null,"Solar PV System"]
[null,"Electrical Loads"]
[null,"Upgrade in-unit panel size for future electrification efforts (installation of heat pump technology or electric appliances)"]
[null,"Upgrade master panel size for future electrification efforts (installation of heat pump technology,  electric appliances, or electric vehicle charging)"]
[null,"Upgrade Electrical Service for future electrification efforts  (installation of heat pump technology, electric appliances, or electric vehicle charging)"]
[null,"Alternative metering configuration that would encourage electrification (ie. Master metering, sub-metering, or direct metering)"]
[null,"Heat Pump Water Heater Readiness"]
[null,"Ventilation to accommodate Heat Pump Water Heaters, such as air intake and exhaust. This may include louvered doors for utility closets or ducting to the outside."]
[null,"Additional Electrification Considerations"]
[null,"Roof space for outdoor heat pump units."]
[null,"Utility closet space for Heat Pump Water Heaters or Single Package Vertical Heat Pump."]
[null,"Electrification Measures"]
[null,"Appliances (energy efficient and  all-electric)"]
[null,"ENERGY STAR Refrigerators"]
[null,"ENERGY STAR Dishwashers"]
[null,"ENERGY STAR Clothes Washer"]
[null,"ENERGY STAR Electric Clothes Dryer"]
[null,"ENERGY STAR Electric Cooking Appliances (Induction Cooktop or Electric Resistance)"]
[null,"ENERGY STAR Window-mounted Air Conditioning"]
[null,"Heat Pump - HVAC [please select all technologies that apply]"]
[]
[null,"Heat Pump - Domestic Hot Water"]
[null,"DHW - Low-flow Showerheads and Sink Aerators"]
[null,"Heat Pump Water Heater"]
[]
[null,"Note 1: Definitions"]
[null,"Electrification upgrades: Building improvements that transition at least one heating/cooling or domestic hot water system (DHW) to a high-performance electric technology, such as air source heat pumps, variable refrigerant flow systems, and/or technologies that are in alignment with NYS Clean Heat Program."]
[null,"Electrification-readiness upgrades: Building improvements that significantly reduce heating/cooling load and/or can enable future electrification such as substantial building envelope improvement measures or ventilation improvement measures."]

{"sheet":"Energy and Water Use","index":9,"n_rows":109,"n_cols":52,"rows_kept":109,"cut":false,"hidden":false,"merged":[[31,29,31,30],[31,49,31,50],[32,29,32,30],[32,49,32,50],[28,31,28,39],[28,41,28,51],[29,29,29,30],[29,49,29,50],[30,29,30,30],[30,49,30,50],[2,2,2,25],[34,23,34,24],[34,12,34,13],[49,10,49,24],[66,2,66,6],[56,2,56,6],[33,2,33,25],[28,3,28,12],[32,23,32,24],[30,23,30,24],[31,23,31,24],[30,1,30,2],[31,1,31,2],[32,1,32,2],[3,2,3,25],[48,5,48,8],[67,2,67,6],[35,1,35,2],[35,23,35,24],[52,5,52,8],[47,5,47,8],[37,1,37,2],[39,1,40,2],[37,23,37,24],[36,23,36,24],[54,5,54,8],[53,5,53,8],[36,1,36,2],[49,5,49,8],[51,5,51,8],[50,5,50,8],[41,1,42,2],[13,12,13,15],[14,12,14,15],[15,12,15,15],[29,23,29,24],[7,1,7,25],[16,12,16,15],[46,2,46,4],[46,5,46,8],[11,1,11,25],[13,1,13,2],[14,1,14,2],[15,1,15,2],[22,1,22,25],[15,3,15,6],[15,7,15,11],[13,7,13,11],[13,3,13,6],[14,3,14,6],[14,7,14,11],[16,1,16,2],[16,3,16,6],[16,7,16,11],[44,1,44,25],[41,15,42,15],[17,1,17,15],[28,14,28,25],[29,1,29,2],[41,17,42,17],[41,18,42,18],[41,20,42,20],[39,15,40,15],[39,17,40,17],[39,18,40,18],[39,20,40,20],[79,2,79,5],[108,5,108,8],[100,5,100,8],[100,2,100,4],[107,5,107,8],[106,5,106,8],[105,5,105,8],[104,5,104,8],[103,5,103,8],[102,5,102,8],[101,5,101,8],[99,2,99,8],[90,2,90,3]]}
[]
[null,"Instructions / Definitions / Notes "]
[null,1,"Energy data from the utility companies does not need to be shown, but can be included if desired on a separate tab."]
[null,2,"In the cost section below, enter the total annual cost of each energy type.  Blended utility rates will be calculated automatically in the Utility Rates table."]
[]
[null,"ENERGY AND WATER USE"]
[]
[null,"Project Info"]
[]
[null,"Is this project benchmarking energy and water usage in EPA Portfolio Manager?"]
[]
[null,"Summary of Metering"]
[]
[null,"APARTMENT USE",null,"Metering Type*",null,null,null,"Paid By",null,null,null,null,"Notes"]
[null,"Electricity"]
[null,"Gas"]
[null,"Water"]
[null,"*Direct Metered: meter for each unit provided by the utility; Submetered: meter for each unit provided by the building; Master Metered: no unit meters, tenants charged indirectly through rent or other common charges."]
[]
[null,"OWNER-PAID COMMON AREA ELECTRICITY TARIFF:"]
[null,"(only needed for buildings with ConEd electricity)"]
[]
[null,"Summary of Utility Data Analysis"]
[null,"Note:  "]
[null,"• If your building is located in NYC and you have benchmarking data that has been submitted to the city for compliance, please use that data."]
[null,"• These amounts should NOT be normalized for weather- it should be the raw energy data, for example as received from the utility."]
[null,"• If \"Other\" is used, populate conversion factors and fill fuel type at bottom of this tab"]
[]
[null,null,null,"Existing Annual Energy Use and Cost",null,null,null,null,null,null,null,null,null,null,"Projected Annual Energy Use and Cost",null,null,null,null,null,null,null,null,null,null,null,null,null,null,null,null,"Existing Annual Source Energy Use and Cost",null,null,null,null,null,null,null,null,null,"Projected Annual Source Energy Use and Cost"]
[null,"(All values are total annual values)",null,"Electricity (kwh/yr)","Natural Gas (therms/yr)","Oil #2 (gal/yr)","Oil #4 (gal/yr)","Oil #6 (gal/yr)","District Stream  (Mlbs/ yr)","Propane (gal/yr)","Water (gal/yr)","Other (note units)","Total Site \nEnergy Use\n (kBtu/yr)",null,"Electricity (kwh/yr)","Natural Gas (therms/yr)","Oil #2 (gal/yr)","Oil #4 (gal/yr)","Oil #6 (gal/yr)","District Stream  (Mlbs/ yr)","Propane (gal/yr)","Water (gal/yr)","Other (note units)","Total Site Energy Use (kBtu/yr)",null,"% Reduction",null,null,null,"(All values are total annual values)",null,"Electricity  (kBtu/yr)","Natural Gas  (kBtu/yr)","Oil #2  (kBtu/yr)","Oil #4  (kBtu/yr)","Oil #6  (kBtu/yr)","District Stream   (kBtu/yr)","Water  (kBtu/yr)","Other (note units)","Total Source\nEnergy Use\n (kBtu/yr)",null,"Electricity  (kBtu/yr)","Natural Gas  (kBtu/yr)","Oil #2  (kBtu/yr)","Oil #4  (kBtu/yr)","Oil #6  (kBtu/yr)","District Stream   (kBtu/yr)","Water  (kBtu/yr)","Other (note units)","Total Source\nEnergy Use\n (kBtu/yr)",null,"% Reduction"]
[null,"Owner-Paid Consumption",null,null,null,null,null,null,null,null,null,null,{"$f":"D31*$E$82+E31*$E$83+F31*$E$84+G31*$E$85+H31*$E$86+I31*$E$87+L31*$E$89","v":0},null,{"$f":"D31-(SUMIF('Scope and Prelim. Cost Est.'!Y26:Y125,\"No\",'Scope and Prelim. Cost Est.'!Q26:Q125)+SUMIF('Scope and Prelim. Cost Est.'!Y26:Y125,\"No\",'Scope and Prelim. Cost Est.'!R26:R125))","v":0},{"$f":"E31-((SUMIFS('Scope and Prelim. Cost Est.'!S26:S125,'Scope and Prelim. Cost Est.'!Y26:Y125,\"No\",'Scope and Prelim. Cost Est.'!U26:U125,\"Natural Gas\")+SUMIFS('Scope and Prelim. Cost Est.'!T26:T125,'Scope and Prelim. Cost Est.'!Y26:Y125,\"No\",'Scope and Prelim. Cost Est.'!U26:U125,\"Natural Gas\"))/$F$83)","v":0},{"$f":"F31-((SUMIFS('Scope and Prelim. Cost Est.'!S26:S125,'Scope and Prelim. Cost Est.'!Y26:Y125,\"No\",'Scope and Prelim. Cost Est.'!U26:U125,\"Oil #2\")+SUMIFS('Scope and Prelim. Cost Est.'!T26:T125,'Scope and Prelim. Cost Est.'!Y26:Y125,\"No\",'Scope and Prelim. Cost Est.'!U26:U125,\"Oil #2\"))/$F$84)","v":0},{"$f":"G31-((SUMIFS('Scope and Prelim. Cost Est.'!S26:S125,'Scope and Prelim. Cost Est.'!Y26:Y125,\"No\",'Scope and Prelim. Cost Est.'!U26:U125,\"Oil #4\")+SUMIFS('Scope and Prelim. Cost Est.'!T26:T125,'Scope and Prelim. Cost Est.'!Y26:Y125,\"No\",'Scope and Prelim. Cost Est.'!U26:U125,\"Oil #4\"))/$F$85)","v":0},{"$f":"H31-((SUMIFS('Scope and Prelim. Cost Est.'!S26:S125,'Scope and Prelim. Cost Est.'!Y26:Y125,\"No\",'Scope and Prelim. Cost Est.'!U26:U125,\"Oil #6\")+SUMIFS('Scope and Prelim. Cost Est.'!T26:T125,'Scope and Prelim. Cost Est.'!Y26:Y125,\"No\",'Scope and Prelim. Cost Est.'!U26:U125,\"Oil #6\"))/$F$86)","v":0},{"$f":"I31-((SUMIFS('Scope and Prelim. Cost Est.'!S26:S125,'Scope and Prelim. Cost Est.'!Y26:Y125,\"No\",'Scope and Prelim. Cost Est.'!U26:U125,\"District Steam\")+SUMIFS('Scope and Prelim. Cost Est.'!T26:T125,'Scope and Prelim. Cost Est.'!Y26:Y125,\"No\",'Scope and Prelim. Cost Est.'!U26:U125,\"District Steam\"))/$F$87)","v":0},{"$f":"J31-((SUMIFS('Scope and Prelim. Cost Est.'!S26:S125,'Scope and Prelim. Cost Est.'!Y26:Y125,\"No\",'Scope and Prelim. Cost Est.'!U26:U125,\"Propane\")+SUMIFS('Scope and Prelim. Cost Est.'!T26:T125,'Scope and Prelim. Cost Est.'!Y26:Y125,\"No\",'Scope and Prelim. Cost Est.'!U26:U125,\"Propane\"))/$F$88)","v":0},null,null,{"$f":"O31*$E$82+P31*$E$83+Q31*$E$84+R31*$E$85+S31*$E$86+T31*$E$87+W31*$E$89","v":0},{"$f":"P31*$E$82+Q31*$E$83+R31*$E$84+S31*$E$85+V31*$E$87","v":0},{"$f":"IFERROR((M31-X31)/M31,\"-\")","v":"-"},null,null,null,"Owner-Paid Consumption",null,{"$f":"D31*$E$82*$D$92","v":0},{"$f":"E31*$E$83*$D$93","v":0},{"$f":"F31*$E$84*$D$94","v":0},{"$f":"G31*$E$85*$D$95","v":0},{"$f":"H31*$E$86*$D$96","v":0},{"$f":"I31*$E$87*$D$97","v":0},{"$f":"K31","v":0},null,{"$f":"SUM(AF31:AL31)","v":0},null,{"$f":"O31*$E$82*$D$92","v":0},{"$f":"P31*$E$83*$D$93","v":0},{"$f":"Q31*$E$84*$D$94","v":0},{"$f":"R31*$E$85*$D$95","v":0},{"$f":"S31*$E$86*$D$96","v":0},{"$f":"T31*$E$87*$D$97","v":0},{"$f":"V31","v":0},null,{"$f":"SUM(AP31:AV31)","v":0},null,{"$f":"IFERROR((AN31-AX31)/AN31,\"-\")","v":"-"}]
[null,"Aggregated Resident Consumption",null,null,null,null,null,null,null,null,null,null,{"$f":"D32*$E$82+E32*$E$83+F32*$E$84+G32*$E$85+H32*$E$86+I32*$E$87+L32*$E$89","v":0},null,{"$f":"D32-(SUMIF('Scope and Prelim. Cost Est.'!Y26:Y125,\"Yes\",'Scope and Prelim. Cost Est.'!Q26:Q125)+SUMIF('Scope and Prelim. Cost Est.'!Y26:Y125,\"Yes\",'Scope and Prelim. Cost Est.'!R26:R125))","v":0},{"$f":"E32-((SUMIFS('Scope and Prelim. Cost Est.'!S26:S125,'Scope and Prelim. Cost Est.'!Y26:Y125,\"Yes\",'Scope and Prelim. Cost Est.'!U26:U125,\"Natural Gas\")+SUMIFS('Scope and Prelim. Cost Est.'!T26:T125,'Scope and Prelim. Cost Est.'!Y26:Y125,\"Yes\",'Scope and Prelim. Cost Est.'!U26:U125,\"Natural Gas\"))/$F$83)","v":0},{"$f":"F32-((SUMIFS('Scope and Prelim. Cost Est.'!S26:S125,'Scope and Prelim. Cost Est.'!Y26:Y125,\"Yes\",'Scope and Prelim. Cost Est.'!U26:U125,\"Oil #2\")+SUMIFS('Scope and Prelim. Cost Est.'!T26:T125,'Scope and Prelim. Cost Est.'!Y26:Y125,\"Yes\",'Scope and Prelim. Cost Est.'!U26:U125,\"Oil #2\"))/$F$84)","v":0},{"$f":"G32-((SUMIFS('Scope and Prelim. Cost Est.'!S26:S125,'Scope and Prelim. Cost Est.'!Y26:Y125,\"Yes\",'Scope and Prelim. Cost Est.'!U26:U125,\"Oil #4\")+SUMIFS('Scope and Prelim. Cost Est.'!T26:T125,'Scope and Prelim. Cost Est.'!Y26:Y125,\"Yes\",'Scope and Prelim. Cost Est.'!U26:U125,\"Oil #4\"))/$F$85)","v":0},{"$f":"H32-((SUMIFS('Scope and Prelim. Cost Est.'!S26:S125,'Scope and Prelim. Cost Est.'!Y26:Y125,\"Yes\",'Scope and Prelim. Cost Est.'!U26:U125,\"Oil #6\")+SUMIFS('Scope and Prelim. Cost Est.'!T26:T125,'Scope and Prelim. Cost Est.'!Y26:Y125,\"Yes\",'Scope and Prelim. Cost Est.'!U26:U125,\"Oil #6\"))/$F$86)","v":0},{"$f":"I32-((SUMIFS('Scope and Prelim. Cost Est.'!S26:S125,'Scope and Prelim. Cost Est.'!Y26:Y125,\"Yes\",'Scope and Prelim. Cost Est.'!U26:U125,\"District Steam\")+SUMIFS('Scope and Prelim. Cost Est.'!T26:T125,'Scope and Prelim. Cost Est.'!Y26:Y125,\"Yes\",'Scope and Prelim. Cost Est.'!U26:U125,\"District Steam\"))/$F$87)","v":0},{"$f":"J32-((SUMIFS('Scope and Prelim. Cost Est.'!S26:S125,'Scope and Prelim. Cost Est.'!Y26:Y125,\"Yes\",'Scope and Prelim. Cost Est.'!U26:U125,\"Propane\")+SUMIFS('Scope and Prelim. Cost Est.'!T26:T125,'Scope and Prelim. Cost Est.'!Y26:Y125,\"Yes\",'Scope and Prelim. Cost Est.'!U26:U125,\"Propane\"))/$F$88)","v":0},null,null,{"$f":"O32*$E$82+P32*$E$83+Q32*$E$84+R32*$E$85+S32*$E$86+T32*$E$87+W32*$E$89","v":0},{"$f":"P32*$E$82+Q32*$E$83+R32*$E$84+S32*$E$85+V32*$E$87","v":0},{"$f":"IFERROR((M32-X32)/M32,\"-\")","v":"-"},null,null,null,"Aggregated Resident Consumption",null,{"$f":"D32*$E$82*$D$92","v":0},{"$f":"E32*$E$83*$D$93","v":0},{"$f":"F32*$E$84*$D$94","v":0},{"$f":"G32*$E$85*$D$95","v":0},{"$f":"H32*$E$86*$D$96","v":0},{"$f":"I32*$E$87*$D$97","v":0},{"$f":"K32","v":0},null,{"$f":"SUM(AF32:AL32)","v":0},null,{"$f":"O32*$E$82*$D$92","v":0},{"$f":"P32*$E$83*$D$93","v":0},{"$f":"Q32*$E$84*$D$94","v":0},{"$f":"R32*$E$85*$D$95","v":0},{"$f":"S32*$E$86*$D$96","v":0},{"$f":"T32*$E$87*$D$97","v":0},{"$f":"V32","v":0},null,0,null,{"$f":"IFERROR((AN32-AX32)/AN32,\"-\")","v":"-"}]
[null,"Whole Building Consumption",null,{"$f":"D31+D32","v":0},{"$f":"E31+E32","v":0},{"$f":"F31+F32","v":0},0,0,0,0,0,{"$f":"L31+L32","v":0},{"$f":"M31+M32","v":0},null,{"$f":"O31+O32","v":0},0,{"$f":"Q31+Q32","v":0},{"$f":"R31+R32","v":0},{"$f":"S31+S32","v":0},{"$f":"T31+T32","v":0},{"$f":"U31+U32","v":0},0,0,0,null,{"$f":"IFERROR((M33-X33)/M33,\"-\")","v":"-"},null,null,null,"Whole Building Consumption",null,{"$f":"AF31+AF32","v":0},{"$f":"AG31+AG32","v":0},0,0,0,0,0,0,{"$f":"AN31+AN32","v":0},null,{"$f":"AP31+AP32","v":0},{"$f":"AQ31+AQ32","v":0},{"$f":"AR31+AR32","v":0},{"$f":"AS31+AS32","v":0},null,{"$f":"AU31+AU32","v":0},{"$f":"AV31+AV32","v":0},{"$f":"AW31+AW32","v":0},{"$f":"AX31+AX32","v":0},null,{"$f":"IFERROR((AN33-AX33)/AN33,\"-\")","v":"-"}]
[]
[null,null,null,"Electricity ($/yr)","Natural Gas ($/yr)","Oil #2 ($/yr)","Oil #4 ($/yr)","Oil #6 ($/yr)","District Stream  \n($/ yr)","Propane ($/yr)","Water ($/yr)","Other (note units)","Total Site Energy Cost ($/yr)",null,"Electricity ($/yr)","Natural Gas ($/yr)","Oil #2 ($/yr)","Oil #4 ($/yr)","Oil #6 ($/yr)","District Stream  \n($/ yr)","Propane ($/yr)","Water ($/yr)","Other (note units)","Total Site Energy Cost ($/yr)",null,"% Reduction"]
[null,"Owner-Paid Costs",null,null,null,null,null,null,null,null,null,null,{"$f":"SUM(D36:I36,L36)","v":0},null,{"$f":"IF(O31=0,0,O31*$E$58)","v":0},{"$f":"IF(P31=0,0,P31*$E$59)","v":0},{"$f":"IF(Q31=0,0,Q31*$E$60)","v":0},{"$f":"IF(R31=0,0,R31*$E$61)","v":0},{"$f":"IF(S31=0,0,S31*$E$62)","v":0},{"$f":"IF(T31=0,0,T31*$E$63)","v":0},{"$f":"IF(U31=0,0,U31*$E$64)","v":0},{"$f":"IF(V31=0,0,V31*$E$65)","v":0},null,{"$f":"SUM(O36:T36,W36)","v":0},null,{"$f":"IFERROR((M36-X36)/M36,\"-\")","v":"-"}]
[null,"Aggregated Resident Cost",null,null,null,null,null,null,null,null,null,null,{"$f":"SUM(D37:I37,L37)","v":0},null,{"$f":"IF(O32=0,0,O32*$E$58)","v":0},{"$f":"IF(P32=0,0,P32*$E$59)","v":0},{"$f":"IF(Q32=0,0,Q32*$E$60)","v":0},{"$f":"IF(R32=0,0,R32*$E$61)","v":0},{"$f":"IF(S32=0,0,S32*$E$62)","v":0},{"$f":"IF(T32=0,0,T32*$E$63)","v":0},{"$f":"IF(U32=0,0,U32*$E$64)","v":0},{"$f":"IF(V32=0,0,V32*$E$65)","v":0},null,{"$f":"SUM(O37:T37,W37)","v":0},null,{"$f":"IFERROR((M37-X37)/M37,\"-\")","v":"-"}]
[null,"Whole Building Cost",null,{"$f":"D36+D37","v":0},{"$f":"E36+E37","v":0},{"$f":"F36+F37","v":0},{"$f":"G36+G37","v":0},{"$f":"H36+H37","v":0},{"$f":"I36+I37","v":0},{"$f":"J36+J37","v":0},0,0,0,null,{"$f":"IF(O36=\"\",0,O36+O37)","v":0},0,0,0,0,0,0,{"$f":"IF(V36=\"\",0,V36+V37)","v":0},{"$f":"W36+W37","v":0},{"$f":"X36+X37","v":0},null,{"$f":"IFERROR((M38-X38)/M38,\"-\")","v":"-"}]
[]
[null,"Bill Start Date "]
[]
[null,"Bill End Date"]
[]
[]
[null,"Summary of Utility Analysis"]
[]
[null,null,"Year reported above:"]
[null,null,"Site Energy Use Index",null,null,{"$f":"IFERROR(M33/'Building Info'!F24:J24,\"\")","v":""},null,null,null,"kBtu/SF/year"]
[null,null,"Source Energy Use Index",null,null,{"$f":"IFERROR((D33*E82*D92+E33*E83*D93+F33*E84*D94+G33*E85*D95+H33*E86*D96+I33*E87*D97)/'Building Info'!F24:J24,\"\")","v":""},null,null,null,"kBtu/SF/year"]
[null,null,"Heating Index",null,null,null,null,null,null,"Btu/SF/HDD","Note: The Heating Index should include one year of heating consumption."]
[null,null,"Total HDD in Benchmarked Year",null,null,null,null,null,null,"HDD"]
[null,null,"Energy Cost Index",null,null,{"$f":"IFERROR(M38/'Building Info'!F24,\"\")","v":""},null,null,null,"$/SF/year"]
[null,null,"Water Consumption Index",null,null,{"$f":"IFERROR(K33/('Building Info'!H34+'Building Info'!H35+'Building Info'!H36*2+'Building Info'!H37*3+'Building Info'!H38*4+'Building Info'!H39*5),\"\")","v":""},null,null,null,"Gal/Bedroom/Day"]
[null,null,"Existing GHG Intensity Index",null,null,{"$f":"IFERROR((D33*E82*D102+E33*E83*D103+F33*E84*D104+G33*E85*D105+H33*E86*D106+I33*E87*D107)/'Building Info'!$F$24,\"\")","v":""},null,null,null,"tCO2e/SF","Note: GHG calculations are based on conversion factors and sources below."]
[null,null,"Projected GHG Intensity Index",null,null,{"$f":"IFERROR((O33*E82*D102+P33*E83*D103+Q33*E84*D104+R33*E85*D105+S33*E86*D106+T33*E87*D107)/'Building Info'!$F$24,\"\")","v":""},null,null,null,"tCO2e/SF","Note: GHG calculations are based on conversion factors and sources below."]
[]
[null,null,"Blended Utility Rates"]
[null,null,null,"Electricity Rate",null,"per kWh"]
[null,null,null,"Natural Gas Rate",null,"per Therm"]
[null,null,null,"Oil #2 Rate",null,"per Gal"]
[null,null,null,"Oil #4 Rate",{"$f":"IF(G33=0,\"\",G38/G33)","v":""},"per Gal"]
[null,null,null,"Oil #6 Rate",{"$f":"IF(H33=0,\"\",H38/H33)","v":""},"per Gal"]
[null,null,null,"District Steam Rate",{"$f":"IF(I33=0,\"\",I38/I33)","v":""},"per MLb"]
[null,null,null,"Propane Rate",null,"per Gal"]
[null,null,null,"Water Rate",null,"per Gal"]
[]
[null,null,"Estimated End Use Breakdown of Energy Consumption"]
[null,null,"Enter the estimated percent of electricity and/or fossil fuel that is used for each of the following end uses:"]
[null,null,"Electricity"]
[null,null,"Space Heating",null,null,"%"]
[null,null,"Cooling",null,null,"%"]
[null,null,"Lighting",null,null,"%"]
[null,null,"Other",null,null,"%"]
[null,null,"Total",null,{"$f":"SUM(E70:E73)","v":0},"%"]
[null,null,"Fuel"]
[null,null,"Space Heating",null,null,"%"]
[null,null,"Hot Water / Baseload",null,null,"%"]
[null,null,"Total",null,{"$f":"SUM(E76:E77)","v":0},"%"]
[]
[null,null,"Conversion Factors Used in Calculations Above"]
[null,null,null,"Units","kBtu","mmbtu"]
[null,null,"Electricity","kwh",3.4119999999999999,{"$f":"E82/1000","v":3.4120000000000001E-3}]
[null,null,"Natural gas","therms",100,0.1]
[null,null,"Oil #2","gals",139.6,0.1396]
[null,null,"Oil #4","gals",145.1,0.14510000000000001]
[null,null,"Oil #6","gals",152.4,0.15240000000000001]
[null,null,"District steam","Mlbs",1194000,1194]
[null,null,"Propane","gals",91,{"$f":"E88/1000","v":9.0999999999999998E-2}]
[null,null,"Propane"]
[]
[null,null,"Site-to-Source Conversion Factors"]
[null,null,"Electricity",2.5499999999999998]
[null,null,"Natural gas",1.05]
[null,null,"Oil #2",1.01]
[null,null,"Oil #4",1.01]
[null,null,"Oil #6",1.01]
[null,null,"District steam",1.2]
[null,null,"Propane",1.01]
[]
[null,null,"Greenhouse Gas Emission Conversion Factors"]
[null,null,"Please update conversion factors as appropriate and cite the source",null,null,"Source"]
[null,null,"Electricity",4.2497099999999997E-5,"tCO2/kBTU","NYC Local Law 97"]
[null,null,"Natural gas",5.3109999999999998E-5,"tCO2/kBTU","NYC Local Law 97"]
[null,null,"Oil #2",7.4209999999999996E-5,"tCO2/kBTU","NYC Local Law 97"]
[null,null,"Oil #4",7.5290000000000006E-5,"tCO2/kBTU","NYC Local Law 97"]
[null,null,"Oil #6",7.5350000000000002E-5,"tCO2/kBTU","ENERGY STAR Portfolio Manager"]
[null,null,"District steam",4.32E-5,"tCO2/kBTU","NYC Local Law 97"]
[null,null,"Propane",6.4250000000000003E-5,"tCO2/kBTU","ENERGY STAR Portfolio Manager"]
[null,null,"Other",null,null,null,null,null,null,null,null," "]

{"sheet":"Solar Screening Results ","index":10,"n_rows":15,"n_cols":3,"rows_kept":15,"cut":false,"hidden":false,"merged":[[2,2,2,10],[3,2,3,10],[7,2,7,10]]}
[]
[null,"Instructions / Definitions / Notes"]
[null,1,"All projects where a new roof or significant roof repairs are indicated as part of the scope are strongly encouraged to do a preliminary screening for solar. For HPD projects, if new roofs or signficant roof repairs are indicated the analysis is mandatory. This will help building owners determine if solar is viable or, for HPD projects, determine if solar will likely be required as part of the project’s scope as part of HPD's Solar Where Feasible mandate. If there is no roof work and the roof is more than 5 years old, applicants can skip this tab. "]
[null,null,"For HPD-funded projects, providers are encouraged to work with Solar One, HPD’s non-profit partner, who can assist applicants to perform a free feasibility screening using the link below. Other non-HPD projects may use the https://nysolarmap.com tool. Note that this is a pre-screening only and projects that do include solar will likely need to update their analysis during the design and scoping process. The results page of the analysis should be included on the Solar Tab and the fully populated Solar Screening Tool should be submitted along with the IPNA submission"]
[null,null,"HPD Solar Feasibility Analysis - Formstack"]
[null,null,"Futher information about HPD's Solar Where Feasible Program can be found in the link below:"]
[null,null,"https://www1.nyc.gov/site/hpd/services-and-information/solar-where-feasible.page "]
[null,null,"Non-HPD projects may use the NYSolarMap tool, but will have to estimate incentives manually. Projects are encouraged to click the NYSERDA link for information about NYSERDA's NY-Sun incentives and Federal/ State Tax Credits for solar."]
[null,null,"https://nysolarmap.com/ (outlook.com)"]
[null,null,"Solar for Multifamily Buildings - NYSERDA"]
[null,2,"All projects that don't plan to do roof work may skip this tab."]
[]
[]
[]
[null,null," "]

{"sheet":"LL97 Compliance - NYC ONLY","index":11,"n_rows":60,"n_cols":26,"rows_kept":60,"cut":false,"hidden":false,"merged":[[2,2,2,16],[6,2,6,16],[57,2,57,6],[56,1,56,16],[57,7,57,16],[23,2,23,3],[23,6,23,8],[51,5,51,16],[52,5,52,16],[53,5,53,16],[54,5,54,16],[43,1,43,16],[44,5,44,16],[45,5,45,16],[46,5,46,16],[24,2,24,3],[3,2,3,16],[49,5,49,16],[50,5,50,16],[27,2,27,3],[27,6,27,8],[29,1,29,16],[25,2,25,3],[25,6,25,8],[26,2,26,3],[26,6,26,8],[4,2,4,16],[47,5,47,16],[48,5,48,16],[12,4,12,7],[13,4,13,7],[14,4,14,7],[59,2,59,6],[59,7,59,16],[58,2,58,6],[17,2,17,3],[17,6,17,8],[30,8,31,8],[18,13,18,16],[19,13,19,16],[20,13,20,16],[21,13,21,16],[22,13,22,16],[23,13,23,16],[24,13,24,16],[25,13,25,16],[26,13,26,16],[27,13,27,16],[16,1,16,16],[13,1,13,3],[14,1,14,3],[17,13,17,16],[30,9,31,9],[30,10,31,10],[18,2,18,3],[18,6,18,8],[19,2,19,3],[19,6,19,8],[21,2,21,3],[21,6,21,8],[22,2,22,3],[22,6,22,8],[24,6,24,8],[30,7,31,7],[5,2,5,16],[7,2,7,16],[12,1,12,3],[11,1,11,7],[30,14,30,16],[30,1,31,1],[30,2,31,2],[30,3,31,3],[30,4,31,4],[30,5,31,5],[30,11,31,11],[30,12,31,12],[30,13,31,13],[30,6,31,6],[20,2,20,3],[20,6,20,8]]}
[]
[null,"Instructions / Definitions / Notes "]
[null,1,"Local Law 97* requires owners of most buildings > 25,000 SF in NYC to deeply reduce their carbon emissions. The law is made up of two sections: Article 320 which establishes emissions limits for buildings starting in 2024 (although the deadline is delayed for certain affordable housing), and Article 321, which establishes an alternative compliance pathway for some affordable housing. Because many affordable housing projects are subject to Article 321 compliance deadlines in 2024, it is imperative that IPNA scopes enable buildings to comply. For projects subject to other deadlines, the IPNA can help buildings design for future compliance. "]
[null,2,"Completion of this tab is required for all projects in NYC subject to Local Law 97*. All other projects may skip this tab.  Completion of this tab is mandatory, and must align with the scopes outlined in the IPNA. It is recommended that projects with buildings with upcoming LL87 reporting deadlines implement scopes that incorporate all measures so as to be in compliance with LL97 and LL87 simultaneously - to the extent allowed by DOB. This tab will be used to inform building scopes and ensure that the proper steps are taken for compliance. It will be the owner's responsibility to produce the mandatory reports to prove compliance. As of November 2021, LL97 rulemaking has not been finalized. Provider should use the most up-to-date LL97 guidance released by the DOB: see links at bottom of page."]
[null,3,"Fill in Table 1 for every building in the project > 25,000 sf and/or subject to Local Law 97, noting which section of the law is applicable. See link at bottom of page for HPD's\"Fact Sheet for LL97 and Affordable Housing\""]
[null,4,"Fill in Table 2 for every building in the project proposing to meet LL97 Compliance by implementing  the applicable Prescriptive Energy Conservation Measures (as outlined in Article 321). The scope outlined in this table must align with the scope outlined in the rest of the IPNA, including Scope and Prelim, O&M, and Replacement Cost Schedule tabs as appropriate. "]
[null,5,"Fill in Table 3 for every building in the project proposing to meet LL97 compliance by meeting the appropriate emissions limits outlined in LL97 (buildings subject to Article 321 must meet 2030 limits in 2024, buildings subject to Article 320.3.9. will meet 2035 limits starting in 2035). The scope outlined in this table must align with the scope outlined in the rest of the IPNA, including Scope and Prelim, O&M, and Replacement Cost Schedule tabs as appropriate. "]
[null,"*","If you have any questions about Local Law 97, including Articles 320 or 321, or would like guidance on Local Law 97 for Affordable Housing, please see the links at the bottom of the page. "]
[]
[null,"LOCAL LAW 97 COMPLIANCE REPORT & WORKSHEET - APPLICABLE NYC BUILDINGS ONLY"]
[]
[null,"Project Info"]
[null,"Project Name"]
[null,"Total # of Buildings in Project"]
[null,"Total # of Buildings in Project subject to LL97",null,null,null,null,null,null,null,null,null,null,null,null,null,null,null,null,null,null,null,null,null,"Heating System","Heating System","Heating System"]
[]
[null,"TABLE 1: FILL IN FOR ALL BUILDINGS IN PROJECT > 25,000 SF AND/OR SUBJECT TO LOCAL LAW 97 (add additional rows if necessary)"]
[null,"#","Address",null,"BBL","Building GSF","LL97 Compliance Requirement",null,null,"Existing GHG intensity (tons CO2e/ sf)","Meets 2024 limits (Y/N)?","Meets 2030 limits (Y/N)?","Primary Fuel Type (heating)","Proposed LL97 Compliance Pathway ",null,null,null,null,9,"Heating System","Heating System","Heating System","Heating System"]
[null,1,null,null,null,null,null,null,null,null,null,null,null,null,null,null,null,null,"Building is below 2030 limits"]
[null,{"$f":"B19+1","v":2},null,null,null,null,null,null,null,null,null,null,null,null,null,null,null,null,"Prescriptive Measures (see Table 2)"]
[null,3,null,null,null,null,null,null,null,null,null,null,null,null,null,null,null,null,"Will meet 2030 limits (see Table 3)"]
[null,4,null,null,null,null,null,null,null,null,null,null,null,null,null,null,null,null,"Subject to 2035 limits in 2035 (see Table 3)"]
[null,5,null,null,null,null,null,null,null,null,null,null,null,null,null,null,null,null,"Other (see Table 3)"]
[null,6]
[null,7,null,null,null,null,null,null,null,null,null,null,null,null,null,null,null,null,"Article 321"]
[null,8,null,null,null,null,null,null,null,null,null,null,null,null,null,null,null,null,"Article 320.3.9 (2035 extension)"]
[null,9,null,null,null,null,null,null,null,null,null,null,null,null,null,null,null,null,"N/A - not subject to LL97"]
[null,10,null,null,null,null,null,null,null,null,null,null,null,null,null,null,null,null,"Other "]
[]
[null,"TABLE 2: FOR ALL BUILDINGS IMPLEMENTING ARTICLE 321 PRESCRIPTIVE MEASURES (select \"X\" if item is included, \"n/a\" if item is not applicable to building)"]
[null,"#","Address","Existing Heating Distribution System","Temperature Set-Points","Heating System Leaks","Maintain Heating System","Individual Temp. Controls","Pipe Insulation","Tank Insulation","Heating System Sensors & Controls","Common Area Lighting","Weatherizing & Air Sealing","Exhaust Fan Timers","For Steam Systems Only"]
[null,null,null,null,null,null,null,null,null,null,null,null,null,null,"Inspect/ Repair Steam Traps","Master Venting","Radiant Barriers"]
[null,1,null,null,null,null,null,null,null,null,null,null,null,null,null,null,null,null,"1-Pipe Steam"]
[null,{"$f":"B33+1","v":2},null,null,null,null,null,null,null,null,null,null,null,null,null,null,null,null,"2-Pipe Steam"]
[null,3,null,null,null,null,null,null,null,null,null,null,null,null,null,null,null,null,"Hydronic"]
[null,4,null,null,null,null,null,null,null,null,null,null,null,null,null,null,null,null,"Furnace"]
[null,5,null,null,null,null,null,null,null,null,null,null,null,null,null,null,null,null,"Electric Resistance"]
[null,6,null,null,null,null,null,null,null,null,null,null,null,null,null,null,null,null,"Electric PTAC"]
[null,7,null,null,null,null,null,null,null,null,null,null,null,null,null,null,null,null,"Heat Pump"]
[null,8,null,null,null,null,null,null,null,null,null,null,null,null,null,null,null,null,"X"]
[null,9,null,null,null,null,null,null,null,null,null,null,null,null,null,null,null,null,"n/a"]
[null,10]
[]
[null,"TABLE 3: NARRATIVE FOR ALL BUILDINGS SUBJECT TO LL97 THAT ARE NOT LISTED IN TABLE 2 OR NOT ALREADY IN COMPLIANCE"]
[null,"#","Address","Primary Fuel Type (heating)","Projected GHG intensity (tons CO2e/ sf)","Scope Narrative: How will buildings meet applicable GHG limits (must match outputs in IPNA including energy savings and scope of work description)"]
[null,1,null,null,null,null,null,null,null,null,null,null,null,null,null,null,null,null,"Oil"]
[null,{"$f":"B46+1","v":2},null,null,null,null,null,null,null,null,null,null,null,null,null,null,null,null,"Gas"]
[null,3,null,null,null,null,null,null,null,null,null,null,null,null,null,null,null,null,"Electric"]
[null,4,null,null,null,null,null,null,null,null,null,null,null,null,null,null,null,null,"Other"]
[null,5]
[null,6]
[null,7]
[null,8]
[null,9]
[null,10]
[]
[null,"NOTES AND RESOURCES"]
[null,1,"Local Law 97 Compliance Requirements for Affordable Housing:",null,null,null,null,"https://www1.nyc.gov/site/hpd/services-and-information/ll97-guidance-for-affordable-housing.page"]
[null,2,"DOB's Local Law 97 Page:",null,null,null,null,"Local Law 97 - Sustainable Buildings (nyc.gov)"]
[null,3,"DOB's Local Law 97 Reporting Page:",null,null,null,null,"https://www1.nyc.gov/site/buildings/codes/greenhouse-gas-emission-reporting.page"]

{"sheet":"Scope and Prelim. Cost Est.","index":12,"n_rows":131,"n_cols":38,"rows_kept":131,"cut":false,"hidden":false,"merged":[[2,2,2,7],[8,2,8,7],[9,2,9,7],[10,2,10,7],[11,2,11,7],[3,2,3,7],[4,2,4,7],[5,2,5,7],[6,2,6,7],[7,2,7,7],[12,2,12,27],[125,22,125,30],[23,31,23,33],[19,3,19,5],[20,3,20,5],[21,3,21,5]]}
[]
[null,"Instructions / Definitions / Notes "]
[null,1,"Complete the table below from left to right. If more than 50 measures, update the number of measures in cell C17."]
[null,2,"Include ALL critical and short-term energy-efficiency and water conservation (EEWC) measures and physical needs items."]
[null,3,"When an EEWC measure reduces the energy or water consumption of a capital item (e.g. roof insulation when roof replacement is recommended), the EEWC measure should be included as a separate line item."]
[null,4,"Provide recommendations for EEWC measures and their associated payback period. Recommendations should include all low-cost measures and deeper retrofit measures, such as on-site renewables, where feasible.  The lender will make a determination about financing based on payback period and other factors."]
[null,5,"Include local labor costs in the cost estimates for all scope items."]
[null,6,"Include costs for demolition, permitting, asbestos and lead testing and abatement, and other relevant costs associated with the renovation work."]
[null,7,"EEWC Incremental measures are energy-efficiency/water conservation measures that in addition to providing entire system or component replacement also provide energy efficiency benefits."]
[null,8,"EEWC-Only measures are energy/water efficiency items that are not associated with items requiring entire system or component replacement. These are recommended solely for supporting a property’s energy efficiency and water conservation needs."]
[null,9,"The cost per unit (column N) and unit type (columns K and L) are used on the Quality Control tab to compare the costs entered on this tab to typical costs in similar buildings.  It is therefore important for EEWC measures that the unit type, quantity, and cost per unit are entered carefully and correctly.  For EEWC measures, calculate cost per unit by finding the total cost of the measure and dividing by the number of units to be installed.   For capital items, please attempt to calculate the cost per unit accurately, but if it is not possible, enter LS (for Lump Sum) in column L, Unit Type {user entry}, enter a quantity of 1 in column M, and put the total cost of the item in column N, Cost per Unit."]
[null,10,"Energy and water savings should be calculated and included on this tab, even for capital items (e.g. new windows).  If an item is listed without savings projections, explain why savings are not included in the ‘Important Assumptions’ column (e.g. new windows will not reduce energy consumption because the current windows are already efficient)."]
[null,11,"For HPD Projects only, include the pertinent results from the Solar Screening Tool.  See the Solar Screening Results (HPD) tab."]
[1]
[1]
[1,"SCOPE AND PRELIMINARY COST ESTIMATES"]
[1,"Number of measures",50]
[1,"Measure Data"]
[1,"If one of the following measures is in your workscope, you must provide the following:"]
[1,"Gas Furnace AFUE"]
[1,"Chiller Type/Capacity"]
[1,"Central AC/HP SEER"]
[1]
[1,null,null,null,null,null,null,null,null,null,null,null,null,null,null,null,null,null,null,null,null,null,null,null,null,null,null,null,null,null,null,"Incentives Available"]
[1,"Measure Name","Measure Description","Important Assumptions\n\nPlease include all measure assumptions with the same level of detail as the existing conditions in the Inspection - Physical Needs and Inspection - Energy and Water tabs. ","Scope Area","Energy Efficiency Measure?","Measure Category","Measure Classification","Urgency","Measure Type","Unit Type\n{Default}","Unit Type {user entry}","Qty","Cost Per Unit","Cost Source (e.g. 2017 R.S. Means, contractor quote, etc.)","Total Cost ","Projected Annual Electricity Savings\n (kWh/yr)\nCooling","Projected Annual Electricity Savings\n (kWh/yr)\nNon-Cooling","Project Annual Fuel Savings (MMBtu/yr)\n Heating","Project Annual Fuel Savings (MMBtu/yr)\nNon-Heating","Affected Fuel (for MMBtu Savings)","Projected Annual Cost Savings \n($/yr)","SIR","Simple Payback","Savings Accrue to Tenants?","Measure Life (years)\n{Default}","Measure Life \n(years) \n{user entry}","Full or Incremental Savings","Existing Equipment Year of Manufacture","Projected Annual Water Savings (gal/yr)","Potential Health Benefit Impact ","Incentive #1","Incentive #2","Incentive # 3",null,null,"Row Check"]
[{"$f":"IF($C$17>ROW(A26)-ROW($A$26),1,0)","v":1},null,null,null,null,null,null,null,null,null,{"$f":"IF(F26<>\"Yes\",\"\",IFERROR(IF(VLOOKUP(H26,MeasureQCData,2,FALSE)=\"\",\"\",VLOOKUP(H26,MeasureQCData,2,FALSE)),\"\"))","v":""},null,null,null,null,{"$f":"M26*N26","v":0},null,null,null,null,null,null,{"$f":"IF(V26=\"\",\"\",IFERROR(PV(0.03,'Replacement Cost Schedule'!E14,-V26)/P26,\"\"))","v":""},{"$f":"IF(V26=0,\"\",IFERROR(P26/V26,\"\"))","v":""},null,{"$f":"IFERROR(IF(H26=\"\",\"\",IF(VLOOKUP(H26,MeasureQCData,3,FALSE)=\"\",\"\",VLOOKUP(H26,MeasureQCData,3,FALSE))),\"\")","v":""},null,{"$f":"IFERROR(IF(H26=\"\",\"\",IF(VLOOKUP(H26,MeasureQCData,27,FALSE)=\"\",\"\",VLOOKUP(H26,MeasureQCData,27,FALSE))),\"\")","v":""},null,null,null,null,null,null,null,null,{"$f":"IF(B26=\"\",\"\",IF(AND(F26<>\"No\",OR(AND(K26=\"\",L26=\"\"),M26=\"\",N26=\"\",Q26=\"\",R26=\"\",S26=\"\",T26=\"\",U26=\"\",V26=\"\"))=TRUE,\"ERR\",\"\"))","v":""},{"$f":"IF(B26=\"\",\"\",IF(AND(F26<>\"No\",OR(AND(K26=\"\",L26=\"\"),M26=\"\",N26=\"\",AND(Q26=\"\",R26=\"\",S26=\"\",T26=\"\"),AND(OR(S26<>\"\",T26<>\"\"),U26=\"\"),V26=\"\",AND(Z26=\"\",AA26=\"\")))=TRUE,\"ERR\",\"\"))","v":""}]
[{"$f":"IF($C$17>ROW(A27)-ROW($A$26),1,0)","v":1},null,null,null,null,null,null,null,null,null,{"$f":"IF(F27<>\"Yes\",\"\",IFERROR(IF(VLOOKUP(H27,MeasureQCData,2,FALSE)=\"\",\"\",VLOOKUP(H27,MeasureQCData,2,FALSE)),\"\"))","v":""},null,null,null,null,{"$f":"M27*N27","v":0},null,null,null,null,null,null,{"$f":"IF(V27=\"\",\"\",IFERROR(PV(0.03,'Replacement Cost Schedule'!E15,-V27)/P27,\"\"))","v":""},{"$f":"IF(V27=0,\"\",IFERROR(P27/V27,\"\"))","v":""},null,"",null,"",null,null,null,null,null,null,null,null,{"$f":"IF(B27=\"\",\"\",IF(AND(F27<>\"No\",OR(AND(K27=\"\",L27=\"\"),M27=\"\",N27=\"\",Q27=\"\",R27=\"\",S27=\"\",T27=\"\",U27=\"\",V27=\"\"))=TRUE,\"ERR\",\"\"))","v":""},{"$f":"IF(B27=\"\",\"\",IF(AND(F27<>\"No\",OR(AND(K27=\"\",L27=\"\"),M27=\"\",N27=\"\",AND(Q27=\"\",R27=\"\",S27=\"\",T27=\"\"),AND(OR(S27<>\"\",T27<>\"\"),U27=\"\"),V27=\"\",AND(Z27=\"\",AA27=\"\")))=TRUE,\"ERR\",\"\"))","v":""}]
[1,null,null,null,null,null,null,null,null,null,"",null,null,null,null,0,null,null,null,null,null,null,{"$f":"IF(V28=\"\",\"\",IFERROR(PV(0.03,'Replacement Cost Schedule'!E16,-V28)/P28,\"\"))","v":""},{"$f":"IF(V28=0,\"\",IFERROR(P28/V28,\"\"))","v":""},null,"",null,"",null,null,null,null,null,null,null,null,"",""]
[1,null,null,null,null,null,null,null,null,null,"",null,null,null,null,0,null,null,null,null,null,null,{"$f":"IF(V29=\"\",\"\",IFERROR(PV(0.03,'Replacement Cost Schedule'!E17,-V29)/P29,\"\"))","v":""},"",null,"",null,"",null,null,null,null,null,null,null,null,"",""]
[1,null,null,null,null,null,null,null,null,null,"",null,null,null,null,0,null,null,null,null,null,null,{"$f":"IF(V30=\"\",\"\",IFERROR(PV(0.03,'Replacement Cost Schedule'!E18,-V30)/P30,\"\"))","v":""},"",null,"",null,"",null,null,null,null,null,null,null,null,"",""]
[1,null,null,null,null,null,null,null,null,null,"",null,null,null,null,0,null,null,null,null,null,null,{"$f":"IF(V31=\"\",\"\",IFERROR(PV(0.03,'Replacement Cost Schedule'!E19,-V31)/P31,\"\"))","v":""},"",null,"",null,"",null,null,null,null,null,null,null,null,"",""]
[1,null,null,null,null,null,null,null,null,null,"",null,null,null,null,0,null,null,null,null,null,null,{"$f":"IF(V32=\"\",\"\",IFERROR(PV(0.03,'Replacement Cost Schedule'!E20,-V32)/P32,\"\"))","v":""},"",null,"",null,"",null,null,null,null,null,null,null,null,"",""]
[1,null,null,null,null,null,null,null,null,null,"",null,null,null,null,0,null,null,null,null,null,null,{"$f":"IF(V33=\"\",\"\",IFERROR(PV(0.03,'Replacement Cost Schedule'!E21,-V33)/P33,\"\"))","v":""},"",null,"",null,"",null,null,null,null,null,null,null,null,"",""]
[1,null,null,null,null,null,null,null,null,null,"",null,null,null,null,0,null,null,null,null,null,null,{"$f":"IF(V34=\"\",\"\",IFERROR(PV(0.03,'Replacement Cost Schedule'!E22,-V34)/P34,\"\"))","v":""},"",null,"",null,"",null,null,null,null,null,null,null,null,"",""]
[1,null,null,null,null,null,null,null,null,null,"",null,null,null,null,0,null,null,null,null,null,null,{"$f":"IF(V35=\"\",\"\",IFERROR(PV(0.03,'Replacement Cost Schedule'!E23,-V35)/P35,\"\"))","v":""},"",null,"",null,"",null,null,null,null,null,null,null,null,"",""]
[1,null,null,null,null,null,null,null,null,null,"",null,null,null,null,0,null,null,null,null,null,null,{"$f":"IF(V36=\"\",\"\",IFERROR(PV(0.03,'Replacement Cost Schedule'!E24,-V36)/P36,\"\"))","v":""},"",null,"",null,"",null,null,null,null,null,null,null,null,"",""]
[1,null,null,null,null,null,null,null,null,null,"",null,null,null,null,0,null,null,null,null,null,null,{"$f":"IF(V37=\"\",\"\",IFERROR(PV(0.03,'Replacement Cost Schedule'!E25,-V37)/P37,\"\"))","v":""},"",null,"",null,"",null,null,null,null,null,null,null,null,"",""]
[1,null,null,null,null,null,null,null,null,null,"",null,null,null,null,0,null,null,null,null,null,null,{"$f":"IF(V38=\"\",\"\",IFERROR(PV(0.03,'Replacement Cost Schedule'!E26,-V38)/P38,\"\"))","v":""},"",null,"",null,"",null,null,null,null,null,null,null,null,"",""]
[1,null,null,null,null,null,null,null,null,null,"",null,null,null,null,0,null,null,null,null,null,null,{"$f":"IF(V39=\"\",\"\",IFERROR(PV(0.03,'Replacement Cost Schedule'!E27,-V39)/P39,\"\"))","v":""},"",null,"",null,"",null,null,null,null,null,null,null,null,"",""]
[1,null,null,null,null,null,null,null,null,null,"",null,null,null,null,0,null,null,null,null,null,null,{"$f":"IF(V40=\"\",\"\",IFERROR(PV(0.03,'Replacement Cost Schedule'!E28,-V40)/P40,\"\"))","v":""},"",null,"",null,"",null,null,null,null,null,null,null,null,"",""]
[1,null,null,null,null,null,null,null,null,null,"",null,null,null,null,0,null,null,null,null,null,null,{"$f":"IF(V41=\"\",\"\",IFERROR(PV(0.03,'Replacement Cost Schedule'!E29,-V41)/P41,\"\"))","v":""},"",null,"",null,"",null,null,null,null,null,null,null,null,"",""]
[1,null,null,null,null,null,null,null,null,null,"",null,null,null,null,0,null,null,null,null,null,null,{"$f":"IF(V42=\"\",\"\",IFERROR(PV(0.03,'Replacement Cost Schedule'!E30,-V42)/P42,\"\"))","v":""},"",null,"",null,"",null,null,null,null,null,null,null,null,"",""]
[1,null,null,null,null,null,null,null,null,null,"",null,null,null,null,0,null,null,null,null,null,null,{"$f":"IF(V43=\"\",\"\",IFERROR(PV(0.03,'Replacement Cost Schedule'!E31,-V43)/P43,\"\"))","v":""},"",null,"",null,"",null,null,null,null,null,null,null,null,"",""]
[1,null,null,null,null,null,null,null,null,null,"",null,null,null,null,0,null,null,null,null,null,null,{"$f":"IF(V44=\"\",\"\",IFERROR(PV(0.03,'Replacement Cost Schedule'!E32,-V44)/P44,\"\"))","v":""},"",null,"",null,"",null,null,null,null,null,null,null,null,"",""]
[1,null,null,null,null,null,null,null,null,null,"",null,null,null,null,0,null,null,null,null,null,null,{"$f":"IF(V45=\"\",\"\",IFERROR(PV(0.03,'Replacement Cost Schedule'!E33,-V45)/P45,\"\"))","v":""},"",null,"",null,"",null,null,null,null,null,null,null,null,"",""]
[1,null,null,null,null,null,null,null,null,null,"",null,null,null,null,0,null,null,null,null,null,null,{"$f":"IF(V46=\"\",\"\",IFERROR(PV(0.03,'Replacement Cost Schedule'!E34,-V46)/P46,\"\"))","v":""},"",null,"",null,"",null,null,null,null,null,null,null,null,"",""]
[1,null,null,null,null,null,null,null,null,null,"",null,null,null,null,0,null,null,null,null,null,null,{"$f":"IF(V47=\"\",\"\",IFERROR(PV(0.03,'Replacement Cost Schedule'!E35,-V47)/P47,\"\"))","v":""},"",null,"",null,"",null,null,null,null,null,null,null,null,"",""]
[1,null,null,null,null,null,null,null,null,null,"",null,null,null,null,0,null,null,null,null,null,null,{"$f":"IF(V48=\"\",\"\",IFERROR(PV(0.03,'Replacement Cost Schedule'!E36,-V48)/P48,\"\"))","v":""},"",null,"",null,"",null,null,null,null,null,null,null,null,"",""]
[1,null,null,null,null,null,null,null,null,null,"",null,null,null,null,0,null,null,null,null,null,null,{"$f":"IF(V49=\"\",\"\",IFERROR(PV(0.03,'Replacement Cost Schedule'!E37,-V49)/P49,\"\"))","v":""},"",null,"",null,"",null,null,null,null,null,null,null,null,"",""]
[1,null,null,null,null,null,null,null,null,null,"",null,null,null,null,0,null,null,null,null,null,null,{"$f":"IF(V50=\"\",\"\",IFERROR(PV(0.03,'Replacement Cost Schedule'!E38,-V50)/P50,\"\"))","v":""},"",null,"",null,"",null,null,null,null,null,null,null,null,"",""]
[1,null,null,null,null,null,null,null,null,null,"",null,null,null,null,0,null,null,null,null,null,null,{"$f":"IF(V51=\"\",\"\",IFERROR(PV(0.03,'Replacement Cost Schedule'!E39,-V51)/P51,\"\"))","v":""},"",null,"",null,"",null,null,null,null,null,null,null,null,"",""]
[1,null,null,null,null,null,null,null,null,null,"",null,null,null,null,0,null,null,null,null,null,null,{"$f":"IF(V52=\"\",\"\",IFERROR(PV(0.03,'Replacement Cost Schedule'!E40,-V52)/P52,\"\"))","v":""},"",null,"",null,"",null,null,null,null,null,null,null,null,"",""]
[1,null,null,null,null,null,null,null,null,null,"",null,null,null,null,0,null,null,null,null,null,null,{"$f":"IF(V53=\"\",\"\",IFERROR(PV(0.03,'Replacement Cost Schedule'!E41,-V53)/P53,\"\"))","v":""},"",null,"",null,"",null,null,null,null,null,null,null,null,"",""]
[1,null,null,null,null,null,null,null,null,null,"",null,null,null,null,0,null,null,null,null,null,null,{"$f":"IF(V54=\"\",\"\",IFERROR(PV(0.03,'Replacement Cost Schedule'!E42,-V54)/P54,\"\"))","v":""},"",null,"",null,"",null,null,null,null,null,null,null,null,"",""]
[1,null,null,null,null,null,null,null,null,null,"",null,null,null,null,0,null,null,null,null,null,null,{"$f":"IF(V55=\"\",\"\",IFERROR(PV(0.03,'Replacement Cost Schedule'!E43,-V55)/P55,\"\"))","v":""},"",null,"",null,"",null,null,null,null,null,null,null,null,"",""]
[1,null,null,null,null,null,null,null,null,null,"",null,null,null,null,0,null,null,null,null,null,null,{"$f":"IF(V56=\"\",\"\",IFERROR(PV(0.03,'Replacement Cost Schedule'!E44,-V56)/P56,\"\"))","v":""},"",null,"",null,"",null,null,null,null,null,null,null,null,"",""]
[1,null,null,null,null,null,null,null,null,null,"",null,null,null,null,0,null,null,null,null,null,null,{"$f":"IF(V57=\"\",\"\",IFERROR(PV(0.03,'Replacement Cost Schedule'!E45,-V57)/P57,\"\"))","v":""},"",null,"",null,"",null,null,null,null,null,null,null,null,"",""]
[1,null,null,null,null,null,null,null,null,null,{"$f":"IF(F58<>\"Yes\",\"\",IFERROR(IF(VLOOKUP(H58,MeasureQCData,2,FALSE)=\"\",\"\",VLOOKUP(H58,MeasureQCData,2,FALSE)),\"\"))","v":""},null,null,null,null,0,null,null,null,null,null,null,{"$f":"IF(V58=\"\",\"\",IFERROR(PV(0.03,'Replacement Cost Schedule'!E46,-V58)/P58,\"\"))","v":""},"",null,{"$f":"IFERROR(IF(H58=\"\",\"\",IF(VLOOKUP(H58,MeasureQCData,3,FALSE)=\"\",\"\",VLOOKUP(H58,MeasureQCData,3,FALSE))),\"\")","v":""},null,{"$f":"IFERROR(IF(H58=\"\",\"\",IF(VLOOKUP(H58,MeasureQCData,27,FALSE)=\"\",\"\",VLOOKUP(H58,MeasureQCData,27,FALSE))),\"\")","v":""},null,null,null,null,null,null,null,null,"",""]
[1,null,null,null,null,null,null,null,null,null,"",null,null,null,null,0,null,null,null,null,null,null,{"$f":"IF(V59=\"\",\"\",IFERROR(PV(0.03,'Replacement Cost Schedule'!E47,-V59)/P59,\"\"))","v":""},"",null,"",null,"",null,null,null,null,null,null,null,null,"",""]
[1,null,null,null,null,null,null,null,null,null,"",null,null,null,null,0,null,null,null,null,null,null,{"$f":"IF(V60=\"\",\"\",IFERROR(PV(0.03,'Replacement Cost Schedule'!E48,-V60)/P60,\"\"))","v":""},"",null,"",null,"",null,null,null,null,null,null,null,null,"",""]
[1,null,null,null,null,null,null,null,null,null,"",null,null,null,null,0,null,null,null,null,null,null,{"$f":"IF(V61=\"\",\"\",IFERROR(PV(0.03,'Replacement Cost Schedule'!E49,-V61)/P61,\"\"))","v":""},"",null,"",null,"",null,null,null,null,null,null,null,null,"",""]
[1,null,null,null,null,null,null,null,null,null,"",null,null,null,null,0,null,null,null,null,null,null,{"$f":"IF(V62=\"\",\"\",IFERROR(PV(0.03,'Replacement Cost Schedule'!E50,-V62)/P62,\"\"))","v":""},"",null,"",null,"",null,null,null,null,null,null,null,null,"",""]
[1,null,null,null,null,null,null,null,null,null,"",null,null,null,null,0,null,null,null,null,null,null,{"$f":"IF(V63=\"\",\"\",IFERROR(PV(0.03,'Replacement Cost Schedule'!E51,-V63)/P63,\"\"))","v":""},"",null,"",null,"",null,null,null,null,null,null,null,null,"",""]
[1,null,null,null,null,null,null,null,null,null,"",null,null,null,null,0,null,null,null,null,null,null,{"$f":"IF(V64=\"\",\"\",IFERROR(PV(0.03,'Replacement Cost Schedule'!E52,-V64)/P64,\"\"))","v":""},"",null,"",null,"",null,null,null,null,null,null,null,null,"",""]
[1,null,null,null,null,null,null,null,null,null,"",null,null,null,null,0,null,null,null,null,null,null,{"$f":"IF(V65=\"\",\"\",IFERROR(PV(0.03,'Replacement Cost Schedule'!E53,-V65)/P65,\"\"))","v":""},"",null,"",null,"",null,null,null,null,null,null,null,null,"",""]
[1,null,null,null,null,null,null,null,null,null,"",null,null,null,null,0,null,null,null,null,null,null,{"$f":"IF(V66=\"\",\"\",IFERROR(PV(0.03,'Replacement Cost Schedule'!E54,-V66)/P66,\"\"))","v":""},"",null,"",null,"",null,null,null,null,null,null,null,null,"",""]
[1,null,null,null,null,null,null,null,null,null,"",null,null,null,null,0,null,null,null,null,null,null,{"$f":"IF(V67=\"\",\"\",IFERROR(PV(0.03,'Replacement Cost Schedule'!E55,-V67)/P67,\"\"))","v":""},"",null,"",null,"",null,null,null,null,null,null,null,null,"",""]
[1,null,null,null,null,null,null,null,null,null,"",null,null,null,null,0,null,null,null,null,null,null,{"$f":"IF(V68=\"\",\"\",IFERROR(PV(0.03,'Replacement Cost Schedule'!E56,-V68)/P68,\"\"))","v":""},"",null,"",null,"",null,null,null,null,null,null,null,null,"",""]
[1,null,null,null,null,null,null,null,null,null,"",null,null,null,null,0,null,null,null,null,null,null,{"$f":"IF(V69=\"\",\"\",IFERROR(PV(0.03,'Replacement Cost Schedule'!E57,-V69)/P69,\"\"))","v":""},"",null,"",null,"",null,null,null,null,null,null,null,null,"",""]
[1,null,null,null,null,null,null,null,null,null,"",null,null,null,null,0,null,null,null,null,null,null,{"$f":"IF(V70=\"\",\"\",IFERROR(PV(0.03,'Replacement Cost Schedule'!E58,-V70)/P70,\"\"))","v":""},"",null,"",null,"",null,null,null,null,null,null,null,null,"",""]
[1,null,null,null,null,null,null,null,null,null,"",null,null,null,null,0,null,null,null,null,null,null,{"$f":"IF(V71=\"\",\"\",IFERROR(PV(0.03,'Replacement Cost Schedule'!E59,-V71)/P71,\"\"))","v":""},"",null,"",null,"",null,null,null,null,null,null,null,null,"",""]
[1,null,null,null,null,null,null,null,null,null,"",null,null,null,null,0,null,null,null,null,null,null,{"$f":"IF(V72=\"\",\"\",IFERROR(PV(0.03,'Replacement Cost Schedule'!E60,-V72)/P72,\"\"))","v":""},"",null,"",null,"",null,null,null,null,null,null,null,null,"",""]
[1,null,null,null,null,null,null,null,null,null,"",null,null,null,null,0,null,null,null,null,null,null,{"$f":"IF(V73=\"\",\"\",IFERROR(PV(0.03,'Replacement Cost Schedule'!E61,-V73)/P73,\"\"))","v":""},"",null,"",null,"",null,null,null,null,null,null,null,null,"",""]
[1,null,null,null,null,null,null,null,null,null,"",null,null,null,null,0,null,null,null,null,null,null,{"$f":"IF(V74=\"\",\"\",IFERROR(PV(0.03,'Replacement Cost Schedule'!E62,-V74)/P74,\"\"))","v":""},{"$f":"IF(V74=0,\"\",IFERROR(P74/V74,\"\"))","v":""},null,"",null,"",null,null,null,null,null,null,null,null,"",""]
[1,null,null,null,null,null,null,null,null,null,"",null,null,null,null,0,null,null,null,null,null,null,{"$f":"IF(V75=\"\",\"\",IFERROR(PV(0.03,'Replacement Cost Schedule'!E113,-V75)/P75,\"\"))","v":""},"",null,"",null,"",null,null,null,null,null,null,null,null,"",""]
[0,null,null,null,null,null,null,null,null,null,"",null,null,null,null,0,null,null,null,null,null,null,{"$f":"IF(V76=\"\",\"\",IFERROR(PV(0.03,'Replacement Cost Schedule'!E114,-V76)/P76,\"\"))","v":""},"",null,"",null,"",null,null,null,null,null,null,null,null,{"$f":"IF(B76=\"\",\"\",IF(AND(F76<>\"No\",OR(AND(K76=\"\",L76=\"\"),M76=\"\",N76=\"\",Q76=\"\",R76=\"\",S76=\"\",T76=\"\",U76=\"\",V76=\"\"))=TRUE,\"ERR\",\"\"))","v":""},{"$f":"IF(B76=\"\",\"\",IF(AND(F76<>\"No\",OR(AND(K76=\"\",L76=\"\"),M76=\"\",N76=\"\",AND(Q76=\"\",R76=\"\",S76=\"\",T76=\"\"),AND(OR(S76<>\"\",T76<>\"\"),U76=\"\"),V76=\"\",AND(Z76=\"\",AA76=\"\")))=TRUE,\"ERR\",\"\"))","v":""}]
[0,null,null,null,null,null,null,null,null,null,"",null,null,null,null,0,null,null,null,null,null,null,{"$f":"IF(V77=\"\",\"\",IFERROR(PV(0.03,'Replacement Cost Schedule'!E115,-V77)/P77,\"\"))","v":""},"",null,"",null,"",null,null,null,null,null,null,null,null,"",""]
[0,null,null,null,null,null,null,null,null,null,"",null,null,null,null,0,null,null,null,null,null,null,{"$f":"IF(V78=\"\",\"\",IFERROR(PV(0.03,'Replacement Cost Schedule'!E116,-V78)/P78,\"\"))","v":""},"",null,"",null,"",null,null,null,null,null,null,null,null,"",""]
[0,null,null,null,null,null,null,null,null,null,"",null,null,null,null,0,null,null,null,null,null,null,{"$f":"IF(V79=\"\",\"\",IFERROR(PV(0.03,'Replacement Cost Schedule'!E117,-V79)/P79,\"\"))","v":""},"",null,"",null,"",null,null,null,null,null,null,null,null,"",""]
[0,null,null,null,null,null,null,null,null,null,"",null,null,null,null,0,null,null,null,null,null,null,{"$f":"IF(V80=\"\",\"\",IFERROR(PV(0.03,'Replacement Cost Schedule'!E118,-V80)/P80,\"\"))","v":""},"",null,"",null,"",null,null,null,null,null,null,null,null,"",""]
[0,null,null,null,null,null,null,null,null,null,"",null,null,null,null,0,null,null,null,null,null,null,{"$f":"IF(V81=\"\",\"\",IFERROR(PV(0.03,'Replacement Cost Schedule'!E119,-V81)/P81,\"\"))","v":""},"",null,"",null,"",null,null,null,null,null,null,null,null,"",""]
[0,null,null,null,null,null,null,null,null,null,"",null,null,null,null,0,null,null,null,null,null,null,{"$f":"IF(V82=\"\",\"\",IFERROR(PV(0.03,'Replacement Cost Schedule'!E120,-V82)/P82,\"\"))","v":""},"",null,"",null,"",null,null,null,null,null,null,null,null,"",""]
[0,null,null,null,null,null,null,null,null,null,"",null,null,null,null,0,null,null,null,null,null,null,{"$f":"IF(V83=\"\",\"\",IFERROR(PV(0.03,'Replacement Cost Schedule'!E121,-V83)/P83,\"\"))","v":""},"",null,"",null,"",null,null,null,null,null,null,null,null,"",""]
[0,null,null,null,null,null,null,null,null,null,"",null,null,null,null,0,null,null,null,null,null,null,{"$f":"IF(V84=\"\",\"\",IFERROR(PV(0.03,'Replacement Cost Schedule'!E122,-V84)/P84,\"\"))","v":""},"",null,"",null,"",null,null,null,null,null,null,null,null,"",""]
[0,null,null,null,null,null,null,null,null,null,"",null,null,null,null,0,null,null,null,null,null,null,{"$f":"IF(V85=\"\",\"\",IFERROR(PV(0.03,'Replacement Cost Schedule'!E123,-V85)/P85,\"\"))","v":""},"",null,"",null,"",null,null,null,null,null,null,null,null,"",""]
[0,null,null,null,null,null,null,null,null,null,"",null,null,null,null,0,null,null,null,null,null,null,{"$f":"IF(V86=\"\",\"\",IFERROR(PV(0.03,'Replacement Cost Schedule'!E124,-V86)/P86,\"\"))","v":""},"",null,"",null,"",null,null,null,null,null,null,null,null,"",""]
[0,null,null,null,null,null,null,null,null,null,"",null,null,null,null,0,null,null,null,null,null,null,{"$f":"IF(V87=\"\",\"\",IFERROR(PV(0.03,'Replacement Cost Schedule'!E125,-V87)/P87,\"\"))","v":""},"",null,"",null,"",null,null,null,null,null,null,null,null,"",""]
[0,null,null,null,null,null,null,null,null,null,"",null,null,null,null,0,null,null,null,null,null,null,{"$f":"IF(V88=\"\",\"\",IFERROR(PV(0.03,'Replacement Cost Schedule'!E126,-V88)/P88,\"\"))","v":""},"",null,"",null,"",null,null,null,null,null,null,null,null,"",""]
[0,null,null,null,null,null,null,null,null,null,"",null,null,null,null,0,null,null,null,null,null,null,{"$f":"IF(V89=\"\",\"\",IFERROR(PV(0.03,'Replacement Cost Schedule'!E127,-V89)/P89,\"\"))","v":""},"",null,"",null,"",null,null,null,null,null,null,null,null,"",""]
[0,null,null,null,null,null,null,null,null,null,"",null,null,null,null,0,null,null,null,null,null,null,{"$f":"IF(V90=\"\",\"\",IFERROR(PV(0.03,'Replacement Cost Schedule'!E128,-V90)/P90,\"\"))","v":""},"",null,"",null,"",null,null,null,null,null,null,null,null,"",""]
[{"$f":"IF($C$17>ROW(A91)-ROW($A$26),1,0)","v":0},null,null,null,null,null,null,null,null,null,"",null,null,null,null,{"$f":"M91*N91","v":0},null,null,null,null,null,null,{"$f":"IF(V91=\"\",\"\",IFERROR(PV(0.03,'Replacement Cost Schedule'!E129,-V91)/P91,\"\"))","v":""},"",null,"",null,"",null,null,null,null,null,null,null,null,"",""]
[0,null,null,null,null,null,null,null,null,null,"",null,null,null,null,0,null,null,null,null,null,null,{"$f":"IF(V92=\"\",\"\",IFERROR(PV(0.03,'Replacement Cost Schedule'!E130,-V92)/P92,\"\"))","v":""},"",null,"",null,"",null,null,null,null,null,null,null,null,"",""]
[0,null,null,null,null,null,null,null,null,null,"",null,null,null,null,0,null,null,null,null,null,null,{"$f":"IF(V93=\"\",\"\",IFERROR(PV(0.03,'Replacement Cost Schedule'!E131,-V93)/P93,\"\"))","v":""},"",null,"",null,"",null,null,null,null,null,null,null,null,"",""]
[0,null,null,null,null,null,null,null,null,null,"",null,null,null,null,0,null,null,null,null,null,null,{"$f":"IF(V94=\"\",\"\",IFERROR(PV(0.03,'Replacement Cost Schedule'!E132,-V94)/P94,\"\"))","v":""},"",null,"",null,"",null,null,null,null,null,null,null,null,"",""]
[0,null,null,null,null,null,null,null,null,null,"",null,null,null,null,0,null,null,null,null,null,null,{"$f":"IF(V95=\"\",\"\",IFERROR(PV(0.03,'Replacement Cost Schedule'!E133,-V95)/P95,\"\"))","v":""},"",null,"",null,"",null,null,null,null,null,null,null,null,"",""]
[0,null,null,null,null,null,null,null,null,null,"",null,null,null,null,0,null,null,null,null,null,null,{"$f":"IF(V96=\"\",\"\",IFERROR(PV(0.03,'Replacement Cost Schedule'!E134,-V96)/P96,\"\"))","v":""},"",null,"",null,"",null,null,null,null,null,null,null,null,"",""]
[0,null,null,null,null,null,null,null,null,null,"",null,null,null,null,0,null,null,null,null,null,null,{"$f":"IF(V97=\"\",\"\",IFERROR(PV(0.03,'Replacement Cost Schedule'!E135,-V97)/P97,\"\"))","v":""},"",null,"",null,"",null,null,null,null,null,null,null,null,"",""]
[0,null,null,null,null,null,null,null,null,null,"",null,null,null,null,0,null,null,null,null,null,null,{"$f":"IF(V98=\"\",\"\",IFERROR(PV(0.03,'Replacement Cost Schedule'!E136,-V98)/P98,\"\"))","v":""},"",null,"",null,"",null,null,null,null,null,null,null,null,"",""]
[0,null,null,null,null,null,null,null,null,null,"",null,null,null,null,0,null,null,null,null,null,null,{"$f":"IF(V99=\"\",\"\",IFERROR(PV(0.03,'Replacement Cost Schedule'!E137,-V99)/P99,\"\"))","v":""},"",null,"",null,"",null,null,null,null,null,null,null,null,"",""]
[0,null,null,null,null,null,null,null,null,null,"",null,null,null,null,0,null,null,null,null,null,null,{"$f":"IF(V100=\"\",\"\",IFERROR(PV(0.03,'Replacement Cost Schedule'!E138,-V100)/P100,\"\"))","v":""},"",null,"",null,"",null,null,null,null,null,null,null,null,"",""]
[0,null,null,null,null,null,null,null,null,null,"",null,null,null,null,0,null,null,null,null,null,null,{"$f":"IF(V101=\"\",\"\",IFERROR(PV(0.03,'Replacement Cost Schedule'!E139,-V101)/P101,\"\"))","v":""},"",null,"",null,"",null,null,null,null,null,null,null,null,"",""]
[0,null,null,null,null,null,null,null,null,null,"",null,null,null,null,0,null,null,null,null,null,null,{"$f":"IF(V102=\"\",\"\",IFERROR(PV(0.03,'Replacement Cost Schedule'!E140,-V102)/P102,\"\"))","v":""},"",null,"",null,"",null,null,null,null,null,null,null,null,"",""]
[0,null,null,null,null,null,null,null,null,null,"",null,null,null,null,0,null,null,null,null,null,null,{"$f":"IF(V103=\"\",\"\",IFERROR(PV(0.03,'Replacement Cost Schedule'!E141,-V103)/P103,\"\"))","v":""},"",null,"",null,"",null,null,null,null,null,null,null,null,"",""]
[0,null,null,null,null,null,null,null,null,null,"",null,null,null,null,0,null,null,null,null,null,null,{"$f":"IF(V104=\"\",\"\",IFERROR(PV(0.03,'Replacement Cost Schedule'!E142,-V104)/P104,\"\"))","v":""},"",null,"",null,"",null,null,null,null,null,null,null,null,"",""]
[0,null,null,null,null,null,null,null,null,null,"",null,null,null,null,0,null,null,null,null,null,null,{"$f":"IF(V105=\"\",\"\",IFERROR(PV(0.03,'Replacement Cost Schedule'!E143,-V105)/P105,\"\"))","v":""},"",null,"",null,"",null,null,null,null,null,null,null,null,"",""]
[0,null,null,null,null,null,null,null,null,null,"",null,null,null,null,0,null,null,null,null,null,null,{"$f":"IF(V106=\"\",\"\",IFERROR(PV(0.03,'Replacement Cost Schedule'!E144,-V106)/P106,\"\"))","v":""},"",null,"",null,"",null,null,null,null,null,null,null,null,"",""]
[0,null,null,null,null,null,null,null,null,null,"",null,null,null,null,0,null,null,null,null,null,null,{"$f":"IF(V107=\"\",\"\",IFERROR(PV(0.03,'Replacement Cost Schedule'!E145,-V107)/P107,\"\"))","v":""},"",null,"",null,"",null,null,null,null,null,null,null,null,"",""]
[0,null,null,null,null,null,null,null,null,null,"",null,null,null,null,0,null,null,null,null,null,null,{"$f":"IF(V108=\"\",\"\",IFERROR(PV(0.03,'Replacement Cost Schedule'!E146,-V108)/P108,\"\"))","v":""},"",null,"",null,"",null,null,null,null,null,null,null,null,"",""]
[0,null,null,null,null,null,null,null,null,null,"",null,null,null,null,0,null,null,null,null,null,null,{"$f":"IF(V109=\"\",\"\",IFERROR(PV(0.03,'Replacement Cost Schedule'!E147,-V109)/P109,\"\"))","v":""},"",null,"",null,"",null,null,null,null,null,null,null,null,"",""]
[0,null,null,null,null,null,null,null,null,null,"",null,null,null,null,0,null,null,null,null,null,null,{"$f":"IF(V110=\"\",\"\",IFERROR(PV(0.03,'Replacement Cost Schedule'!E148,-V110)/P110,\"\"))","v":""},"",null,"",null,"",null,null,null,null,null,null,null,null,"",""]
[0,null,null,null,null,null,null,null,null,null,"",null,null,null,null,0,null,null,null,null,null,null,{"$f":"IF(V111=\"\",\"\",IFERROR(PV(0.03,'Replacement Cost Schedule'!E149,-V111)/P111,\"\"))","v":""},"",null,"",null,"",null,null,null,null,null,null,null,null,"",""]
[0,null,null,null,null,null,null,null,null,null,"",null,null,null,null,0,null,null,null,null,null,null,{"$f":"IF(V112=\"\",\"\",IFERROR(PV(0.03,'Replacement Cost Schedule'!E150,-V112)/P112,\"\"))","v":""},"",null,"",null,"",null,null,null,null,null,null,null,null,"",""]
[0,null,null,null,null,null,null,null,null,null,"",null,null,null,null,0,null,null,null,null,null,null,{"$f":"IF(V113=\"\",\"\",IFERROR(PV(0.03,'Replacement Cost Schedule'!E151,-V113)/P113,\"\"))","v":""},"",null,"",null,"",null,null,null,null,null,null,null,null,"",""]
[0,null,null,null,null,null,null,null,null,null,"",null,null,null,null,0,null,null,null,null,null,null,{"$f":"IF(V114=\"\",\"\",IFERROR(PV(0.03,'Replacement Cost Schedule'!E152,-V114)/P114,\"\"))","v":""},"",null,"",null,"",null,null,null,null,null,null,null,null,"",""]
[0,null,null,null,null,null,null,null,null,null,"",null,null,null,null,0,null,null,null,null,null,null,{"$f":"IF(V115=\"\",\"\",IFERROR(PV(0.03,'Replacement Cost Schedule'!E153,-V115)/P115,\"\"))","v":""},"",null,"",null,"",null,null,null,null,null,null,null,null,"",""]
[0,null,null,null,null,null,null,null,null,null,"",null,null,null,null,0,null,null,null,null,null,null,{"$f":"IF(V116=\"\",\"\",IFERROR(PV(0.03,'Replacement Cost Schedule'!E154,-V116)/P116,\"\"))","v":""},"",null,"",null,"",null,null,null,null,null,null,null,null,"",""]
[0,null,null,null,null,null,null,null,null,null,"",null,null,null,null,0,null,null,null,null,null,null,{"$f":"IF(V117=\"\",\"\",IFERROR(PV(0.03,'Replacement Cost Schedule'!E155,-V117)/P117,\"\"))","v":""},"",null,"",null,"",null,null,null,null,null,null,null,null,"",""]
[0,null,null,null,null,null,null,null,null,null,"",null,null,null,null,0,null,null,null,null,null,null,{"$f":"IF(V118=\"\",\"\",IFERROR(PV(0.03,'Replacement Cost Schedule'!E156,-V118)/P118,\"\"))","v":""},"",null,"",null,"",null,null,null,null,null,null,null,null,"",""]
[0,null,null,null,null,null,null,null,null,null,"",null,null,null,null,0,null,null,null,null,null,null,{"$f":"IF(V119=\"\",\"\",IFERROR(PV(0.03,'Replacement Cost Schedule'!E157,-V119)/P119,\"\"))","v":""},"",null,"",null,"",null,null,null,null,null,null,null,null,"",""]
[0,null,null,null,null,null,null,null,null,null,"",null,null,null,null,0,null,null,null,null,null,null,{"$f":"IF(V120=\"\",\"\",IFERROR(PV(0.03,'Replacement Cost Schedule'!E158,-V120)/P120,\"\"))","v":""},"",null,"",null,"",null,null,null,null,null,null,null,null,"",""]
[0,null,null,null,null,null,null,null,null,null,"",null,null,null,null,0,null,null,null,null,null,null,{"$f":"IF(V121=\"\",\"\",IFERROR(PV(0.03,'Replacement Cost Schedule'!E159,-V121)/P121,\"\"))","v":""},"",null,"",null,"",null,null,null,null,null,null,null,null,"",""]
[0,null,null,null,null,null,null,null,null,null,"",null,null,null,null,0,null,null,null,null,null,null,{"$f":"IF(V122=\"\",\"\",IFERROR(PV(0.03,'Replacement Cost Schedule'!E160,-V122)/P122,\"\"))","v":""},"",null,"",null,"",null,null,null,null,null,null,null,null,"",""]
[0,null,null,null,null,null,null,null,null,null,"",null,null,null,null,0,null,null,null,null,null,null,{"$f":"IF(V123=\"\",\"\",IFERROR(PV(0.03,'Replacement Cost Schedule'!E161,-V123)/P123,\"\"))","v":""},"",null,"",null,"",null,null,null,null,null,null,null,null,"",""]
[0,null,null,null,null,null,null,null,null,null,"",null,null,null,null,0,null,null,null,null,null,null,{"$f":"IF(V124=\"\",\"\",IFERROR(PV(0.03,'Replacement Cost Schedule'!E162,-V124)/P124,\"\"))","v":""},"",null,"",null,"",null,null,null,null,null,null,null,null,"",""]
[0,null,null,null,null,null,null,null,null,null,"",null,null,null,null,0,null,null,null,null,null,null,{"$f":"IF(V125=\"\",\"\",IFERROR(PV(0.03,'Replacement Cost Schedule'!E163,-V125)/P125,\"\"))","v":""},"",null,"",null,"",null,null,null,null,null,null,null,null,"",""]
[1,"Total",null,null,null,null,null,null,null,null,null,null,null,null,null,{"$f":"SUM(P26:P125)","v":0},{"$f":"SUM(Q26:Q125)","v":0},{"$f":"SUM(R26:R125)","v":0},{"$f":"SUM(S26:S125)","v":0},{"$f":"SUM(T26:T125)","v":0},null,{"$f":"SUM(V26:V125)","v":0},null,null,null,null,null,null,null,null,null,{"$f":"SUM(AF26:AF125)","v":0},{"$f":"SUM(AG26:AG125)","v":0},{"$f":"SUM(AH26:AH125)","v":0}]
[1]
[1]
[1]
[1]
[1]

{"sheet":"Quality Control","index":13,"n_rows":121,"n_cols":58,"rows_kept":121,"cut":false,"hidden":false,"merged":[[2,3,2,11],[8,2,8,11],[19,39,19,41],[20,2,20,3],[19,13,19,14],[19,15,19,16],[19,18,19,22],[19,23,19,28],[19,29,19,30],[19,31,19,36],[19,37,19,38],[10,2,16,11],[3,3,3,11],[4,3,4,11],[5,3,5,11]]}
[]
[null,null,"Instructions / Definitions / Notes "]
[null,null,1,"Use the Quality During Construction text box to describe steps the developer can take during construction to help  ensure that projected energy and water savings are achieved."]
[null,null,2,"The Energy Efficiency Measures Savings Quality Control table below is a Quality Control (QC) check of the energy savings for each energy efficiency measure listed on the Scope and Prelim. Cost Est. tab. If a measure was not noted as being an \"Energy Efficiency Measure\" then it will not appear in this tab. Typical data ranges were determined based on NYSERDA Multifamily Performance Program projects and are meant to indicate typical values.  If the value falls outside of the range, it does not mean that it is \"wrong\", just that it is outside of typical values.  Likewise, if the value is inside the range, it does not mean that it is \"right\" for the for the conditions in a particular project.  Columns C through K are linked to pull information from other tabs in this workbook."]
[null,null,3,"Values in columns F through I will be highlighted in red and blue if they are above or below the range of expected values, based on a database of approved existing building projects. Required Response fields will be highlighted in orange. If a measure is flagged, please also submit external calculations. Other conditional formatting is for administrative purposes only."]
[null,null,4,"If the Response column is highlighted, provide justification/explanation for why the value(s) may be out of range for this project. Explanations must include details regarding savings calculation assumptions, detailed building information, testing results, etc. This should be done before submitting the IPNA for review. Acceptance of the explanations is at the discretion of the reviewer. More information may be requested. Certain measures will have the maximum savings and total source energy savings capped. In these cases, Providers are encouraged to review assumptions and inputs and reduce the savings accordingly. The IPNA will not be approved until the savings are brought below the cap."]
[]
[null,null,"QUALITY DURING CONSTRUCTION"]
[null,null,"Include steps that the developer can take during construction to help ensure that projected energy and water savings are achieved (e.g. inspections, documentation, etc.)"]
[]
[]
[]
[]
[]
[]
[]
[]
[]
[null,null,"Energy Efficiency Measure Savings Quality Control"]
[null,null,null,null,null,null,null,null,null,null,null,null,null," Cost Range",null," Savings Range",null,null,"Detailed Measures",null,null,null,null,"Cost QC Calcs",null,null,null,null,null,"Measure Cost Range",null,"Energy Savings Calcs",null,null,null,null,null,"Measure Savings Range",null,"Upper Savings Limits"]
[null,null,"Measure Classification",null,"Measure Name","Cost","Site Energy Savings\n(MMBtu)","Source Energy Savings\n(MMBtu)","Source Energy Savings\n(%)",null,"Comment","Response",null,"Min \nCost","Max  \nCost","Min \nSavings\n(MMBtu)","Max \nSavings\n(MMBtu)",null,"Total Qty","Units","No. of Apartment\nUnits","Total SqFt","Low rise=\nHighrise","QC Check?","Cost \nUnits","Min Measure\nCost (Upstate)","Max Measure\nCost (Upstate)","Min Measure\nCost (Downstate)","Max Measure\nCost (Downstate)","Min Measure\nCost","Max Measure \nCost","Savings\nUnits","EMS=Air Sealing=INS. $ Spent","Min Measure\nSavings Btu (low rise)","Max Measure\nSavings Btu (low rise)","Min Measure\nSavings Btu (Highrise)","Max Measure\nSavings Btu (Highrise)","Min Measure\nSavings\n(MMBtu)","Max Measure\nSavings\n(MMBtu)","Upper Limit Check?","Upper Limit Units","Upper Limit Savings\n(MMBtu)","Max Source Energy (%)","Cost Low?","Savings High?","Exceeds Upper Limit?",null,null,null,null,null,null,null,null,null,null,null,"Row Check"]
[{"$f":"IFERROR(MATCH(E22,'Scope and Prelim. Cost Est.'!$B$26:$B$31,0),\"\")","v":""},null,{"$f":"IF(D22=\"\",0,1)","v":0},{"$f":"IF(E22=\"\",\"\",IF(VLOOKUP(E22,MeasuresLookup,7,FALSE)=\"\",\"\",VLOOKUP(E22,MeasuresLookup,7,FALSE)))","v":""},{"$f":"IFERROR(INDEX('Scope and Prelim. Cost Est.'!$B$26:$B$125,SMALL(IF('Scope and Prelim. Cost Est.'!$F$26:$F$125=\"Yes\",ROW('Scope and Prelim. Cost Est.'!$F$26:$F$125)-ROW('Scope and Prelim. Cost Est.'!$F$26)+1),ROWS('Scope and Prelim. Cost Est.'!$F$26:F26))),\"\")","v":""},{"$f":"IF(E22=\"\",\"\",VLOOKUP(E22,MeasuresLookup,15,FALSE))","v":""},{"$f":"IFERROR(VLOOKUP($E22,MeasuresLookup,18,FALSE)+VLOOKUP($E22,MeasuresLookup,19,FALSE)+(VLOOKUP($E22,MeasuresLookup,16,FALSE)+VLOOKUP($E22,MeasuresLookup,17,FALSE))*Calcs!$B$90,0)","v":0},{"$f":"IFERROR((VLOOKUP($E22,MeasuresLookup,16,FALSE)+VLOOKUP($E22,MeasuresLookup,17,FALSE))*Calcs!$B$90*Calcs!$B$91,0)+IFERROR((VLOOKUP($E22,MeasuresLookup,18,FALSE)+VLOOKUP($E22,MeasuresLookup,19,FALSE))*VLOOKUP(VLOOKUP($E22,MeasuresLookup,20,FALSE),SiteToSource,2,FALSE),0)","v":0},{"$f":"IF('Energy and Water Use'!$M$33>0,H22/('Energy and Water Use'!$AN$33/1000),0)","v":0},"*\n*\n*\n*\n*\n*",{"$f":"IFERROR(IF(AT22=\"Y\",\"This measure is being flagged as either falling outside of the cost, site energy savings, or source energy savings typical values. Please refer to the guidance in the above instructions and respond accordingly.\",IF(OR(AR22=\"Y\",AS22=\"Y\")=TRUE,\"This measure is being flagged as either falling outside of the cost, site energy savings, or source energy savings typical values. Please refer to the guidance in the above instructions and respond accordingly.\",\"\")),\"\")","v":""},null,null,{"$f":"IF(ISERROR(AD22),\"\",AD22)","v":""},{"$f":"IF(ISERROR(AE22),\"\",AE22)","v":""},{"$f":"IF(ISERROR(AL22),\"\",AL22)","v":""},{"$f":"IF(ISERROR(AM22),\"\",AM22)","v":""},null,{"$f":"IF(E22=\"\",\"\",VLOOKUP(E22,MeasuresLookup,12,FALSE))","v":""},{"$f":"IF(D22=\"Other\",\"N/A\",VLOOKUP($D22,MeasureQCData,2,FALSE))","v":{"$error":"#N/A"}},{"$f":"Units","v":0},{"$f":"SqFt","v":0},{"$f":"Rise","v":0},{"$f":"IF(D22=\"Other\",\"Y\",VLOOKUP($D22,MeasureQCData,4,FALSE))","v":{"$error":"#N/A"}},{"$f":"IF(D22=\"Other\",\"N/A\",VLOOKUP($D22,MeasureQCData,9,FALSE))","v":{"$error":"#N/A"}},{"$f":"IF(OR($Y22=\"Each\",Y22=\"EA\"),(VLOOKUP($D22,MeasureQCData,5,FALSE)*$S22),IF($Y22=\"Unit\",(VLOOKUP($D22,MeasureQCData,5,FALSE)*$U22),IF($Y22=\"Sqft\",(VLOOKUP($D22,MeasureQCData,5,FALSE)*$V22),IF($Y22=\"MBH\",(VLOOKUP($D22,MeasureQCData,5,FALSE)*$S22),IF($Y22=\"Ins. Sqft\",(VLOOKUP($D22,MeasureQCData,5,FALSE)*$S22),IF(Y22=\"N/A\",\"N/A\",0))))))","v":{"$error":"#N/A"}},{"$f":"IF($Y22=\"Each\",(VLOOKUP($D22,MeasureQCData,6,FALSE)*$S22),IF($Y22=\"Unit\",(VLOOKUP($D22,MeasureQCData,6,FALSE)*$U22),IF($Y22=\"Sqft\",(VLOOKUP($D22,MeasureQCData,6,FALSE)*$V22),IF($Y22=\"MBH\",(VLOOKUP($D22,MeasureQCData,6,FALSE)*$S22),IF($Y22=\"Ins. Sqft\",(VLOOKUP($D22,MeasureQCData,6,FALSE)*$S22),IF(Y22=\"N/A\",\"N/A\",0))))))","v":{"$error":"#N/A"}},{"$f":"IF($Y22=\"Each\",(VLOOKUP($D22,MeasureQCData,7,FALSE)*$S22),IF($Y22=\"Unit\",(VLOOKUP($D22,MeasureQCData,7,FALSE)*$U22),IF($Y22=\"Sqft\",(VLOOKUP($D22,MeasureQCData,7,FALSE)*$V22),IF($Y22=\"MBH\",(VLOOKUP($D22,MeasureQCData,7,FALSE)*$S22),IF($Y22=\"Ins. Sqft\",(VLOOKUP($D22,MeasureQCData,7,FALSE)*$S22),IF(Y22=\"N/A\",\"N/A\",0))))))","v":{"$error":"#N/A"}},{"$f":"IF($Y22=\"Each\",(VLOOKUP($D22,MeasureQCData,8,FALSE)*$S22),IF($Y22=\"Unit\",(VLOOKUP($D22,MeasureQCData,8,FALSE)*$U22),IF($Y22=\"Sqft\",(VLOOKUP($D22,MeasureQCData,8,FALSE)*$V22),IF($Y22=\"MBH\",(VLOOKUP($D22,MeasureQCData,8,FALSE)*$S22),IF($Y22=\"Ins. Sqft\",(VLOOKUP($D22,MeasureQCData,8,FALSE)*$S22),IF(Y22=\"N/A\",\"N/A\",0))))))","v":{"$error":"#N/A"}},{"$f":"IF(Location=\"Upstate\",Z22,IF(Location=\"Downstate\",AB22,\"\"))","v":{"$error":"#N/A"}},{"$f":"IF(Location=\"Upstate\",AA22,IF(Location=\"Downstate\",AC22,\"\"))","v":{"$error":"#N/A"}},{"$f":"IF(D22=\"Other\",\"N/A\",VLOOKUP($D22,MeasureQCData,14,FALSE))","v":{"$error":"#N/A"}},{"$f":"IF(OR(D22=\"Energy Management System (EMS), Install\",D22=\"Air Sealing\",D22=\"Piping, DHW, Insulate\",D22=\"Piping, Heating, Insulate\",D22=\"Windows, Weatherstrip or Airseal\"),F22,\"N/A\")","v":"N/A"},{"$f":"IF($AF22=\"Each\",(VLOOKUP($D22,MeasureQCData,10,FALSE)*$S22),IF($AF22=\"Unit\",(VLOOKUP($D22,MeasureQCData,10,FALSE)*$U22),IF($AF22=\"Sqft\",(VLOOKUP($D22,MeasureQCData,10,FALSE)*$V22),IF($AF22=\"MBH\",(VLOOKUP($D22,MeasureQCData,10,FALSE)*$S22),IF($AF22=\"Ins. Sqft\",(VLOOKUP($D22,MeasureQCData,10,FALSE)*$S22),IF($AF22=\"$\",(VLOOKUP($D22,MeasureQCData,10,FALSE)*$AG22),IF($AF22=\"N/A\",\"N/A\",0)))))))","v":{"$error":"#N/A"}},{"$f":"IF($AF22=\"Each\",(VLOOKUP($D22,MeasureQCData,11,FALSE)*$S22),IF($AF22=\"Unit\",(VLOOKUP($D22,MeasureQCData,11,FALSE)*$U22),IF($AF22=\"Sqft\",(VLOOKUP($D22,MeasureQCData,11,FALSE)*$V22),IF($AF22=\"MBH\",(VLOOKUP($D22,MeasureQCData,11,FALSE)*$S22),IF($AF22=\"Ins. Sqft\",(VLOOKUP($D22,MeasureQCData,11,FALSE)*$S22),IF($AF22=\"$\",(VLOOKUP($D22,MeasureQCData,11,FALSE)*$AG22),IF($AF22=\"N/A\",\"N/A\",0)))))))","v":{"$error":"#N/A"}},{"$f":"IF($AF22=\"Each\",(VLOOKUP($D22,MeasureQCData,12,FALSE)*$S22),IF($AF22=\"Unit\",(VLOOKUP($D22,MeasureQCData,12,FALSE)*$U22),IF($AF22=\"Sqft\",(VLOOKUP($D22,MeasureQCData,12,FALSE)*$V22),IF($AF22=\"MBH\",(VLOOKUP($D22,MeasureQCData,12,FALSE)*$S22),IF($AF22=\"Ins. Sqft\",(VLOOKUP($D22,MeasureQCData,12,FALSE)*$S22),IF($AF22=\"$\",(VLOOKUP($D22,MeasureQCData,12,FALSE)*$AG22),IF($AF22=\"N/A\",\"N/A\",0)))))))","v":{"$error":"#N/A"}},{"$f":"IF($AF22=\"Each\",(VLOOKUP($D22,MeasureQCData,13,FALSE)*$S22),IF($AF22=\"Unit\",(VLOOKUP($D22,MeasureQCData,13,FALSE)*$U22),IF($AF22=\"Sqft\",(VLOOKUP($D22,MeasureQCData,13,FALSE)*$V22),IF($AF22=\"MBH\",(VLOOKUP($D22,MeasureQCData,13,FALSE)*$S22),IF($AF22=\"Ins. Sqft\",(VLOOKUP($D22,MeasureQCData,13,FALSE)*$S22),IF($AF22=\"$\",(VLOOKUP($D22,MeasureQCData,13,FALSE)*$AG22),IF($AF22=\"N/A\",\"N/A\",0)))))))","v":{"$error":"#N/A"}},{"$f":"IF(AF22=\"N/A\",\"N/A\",IF(Rise=\"Low\",AH22/1000000,IF(Rise=\"High\",AJ22/1000000,\"\")))","v":{"$error":"#N/A"}},{"$f":"IF(AF22=\"N/A\",\"N/A\",IF(Rise=\"Low\",AI22/1000000,IF(Rise=\"High\",AK22/1000000,\"\")))","v":{"$error":"#N/A"}},{"$f":"IF(D22=\"Other\",\"N\",VLOOKUP($D22,MeasureQCData,105,FALSE))","v":{"$error":"#N/A"}},{"$f":"IF(D22=\"Other\",\"N/A\",VLOOKUP($D22,MeasureQCData,107,FALSE))","v":{"$error":"#N/A"}},{"$f":"IF($AO22=\"Each\",(VLOOKUP($D22,MeasureQCData,106,FALSE)*$S22)/1000000,IF($AO22=\"Unit\",(VLOOKUP($D22,MeasureQCData,106,FALSE)*$U22)/1000000,IF($AO22=\"Sqft\",(VLOOKUP($D22,MeasureQCData,106,FALSE)*$V22)/1000000,IF($AO22=\"MBH\",(VLOOKUP($D22,MeasureQCData,106,FALSE)*$S22)/1000000,IF($AO22=\"Ins. Sqft\",(VLOOKUP($D22,MeasureQCData,106,FALSE)*$S22)/1000000,IF($AO22=\"Tons\",(VLOOKUP($D22,MeasureQCData,106,FALSE)*$S22)/1000000,IF($AO22=\"Total\",VLOOKUP($D22,MeasureQCData,106,FALSE)/1000000,\"N/A\")))))))","v":{"$error":"#N/A"}},{"$f":"IF(D22=\"Other\",\"N/A\",VLOOKUP($D22,MeasureQCData,16,FALSE))","v":{"$error":"#N/A"}},{"$f":"IF(X22=\"N\",\"N\",IF(F22<AD22,\"Y\",\"N\"))","v":{"$error":"#N/A"}},{"$f":"IF(X22=\"N\",\"N\",IF(OR(G22>AM22,I22>AQ22),\"Y\",\"N\"))","v":{"$error":"#N/A"}},{"$f":"IF(AN22=\"N\",\"N\",IF(G22>AP22,\"Y\",\"N\"))","v":{"$error":"#N/A"}},null,null,null,null,null,null,null,null,null,null,null,{"$f":"IFERROR(IF(AND(OR(AR22=\"y\",AS22=\"y\")=TRUE,L22=\"\")=TRUE,\"ERR\",\"\"),\"\")","v":""}]
[{"$f":"IFERROR(MATCH(E23,'Scope and Prelim. Cost Est.'!$B$26:$B$31,0),\"\")","v":""},null,{"$f":"IF(D23=\"\",0,C22+1)","v":0},"",{"$f":"IFERROR(INDEX('Scope and Prelim. Cost Est.'!$B$26:$B$125,SMALL(IF('Scope and Prelim. Cost Est.'!$F$26:$F$125=\"Yes\",ROW('Scope and Prelim. Cost Est.'!$F$26:$F$125)-ROW('Scope and Prelim. Cost Est.'!$F$26)+1),ROWS('Scope and Prelim. Cost Est.'!$F$26:F27))),\"\")","v":""},"",{"$f":"IFERROR(VLOOKUP($E23,MeasuresLookup,18,FALSE)+VLOOKUP($E23,MeasuresLookup,19,FALSE)+(VLOOKUP($E23,MeasuresLookup,16,FALSE)+VLOOKUP($E23,MeasuresLookup,17,FALSE))*Calcs!$B$90,0)","v":0},{"$f":"IFERROR((VLOOKUP($E23,MeasuresLookup,16,FALSE)+VLOOKUP($E23,MeasuresLookup,17,FALSE))*Calcs!$B$90*Calcs!$B$91,0)+IFERROR((VLOOKUP($E23,MeasuresLookup,18,FALSE)+VLOOKUP($E23,MeasuresLookup,19,FALSE))*VLOOKUP(VLOOKUP($E23,MeasuresLookup,20,FALSE),SiteToSource,2,FALSE),0)","v":0},{"$f":"IF('Energy and Water Use'!$M$33>0,H23/('Energy and Water Use'!$AN$33/1000),0)","v":0},"*\n*\n*\n*\n*\n*",{"$f":"IFERROR(IF(AT23=\"Y\",\"This measure is being flagged as either falling outside of the cost, site energy savings, or source energy savings typical values. Please refer to the guidance in the above instructions and respond accordingly.\",IF(OR(AR23=\"Y\",AS23=\"Y\")=TRUE,\"This measure is being flagged as either falling outside of the cost, site energy savings, or source energy savings typical values. Please refer to the guidance in the above instructions and respond accordingly.\",\"\")),\"\")","v":""},null,null,{"$f":"IF(ISERROR(AD23),\"\",AD23)","v":""},"",{"$f":"IF(ISERROR(AL23),\"\",AL23)","v":""},"",null,"",{"$error":"#N/A"},0,0,0,{"$error":"#N/A"},{"$error":"#N/A"},{"$error":"#N/A"},{"$error":"#N/A"},{"$error":"#N/A"},{"$error":"#N/A"},{"$f":"IF(Location=\"Upstate\",Z23,IF(Location=\"Downstate\",AB23,\"\"))","v":{"$error":"#N/A"}},{"$error":"#N/A"},{"$error":"#N/A"},{"$f":"IF(OR(D23=\"Energy Management System (EMS), Install\",D23=\"Air Sealing\",D23=\"Piping, DHW, Insulate\",D23=\"Piping, Heating, Insulate\",D23=\"Windows, Weatherstrip or Airseal\"),F23,\"N/A\")","v":"N/A"},{"$error":"#N/A"},{"$error":"#N/A"},{"$error":"#N/A"},{"$error":"#N/A"},{"$error":"#N/A"},{"$error":"#N/A"},{"$error":"#N/A"},{"$error":"#N/A"},{"$error":"#N/A"},{"$error":"#N/A"},{"$f":"IF(X23=\"N\",\"N\",IF(F23<AD23,\"Y\",\"N\"))","v":{"$error":"#N/A"}},{"$f":"IF(X23=\"N\",\"N\",IF(OR(G23>AM23,I23>AQ23),\"Y\",\"N\"))","v":{"$error":"#N/A"}},{"$error":"#N/A"},null,null,null,null,null,null,null,null,null,null,null,{"$f":"IFERROR(IF(AND(OR(AR23=\"y\",AS23=\"y\")=TRUE,L23=\"\")=TRUE,\"ERR\",\"\"),\"\")","v":""}]
[{"$f":"IFERROR(MATCH(E24,'Scope and Prelim. Cost Est.'!$B$26:$B$31,0),\"\")","v":""},null,{"$f":"IF(D24=\"\",0,C23+1)","v":0},"",{"$f":"IFERROR(INDEX('Scope and Prelim. Cost Est.'!$B$26:$B$125,SMALL(IF('Scope and Prelim. Cost Est.'!$F$26:$F$125=\"Yes\",ROW('Scope and Prelim. Cost Est.'!$F$26:$F$125)-ROW('Scope and Prelim. Cost Est.'!$F$26)+1),ROWS('Scope and Prelim. Cost Est.'!$F$26:F28))),\"\")","v":""},"",{"$f":"IFERROR(VLOOKUP($E24,MeasuresLookup,18,FALSE)+VLOOKUP($E24,MeasuresLookup,19,FALSE)+(VLOOKUP($E24,MeasuresLookup,16,FALSE)+VLOOKUP($E24,MeasuresLookup,17,FALSE))*Calcs!$B$90,0)","v":0},{"$f":"IFERROR((VLOOKUP($E24,MeasuresLookup,16,FALSE)+VLOOKUP($E24,MeasuresLookup,17,FALSE))*Calcs!$B$90*Calcs!$B$91,0)+IFERROR((VLOOKUP($E24,MeasuresLookup,18,FALSE)+VLOOKUP($E24,MeasuresLookup,19,FALSE))*VLOOKUP(VLOOKUP($E24,MeasuresLookup,20,FALSE),SiteToSource,2,FALSE),0)","v":0},{"$f":"IF('Energy and Water Use'!$M$33>0,H24/('Energy and Water Use'!$AN$33/1000),0)","v":0},"*\n*\n*\n*\n*\n*","",null,null,"",{"$f":"IF(ISERROR(AE24),\"\",AE24)","v":""},"","",null,"",{"$error":"#N/A"},0,0,0,{"$error":"#N/A"},{"$error":"#N/A"},{"$error":"#N/A"},{"$error":"#N/A"},{"$error":"#N/A"},{"$error":"#N/A"},{"$f":"IF(Location=\"Upstate\",Z24,IF(Location=\"Downstate\",AB24,\"\"))","v":{"$error":"#N/A"}},{"$f":"IF(Location=\"Upstate\",AA24,IF(Location=\"Downstate\",AC24,\"\"))","v":{"$error":"#N/A"}},{"$error":"#N/A"},"N/A",{"$error":"#N/A"},{"$error":"#N/A"},{"$error":"#N/A"},{"$error":"#N/A"},{"$error":"#N/A"},{"$error":"#N/A"},{"$error":"#N/A"},{"$error":"#N/A"},{"$error":"#N/A"},{"$error":"#N/A"},{"$error":"#N/A"},{"$error":"#N/A"},{"$error":"#N/A"},null,null,null,null,null,null,null,null,null,null,null,""]
[{"$f":"IFERROR(MATCH(E25,'Scope and Prelim. Cost Est.'!$B$26:$B$31,0),\"\")","v":""},null,0,"",{"$f":"IFERROR(INDEX('Scope and Prelim. Cost Est.'!$B$26:$B$125,SMALL(IF('Scope and Prelim. Cost Est.'!$F$26:$F$125=\"Yes\",ROW('Scope and Prelim. Cost Est.'!$F$26:$F$125)-ROW('Scope and Prelim. Cost Est.'!$F$26)+1),ROWS('Scope and Prelim. Cost Est.'!$F$26:F29))),\"\")","v":""},"",{"$f":"IFERROR(VLOOKUP($E25,MeasuresLookup,18,FALSE)+VLOOKUP($E25,MeasuresLookup,19,FALSE)+(VLOOKUP($E25,MeasuresLookup,16,FALSE)+VLOOKUP($E25,MeasuresLookup,17,FALSE))*Calcs!$B$90,0)","v":0},{"$f":"IFERROR((VLOOKUP($E25,MeasuresLookup,16,FALSE)+VLOOKUP($E25,MeasuresLookup,17,FALSE))*Calcs!$B$90*Calcs!$B$91,0)+IFERROR((VLOOKUP($E25,MeasuresLookup,18,FALSE)+VLOOKUP($E25,MeasuresLookup,19,FALSE))*VLOOKUP(VLOOKUP($E25,MeasuresLookup,20,FALSE),SiteToSource,2,FALSE),0)","v":0},{"$f":"IF('Energy and Water Use'!$M$33>0,H25/('Energy and Water Use'!$AN$33/1000),0)","v":0},"*\n*\n*\n*\n*\n*","",null,null,"","","","",null,"",{"$error":"#N/A"},0,0,0,{"$error":"#N/A"},{"$error":"#N/A"},{"$error":"#N/A"},{"$error":"#N/A"},{"$error":"#N/A"},{"$error":"#N/A"},{"$error":"#N/A"},{"$error":"#N/A"},{"$error":"#N/A"},"N/A",{"$error":"#N/A"},{"$error":"#N/A"},{"$error":"#N/A"},{"$error":"#N/A"},{"$error":"#N/A"},{"$error":"#N/A"},{"$error":"#N/A"},{"$error":"#N/A"},{"$error":"#N/A"},{"$error":"#N/A"},{"$error":"#N/A"},{"$error":"#N/A"},{"$error":"#N/A"},null,null,null,null,null,null,null,null,null,null,null,""]
[{"$f":"IFERROR(MATCH(E26,'Scope and Prelim. Cost Est.'!$B$26:$B$31,0),\"\")","v":""},null,0,"",{"$f":"IFERROR(INDEX('Scope and Prelim. Cost Est.'!$B$26:$B$125,SMALL(IF('Scope and Prelim. Cost Est.'!$F$26:$F$125=\"Yes\",ROW('Scope and Prelim. Cost Est.'!$F$26:$F$125)-ROW('Scope and Prelim. Cost Est.'!$F$26)+1),ROWS('Scope and Prelim. Cost Est.'!$F$26:F30))),\"\")","v":""},"",{"$f":"IFERROR(VLOOKUP($E26,MeasuresLookup,18,FALSE)+VLOOKUP($E26,MeasuresLookup,19,FALSE)+(VLOOKUP($E26,MeasuresLookup,16,FALSE)+VLOOKUP($E26,MeasuresLookup,17,FALSE))*Calcs!$B$90,0)","v":0},{"$f":"IFERROR((VLOOKUP($E26,MeasuresLookup,16,FALSE)+VLOOKUP($E26,MeasuresLookup,17,FALSE))*Calcs!$B$90*Calcs!$B$91,0)+IFERROR((VLOOKUP($E26,MeasuresLookup,18,FALSE)+VLOOKUP($E26,MeasuresLookup,19,FALSE))*VLOOKUP(VLOOKUP($E26,MeasuresLookup,20,FALSE),SiteToSource,2,FALSE),0)","v":0},{"$f":"IF('Energy and Water Use'!$M$33>0,H26/('Energy and Water Use'!$AN$33/1000),0)","v":0},"*\n*\n*\n*\n*\n*","",null,null,"","","","",null,"",{"$error":"#N/A"},0,0,0,{"$error":"#N/A"},{"$error":"#N/A"},{"$error":"#N/A"},{"$error":"#N/A"},{"$error":"#N/A"},{"$error":"#N/A"},{"$error":"#N/A"},{"$error":"#N/A"},{"$error":"#N/A"},"N/A",{"$error":"#N/A"},{"$error":"#N/A"},{"$error":"#N/A"},{"$error":"#N/A"},{"$error":"#N/A"},{"$error":"#N/A"},{"$error":"#N/A"},{"$error":"#N/A"},{"$error":"#N/A"},{"$error":"#N/A"},{"$error":"#N/A"},{"$error":"#N/A"},{"$f":"IF(AN26=\"N\",\"N\",IF(G26>AP26,\"Y\",\"N\"))","v":{"$error":"#N/A"}},null,null,null,null,null,null,null,null,null,null,null,""]
[{"$f":"IFERROR(MATCH(E27,'Scope and Prelim. Cost Est.'!$B$26:$B$31,0),\"\")","v":""},null,0,"",{"$f":"IFERROR(INDEX('Scope and Prelim. Cost Est.'!$B$26:$B$125,SMALL(IF('Scope and Prelim. Cost Est.'!$F$26:$F$125=\"Yes\",ROW('Scope and Prelim. Cost Est.'!$F$26:$F$125)-ROW('Scope and Prelim. Cost Est.'!$F$26)+1),ROWS('Scope and Prelim. Cost Est.'!$F$26:F31))),\"\")","v":""},"",{"$f":"IFERROR(VLOOKUP($E27,MeasuresLookup,18,FALSE)+VLOOKUP($E27,MeasuresLookup,19,FALSE)+(VLOOKUP($E27,MeasuresLookup,16,FALSE)+VLOOKUP($E27,MeasuresLookup,17,FALSE))*Calcs!$B$90,0)","v":0},{"$f":"IFERROR((VLOOKUP($E27,MeasuresLookup,16,FALSE)+VLOOKUP($E27,MeasuresLookup,17,FALSE))*Calcs!$B$90*Calcs!$B$91,0)+IFERROR((VLOOKUP($E27,MeasuresLookup,18,FALSE)+VLOOKUP($E27,MeasuresLookup,19,FALSE))*VLOOKUP(VLOOKUP($E27,MeasuresLookup,20,FALSE),SiteToSource,2,FALSE),0)","v":0},{"$f":"IF('Energy and Water Use'!$M$33>0,H27/('Energy and Water Use'!$AN$33/1000),0)","v":0},"*\n*\n*\n*\n*\n*","",null,null,"","","","",null,"",{"$error":"#N/A"},0,0,0,{"$error":"#N/A"},{"$error":"#N/A"},{"$error":"#N/A"},{"$error":"#N/A"},{"$error":"#N/A"},{"$error":"#N/A"},{"$error":"#N/A"},{"$error":"#N/A"},{"$error":"#N/A"},"N/A",{"$error":"#N/A"},{"$error":"#N/A"},{"$error":"#N/A"},{"$error":"#N/A"},{"$error":"#N/A"},{"$error":"#N/A"},{"$error":"#N/A"},{"$error":"#N/A"},{"$error":"#N/A"},{"$error":"#N/A"},{"$error":"#N/A"},{"$error":"#N/A"},{"$error":"#N/A"},null,null,null,null,null,null,null,null,null,null,null,""]
[{"$f":"IFERROR(MATCH(E28,'Scope and Prelim. Cost Est.'!$B$32:$B$37,0),\"\")","v":""},null,0,"",{"$f":"IFERROR(INDEX('Scope and Prelim. Cost Est.'!$B$26:$B$125,SMALL(IF('Scope and Prelim. Cost Est.'!$F$26:$F$125=\"Yes\",ROW('Scope and Prelim. Cost Est.'!$F$26:$F$125)-ROW('Scope and Prelim. Cost Est.'!$F$26)+1),ROWS('Scope and Prelim. Cost Est.'!$F$26:F32))),\"\")","v":""},"",{"$f":"IFERROR(VLOOKUP($E28,MeasuresLookup,18,FALSE)+VLOOKUP($E28,MeasuresLookup,19,FALSE)+(VLOOKUP($E28,MeasuresLookup,16,FALSE)+VLOOKUP($E28,MeasuresLookup,17,FALSE))*Calcs!$B$90,0)","v":0},{"$f":"IFERROR((VLOOKUP($E28,MeasuresLookup,16,FALSE)+VLOOKUP($E28,MeasuresLookup,17,FALSE))*Calcs!$B$90*Calcs!$B$91,0)+IFERROR((VLOOKUP($E28,MeasuresLookup,18,FALSE)+VLOOKUP($E28,MeasuresLookup,19,FALSE))*VLOOKUP(VLOOKUP($E28,MeasuresLookup,20,FALSE),SiteToSource,2,FALSE),0)","v":0},{"$f":"IF('Energy and Water Use'!$M$33>0,H28/('Energy and Water Use'!$AN$33/1000),0)","v":0},"*\n*\n*\n*\n*\n*","",null,null,"","","","",null,"",{"$error":"#N/A"},0,0,0,{"$f":"IF(D28=\"Other\",\"Y\",VLOOKUP($D28,MeasureQCData,4,FALSE))","v":{"$error":"#N/A"}},{"$error":"#N/A"},{"$f":"IF($Y28=\"Each\",(VLOOKUP($D28,MeasureQCData,5,FALSE)*$S28),IF($Y28=\"Unit\",(VLOOKUP($D28,MeasureQCData,5,FALSE)*$U28),IF($Y28=\"Sqft\",(VLOOKUP($D28,MeasureQCData,5,FALSE)*$V28),IF($Y28=\"MBH\",(VLOOKUP($D28,MeasureQCData,5,FALSE)*$S28),IF($Y28=\"Ins. Sqft\",(VLOOKUP($D28,MeasureQCData,5,FALSE)*$S28),IF(Y28=\"N/A\",\"N/A\",0))))))","v":{"$error":"#N/A"}},{"$error":"#N/A"},{"$error":"#N/A"},{"$error":"#N/A"},{"$error":"#N/A"},{"$error":"#N/A"},{"$error":"#N/A"},"N/A",{"$error":"#N/A"},{"$error":"#N/A"},{"$error":"#N/A"},{"$error":"#N/A"},{"$error":"#N/A"},{"$error":"#N/A"},{"$f":"IF(D28=\"Other\",\"N\",VLOOKUP($D28,MeasureQCData,105,FALSE))","v":{"$error":"#N/A"}},{"$error":"#N/A"},{"$error":"#N/A"},{"$error":"#N/A"},{"$error":"#N/A"},{"$error":"#N/A"},{"$f":"IF(AN28=\"N\",\"N\",IF(G28>AP28,\"Y\",\"N\"))","v":{"$error":"#N/A"}},null,null,null,null,null,null,null,null,null,null,null,""]
[{"$f":"IFERROR(MATCH(E29,'Scope and Prelim. Cost Est.'!$B$32:$B$37,0),\"\")","v":""},null,0,"",{"$f":"IFERROR(INDEX('Scope and Prelim. Cost Est.'!$B$26:$B$125,SMALL(IF('Scope and Prelim. Cost Est.'!$F$26:$F$125=\"Yes\",ROW('Scope and Prelim. Cost Est.'!$F$26:$F$125)-ROW('Scope and Prelim. Cost Est.'!$F$26)+1),ROWS('Scope and Prelim. Cost Est.'!$F$26:F33))),\"\")","v":""},"",{"$f":"IFERROR(VLOOKUP($E29,MeasuresLookup,18,FALSE)+VLOOKUP($E29,MeasuresLookup,19,FALSE)+(VLOOKUP($E29,MeasuresLookup,16,FALSE)+VLOOKUP($E29,MeasuresLookup,17,FALSE))*Calcs!$B$90,0)","v":0},{"$f":"IFERROR((VLOOKUP($E29,MeasuresLookup,16,FALSE)+VLOOKUP($E29,MeasuresLookup,17,FALSE))*Calcs!$B$90*Calcs!$B$91,0)+IFERROR((VLOOKUP($E29,MeasuresLookup,18,FALSE)+VLOOKUP($E29,MeasuresLookup,19,FALSE))*VLOOKUP(VLOOKUP($E29,MeasuresLookup,20,FALSE),SiteToSource,2,FALSE),0)","v":0},{"$f":"IF('Energy and Water Use'!$M$33>0,H29/('Energy and Water Use'!$AN$33/1000),0)","v":0},"*\n*\n*\n*\n*\n*","",null,null,"","","","",null,"",{"$error":"#N/A"},0,0,0,{"$error":"#N/A"},{"$error":"#N/A"},{"$error":"#N/A"},{"$error":"#N/A"},{"$error":"#N/A"},{"$error":"#N/A"},{"$error":"#N/A"},{"$error":"#N/A"},{"$error":"#N/A"},"N/A",{"$error":"#N/A"},{"$error":"#N/A"},{"$error":"#N/A"},{"$error":"#N/A"},{"$error":"#N/A"},{"$error":"#N/A"},{"$error":"#N/A"},{"$error":"#N/A"},{"$error":"#N/A"},{"$error":"#N/A"},{"$error":"#N/A"},{"$error":"#N/A"},{"$error":"#N/A"},null,null,null,null,null,null,null,null,null,null,null,""]
[{"$f":"IFERROR(MATCH(E30,'Scope and Prelim. Cost Est.'!$B$32:$B$37,0),\"\")","v":""},null,0,"",{"$f":"IFERROR(INDEX('Scope and Prelim. Cost Est.'!$B$26:$B$125,SMALL(IF('Scope and Prelim. Cost Est.'!$F$26:$F$125=\"Yes\",ROW('Scope and Prelim. Cost Est.'!$F$26:$F$125)-ROW('Scope and Prelim. Cost Est.'!$F$26)+1),ROWS('Scope and Prelim. Cost Est.'!$F$26:F34))),\"\")","v":""},"",{"$f":"IFERROR(VLOOKUP($E30,MeasuresLookup,18,FALSE)+VLOOKUP($E30,MeasuresLookup,19,FALSE)+(VLOOKUP($E30,MeasuresLookup,16,FALSE)+VLOOKUP($E30,MeasuresLookup,17,FALSE))*Calcs!$B$90,0)","v":0},{"$f":"IFERROR((VLOOKUP($E30,MeasuresLookup,16,FALSE)+VLOOKUP($E30,MeasuresLookup,17,FALSE))*Calcs!$B$90*Calcs!$B$91,0)+IFERROR((VLOOKUP($E30,MeasuresLookup,18,FALSE)+VLOOKUP($E30,MeasuresLookup,19,FALSE))*VLOOKUP(VLOOKUP($E30,MeasuresLookup,20,FALSE),SiteToSource,2,FALSE),0)","v":0},{"$f":"IF('Energy and Water Use'!$M$33>0,H30/('Energy and Water Use'!$AN$33/1000),0)","v":0},"*\n*\n*\n*\n*\n*","",null,null,"","","","",null,"",{"$error":"#N/A"},0,0,0,{"$error":"#N/A"},{"$error":"#N/A"},{"$error":"#N/A"},{"$error":"#N/A"},{"$error":"#N/A"},{"$error":"#N/A"},{"$error":"#N/A"},{"$error":"#N/A"},{"$error":"#N/A"},"N/A",{"$error":"#N/A"},{"$error":"#N/A"},{"$error":"#N/A"},{"$error":"#N/A"},{"$error":"#N/A"},{"$error":"#N/A"},{"$error":"#N/A"},{"$error":"#N/A"},{"$error":"#N/A"},{"$error":"#N/A"},{"$error":"#N/A"},{"$error":"#N/A"},{"$error":"#N/A"},null,null,null,null,null,null,null,null,null,null,null,""]
[{"$f":"IFERROR(MATCH(E31,'Scope and Prelim. Cost Est.'!$B$32:$B$37,0),\"\")","v":""},null,0,"",{"$f":"IFERROR(INDEX('Scope and Prelim. Cost Est.'!$B$26:$B$125,SMALL(IF('Scope and Prelim. Cost Est.'!$F$26:$F$125=\"Yes\",ROW('Scope and Prelim. Cost Est.'!$F$26:$F$125)-ROW('Scope and Prelim. Cost Est.'!$F$26)+1),ROWS('Scope and Prelim. Cost Est.'!$F$26:F35))),\"\")","v":""},"",{"$f":"IFERROR(VLOOKUP($E31,MeasuresLookup,18,FALSE)+VLOOKUP($E31,MeasuresLookup,19,FALSE)+(VLOOKUP($E31,MeasuresLookup,16,FALSE)+VLOOKUP($E31,MeasuresLookup,17,FALSE))*Calcs!$B$90,0)","v":0},{"$f":"IFERROR((VLOOKUP($E31,MeasuresLookup,16,FALSE)+VLOOKUP($E31,MeasuresLookup,17,FALSE))*Calcs!$B$90*Calcs!$B$91,0)+IFERROR((VLOOKUP($E31,MeasuresLookup,18,FALSE)+VLOOKUP($E31,MeasuresLookup,19,FALSE))*VLOOKUP(VLOOKUP($E31,MeasuresLookup,20,FALSE),SiteToSource,2,FALSE),0)","v":0},{"$f":"IF('Energy and Water Use'!$M$33>0,H31/('Energy and Water Use'!$AN$33/1000),0)","v":0},"*\n*\n*\n*\n*\n*","",null,null,"","","","",null,"",{"$error":"#N/A"},0,0,0,{"$error":"#N/A"},{"$error":"#N/A"},{"$error":"#N/A"},{"$error":"#N/A"},{"$error":"#N/A"},{"$error":"#N/A"},{"$error":"#N/A"},{"$error":"#N/A"},{"$error":"#N/A"},"N/A",{"$error":"#N/A"},{"$error":"#N/A"},{"$error":"#N/A"},{"$error":"#N/A"},{"$error":"#N/A"},{"$error":"#N/A"},{"$error":"#N/A"},{"$error":"#N/A"},{"$error":"#N/A"},{"$error":"#N/A"},{"$error":"#N/A"},{"$error":"#N/A"},{"$error":"#N/A"},null,null,null,null,null,null,null,null,null,null,null,""]
[{"$f":"IFERROR(MATCH(E32,'Scope and Prelim. Cost Est.'!$B$32:$B$37,0),\"\")","v":""},null,0,"",{"$f":"IFERROR(INDEX('Scope and Prelim. Cost Est.'!$B$26:$B$125,SMALL(IF('Scope and Prelim. Cost Est.'!$F$26:$F$125=\"Yes\",ROW('Scope and Prelim. Cost Est.'!$F$26:$F$125)-ROW('Scope and Prelim. Cost Est.'!$F$26)+1),ROWS('Scope and Prelim. Cost Est.'!$F$26:F36))),\"\")","v":""},"",{"$f":"IFERROR(VLOOKUP($E32,MeasuresLookup,18,FALSE)+VLOOKUP($E32,MeasuresLookup,19,FALSE)+(VLOOKUP($E32,MeasuresLookup,16,FALSE)+VLOOKUP($E32,MeasuresLookup,17,FALSE))*Calcs!$B$90,0)","v":0},{"$f":"IFERROR((VLOOKUP($E32,MeasuresLookup,16,FALSE)+VLOOKUP($E32,MeasuresLookup,17,FALSE))*Calcs!$B$90*Calcs!$B$91,0)+IFERROR((VLOOKUP($E32,MeasuresLookup,18,FALSE)+VLOOKUP($E32,MeasuresLookup,19,FALSE))*VLOOKUP(VLOOKUP($E32,MeasuresLookup,20,FALSE),SiteToSource,2,FALSE),0)","v":0},{"$f":"IF('Energy and Water Use'!$M$33>0,H32/('Energy and Water Use'!$AN$33/1000),0)","v":0},"*\n*\n*\n*\n*\n*",{"$f":"IFERROR(IF(AT32=\"Y\",\"This measure is being flagged as either falling outside of the cost, site energy savings, or source energy savings typical values. Please refer to the guidance in the above instructions and respond accordingly.\",IF(OR(AR32=\"Y\",AS32=\"Y\")=TRUE,\"This measure is being flagged as either falling outside of the cost, site energy savings, or source energy savings typical values. Please refer to the guidance in the above instructions and respond accordingly.\",\"\")),\"\")","v":""},null,null,"","","","",null,"",{"$error":"#N/A"},0,0,0,{"$error":"#N/A"},{"$error":"#N/A"},{"$error":"#N/A"},{"$error":"#N/A"},{"$error":"#N/A"},{"$error":"#N/A"},{"$error":"#N/A"},{"$error":"#N/A"},{"$error":"#N/A"},"N/A",{"$error":"#N/A"},{"$error":"#N/A"},{"$error":"#N/A"},{"$error":"#N/A"},{"$error":"#N/A"},{"$error":"#N/A"},{"$error":"#N/A"},{"$error":"#N/A"},{"$error":"#N/A"},{"$error":"#N/A"},{"$error":"#N/A"},{"$error":"#N/A"},{"$error":"#N/A"},null,null,null,null,null,null,null,null,null,null,null,""]
[{"$f":"IFERROR(MATCH(E33,'Scope and Prelim. Cost Est.'!$B$32:$B$37,0),\"\")","v":""},null,0,"",{"$f":"IFERROR(INDEX('Scope and Prelim. Cost Est.'!$B$26:$B$125,SMALL(IF('Scope and Prelim. Cost Est.'!$F$26:$F$125=\"Yes\",ROW('Scope and Prelim. Cost Est.'!$F$26:$F$125)-ROW('Scope and Prelim. Cost Est.'!$F$26)+1),ROWS('Scope and Prelim. Cost Est.'!$F$26:F37))),\"\")","v":""},"",{"$f":"IFERROR(VLOOKUP($E33,MeasuresLookup,18,FALSE)+VLOOKUP($E33,MeasuresLookup,19,FALSE)+(VLOOKUP($E33,MeasuresLookup,16,FALSE)+VLOOKUP($E33,MeasuresLookup,17,FALSE))*Calcs!$B$90,0)","v":0},{"$f":"IFERROR((VLOOKUP($E33,MeasuresLookup,16,FALSE)+VLOOKUP($E33,MeasuresLookup,17,FALSE))*Calcs!$B$90*Calcs!$B$91,0)+IFERROR((VLOOKUP($E33,MeasuresLookup,18,FALSE)+VLOOKUP($E33,MeasuresLookup,19,FALSE))*VLOOKUP(VLOOKUP($E33,MeasuresLookup,20,FALSE),SiteToSource,2,FALSE),0)","v":0},{"$f":"IF('Energy and Water Use'!$M$33>0,H33/('Energy and Water Use'!$AN$33/1000),0)","v":0},"*\n*\n*\n*\n*\n*","",null,null,"","","","",null,"",{"$error":"#N/A"},0,0,0,{"$error":"#N/A"},{"$error":"#N/A"},{"$error":"#N/A"},{"$error":"#N/A"},{"$error":"#N/A"},{"$error":"#N/A"},{"$error":"#N/A"},{"$error":"#N/A"},{"$error":"#N/A"},"N/A",{"$error":"#N/A"},{"$error":"#N/A"},{"$error":"#N/A"},{"$error":"#N/A"},{"$error":"#N/A"},{"$error":"#N/A"},{"$error":"#N/A"},{"$error":"#N/A"},{"$error":"#N/A"},{"$error":"#N/A"},{"$error":"#N/A"},{"$error":"#N/A"},{"$error":"#N/A"},null,null,null,null,null,null,null,null,null,null,null,""]
[{"$f":"IFERROR(MATCH(E34,'Scope and Prelim. Cost Est.'!$B$38:$B$43,0),\"\")","v":""},null,0,"",{"$f":"IFERROR(INDEX('Scope and Prelim. Cost Est.'!$B$26:$B$125,SMALL(IF('Scope and Prelim. Cost Est.'!$F$26:$F$125=\"Yes\",ROW('Scope and Prelim. Cost Est.'!$F$26:$F$125)-ROW('Scope and Prelim. Cost Est.'!$F$26)+1),ROWS('Scope and Prelim. Cost Est.'!$F$26:F38))),\"\")","v":""},"",{"$f":"IFERROR(VLOOKUP($E34,MeasuresLookup,18,FALSE)+VLOOKUP($E34,MeasuresLookup,19,FALSE)+(VLOOKUP($E34,MeasuresLookup,16,FALSE)+VLOOKUP($E34,MeasuresLookup,17,FALSE))*Calcs!$B$90,0)","v":0},{"$f":"IFERROR((VLOOKUP($E34,MeasuresLookup,16,FALSE)+VLOOKUP($E34,MeasuresLookup,17,FALSE))*Calcs!$B$90*Calcs!$B$91,0)+IFERROR((VLOOKUP($E34,MeasuresLookup,18,FALSE)+VLOOKUP($E34,MeasuresLookup,19,FALSE))*VLOOKUP(VLOOKUP($E34,MeasuresLookup,20,FALSE),SiteToSource,2,FALSE),0)","v":0},{"$f":"IF('Energy and Water Use'!$M$33>0,H34/('Energy and Water Use'!$AN$33/1000),0)","v":0},"*\n*\n*\n*\n*\n*","",null,null,"","","","",null,"",{"$error":"#N/A"},0,0,0,{"$f":"IF(D34=\"Other\",\"Y\",VLOOKUP($D34,MeasureQCData,4,FALSE))","v":{"$error":"#N/A"}},{"$error":"#N/A"},{"$error":"#N/A"},{"$error":"#N/A"},{"$error":"#N/A"},{"$error":"#N/A"},{"$error":"#N/A"},{"$error":"#N/A"},{"$error":"#N/A"},"N/A",{"$error":"#N/A"},{"$error":"#N/A"},{"$error":"#N/A"},{"$error":"#N/A"},{"$error":"#N/A"},{"$error":"#N/A"},{"$f":"IF(D34=\"Other\",\"N\",VLOOKUP($D34,MeasureQCData,105,FALSE))","v":{"$error":"#N/A"}},{"$error":"#N/A"},{"$error":"#N/A"},{"$error":"#N/A"},{"$error":"#N/A"},{"$error":"#N/A"},{"$f":"IF(AN34=\"N\",\"N\",IF(G34>AP34,\"Y\",\"N\"))","v":{"$error":"#N/A"}},null,null,null,null,null,null,null,null,null,null,null,""]
[{"$f":"IFERROR(MATCH(E35,'Scope and Prelim. Cost Est.'!$B$38:$B$43,0),\"\")","v":""},null,0,"",{"$f":"IFERROR(INDEX('Scope and Prelim. Cost Est.'!$B$26:$B$125,SMALL(IF('Scope and Prelim. Cost Est.'!$F$26:$F$125=\"Yes\",ROW('Scope and Prelim. Cost Est.'!$F$26:$F$125)-ROW('Scope and Prelim. Cost Est.'!$F$26)+1),ROWS('Scope and Prelim. Cost Est.'!$F$26:F39))),\"\")","v":""},"",{"$f":"IFERROR(VLOOKUP($E35,MeasuresLookup,18,FALSE)+VLOOKUP($E35,MeasuresLookup,19,FALSE)+(VLOOKUP($E35,MeasuresLookup,16,FALSE)+VLOOKUP($E35,MeasuresLookup,17,FALSE))*Calcs!$B$90,0)","v":0},{"$f":"IFERROR((VLOOKUP($E35,MeasuresLookup,16,FALSE)+VLOOKUP($E35,MeasuresLookup,17,FALSE))*Calcs!$B$90*Calcs!$B$91,0)+IFERROR((VLOOKUP($E35,MeasuresLookup,18,FALSE)+VLOOKUP($E35,MeasuresLookup,19,FALSE))*VLOOKUP(VLOOKUP($E35,MeasuresLookup,20,FALSE),SiteToSource,2,FALSE),0)","v":0},{"$f":"IF('Energy and Water Use'!$M$33>0,H35/('Energy and Water Use'!$AN$33/1000),0)","v":0},"*\n*\n*\n*\n*\n*","",null,null,"","","","",null,"",{"$error":"#N/A"},0,0,0,{"$error":"#N/A"},{"$error":"#N/A"},{"$error":"#N/A"},{"$error":"#N/A"},{"$error":"#N/A"},{"$error":"#N/A"},{"$error":"#N/A"},{"$error":"#N/A"},{"$error":"#N/A"},"N/A",{"$error":"#N/A"},{"$error":"#N/A"},{"$error":"#N/A"},{"$error":"#N/A"},{"$error":"#N/A"},{"$error":"#N/A"},{"$error":"#N/A"},{"$error":"#N/A"},{"$error":"#N/A"},{"$error":"#N/A"},{"$error":"#N/A"},{"$error":"#N/A"},{"$error":"#N/A"},null,null,null,null,null,null,null,null,null,null,null,""]
[{"$f":"IFERROR(MATCH(E36,'Scope and Prelim. Cost Est.'!$B$38:$B$43,0),\"\")","v":""},null,0,"",{"$f":"IFERROR(INDEX('Scope and Prelim. Cost Est.'!$B$26:$B$125,SMALL(IF('Scope and Prelim. Cost Est.'!$F$26:$F$125=\"Yes\",ROW('Scope and Prelim. Cost Est.'!$F$26:$F$125)-ROW('Scope and Prelim. Cost Est.'!$F$26)+1),ROWS('Scope and Prelim. Cost Est.'!$F$26:F40))),\"\")","v":""},"",{"$f":"IFERROR(VLOOKUP($E36,MeasuresLookup,18,FALSE)+VLOOKUP($E36,MeasuresLookup,19,FALSE)+(VLOOKUP($E36,MeasuresLookup,16,FALSE)+VLOOKUP($E36,MeasuresLookup,17,FALSE))*Calcs!$B$90,0)","v":0},{"$f":"IFERROR((VLOOKUP($E36,MeasuresLookup,16,FALSE)+VLOOKUP($E36,MeasuresLookup,17,FALSE))*Calcs!$B$90*Calcs!$B$91,0)+IFERROR((VLOOKUP($E36,MeasuresLookup,18,FALSE)+VLOOKUP($E36,MeasuresLookup,19,FALSE))*VLOOKUP(VLOOKUP($E36,MeasuresLookup,20,FALSE),SiteToSource,2,FALSE),0)","v":0},{"$f":"IF('Energy and Water Use'!$M$33>0,H36/('Energy and Water Use'!$AN$33/1000),0)","v":0},"*\n*\n*\n*\n*\n*","",null,null,"","","","",null,"",{"$error":"#N/A"},0,0,0,{"$error":"#N/A"},{"$error":"#N/A"},{"$error":"#N/A"},{"$error":"#N/A"},{"$error":"#N/A"},{"$error":"#N/A"},{"$f":"IF(Location=\"Upstate\",Z36,IF(Location=\"Downstate\",AB36,\"\"))","v":{"$error":"#N/A"}},{"$error":"#N/A"},{"$error":"#N/A"},"N/A",{"$error":"#N/A"},{"$error":"#N/A"},{"$error":"#N/A"},{"$error":"#N/A"},{"$error":"#N/A"},{"$error":"#N/A"},{"$error":"#N/A"},{"$f":"IF(D36=\"Other\",\"N\",VLOOKUP($D36,MeasureQCData,107,FALSE))","v":{"$error":"#N/A"}},{"$error":"#N/A"},{"$error":"#N/A"},{"$error":"#N/A"},{"$error":"#N/A"},{"$error":"#N/A"},null,null,null,null,null,null,null,null,null,null,null,""]
[{"$f":"IFERROR(MATCH(E37,'Scope and Prelim. Cost Est.'!$B$38:$B$43,0),\"\")","v":""},null,0,"",{"$f":"IFERROR(INDEX('Scope and Prelim. Cost Est.'!$B$26:$B$125,SMALL(IF('Scope and Prelim. Cost Est.'!$F$26:$F$125=\"Yes\",ROW('Scope and Prelim. Cost Est.'!$F$26:$F$125)-ROW('Scope and Prelim. Cost Est.'!$F$26)+1),ROWS('Scope and Prelim. Cost Est.'!$F$26:F41))),\"\")","v":""},"",{"$f":"IFERROR(VLOOKUP($E37,MeasuresLookup,18,FALSE)+VLOOKUP($E37,MeasuresLookup,19,FALSE)+(VLOOKUP($E37,MeasuresLookup,16,FALSE)+VLOOKUP($E37,MeasuresLookup,17,FALSE))*Calcs!$B$90,0)","v":0},{"$f":"IFERROR((VLOOKUP($E37,MeasuresLookup,16,FALSE)+VLOOKUP($E37,MeasuresLookup,17,FALSE))*Calcs!$B$90*Calcs!$B$91,0)+IFERROR((VLOOKUP($E37,MeasuresLookup,18,FALSE)+VLOOKUP($E37,MeasuresLookup,19,FALSE))*VLOOKUP(VLOOKUP($E37,MeasuresLookup,20,FALSE),SiteToSource,2,FALSE),0)","v":0},{"$f":"IF('Energy and Water Use'!$M$33>0,H37/('Energy and Water Use'!$AN$33/1000),0)","v":0},"*\n*\n*\n*\n*\n*","",null,null,"","","","",null,"",{"$error":"#N/A"},0,0,0,{"$error":"#N/A"},{"$error":"#N/A"},{"$error":"#N/A"},{"$error":"#N/A"},{"$error":"#N/A"},{"$error":"#N/A"},{"$error":"#N/A"},{"$error":"#N/A"},{"$error":"#N/A"},"N/A",{"$error":"#N/A"},{"$error":"#N/A"},{"$error":"#N/A"},{"$error":"#N/A"},{"$error":"#N/A"},{"$error":"#N/A"},{"$error":"#N/A"},{"$f":"IF(D37=\"Other\",\"N\",VLOOKUP($D37,MeasureQCData,107,FALSE))","v":{"$error":"#N/A"}},{"$error":"#N/A"},{"$error":"#N/A"},{"$error":"#N/A"},{"$error":"#N/A"},{"$error":"#N/A"},null,null,null,null,null,null,null,null,null,null,null,""]
[{"$f":"IFERROR(MATCH(E38,'Scope and Prelim. Cost Est.'!$B$38:$B$43,0),\"\")","v":""},null,0,"",{"$f":"IFERROR(INDEX('Scope and Prelim. Cost Est.'!$B$26:$B$125,SMALL(IF('Scope and Prelim. Cost Est.'!$F$26:$F$125=\"Yes\",ROW('Scope and Prelim. Cost Est.'!$F$26:$F$125)-ROW('Scope and Prelim. Cost Est.'!$F$26)+1),ROWS('Scope and Prelim. Cost Est.'!$F$26:F42))),\"\")","v":""},"",{"$f":"IFERROR(VLOOKUP($E38,MeasuresLookup,18,FALSE)+VLOOKUP($E38,MeasuresLookup,19,FALSE)+(VLOOKUP($E38,MeasuresLookup,16,FALSE)+VLOOKUP($E38,MeasuresLookup,17,FALSE))*Calcs!$B$90,0)","v":0},{"$f":"IFERROR((VLOOKUP($E38,MeasuresLookup,16,FALSE)+VLOOKUP($E38,MeasuresLookup,17,FALSE))*Calcs!$B$90*Calcs!$B$91,0)+IFERROR((VLOOKUP($E38,MeasuresLookup,18,FALSE)+VLOOKUP($E38,MeasuresLookup,19,FALSE))*VLOOKUP(VLOOKUP($E38,MeasuresLookup,20,FALSE),SiteToSource,2,FALSE),0)","v":0},{"$f":"IF('Energy and Water Use'!$M$33>0,H38/('Energy and Water Use'!$AN$33/1000),0)","v":0},"*\n*\n*\n*\n*\n*","",null,null,"","","","",null,"",{"$error":"#N/A"},0,0,0,{"$error":"#N/A"},{"$error":"#N/A"},{"$error":"#N/A"},{"$error":"#N/A"},{"$error":"#N/A"},{"$error":"#N/A"},{"$error":"#N/A"},{"$error":"#N/A"},{"$error":"#N/A"},"N/A",{"$error":"#N/A"},{"$error":"#N/A"},{"$error":"#N/A"},{"$error":"#N/A"},{"$error":"#N/A"},{"$error":"#N/A"},{"$error":"#N/A"},{"$f":"IF(D38=\"Other\",\"N\",VLOOKUP($D38,MeasureQCData,107,FALSE))","v":{"$error":"#N/A"}},{"$error":"#N/A"},{"$error":"#N/A"},{"$error":"#N/A"},{"$error":"#N/A"},{"$error":"#N/A"},null,null,null,null,null,null,null,null,null,null,null,""]
[{"$f":"IFERROR(MATCH(E39,'Scope and Prelim. Cost Est.'!$B$38:$B$43,0),\"\")","v":""},null,0,"",{"$f":"IFERROR(INDEX('Scope and Prelim. Cost Est.'!$B$26:$B$125,SMALL(IF('Scope and Prelim. Cost Est.'!$F$26:$F$125=\"Yes\",ROW('Scope and Prelim. Cost Est.'!$F$26:$F$125)-ROW('Scope and Prelim. Cost Est.'!$F$26)+1),ROWS('Scope and Prelim. Cost Est.'!$F$26:F43))),\"\")","v":""},"",{"$f":"IFERROR(VLOOKUP($E39,MeasuresLookup,18,FALSE)+VLOOKUP($E39,MeasuresLookup,19,FALSE)+(VLOOKUP($E39,MeasuresLookup,16,FALSE)+VLOOKUP($E39,MeasuresLookup,17,FALSE))*Calcs!$B$90,0)","v":0},{"$f":"IFERROR((VLOOKUP($E39,MeasuresLookup,16,FALSE)+VLOOKUP($E39,MeasuresLookup,17,FALSE))*Calcs!$B$90*Calcs!$B$91,0)+IFERROR((VLOOKUP($E39,MeasuresLookup,18,FALSE)+VLOOKUP($E39,MeasuresLookup,19,FALSE))*VLOOKUP(VLOOKUP($E39,MeasuresLookup,20,FALSE),SiteToSource,2,FALSE),0)","v":0},{"$f":"IF('Energy and Water Use'!$M$33>0,H39/('Energy and Water Use'!$AN$33/1000),0)","v":0},"*\n*\n*\n*\n*\n*","",null,null,"","","","",null,"",{"$error":"#N/A"},0,0,0,{"$error":"#N/A"},{"$error":"#N/A"},{"$error":"#N/A"},{"$error":"#N/A"},{"$error":"#N/A"},{"$error":"#N/A"},{"$error":"#N/A"},{"$error":"#N/A"},{"$error":"#N/A"},"N/A",{"$error":"#N/A"},{"$error":"#N/A"},{"$error":"#N/A"},{"$error":"#N/A"},{"$error":"#N/A"},{"$error":"#N/A"},{"$error":"#N/A"},{"$f":"IF(D39=\"Other\",\"N\",VLOOKUP($D39,MeasureQCData,107,FALSE))","v":{"$error":"#N/A"}},{"$error":"#N/A"},{"$error":"#N/A"},{"$error":"#N/A"},{"$error":"#N/A"},{"$error":"#N/A"},null,null,null,null,null,null,null,null,null,null,null,""]
[{"$f":"IFERROR(MATCH(E40,'Scope and Prelim. Cost Est.'!$B$44:$B$49,0),\"\")","v":""},null,0,"",{"$f":"IFERROR(INDEX('Scope and Prelim. Cost Est.'!$B$26:$B$125,SMALL(IF('Scope and Prelim. Cost Est.'!$F$26:$F$125=\"Yes\",ROW('Scope and Prelim. Cost Est.'!$F$26:$F$125)-ROW('Scope and Prelim. Cost Est.'!$F$26)+1),ROWS('Scope and Prelim. Cost Est.'!$F$26:F44))),\"\")","v":""},"",{"$f":"IFERROR(VLOOKUP($E40,MeasuresLookup,18,FALSE)+VLOOKUP($E40,MeasuresLookup,19,FALSE)+(VLOOKUP($E40,MeasuresLookup,16,FALSE)+VLOOKUP($E40,MeasuresLookup,17,FALSE))*Calcs!$B$90,0)","v":0},{"$f":"IFERROR((VLOOKUP($E40,MeasuresLookup,16,FALSE)+VLOOKUP($E40,MeasuresLookup,17,FALSE))*Calcs!$B$90*Calcs!$B$91,0)+IFERROR((VLOOKUP($E40,MeasuresLookup,18,FALSE)+VLOOKUP($E40,MeasuresLookup,19,FALSE))*VLOOKUP(VLOOKUP($E40,MeasuresLookup,20,FALSE),SiteToSource,2,FALSE),0)","v":0},{"$f":"IF('Energy and Water Use'!$M$33>0,H40/('Energy and Water Use'!$AN$33/1000),0)","v":0},"*\n*\n*\n*\n*\n*","",null,null,"","","","",null,"",{"$error":"#N/A"},0,0,0,{"$f":"IF(D40=\"Other\",\"Y\",VLOOKUP($D40,MeasureQCData,4,FALSE))","v":{"$error":"#N/A"}},{"$error":"#N/A"},{"$error":"#N/A"},{"$error":"#N/A"},{"$error":"#N/A"},{"$error":"#N/A"},{"$error":"#N/A"},{"$error":"#N/A"},{"$error":"#N/A"},"N/A",{"$error":"#N/A"},{"$error":"#N/A"},{"$error":"#N/A"},{"$error":"#N/A"},{"$error":"#N/A"},{"$error":"#N/A"},{"$f":"IF(D40=\"Other\",\"N\",VLOOKUP($D40,MeasureQCData,105,FALSE))","v":{"$error":"#N/A"}},{"$f":"IF(D40=\"Other\",\"N\",VLOOKUP($D40,MeasureQCData,107,FALSE))","v":{"$error":"#N/A"}},{"$error":"#N/A"},{"$error":"#N/A"},{"$error":"#N/A"},{"$error":"#N/A"},{"$f":"IF(AN40=\"N\",\"N\",IF(G40>AP40,\"Y\",\"N\"))","v":{"$error":"#N/A"}},null,null,null,null,null,null,null,null,null,null,null,""]
[{"$f":"IFERROR(MATCH(E41,'Scope and Prelim. Cost Est.'!$B$44:$B$49,0),\"\")","v":""},null,0,"",{"$f":"IFERROR(INDEX('Scope and Prelim. Cost Est.'!$B$26:$B$125,SMALL(IF('Scope and Prelim. Cost Est.'!$F$26:$F$125=\"Yes\",ROW('Scope and Prelim. Cost Est.'!$F$26:$F$125)-ROW('Scope and Prelim. Cost Est.'!$F$26)+1),ROWS('Scope and Prelim. Cost Est.'!$F$26:F45))),\"\")","v":""},"",{"$f":"IFERROR(VLOOKUP($E41,MeasuresLookup,18,FALSE)+VLOOKUP($E41,MeasuresLookup,19,FALSE)+(VLOOKUP($E41,MeasuresLookup,16,FALSE)+VLOOKUP($E41,MeasuresLookup,17,FALSE))*Calcs!$B$90,0)","v":0},{"$f":"IFERROR((VLOOKUP($E41,MeasuresLookup,16,FALSE)+VLOOKUP($E41,MeasuresLookup,17,FALSE))*Calcs!$B$90*Calcs!$B$91,0)+IFERROR((VLOOKUP($E41,MeasuresLookup,18,FALSE)+VLOOKUP($E41,MeasuresLookup,19,FALSE))*VLOOKUP(VLOOKUP($E41,MeasuresLookup,20,FALSE),SiteToSource,2,FALSE),0)","v":0},{"$f":"IF('Energy and Water Use'!$M$33>0,H41/('Energy and Water Use'!$AN$33/1000),0)","v":0},"*\n*\n*\n*\n*\n*","",null,null,{"$f":"IF(ISERROR(AD41),\"\",AD41)","v":""},"",{"$f":"IF(ISERROR(AL41),\"\",AL41)","v":""},"",null,"",{"$error":"#N/A"},0,0,0,{"$error":"#N/A"},{"$error":"#N/A"},{"$error":"#N/A"},{"$error":"#N/A"},{"$error":"#N/A"},{"$error":"#N/A"},{"$f":"IF(Location=\"Upstate\",Z41,IF(Location=\"Downstate\",AB41,\"\"))","v":{"$error":"#N/A"}},{"$error":"#N/A"},{"$error":"#N/A"},"N/A",{"$error":"#N/A"},{"$error":"#N/A"},{"$error":"#N/A"},{"$error":"#N/A"},{"$error":"#N/A"},{"$error":"#N/A"},{"$error":"#N/A"},{"$error":"#N/A"},{"$error":"#N/A"},{"$error":"#N/A"},{"$error":"#N/A"},{"$error":"#N/A"},{"$error":"#N/A"},null,null,null,null,null,null,null,null,null,null,null,""]
[{"$f":"IFERROR(MATCH(E42,'Scope and Prelim. Cost Est.'!$B$44:$B$49,0),\"\")","v":""},null,0,"",{"$f":"IFERROR(INDEX('Scope and Prelim. Cost Est.'!$B$26:$B$125,SMALL(IF('Scope and Prelim. Cost Est.'!$F$26:$F$125=\"Yes\",ROW('Scope and Prelim. Cost Est.'!$F$26:$F$125)-ROW('Scope and Prelim. Cost Est.'!$F$26)+1),ROWS('Scope and Prelim. Cost Est.'!$F$26:F46))),\"\")","v":""},"",{"$f":"IFERROR(VLOOKUP($E42,MeasuresLookup,18,FALSE)+VLOOKUP($E42,MeasuresLookup,19,FALSE)+(VLOOKUP($E42,MeasuresLookup,16,FALSE)+VLOOKUP($E42,MeasuresLookup,17,FALSE))*Calcs!$B$90,0)","v":0},{"$f":"IFERROR((VLOOKUP($E42,MeasuresLookup,16,FALSE)+VLOOKUP($E42,MeasuresLookup,17,FALSE))*Calcs!$B$90*Calcs!$B$91,0)+IFERROR((VLOOKUP($E42,MeasuresLookup,18,FALSE)+VLOOKUP($E42,MeasuresLookup,19,FALSE))*VLOOKUP(VLOOKUP($E42,MeasuresLookup,20,FALSE),SiteToSource,2,FALSE),0)","v":0},{"$f":"IF('Energy and Water Use'!$M$33>0,H42/('Energy and Water Use'!$AN$33/1000),0)","v":0},"*\n*\n*\n*\n*\n*","",null,null,"","","","",null,"",{"$error":"#N/A"},0,0,0,{"$error":"#N/A"},{"$error":"#N/A"},{"$error":"#N/A"},{"$error":"#N/A"},{"$error":"#N/A"},{"$error":"#N/A"},{"$error":"#N/A"},{"$error":"#N/A"},{"$error":"#N/A"},"N/A",{"$error":"#N/A"},{"$error":"#N/A"},{"$error":"#N/A"},{"$error":"#N/A"},{"$error":"#N/A"},{"$error":"#N/A"},{"$error":"#N/A"},{"$error":"#N/A"},{"$error":"#N/A"},{"$error":"#N/A"},{"$error":"#N/A"},{"$error":"#N/A"},{"$error":"#N/A"},null,null,null,null,null,null,null,null,null,null,null,""]
[{"$f":"IFERROR(MATCH(E43,'Scope and Prelim. Cost Est.'!$B$44:$B$49,0),\"\")","v":""},null,0,"",{"$f":"IFERROR(INDEX('Scope and Prelim. Cost Est.'!$B$26:$B$125,SMALL(IF('Scope and Prelim. Cost Est.'!$F$26:$F$125=\"Yes\",ROW('Scope and Prelim. Cost Est.'!$F$26:$F$125)-ROW('Scope and Prelim. Cost Est.'!$F$26)+1),ROWS('Scope and Prelim. Cost Est.'!$F$26:F47))),\"\")","v":""},"",{"$f":"IFERROR(VLOOKUP($E43,MeasuresLookup,18,FALSE)+VLOOKUP($E43,MeasuresLookup,19,FALSE)+(VLOOKUP($E43,MeasuresLookup,16,FALSE)+VLOOKUP($E43,MeasuresLookup,17,FALSE))*Calcs!$B$90,0)","v":0},{"$f":"IFERROR((VLOOKUP($E43,MeasuresLookup,16,FALSE)+VLOOKUP($E43,MeasuresLookup,17,FALSE))*Calcs!$B$90*Calcs!$B$91,0)+IFERROR((VLOOKUP($E43,MeasuresLookup,18,FALSE)+VLOOKUP($E43,MeasuresLookup,19,FALSE))*VLOOKUP(VLOOKUP($E43,MeasuresLookup,20,FALSE),SiteToSource,2,FALSE),0)","v":0},{"$f":"IF('Energy and Water Use'!$M$33>0,H43/('Energy and Water Use'!$AN$33/1000),0)","v":0},"*\n*\n*\n*\n*\n*","",null,null,"","","","",null,"",{"$error":"#N/A"},0,0,0,{"$error":"#N/A"},{"$error":"#N/A"},{"$error":"#N/A"},{"$error":"#N/A"},{"$error":"#N/A"},{"$error":"#N/A"},{"$error":"#N/A"},{"$error":"#N/A"},{"$error":"#N/A"},"N/A",{"$error":"#N/A"},{"$error":"#N/A"},{"$error":"#N/A"},{"$error":"#N/A"},{"$error":"#N/A"},{"$error":"#N/A"},{"$error":"#N/A"},{"$error":"#N/A"},{"$error":"#N/A"},{"$error":"#N/A"},{"$error":"#N/A"},{"$error":"#N/A"},{"$error":"#N/A"},null,null,null,null,null,null,null,null,null,null,null,""]
[{"$f":"IFERROR(MATCH(E44,'Scope and Prelim. Cost Est.'!$B$44:$B$49,0),\"\")","v":""},null,0,"",{"$f":"IFERROR(INDEX('Scope and Prelim. Cost Est.'!$B$26:$B$125,SMALL(IF('Scope and Prelim. Cost Est.'!$F$26:$F$125=\"Yes\",ROW('Scope and Prelim. Cost Est.'!$F$26:$F$125)-ROW('Scope and Prelim. Cost Est.'!$F$26)+1),ROWS('Scope and Prelim. Cost Est.'!$F$26:F48))),\"\")","v":""},"",{"$f":"IFERROR(VLOOKUP($E44,MeasuresLookup,18,FALSE)+VLOOKUP($E44,MeasuresLookup,19,FALSE)+(VLOOKUP($E44,MeasuresLookup,16,FALSE)+VLOOKUP($E44,MeasuresLookup,17,FALSE))*Calcs!$B$90,0)","v":0},{"$f":"IFERROR((VLOOKUP($E44,MeasuresLookup,16,FALSE)+VLOOKUP($E44,MeasuresLookup,17,FALSE))*Calcs!$B$90*Calcs!$B$91,0)+IFERROR((VLOOKUP($E44,MeasuresLookup,18,FALSE)+VLOOKUP($E44,MeasuresLookup,19,FALSE))*VLOOKUP(VLOOKUP($E44,MeasuresLookup,20,FALSE),SiteToSource,2,FALSE),0)","v":0},{"$f":"IF('Energy and Water Use'!$M$33>0,H44/('Energy and Water Use'!$AN$33/1000),0)","v":0},"*\n*\n*\n*\n*\n*","",null,null,"","","","",null,"",{"$error":"#N/A"},0,0,0,{"$error":"#N/A"},{"$error":"#N/A"},{"$error":"#N/A"},{"$error":"#N/A"},{"$error":"#N/A"},{"$error":"#N/A"},{"$error":"#N/A"},{"$error":"#N/A"},{"$error":"#N/A"},"N/A",{"$error":"#N/A"},{"$error":"#N/A"},{"$error":"#N/A"},{"$error":"#N/A"},{"$error":"#N/A"},{"$error":"#N/A"},{"$error":"#N/A"},{"$error":"#N/A"},{"$error":"#N/A"},{"$error":"#N/A"},{"$error":"#N/A"},{"$error":"#N/A"},{"$error":"#N/A"},null,null,null,null,null,null,null,null,null,null,null,""]
[{"$f":"IFERROR(MATCH(E45,'Scope and Prelim. Cost Est.'!$B$44:$B$49,0),\"\")","v":""},null,0,"",{"$f":"IFERROR(INDEX('Scope and Prelim. Cost Est.'!$B$26:$B$125,SMALL(IF('Scope and Prelim. Cost Est.'!$F$26:$F$125=\"Yes\",ROW('Scope and Prelim. Cost Est.'!$F$26:$F$125)-ROW('Scope and Prelim. Cost Est.'!$F$26)+1),ROWS('Scope and Prelim. Cost Est.'!$F$26:F49))),\"\")","v":""},"",{"$f":"IFERROR(VLOOKUP($E45,MeasuresLookup,18,FALSE)+VLOOKUP($E45,MeasuresLookup,19,FALSE)+(VLOOKUP($E45,MeasuresLookup,16,FALSE)+VLOOKUP($E45,MeasuresLookup,17,FALSE))*Calcs!$B$90,0)","v":0},{"$f":"IFERROR((VLOOKUP($E45,MeasuresLookup,16,FALSE)+VLOOKUP($E45,MeasuresLookup,17,FALSE))*Calcs!$B$90*Calcs!$B$91,0)+IFERROR((VLOOKUP($E45,MeasuresLookup,18,FALSE)+VLOOKUP($E45,MeasuresLookup,19,FALSE))*VLOOKUP(VLOOKUP($E45,MeasuresLookup,20,FALSE),SiteToSource,2,FALSE),0)","v":0},{"$f":"IF('Energy and Water Use'!$M$33>0,H45/('Energy and Water Use'!$AN$33/1000),0)","v":0},"*\n*\n*\n*\n*\n*","",null,null,"","","","",null,"",{"$error":"#N/A"},0,0,0,{"$error":"#N/A"},{"$error":"#N/A"},{"$error":"#N/A"},{"$error":"#N/A"},{"$error":"#N/A"},{"$error":"#N/A"},{"$error":"#N/A"},{"$error":"#N/A"},{"$error":"#N/A"},"N/A",{"$error":"#N/A"},{"$error":"#N/A"},{"$error":"#N/A"},{"$error":"#N/A"},{"$error":"#N/A"},{"$error":"#N/A"},{"$error":"#N/A"},{"$error":"#N/A"},{"$error":"#N/A"},{"$error":"#N/A"},{"$error":"#N/A"},{"$error":"#N/A"},{"$error":"#N/A"},null,null,null,null,null,null,null,null,null,null,null,""]
[{"$f":"IFERROR(MATCH(E46,'Scope and Prelim. Cost Est.'!$B$50:$B$55,0),\"\")","v":""},null,0,"",{"$f":"IFERROR(INDEX('Scope and Prelim. Cost Est.'!$B$26:$B$125,SMALL(IF('Scope and Prelim. Cost Est.'!$F$26:$F$125=\"Yes\",ROW('Scope and Prelim. Cost Est.'!$F$26:$F$125)-ROW('Scope and Prelim. Cost Est.'!$F$26)+1),ROWS('Scope and Prelim. Cost Est.'!$F$26:F50))),\"\")","v":""},"",{"$f":"IFERROR(VLOOKUP($E46,MeasuresLookup,18,FALSE)+VLOOKUP($E46,MeasuresLookup,19,FALSE)+(VLOOKUP($E46,MeasuresLookup,16,FALSE)+VLOOKUP($E46,MeasuresLookup,17,FALSE))*Calcs!$B$90,0)","v":0},{"$f":"IFERROR((VLOOKUP($E46,MeasuresLookup,16,FALSE)+VLOOKUP($E46,MeasuresLookup,17,FALSE))*Calcs!$B$90*Calcs!$B$91,0)+IFERROR((VLOOKUP($E46,MeasuresLookup,18,FALSE)+VLOOKUP($E46,MeasuresLookup,19,FALSE))*VLOOKUP(VLOOKUP($E46,MeasuresLookup,20,FALSE),SiteToSource,2,FALSE),0)","v":0},{"$f":"IF('Energy and Water Use'!$M$33>0,H46/('Energy and Water Use'!$AN$33/1000),0)","v":0},"*\n*\n*\n*\n*\n*","",null,null,{"$f":"IF(ISERROR(AD46),\"\",AD46)","v":""},{"$f":"IF(ISERROR(AE46),\"\",AE46)","v":""},{"$f":"IF(ISERROR(AL46),\"\",AL46)","v":""},{"$f":"IF(ISERROR(AM46),\"\",AM46)","v":""},null,"",{"$error":"#N/A"},0,0,0,{"$f":"IF(D46=\"Other\",\"Y\",VLOOKUP($D46,MeasureQCData,4,FALSE))","v":{"$error":"#N/A"}},{"$error":"#N/A"},{"$error":"#N/A"},{"$error":"#N/A"},{"$error":"#N/A"},{"$error":"#N/A"},{"$f":"IF(Location=\"Upstate\",Z46,IF(Location=\"Downstate\",AB46,\"\"))","v":{"$error":"#N/A"}},{"$f":"IF(Location=\"Upstate\",AA46,IF(Location=\"Downstate\",AC46,\"\"))","v":{"$error":"#N/A"}},{"$error":"#N/A"},"N/A",{"$error":"#N/A"},{"$error":"#N/A"},{"$error":"#N/A"},{"$error":"#N/A"},{"$error":"#N/A"},{"$error":"#N/A"},{"$f":"IF(D46=\"Other\",\"N\",VLOOKUP($D46,MeasureQCData,105,FALSE))","v":{"$error":"#N/A"}},{"$f":"IF(D46=\"Other\",\"N\",VLOOKUP($D46,MeasureQCData,107,FALSE))","v":{"$error":"#N/A"}},{"$error":"#N/A"},{"$error":"#N/A"},{"$error":"#N/A"},{"$error":"#N/A"},{"$f":"IF(AN46=\"N\",\"N\",IF(G46>AP46,\"Y\",\"N\"))","v":{"$error":"#N/A"}},null,null,null,null,null,null,null,null,null,null,null,""]
[{"$f":"IFERROR(MATCH(E47,'Scope and Prelim. Cost Est.'!$B$50:$B$55,0),\"\")","v":""},null,0,"",{"$f":"IFERROR(INDEX('Scope and Prelim. Cost Est.'!$B$26:$B$125,SMALL(IF('Scope and Prelim. Cost Est.'!$F$26:$F$125=\"Yes\",ROW('Scope and Prelim. Cost Est.'!$F$26:$F$125)-ROW('Scope and Prelim. Cost Est.'!$F$26)+1),ROWS('Scope and Prelim. Cost Est.'!$F$26:F51))),\"\")","v":""},"",{"$f":"IFERROR(VLOOKUP($E47,MeasuresLookup,18,FALSE)+VLOOKUP($E47,MeasuresLookup,19,FALSE)+(VLOOKUP($E47,MeasuresLookup,16,FALSE)+VLOOKUP($E47,MeasuresLookup,17,FALSE))*Calcs!$B$90,0)","v":0},{"$f":"IFERROR((VLOOKUP($E47,MeasuresLookup,16,FALSE)+VLOOKUP($E47,MeasuresLookup,17,FALSE))*Calcs!$B$90*Calcs!$B$91,0)+IFERROR((VLOOKUP($E47,MeasuresLookup,18,FALSE)+VLOOKUP($E47,MeasuresLookup,19,FALSE))*VLOOKUP(VLOOKUP($E47,MeasuresLookup,20,FALSE),SiteToSource,2,FALSE),0)","v":0},{"$f":"IF('Energy and Water Use'!$M$33>0,H47/('Energy and Water Use'!$AN$33/1000),0)","v":0},"*\n*\n*\n*\n*\n*","",null,null,"","","","",null,"",{"$error":"#N/A"},0,0,0,{"$error":"#N/A"},{"$error":"#N/A"},{"$error":"#N/A"},{"$error":"#N/A"},{"$error":"#N/A"},{"$error":"#N/A"},{"$error":"#N/A"},{"$error":"#N/A"},{"$error":"#N/A"},"N/A",{"$error":"#N/A"},{"$error":"#N/A"},{"$error":"#N/A"},{"$error":"#N/A"},{"$error":"#N/A"},{"$error":"#N/A"},{"$error":"#N/A"},{"$error":"#N/A"},{"$error":"#N/A"},{"$error":"#N/A"},{"$error":"#N/A"},{"$error":"#N/A"},{"$error":"#N/A"},null,null,null,null,null,null,null,null,null,null,null,""]
[{"$f":"IFERROR(MATCH(E48,'Scope and Prelim. Cost Est.'!$B$50:$B$55,0),\"\")","v":""},null,0,"",{"$f":"IFERROR(INDEX('Scope and Prelim. Cost Est.'!$B$26:$B$125,SMALL(IF('Scope and Prelim. Cost Est.'!$F$26:$F$125=\"Yes\",ROW('Scope and Prelim. Cost Est.'!$F$26:$F$125)-ROW('Scope and Prelim. Cost Est.'!$F$26)+1),ROWS('Scope and Prelim. Cost Est.'!$F$26:F52))),\"\")","v":""},"",{"$f":"IFERROR(VLOOKUP($E48,MeasuresLookup,18,FALSE)+VLOOKUP($E48,MeasuresLookup,19,FALSE)+(VLOOKUP($E48,MeasuresLookup,16,FALSE)+VLOOKUP($E48,MeasuresLookup,17,FALSE))*Calcs!$B$90,0)","v":0},{"$f":"IFERROR((VLOOKUP($E48,MeasuresLookup,16,FALSE)+VLOOKUP($E48,MeasuresLookup,17,FALSE))*Calcs!$B$90*Calcs!$B$91,0)+IFERROR((VLOOKUP($E48,MeasuresLookup,18,FALSE)+VLOOKUP($E48,MeasuresLookup,19,FALSE))*VLOOKUP(VLOOKUP($E48,MeasuresLookup,20,FALSE),SiteToSource,2,FALSE),0)","v":0},{"$f":"IF('Energy and Water Use'!$M$33>0,H48/('Energy and Water Use'!$AN$33/1000),0)","v":0},"*\n*\n*\n*\n*\n*","",null,null,"","","","",null,"",{"$error":"#N/A"},0,0,0,{"$error":"#N/A"},{"$error":"#N/A"},{"$error":"#N/A"},{"$error":"#N/A"},{"$error":"#N/A"},{"$error":"#N/A"},{"$error":"#N/A"},{"$error":"#N/A"},{"$error":"#N/A"},"N/A",{"$error":"#N/A"},{"$error":"#N/A"},{"$error":"#N/A"},{"$error":"#N/A"},{"$error":"#N/A"},{"$error":"#N/A"},{"$error":"#N/A"},{"$error":"#N/A"},{"$error":"#N/A"},{"$error":"#N/A"},{"$error":"#N/A"},{"$error":"#N/A"},{"$error":"#N/A"},null,null,null,null,null,null,null,null,null,null,null,""]
[{"$f":"IFERROR(MATCH(E49,'Scope and Prelim. Cost Est.'!$B$50:$B$55,0),\"\")","v":""},null,0,"",{"$f":"IFERROR(INDEX('Scope and Prelim. Cost Est.'!$B$26:$B$125,SMALL(IF('Scope and Prelim. Cost Est.'!$F$26:$F$125=\"Yes\",ROW('Scope and Prelim. Cost Est.'!$F$26:$F$125)-ROW('Scope and Prelim. Cost Est.'!$F$26)+1),ROWS('Scope and Prelim. Cost Est.'!$F$26:F53))),\"\")","v":""},"",{"$f":"IFERROR(VLOOKUP($E49,MeasuresLookup,18,FALSE)+VLOOKUP($E49,MeasuresLookup,19,FALSE)+(VLOOKUP($E49,MeasuresLookup,16,FALSE)+VLOOKUP($E49,MeasuresLookup,17,FALSE))*Calcs!$B$90,0)","v":0},{"$f":"IFERROR((VLOOKUP($E49,MeasuresLookup,16,FALSE)+VLOOKUP($E49,MeasuresLookup,17,FALSE))*Calcs!$B$90*Calcs!$B$91,0)+IFERROR((VLOOKUP($E49,MeasuresLookup,18,FALSE)+VLOOKUP($E49,MeasuresLookup,19,FALSE))*VLOOKUP(VLOOKUP($E49,MeasuresLookup,20,FALSE),SiteToSource,2,FALSE),0)","v":0},{"$f":"IF('Energy and Water Use'!$M$33>0,H49/('Energy and Water Use'!$AN$33/1000),0)","v":0},"*\n*\n*\n*\n*\n*","",null,null,"","","","",null,"",{"$error":"#N/A"},0,0,0,{"$error":"#N/A"},{"$error":"#N/A"},{"$error":"#N/A"},{"$error":"#N/A"},{"$error":"#N/A"},{"$error":"#N/A"},{"$error":"#N/A"},{"$error":"#N/A"},{"$error":"#N/A"},"N/A",{"$error":"#N/A"},{"$error":"#N/A"},{"$error":"#N/A"},{"$error":"#N/A"},{"$error":"#N/A"},{"$error":"#N/A"},{"$error":"#N/A"},{"$error":"#N/A"},{"$error":"#N/A"},{"$error":"#N/A"},{"$error":"#N/A"},{"$error":"#N/A"},{"$error":"#N/A"},null,null,null,null,null,null,null,null,null,null,null,""]
[{"$f":"IFERROR(MATCH(E50,'Scope and Prelim. Cost Est.'!$B$50:$B$55,0),\"\")","v":""},null,0,"",{"$f":"IFERROR(INDEX('Scope and Prelim. Cost Est.'!$B$26:$B$125,SMALL(IF('Scope and Prelim. Cost Est.'!$F$26:$F$125=\"Yes\",ROW('Scope and Prelim. Cost Est.'!$F$26:$F$125)-ROW('Scope and Prelim. Cost Est.'!$F$26)+1),ROWS('Scope and Prelim. Cost Est.'!$F$26:F54))),\"\")","v":""},"",{"$f":"IFERROR(VLOOKUP($E50,MeasuresLookup,18,FALSE)+VLOOKUP($E50,MeasuresLookup,19,FALSE)+(VLOOKUP($E50,MeasuresLookup,16,FALSE)+VLOOKUP($E50,MeasuresLookup,17,FALSE))*Calcs!$B$90,0)","v":0},{"$f":"IFERROR((VLOOKUP($E50,MeasuresLookup,16,FALSE)+VLOOKUP($E50,MeasuresLookup,17,FALSE))*Calcs!$B$90*Calcs!$B$91,0)+IFERROR((VLOOKUP($E50,MeasuresLookup,18,FALSE)+VLOOKUP($E50,MeasuresLookup,19,FALSE))*VLOOKUP(VLOOKUP($E50,MeasuresLookup,20,FALSE),SiteToSource,2,FALSE),0)","v":0},{"$f":"IF('Energy and Water Use'!$M$33>0,H50/('Energy and Water Use'!$AN$33/1000),0)","v":0},"*\n*\n*\n*\n*\n*","",null,null,"","","","",null,"",{"$error":"#N/A"},0,0,0,{"$error":"#N/A"},{"$error":"#N/A"},{"$error":"#N/A"},{"$error":"#N/A"},{"$error":"#N/A"},{"$error":"#N/A"},{"$error":"#N/A"},{"$error":"#N/A"},{"$error":"#N/A"},"N/A",{"$error":"#N/A"},{"$error":"#N/A"},{"$error":"#N/A"},{"$error":"#N/A"},{"$error":"#N/A"},{"$error":"#N/A"},{"$error":"#N/A"},{"$error":"#N/A"},{"$error":"#N/A"},{"$error":"#N/A"},{"$error":"#N/A"},{"$error":"#N/A"},{"$error":"#N/A"},null,null,null,null,null,null,null,null,null,null,null,""]
[{"$f":"IFERROR(MATCH(E51,'Scope and Prelim. Cost Est.'!$B$50:$B$55,0),\"\")","v":""},null,0,"",{"$f":"IFERROR(INDEX('Scope and Prelim. Cost Est.'!$B$26:$B$125,SMALL(IF('Scope and Prelim. Cost Est.'!$F$26:$F$125=\"Yes\",ROW('Scope and Prelim. Cost Est.'!$F$26:$F$125)-ROW('Scope and Prelim. Cost Est.'!$F$26)+1),ROWS('Scope and Prelim. Cost Est.'!$F$26:F55))),\"\")","v":""},"",{"$f":"IFERROR(VLOOKUP($E51,MeasuresLookup,18,FALSE)+VLOOKUP($E51,MeasuresLookup,19,FALSE)+(VLOOKUP($E51,MeasuresLookup,16,FALSE)+VLOOKUP($E51,MeasuresLookup,17,FALSE))*Calcs!$B$90,0)","v":0},{"$f":"IFERROR((VLOOKUP($E51,MeasuresLookup,16,FALSE)+VLOOKUP($E51,MeasuresLookup,17,FALSE))*Calcs!$B$90*Calcs!$B$91,0)+IFERROR((VLOOKUP($E51,MeasuresLookup,18,FALSE)+VLOOKUP($E51,MeasuresLookup,19,FALSE))*VLOOKUP(VLOOKUP($E51,MeasuresLookup,20,FALSE),SiteToSource,2,FALSE),0)","v":0},{"$f":"IF('Energy and Water Use'!$M$33>0,H51/('Energy and Water Use'!$AN$33/1000),0)","v":0},"*\n*\n*\n*\n*\n*","",null,null,"","","","",null,"",{"$error":"#N/A"},0,0,0,{"$error":"#N/A"},{"$error":"#N/A"},{"$error":"#N/A"},{"$error":"#N/A"},{"$error":"#N/A"},{"$error":"#N/A"},{"$error":"#N/A"},{"$error":"#N/A"},{"$error":"#N/A"},"N/A",{"$error":"#N/A"},{"$error":"#N/A"},{"$error":"#N/A"},{"$error":"#N/A"},{"$error":"#N/A"},{"$error":"#N/A"},{"$error":"#N/A"},{"$error":"#N/A"},{"$error":"#N/A"},{"$error":"#N/A"},{"$error":"#N/A"},{"$error":"#N/A"},{"$error":"#N/A"},null,null,null,null,null,null,null,null,null,null,null,""]
[{"$f":"IFERROR(MATCH(E52,'Scope and Prelim. Cost Est.'!$B$56:$B$61,0),\"\")","v":""},null,0,"",{"$f":"IFERROR(INDEX('Scope and Prelim. Cost Est.'!$B$26:$B$125,SMALL(IF('Scope and Prelim. Cost Est.'!$F$26:$F$125=\"Yes\",ROW('Scope and Prelim. Cost Est.'!$F$26:$F$125)-ROW('Scope and Prelim. Cost Est.'!$F$26)+1),ROWS('Scope and Prelim. Cost Est.'!$F$26:F56))),\"\")","v":""},"",{"$f":"IFERROR(VLOOKUP($E52,MeasuresLookup,18,FALSE)+VLOOKUP($E52,MeasuresLookup,19,FALSE)+(VLOOKUP($E52,MeasuresLookup,16,FALSE)+VLOOKUP($E52,MeasuresLookup,17,FALSE))*Calcs!$B$90,0)","v":0},{"$f":"IFERROR((VLOOKUP($E52,MeasuresLookup,16,FALSE)+VLOOKUP($E52,MeasuresLookup,17,FALSE))*Calcs!$B$90*Calcs!$B$91,0)+IFERROR((VLOOKUP($E52,MeasuresLookup,18,FALSE)+VLOOKUP($E52,MeasuresLookup,19,FALSE))*VLOOKUP(VLOOKUP($E52,MeasuresLookup,20,FALSE),SiteToSource,2,FALSE),0)","v":0},{"$f":"IF('Energy and Water Use'!$M$33>0,H52/('Energy and Water Use'!$AN$33/1000),0)","v":0},"*\n*\n*\n*\n*\n*","",null,null,{"$f":"IF(ISERROR(AD52),\"\",AD52)","v":""},{"$f":"IF(ISERROR(AE52),\"\",AE52)","v":""},{"$f":"IF(ISERROR(AL52),\"\",AL52)","v":""},{"$f":"IF(ISERROR(AM52),\"\",AM52)","v":""},null,"",{"$error":"#N/A"},0,0,0,{"$f":"IF(D52=\"Other\",\"Y\",VLOOKUP($D52,MeasureQCData,4,FALSE))","v":{"$error":"#N/A"}},{"$error":"#N/A"},{"$error":"#N/A"},{"$error":"#N/A"},{"$error":"#N/A"},{"$error":"#N/A"},{"$f":"IF(Location=\"Upstate\",Z52,IF(Location=\"Downstate\",AB52,\"\"))","v":{"$error":"#N/A"}},{"$f":"IF(Location=\"Upstate\",AA52,IF(Location=\"Downstate\",AC52,\"\"))","v":{"$error":"#N/A"}},{"$error":"#N/A"},"N/A",{"$error":"#N/A"},{"$error":"#N/A"},{"$error":"#N/A"},{"$error":"#N/A"},{"$error":"#N/A"},{"$error":"#N/A"},{"$f":"IF(D52=\"Other\",\"N\",VLOOKUP($D52,MeasureQCData,105,FALSE))","v":{"$error":"#N/A"}},{"$f":"IF(D52=\"Other\",\"N\",VLOOKUP($D52,MeasureQCData,107,FALSE))","v":{"$error":"#N/A"}},{"$error":"#N/A"},{"$error":"#N/A"},{"$error":"#N/A"},{"$error":"#N/A"},{"$f":"IF(AN52=\"N\",\"N\",IF(G52>AP52,\"Y\",\"N\"))","v":{"$error":"#N/A"}},null,null,null,null,null,null,null,null,null,null,null,""]
[{"$f":"IFERROR(MATCH(E53,'Scope and Prelim. Cost Est.'!$B$56:$B$61,0),\"\")","v":""},null,0,"",{"$f":"IFERROR(INDEX('Scope and Prelim. Cost Est.'!$B$26:$B$125,SMALL(IF('Scope and Prelim. Cost Est.'!$F$26:$F$125=\"Yes\",ROW('Scope and Prelim. Cost Est.'!$F$26:$F$125)-ROW('Scope and Prelim. Cost Est.'!$F$26)+1),ROWS('Scope and Prelim. Cost Est.'!$F$26:F57))),\"\")","v":""},"",{"$f":"IFERROR(VLOOKUP($E53,MeasuresLookup,18,FALSE)+VLOOKUP($E53,MeasuresLookup,19,FALSE)+(VLOOKUP($E53,MeasuresLookup,16,FALSE)+VLOOKUP($E53,MeasuresLookup,17,FALSE))*Calcs!$B$90,0)","v":0},{"$f":"IFERROR((VLOOKUP($E53,MeasuresLookup,16,FALSE)+VLOOKUP($E53,MeasuresLookup,17,FALSE))*Calcs!$B$90*Calcs!$B$91,0)+IFERROR((VLOOKUP($E53,MeasuresLookup,18,FALSE)+VLOOKUP($E53,MeasuresLookup,19,FALSE))*VLOOKUP(VLOOKUP($E53,MeasuresLookup,20,FALSE),SiteToSource,2,FALSE),0)","v":0},{"$f":"IF('Energy and Water Use'!$M$33>0,H53/('Energy and Water Use'!$AN$33/1000),0)","v":0},"*\n*\n*\n*\n*\n*","",null,null,"","","","",null,"",{"$error":"#N/A"},0,0,0,{"$error":"#N/A"},{"$error":"#N/A"},{"$error":"#N/A"},{"$error":"#N/A"},{"$error":"#N/A"},{"$error":"#N/A"},{"$error":"#N/A"},{"$error":"#N/A"},{"$error":"#N/A"},"N/A",{"$error":"#N/A"},{"$error":"#N/A"},{"$error":"#N/A"},{"$error":"#N/A"},{"$error":"#N/A"},{"$error":"#N/A"},{"$error":"#N/A"},{"$error":"#N/A"},{"$error":"#N/A"},{"$error":"#N/A"},{"$error":"#N/A"},{"$error":"#N/A"},{"$error":"#N/A"},null,null,null,null,null,null,null,null,null,null,null,""]
[{"$f":"IFERROR(MATCH(E54,'Scope and Prelim. Cost Est.'!$B$56:$B$61,0),\"\")","v":""},null,0,{"$f":"IF(E54=\"\",\"\",IF(VLOOKUP(E54,MeasuresLookup,7,FALSE)=\"\",\"\",VLOOKUP(E54,MeasuresLookup,7,FALSE)))","v":""},{"$f":"IFERROR(INDEX('Scope and Prelim. Cost Est.'!$B$26:$B$125,SMALL(IF('Scope and Prelim. Cost Est.'!$F$26:$F$125=\"Yes\",ROW('Scope and Prelim. Cost Est.'!$F$26:$F$125)-ROW('Scope and Prelim. Cost Est.'!$F$26)+1),ROWS('Scope and Prelim. Cost Est.'!$F$26:F58))),\"\")","v":""},{"$f":"IF(E54=\"\",\"\",VLOOKUP(E54,MeasuresLookup,15,FALSE))","v":""},{"$f":"IFERROR(VLOOKUP($E54,MeasuresLookup,18,FALSE)+VLOOKUP($E54,MeasuresLookup,19,FALSE)+(VLOOKUP($E54,MeasuresLookup,16,FALSE)+VLOOKUP($E54,MeasuresLookup,17,FALSE))*Calcs!$B$90,0)","v":0},{"$f":"IFERROR((VLOOKUP($E54,MeasuresLookup,16,FALSE)+VLOOKUP($E54,MeasuresLookup,17,FALSE))*Calcs!$B$90*Calcs!$B$91,0)+IFERROR((VLOOKUP($E54,MeasuresLookup,18,FALSE)+VLOOKUP($E54,MeasuresLookup,19,FALSE))*VLOOKUP(VLOOKUP($E54,MeasuresLookup,20,FALSE),SiteToSource,2,FALSE),0)","v":0},{"$f":"IF('Energy and Water Use'!$M$33>0,H54/('Energy and Water Use'!$AN$33/1000),0)","v":0},"*\n*\n*\n*\n*\n*","",null,null,"","","","",null,{"$f":"IF(E54=\"\",\"\",VLOOKUP(E54,MeasuresLookup,12,FALSE))","v":""},{"$f":"IF(D54=\"Other\",\"N/A\",VLOOKUP($D54,MeasureQCData,2,FALSE))","v":{"$error":"#N/A"}},0,0,0,{"$error":"#N/A"},{"$f":"IF(D54=\"Other\",\"N/A\",VLOOKUP($D54,MeasureQCData,9,FALSE))","v":{"$error":"#N/A"}},{"$f":"IF(OR($Y54=\"Each\",Y54=\"EA\"),(VLOOKUP($D54,MeasureQCData,5,FALSE)*$S54),IF($Y54=\"Unit\",(VLOOKUP($D54,MeasureQCData,5,FALSE)*$U54),IF($Y54=\"Sqft\",(VLOOKUP($D54,MeasureQCData,5,FALSE)*$V54),IF($Y54=\"MBH\",(VLOOKUP($D54,MeasureQCData,5,FALSE)*$S54),IF($Y54=\"Ins. Sqft\",(VLOOKUP($D54,MeasureQCData,5,FALSE)*$S54),IF(Y54=\"N/A\",\"N/A\",0))))))","v":{"$error":"#N/A"}},{"$f":"IF($Y54=\"Each\",(VLOOKUP($D54,MeasureQCData,6,FALSE)*$S54),IF($Y54=\"Unit\",(VLOOKUP($D54,MeasureQCData,6,FALSE)*$U54),IF($Y54=\"Sqft\",(VLOOKUP($D54,MeasureQCData,6,FALSE)*$V54),IF($Y54=\"MBH\",(VLOOKUP($D54,MeasureQCData,6,FALSE)*$S54),IF($Y54=\"Ins. Sqft\",(VLOOKUP($D54,MeasureQCData,6,FALSE)*$S54),IF(Y54=\"N/A\",\"N/A\",0))))))","v":{"$error":"#N/A"}},{"$f":"IF($Y54=\"Each\",(VLOOKUP($D54,MeasureQCData,7,FALSE)*$S54),IF($Y54=\"Unit\",(VLOOKUP($D54,MeasureQCData,7,FALSE)*$U54),IF($Y54=\"Sqft\",(VLOOKUP($D54,MeasureQCData,7,FALSE)*$V54),IF($Y54=\"MBH\",(VLOOKUP($D54,MeasureQCData,7,FALSE)*$S54),IF($Y54=\"Ins. Sqft\",(VLOOKUP($D54,MeasureQCData,7,FALSE)*$S54),IF(Y54=\"N/A\",\"N/A\",0))))))","v":{"$error":"#N/A"}},{"$f":"IF($Y54=\"Each\",(VLOOKUP($D54,MeasureQCData,8,FALSE)*$S54),IF($Y54=\"Unit\",(VLOOKUP($D54,MeasureQCData,8,FALSE)*$U54),IF($Y54=\"Sqft\",(VLOOKUP($D54,MeasureQCData,8,FALSE)*$V54),IF($Y54=\"MBH\",(VLOOKUP($D54,MeasureQCData,8,FALSE)*$S54),IF($Y54=\"Ins. Sqft\",(VLOOKUP($D54,MeasureQCData,8,FALSE)*$S54),IF(Y54=\"N/A\",\"N/A\",0))))))","v":{"$error":"#N/A"}},{"$error":"#N/A"},{"$error":"#N/A"},{"$f":"IF(D54=\"Other\",\"N/A\",VLOOKUP($D54,MeasureQCData,14,FALSE))","v":{"$error":"#N/A"}},"N/A",{"$f":"IF($AF54=\"Each\",(VLOOKUP($D54,MeasureQCData,10,FALSE)*$S54),IF($AF54=\"Unit\",(VLOOKUP($D54,MeasureQCData,10,FALSE)*$U54),IF($AF54=\"Sqft\",(VLOOKUP($D54,MeasureQCData,10,FALSE)*$V54),IF($AF54=\"MBH\",(VLOOKUP($D54,MeasureQCData,10,FALSE)*$S54),IF($AF54=\"Ins. Sqft\",(VLOOKUP($D54,MeasureQCData,10,FALSE)*$S54),IF($AF54=\"$\",(VLOOKUP($D54,MeasureQCData,10,FALSE)*$AG54),IF($AF54=\"N/A\",\"N/A\",0)))))))","v":{"$error":"#N/A"}},{"$f":"IF($AF54=\"Each\",(VLOOKUP($D54,MeasureQCData,11,FALSE)*$S54),IF($AF54=\"Unit\",(VLOOKUP($D54,MeasureQCData,11,FALSE)*$U54),IF($AF54=\"Sqft\",(VLOOKUP($D54,MeasureQCData,11,FALSE)*$V54),IF($AF54=\"MBH\",(VLOOKUP($D54,MeasureQCData,11,FALSE)*$S54),IF($AF54=\"Ins. Sqft\",(VLOOKUP($D54,MeasureQCData,11,FALSE)*$S54),IF($AF54=\"$\",(VLOOKUP($D54,MeasureQCData,11,FALSE)*$AG54),IF($AF54=\"N/A\",\"N/A\",0)))))))","v":{"$error":"#N/A"}},{"$f":"IF($AF54=\"Each\",(VLOOKUP($D54,MeasureQCData,12,FALSE)*$S54),IF($AF54=\"Unit\",(VLOOKUP($D54,MeasureQCData,12,FALSE)*$U54),IF($AF54=\"Sqft\",(VLOOKUP($D54,MeasureQCData,12,FALSE)*$V54),IF($AF54=\"MBH\",(VLOOKUP($D54,MeasureQCData,12,FALSE)*$S54),IF($AF54=\"Ins. Sqft\",(VLOOKUP($D54,MeasureQCData,12,FALSE)*$S54),IF($AF54=\"$\",(VLOOKUP($D54,MeasureQCData,12,FALSE)*$AG54),IF($AF54=\"N/A\",\"N/A\",0)))))))","v":{"$error":"#N/A"}},{"$f":"IF($AF54=\"Each\",(VLOOKUP($D54,MeasureQCData,13,FALSE)*$S54),IF($AF54=\"Unit\",(VLOOKUP($D54,MeasureQCData,13,FALSE)*$U54),IF($AF54=\"Sqft\",(VLOOKUP($D54,MeasureQCData,13,FALSE)*$V54),IF($AF54=\"MBH\",(VLOOKUP($D54,MeasureQCData,13,FALSE)*$S54),IF($AF54=\"Ins. Sqft\",(VLOOKUP($D54,MeasureQCData,13,FALSE)*$S54),IF($AF54=\"$\",(VLOOKUP($D54,MeasureQCData,13,FALSE)*$AG54),IF($AF54=\"N/A\",\"N/A\",0)))))))","v":{"$error":"#N/A"}},{"$f":"IF(AF54=\"N/A\",\"N/A\",IF(Rise=\"Low\",AH54/1000000,IF(Rise=\"High\",AJ54/1000000,\"\")))","v":{"$error":"#N/A"}},{"$f":"IF(AF54=\"N/A\",\"N/A\",IF(Rise=\"Low\",AI54/1000000,IF(Rise=\"High\",AK54/1000000,\"\")))","v":{"$error":"#N/A"}},{"$error":"#N/A"},{"$error":"#N/A"},{"$f":"IF($AO54=\"Each\",(VLOOKUP($D54,MeasureQCData,106,FALSE)*$S54)/1000000,IF($AO54=\"Unit\",(VLOOKUP($D54,MeasureQCData,106,FALSE)*$U54)/1000000,IF($AO54=\"Sqft\",(VLOOKUP($D54,MeasureQCData,106,FALSE)*$V54)/1000000,IF($AO54=\"MBH\",(VLOOKUP($D54,MeasureQCData,106,FALSE)*$S54)/1000000,IF($AO54=\"Ins. Sqft\",(VLOOKUP($D54,MeasureQCData,106,FALSE)*$S54)/1000000,IF($AO54=\"Tons\",(VLOOKUP($D54,MeasureQCData,106,FALSE)*$S54)/1000000,IF($AO54=\"Total\",VLOOKUP($D54,MeasureQCData,106,FALSE)/1000000,\"N/A\")))))))","v":{"$error":"#N/A"}},{"$f":"IF(D54=\"Other\",\"N/A\",VLOOKUP($D54,MeasureQCData,16,FALSE))","v":{"$error":"#N/A"}},{"$error":"#N/A"},{"$error":"#N/A"},{"$error":"#N/A"},null,null,null,null,null,null,null,null,null,null,null,""]
[{"$f":"IFERROR(MATCH(E55,'Scope and Prelim. Cost Est.'!$B$56:$B$61,0),\"\")","v":""},null,0,"",{"$f":"IFERROR(INDEX('Scope and Prelim. Cost Est.'!$B$26:$B$125,SMALL(IF('Scope and Prelim. Cost Est.'!$F$26:$F$125=\"Yes\",ROW('Scope and Prelim. Cost Est.'!$F$26:$F$125)-ROW('Scope and Prelim. Cost Est.'!$F$26)+1),ROWS('Scope and Prelim. Cost Est.'!$F$26:F59))),\"\")","v":""},"",{"$f":"IFERROR(VLOOKUP($E55,MeasuresLookup,18,FALSE)+VLOOKUP($E55,MeasuresLookup,19,FALSE)+(VLOOKUP($E55,MeasuresLookup,16,FALSE)+VLOOKUP($E55,MeasuresLookup,17,FALSE))*Calcs!$B$90,0)","v":0},{"$f":"IFERROR((VLOOKUP($E55,MeasuresLookup,16,FALSE)+VLOOKUP($E55,MeasuresLookup,17,FALSE))*Calcs!$B$90*Calcs!$B$91,0)+IFERROR((VLOOKUP($E55,MeasuresLookup,18,FALSE)+VLOOKUP($E55,MeasuresLookup,19,FALSE))*VLOOKUP(VLOOKUP($E55,MeasuresLookup,20,FALSE),SiteToSource,2,FALSE),0)","v":0},{"$f":"IF('Energy and Water Use'!$M$33>0,H55/('Energy and Water Use'!$AN$33/1000),0)","v":0},"*\n*\n*\n*\n*\n*","",null,null,"","","","",null,"",{"$error":"#N/A"},0,0,0,{"$error":"#N/A"},{"$error":"#N/A"},{"$error":"#N/A"},{"$error":"#N/A"},{"$error":"#N/A"},{"$error":"#N/A"},{"$error":"#N/A"},{"$error":"#N/A"},{"$error":"#N/A"},"N/A",{"$error":"#N/A"},{"$error":"#N/A"},{"$error":"#N/A"},{"$error":"#N/A"},{"$error":"#N/A"},{"$error":"#N/A"},{"$error":"#N/A"},{"$error":"#N/A"},{"$error":"#N/A"},{"$error":"#N/A"},{"$error":"#N/A"},{"$error":"#N/A"},{"$error":"#N/A"},null,null,null,null,null,null,null,null,null,null,null,""]
[{"$f":"IFERROR(MATCH(E56,'Scope and Prelim. Cost Est.'!$B$56:$B$61,0),\"\")","v":""},null,0,"",{"$f":"IFERROR(INDEX('Scope and Prelim. Cost Est.'!$B$26:$B$125,SMALL(IF('Scope and Prelim. Cost Est.'!$F$26:$F$125=\"Yes\",ROW('Scope and Prelim. Cost Est.'!$F$26:$F$125)-ROW('Scope and Prelim. Cost Est.'!$F$26)+1),ROWS('Scope and Prelim. Cost Est.'!$F$26:F60))),\"\")","v":""},"",{"$f":"IFERROR(VLOOKUP($E56,MeasuresLookup,18,FALSE)+VLOOKUP($E56,MeasuresLookup,19,FALSE)+(VLOOKUP($E56,MeasuresLookup,16,FALSE)+VLOOKUP($E56,MeasuresLookup,17,FALSE))*Calcs!$B$90,0)","v":0},{"$f":"IFERROR((VLOOKUP($E56,MeasuresLookup,16,FALSE)+VLOOKUP($E56,MeasuresLookup,17,FALSE))*Calcs!$B$90*Calcs!$B$91,0)+IFERROR((VLOOKUP($E56,MeasuresLookup,18,FALSE)+VLOOKUP($E56,MeasuresLookup,19,FALSE))*VLOOKUP(VLOOKUP($E56,MeasuresLookup,20,FALSE),SiteToSource,2,FALSE),0)","v":0},{"$f":"IF('Energy and Water Use'!$M$33>0,H56/('Energy and Water Use'!$AN$33/1000),0)","v":0},"*\n*\n*\n*\n*\n*","",null,null,"","","","",null,"",{"$error":"#N/A"},0,0,0,{"$error":"#N/A"},{"$error":"#N/A"},{"$error":"#N/A"},{"$error":"#N/A"},{"$error":"#N/A"},{"$error":"#N/A"},{"$error":"#N/A"},{"$error":"#N/A"},{"$error":"#N/A"},"N/A",{"$error":"#N/A"},{"$error":"#N/A"},{"$error":"#N/A"},{"$error":"#N/A"},{"$error":"#N/A"},{"$error":"#N/A"},{"$error":"#N/A"},{"$error":"#N/A"},{"$error":"#N/A"},{"$error":"#N/A"},{"$error":"#N/A"},{"$error":"#N/A"},{"$error":"#N/A"},null,null,null,null,null,null,null,null,null,null,null,""]
[{"$f":"IFERROR(MATCH(E57,'Scope and Prelim. Cost Est.'!$B$56:$B$61,0),\"\")","v":""},null,0,"",{"$f":"IFERROR(INDEX('Scope and Prelim. Cost Est.'!$B$26:$B$125,SMALL(IF('Scope and Prelim. Cost Est.'!$F$26:$F$125=\"Yes\",ROW('Scope and Prelim. Cost Est.'!$F$26:$F$125)-ROW('Scope and Prelim. Cost Est.'!$F$26)+1),ROWS('Scope and Prelim. Cost Est.'!$F$26:F61))),\"\")","v":""},"",{"$f":"IFERROR(VLOOKUP($E57,MeasuresLookup,18,FALSE)+VLOOKUP($E57,MeasuresLookup,19,FALSE)+(VLOOKUP($E57,MeasuresLookup,16,FALSE)+VLOOKUP($E57,MeasuresLookup,17,FALSE))*Calcs!$B$90,0)","v":0},{"$f":"IFERROR((VLOOKUP($E57,MeasuresLookup,16,FALSE)+VLOOKUP($E57,MeasuresLookup,17,FALSE))*Calcs!$B$90*Calcs!$B$91,0)+IFERROR((VLOOKUP($E57,MeasuresLookup,18,FALSE)+VLOOKUP($E57,MeasuresLookup,19,FALSE))*VLOOKUP(VLOOKUP($E57,MeasuresLookup,20,FALSE),SiteToSource,2,FALSE),0)","v":0},{"$f":"IF('Energy and Water Use'!$M$33>0,H57/('Energy and Water Use'!$AN$33/1000),0)","v":0},"*\n*\n*\n*\n*\n*","",null,null,"","","","",null,"",{"$error":"#N/A"},0,0,0,{"$error":"#N/A"},{"$error":"#N/A"},{"$error":"#N/A"},{"$error":"#N/A"},{"$error":"#N/A"},{"$error":"#N/A"},{"$error":"#N/A"},{"$error":"#N/A"},{"$error":"#N/A"},"N/A",{"$error":"#N/A"},{"$error":"#N/A"},{"$error":"#N/A"},{"$error":"#N/A"},{"$error":"#N/A"},{"$error":"#N/A"},{"$error":"#N/A"},{"$error":"#N/A"},{"$error":"#N/A"},{"$error":"#N/A"},{"$error":"#N/A"},{"$error":"#N/A"},{"$error":"#N/A"},null,null,null,null,null,null,null,null,null,null,null,""]
[{"$f":"IFERROR(MATCH(E58,'Scope and Prelim. Cost Est.'!$B$62:$B$67,0),\"\")","v":""},null,0,"",{"$f":"IFERROR(INDEX('Scope and Prelim. Cost Est.'!$B$26:$B$125,SMALL(IF('Scope and Prelim. Cost Est.'!$F$26:$F$125=\"Yes\",ROW('Scope and Prelim. Cost Est.'!$F$26:$F$125)-ROW('Scope and Prelim. Cost Est.'!$F$26)+1),ROWS('Scope and Prelim. Cost Est.'!$F$26:F62))),\"\")","v":""},"",{"$f":"IFERROR(VLOOKUP($E58,MeasuresLookup,18,FALSE)+VLOOKUP($E58,MeasuresLookup,19,FALSE)+(VLOOKUP($E58,MeasuresLookup,16,FALSE)+VLOOKUP($E58,MeasuresLookup,17,FALSE))*Calcs!$B$90,0)","v":0},{"$f":"IFERROR((VLOOKUP($E58,MeasuresLookup,16,FALSE)+VLOOKUP($E58,MeasuresLookup,17,FALSE))*Calcs!$B$90*Calcs!$B$91,0)+IFERROR((VLOOKUP($E58,MeasuresLookup,18,FALSE)+VLOOKUP($E58,MeasuresLookup,19,FALSE))*VLOOKUP(VLOOKUP($E58,MeasuresLookup,20,FALSE),SiteToSource,2,FALSE),0)","v":0},{"$f":"IF('Energy and Water Use'!$M$33>0,H58/('Energy and Water Use'!$AN$33/1000),0)","v":0},"*\n*\n*\n*\n*\n*","",null,null,{"$f":"IF(ISERROR(AD58),\"\",AD58)","v":""},{"$f":"IF(ISERROR(AE58),\"\",AE58)","v":""},{"$f":"IF(ISERROR(AL58),\"\",AL58)","v":""},{"$f":"IF(ISERROR(AM58),\"\",AM58)","v":""},null,"",{"$error":"#N/A"},0,0,0,{"$f":"IF(D58=\"Other\",\"Y\",VLOOKUP($D58,MeasureQCData,4,FALSE))","v":{"$error":"#N/A"}},{"$error":"#N/A"},{"$error":"#N/A"},{"$error":"#N/A"},{"$error":"#N/A"},{"$error":"#N/A"},{"$f":"IF(Location=\"Upstate\",Z58,IF(Location=\"Downstate\",AB58,\"\"))","v":{"$error":"#N/A"}},{"$f":"IF(Location=\"Upstate\",AA58,IF(Location=\"Downstate\",AC58,\"\"))","v":{"$error":"#N/A"}},{"$error":"#N/A"},"N/A",{"$error":"#N/A"},{"$error":"#N/A"},{"$error":"#N/A"},{"$error":"#N/A"},{"$error":"#N/A"},{"$error":"#N/A"},{"$f":"IF(D58=\"Other\",\"N\",VLOOKUP($D58,MeasureQCData,105,FALSE))","v":{"$error":"#N/A"}},{"$f":"IF(D58=\"Other\",\"N\",VLOOKUP($D58,MeasureQCData,107,FALSE))","v":{"$error":"#N/A"}},{"$error":"#N/A"},{"$error":"#N/A"},{"$error":"#N/A"},{"$error":"#N/A"},{"$f":"IF(AN58=\"N\",\"N\",IF(G58>AP58,\"Y\",\"N\"))","v":{"$error":"#N/A"}},null,null,null,null,null,null,null,null,null,null,null,""]
[{"$f":"IFERROR(MATCH(E59,'Scope and Prelim. Cost Est.'!$B$62:$B$67,0),\"\")","v":""},null,0,"",{"$f":"IFERROR(INDEX('Scope and Prelim. Cost Est.'!$B$26:$B$125,SMALL(IF('Scope and Prelim. Cost Est.'!$F$26:$F$125=\"Yes\",ROW('Scope and Prelim. Cost Est.'!$F$26:$F$125)-ROW('Scope and Prelim. Cost Est.'!$F$26)+1),ROWS('Scope and Prelim. Cost Est.'!$F$26:F63))),\"\")","v":""},"",{"$f":"IFERROR(VLOOKUP($E59,MeasuresLookup,18,FALSE)+VLOOKUP($E59,MeasuresLookup,19,FALSE)+(VLOOKUP($E59,MeasuresLookup,16,FALSE)+VLOOKUP($E59,MeasuresLookup,17,FALSE))*Calcs!$B$90,0)","v":0},{"$f":"IFERROR((VLOOKUP($E59,MeasuresLookup,16,FALSE)+VLOOKUP($E59,MeasuresLookup,17,FALSE))*Calcs!$B$90*Calcs!$B$91,0)+IFERROR((VLOOKUP($E59,MeasuresLookup,18,FALSE)+VLOOKUP($E59,MeasuresLookup,19,FALSE))*VLOOKUP(VLOOKUP($E59,MeasuresLookup,20,FALSE),SiteToSource,2,FALSE),0)","v":0},{"$f":"IF('Energy and Water Use'!$M$33>0,H59/('Energy and Water Use'!$AN$33/1000),0)","v":0},"*\n*\n*\n*\n*\n*","",null,null,"","","","",null,"",{"$error":"#N/A"},0,0,0,{"$error":"#N/A"},{"$error":"#N/A"},{"$error":"#N/A"},{"$error":"#N/A"},{"$error":"#N/A"},{"$error":"#N/A"},{"$error":"#N/A"},{"$error":"#N/A"},{"$error":"#N/A"},"N/A",{"$error":"#N/A"},{"$error":"#N/A"},{"$error":"#N/A"},{"$error":"#N/A"},{"$error":"#N/A"},{"$error":"#N/A"},{"$error":"#N/A"},{"$error":"#N/A"},{"$error":"#N/A"},{"$error":"#N/A"},{"$error":"#N/A"},{"$error":"#N/A"},{"$error":"#N/A"},null,null,null,null,null,null,null,null,null,null,null,""]
[{"$f":"IFERROR(MATCH(E60,'Scope and Prelim. Cost Est.'!$B$62:$B$67,0),\"\")","v":""},null,0,"",{"$f":"IFERROR(INDEX('Scope and Prelim. Cost Est.'!$B$26:$B$125,SMALL(IF('Scope and Prelim. Cost Est.'!$F$26:$F$125=\"Yes\",ROW('Scope and Prelim. Cost Est.'!$F$26:$F$125)-ROW('Scope and Prelim. Cost Est.'!$F$26)+1),ROWS('Scope and Prelim. Cost Est.'!$F$26:F64))),\"\")","v":""},"",{"$f":"IFERROR(VLOOKUP($E60,MeasuresLookup,18,FALSE)+VLOOKUP($E60,MeasuresLookup,19,FALSE)+(VLOOKUP($E60,MeasuresLookup,16,FALSE)+VLOOKUP($E60,MeasuresLookup,17,FALSE))*Calcs!$B$90,0)","v":0},{"$f":"IFERROR((VLOOKUP($E60,MeasuresLookup,16,FALSE)+VLOOKUP($E60,MeasuresLookup,17,FALSE))*Calcs!$B$90*Calcs!$B$91,0)+IFERROR((VLOOKUP($E60,MeasuresLookup,18,FALSE)+VLOOKUP($E60,MeasuresLookup,19,FALSE))*VLOOKUP(VLOOKUP($E60,MeasuresLookup,20,FALSE),SiteToSource,2,FALSE),0)","v":0},{"$f":"IF('Energy and Water Use'!$M$33>0,H60/('Energy and Water Use'!$AN$33/1000),0)","v":0},"*\n*\n*\n*\n*\n*","",null,null,"","","","",null,"",{"$error":"#N/A"},0,0,0,{"$error":"#N/A"},{"$error":"#N/A"},{"$error":"#N/A"},{"$error":"#N/A"},{"$error":"#N/A"},{"$error":"#N/A"},{"$error":"#N/A"},{"$error":"#N/A"},{"$error":"#N/A"},"N/A",{"$error":"#N/A"},{"$error":"#N/A"},{"$error":"#N/A"},{"$error":"#N/A"},{"$error":"#N/A"},{"$error":"#N/A"},{"$error":"#N/A"},{"$error":"#N/A"},{"$error":"#N/A"},{"$error":"#N/A"},{"$error":"#N/A"},{"$error":"#N/A"},{"$error":"#N/A"},null,null,null,null,null,null,null,null,null,null,null,""]
[{"$f":"IFERROR(MATCH(E61,'Scope and Prelim. Cost Est.'!$B$62:$B$67,0),\"\")","v":""},null,0,"",{"$f":"IFERROR(INDEX('Scope and Prelim. Cost Est.'!$B$26:$B$125,SMALL(IF('Scope and Prelim. Cost Est.'!$F$26:$F$125=\"Yes\",ROW('Scope and Prelim. Cost Est.'!$F$26:$F$125)-ROW('Scope and Prelim. Cost Est.'!$F$26)+1),ROWS('Scope and Prelim. Cost Est.'!$F$26:F65))),\"\")","v":""},"",{"$f":"IFERROR(VLOOKUP($E61,MeasuresLookup,18,FALSE)+VLOOKUP($E61,MeasuresLookup,19,FALSE)+(VLOOKUP($E61,MeasuresLookup,16,FALSE)+VLOOKUP($E61,MeasuresLookup,17,FALSE))*Calcs!$B$90,0)","v":0},{"$f":"IFERROR((VLOOKUP($E61,MeasuresLookup,16,FALSE)+VLOOKUP($E61,MeasuresLookup,17,FALSE))*Calcs!$B$90*Calcs!$B$91,0)+IFERROR((VLOOKUP($E61,MeasuresLookup,18,FALSE)+VLOOKUP($E61,MeasuresLookup,19,FALSE))*VLOOKUP(VLOOKUP($E61,MeasuresLookup,20,FALSE),SiteToSource,2,FALSE),0)","v":0},{"$f":"IF('Energy and Water Use'!$M$33>0,H61/('Energy and Water Use'!$AN$33/1000),0)","v":0},"*\n*\n*\n*\n*\n*","",null,null,"","","","",null,"",{"$error":"#N/A"},0,0,0,{"$error":"#N/A"},{"$error":"#N/A"},{"$error":"#N/A"},{"$error":"#N/A"},{"$error":"#N/A"},{"$error":"#N/A"},{"$error":"#N/A"},{"$error":"#N/A"},{"$error":"#N/A"},"N/A",{"$error":"#N/A"},{"$error":"#N/A"},{"$error":"#N/A"},{"$error":"#N/A"},{"$error":"#N/A"},{"$error":"#N/A"},{"$error":"#N/A"},{"$error":"#N/A"},{"$error":"#N/A"},{"$error":"#N/A"},{"$error":"#N/A"},{"$error":"#N/A"},{"$error":"#N/A"},null,null,null,null,null,null,null,null,null,null,null,""]
[{"$f":"IFERROR(MATCH(E62,'Scope and Prelim. Cost Est.'!$B$62:$B$67,0),\"\")","v":""},null,0,"",{"$f":"IFERROR(INDEX('Scope and Prelim. Cost Est.'!$B$26:$B$125,SMALL(IF('Scope and Prelim. Cost Est.'!$F$26:$F$125=\"Yes\",ROW('Scope and Prelim. Cost Est.'!$F$26:$F$125)-ROW('Scope and Prelim. Cost Est.'!$F$26)+1),ROWS('Scope and Prelim. Cost Est.'!$F$26:F66))),\"\")","v":""},"",{"$f":"IFERROR(VLOOKUP($E62,MeasuresLookup,18,FALSE)+VLOOKUP($E62,MeasuresLookup,19,FALSE)+(VLOOKUP($E62,MeasuresLookup,16,FALSE)+VLOOKUP($E62,MeasuresLookup,17,FALSE))*Calcs!$B$90,0)","v":0},{"$f":"IFERROR((VLOOKUP($E62,MeasuresLookup,16,FALSE)+VLOOKUP($E62,MeasuresLookup,17,FALSE))*Calcs!$B$90*Calcs!$B$91,0)+IFERROR((VLOOKUP($E62,MeasuresLookup,18,FALSE)+VLOOKUP($E62,MeasuresLookup,19,FALSE))*VLOOKUP(VLOOKUP($E62,MeasuresLookup,20,FALSE),SiteToSource,2,FALSE),0)","v":0},{"$f":"IF('Energy and Water Use'!$M$33>0,H62/('Energy and Water Use'!$AN$33/1000),0)","v":0},"*\n*\n*\n*\n*\n*","",null,null,"","","","",null,"",{"$error":"#N/A"},0,0,0,{"$error":"#N/A"},{"$error":"#N/A"},{"$error":"#N/A"},{"$error":"#N/A"},{"$error":"#N/A"},{"$error":"#N/A"},{"$error":"#N/A"},{"$error":"#N/A"},{"$error":"#N/A"},"N/A",{"$error":"#N/A"},{"$error":"#N/A"},{"$error":"#N/A"},{"$error":"#N/A"},{"$error":"#N/A"},{"$error":"#N/A"},{"$error":"#N/A"},{"$error":"#N/A"},{"$error":"#N/A"},{"$error":"#N/A"},{"$error":"#N/A"},{"$error":"#N/A"},{"$error":"#N/A"},null,null,null,null,null,null,null,null,null,null,null,""]
[{"$f":"IFERROR(MATCH(E63,'Scope and Prelim. Cost Est.'!$B$62:$B$67,0),\"\")","v":""},null,0,"",{"$f":"IFERROR(INDEX('Scope and Prelim. Cost Est.'!$B$26:$B$125,SMALL(IF('Scope and Prelim. Cost Est.'!$F$26:$F$125=\"Yes\",ROW('Scope and Prelim. Cost Est.'!$F$26:$F$125)-ROW('Scope and Prelim. Cost Est.'!$F$26)+1),ROWS('Scope and Prelim. Cost Est.'!$F$26:F67))),\"\")","v":""},"",{"$f":"IFERROR(VLOOKUP($E63,MeasuresLookup,18,FALSE)+VLOOKUP($E63,MeasuresLookup,19,FALSE)+(VLOOKUP($E63,MeasuresLookup,16,FALSE)+VLOOKUP($E63,MeasuresLookup,17,FALSE))*Calcs!$B$90,0)","v":0},{"$f":"IFERROR((VLOOKUP($E63,MeasuresLookup,16,FALSE)+VLOOKUP($E63,MeasuresLookup,17,FALSE))*Calcs!$B$90*Calcs!$B$91,0)+IFERROR((VLOOKUP($E63,MeasuresLookup,18,FALSE)+VLOOKUP($E63,MeasuresLookup,19,FALSE))*VLOOKUP(VLOOKUP($E63,MeasuresLookup,20,FALSE),SiteToSource,2,FALSE),0)","v":0},{"$f":"IF('Energy and Water Use'!$M$33>0,H63/('Energy and Water Use'!$AN$33/1000),0)","v":0},"*\n*\n*\n*\n*\n*","",null,null,"","","","",null,"",{"$error":"#N/A"},0,0,0,{"$error":"#N/A"},{"$error":"#N/A"},{"$error":"#N/A"},{"$error":"#N/A"},{"$error":"#N/A"},{"$error":"#N/A"},{"$error":"#N/A"},{"$error":"#N/A"},{"$error":"#N/A"},"N/A",{"$error":"#N/A"},{"$error":"#N/A"},{"$error":"#N/A"},{"$error":"#N/A"},{"$error":"#N/A"},{"$error":"#N/A"},{"$error":"#N/A"},{"$error":"#N/A"},{"$error":"#N/A"},{"$error":"#N/A"},{"$error":"#N/A"},{"$error":"#N/A"},{"$error":"#N/A"},null,null,null,null,null,null,null,null,null,null,null,""]
[{"$f":"IFERROR(MATCH(E64,'Scope and Prelim. Cost Est.'!$B$68:$B$73,0),\"\")","v":""},null,0,"",{"$f":"IFERROR(INDEX('Scope and Prelim. Cost Est.'!$B$26:$B$125,SMALL(IF('Scope and Prelim. Cost Est.'!$F$26:$F$125=\"Yes\",ROW('Scope and Prelim. Cost Est.'!$F$26:$F$125)-ROW('Scope and Prelim. Cost Est.'!$F$26)+1),ROWS('Scope and Prelim. Cost Est.'!$F$26:F68))),\"\")","v":""},"",{"$f":"IFERROR(VLOOKUP($E64,MeasuresLookup,18,FALSE)+VLOOKUP($E64,MeasuresLookup,19,FALSE)+(VLOOKUP($E64,MeasuresLookup,16,FALSE)+VLOOKUP($E64,MeasuresLookup,17,FALSE))*Calcs!$B$90,0)","v":0},{"$f":"IFERROR((VLOOKUP($E64,MeasuresLookup,16,FALSE)+VLOOKUP($E64,MeasuresLookup,17,FALSE))*Calcs!$B$90*Calcs!$B$91,0)+IFERROR((VLOOKUP($E64,MeasuresLookup,18,FALSE)+VLOOKUP($E64,MeasuresLookup,19,FALSE))*VLOOKUP(VLOOKUP($E64,MeasuresLookup,20,FALSE),SiteToSource,2,FALSE),0)","v":0},{"$f":"IF('Energy and Water Use'!$M$33>0,H64/('Energy and Water Use'!$AN$33/1000),0)","v":0},"*\n*\n*\n*\n*\n*","",null,null,{"$f":"IF(ISERROR(AD64),\"\",AD64)","v":""},{"$f":"IF(ISERROR(AE64),\"\",AE64)","v":""},{"$f":"IF(ISERROR(AL64),\"\",AL64)","v":""},{"$f":"IF(ISERROR(AM64),\"\",AM64)","v":""},null,"",{"$error":"#N/A"},0,0,0,{"$f":"IF(D64=\"Other\",\"Y\",VLOOKUP($D64,MeasureQCData,4,FALSE))","v":{"$error":"#N/A"}},{"$error":"#N/A"},{"$error":"#N/A"},{"$error":"#N/A"},{"$error":"#N/A"},{"$error":"#N/A"},{"$f":"IF(Location=\"Upstate\",Z64,IF(Location=\"Downstate\",AB64,\"\"))","v":{"$error":"#N/A"}},{"$f":"IF(Location=\"Upstate\",AA64,IF(Location=\"Downstate\",AC64,\"\"))","v":{"$error":"#N/A"}},{"$error":"#N/A"},"N/A",{"$error":"#N/A"},{"$error":"#N/A"},{"$error":"#N/A"},{"$error":"#N/A"},{"$error":"#N/A"},{"$error":"#N/A"},{"$f":"IF(D64=\"Other\",\"N\",VLOOKUP($D64,MeasureQCData,105,FALSE))","v":{"$error":"#N/A"}},{"$f":"IF(D64=\"Other\",\"N\",VLOOKUP($D64,MeasureQCData,107,FALSE))","v":{"$error":"#N/A"}},{"$error":"#N/A"},{"$error":"#N/A"},{"$error":"#N/A"},{"$error":"#N/A"},{"$f":"IF(AN64=\"N\",\"N\",IF(G64>AP64,\"Y\",\"N\"))","v":{"$error":"#N/A"}},null,null,null,null,null,null,null,null,null,null,null,""]
[{"$f":"IFERROR(MATCH(E65,'Scope and Prelim. Cost Est.'!$B$68:$B$73,0),\"\")","v":""},null,0,"",{"$f":"IFERROR(INDEX('Scope and Prelim. Cost Est.'!$B$26:$B$125,SMALL(IF('Scope and Prelim. Cost Est.'!$F$26:$F$125=\"Yes\",ROW('Scope and Prelim. Cost Est.'!$F$26:$F$125)-ROW('Scope and Prelim. Cost Est.'!$F$26)+1),ROWS('Scope and Prelim. Cost Est.'!$F$26:F69))),\"\")","v":""},"",{"$f":"IFERROR(VLOOKUP($E65,MeasuresLookup,18,FALSE)+VLOOKUP($E65,MeasuresLookup,19,FALSE)+(VLOOKUP($E65,MeasuresLookup,16,FALSE)+VLOOKUP($E65,MeasuresLookup,17,FALSE))*Calcs!$B$90,0)","v":0},{"$f":"IFERROR((VLOOKUP($E65,MeasuresLookup,16,FALSE)+VLOOKUP($E65,MeasuresLookup,17,FALSE))*Calcs!$B$90*Calcs!$B$91,0)+IFERROR((VLOOKUP($E65,MeasuresLookup,18,FALSE)+VLOOKUP($E65,MeasuresLookup,19,FALSE))*VLOOKUP(VLOOKUP($E65,MeasuresLookup,20,FALSE),SiteToSource,2,FALSE),0)","v":0},{"$f":"IF('Energy and Water Use'!$M$33>0,H65/('Energy and Water Use'!$AN$33/1000),0)","v":0},"*\n*\n*\n*\n*\n*","",null,null,"","","","",null,"",{"$error":"#N/A"},0,0,0,{"$error":"#N/A"},{"$error":"#N/A"},{"$error":"#N/A"},{"$error":"#N/A"},{"$error":"#N/A"},{"$error":"#N/A"},{"$error":"#N/A"},{"$error":"#N/A"},{"$error":"#N/A"},"N/A",{"$error":"#N/A"},{"$error":"#N/A"},{"$error":"#N/A"},{"$error":"#N/A"},{"$error":"#N/A"},{"$error":"#N/A"},{"$error":"#N/A"},{"$error":"#N/A"},{"$error":"#N/A"},{"$error":"#N/A"},{"$error":"#N/A"},{"$error":"#N/A"},{"$error":"#N/A"},null,null,null,null,null,null,null,null,null,null,null,""]
[{"$f":"IFERROR(MATCH(E66,'Scope and Prelim. Cost Est.'!$B$68:$B$73,0),\"\")","v":""},null,0,"",{"$f":"IFERROR(INDEX('Scope and Prelim. Cost Est.'!$B$26:$B$125,SMALL(IF('Scope and Prelim. Cost Est.'!$F$26:$F$125=\"Yes\",ROW('Scope and Prelim. Cost Est.'!$F$26:$F$125)-ROW('Scope and Prelim. Cost Est.'!$F$26)+1),ROWS('Scope and Prelim. Cost Est.'!$F$26:F70))),\"\")","v":""},"",{"$f":"IFERROR(VLOOKUP($E66,MeasuresLookup,18,FALSE)+VLOOKUP($E66,MeasuresLookup,19,FALSE)+(VLOOKUP($E66,MeasuresLookup,16,FALSE)+VLOOKUP($E66,MeasuresLookup,17,FALSE))*Calcs!$B$90,0)","v":0},{"$f":"IFERROR((VLOOKUP($E66,MeasuresLookup,16,FALSE)+VLOOKUP($E66,MeasuresLookup,17,FALSE))*Calcs!$B$90*Calcs!$B$91,0)+IFERROR((VLOOKUP($E66,MeasuresLookup,18,FALSE)+VLOOKUP($E66,MeasuresLookup,19,FALSE))*VLOOKUP(VLOOKUP($E66,MeasuresLookup,20,FALSE),SiteToSource,2,FALSE),0)","v":0},{"$f":"IF('Energy and Water Use'!$M$33>0,H66/('Energy and Water Use'!$AN$33/1000),0)","v":0},"*\n*\n*\n*\n*\n*","",null,null,"","","","",null,"",{"$error":"#N/A"},0,0,0,{"$error":"#N/A"},{"$error":"#N/A"},{"$error":"#N/A"},{"$error":"#N/A"},{"$error":"#N/A"},{"$error":"#N/A"},{"$error":"#N/A"},{"$error":"#N/A"},{"$error":"#N/A"},"N/A",{"$error":"#N/A"},{"$error":"#N/A"},{"$error":"#N/A"},{"$error":"#N/A"},{"$error":"#N/A"},{"$error":"#N/A"},{"$error":"#N/A"},{"$error":"#N/A"},{"$error":"#N/A"},{"$error":"#N/A"},{"$error":"#N/A"},{"$error":"#N/A"},{"$error":"#N/A"},null,null,null,null,null,null,null,null,null,null,null,""]
[{"$f":"IFERROR(MATCH(E67,'Scope and Prelim. Cost Est.'!$B$68:$B$73,0),\"\")","v":""},null,0,"",{"$f":"IFERROR(INDEX('Scope and Prelim. Cost Est.'!$B$26:$B$125,SMALL(IF('Scope and Prelim. Cost Est.'!$F$26:$F$125=\"Yes\",ROW('Scope and Prelim. Cost Est.'!$F$26:$F$125)-ROW('Scope and Prelim. Cost Est.'!$F$26)+1),ROWS('Scope and Prelim. Cost Est.'!$F$26:F71))),\"\")","v":""},"",{"$f":"IFERROR(VLOOKUP($E67,MeasuresLookup,18,FALSE)+VLOOKUP($E67,MeasuresLookup,19,FALSE)+(VLOOKUP($E67,MeasuresLookup,16,FALSE)+VLOOKUP($E67,MeasuresLookup,17,FALSE))*Calcs!$B$90,0)","v":0},{"$f":"IFERROR((VLOOKUP($E67,MeasuresLookup,16,FALSE)+VLOOKUP($E67,MeasuresLookup,17,FALSE))*Calcs!$B$90*Calcs!$B$91,0)+IFERROR((VLOOKUP($E67,MeasuresLookup,18,FALSE)+VLOOKUP($E67,MeasuresLookup,19,FALSE))*VLOOKUP(VLOOKUP($E67,MeasuresLookup,20,FALSE),SiteToSource,2,FALSE),0)","v":0},{"$f":"IF('Energy and Water Use'!$M$33>0,H67/('Energy and Water Use'!$AN$33/1000),0)","v":0},"*\n*\n*\n*\n*\n*","",null,null,"","","","",null,"",{"$error":"#N/A"},0,0,0,{"$error":"#N/A"},{"$error":"#N/A"},{"$error":"#N/A"},{"$error":"#N/A"},{"$error":"#N/A"},{"$error":"#N/A"},{"$error":"#N/A"},{"$error":"#N/A"},{"$error":"#N/A"},"N/A",{"$error":"#N/A"},{"$error":"#N/A"},{"$error":"#N/A"},{"$error":"#N/A"},{"$error":"#N/A"},{"$error":"#N/A"},{"$error":"#N/A"},{"$error":"#N/A"},{"$error":"#N/A"},{"$error":"#N/A"},{"$error":"#N/A"},{"$error":"#N/A"},{"$error":"#N/A"},null,null,null,null,null,null,null,null,null,null,null,""]
[{"$f":"IFERROR(MATCH(E68,'Scope and Prelim. Cost Est.'!$B$68:$B$73,0),\"\")","v":""},null,0,"",{"$f":"IFERROR(INDEX('Scope and Prelim. Cost Est.'!$B$26:$B$125,SMALL(IF('Scope and Prelim. Cost Est.'!$F$26:$F$125=\"Yes\",ROW('Scope and Prelim. Cost Est.'!$F$26:$F$125)-ROW('Scope and Prelim. Cost Est.'!$F$26)+1),ROWS('Scope and Prelim. Cost Est.'!$F$26:F72))),\"\")","v":""},"",{"$f":"IFERROR(VLOOKUP($E68,MeasuresLookup,18,FALSE)+VLOOKUP($E68,MeasuresLookup,19,FALSE)+(VLOOKUP($E68,MeasuresLookup,16,FALSE)+VLOOKUP($E68,MeasuresLookup,17,FALSE))*Calcs!$B$90,0)","v":0},{"$f":"IFERROR((VLOOKUP($E68,MeasuresLookup,16,FALSE)+VLOOKUP($E68,MeasuresLookup,17,FALSE))*Calcs!$B$90*Calcs!$B$91,0)+IFERROR((VLOOKUP($E68,MeasuresLookup,18,FALSE)+VLOOKUP($E68,MeasuresLookup,19,FALSE))*VLOOKUP(VLOOKUP($E68,MeasuresLookup,20,FALSE),SiteToSource,2,FALSE),0)","v":0},{"$f":"IF('Energy and Water Use'!$M$33>0,H68/('Energy and Water Use'!$AN$33/1000),0)","v":0},"*\n*\n*\n*\n*\n*","",null,null,"","","","",null,"",{"$error":"#N/A"},0,0,0,{"$error":"#N/A"},{"$error":"#N/A"},{"$error":"#N/A"},{"$error":"#N/A"},{"$error":"#N/A"},{"$error":"#N/A"},{"$error":"#N/A"},{"$error":"#N/A"},{"$error":"#N/A"},"N/A",{"$error":"#N/A"},{"$error":"#N/A"},{"$error":"#N/A"},{"$error":"#N/A"},{"$error":"#N/A"},{"$error":"#N/A"},{"$error":"#N/A"},{"$error":"#N/A"},{"$error":"#N/A"},{"$error":"#N/A"},{"$error":"#N/A"},{"$error":"#N/A"},{"$error":"#N/A"},null,null,null,null,null,null,null,null,null,null,null,""]
[{"$f":"IFERROR(MATCH(E69,'Scope and Prelim. Cost Est.'!$B$68:$B$73,0),\"\")","v":""},null,0,"",{"$f":"IFERROR(INDEX('Scope and Prelim. Cost Est.'!$B$26:$B$125,SMALL(IF('Scope and Prelim. Cost Est.'!$F$26:$F$125=\"Yes\",ROW('Scope and Prelim. Cost Est.'!$F$26:$F$125)-ROW('Scope and Prelim. Cost Est.'!$F$26)+1),ROWS('Scope and Prelim. Cost Est.'!$F$26:F73))),\"\")","v":""},"",{"$f":"IFERROR(VLOOKUP($E69,MeasuresLookup,18,FALSE)+VLOOKUP($E69,MeasuresLookup,19,FALSE)+(VLOOKUP($E69,MeasuresLookup,16,FALSE)+VLOOKUP($E69,MeasuresLookup,17,FALSE))*Calcs!$B$90,0)","v":0},{"$f":"IFERROR((VLOOKUP($E69,MeasuresLookup,16,FALSE)+VLOOKUP($E69,MeasuresLookup,17,FALSE))*Calcs!$B$90*Calcs!$B$91,0)+IFERROR((VLOOKUP($E69,MeasuresLookup,18,FALSE)+VLOOKUP($E69,MeasuresLookup,19,FALSE))*VLOOKUP(VLOOKUP($E69,MeasuresLookup,20,FALSE),SiteToSource,2,FALSE),0)","v":0},{"$f":"IF('Energy and Water Use'!$M$33>0,H69/('Energy and Water Use'!$AN$33/1000),0)","v":0},"*\n*\n*\n*\n*\n*","",null,null,"","","","",null,"",{"$error":"#N/A"},0,0,0,{"$error":"#N/A"},{"$error":"#N/A"},{"$error":"#N/A"},{"$error":"#N/A"},{"$error":"#N/A"},{"$error":"#N/A"},{"$error":"#N/A"},{"$error":"#N/A"},{"$error":"#N/A"},"N/A",{"$error":"#N/A"},{"$error":"#N/A"},{"$error":"#N/A"},{"$error":"#N/A"},{"$error":"#N/A"},{"$error":"#N/A"},{"$error":"#N/A"},{"$error":"#N/A"},{"$error":"#N/A"},{"$error":"#N/A"},{"$error":"#N/A"},{"$error":"#N/A"},{"$error":"#N/A"},null,null,null,null,null,null,null,null,null,null,null,""]
[null,null,0,"",{"$f":"IFERROR(INDEX('Scope and Prelim. Cost Est.'!$B$26:$B$125,SMALL(IF('Scope and Prelim. Cost Est.'!$F$26:$F$125=\"Yes\",ROW('Scope and Prelim. Cost Est.'!$F$26:$F$125)-ROW('Scope and Prelim. Cost Est.'!$F$26)+1),ROWS('Scope and Prelim. Cost Est.'!$F$26:F74))),\"\")","v":""},"",{"$f":"IFERROR(VLOOKUP($E70,MeasuresLookup,18,FALSE)+VLOOKUP($E70,MeasuresLookup,19,FALSE)+(VLOOKUP($E70,MeasuresLookup,16,FALSE)+VLOOKUP($E70,MeasuresLookup,17,FALSE))*Calcs!$B$90,0)","v":0},{"$f":"IFERROR((VLOOKUP($E70,MeasuresLookup,16,FALSE)+VLOOKUP($E70,MeasuresLookup,17,FALSE))*Calcs!$B$90*Calcs!$B$91,0)+IFERROR((VLOOKUP($E70,MeasuresLookup,18,FALSE)+VLOOKUP($E70,MeasuresLookup,19,FALSE))*VLOOKUP(VLOOKUP($E70,MeasuresLookup,20,FALSE),SiteToSource,2,FALSE),0)","v":0},{"$f":"IF('Energy and Water Use'!$M$33>0,H70/('Energy and Water Use'!$AN$33/1000),0)","v":0},"*\n*\n*\n*\n*\n*","",null,null,{"$f":"IF(ISERROR(AD70),\"\",AD70)","v":""},{"$f":"IF(ISERROR(AE70),\"\",AE70)","v":""},{"$f":"IF(ISERROR(AL70),\"\",AL70)","v":""},{"$f":"IF(ISERROR(AM70),\"\",AM70)","v":""},null,"",{"$error":"#N/A"},0,0,0,{"$f":"IF(D70=\"Other\",\"Y\",VLOOKUP($D70,MeasureQCData,4,FALSE))","v":{"$error":"#N/A"}},{"$error":"#N/A"},{"$error":"#N/A"},{"$error":"#N/A"},{"$error":"#N/A"},{"$error":"#N/A"},{"$f":"IF(Location=\"Upstate\",Z70,IF(Location=\"Downstate\",AB70,\"\"))","v":{"$error":"#N/A"}},{"$f":"IF(Location=\"Upstate\",AA70,IF(Location=\"Downstate\",AC70,\"\"))","v":{"$error":"#N/A"}},{"$error":"#N/A"},"N/A",{"$error":"#N/A"},{"$error":"#N/A"},{"$error":"#N/A"},{"$error":"#N/A"},{"$error":"#N/A"},{"$error":"#N/A"},{"$f":"IF(D70=\"Other\",\"N\",VLOOKUP($D70,MeasureQCData,105,FALSE))","v":{"$error":"#N/A"}},{"$f":"IF(D70=\"Other\",\"N\",VLOOKUP($D70,MeasureQCData,107,FALSE))","v":{"$error":"#N/A"}},{"$error":"#N/A"},{"$error":"#N/A"},{"$error":"#N/A"},{"$error":"#N/A"},{"$f":"IF(AN70=\"N\",\"N\",IF(G70>AP70,\"Y\",\"N\"))","v":{"$error":"#N/A"}},null,null,null,null,null,null,null,null,null,null,null,""]
[null,null,{"$f":"IF(D71=\"\",0,C70+1)","v":0},{"$f":"IF(E71=\"\",\"\",IF(VLOOKUP(E71,MeasuresLookup,7,FALSE)=\"\",\"\",VLOOKUP(E71,MeasuresLookup,7,FALSE)))","v":""},{"$f":"IFERROR(INDEX('Scope and Prelim. Cost Est.'!$B$26:$B$125,SMALL(IF('Scope and Prelim. Cost Est.'!$F$26:$F$125=\"Yes\",ROW('Scope and Prelim. Cost Est.'!$F$26:$F$125)-ROW('Scope and Prelim. Cost Est.'!$F$26)+1),ROWS('Scope and Prelim. Cost Est.'!$F$26:F75))),\"\")","v":""},{"$f":"IF(E71=\"\",\"\",VLOOKUP(E71,MeasuresLookup,15,FALSE))","v":""},{"$f":"IFERROR(VLOOKUP($E71,MeasuresLookup,18,FALSE)+VLOOKUP($E71,MeasuresLookup,19,FALSE)+(VLOOKUP($E71,MeasuresLookup,16,FALSE)+VLOOKUP($E71,MeasuresLookup,17,FALSE))*Calcs!$B$90,0)","v":0},{"$f":"IFERROR((VLOOKUP($E71,MeasuresLookup,16,FALSE)+VLOOKUP($E71,MeasuresLookup,17,FALSE))*Calcs!$B$90*Calcs!$B$91,0)+IFERROR((VLOOKUP($E71,MeasuresLookup,18,FALSE)+VLOOKUP($E71,MeasuresLookup,19,FALSE))*VLOOKUP(VLOOKUP($E71,MeasuresLookup,20,FALSE),SiteToSource,2,FALSE),0)","v":0},{"$f":"IF('Energy and Water Use'!$M$33>0,H71/('Energy and Water Use'!$AN$33/1000),0)","v":0},"*\n*\n*\n*\n*\n*",{"$f":"IFERROR(IF(AT71=\"Y\",\"This measure is being flagged as either falling outside of the cost, site energy savings, or source energy savings typical values. Please refer to the guidance in the above instructions and respond accordingly.\",IF(OR(AR71=\"Y\",AS71=\"Y\")=TRUE,\"This measure is being flagged as either falling outside of the cost, site energy savings, or source energy savings typical values. Please refer to the guidance in the above instructions and respond accordingly.\",\"\")),\"\")","v":""},null,null,{"$f":"IF(ISERROR(AD71),\"\",AD71)","v":""},{"$f":"IF(ISERROR(AE71),\"\",AE71)","v":""},{"$f":"IF(ISERROR(AL71),\"\",AL71)","v":""},{"$f":"IF(ISERROR(AM71),\"\",AM71)","v":""},null,{"$f":"IF(E71=\"\",\"\",VLOOKUP(E71,MeasuresLookup,12,FALSE))","v":""},{"$f":"IF(D71=\"Other\",\"N/A\",VLOOKUP($D71,MeasureQCData,2,FALSE))","v":{"$error":"#N/A"}},0,0,0,{"$error":"#N/A"},{"$f":"IF(D71=\"Other\",\"N/A\",VLOOKUP($D71,MeasureQCData,9,FALSE))","v":{"$error":"#N/A"}},{"$f":"IF(OR($Y71=\"Each\",Y71=\"EA\"),(VLOOKUP($D71,MeasureQCData,5,FALSE)*$S71),IF($Y71=\"Unit\",(VLOOKUP($D71,MeasureQCData,5,FALSE)*$U71),IF($Y71=\"Sqft\",(VLOOKUP($D71,MeasureQCData,5,FALSE)*$V71),IF($Y71=\"MBH\",(VLOOKUP($D71,MeasureQCData,5,FALSE)*$S71),IF($Y71=\"Ins. Sqft\",(VLOOKUP($D71,MeasureQCData,5,FALSE)*$S71),IF(Y71=\"N/A\",\"N/A\",0))))))","v":{"$error":"#N/A"}},{"$f":"IF($Y71=\"Each\",(VLOOKUP($D71,MeasureQCData,6,FALSE)*$S71),IF($Y71=\"Unit\",(VLOOKUP($D71,MeasureQCData,6,FALSE)*$U71),IF($Y71=\"Sqft\",(VLOOKUP($D71,MeasureQCData,6,FALSE)*$V71),IF($Y71=\"MBH\",(VLOOKUP($D71,MeasureQCData,6,FALSE)*$S71),IF($Y71=\"Ins. Sqft\",(VLOOKUP($D71,MeasureQCData,6,FALSE)*$S71),IF(Y71=\"N/A\",\"N/A\",0))))))","v":{"$error":"#N/A"}},{"$f":"IF($Y71=\"Each\",(VLOOKUP($D71,MeasureQCData,7,FALSE)*$S71),IF($Y71=\"Unit\",(VLOOKUP($D71,MeasureQCData,7,FALSE)*$U71),IF($Y71=\"Sqft\",(VLOOKUP($D71,MeasureQCData,7,FALSE)*$V71),IF($Y71=\"MBH\",(VLOOKUP($D71,MeasureQCData,7,FALSE)*$S71),IF($Y71=\"Ins. Sqft\",(VLOOKUP($D71,MeasureQCData,7,FALSE)*$S71),IF(Y71=\"N/A\",\"N/A\",0))))))","v":{"$error":"#N/A"}},{"$f":"IF($Y71=\"Each\",(VLOOKUP($D71,MeasureQCData,8,FALSE)*$S71),IF($Y71=\"Unit\",(VLOOKUP($D71,MeasureQCData,8,FALSE)*$U71),IF($Y71=\"Sqft\",(VLOOKUP($D71,MeasureQCData,8,FALSE)*$V71),IF($Y71=\"MBH\",(VLOOKUP($D71,MeasureQCData,8,FALSE)*$S71),IF($Y71=\"Ins. Sqft\",(VLOOKUP($D71,MeasureQCData,8,FALSE)*$S71),IF(Y71=\"N/A\",\"N/A\",0))))))","v":{"$error":"#N/A"}},{"$error":"#N/A"},{"$error":"#N/A"},{"$f":"IF(D71=\"Other\",\"N/A\",VLOOKUP($D71,MeasureQCData,14,FALSE))","v":{"$error":"#N/A"}},{"$f":"IF(OR(D71=\"Energy Management System (EMS), Install\",D71=\"Air Sealing\",D71=\"Piping, DHW, Insulate\",D71=\"Piping, Heating, Insulate\",D71=\"Windows, Weatherstrip or Airseal\"),F71,\"N/A\")","v":"N/A"},{"$error":"#N/A"},{"$error":"#N/A"},{"$error":"#N/A"},{"$error":"#N/A"},{"$f":"IF(AF71=\"N/A\",\"N/A\",IF(Rise=\"Low\",AH71/1000000,IF(Rise=\"High\",AJ71/1000000,\"\")))","v":{"$error":"#N/A"}},{"$f":"IF(AF71=\"N/A\",\"N/A\",IF(Rise=\"Low\",AI71/1000000,IF(Rise=\"High\",AK71/1000000,\"\")))","v":{"$error":"#N/A"}},{"$error":"#N/A"},{"$error":"#N/A"},{"$error":"#N/A"},{"$f":"IF(D71=\"Other\",\"N/A\",VLOOKUP($D71,MeasureQCData,16,FALSE))","v":{"$error":"#N/A"}},{"$f":"IF(X71=\"N\",\"N\",IF(F71<AD71,\"Y\",\"N\"))","v":{"$error":"#N/A"}},{"$f":"IF(X71=\"N\",\"N\",IF(OR(G71>AM71,I71>AQ71),\"Y\",\"N\"))","v":{"$error":"#N/A"}},{"$f":"IF(AN71=\"N\",\"N\",IF(G71>AP71,\"Y\",\"N\"))","v":{"$error":"#N/A"}},null,null,null,null,null,null,null,null,null,null,null,{"$f":"IFERROR(IF(AND(OR(AR71=\"y\",AS71=\"y\")=TRUE,L71=\"\")=TRUE,\"ERR\",\"\"),\"\")","v":""}]
[null,null,0,"",{"$f":"IFERROR(INDEX('Scope and Prelim. Cost Est.'!$B$26:$B$125,SMALL(IF('Scope and Prelim. Cost Est.'!$F$26:$F$125=\"Yes\",ROW('Scope and Prelim. Cost Est.'!$F$26:$F$125)-ROW('Scope and Prelim. Cost Est.'!$F$26)+1),ROWS('Scope and Prelim. Cost Est.'!$F$26:F76))),\"\")","v":""},"",{"$f":"IFERROR(VLOOKUP($E72,MeasuresLookup,18,FALSE)+VLOOKUP($E72,MeasuresLookup,19,FALSE)+(VLOOKUP($E72,MeasuresLookup,16,FALSE)+VLOOKUP($E72,MeasuresLookup,17,FALSE))*Calcs!$B$90,0)","v":0},{"$f":"IFERROR((VLOOKUP($E72,MeasuresLookup,16,FALSE)+VLOOKUP($E72,MeasuresLookup,17,FALSE))*Calcs!$B$90*Calcs!$B$91,0)+IFERROR((VLOOKUP($E72,MeasuresLookup,18,FALSE)+VLOOKUP($E72,MeasuresLookup,19,FALSE))*VLOOKUP(VLOOKUP($E72,MeasuresLookup,20,FALSE),SiteToSource,2,FALSE),0)","v":0},{"$f":"IF('Energy and Water Use'!$M$33>0,H72/('Energy and Water Use'!$AN$33/1000),0)","v":0},"*\n*\n*\n*\n*\n*","",null,null,"","","","",null,"",{"$error":"#N/A"},0,0,0,{"$error":"#N/A"},{"$error":"#N/A"},{"$error":"#N/A"},{"$error":"#N/A"},{"$error":"#N/A"},{"$error":"#N/A"},{"$error":"#N/A"},{"$error":"#N/A"},{"$error":"#N/A"},"N/A",{"$error":"#N/A"},{"$error":"#N/A"},{"$error":"#N/A"},{"$error":"#N/A"},{"$error":"#N/A"},{"$error":"#N/A"},{"$error":"#N/A"},{"$error":"#N/A"},{"$error":"#N/A"},{"$error":"#N/A"},{"$error":"#N/A"},{"$error":"#N/A"},{"$error":"#N/A"},null,null,null,null,null,null,null,null,null,null,null,""]
[null,null,0,"",{"$f":"IFERROR(INDEX('Scope and Prelim. Cost Est.'!$B$26:$B$125,SMALL(IF('Scope and Prelim. Cost Est.'!$F$26:$F$125=\"Yes\",ROW('Scope and Prelim. Cost Est.'!$F$26:$F$125)-ROW('Scope and Prelim. Cost Est.'!$F$26)+1),ROWS('Scope and Prelim. Cost Est.'!$F$26:F77))),\"\")","v":""},"",{"$f":"IFERROR(VLOOKUP($E73,MeasuresLookup,18,FALSE)+VLOOKUP($E73,MeasuresLookup,19,FALSE)+(VLOOKUP($E73,MeasuresLookup,16,FALSE)+VLOOKUP($E73,MeasuresLookup,17,FALSE))*Calcs!$B$90,0)","v":0},{"$f":"IFERROR((VLOOKUP($E73,MeasuresLookup,16,FALSE)+VLOOKUP($E73,MeasuresLookup,17,FALSE))*Calcs!$B$90*Calcs!$B$91,0)+IFERROR((VLOOKUP($E73,MeasuresLookup,18,FALSE)+VLOOKUP($E73,MeasuresLookup,19,FALSE))*VLOOKUP(VLOOKUP($E73,MeasuresLookup,20,FALSE),SiteToSource,2,FALSE),0)","v":0},{"$f":"IF('Energy and Water Use'!$M$33>0,H73/('Energy and Water Use'!$AN$33/1000),0)","v":0},"*\n*\n*\n*\n*\n*","",null,null,"","","","",null,"",{"$error":"#N/A"},0,0,0,{"$error":"#N/A"},{"$error":"#N/A"},{"$error":"#N/A"},{"$error":"#N/A"},{"$error":"#N/A"},{"$error":"#N/A"},{"$error":"#N/A"},{"$error":"#N/A"},{"$error":"#N/A"},"N/A",{"$error":"#N/A"},{"$error":"#N/A"},{"$error":"#N/A"},{"$error":"#N/A"},{"$error":"#N/A"},{"$error":"#N/A"},{"$error":"#N/A"},{"$error":"#N/A"},{"$error":"#N/A"},{"$error":"#N/A"},{"$error":"#N/A"},{"$error":"#N/A"},{"$error":"#N/A"},null,null,null,null,null,null,null,null,null,null,null,""]
[null,null,0,"",{"$f":"IFERROR(INDEX('Scope and Prelim. Cost Est.'!$B$26:$B$125,SMALL(IF('Scope and Prelim. Cost Est.'!$F$26:$F$125=\"Yes\",ROW('Scope and Prelim. Cost Est.'!$F$26:$F$125)-ROW('Scope and Prelim. Cost Est.'!$F$26)+1),ROWS('Scope and Prelim. Cost Est.'!$F$26:F78))),\"\")","v":""},"",{"$f":"IFERROR(VLOOKUP($E74,MeasuresLookup,18,FALSE)+VLOOKUP($E74,MeasuresLookup,19,FALSE)+(VLOOKUP($E74,MeasuresLookup,16,FALSE)+VLOOKUP($E74,MeasuresLookup,17,FALSE))*Calcs!$B$90,0)","v":0},{"$f":"IFERROR((VLOOKUP($E74,MeasuresLookup,16,FALSE)+VLOOKUP($E74,MeasuresLookup,17,FALSE))*Calcs!$B$90*Calcs!$B$91,0)+IFERROR((VLOOKUP($E74,MeasuresLookup,18,FALSE)+VLOOKUP($E74,MeasuresLookup,19,FALSE))*VLOOKUP(VLOOKUP($E74,MeasuresLookup,20,FALSE),SiteToSource,2,FALSE),0)","v":0},{"$f":"IF('Energy and Water Use'!$M$33>0,H74/('Energy and Water Use'!$AN$33/1000),0)","v":0},"*\n*\n*\n*\n*\n*","",null,null,"","","","",null,"",{"$error":"#N/A"},0,0,0,{"$error":"#N/A"},{"$error":"#N/A"},{"$error":"#N/A"},{"$error":"#N/A"},{"$error":"#N/A"},{"$error":"#N/A"},{"$error":"#N/A"},{"$error":"#N/A"},{"$error":"#N/A"},"N/A",{"$error":"#N/A"},{"$error":"#N/A"},{"$error":"#N/A"},{"$error":"#N/A"},{"$error":"#N/A"},{"$error":"#N/A"},{"$error":"#N/A"},{"$error":"#N/A"},{"$error":"#N/A"},{"$error":"#N/A"},{"$error":"#N/A"},{"$error":"#N/A"},{"$error":"#N/A"},null,null,null,null,null,null,null,null,null,null,null,""]
[null,null,0,"",{"$f":"IFERROR(INDEX('Scope and Prelim. Cost Est.'!$B$26:$B$125,SMALL(IF('Scope and Prelim. Cost Est.'!$F$26:$F$125=\"Yes\",ROW('Scope and Prelim. Cost Est.'!$F$26:$F$125)-ROW('Scope and Prelim. Cost Est.'!$F$26)+1),ROWS('Scope and Prelim. Cost Est.'!$F$26:F79))),\"\")","v":""},"",{"$f":"IFERROR(VLOOKUP($E75,MeasuresLookup,18,FALSE)+VLOOKUP($E75,MeasuresLookup,19,FALSE)+(VLOOKUP($E75,MeasuresLookup,16,FALSE)+VLOOKUP($E75,MeasuresLookup,17,FALSE))*Calcs!$B$90,0)","v":0},{"$f":"IFERROR((VLOOKUP($E75,MeasuresLookup,16,FALSE)+VLOOKUP($E75,MeasuresLookup,17,FALSE))*Calcs!$B$90*Calcs!$B$91,0)+IFERROR((VLOOKUP($E75,MeasuresLookup,18,FALSE)+VLOOKUP($E75,MeasuresLookup,19,FALSE))*VLOOKUP(VLOOKUP($E75,MeasuresLookup,20,FALSE),SiteToSource,2,FALSE),0)","v":0},{"$f":"IF('Energy and Water Use'!$M$33>0,H75/('Energy and Water Use'!$AN$33/1000),0)","v":0},"*\n*\n*\n*\n*\n*","",null,null,"","","","",null,"",{"$error":"#N/A"},0,0,0,{"$error":"#N/A"},{"$error":"#N/A"},{"$error":"#N/A"},{"$error":"#N/A"},{"$error":"#N/A"},{"$error":"#N/A"},{"$error":"#N/A"},{"$error":"#N/A"},{"$error":"#N/A"},"N/A",{"$error":"#N/A"},{"$error":"#N/A"},{"$error":"#N/A"},{"$error":"#N/A"},{"$error":"#N/A"},{"$error":"#N/A"},{"$error":"#N/A"},{"$error":"#N/A"},{"$error":"#N/A"},{"$error":"#N/A"},{"$error":"#N/A"},{"$error":"#N/A"},{"$error":"#N/A"},null,null,null,null,null,null,null,null,null,null,null,""]
[null,null,0,"",{"$f":"IFERROR(INDEX('Scope and Prelim. Cost Est.'!$B$26:$B$125,SMALL(IF('Scope and Prelim. Cost Est.'!$F$26:$F$125=\"Yes\",ROW('Scope and Prelim. Cost Est.'!$F$26:$F$125)-ROW('Scope and Prelim. Cost Est.'!$F$26)+1),ROWS('Scope and Prelim. Cost Est.'!$F$26:F80))),\"\")","v":""},"",{"$f":"IFERROR(VLOOKUP($E76,MeasuresLookup,18,FALSE)+VLOOKUP($E76,MeasuresLookup,19,FALSE)+(VLOOKUP($E76,MeasuresLookup,16,FALSE)+VLOOKUP($E76,MeasuresLookup,17,FALSE))*Calcs!$B$90,0)","v":0},{"$f":"IFERROR((VLOOKUP($E76,MeasuresLookup,16,FALSE)+VLOOKUP($E76,MeasuresLookup,17,FALSE))*Calcs!$B$90*Calcs!$B$91,0)+IFERROR((VLOOKUP($E76,MeasuresLookup,18,FALSE)+VLOOKUP($E76,MeasuresLookup,19,FALSE))*VLOOKUP(VLOOKUP($E76,MeasuresLookup,20,FALSE),SiteToSource,2,FALSE),0)","v":0},{"$f":"IF('Energy and Water Use'!$M$33>0,H76/('Energy and Water Use'!$AN$33/1000),0)","v":0},"*\n*\n*\n*\n*\n*","",null,null,"","","","",null,"",{"$error":"#N/A"},0,0,0,{"$error":"#N/A"},{"$error":"#N/A"},{"$error":"#N/A"},{"$error":"#N/A"},{"$error":"#N/A"},{"$error":"#N/A"},{"$error":"#N/A"},{"$error":"#N/A"},{"$error":"#N/A"},"N/A",{"$error":"#N/A"},{"$error":"#N/A"},{"$error":"#N/A"},{"$error":"#N/A"},{"$error":"#N/A"},{"$error":"#N/A"},{"$error":"#N/A"},{"$error":"#N/A"},{"$error":"#N/A"},{"$error":"#N/A"},{"$error":"#N/A"},{"$error":"#N/A"},{"$error":"#N/A"},null,null,null,null,null,null,null,null,null,null,null,""]
[null,null,0,"",{"$f":"IFERROR(INDEX('Scope and Prelim. Cost Est.'!$B$26:$B$125,SMALL(IF('Scope and Prelim. Cost Est.'!$F$26:$F$125=\"Yes\",ROW('Scope and Prelim. Cost Est.'!$F$26:$F$125)-ROW('Scope and Prelim. Cost Est.'!$F$26)+1),ROWS('Scope and Prelim. Cost Est.'!$F$26:F81))),\"\")","v":""},"",{"$f":"IFERROR(VLOOKUP($E77,MeasuresLookup,18,FALSE)+VLOOKUP($E77,MeasuresLookup,19,FALSE)+(VLOOKUP($E77,MeasuresLookup,16,FALSE)+VLOOKUP($E77,MeasuresLookup,17,FALSE))*Calcs!$B$90,0)","v":0},{"$f":"IFERROR((VLOOKUP($E77,MeasuresLookup,16,FALSE)+VLOOKUP($E77,MeasuresLookup,17,FALSE))*Calcs!$B$90*Calcs!$B$91,0)+IFERROR((VLOOKUP($E77,MeasuresLookup,18,FALSE)+VLOOKUP($E77,MeasuresLookup,19,FALSE))*VLOOKUP(VLOOKUP($E77,MeasuresLookup,20,FALSE),SiteToSource,2,FALSE),0)","v":0},{"$f":"IF('Energy and Water Use'!$M$33>0,H77/('Energy and Water Use'!$AN$33/1000),0)","v":0},"*\n*\n*\n*\n*\n*","",null,null,"","","","",null,"",{"$error":"#N/A"},0,0,0,{"$error":"#N/A"},{"$error":"#N/A"},{"$error":"#N/A"},{"$error":"#N/A"},{"$error":"#N/A"},{"$error":"#N/A"},{"$error":"#N/A"},{"$error":"#N/A"},{"$error":"#N/A"},"N/A",{"$error":"#N/A"},{"$error":"#N/A"},{"$error":"#N/A"},{"$error":"#N/A"},{"$error":"#N/A"},{"$error":"#N/A"},{"$error":"#N/A"},{"$error":"#N/A"},{"$error":"#N/A"},{"$error":"#N/A"},{"$error":"#N/A"},{"$error":"#N/A"},{"$error":"#N/A"},null,null,null,null,null,null,null,null,null,null,null,""]
[null,null,0,"",{"$f":"IFERROR(INDEX('Scope and Prelim. Cost Est.'!$B$26:$B$125,SMALL(IF('Scope and Prelim. Cost Est.'!$F$26:$F$125=\"Yes\",ROW('Scope and Prelim. Cost Est.'!$F$26:$F$125)-ROW('Scope and Prelim. Cost Est.'!$F$26)+1),ROWS('Scope and Prelim. Cost Est.'!$F$26:F82))),\"\")","v":""},"",{"$f":"IFERROR(VLOOKUP($E78,MeasuresLookup,18,FALSE)+VLOOKUP($E78,MeasuresLookup,19,FALSE)+(VLOOKUP($E78,MeasuresLookup,16,FALSE)+VLOOKUP($E78,MeasuresLookup,17,FALSE))*Calcs!$B$90,0)","v":0},{"$f":"IFERROR((VLOOKUP($E78,MeasuresLookup,16,FALSE)+VLOOKUP($E78,MeasuresLookup,17,FALSE))*Calcs!$B$90*Calcs!$B$91,0)+IFERROR((VLOOKUP($E78,MeasuresLookup,18,FALSE)+VLOOKUP($E78,MeasuresLookup,19,FALSE))*VLOOKUP(VLOOKUP($E78,MeasuresLookup,20,FALSE),SiteToSource,2,FALSE),0)","v":0},{"$f":"IF('Energy and Water Use'!$M$33>0,H78/('Energy and Water Use'!$AN$33/1000),0)","v":0},"*\n*\n*\n*\n*\n*","",null,null,"","","","",null,"",{"$error":"#N/A"},0,0,0,{"$error":"#N/A"},{"$error":"#N/A"},{"$error":"#N/A"},{"$error":"#N/A"},{"$error":"#N/A"},{"$error":"#N/A"},{"$error":"#N/A"},{"$error":"#N/A"},{"$error":"#N/A"},"N/A",{"$error":"#N/A"},{"$error":"#N/A"},{"$error":"#N/A"},{"$error":"#N/A"},{"$error":"#N/A"},{"$error":"#N/A"},{"$error":"#N/A"},{"$error":"#N/A"},{"$error":"#N/A"},{"$error":"#N/A"},{"$error":"#N/A"},{"$error":"#N/A"},{"$error":"#N/A"},null,null,null,null,null,null,null,null,null,null,null,""]
[null,null,0,"",{"$f":"IFERROR(INDEX('Scope and Prelim. Cost Est.'!$B$26:$B$125,SMALL(IF('Scope and Prelim. Cost Est.'!$F$26:$F$125=\"Yes\",ROW('Scope and Prelim. Cost Est.'!$F$26:$F$125)-ROW('Scope and Prelim. Cost Est.'!$F$26)+1),ROWS('Scope and Prelim. Cost Est.'!$F$26:F83))),\"\")","v":""},"",{"$f":"IFERROR(VLOOKUP($E79,MeasuresLookup,18,FALSE)+VLOOKUP($E79,MeasuresLookup,19,FALSE)+(VLOOKUP($E79,MeasuresLookup,16,FALSE)+VLOOKUP($E79,MeasuresLookup,17,FALSE))*Calcs!$B$90,0)","v":0},{"$f":"IFERROR((VLOOKUP($E79,MeasuresLookup,16,FALSE)+VLOOKUP($E79,MeasuresLookup,17,FALSE))*Calcs!$B$90*Calcs!$B$91,0)+IFERROR((VLOOKUP($E79,MeasuresLookup,18,FALSE)+VLOOKUP($E79,MeasuresLookup,19,FALSE))*VLOOKUP(VLOOKUP($E79,MeasuresLookup,20,FALSE),SiteToSource,2,FALSE),0)","v":0},{"$f":"IF('Energy and Water Use'!$M$33>0,H79/('Energy and Water Use'!$AN$33/1000),0)","v":0},"*\n*\n*\n*\n*\n*","",null,null,"","","","",null,"",{"$error":"#N/A"},0,0,0,{"$error":"#N/A"},{"$error":"#N/A"},{"$error":"#N/A"},{"$error":"#N/A"},{"$error":"#N/A"},{"$error":"#N/A"},{"$error":"#N/A"},{"$error":"#N/A"},{"$error":"#N/A"},"N/A",{"$error":"#N/A"},{"$error":"#N/A"},{"$error":"#N/A"},{"$error":"#N/A"},{"$error":"#N/A"},{"$error":"#N/A"},{"$error":"#N/A"},{"$error":"#N/A"},{"$error":"#N/A"},{"$error":"#N/A"},{"$error":"#N/A"},{"$error":"#N/A"},{"$error":"#N/A"},null,null,null,null,null,null,null,null,null,null,null,""]
[null,null,0,"",{"$f":"IFERROR(INDEX('Scope and Prelim. Cost Est.'!$B$26:$B$125,SMALL(IF('Scope and Prelim. Cost Est.'!$F$26:$F$125=\"Yes\",ROW('Scope and Prelim. Cost Est.'!$F$26:$F$125)-ROW('Scope and Prelim. Cost Est.'!$F$26)+1),ROWS('Scope and Prelim. Cost Est.'!$F$26:F84))),\"\")","v":""},"",{"$f":"IFERROR(VLOOKUP($E80,MeasuresLookup,18,FALSE)+VLOOKUP($E80,MeasuresLookup,19,FALSE)+(VLOOKUP($E80,MeasuresLookup,16,FALSE)+VLOOKUP($E80,MeasuresLookup,17,FALSE))*Calcs!$B$90,0)","v":0},{"$f":"IFERROR((VLOOKUP($E80,MeasuresLookup,16,FALSE)+VLOOKUP($E80,MeasuresLookup,17,FALSE))*Calcs!$B$90*Calcs!$B$91,0)+IFERROR((VLOOKUP($E80,MeasuresLookup,18,FALSE)+VLOOKUP($E80,MeasuresLookup,19,FALSE))*VLOOKUP(VLOOKUP($E80,MeasuresLookup,20,FALSE),SiteToSource,2,FALSE),0)","v":0},{"$f":"IF('Energy and Water Use'!$M$33>0,H80/('Energy and Water Use'!$AN$33/1000),0)","v":0},"*\n*\n*\n*\n*\n*","",null,null,"","","","",null,"",{"$error":"#N/A"},0,0,0,{"$error":"#N/A"},{"$error":"#N/A"},{"$error":"#N/A"},{"$error":"#N/A"},{"$error":"#N/A"},{"$error":"#N/A"},{"$error":"#N/A"},{"$error":"#N/A"},{"$error":"#N/A"},"N/A",{"$error":"#N/A"},{"$error":"#N/A"},{"$error":"#N/A"},{"$error":"#N/A"},{"$error":"#N/A"},{"$error":"#N/A"},{"$error":"#N/A"},{"$error":"#N/A"},{"$error":"#N/A"},{"$error":"#N/A"},{"$error":"#N/A"},{"$error":"#N/A"},{"$error":"#N/A"},null,null,null,null,null,null,null,null,null,null,null,""]
[null,null,0,"",{"$f":"IFERROR(INDEX('Scope and Prelim. Cost Est.'!$B$26:$B$125,SMALL(IF('Scope and Prelim. Cost Est.'!$F$26:$F$125=\"Yes\",ROW('Scope and Prelim. Cost Est.'!$F$26:$F$125)-ROW('Scope and Prelim. Cost Est.'!$F$26)+1),ROWS('Scope and Prelim. Cost Est.'!$F$26:F85))),\"\")","v":""},"",{"$f":"IFERROR(VLOOKUP($E81,MeasuresLookup,18,FALSE)+VLOOKUP($E81,MeasuresLookup,19,FALSE)+(VLOOKUP($E81,MeasuresLookup,16,FALSE)+VLOOKUP($E81,MeasuresLookup,17,FALSE))*Calcs!$B$90,0)","v":0},{"$f":"IFERROR((VLOOKUP($E81,MeasuresLookup,16,FALSE)+VLOOKUP($E81,MeasuresLookup,17,FALSE))*Calcs!$B$90*Calcs!$B$91,0)+IFERROR((VLOOKUP($E81,MeasuresLookup,18,FALSE)+VLOOKUP($E81,MeasuresLookup,19,FALSE))*VLOOKUP(VLOOKUP($E81,MeasuresLookup,20,FALSE),SiteToSource,2,FALSE),0)","v":0},{"$f":"IF('Energy and Water Use'!$M$33>0,H81/('Energy and Water Use'!$AN$33/1000),0)","v":0},"*\n*\n*\n*\n*\n*","",null,null,"","","","",null,"",{"$error":"#N/A"},0,0,0,{"$error":"#N/A"},{"$error":"#N/A"},{"$error":"#N/A"},{"$error":"#N/A"},{"$error":"#N/A"},{"$error":"#N/A"},{"$error":"#N/A"},{"$error":"#N/A"},{"$error":"#N/A"},"N/A",{"$error":"#N/A"},{"$error":"#N/A"},{"$error":"#N/A"},{"$error":"#N/A"},{"$error":"#N/A"},{"$error":"#N/A"},{"$error":"#N/A"},{"$error":"#N/A"},{"$error":"#N/A"},{"$error":"#N/A"},{"$error":"#N/A"},{"$error":"#N/A"},{"$error":"#N/A"},null,null,null,null,null,null,null,null,null,null,null,""]
[null,null,0,"",{"$f":"IFERROR(INDEX('Scope and Prelim. Cost Est.'!$B$26:$B$125,SMALL(IF('Scope and Prelim. Cost Est.'!$F$26:$F$125=\"Yes\",ROW('Scope and Prelim. Cost Est.'!$F$26:$F$125)-ROW('Scope and Prelim. Cost Est.'!$F$26)+1),ROWS('Scope and Prelim. Cost Est.'!$F$26:F86))),\"\")","v":""},"",{"$f":"IFERROR(VLOOKUP($E82,MeasuresLookup,18,FALSE)+VLOOKUP($E82,MeasuresLookup,19,FALSE)+(VLOOKUP($E82,MeasuresLookup,16,FALSE)+VLOOKUP($E82,MeasuresLookup,17,FALSE))*Calcs!$B$90,0)","v":0},{"$f":"IFERROR((VLOOKUP($E82,MeasuresLookup,16,FALSE)+VLOOKUP($E82,MeasuresLookup,17,FALSE))*Calcs!$B$90*Calcs!$B$91,0)+IFERROR((VLOOKUP($E82,MeasuresLookup,18,FALSE)+VLOOKUP($E82,MeasuresLookup,19,FALSE))*VLOOKUP(VLOOKUP($E82,MeasuresLookup,20,FALSE),SiteToSource,2,FALSE),0)","v":0},{"$f":"IF('Energy and Water Use'!$M$33>0,H82/('Energy and Water Use'!$AN$33/1000),0)","v":0},"*\n*\n*\n*\n*\n*","",null,null,"","","","",null,"",{"$error":"#N/A"},0,0,0,{"$error":"#N/A"},{"$error":"#N/A"},{"$error":"#N/A"},{"$error":"#N/A"},{"$error":"#N/A"},{"$error":"#N/A"},{"$error":"#N/A"},{"$error":"#N/A"},{"$error":"#N/A"},"N/A",{"$error":"#N/A"},{"$error":"#N/A"},{"$error":"#N/A"},{"$error":"#N/A"},{"$error":"#N/A"},{"$error":"#N/A"},{"$error":"#N/A"},{"$error":"#N/A"},{"$error":"#N/A"},{"$error":"#N/A"},{"$error":"#N/A"},{"$error":"#N/A"},{"$error":"#N/A"},null,null,null,null,null,null,null,null,null,null,null,""]
[null,null,0,"",{"$f":"IFERROR(INDEX('Scope and Prelim. Cost Est.'!$B$26:$B$125,SMALL(IF('Scope and Prelim. Cost Est.'!$F$26:$F$125=\"Yes\",ROW('Scope and Prelim. Cost Est.'!$F$26:$F$125)-ROW('Scope and Prelim. Cost Est.'!$F$26)+1),ROWS('Scope and Prelim. Cost Est.'!$F$26:F87))),\"\")","v":""},"",{"$f":"IFERROR(VLOOKUP($E83,MeasuresLookup,18,FALSE)+VLOOKUP($E83,MeasuresLookup,19,FALSE)+(VLOOKUP($E83,MeasuresLookup,16,FALSE)+VLOOKUP($E83,MeasuresLookup,17,FALSE))*Calcs!$B$90,0)","v":0},{"$f":"IFERROR((VLOOKUP($E83,MeasuresLookup,16,FALSE)+VLOOKUP($E83,MeasuresLookup,17,FALSE))*Calcs!$B$90*Calcs!$B$91,0)+IFERROR((VLOOKUP($E83,MeasuresLookup,18,FALSE)+VLOOKUP($E83,MeasuresLookup,19,FALSE))*VLOOKUP(VLOOKUP($E83,MeasuresLookup,20,FALSE),SiteToSource,2,FALSE),0)","v":0},{"$f":"IF('Energy and Water Use'!$M$33>0,H83/('Energy and Water Use'!$AN$33/1000),0)","v":0},"*\n*\n*\n*\n*\n*","",null,null,"","","","",null,"",{"$error":"#N/A"},0,0,0,{"$error":"#N/A"},{"$error":"#N/A"},{"$error":"#N/A"},{"$error":"#N/A"},{"$error":"#N/A"},{"$error":"#N/A"},{"$error":"#N/A"},{"$error":"#N/A"},{"$error":"#N/A"},"N/A",{"$error":"#N/A"},{"$error":"#N/A"},{"$error":"#N/A"},{"$error":"#N/A"},{"$error":"#N/A"},{"$error":"#N/A"},{"$error":"#N/A"},{"$error":"#N/A"},{"$error":"#N/A"},{"$error":"#N/A"},{"$error":"#N/A"},{"$error":"#N/A"},{"$error":"#N/A"},null,null,null,null,null,null,null,null,null,null,null,""]
[null,null,0,"",{"$f":"IFERROR(INDEX('Scope and Prelim. Cost Est.'!$B$26:$B$125,SMALL(IF('Scope and Prelim. Cost Est.'!$F$26:$F$125=\"Yes\",ROW('Scope and Prelim. Cost Est.'!$F$26:$F$125)-ROW('Scope and Prelim. Cost Est.'!$F$26)+1),ROWS('Scope and Prelim. Cost Est.'!$F$26:F88))),\"\")","v":""},"",{"$f":"IFERROR(VLOOKUP($E84,MeasuresLookup,18,FALSE)+VLOOKUP($E84,MeasuresLookup,19,FALSE)+(VLOOKUP($E84,MeasuresLookup,16,FALSE)+VLOOKUP($E84,MeasuresLookup,17,FALSE))*Calcs!$B$90,0)","v":0},{"$f":"IFERROR((VLOOKUP($E84,MeasuresLookup,16,FALSE)+VLOOKUP($E84,MeasuresLookup,17,FALSE))*Calcs!$B$90*Calcs!$B$91,0)+IFERROR((VLOOKUP($E84,MeasuresLookup,18,FALSE)+VLOOKUP($E84,MeasuresLookup,19,FALSE))*VLOOKUP(VLOOKUP($E84,MeasuresLookup,20,FALSE),SiteToSource,2,FALSE),0)","v":0},{"$f":"IF('Energy and Water Use'!$M$33>0,H84/('Energy and Water Use'!$AN$33/1000),0)","v":0},"*\n*\n*\n*\n*\n*","",null,null,"","","","",null,"",{"$error":"#N/A"},0,0,0,{"$error":"#N/A"},{"$error":"#N/A"},{"$error":"#N/A"},{"$error":"#N/A"},{"$error":"#N/A"},{"$error":"#N/A"},{"$error":"#N/A"},{"$error":"#N/A"},{"$error":"#N/A"},"N/A",{"$error":"#N/A"},{"$error":"#N/A"},{"$error":"#N/A"},{"$error":"#N/A"},{"$error":"#N/A"},{"$error":"#N/A"},{"$error":"#N/A"},{"$error":"#N/A"},{"$error":"#N/A"},{"$error":"#N/A"},{"$error":"#N/A"},{"$error":"#N/A"},{"$error":"#N/A"},null,null,null,null,null,null,null,null,null,null,null,""]
[null,null,0,"",{"$f":"IFERROR(INDEX('Scope and Prelim. Cost Est.'!$B$26:$B$125,SMALL(IF('Scope and Prelim. Cost Est.'!$F$26:$F$125=\"Yes\",ROW('Scope and Prelim. Cost Est.'!$F$26:$F$125)-ROW('Scope and Prelim. Cost Est.'!$F$26)+1),ROWS('Scope and Prelim. Cost Est.'!$F$26:F89))),\"\")","v":""},"",{"$f":"IFERROR(VLOOKUP($E85,MeasuresLookup,18,FALSE)+VLOOKUP($E85,MeasuresLookup,19,FALSE)+(VLOOKUP($E85,MeasuresLookup,16,FALSE)+VLOOKUP($E85,MeasuresLookup,17,FALSE))*Calcs!$B$90,0)","v":0},{"$f":"IFERROR((VLOOKUP($E85,MeasuresLookup,16,FALSE)+VLOOKUP($E85,MeasuresLookup,17,FALSE))*Calcs!$B$90*Calcs!$B$91,0)+IFERROR((VLOOKUP($E85,MeasuresLookup,18,FALSE)+VLOOKUP($E85,MeasuresLookup,19,FALSE))*VLOOKUP(VLOOKUP($E85,MeasuresLookup,20,FALSE),SiteToSource,2,FALSE),0)","v":0},{"$f":"IF('Energy and Water Use'!$M$33>0,H85/('Energy and Water Use'!$AN$33/1000),0)","v":0},"*\n*\n*\n*\n*\n*","",null,null,"","","","",null,"",{"$error":"#N/A"},0,0,0,{"$error":"#N/A"},{"$error":"#N/A"},{"$error":"#N/A"},{"$error":"#N/A"},{"$error":"#N/A"},{"$error":"#N/A"},{"$error":"#N/A"},{"$error":"#N/A"},{"$error":"#N/A"},"N/A",{"$error":"#N/A"},{"$error":"#N/A"},{"$error":"#N/A"},{"$error":"#N/A"},{"$error":"#N/A"},{"$error":"#N/A"},{"$error":"#N/A"},{"$error":"#N/A"},{"$error":"#N/A"},{"$error":"#N/A"},{"$error":"#N/A"},{"$error":"#N/A"},{"$error":"#N/A"},null,null,null,null,null,null,null,null,null,null,null,""]
[null,null,0,"",{"$f":"IFERROR(INDEX('Scope and Prelim. Cost Est.'!$B$26:$B$125,SMALL(IF('Scope and Prelim. Cost Est.'!$F$26:$F$125=\"Yes\",ROW('Scope and Prelim. Cost Est.'!$F$26:$F$125)-ROW('Scope and Prelim. Cost Est.'!$F$26)+1),ROWS('Scope and Prelim. Cost Est.'!$F$26:F90))),\"\")","v":""},"",{"$f":"IFERROR(VLOOKUP($E86,MeasuresLookup,18,FALSE)+VLOOKUP($E86,MeasuresLookup,19,FALSE)+(VLOOKUP($E86,MeasuresLookup,16,FALSE)+VLOOKUP($E86,MeasuresLookup,17,FALSE))*Calcs!$B$90,0)","v":0},{"$f":"IFERROR((VLOOKUP($E86,MeasuresLookup,16,FALSE)+VLOOKUP($E86,MeasuresLookup,17,FALSE))*Calcs!$B$90*Calcs!$B$91,0)+IFERROR((VLOOKUP($E86,MeasuresLookup,18,FALSE)+VLOOKUP($E86,MeasuresLookup,19,FALSE))*VLOOKUP(VLOOKUP($E86,MeasuresLookup,20,FALSE),SiteToSource,2,FALSE),0)","v":0},{"$f":"IF('Energy and Water Use'!$M$33>0,H86/('Energy and Water Use'!$AN$33/1000),0)","v":0},"*\n*\n*\n*\n*\n*","",null,null,"","","","",null,"",{"$error":"#N/A"},0,0,0,{"$error":"#N/A"},{"$error":"#N/A"},{"$error":"#N/A"},{"$error":"#N/A"},{"$error":"#N/A"},{"$error":"#N/A"},{"$error":"#N/A"},{"$error":"#N/A"},{"$error":"#N/A"},"N/A",{"$error":"#N/A"},{"$error":"#N/A"},{"$error":"#N/A"},{"$error":"#N/A"},{"$error":"#N/A"},{"$error":"#N/A"},{"$error":"#N/A"},{"$error":"#N/A"},{"$error":"#N/A"},{"$error":"#N/A"},{"$error":"#N/A"},{"$error":"#N/A"},{"$error":"#N/A"},null,null,null,null,null,null,null,null,null,null,null,""]
[null,null,0,"",{"$f":"IFERROR(INDEX('Scope and Prelim. Cost Est.'!$B$26:$B$125,SMALL(IF('Scope and Prelim. Cost Est.'!$F$26:$F$125=\"Yes\",ROW('Scope and Prelim. Cost Est.'!$F$26:$F$125)-ROW('Scope and Prelim. Cost Est.'!$F$26)+1),ROWS('Scope and Prelim. Cost Est.'!$F$26:F91))),\"\")","v":""},"",{"$f":"IFERROR(VLOOKUP($E87,MeasuresLookup,18,FALSE)+VLOOKUP($E87,MeasuresLookup,19,FALSE)+(VLOOKUP($E87,MeasuresLookup,16,FALSE)+VLOOKUP($E87,MeasuresLookup,17,FALSE))*Calcs!$B$90,0)","v":0},{"$f":"IFERROR((VLOOKUP($E87,MeasuresLookup,16,FALSE)+VLOOKUP($E87,MeasuresLookup,17,FALSE))*Calcs!$B$90*Calcs!$B$91,0)+IFERROR((VLOOKUP($E87,MeasuresLookup,18,FALSE)+VLOOKUP($E87,MeasuresLookup,19,FALSE))*VLOOKUP(VLOOKUP($E87,MeasuresLookup,20,FALSE),SiteToSource,2,FALSE),0)","v":0},{"$f":"IF('Energy and Water Use'!$M$33>0,H87/('Energy and Water Use'!$AN$33/1000),0)","v":0},"*\n*\n*\n*\n*\n*","",null,null,"","","","",null,"",{"$error":"#N/A"},0,0,0,{"$error":"#N/A"},{"$error":"#N/A"},{"$error":"#N/A"},{"$error":"#N/A"},{"$error":"#N/A"},{"$error":"#N/A"},{"$error":"#N/A"},{"$error":"#N/A"},{"$error":"#N/A"},"N/A",{"$error":"#N/A"},{"$error":"#N/A"},{"$error":"#N/A"},{"$error":"#N/A"},{"$error":"#N/A"},{"$error":"#N/A"},{"$error":"#N/A"},{"$error":"#N/A"},{"$error":"#N/A"},{"$error":"#N/A"},{"$error":"#N/A"},{"$error":"#N/A"},{"$error":"#N/A"},null,null,null,null,null,null,null,null,null,null,null,""]
[null,null,0,"",{"$f":"IFERROR(INDEX('Scope and Prelim. Cost Est.'!$B$26:$B$125,SMALL(IF('Scope and Prelim. Cost Est.'!$F$26:$F$125=\"Yes\",ROW('Scope and Prelim. Cost Est.'!$F$26:$F$125)-ROW('Scope and Prelim. Cost Est.'!$F$26)+1),ROWS('Scope and Prelim. Cost Est.'!$F$26:F92))),\"\")","v":""},"",{"$f":"IFERROR(VLOOKUP($E88,MeasuresLookup,18,FALSE)+VLOOKUP($E88,MeasuresLookup,19,FALSE)+(VLOOKUP($E88,MeasuresLookup,16,FALSE)+VLOOKUP($E88,MeasuresLookup,17,FALSE))*Calcs!$B$90,0)","v":0},{"$f":"IFERROR((VLOOKUP($E88,MeasuresLookup,16,FALSE)+VLOOKUP($E88,MeasuresLookup,17,FALSE))*Calcs!$B$90*Calcs!$B$91,0)+IFERROR((VLOOKUP($E88,MeasuresLookup,18,FALSE)+VLOOKUP($E88,MeasuresLookup,19,FALSE))*VLOOKUP(VLOOKUP($E88,MeasuresLookup,20,FALSE),SiteToSource,2,FALSE),0)","v":0},{"$f":"IF('Energy and Water Use'!$M$33>0,H88/('Energy and Water Use'!$AN$33/1000),0)","v":0},"*\n*\n*\n*\n*\n*","",null,null,"","","","",null,"",{"$error":"#N/A"},0,0,0,{"$error":"#N/A"},{"$error":"#N/A"},{"$error":"#N/A"},{"$error":"#N/A"},{"$error":"#N/A"},{"$error":"#N/A"},{"$error":"#N/A"},{"$error":"#N/A"},{"$error":"#N/A"},"N/A",{"$error":"#N/A"},{"$error":"#N/A"},{"$error":"#N/A"},{"$error":"#N/A"},{"$error":"#N/A"},{"$error":"#N/A"},{"$error":"#N/A"},{"$error":"#N/A"},{"$error":"#N/A"},{"$error":"#N/A"},{"$error":"#N/A"},{"$error":"#N/A"},{"$error":"#N/A"},null,null,null,null,null,null,null,null,null,null,null,""]
[null,null,0,"",{"$f":"IFERROR(INDEX('Scope and Prelim. Cost Est.'!$B$26:$B$125,SMALL(IF('Scope and Prelim. Cost Est.'!$F$26:$F$125=\"Yes\",ROW('Scope and Prelim. Cost Est.'!$F$26:$F$125)-ROW('Scope and Prelim. Cost Est.'!$F$26)+1),ROWS('Scope and Prelim. Cost Est.'!$F$26:F93))),\"\")","v":""},"",{"$f":"IFERROR(VLOOKUP($E89,MeasuresLookup,18,FALSE)+VLOOKUP($E89,MeasuresLookup,19,FALSE)+(VLOOKUP($E89,MeasuresLookup,16,FALSE)+VLOOKUP($E89,MeasuresLookup,17,FALSE))*Calcs!$B$90,0)","v":0},{"$f":"IFERROR((VLOOKUP($E89,MeasuresLookup,16,FALSE)+VLOOKUP($E89,MeasuresLookup,17,FALSE))*Calcs!$B$90*Calcs!$B$91,0)+IFERROR((VLOOKUP($E89,MeasuresLookup,18,FALSE)+VLOOKUP($E89,MeasuresLookup,19,FALSE))*VLOOKUP(VLOOKUP($E89,MeasuresLookup,20,FALSE),SiteToSource,2,FALSE),0)","v":0},{"$f":"IF('Energy and Water Use'!$M$33>0,H89/('Energy and Water Use'!$AN$33/1000),0)","v":0},"*\n*\n*\n*\n*\n*","",null,null,"","","","",null,"",{"$error":"#N/A"},0,0,0,{"$error":"#N/A"},{"$error":"#N/A"},{"$error":"#N/A"},{"$error":"#N/A"},{"$error":"#N/A"},{"$error":"#N/A"},{"$error":"#N/A"},{"$error":"#N/A"},{"$error":"#N/A"},"N/A",{"$error":"#N/A"},{"$error":"#N/A"},{"$error":"#N/A"},{"$error":"#N/A"},{"$error":"#N/A"},{"$error":"#N/A"},{"$error":"#N/A"},{"$error":"#N/A"},{"$error":"#N/A"},{"$error":"#N/A"},{"$error":"#N/A"},{"$error":"#N/A"},{"$error":"#N/A"},null,null,null,null,null,null,null,null,null,null,null,""]
[null,null,0,"",{"$f":"IFERROR(INDEX('Scope and Prelim. Cost Est.'!$B$26:$B$125,SMALL(IF('Scope and Prelim. Cost Est.'!$F$26:$F$125=\"Yes\",ROW('Scope and Prelim. Cost Est.'!$F$26:$F$125)-ROW('Scope and Prelim. Cost Est.'!$F$26)+1),ROWS('Scope and Prelim. Cost Est.'!$F$26:F94))),\"\")","v":""},"",{"$f":"IFERROR(VLOOKUP($E90,MeasuresLookup,18,FALSE)+VLOOKUP($E90,MeasuresLookup,19,FALSE)+(VLOOKUP($E90,MeasuresLookup,16,FALSE)+VLOOKUP($E90,MeasuresLookup,17,FALSE))*Calcs!$B$90,0)","v":0},{"$f":"IFERROR((VLOOKUP($E90,MeasuresLookup,16,FALSE)+VLOOKUP($E90,MeasuresLookup,17,FALSE))*Calcs!$B$90*Calcs!$B$91,0)+IFERROR((VLOOKUP($E90,MeasuresLookup,18,FALSE)+VLOOKUP($E90,MeasuresLookup,19,FALSE))*VLOOKUP(VLOOKUP($E90,MeasuresLookup,20,FALSE),SiteToSource,2,FALSE),0)","v":0},{"$f":"IF('Energy and Water Use'!$M$33>0,H90/('Energy and Water Use'!$AN$33/1000),0)","v":0},"*\n*\n*\n*\n*\n*","",null,null,"","","","",null,"",{"$error":"#N/A"},0,0,0,{"$error":"#N/A"},{"$error":"#N/A"},{"$error":"#N/A"},{"$error":"#N/A"},{"$error":"#N/A"},{"$error":"#N/A"},{"$error":"#N/A"},{"$error":"#N/A"},{"$error":"#N/A"},"N/A",{"$error":"#N/A"},{"$error":"#N/A"},{"$error":"#N/A"},{"$error":"#N/A"},{"$error":"#N/A"},{"$error":"#N/A"},{"$error":"#N/A"},{"$error":"#N/A"},{"$error":"#N/A"},{"$error":"#N/A"},{"$error":"#N/A"},{"$error":"#N/A"},{"$error":"#N/A"},null,null,null,null,null,null,null,null,null,null,null,""]
[null,null,0,"",{"$f":"IFERROR(INDEX('Scope and Prelim. Cost Est.'!$B$26:$B$125,SMALL(IF('Scope and Prelim. Cost Est.'!$F$26:$F$125=\"Yes\",ROW('Scope and Prelim. Cost Est.'!$F$26:$F$125)-ROW('Scope and Prelim. Cost Est.'!$F$26)+1),ROWS('Scope and Prelim. Cost Est.'!$F$26:F95))),\"\")","v":""},"",{"$f":"IFERROR(VLOOKUP($E91,MeasuresLookup,18,FALSE)+VLOOKUP($E91,MeasuresLookup,19,FALSE)+(VLOOKUP($E91,MeasuresLookup,16,FALSE)+VLOOKUP($E91,MeasuresLookup,17,FALSE))*Calcs!$B$90,0)","v":0},{"$f":"IFERROR((VLOOKUP($E91,MeasuresLookup,16,FALSE)+VLOOKUP($E91,MeasuresLookup,17,FALSE))*Calcs!$B$90*Calcs!$B$91,0)+IFERROR((VLOOKUP($E91,MeasuresLookup,18,FALSE)+VLOOKUP($E91,MeasuresLookup,19,FALSE))*VLOOKUP(VLOOKUP($E91,MeasuresLookup,20,FALSE),SiteToSource,2,FALSE),0)","v":0},{"$f":"IF('Energy and Water Use'!$M$33>0,H91/('Energy and Water Use'!$AN$33/1000),0)","v":0},"*\n*\n*\n*\n*\n*","",null,null,"","","","",null,"",{"$error":"#N/A"},0,0,0,{"$error":"#N/A"},{"$error":"#N/A"},{"$error":"#N/A"},{"$error":"#N/A"},{"$error":"#N/A"},{"$error":"#N/A"},{"$error":"#N/A"},{"$error":"#N/A"},{"$error":"#N/A"},"N/A",{"$error":"#N/A"},{"$error":"#N/A"},{"$error":"#N/A"},{"$error":"#N/A"},{"$error":"#N/A"},{"$error":"#N/A"},{"$error":"#N/A"},{"$error":"#N/A"},{"$error":"#N/A"},{"$error":"#N/A"},{"$error":"#N/A"},{"$error":"#N/A"},{"$error":"#N/A"},null,null,null,null,null,null,null,null,null,null,null,""]
[null,null,0,"",{"$f":"IFERROR(INDEX('Scope and Prelim. Cost Est.'!$B$26:$B$125,SMALL(IF('Scope and Prelim. Cost Est.'!$F$26:$F$125=\"Yes\",ROW('Scope and Prelim. Cost Est.'!$F$26:$F$125)-ROW('Scope and Prelim. Cost Est.'!$F$26)+1),ROWS('Scope and Prelim. Cost Est.'!$F$26:F96))),\"\")","v":""},"",{"$f":"IFERROR(VLOOKUP($E92,MeasuresLookup,18,FALSE)+VLOOKUP($E92,MeasuresLookup,19,FALSE)+(VLOOKUP($E92,MeasuresLookup,16,FALSE)+VLOOKUP($E92,MeasuresLookup,17,FALSE))*Calcs!$B$90,0)","v":0},{"$f":"IFERROR((VLOOKUP($E92,MeasuresLookup,16,FALSE)+VLOOKUP($E92,MeasuresLookup,17,FALSE))*Calcs!$B$90*Calcs!$B$91,0)+IFERROR((VLOOKUP($E92,MeasuresLookup,18,FALSE)+VLOOKUP($E92,MeasuresLookup,19,FALSE))*VLOOKUP(VLOOKUP($E92,MeasuresLookup,20,FALSE),SiteToSource,2,FALSE),0)","v":0},{"$f":"IF('Energy and Water Use'!$M$33>0,H92/('Energy and Water Use'!$AN$33/1000),0)","v":0},"*\n*\n*\n*\n*\n*","",null,null,"","","","",null,"",{"$error":"#N/A"},0,0,0,{"$error":"#N/A"},{"$error":"#N/A"},{"$error":"#N/A"},{"$error":"#N/A"},{"$error":"#N/A"},{"$error":"#N/A"},{"$error":"#N/A"},{"$error":"#N/A"},{"$error":"#N/A"},"N/A",{"$error":"#N/A"},{"$error":"#N/A"},{"$error":"#N/A"},{"$error":"#N/A"},{"$error":"#N/A"},{"$error":"#N/A"},{"$error":"#N/A"},{"$error":"#N/A"},{"$error":"#N/A"},{"$error":"#N/A"},{"$error":"#N/A"},{"$error":"#N/A"},{"$error":"#N/A"},null,null,null,null,null,null,null,null,null,null,null,""]
[null,null,0,"",{"$f":"IFERROR(INDEX('Scope and Prelim. Cost Est.'!$B$26:$B$125,SMALL(IF('Scope and Prelim. Cost Est.'!$F$26:$F$125=\"Yes\",ROW('Scope and Prelim. Cost Est.'!$F$26:$F$125)-ROW('Scope and Prelim. Cost Est.'!$F$26)+1),ROWS('Scope and Prelim. Cost Est.'!$F$26:F97))),\"\")","v":""},"",{"$f":"IFERROR(VLOOKUP($E93,MeasuresLookup,18,FALSE)+VLOOKUP($E93,MeasuresLookup,19,FALSE)+(VLOOKUP($E93,MeasuresLookup,16,FALSE)+VLOOKUP($E93,MeasuresLookup,17,FALSE))*Calcs!$B$90,0)","v":0},{"$f":"IFERROR((VLOOKUP($E93,MeasuresLookup,16,FALSE)+VLOOKUP($E93,MeasuresLookup,17,FALSE))*Calcs!$B$90*Calcs!$B$91,0)+IFERROR((VLOOKUP($E93,MeasuresLookup,18,FALSE)+VLOOKUP($E93,MeasuresLookup,19,FALSE))*VLOOKUP(VLOOKUP($E93,MeasuresLookup,20,FALSE),SiteToSource,2,FALSE),0)","v":0},{"$f":"IF('Energy and Water Use'!$M$33>0,H93/('Energy and Water Use'!$AN$33/1000),0)","v":0},"*\n*\n*\n*\n*\n*","",null,null,"","","","",null,"",{"$error":"#N/A"},0,0,0,{"$error":"#N/A"},{"$error":"#N/A"},{"$error":"#N/A"},{"$error":"#N/A"},{"$error":"#N/A"},{"$error":"#N/A"},{"$error":"#N/A"},{"$error":"#N/A"},{"$error":"#N/A"},"N/A",{"$error":"#N/A"},{"$error":"#N/A"},{"$error":"#N/A"},{"$error":"#N/A"},{"$error":"#N/A"},{"$error":"#N/A"},{"$error":"#N/A"},{"$error":"#N/A"},{"$error":"#N/A"},{"$error":"#N/A"},{"$error":"#N/A"},{"$error":"#N/A"},{"$error":"#N/A"},null,null,null,null,null,null,null,null,null,null,null,""]
[null,null,0,"",{"$f":"IFERROR(INDEX('Scope and Prelim. Cost Est.'!$B$26:$B$125,SMALL(IF('Scope and Prelim. Cost Est.'!$F$26:$F$125=\"Yes\",ROW('Scope and Prelim. Cost Est.'!$F$26:$F$125)-ROW('Scope and Prelim. Cost Est.'!$F$26)+1),ROWS('Scope and Prelim. Cost Est.'!$F$26:F98))),\"\")","v":""},"",{"$f":"IFERROR(VLOOKUP($E94,MeasuresLookup,18,FALSE)+VLOOKUP($E94,MeasuresLookup,19,FALSE)+(VLOOKUP($E94,MeasuresLookup,16,FALSE)+VLOOKUP($E94,MeasuresLookup,17,FALSE))*Calcs!$B$90,0)","v":0},{"$f":"IFERROR((VLOOKUP($E94,MeasuresLookup,16,FALSE)+VLOOKUP($E94,MeasuresLookup,17,FALSE))*Calcs!$B$90*Calcs!$B$91,0)+IFERROR((VLOOKUP($E94,MeasuresLookup,18,FALSE)+VLOOKUP($E94,MeasuresLookup,19,FALSE))*VLOOKUP(VLOOKUP($E94,MeasuresLookup,20,FALSE),SiteToSource,2,FALSE),0)","v":0},{"$f":"IF('Energy and Water Use'!$M$33>0,H94/('Energy and Water Use'!$AN$33/1000),0)","v":0},"*\n*\n*\n*\n*\n*","",null,null,"","","","",null,"",{"$error":"#N/A"},0,0,0,{"$error":"#N/A"},{"$error":"#N/A"},{"$error":"#N/A"},{"$error":"#N/A"},{"$error":"#N/A"},{"$error":"#N/A"},{"$error":"#N/A"},{"$error":"#N/A"},{"$error":"#N/A"},"N/A",{"$error":"#N/A"},{"$error":"#N/A"},{"$error":"#N/A"},{"$error":"#N/A"},{"$error":"#N/A"},{"$error":"#N/A"},{"$error":"#N/A"},{"$error":"#N/A"},{"$error":"#N/A"},{"$error":"#N/A"},{"$error":"#N/A"},{"$error":"#N/A"},{"$error":"#N/A"},null,null,null,null,null,null,null,null,null,null,null,""]
[null,null,0,"",{"$f":"IFERROR(INDEX('Scope and Prelim. Cost Est.'!$B$26:$B$125,SMALL(IF('Scope and Prelim. Cost Est.'!$F$26:$F$125=\"Yes\",ROW('Scope and Prelim. Cost Est.'!$F$26:$F$125)-ROW('Scope and Prelim. Cost Est.'!$F$26)+1),ROWS('Scope and Prelim. Cost Est.'!$F$26:F99))),\"\")","v":""},"",{"$f":"IFERROR(VLOOKUP($E95,MeasuresLookup,18,FALSE)+VLOOKUP($E95,MeasuresLookup,19,FALSE)+(VLOOKUP($E95,MeasuresLookup,16,FALSE)+VLOOKUP($E95,MeasuresLookup,17,FALSE))*Calcs!$B$90,0)","v":0},{"$f":"IFERROR((VLOOKUP($E95,MeasuresLookup,16,FALSE)+VLOOKUP($E95,MeasuresLookup,17,FALSE))*Calcs!$B$90*Calcs!$B$91,0)+IFERROR((VLOOKUP($E95,MeasuresLookup,18,FALSE)+VLOOKUP($E95,MeasuresLookup,19,FALSE))*VLOOKUP(VLOOKUP($E95,MeasuresLookup,20,FALSE),SiteToSource,2,FALSE),0)","v":0},{"$f":"IF('Energy and Water Use'!$M$33>0,H95/('Energy and Water Use'!$AN$33/1000),0)","v":0},"*\n*\n*\n*\n*\n*","",null,null,"","","","",null,"",{"$error":"#N/A"},0,0,0,{"$error":"#N/A"},{"$error":"#N/A"},{"$error":"#N/A"},{"$error":"#N/A"},{"$error":"#N/A"},{"$error":"#N/A"},{"$error":"#N/A"},{"$error":"#N/A"},{"$error":"#N/A"},"N/A",{"$error":"#N/A"},{"$error":"#N/A"},{"$error":"#N/A"},{"$error":"#N/A"},{"$error":"#N/A"},{"$error":"#N/A"},{"$error":"#N/A"},{"$error":"#N/A"},{"$error":"#N/A"},{"$error":"#N/A"},{"$error":"#N/A"},{"$error":"#N/A"},{"$error":"#N/A"},null,null,null,null,null,null,null,null,null,null,null,""]
[null,null,0,"",{"$f":"IFERROR(INDEX('Scope and Prelim. Cost Est.'!$B$26:$B$125,SMALL(IF('Scope and Prelim. Cost Est.'!$F$26:$F$125=\"Yes\",ROW('Scope and Prelim. Cost Est.'!$F$26:$F$125)-ROW('Scope and Prelim. Cost Est.'!$F$26)+1),ROWS('Scope and Prelim. Cost Est.'!$F$26:F100))),\"\")","v":""},"",{"$f":"IFERROR(VLOOKUP($E96,MeasuresLookup,18,FALSE)+VLOOKUP($E96,MeasuresLookup,19,FALSE)+(VLOOKUP($E96,MeasuresLookup,16,FALSE)+VLOOKUP($E96,MeasuresLookup,17,FALSE))*Calcs!$B$90,0)","v":0},{"$f":"IFERROR((VLOOKUP($E96,MeasuresLookup,16,FALSE)+VLOOKUP($E96,MeasuresLookup,17,FALSE))*Calcs!$B$90*Calcs!$B$91,0)+IFERROR((VLOOKUP($E96,MeasuresLookup,18,FALSE)+VLOOKUP($E96,MeasuresLookup,19,FALSE))*VLOOKUP(VLOOKUP($E96,MeasuresLookup,20,FALSE),SiteToSource,2,FALSE),0)","v":0},{"$f":"IF('Energy and Water Use'!$M$33>0,H96/('Energy and Water Use'!$AN$33/1000),0)","v":0},"*\n*\n*\n*\n*\n*","",null,null,"","","","",null,"",{"$error":"#N/A"},0,0,0,{"$error":"#N/A"},{"$error":"#N/A"},{"$error":"#N/A"},{"$error":"#N/A"},{"$error":"#N/A"},{"$error":"#N/A"},{"$error":"#N/A"},{"$error":"#N/A"},{"$error":"#N/A"},"N/A",{"$error":"#N/A"},{"$error":"#N/A"},{"$error":"#N/A"},{"$error":"#N/A"},{"$error":"#N/A"},{"$error":"#N/A"},{"$error":"#N/A"},{"$error":"#N/A"},{"$error":"#N/A"},{"$error":"#N/A"},{"$error":"#N/A"},{"$error":"#N/A"},{"$error":"#N/A"},null,null,null,null,null,null,null,null,null,null,null,""]
[null,null,0,"",{"$f":"IFERROR(INDEX('Scope and Prelim. Cost Est.'!$B$26:$B$125,SMALL(IF('Scope and Prelim. Cost Est.'!$F$26:$F$125=\"Yes\",ROW('Scope and Prelim. Cost Est.'!$F$26:$F$125)-ROW('Scope and Prelim. Cost Est.'!$F$26)+1),ROWS('Scope and Prelim. Cost Est.'!$F$26:F101))),\"\")","v":""},"",{"$f":"IFERROR(VLOOKUP($E97,MeasuresLookup,18,FALSE)+VLOOKUP($E97,MeasuresLookup,19,FALSE)+(VLOOKUP($E97,MeasuresLookup,16,FALSE)+VLOOKUP($E97,MeasuresLookup,17,FALSE))*Calcs!$B$90,0)","v":0},{"$f":"IFERROR((VLOOKUP($E97,MeasuresLookup,16,FALSE)+VLOOKUP($E97,MeasuresLookup,17,FALSE))*Calcs!$B$90*Calcs!$B$91,0)+IFERROR((VLOOKUP($E97,MeasuresLookup,18,FALSE)+VLOOKUP($E97,MeasuresLookup,19,FALSE))*VLOOKUP(VLOOKUP($E97,MeasuresLookup,20,FALSE),SiteToSource,2,FALSE),0)","v":0},{"$f":"IF('Energy and Water Use'!$M$33>0,H97/('Energy and Water Use'!$AN$33/1000),0)","v":0},"*\n*\n*\n*\n*\n*","",null,null,"","","","",null,"",{"$error":"#N/A"},0,0,0,{"$error":"#N/A"},{"$error":"#N/A"},{"$error":"#N/A"},{"$error":"#N/A"},{"$error":"#N/A"},{"$error":"#N/A"},{"$error":"#N/A"},{"$error":"#N/A"},{"$error":"#N/A"},"N/A",{"$error":"#N/A"},{"$error":"#N/A"},{"$error":"#N/A"},{"$error":"#N/A"},{"$error":"#N/A"},{"$error":"#N/A"},{"$error":"#N/A"},{"$error":"#N/A"},{"$error":"#N/A"},{"$error":"#N/A"},{"$error":"#N/A"},{"$error":"#N/A"},{"$error":"#N/A"},null,null,null,null,null,null,null,null,null,null,null,""]
[null,null,0,"",{"$f":"IFERROR(INDEX('Scope and Prelim. Cost Est.'!$B$26:$B$125,SMALL(IF('Scope and Prelim. Cost Est.'!$F$26:$F$125=\"Yes\",ROW('Scope and Prelim. Cost Est.'!$F$26:$F$125)-ROW('Scope and Prelim. Cost Est.'!$F$26)+1),ROWS('Scope and Prelim. Cost Est.'!$F$26:F102))),\"\")","v":""},"",{"$f":"IFERROR(VLOOKUP($E98,MeasuresLookup,18,FALSE)+VLOOKUP($E98,MeasuresLookup,19,FALSE)+(VLOOKUP($E98,MeasuresLookup,16,FALSE)+VLOOKUP($E98,MeasuresLookup,17,FALSE))*Calcs!$B$90,0)","v":0},{"$f":"IFERROR((VLOOKUP($E98,MeasuresLookup,16,FALSE)+VLOOKUP($E98,MeasuresLookup,17,FALSE))*Calcs!$B$90*Calcs!$B$91,0)+IFERROR((VLOOKUP($E98,MeasuresLookup,18,FALSE)+VLOOKUP($E98,MeasuresLookup,19,FALSE))*VLOOKUP(VLOOKUP($E98,MeasuresLookup,20,FALSE),SiteToSource,2,FALSE),0)","v":0},{"$f":"IF('Energy and Water Use'!$M$33>0,H98/('Energy and Water Use'!$AN$33/1000),0)","v":0},"*\n*\n*\n*\n*\n*","",null,null,"","","","",null,"",{"$error":"#N/A"},0,0,0,{"$error":"#N/A"},{"$error":"#N/A"},{"$error":"#N/A"},{"$error":"#N/A"},{"$error":"#N/A"},{"$error":"#N/A"},{"$error":"#N/A"},{"$error":"#N/A"},{"$error":"#N/A"},"N/A",{"$error":"#N/A"},{"$error":"#N/A"},{"$error":"#N/A"},{"$error":"#N/A"},{"$error":"#N/A"},{"$error":"#N/A"},{"$error":"#N/A"},{"$error":"#N/A"},{"$error":"#N/A"},{"$error":"#N/A"},{"$error":"#N/A"},{"$error":"#N/A"},{"$error":"#N/A"},null,null,null,null,null,null,null,null,null,null,null,""]
[null,null,0,"",{"$f":"IFERROR(INDEX('Scope and Prelim. Cost Est.'!$B$26:$B$125,SMALL(IF('Scope and Prelim. Cost Est.'!$F$26:$F$125=\"Yes\",ROW('Scope and Prelim. Cost Est.'!$F$26:$F$125)-ROW('Scope and Prelim. Cost Est.'!$F$26)+1),ROWS('Scope and Prelim. Cost Est.'!$F$26:F103))),\"\")","v":""},"",{"$f":"IFERROR(VLOOKUP($E99,MeasuresLookup,18,FALSE)+VLOOKUP($E99,MeasuresLookup,19,FALSE)+(VLOOKUP($E99,MeasuresLookup,16,FALSE)+VLOOKUP($E99,MeasuresLookup,17,FALSE))*Calcs!$B$90,0)","v":0},{"$f":"IFERROR((VLOOKUP($E99,MeasuresLookup,16,FALSE)+VLOOKUP($E99,MeasuresLookup,17,FALSE))*Calcs!$B$90*Calcs!$B$91,0)+IFERROR((VLOOKUP($E99,MeasuresLookup,18,FALSE)+VLOOKUP($E99,MeasuresLookup,19,FALSE))*VLOOKUP(VLOOKUP($E99,MeasuresLookup,20,FALSE),SiteToSource,2,FALSE),0)","v":0},{"$f":"IF('Energy and Water Use'!$M$33>0,H99/('Energy and Water Use'!$AN$33/1000),0)","v":0},"*\n*\n*\n*\n*\n*","",null,null,"","","","",null,"",{"$error":"#N/A"},0,0,0,{"$error":"#N/A"},{"$error":"#N/A"},{"$error":"#N/A"},{"$error":"#N/A"},{"$error":"#N/A"},{"$error":"#N/A"},{"$error":"#N/A"},{"$error":"#N/A"},{"$error":"#N/A"},"N/A",{"$error":"#N/A"},{"$error":"#N/A"},{"$error":"#N/A"},{"$error":"#N/A"},{"$error":"#N/A"},{"$error":"#N/A"},{"$error":"#N/A"},{"$error":"#N/A"},{"$error":"#N/A"},{"$error":"#N/A"},{"$error":"#N/A"},{"$error":"#N/A"},{"$error":"#N/A"},null,null,null,null,null,null,null,null,null,null,null,""]
[null,null,0,"",{"$f":"IFERROR(INDEX('Scope and Prelim. Cost Est.'!$B$26:$B$125,SMALL(IF('Scope and Prelim. Cost Est.'!$F$26:$F$125=\"Yes\",ROW('Scope and Prelim. Cost Est.'!$F$26:$F$125)-ROW('Scope and Prelim. Cost Est.'!$F$26)+1),ROWS('Scope and Prelim. Cost Est.'!$F$26:F104))),\"\")","v":""},"",{"$f":"IFERROR(VLOOKUP($E100,MeasuresLookup,18,FALSE)+VLOOKUP($E100,MeasuresLookup,19,FALSE)+(VLOOKUP($E100,MeasuresLookup,16,FALSE)+VLOOKUP($E100,MeasuresLookup,17,FALSE))*Calcs!$B$90,0)","v":0},{"$f":"IFERROR((VLOOKUP($E100,MeasuresLookup,16,FALSE)+VLOOKUP($E100,MeasuresLookup,17,FALSE))*Calcs!$B$90*Calcs!$B$91,0)+IFERROR((VLOOKUP($E100,MeasuresLookup,18,FALSE)+VLOOKUP($E100,MeasuresLookup,19,FALSE))*VLOOKUP(VLOOKUP($E100,MeasuresLookup,20,FALSE),SiteToSource,2,FALSE),0)","v":0},{"$f":"IF('Energy and Water Use'!$M$33>0,H100/('Energy and Water Use'!$AN$33/1000),0)","v":0},"*\n*\n*\n*\n*\n*","",null,null,"","","","",null,"",{"$error":"#N/A"},0,0,0,{"$error":"#N/A"},{"$error":"#N/A"},{"$error":"#N/A"},{"$error":"#N/A"},{"$error":"#N/A"},{"$error":"#N/A"},{"$error":"#N/A"},{"$error":"#N/A"},{"$error":"#N/A"},"N/A",{"$error":"#N/A"},{"$error":"#N/A"},{"$error":"#N/A"},{"$error":"#N/A"},{"$error":"#N/A"},{"$error":"#N/A"},{"$error":"#N/A"},{"$error":"#N/A"},{"$error":"#N/A"},{"$error":"#N/A"},{"$error":"#N/A"},{"$error":"#N/A"},{"$error":"#N/A"},null,null,null,null,null,null,null,null,null,null,null,""]
[null,null,0,"",{"$f":"IFERROR(INDEX('Scope and Prelim. Cost Est.'!$B$26:$B$125,SMALL(IF('Scope and Prelim. Cost Est.'!$F$26:$F$125=\"Yes\",ROW('Scope and Prelim. Cost Est.'!$F$26:$F$125)-ROW('Scope and Prelim. Cost Est.'!$F$26)+1),ROWS('Scope and Prelim. Cost Est.'!$F$26:F105))),\"\")","v":""},"",{"$f":"IFERROR(VLOOKUP($E101,MeasuresLookup,18,FALSE)+VLOOKUP($E101,MeasuresLookup,19,FALSE)+(VLOOKUP($E101,MeasuresLookup,16,FALSE)+VLOOKUP($E101,MeasuresLookup,17,FALSE))*Calcs!$B$90,0)","v":0},{"$f":"IFERROR((VLOOKUP($E101,MeasuresLookup,16,FALSE)+VLOOKUP($E101,MeasuresLookup,17,FALSE))*Calcs!$B$90*Calcs!$B$91,0)+IFERROR((VLOOKUP($E101,MeasuresLookup,18,FALSE)+VLOOKUP($E101,MeasuresLookup,19,FALSE))*VLOOKUP(VLOOKUP($E101,MeasuresLookup,20,FALSE),SiteToSource,2,FALSE),0)","v":0},{"$f":"IF('Energy and Water Use'!$M$33>0,H101/('Energy and Water Use'!$AN$33/1000),0)","v":0},"*\n*\n*\n*\n*\n*","",null,null,"","","","",null,"",{"$error":"#N/A"},0,0,0,{"$error":"#N/A"},{"$error":"#N/A"},{"$error":"#N/A"},{"$error":"#N/A"},{"$error":"#N/A"},{"$error":"#N/A"},{"$error":"#N/A"},{"$error":"#N/A"},{"$error":"#N/A"},"N/A",{"$error":"#N/A"},{"$error":"#N/A"},{"$error":"#N/A"},{"$error":"#N/A"},{"$error":"#N/A"},{"$error":"#N/A"},{"$error":"#N/A"},{"$error":"#N/A"},{"$error":"#N/A"},{"$error":"#N/A"},{"$error":"#N/A"},{"$error":"#N/A"},{"$error":"#N/A"},null,null,null,null,null,null,null,null,null,null,null,""]
[null,null,0,"",{"$f":"IFERROR(INDEX('Scope and Prelim. Cost Est.'!$B$26:$B$125,SMALL(IF('Scope and Prelim. Cost Est.'!$F$26:$F$125=\"Yes\",ROW('Scope and Prelim. Cost Est.'!$F$26:$F$125)-ROW('Scope and Prelim. Cost Est.'!$F$26)+1),ROWS('Scope and Prelim. Cost Est.'!$F$26:F106))),\"\")","v":""},"",{"$f":"IFERROR(VLOOKUP($E102,MeasuresLookup,18,FALSE)+VLOOKUP($E102,MeasuresLookup,19,FALSE)+(VLOOKUP($E102,MeasuresLookup,16,FALSE)+VLOOKUP($E102,MeasuresLookup,17,FALSE))*Calcs!$B$90,0)","v":0},{"$f":"IFERROR((VLOOKUP($E102,MeasuresLookup,16,FALSE)+VLOOKUP($E102,MeasuresLookup,17,FALSE))*Calcs!$B$90*Calcs!$B$91,0)+IFERROR((VLOOKUP($E102,MeasuresLookup,18,FALSE)+VLOOKUP($E102,MeasuresLookup,19,FALSE))*VLOOKUP(VLOOKUP($E102,MeasuresLookup,20,FALSE),SiteToSource,2,FALSE),0)","v":0},{"$f":"IF('Energy and Water Use'!$M$33>0,H102/('Energy and Water Use'!$AN$33/1000),0)","v":0},"*\n*\n*\n*\n*\n*","",null,null,"","","","",null,"",{"$error":"#N/A"},0,0,0,{"$f":"IF(D102=\"Other\",\"Y\",VLOOKUP($D102,MeasureQCData,4,FALSE))","v":{"$error":"#N/A"}},{"$error":"#N/A"},{"$error":"#N/A"},{"$error":"#N/A"},{"$error":"#N/A"},{"$error":"#N/A"},{"$f":"IF(Location=\"Upstate\",Z102,IF(Location=\"Downstate\",AB102,\"\"))","v":{"$error":"#N/A"}},{"$f":"IF(Location=\"Upstate\",AA102,IF(Location=\"Downstate\",AC102,\"\"))","v":{"$error":"#N/A"}},{"$error":"#N/A"},"N/A",{"$error":"#N/A"},{"$error":"#N/A"},{"$error":"#N/A"},{"$error":"#N/A"},{"$error":"#N/A"},{"$error":"#N/A"},{"$f":"IF(D102=\"Other\",\"N\",VLOOKUP($D102,MeasureQCData,105,FALSE))","v":{"$error":"#N/A"}},{"$f":"IF(D102=\"Other\",\"N\",VLOOKUP($D102,MeasureQCData,107,FALSE))","v":{"$error":"#N/A"}},{"$error":"#N/A"},{"$error":"#N/A"},{"$error":"#N/A"},{"$error":"#N/A"},{"$error":"#N/A"},null,null,null,null,null,null,null,null,null,null,null,""]
[null,null,0,"",{"$f":"IFERROR(INDEX('Scope and Prelim. Cost Est.'!$B$26:$B$125,SMALL(IF('Scope and Prelim. Cost Est.'!$F$26:$F$125=\"Yes\",ROW('Scope and Prelim. Cost Est.'!$F$26:$F$125)-ROW('Scope and Prelim. Cost Est.'!$F$26)+1),ROWS('Scope and Prelim. Cost Est.'!$F$26:F107))),\"\")","v":""},"",{"$f":"IFERROR(VLOOKUP($E103,MeasuresLookup,18,FALSE)+VLOOKUP($E103,MeasuresLookup,19,FALSE)+(VLOOKUP($E103,MeasuresLookup,16,FALSE)+VLOOKUP($E103,MeasuresLookup,17,FALSE))*Calcs!$B$90,0)","v":0},{"$f":"IFERROR((VLOOKUP($E103,MeasuresLookup,16,FALSE)+VLOOKUP($E103,MeasuresLookup,17,FALSE))*Calcs!$B$90*Calcs!$B$91,0)+IFERROR((VLOOKUP($E103,MeasuresLookup,18,FALSE)+VLOOKUP($E103,MeasuresLookup,19,FALSE))*VLOOKUP(VLOOKUP($E103,MeasuresLookup,20,FALSE),SiteToSource,2,FALSE),0)","v":0},{"$f":"IF('Energy and Water Use'!$M$33>0,H103/('Energy and Water Use'!$AN$33/1000),0)","v":0},"*\n*\n*\n*\n*\n*","",null,null,"","","","",null,"",{"$error":"#N/A"},0,0,0,{"$error":"#N/A"},{"$error":"#N/A"},{"$error":"#N/A"},{"$error":"#N/A"},{"$error":"#N/A"},{"$error":"#N/A"},{"$error":"#N/A"},{"$error":"#N/A"},{"$error":"#N/A"},"N/A",{"$error":"#N/A"},{"$error":"#N/A"},{"$error":"#N/A"},{"$error":"#N/A"},{"$error":"#N/A"},{"$error":"#N/A"},{"$error":"#N/A"},{"$error":"#N/A"},{"$error":"#N/A"},{"$error":"#N/A"},{"$error":"#N/A"},{"$error":"#N/A"},{"$error":"#N/A"},null,null,null,null,null,null,null,null,null,null,null,""]
[null,null,0,"",{"$f":"IFERROR(INDEX('Scope and Prelim. Cost Est.'!$B$26:$B$125,SMALL(IF('Scope and Prelim. Cost Est.'!$F$26:$F$125=\"Yes\",ROW('Scope and Prelim. Cost Est.'!$F$26:$F$125)-ROW('Scope and Prelim. Cost Est.'!$F$26)+1),ROWS('Scope and Prelim. Cost Est.'!$F$26:F108))),\"\")","v":""},"",{"$f":"IFERROR(VLOOKUP($E104,MeasuresLookup,18,FALSE)+VLOOKUP($E104,MeasuresLookup,19,FALSE)+(VLOOKUP($E104,MeasuresLookup,16,FALSE)+VLOOKUP($E104,MeasuresLookup,17,FALSE))*Calcs!$B$90,0)","v":0},{"$f":"IFERROR((VLOOKUP($E104,MeasuresLookup,16,FALSE)+VLOOKUP($E104,MeasuresLookup,17,FALSE))*Calcs!$B$90*Calcs!$B$91,0)+IFERROR((VLOOKUP($E104,MeasuresLookup,18,FALSE)+VLOOKUP($E104,MeasuresLookup,19,FALSE))*VLOOKUP(VLOOKUP($E104,MeasuresLookup,20,FALSE),SiteToSource,2,FALSE),0)","v":0},{"$f":"IF('Energy and Water Use'!$M$33>0,H104/('Energy and Water Use'!$AN$33/1000),0)","v":0},"*\n*\n*\n*\n*\n*","",null,null,"","","","",null,"",{"$error":"#N/A"},0,0,0,{"$error":"#N/A"},{"$error":"#N/A"},{"$error":"#N/A"},{"$error":"#N/A"},{"$error":"#N/A"},{"$error":"#N/A"},{"$error":"#N/A"},{"$error":"#N/A"},{"$error":"#N/A"},"N/A",{"$error":"#N/A"},{"$error":"#N/A"},{"$error":"#N/A"},{"$error":"#N/A"},{"$error":"#N/A"},{"$error":"#N/A"},{"$error":"#N/A"},{"$error":"#N/A"},{"$error":"#N/A"},{"$error":"#N/A"},{"$error":"#N/A"},{"$error":"#N/A"},{"$error":"#N/A"},null,null,null,null,null,null,null,null,null,null,null,""]
[null,null,0,"",{"$f":"IFERROR(INDEX('Scope and Prelim. Cost Est.'!$B$26:$B$125,SMALL(IF('Scope and Prelim. Cost Est.'!$F$26:$F$125=\"Yes\",ROW('Scope and Prelim. Cost Est.'!$F$26:$F$125)-ROW('Scope and Prelim. Cost Est.'!$F$26)+1),ROWS('Scope and Prelim. Cost Est.'!$F$26:F109))),\"\")","v":""},"",{"$f":"IFERROR(VLOOKUP($E105,MeasuresLookup,18,FALSE)+VLOOKUP($E105,MeasuresLookup,19,FALSE)+(VLOOKUP($E105,MeasuresLookup,16,FALSE)+VLOOKUP($E105,MeasuresLookup,17,FALSE))*Calcs!$B$90,0)","v":0},{"$f":"IFERROR((VLOOKUP($E105,MeasuresLookup,16,FALSE)+VLOOKUP($E105,MeasuresLookup,17,FALSE))*Calcs!$B$90*Calcs!$B$91,0)+IFERROR((VLOOKUP($E105,MeasuresLookup,18,FALSE)+VLOOKUP($E105,MeasuresLookup,19,FALSE))*VLOOKUP(VLOOKUP($E105,MeasuresLookup,20,FALSE),SiteToSource,2,FALSE),0)","v":0},{"$f":"IF('Energy and Water Use'!$M$33>0,H105/('Energy and Water Use'!$AN$33/1000),0)","v":0},"*\n*\n*\n*\n*\n*","",null,null,"","","","",null,"",{"$error":"#N/A"},0,0,0,{"$error":"#N/A"},{"$error":"#N/A"},{"$error":"#N/A"},{"$error":"#N/A"},{"$error":"#N/A"},{"$error":"#N/A"},{"$error":"#N/A"},{"$error":"#N/A"},{"$error":"#N/A"},"N/A",{"$error":"#N/A"},{"$error":"#N/A"},{"$error":"#N/A"},{"$error":"#N/A"},{"$error":"#N/A"},{"$error":"#N/A"},{"$error":"#N/A"},{"$error":"#N/A"},{"$error":"#N/A"},{"$error":"#N/A"},{"$error":"#N/A"},{"$error":"#N/A"},{"$error":"#N/A"},null,null,null,null,null,null,null,null,null,null,null,""]
[null,null,0,"",{"$f":"IFERROR(INDEX('Scope and Prelim. Cost Est.'!$B$26:$B$125,SMALL(IF('Scope and Prelim. Cost Est.'!$F$26:$F$125=\"Yes\",ROW('Scope and Prelim. Cost Est.'!$F$26:$F$125)-ROW('Scope and Prelim. Cost Est.'!$F$26)+1),ROWS('Scope and Prelim. Cost Est.'!$F$26:F110))),\"\")","v":""},"",{"$f":"IFERROR(VLOOKUP($E106,MeasuresLookup,18,FALSE)+VLOOKUP($E106,MeasuresLookup,19,FALSE)+(VLOOKUP($E106,MeasuresLookup,16,FALSE)+VLOOKUP($E106,MeasuresLookup,17,FALSE))*Calcs!$B$90,0)","v":0},{"$f":"IFERROR((VLOOKUP($E106,MeasuresLookup,16,FALSE)+VLOOKUP($E106,MeasuresLookup,17,FALSE))*Calcs!$B$90*Calcs!$B$91,0)+IFERROR((VLOOKUP($E106,MeasuresLookup,18,FALSE)+VLOOKUP($E106,MeasuresLookup,19,FALSE))*VLOOKUP(VLOOKUP($E106,MeasuresLookup,20,FALSE),SiteToSource,2,FALSE),0)","v":0},{"$f":"IF('Energy and Water Use'!$M$33>0,H106/('Energy and Water Use'!$AN$33/1000),0)","v":0},"*\n*\n*\n*\n*\n*","",null,null,"","","","",null,"",{"$error":"#N/A"},0,0,0,{"$error":"#N/A"},{"$error":"#N/A"},{"$error":"#N/A"},{"$error":"#N/A"},{"$error":"#N/A"},{"$error":"#N/A"},{"$error":"#N/A"},{"$error":"#N/A"},{"$error":"#N/A"},"N/A",{"$error":"#N/A"},{"$error":"#N/A"},{"$error":"#N/A"},{"$error":"#N/A"},{"$error":"#N/A"},{"$error":"#N/A"},{"$error":"#N/A"},{"$error":"#N/A"},{"$error":"#N/A"},{"$error":"#N/A"},{"$error":"#N/A"},{"$error":"#N/A"},{"$error":"#N/A"},null,null,null,null,null,null,null,null,null,null,null,""]
[null,null,0,"",{"$f":"IFERROR(INDEX('Scope and Prelim. Cost Est.'!$B$26:$B$125,SMALL(IF('Scope and Prelim. Cost Est.'!$F$26:$F$125=\"Yes\",ROW('Scope and Prelim. Cost Est.'!$F$26:$F$125)-ROW('Scope and Prelim. Cost Est.'!$F$26)+1),ROWS('Scope and Prelim. Cost Est.'!$F$26:F111))),\"\")","v":""},"",{"$f":"IFERROR(VLOOKUP($E107,MeasuresLookup,18,FALSE)+VLOOKUP($E107,MeasuresLookup,19,FALSE)+(VLOOKUP($E107,MeasuresLookup,16,FALSE)+VLOOKUP($E107,MeasuresLookup,17,FALSE))*Calcs!$B$90,0)","v":0},{"$f":"IFERROR((VLOOKUP($E107,MeasuresLookup,16,FALSE)+VLOOKUP($E107,MeasuresLookup,17,FALSE))*Calcs!$B$90*Calcs!$B$91,0)+IFERROR((VLOOKUP($E107,MeasuresLookup,18,FALSE)+VLOOKUP($E107,MeasuresLookup,19,FALSE))*VLOOKUP(VLOOKUP($E107,MeasuresLookup,20,FALSE),SiteToSource,2,FALSE),0)","v":0},{"$f":"IF('Energy and Water Use'!$M$33>0,H107/('Energy and Water Use'!$AN$33/1000),0)","v":0},"*\n*\n*\n*\n*\n*","",null,null,"","","","",null,"",{"$error":"#N/A"},0,0,0,{"$error":"#N/A"},{"$error":"#N/A"},{"$error":"#N/A"},{"$error":"#N/A"},{"$error":"#N/A"},{"$error":"#N/A"},{"$error":"#N/A"},{"$error":"#N/A"},{"$error":"#N/A"},"N/A",{"$error":"#N/A"},{"$error":"#N/A"},{"$error":"#N/A"},{"$error":"#N/A"},{"$error":"#N/A"},{"$error":"#N/A"},{"$error":"#N/A"},{"$error":"#N/A"},{"$error":"#N/A"},{"$error":"#N/A"},{"$error":"#N/A"},{"$error":"#N/A"},{"$error":"#N/A"},null,null,null,null,null,null,null,null,null,null,null,""]
[null,null,0,"",{"$f":"IFERROR(INDEX('Scope and Prelim. Cost Est.'!$B$26:$B$125,SMALL(IF('Scope and Prelim. Cost Est.'!$F$26:$F$125=\"Yes\",ROW('Scope and Prelim. Cost Est.'!$F$26:$F$125)-ROW('Scope and Prelim. Cost Est.'!$F$26)+1),ROWS('Scope and Prelim. Cost Est.'!$F$26:F112))),\"\")","v":""},"",{"$f":"IFERROR(VLOOKUP($E108,MeasuresLookup,18,FALSE)+VLOOKUP($E108,MeasuresLookup,19,FALSE)+(VLOOKUP($E108,MeasuresLookup,16,FALSE)+VLOOKUP($E108,MeasuresLookup,17,FALSE))*Calcs!$B$90,0)","v":0},{"$f":"IFERROR((VLOOKUP($E108,MeasuresLookup,16,FALSE)+VLOOKUP($E108,MeasuresLookup,17,FALSE))*Calcs!$B$90*Calcs!$B$91,0)+IFERROR((VLOOKUP($E108,MeasuresLookup,18,FALSE)+VLOOKUP($E108,MeasuresLookup,19,FALSE))*VLOOKUP(VLOOKUP($E108,MeasuresLookup,20,FALSE),SiteToSource,2,FALSE),0)","v":0},{"$f":"IF('Energy and Water Use'!$M$33>0,H108/('Energy and Water Use'!$AN$33/1000),0)","v":0},"*\n*\n*\n*\n*\n*","",null,null,"","","","",null,"",{"$error":"#N/A"},0,0,0,{"$error":"#N/A"},{"$error":"#N/A"},{"$error":"#N/A"},{"$error":"#N/A"},{"$error":"#N/A"},{"$error":"#N/A"},{"$error":"#N/A"},{"$error":"#N/A"},{"$error":"#N/A"},"N/A",{"$error":"#N/A"},{"$error":"#N/A"},{"$error":"#N/A"},{"$error":"#N/A"},{"$error":"#N/A"},{"$error":"#N/A"},{"$error":"#N/A"},{"$error":"#N/A"},{"$error":"#N/A"},{"$error":"#N/A"},{"$error":"#N/A"},{"$error":"#N/A"},{"$error":"#N/A"},null,null,null,null,null,null,null,null,null,null,null,""]
[null,null,0,"",{"$f":"IFERROR(INDEX('Scope and Prelim. Cost Est.'!$B$26:$B$125,SMALL(IF('Scope and Prelim. Cost Est.'!$F$26:$F$125=\"Yes\",ROW('Scope and Prelim. Cost Est.'!$F$26:$F$125)-ROW('Scope and Prelim. Cost Est.'!$F$26)+1),ROWS('Scope and Prelim. Cost Est.'!$F$26:F113))),\"\")","v":""},"",{"$f":"IFERROR(VLOOKUP($E109,MeasuresLookup,18,FALSE)+VLOOKUP($E109,MeasuresLookup,19,FALSE)+(VLOOKUP($E109,MeasuresLookup,16,FALSE)+VLOOKUP($E109,MeasuresLookup,17,FALSE))*Calcs!$B$90,0)","v":0},{"$f":"IFERROR((VLOOKUP($E109,MeasuresLookup,16,FALSE)+VLOOKUP($E109,MeasuresLookup,17,FALSE))*Calcs!$B$90*Calcs!$B$91,0)+IFERROR((VLOOKUP($E109,MeasuresLookup,18,FALSE)+VLOOKUP($E109,MeasuresLookup,19,FALSE))*VLOOKUP(VLOOKUP($E109,MeasuresLookup,20,FALSE),SiteToSource,2,FALSE),0)","v":0},{"$f":"IF('Energy and Water Use'!$M$33>0,H109/('Energy and Water Use'!$AN$33/1000),0)","v":0},"*\n*\n*\n*\n*\n*","",null,null,"","","","",null,"",{"$error":"#N/A"},0,0,0,{"$error":"#N/A"},{"$error":"#N/A"},{"$error":"#N/A"},{"$error":"#N/A"},{"$error":"#N/A"},{"$error":"#N/A"},{"$error":"#N/A"},{"$error":"#N/A"},{"$error":"#N/A"},"N/A",{"$error":"#N/A"},{"$error":"#N/A"},{"$error":"#N/A"},{"$error":"#N/A"},{"$error":"#N/A"},{"$error":"#N/A"},{"$error":"#N/A"},{"$error":"#N/A"},{"$error":"#N/A"},{"$error":"#N/A"},{"$error":"#N/A"},{"$error":"#N/A"},{"$error":"#N/A"},null,null,null,null,null,null,null,null,null,null,null,""]
[null,null,0,"",{"$f":"IFERROR(INDEX('Scope and Prelim. Cost Est.'!$B$26:$B$125,SMALL(IF('Scope and Prelim. Cost Est.'!$F$26:$F$125=\"Yes\",ROW('Scope and Prelim. Cost Est.'!$F$26:$F$125)-ROW('Scope and Prelim. Cost Est.'!$F$26)+1),ROWS('Scope and Prelim. Cost Est.'!$F$26:F114))),\"\")","v":""},"",{"$f":"IFERROR(VLOOKUP($E110,MeasuresLookup,18,FALSE)+VLOOKUP($E110,MeasuresLookup,19,FALSE)+(VLOOKUP($E110,MeasuresLookup,16,FALSE)+VLOOKUP($E110,MeasuresLookup,17,FALSE))*Calcs!$B$90,0)","v":0},{"$f":"IFERROR((VLOOKUP($E110,MeasuresLookup,16,FALSE)+VLOOKUP($E110,MeasuresLookup,17,FALSE))*Calcs!$B$90*Calcs!$B$91,0)+IFERROR((VLOOKUP($E110,MeasuresLookup,18,FALSE)+VLOOKUP($E110,MeasuresLookup,19,FALSE))*VLOOKUP(VLOOKUP($E110,MeasuresLookup,20,FALSE),SiteToSource,2,FALSE),0)","v":0},{"$f":"IF('Energy and Water Use'!$M$33>0,H110/('Energy and Water Use'!$AN$33/1000),0)","v":0},"*\n*\n*\n*\n*\n*","",null,null,"","","","",null,"",{"$error":"#N/A"},0,0,0,{"$error":"#N/A"},{"$error":"#N/A"},{"$error":"#N/A"},{"$error":"#N/A"},{"$error":"#N/A"},{"$error":"#N/A"},{"$error":"#N/A"},{"$error":"#N/A"},{"$error":"#N/A"},"N/A",{"$error":"#N/A"},{"$error":"#N/A"},{"$error":"#N/A"},{"$error":"#N/A"},{"$error":"#N/A"},{"$error":"#N/A"},{"$error":"#N/A"},{"$error":"#N/A"},{"$error":"#N/A"},{"$error":"#N/A"},{"$error":"#N/A"},{"$error":"#N/A"},{"$error":"#N/A"},null,null,null,null,null,null,null,null,null,null,null,""]
[null,null,0,"",{"$f":"IFERROR(INDEX('Scope and Prelim. Cost Est.'!$B$26:$B$125,SMALL(IF('Scope and Prelim. Cost Est.'!$F$26:$F$125=\"Yes\",ROW('Scope and Prelim. Cost Est.'!$F$26:$F$125)-ROW('Scope and Prelim. Cost Est.'!$F$26)+1),ROWS('Scope and Prelim. Cost Est.'!$F$26:F115))),\"\")","v":""},"",{"$f":"IFERROR(VLOOKUP($E111,MeasuresLookup,18,FALSE)+VLOOKUP($E111,MeasuresLookup,19,FALSE)+(VLOOKUP($E111,MeasuresLookup,16,FALSE)+VLOOKUP($E111,MeasuresLookup,17,FALSE))*Calcs!$B$90,0)","v":0},{"$f":"IFERROR((VLOOKUP($E111,MeasuresLookup,16,FALSE)+VLOOKUP($E111,MeasuresLookup,17,FALSE))*Calcs!$B$90*Calcs!$B$91,0)+IFERROR((VLOOKUP($E111,MeasuresLookup,18,FALSE)+VLOOKUP($E111,MeasuresLookup,19,FALSE))*VLOOKUP(VLOOKUP($E111,MeasuresLookup,20,FALSE),SiteToSource,2,FALSE),0)","v":0},{"$f":"IF('Energy and Water Use'!$M$33>0,H111/('Energy and Water Use'!$AN$33/1000),0)","v":0},"*\n*\n*\n*\n*\n*","",null,null,"","","","",null,"",{"$error":"#N/A"},0,0,0,{"$error":"#N/A"},{"$error":"#N/A"},{"$error":"#N/A"},{"$error":"#N/A"},{"$error":"#N/A"},{"$error":"#N/A"},{"$error":"#N/A"},{"$error":"#N/A"},{"$error":"#N/A"},"N/A",{"$error":"#N/A"},{"$error":"#N/A"},{"$error":"#N/A"},{"$error":"#N/A"},{"$error":"#N/A"},{"$error":"#N/A"},{"$error":"#N/A"},{"$error":"#N/A"},{"$error":"#N/A"},{"$error":"#N/A"},{"$error":"#N/A"},{"$error":"#N/A"},{"$error":"#N/A"},null,null,null,null,null,null,null,null,null,null,null,""]
[null,null,0,"",{"$f":"IFERROR(INDEX('Scope and Prelim. Cost Est.'!$B$26:$B$125,SMALL(IF('Scope and Prelim. Cost Est.'!$F$26:$F$125=\"Yes\",ROW('Scope and Prelim. Cost Est.'!$F$26:$F$125)-ROW('Scope and Prelim. Cost Est.'!$F$26)+1),ROWS('Scope and Prelim. Cost Est.'!$F$26:F116))),\"\")","v":""},"",{"$f":"IFERROR(VLOOKUP($E112,MeasuresLookup,18,FALSE)+VLOOKUP($E112,MeasuresLookup,19,FALSE)+(VLOOKUP($E112,MeasuresLookup,16,FALSE)+VLOOKUP($E112,MeasuresLookup,17,FALSE))*Calcs!$B$90,0)","v":0},{"$f":"IFERROR((VLOOKUP($E112,MeasuresLookup,16,FALSE)+VLOOKUP($E112,MeasuresLookup,17,FALSE))*Calcs!$B$90*Calcs!$B$91,0)+IFERROR((VLOOKUP($E112,MeasuresLookup,18,FALSE)+VLOOKUP($E112,MeasuresLookup,19,FALSE))*VLOOKUP(VLOOKUP($E112,MeasuresLookup,20,FALSE),SiteToSource,2,FALSE),0)","v":0},{"$f":"IF('Energy and Water Use'!$M$33>0,H112/('Energy and Water Use'!$AN$33/1000),0)","v":0},"*\n*\n*\n*\n*\n*","",null,null,"","","","",null,"",{"$error":"#N/A"},0,0,0,{"$error":"#N/A"},{"$error":"#N/A"},{"$error":"#N/A"},{"$error":"#N/A"},{"$error":"#N/A"},{"$error":"#N/A"},{"$error":"#N/A"},{"$error":"#N/A"},{"$error":"#N/A"},"N/A",{"$error":"#N/A"},{"$error":"#N/A"},{"$error":"#N/A"},{"$error":"#N/A"},{"$error":"#N/A"},{"$error":"#N/A"},{"$error":"#N/A"},{"$error":"#N/A"},{"$error":"#N/A"},{"$error":"#N/A"},{"$error":"#N/A"},{"$error":"#N/A"},{"$error":"#N/A"},null,null,null,null,null,null,null,null,null,null,null,""]
[null,null,0,"",{"$f":"IFERROR(INDEX('Scope and Prelim. Cost Est.'!$B$26:$B$125,SMALL(IF('Scope and Prelim. Cost Est.'!$F$26:$F$125=\"Yes\",ROW('Scope and Prelim. Cost Est.'!$F$26:$F$125)-ROW('Scope and Prelim. Cost Est.'!$F$26)+1),ROWS('Scope and Prelim. Cost Est.'!$F$26:F117))),\"\")","v":""},"",{"$f":"IFERROR(VLOOKUP($E113,MeasuresLookup,18,FALSE)+VLOOKUP($E113,MeasuresLookup,19,FALSE)+(VLOOKUP($E113,MeasuresLookup,16,FALSE)+VLOOKUP($E113,MeasuresLookup,17,FALSE))*Calcs!$B$90,0)","v":0},{"$f":"IFERROR((VLOOKUP($E113,MeasuresLookup,16,FALSE)+VLOOKUP($E113,MeasuresLookup,17,FALSE))*Calcs!$B$90*Calcs!$B$91,0)+IFERROR((VLOOKUP($E113,MeasuresLookup,18,FALSE)+VLOOKUP($E113,MeasuresLookup,19,FALSE))*VLOOKUP(VLOOKUP($E113,MeasuresLookup,20,FALSE),SiteToSource,2,FALSE),0)","v":0},{"$f":"IF('Energy and Water Use'!$M$33>0,H113/('Energy and Water Use'!$AN$33/1000),0)","v":0},"*\n*\n*\n*\n*\n*","",null,null,"","","","",null,"",{"$error":"#N/A"},0,0,0,{"$error":"#N/A"},{"$error":"#N/A"},{"$error":"#N/A"},{"$error":"#N/A"},{"$error":"#N/A"},{"$error":"#N/A"},{"$error":"#N/A"},{"$error":"#N/A"},{"$error":"#N/A"},"N/A",{"$error":"#N/A"},{"$error":"#N/A"},{"$error":"#N/A"},{"$error":"#N/A"},{"$error":"#N/A"},{"$error":"#N/A"},{"$error":"#N/A"},{"$error":"#N/A"},{"$error":"#N/A"},{"$error":"#N/A"},{"$error":"#N/A"},{"$error":"#N/A"},{"$error":"#N/A"},null,null,null,null,null,null,null,null,null,null,null,""]
[null,null,0,"",{"$f":"IFERROR(INDEX('Scope and Prelim. Cost Est.'!$B$26:$B$125,SMALL(IF('Scope and Prelim. Cost Est.'!$F$26:$F$125=\"Yes\",ROW('Scope and Prelim. Cost Est.'!$F$26:$F$125)-ROW('Scope and Prelim. Cost Est.'!$F$26)+1),ROWS('Scope and Prelim. Cost Est.'!$F$26:F118))),\"\")","v":""},"",{"$f":"IFERROR(VLOOKUP($E114,MeasuresLookup,18,FALSE)+VLOOKUP($E114,MeasuresLookup,19,FALSE)+(VLOOKUP($E114,MeasuresLookup,16,FALSE)+VLOOKUP($E114,MeasuresLookup,17,FALSE))*Calcs!$B$90,0)","v":0},{"$f":"IFERROR((VLOOKUP($E114,MeasuresLookup,16,FALSE)+VLOOKUP($E114,MeasuresLookup,17,FALSE))*Calcs!$B$90*Calcs!$B$91,0)+IFERROR((VLOOKUP($E114,MeasuresLookup,18,FALSE)+VLOOKUP($E114,MeasuresLookup,19,FALSE))*VLOOKUP(VLOOKUP($E114,MeasuresLookup,20,FALSE),SiteToSource,2,FALSE),0)","v":0},{"$f":"IF('Energy and Water Use'!$M$33>0,H114/('Energy and Water Use'!$AN$33/1000),0)","v":0},"*\n*\n*\n*\n*\n*","",null,null,"","","","",null,"",{"$error":"#N/A"},0,0,0,{"$error":"#N/A"},{"$error":"#N/A"},{"$error":"#N/A"},{"$error":"#N/A"},{"$error":"#N/A"},{"$error":"#N/A"},{"$error":"#N/A"},{"$error":"#N/A"},{"$error":"#N/A"},"N/A",{"$error":"#N/A"},{"$error":"#N/A"},{"$error":"#N/A"},{"$error":"#N/A"},{"$error":"#N/A"},{"$error":"#N/A"},{"$error":"#N/A"},{"$error":"#N/A"},{"$error":"#N/A"},{"$error":"#N/A"},{"$error":"#N/A"},{"$error":"#N/A"},{"$error":"#N/A"},null,null,null,null,null,null,null,null,null,null,null,""]
[null,null,0,"",{"$f":"IFERROR(INDEX('Scope and Prelim. Cost Est.'!$B$26:$B$125,SMALL(IF('Scope and Prelim. Cost Est.'!$F$26:$F$125=\"Yes\",ROW('Scope and Prelim. Cost Est.'!$F$26:$F$125)-ROW('Scope and Prelim. Cost Est.'!$F$26)+1),ROWS('Scope and Prelim. Cost Est.'!$F$26:F119))),\"\")","v":""},"",{"$f":"IFERROR(VLOOKUP($E115,MeasuresLookup,18,FALSE)+VLOOKUP($E115,MeasuresLookup,19,FALSE)+(VLOOKUP($E115,MeasuresLookup,16,FALSE)+VLOOKUP($E115,MeasuresLookup,17,FALSE))*Calcs!$B$90,0)","v":0},{"$f":"IFERROR((VLOOKUP($E115,MeasuresLookup,16,FALSE)+VLOOKUP($E115,MeasuresLookup,17,FALSE))*Calcs!$B$90*Calcs!$B$91,0)+IFERROR((VLOOKUP($E115,MeasuresLookup,18,FALSE)+VLOOKUP($E115,MeasuresLookup,19,FALSE))*VLOOKUP(VLOOKUP($E115,MeasuresLookup,20,FALSE),SiteToSource,2,FALSE),0)","v":0},{"$f":"IF('Energy and Water Use'!$M$33>0,H115/('Energy and Water Use'!$AN$33/1000),0)","v":0},"*\n*\n*\n*\n*\n*","",null,null,"","","","",null,"",{"$error":"#N/A"},0,0,0,{"$error":"#N/A"},{"$error":"#N/A"},{"$error":"#N/A"},{"$error":"#N/A"},{"$error":"#N/A"},{"$error":"#N/A"},{"$error":"#N/A"},{"$error":"#N/A"},{"$error":"#N/A"},"N/A",{"$error":"#N/A"},{"$error":"#N/A"},{"$error":"#N/A"},{"$error":"#N/A"},{"$error":"#N/A"},{"$error":"#N/A"},{"$error":"#N/A"},{"$error":"#N/A"},{"$error":"#N/A"},{"$error":"#N/A"},{"$error":"#N/A"},{"$error":"#N/A"},{"$error":"#N/A"},null,null,null,null,null,null,null,null,null,null,null,""]
[null,null,0,"",{"$f":"IFERROR(INDEX('Scope and Prelim. Cost Est.'!$B$26:$B$125,SMALL(IF('Scope and Prelim. Cost Est.'!$F$26:$F$125=\"Yes\",ROW('Scope and Prelim. Cost Est.'!$F$26:$F$125)-ROW('Scope and Prelim. Cost Est.'!$F$26)+1),ROWS('Scope and Prelim. Cost Est.'!$F$26:F120))),\"\")","v":""},"",{"$f":"IFERROR(VLOOKUP($E116,MeasuresLookup,18,FALSE)+VLOOKUP($E116,MeasuresLookup,19,FALSE)+(VLOOKUP($E116,MeasuresLookup,16,FALSE)+VLOOKUP($E116,MeasuresLookup,17,FALSE))*Calcs!$B$90,0)","v":0},{"$f":"IFERROR((VLOOKUP($E116,MeasuresLookup,16,FALSE)+VLOOKUP($E116,MeasuresLookup,17,FALSE))*Calcs!$B$90*Calcs!$B$91,0)+IFERROR((VLOOKUP($E116,MeasuresLookup,18,FALSE)+VLOOKUP($E116,MeasuresLookup,19,FALSE))*VLOOKUP(VLOOKUP($E116,MeasuresLookup,20,FALSE),SiteToSource,2,FALSE),0)","v":0},{"$f":"IF('Energy and Water Use'!$M$33>0,H116/('Energy and Water Use'!$AN$33/1000),0)","v":0},"*\n*\n*\n*\n*\n*","",null,null,"","","","",null,"",{"$error":"#N/A"},0,0,0,{"$error":"#N/A"},{"$error":"#N/A"},{"$error":"#N/A"},{"$error":"#N/A"},{"$error":"#N/A"},{"$error":"#N/A"},{"$error":"#N/A"},{"$error":"#N/A"},{"$error":"#N/A"},"N/A",{"$error":"#N/A"},{"$error":"#N/A"},{"$error":"#N/A"},{"$error":"#N/A"},{"$error":"#N/A"},{"$error":"#N/A"},{"$error":"#N/A"},{"$error":"#N/A"},{"$error":"#N/A"},{"$error":"#N/A"},{"$error":"#N/A"},{"$error":"#N/A"},{"$error":"#N/A"},null,null,null,null,null,null,null,null,null,null,null,""]
[null,null,0,"",{"$f":"IFERROR(INDEX('Scope and Prelim. Cost Est.'!$B$26:$B$125,SMALL(IF('Scope and Prelim. Cost Est.'!$F$26:$F$125=\"Yes\",ROW('Scope and Prelim. Cost Est.'!$F$26:$F$125)-ROW('Scope and Prelim. Cost Est.'!$F$26)+1),ROWS('Scope and Prelim. Cost Est.'!$F$26:F121))),\"\")","v":""},"",{"$f":"IFERROR(VLOOKUP($E117,MeasuresLookup,18,FALSE)+VLOOKUP($E117,MeasuresLookup,19,FALSE)+(VLOOKUP($E117,MeasuresLookup,16,FALSE)+VLOOKUP($E117,MeasuresLookup,17,FALSE))*Calcs!$B$90,0)","v":0},{"$f":"IFERROR((VLOOKUP($E117,MeasuresLookup,16,FALSE)+VLOOKUP($E117,MeasuresLookup,17,FALSE))*Calcs!$B$90*Calcs!$B$91,0)+IFERROR((VLOOKUP($E117,MeasuresLookup,18,FALSE)+VLOOKUP($E117,MeasuresLookup,19,FALSE))*VLOOKUP(VLOOKUP($E117,MeasuresLookup,20,FALSE),SiteToSource,2,FALSE),0)","v":0},{"$f":"IF('Energy and Water Use'!$M$33>0,H117/('Energy and Water Use'!$AN$33/1000),0)","v":0},"*\n*\n*\n*\n*\n*","",null,null,"","","","",null,"",{"$error":"#N/A"},0,0,0,{"$error":"#N/A"},{"$error":"#N/A"},{"$error":"#N/A"},{"$error":"#N/A"},{"$error":"#N/A"},{"$error":"#N/A"},{"$error":"#N/A"},{"$error":"#N/A"},{"$error":"#N/A"},"N/A",{"$error":"#N/A"},{"$error":"#N/A"},{"$error":"#N/A"},{"$error":"#N/A"},{"$error":"#N/A"},{"$error":"#N/A"},{"$error":"#N/A"},{"$error":"#N/A"},{"$error":"#N/A"},{"$error":"#N/A"},{"$error":"#N/A"},{"$error":"#N/A"},{"$error":"#N/A"},null,null,null,null,null,null,null,null,null,null,null,""]
[null,null,0,"",{"$f":"IFERROR(INDEX('Scope and Prelim. Cost Est.'!$B$26:$B$125,SMALL(IF('Scope and Prelim. Cost Est.'!$F$26:$F$125=\"Yes\",ROW('Scope and Prelim. Cost Est.'!$F$26:$F$125)-ROW('Scope and Prelim. Cost Est.'!$F$26)+1),ROWS('Scope and Prelim. Cost Est.'!$F$26:F122))),\"\")","v":""},"",{"$f":"IFERROR(VLOOKUP($E118,MeasuresLookup,18,FALSE)+VLOOKUP($E118,MeasuresLookup,19,FALSE)+(VLOOKUP($E118,MeasuresLookup,16,FALSE)+VLOOKUP($E118,MeasuresLookup,17,FALSE))*Calcs!$B$90,0)","v":0},{"$f":"IFERROR((VLOOKUP($E118,MeasuresLookup,16,FALSE)+VLOOKUP($E118,MeasuresLookup,17,FALSE))*Calcs!$B$90*Calcs!$B$91,0)+IFERROR((VLOOKUP($E118,MeasuresLookup,18,FALSE)+VLOOKUP($E118,MeasuresLookup,19,FALSE))*VLOOKUP(VLOOKUP($E118,MeasuresLookup,20,FALSE),SiteToSource,2,FALSE),0)","v":0},{"$f":"IF('Energy and Water Use'!$M$33>0,H118/('Energy and Water Use'!$AN$33/1000),0)","v":0},"*\n*\n*\n*\n*\n*","",null,null,"","","","",null,"",{"$error":"#N/A"},0,0,0,{"$error":"#N/A"},{"$error":"#N/A"},{"$error":"#N/A"},{"$error":"#N/A"},{"$error":"#N/A"},{"$error":"#N/A"},{"$error":"#N/A"},{"$error":"#N/A"},{"$error":"#N/A"},"N/A",{"$error":"#N/A"},{"$error":"#N/A"},{"$error":"#N/A"},{"$error":"#N/A"},{"$error":"#N/A"},{"$error":"#N/A"},{"$error":"#N/A"},{"$error":"#N/A"},{"$error":"#N/A"},{"$error":"#N/A"},{"$error":"#N/A"},{"$error":"#N/A"},{"$error":"#N/A"},null,null,null,null,null,null,null,null,null,null,null,""]
[null,null,0,"",{"$f":"IFERROR(INDEX('Scope and Prelim. Cost Est.'!$B$26:$B$125,SMALL(IF('Scope and Prelim. Cost Est.'!$F$26:$F$125=\"Yes\",ROW('Scope and Prelim. Cost Est.'!$F$26:$F$125)-ROW('Scope and Prelim. Cost Est.'!$F$26)+1),ROWS('Scope and Prelim. Cost Est.'!$F$26:F123))),\"\")","v":""},"",{"$f":"IFERROR(VLOOKUP($E119,MeasuresLookup,18,FALSE)+VLOOKUP($E119,MeasuresLookup,19,FALSE)+(VLOOKUP($E119,MeasuresLookup,16,FALSE)+VLOOKUP($E119,MeasuresLookup,17,FALSE))*Calcs!$B$90,0)","v":0},{"$f":"IFERROR((VLOOKUP($E119,MeasuresLookup,16,FALSE)+VLOOKUP($E119,MeasuresLookup,17,FALSE))*Calcs!$B$90*Calcs!$B$91,0)+IFERROR((VLOOKUP($E119,MeasuresLookup,18,FALSE)+VLOOKUP($E119,MeasuresLookup,19,FALSE))*VLOOKUP(VLOOKUP($E119,MeasuresLookup,20,FALSE),SiteToSource,2,FALSE),0)","v":0},{"$f":"IF('Energy and Water Use'!$M$33>0,H119/('Energy and Water Use'!$AN$33/1000),0)","v":0},"*\n*\n*\n*\n*\n*","",null,null,"","","","",null,"",{"$error":"#N/A"},0,0,0,{"$error":"#N/A"},{"$error":"#N/A"},{"$error":"#N/A"},{"$error":"#N/A"},{"$error":"#N/A"},{"$error":"#N/A"},{"$error":"#N/A"},{"$error":"#N/A"},{"$error":"#N/A"},"N/A",{"$error":"#N/A"},{"$error":"#N/A"},{"$error":"#N/A"},{"$error":"#N/A"},{"$error":"#N/A"},{"$error":"#N/A"},{"$error":"#N/A"},{"$error":"#N/A"},{"$error":"#N/A"},{"$error":"#N/A"},{"$error":"#N/A"},{"$error":"#N/A"},{"$error":"#N/A"},null,null,null,null,null,null,null,null,null,null,null,""]
[null,null,0,"",{"$f":"IFERROR(INDEX('Scope and Prelim. Cost Est.'!$B$26:$B$125,SMALL(IF('Scope and Prelim. Cost Est.'!$F$26:$F$125=\"Yes\",ROW('Scope and Prelim. Cost Est.'!$F$26:$F$125)-ROW('Scope and Prelim. Cost Est.'!$F$26)+1),ROWS('Scope and Prelim. Cost Est.'!$F$26:F124))),\"\")","v":""},"",{"$f":"IFERROR(VLOOKUP($E120,MeasuresLookup,18,FALSE)+VLOOKUP($E120,MeasuresLookup,19,FALSE)+(VLOOKUP($E120,MeasuresLookup,16,FALSE)+VLOOKUP($E120,MeasuresLookup,17,FALSE))*Calcs!$B$90,0)","v":0},{"$f":"IFERROR((VLOOKUP($E120,MeasuresLookup,16,FALSE)+VLOOKUP($E120,MeasuresLookup,17,FALSE))*Calcs!$B$90*Calcs!$B$91,0)+IFERROR((VLOOKUP($E120,MeasuresLookup,18,FALSE)+VLOOKUP($E120,MeasuresLookup,19,FALSE))*VLOOKUP(VLOOKUP($E120,MeasuresLookup,20,FALSE),SiteToSource,2,FALSE),0)","v":0},{"$f":"IF('Energy and Water Use'!$M$33>0,H120/('Energy and Water Use'!$AN$33/1000),0)","v":0},"*\n*\n*\n*\n*\n*","",null,null,"","","","",null,"",{"$error":"#N/A"},0,0,0,{"$error":"#N/A"},{"$error":"#N/A"},{"$error":"#N/A"},{"$error":"#N/A"},{"$error":"#N/A"},{"$error":"#N/A"},{"$error":"#N/A"},{"$error":"#N/A"},{"$error":"#N/A"},"N/A",{"$error":"#N/A"},{"$error":"#N/A"},{"$error":"#N/A"},{"$error":"#N/A"},{"$error":"#N/A"},{"$error":"#N/A"},{"$error":"#N/A"},{"$error":"#N/A"},{"$error":"#N/A"},{"$error":"#N/A"},{"$error":"#N/A"},{"$error":"#N/A"},{"$error":"#N/A"},null,null,null,null,null,null,null,null,null,null,null,""]
[null,null,0,"",{"$f":"IFERROR(INDEX('Scope and Prelim. Cost Est.'!$B$26:$B$125,SMALL(IF('Scope and Prelim. Cost Est.'!$F$26:$F$125=\"Yes\",ROW('Scope and Prelim. Cost Est.'!$F$26:$F$125)-ROW('Scope and Prelim. Cost Est.'!$F$26)+1),ROWS('Scope and Prelim. Cost Est.'!$F$26:F125))),\"\")","v":""},"",{"$f":"IFERROR(VLOOKUP($E121,MeasuresLookup,18,FALSE)+VLOOKUP($E121,MeasuresLookup,19,FALSE)+(VLOOKUP($E121,MeasuresLookup,16,FALSE)+VLOOKUP($E121,MeasuresLookup,17,FALSE))*Calcs!$B$90,0)","v":0},{"$f":"IFERROR((VLOOKUP($E121,MeasuresLookup,16,FALSE)+VLOOKUP($E121,MeasuresLookup,17,FALSE))*Calcs!$B$90*Calcs!$B$91,0)+IFERROR((VLOOKUP($E121,MeasuresLookup,18,FALSE)+VLOOKUP($E121,MeasuresLookup,19,FALSE))*VLOOKUP(VLOOKUP($E121,MeasuresLookup,20,FALSE),SiteToSource,2,FALSE),0)","v":0},{"$f":"IF('Energy and Water Use'!$M$33>0,H121/('Energy and Water Use'!$AN$33/1000),0)","v":0},"*\n*\n*\n*\n*\n*","",null,null,"","","","",null,"",{"$error":"#N/A"},0,0,0,{"$error":"#N/A"},{"$error":"#N/A"},{"$error":"#N/A"},{"$error":"#N/A"},{"$error":"#N/A"},{"$error":"#N/A"},{"$error":"#N/A"},{"$error":"#N/A"},{"$error":"#N/A"},"N/A",{"$error":"#N/A"},{"$error":"#N/A"},{"$error":"#N/A"},{"$error":"#N/A"},{"$error":"#N/A"},{"$error":"#N/A"},{"$error":"#N/A"},{"$error":"#N/A"},{"$error":"#N/A"},{"$error":"#N/A"},{"$error":"#N/A"},{"$error":"#N/A"},{"$error":"#N/A"},null,null,null,null,null,null,null,null,null,null,null,""]

{"sheet":"Calcs","index":14,"n_rows":101,"n_cols":107,"rows_kept":101,"cut":false,"hidden":true,"merged":[[3,21,3,24],[3,30,3,49],[3,52,3,71],[3,74,3,93]]}
["Measure Data for QC Calculations"]
["Column Count:",null,null,null,null,null,null,null,null,null,null,null,null,null,null,null,null,null,null,null,null,null,null,null,null,null,null,null,"Adjustments to TRC Test for early Replacement Measures",null,null,null,null,null,null,null,null,null,null,null,null,null,null,null,null,null,null,null,null,null,null,null,null,null,null,null,null,null,null,null,null,null,null,null,null,null,null,null,null,null,null,null,null,null,null,null,null,null,null,null,null,null,null,null,null,null,null,null,null,null,null,null,null,null,null,"TRC Test: Annual Average Electric LRAC Multiplier",null,null,null,"Savings Multiplier",null,null,null,null,"Upper Limit Savings Check"]
[1,2,3,4,5,6,7,8,9,10,11,12,13,14,15,16,17,18,19,20,21,22,23,24,25,26,27,28,29,30,31,32,33,34,35,36,37,38,39,40,41,42,43,44,45,46,47,48,49,50,51,52,53,54,55,56,57,58,59,60,61,62,63,64,65,66,67,68,69,70,71,72,73,74,75,76,77,78,79,80,81,82,83,84,85,86,87,88,89,90,91,92,93,94,95,96,97,98,99,100,101,102,103,104,105,106,107]
["Measure","CRIS Units","Measure Life","QC Check?","Measure Cost \nUpstate",null,"Measure Cost Downstate",null,"Cost","Measure Savings \nLowRise (BTU)",null,"Measure Savings \nHighRise (BTU)",null,"Savings","Source Energy Savings","Source Energy Savings",null,"Demand Savings\n(not used)",null,null,null,"Demand Savings Factors",null,null,null,null,"Full or Incremental Savings","Potential Special Circumstance?","Savings Median Ratio","Savings SC Ratio","Inflated Lifecycle Benefit Adjustment Factors\nRUL =",null,null,null,null,null,null,null,null,null,null,null,null,null,null,null,null,null,null,null,"Cost Median Ratio","Cost SC Ratio","Full Cost Adjustment Factors\nRUL =",null,null,null,null,null,null,null,null,null,null,null,null,null,null,null,null,null,null,null,"EUL Median Ratio","EUL SC (years)","Adjusted EUL",null,null,null,null,null,null,null,null,null,null,null,null,null,null,null,null,null,null,null,null,"Upstate","NYC","Lower Hudson",null,"Cooling","Non-Cooling","Heating","Non-Heating",null,"Upper Limit Check?","Upper Limit\n(Btu)","Upper Limit Units"]
[null,null,null,null,"Min","Max","Min","Max","Units","Min","Max","Min","Max","Units","Min","Max",null,"days/year","hours/day","Diversity factor",null,"Upstate (non-cooling)","Upstate (cooling)","Downstate (non-cooling)","Downstate (cooling)",null,null,null,null,null,1,2,3,4,5,6,7,8,9,10,11,12,13,14,15,16,17,18,19,20,null,null,1,2,3,4,5,6,7,8,9,10,11,12,13,14,15,16,17,18,19,20,null,null,1,2,3,4,5,6,7,8,9,10,11,12,13,14,15,16,17,18,19,20]
["Air Sealing","sqft",15,"y",0.03,0.65584508701881306,0.03,0.5,"Sqft",4000,25000,4000,25000,"$",0,0.05,null,62.5,8,0.84,null,0,1.8500000000000001E-3,0,1.1299999999999999E-3,null,"Full",null,null,null,null,null,null,null,null,null,null,null,null,null,null,null,null,null,null,null,null,null,null,null,null,null,null,null,null,null,null,null,null,null,null,null,null,null,null,null,null,null,null,null,null,null,null,null,null,null,null,null,null,null,null,null,null,null,null,null,null,null,null,null,null,null,null,null,null,1,1,1,null,0,1,0,1,null,"N"]
["Boiler, Replace (Central)","1000 Btu/hr",20,"y",45,80,30,70,"MBH",145000,400000,100000,250000,"MBH",0,0.12,null,0,0,0,null,0,1.8500000000000001E-3,0,1.1299999999999999E-3,null,"Inc","y",0.27,{"$f":"AI7","v":0.52733667679792895},0.35461016691099867,0.35461016691099867,0.41496172409901744,0.47249391479431918,0.52733667679792895,0.57932033746485767,0.62859394947142522,0.67529879497528067,0.67529879497528067,0.7195687907135323,0.76153087198201719,0.80130535659669488,0.83900628988074955,0.83900628988074955,0.87474177166658351,0.90861426625031227,0.94072089618749588,0.97115372077250406,0.97115372077250406,null,0.48,{"$f":"BE7","v":0.60213013600270626},0.50710900473933651,0.53280474382875487,0.55716089462441221,0.5802472934828552,0.60213013600270626,0.62287216682720969,0.64253285955185757,0.66116858725294558,0.67883278412601478,0.69557609869764425,0.71144653904989985,0.72648961047383864,0.74074844594676648,0.75426392980736157,0.76707481498328112,0.77921783410737544,0.79072780484111416,0.80163772970721725,0.81197889071774143,null,{"$f":"0.27*C7","v":5.4},{"$f":"CA7","v":8},5,5,6,7,8,9,10,11,11,12,13,14,15,15,16,17,18,19,19,null,null,1,0.9,1,null,0,1,0,1,null,"Y",17800,"Sqft"]
["Boiler, Replace (In-Unit)","1000 Btu/hr",25,"y",45,80,30,70,"MBH",145000,400000,100000,250000,"MBH",0,0.12,null,0,0,0,null,0,1.8500000000000001E-3,0,1.1299999999999999E-3,null,"Inc","n",0.15,null,0.19989127223431508,0.25935529139625846,0.31571929060189197,0.36945195988236157,0.42067446878931092,0.46950250455957077,0.51578500292000673,0.5596546696123631,0.60123729206957299,0.64065210008588558,0.6780121076842861,0.6780121076842861,0.7134244371614431,0.746990626239317,0.77880691920412637,0.8089645428674529,0.837549968140748,0.86464515797325536,0.89032780236425757,0.91467154112350124,0.16,null,0.20379146919431279,0.24529997080029642,0.28464452208558899,0.3219379356261507,0.35728714277360263,0.39079350025933879,0.42255308081453924,0.45265694863937367,0.48119142051125463,0.50823831328081004,0.5338751784652227,0.55817552461158559,0.58120902806785357,0.60304173276573803,0.62373623958837721,0.64335188586576031,0.66194491551256918,0.67956864029627395,0.69627359269789002,0.7121076708036872,{"$f":"0.15*C8","v":3.75},null,3,4,5,6,7.0000000000000009,8,9,10,11,12,13,13,14.000000000000002,15,16,17,18,19,20,21,null,1,0.9,1,null,0,1,0,1,null,"N"]
["Boiler/Burner Clean and Tune","each",1,"y",500,3250,400,3000,"Each",40000000,175000000,40000000,175000000,"Each",0,0,null,null,null,null,null,0,1.8500000000000001E-3,0,1.1299999999999999E-3,null,"Full",null,null,null,null,null,null,null,null,null,null,null,null,null,null,null,null,null,null,null,null,null,null,null,null,null,null,null,null,null,null,null,null,null,null,null,null,null,null,null,null,null,null,null,null,null,null,null,null,null,null,null,null,null,null,null,null,null,null,null,null,null,null,null,null,null,null,null,null,1,1,1,null,0,1,0,1,null,"N"]
["Burner, Replace","1000 Btu/hr",20,"y",3.25,8.25,3.25,8.25,"MBH",28000,100000,28000,100000,"MBH",0,0.02,null,null,null,null,null,0,1.8500000000000001E-3,0,1.1299999999999999E-3,null,"Full",null,null,null,null,null,null,null,null,null,null,null,null,null,null,null,null,null,null,null,null,null,null,null,null,null,null,null,null,null,null,null,null,null,null,null,null,null,null,null,null,null,null,null,null,null,null,null,null,null,null,null,null,null,null,null,null,null,null,null,null,null,null,null,null,null,null,null,null,1,1,1,null,0,1,0,1,null,"N"]
["Central AC/HP","each",15,"y",0,9999999,0,9999999,"Each",0,9999999999,0,9999999999,"Each",0,0.03,null,null,null,null,null,0,1.8500000000000001E-3,0,1.1299999999999999E-3,null,"Inc","y",{"$f":"VLOOKUP($H$84,$AA$97:$CP$101,AC82)","v":{"$error":"#N/A"}},{"$f":"AH11","v":{"$error":"#N/A"}},{"$f":"VLOOKUP($H$84,$AA$97:$CP$101,AE82)","v":{"$error":"#N/A"}},{"$f":"VLOOKUP($H$84,$AA$97:$CP$101,AF82)","v":{"$error":"#N/A"}},{"$error":"#N/A"},{"$error":"#N/A"},{"$error":"#N/A"},{"$error":"#N/A"},{"$error":"#N/A"},{"$error":"#N/A"},{"$error":"#N/A"},{"$error":"#N/A"},{"$error":"#N/A"},{"$error":"#N/A"},{"$error":"#N/A"},{"$error":"#N/A"},null,null,null,null,null,null,{"$f":"VLOOKUP($H$84,$AA$97:$CP$101,AY82)","v":{"$error":"#N/A"}},{"$f":"BD11","v":{"$error":"#N/A"}},{"$f":"VLOOKUP($H$84,$AA$97:$CP$101,BA82)","v":{"$error":"#N/A"}},{"$error":"#N/A"},{"$error":"#N/A"},{"$error":"#N/A"},{"$error":"#N/A"},{"$error":"#N/A"},{"$error":"#N/A"},{"$error":"#N/A"},{"$error":"#N/A"},{"$error":"#N/A"},{"$error":"#N/A"},{"$error":"#N/A"},{"$error":"#N/A"},{"$error":"#N/A"},null,null,null,null,null,null,{"$f":"VLOOKUP($H$84,$AA$97:$CP$101,BU82)*C11","v":{"$error":"#N/A"}},{"$f":"BZ11","v":{"$error":"#N/A"}},{"$f":"VLOOKUP($H$84,$AA$97:$CP$101,BW82)","v":{"$error":"#N/A"}},{"$error":"#N/A"},{"$error":"#N/A"},{"$error":"#N/A"},{"$error":"#N/A"},{"$error":"#N/A"},{"$error":"#N/A"},{"$error":"#N/A"},{"$error":"#N/A"},{"$error":"#N/A"},{"$error":"#N/A"},{"$error":"#N/A"},{"$error":"#N/A"},{"$error":"#N/A"},null,null,null,null,null,null,null,1,0.9,1,null,0,1,0,1,null,"N"]
["Chiller, Replace","tons",20,"y",800,2600,800,2600,"Tons",2000000,16000000,2000000,16000000,"Tons",0,0.08,null,62.5,8,0.9,null,0,1.8500000000000001E-3,0,1.1299999999999999E-3,null,"Inc","y",{"$f":"VLOOKUP($H$83,$AA$88:$CP$95,AC82)","v":{"$error":"#N/A"}},{"$f":"AI12","v":{"$error":"#N/A"}},{"$f":"VLOOKUP($H$83,$AA$88:$CP$95,AE82)","v":{"$error":"#N/A"}},{"$f":"VLOOKUP($H$83,$AA$88:$CP$95,AF82)","v":{"$error":"#N/A"}},{"$error":"#N/A"},{"$error":"#N/A"},{"$error":"#N/A"},{"$error":"#N/A"},{"$error":"#N/A"},{"$error":"#N/A"},{"$error":"#N/A"},{"$error":"#N/A"},{"$error":"#N/A"},{"$error":"#N/A"},{"$error":"#N/A"},{"$error":"#N/A"},{"$error":"#N/A"},{"$error":"#N/A"},{"$error":"#N/A"},{"$error":"#N/A"},{"$error":"#N/A"},null,{"$error":"#N/A"},{"$f":"BE12","v":{"$error":"#N/A"}},{"$error":"#N/A"},{"$error":"#N/A"},{"$error":"#N/A"},{"$error":"#N/A"},{"$error":"#N/A"},{"$error":"#N/A"},{"$error":"#N/A"},{"$error":"#N/A"},{"$error":"#N/A"},{"$error":"#N/A"},{"$error":"#N/A"},{"$error":"#N/A"},{"$error":"#N/A"},{"$error":"#N/A"},{"$error":"#N/A"},{"$error":"#N/A"},{"$error":"#N/A"},{"$error":"#N/A"},{"$error":"#N/A"},null,{"$f":"VLOOKUP($H$83,$AA$88:$CP$95,BU82)*C12","v":{"$error":"#N/A"}},{"$f":"CA12","v":{"$error":"#N/A"}},{"$f":"VLOOKUP($H$83,$AA$88:$CP$95,BW82)","v":{"$error":"#N/A"}},{"$error":"#N/A"},{"$error":"#N/A"},{"$error":"#N/A"},{"$error":"#N/A"},{"$error":"#N/A"},{"$error":"#N/A"},{"$error":"#N/A"},{"$error":"#N/A"},{"$error":"#N/A"},{"$error":"#N/A"},{"$error":"#N/A"},{"$error":"#N/A"},{"$error":"#N/A"},null,null,null,null,null,null,null,1,1,1,null,0,1,0,1,null,"Y",22000000,"Tons"]
["CHP","1000 Btu/hr",null,"n",null,null,null,null,null,null,null,null,null,null,null,null,null,null,null,null,null,null,null,null,null,null,"Full",null,null,null,null,null,null,null,null,null,null,null,null,null,null,null,null,null,null,null,null,null,null,null,null,null,null,null,null,null,null,null,null,null,null,null,null,null,null,null,null,null,null,null,null,null,null,null,null,null,null,null,null,null,null,null,null,null,null,null,null,null,null,null,null,null,null,null,null,null,null,null,null,null,null,null,null,null,"N"]
["Constant Air Regulators, Install","each",10,"y",0.25,0.5,0.06,0.1,"Sqft",1300,3500,1300,3500,"Sqft",0,3.5000000000000003E-2,null,365,24,1,null,0,1.8500000000000001E-3,0,1.1299999999999999E-3,null,"Full",null,null,null,null,null,null,null,null,null,null,null,null,null,null,null,null,null,null,null,null,null,null,null,null,null,null,null,null,null,null,null,null,null,null,null,null,null,null,null,null,null,null,null,null,null,null,null,null,null,null,null,null,null,null,null,null,null,null,null,null,null,null,null,null,null,null,null,null,1,1,1,null,0,1,0,1,null,"N"]
["Controls","each",10,"y",6,16,6,16,"Unit",115000,600000,100000,600000,"Unit",0,8.0000000000000002E-3,null,365,24,1,null,1.1400000000000001E-4,1.8500000000000001E-3,1.1400000000000001E-4,1.1299999999999999E-3,null,"Full",null,null,null,null,null,null,null,null,null,null,null,null,null,null,null,null,null,null,null,null,null,null,null,null,null,null,null,null,null,null,null,null,null,null,null,null,null,null,null,null,null,null,null,null,null,null,null,null,null,null,null,null,null,null,null,null,null,null,null,null,null,null,null,null,null,null,null,null,1,1,1,null,0,1,0,1,null,"N"]
["DHW Tank, Insulate","Ins. Sqft",11,"y",0.01,0.04,0.01,0.04,"Sqft",225,400,225,400,"Sqft",0,0,null,null,null,null,null,1.1400000000000001E-4,1.8500000000000001E-3,1.1400000000000001E-4,1.1299999999999999E-3,null,"Full",null,null,null,null,null,null,null,null,null,null,null,null,null,null,null,null,null,null,null,null,null,null,null,null,null,null,null,null,null,null,null,null,null,null,null,null,null,null,null,null,null,null,null,null,null,null,null,null,null,null,null,null,null,null,null,null,null,null,null,null,null,null,null,null,null,null,null,null,1,1,1,null,0,1,0,1,null,"N"]
["Dishwasher, Install Energy Star","each",11,"y",350,500,350,500,"Each",850000,2400000,625000,1800000,"Each",0,5.0000000000000001E-3,null,365,0.8,0.41,null,1.1400000000000001E-4,1.8500000000000001E-3,1.1400000000000001E-4,1.1299999999999999E-3,null,"Inc","n",0.33,null,0.43480725185903485,0.52843350907691833,0.52843350907691833,0.61739657199093978,0.70192869789474455,0.7822505761637365,0.7822505761637365,0.85857190441236586,0.93109193595505135,0.93109193595505135,null,null,null,null,null,null,null,null,null,null,0.06,null,0.10900473933649302,0.15545472922890313,0.19948315566720676,0.24121626129593055,0.28077370738950758,0.3182689169568792,0.35380939995912719,0.38749706157263242,0.41942849438164209,0.44969525533804933,null,null,null,null,null,null,null,null,null,null,{"$f":"0.33*C17","v":3.6300000000000003},null,4,5,5,6,7,8,8,9,10,10,null,null,null,null,null,null,null,null,null,null,null,1,1,1,null,0,1,0,1,null,"N"]
["Distribution System, Upgrade","each",null,"y",0.15,0.3,0.15,0.3,"Sqft",750,3750,750,3750,"Sqft",0,0.04,null,null,null,null,null,0,1.8500000000000001E-3,0,1.1299999999999999E-3,null,"Full",null,null,null,null,null,null,null,null,null,null,null,null,null,null,null,null,null,null,null,null,null,null,null,null,null,null,null,null,null,null,null,null,null,null,null,null,null,null,null,null,null,null,null,null,null,null,null,null,null,null,null,null,null,null,null,null,null,null,null,null,null,null,null,null,null,null,null,null,1,1,1,null,0,1,0,1,null,"N"]
["Duct Sealing","sqft",18,"y",0.3,1.1499999999999999,0.3,1.1499999999999999,"Ins. Sqft",4250,14000,4250,14000,"Ins. Sqft",0,0.03,null,0,0,0,null,0,1.8500000000000001E-3,0,1.1299999999999999E-3,null,"Full",null,null,null,null,null,null,null,null,null,null,null,null,null,null,null,null,null,null,null,null,null,null,null,null,null,null,null,null,null,null,null,null,null,null,null,null,null,null,null,null,null,null,null,null,null,null,null,null,null,null,null,null,null,null,null,null,null,null,null,null,null,null,null,null,null,null,null,null,1,1,1.1000000000000001,null,1,0,1,0,null,"N"]
["Economizer, Install","each",10,"y",0,9999999,0,9999999,"Each",0,9999999999,0,9999999999,"Each",0,0.02,null,0,0,0,null,0,1.8500000000000001E-3,0,1.1299999999999999E-3,null,"Full",null,null,null,null,null,null,null,null,null,null,null,null,null,null,null,null,null,null,null,null,null,null,null,null,null,null,null,null,null,null,null,null,null,null,null,null,null,null,null,null,null,null,null,null,null,null,null,null,null,null,null,null,null,null,null,null,null,null,null,null,null,null,null,null,null,null,null,null,1,0.9,1,null,1,0,1,0,null,"N"]
["Elevator Motors and Controls, Upgrade","each",20,"y",3500,50000,3500,50000,"Each",7500000,75000000,7500000,75000000,"Each",0,0.03,null,null,null,null,null,1.1400000000000001E-4,1.8500000000000001E-3,1.1400000000000001E-4,1.1299999999999999E-3,null,"Inc","y",0,0,0,0,0,0,0,0,0,0,0,0,0,0,0,0,0,0,0,0,0,0,0,0,0,0,0,0,0,0,0,0,0,0,0,0,0,0,0,0,0,0,0,0,null,null,null,null,null,null,null,null,null,null,null,null,null,null,null,null,null,null,null,null,null,null,null,1,1,1,null,0,1,1,0,null,"Y",102000000,"Each"]
["Energy Management System (EMS), Install","sqft",15,"y",0.1,0.45,0.12,0.45,"Sqft",15000,45000,15000,45000,"$",0,0.06,null,0,0,0,null,0,1.8500000000000001E-3,0,1.1299999999999999E-3,null,"Full",null,null,null,null,null,null,null,null,null,null,null,null,null,null,null,null,null,null,null,null,null,null,null,null,null,null,null,null,null,null,null,null,null,null,null,null,null,null,null,null,null,null,null,null,null,null,null,null,null,null,null,null,null,null,null,null,null,null,null,null,null,null,null,null,null,null,null,null,1,0.9,1,null,1,0,1,0,null,"Y",8300,"Sqft"]
["Exhaust Fan Demand Control","each",10,"y",1500,18000,1500,18000,"Each",25000000,900000000,25000000,900000000,"Each",0,0.04,null,null,null,null,null,1.1400000000000001E-4,1.8500000000000001E-3,1.1400000000000001E-4,1.1299999999999999E-3,null,"Full",null,null,null,null,null,null,null,null,null,null,null,null,null,null,null,null,null,null,null,null,null,null,null,null,null,null,null,null,null,null,null,null,null,null,null,null,null,null,null,null,null,null,null,null,null,null,null,null,null,null,null,null,null,null,null,null,null,null,null,null,null,null,null,null,null,null,null,null,1,1,1,null,1,0,1,0,null,"N"]
["Exhaust Fans, Replace","each",15,"y",500,1500,500,1500,"Each",500000,4000000,500000,4000000,"Each",0,8.9999999999999993E-3,null,365,24,0.78,null,1.1400000000000001E-4,1.8500000000000001E-3,1.1400000000000001E-4,1.1299999999999999E-3,null,"Inc","y",0,0,0,0,0,0,0,0,0,0,0,0,0,0,0,0,0,0,0,0,0,0,0,0,0,0,0,0,0,0,0,0,0,0,0,0,0,0,0,0,0,0,0,0,null,null,null,null,null,null,null,null,null,null,null,null,null,null,null,null,null,null,null,null,null,null,null,1,1,1,null,1,0,1,0,null,"N"]
["Exterior Doors, Replace","each",20,"y",350,1250,500,1500,"Each",500000,4000000,500000,4000000,"Each",0,0.02,null,62.5,8,0.84,null,0,1.8500000000000001E-3,0,1.1299999999999999E-3,null,"Inc","y",0.63,{"$f":"AI25","v":0.76153087198201719},0.67529879497528067,0.67529879497528067,0.7195687907135323,0.7195687907135323,0.76153087198201719,0.80130535659669488,0.80130535659669488,0.83900628988074955,0.83900628988074955,0.87474177166658351,0.87474177166658351,0.90861426625031227,0.90861426625031227,0.94072089618749588,0.94072089618749588,0.94072089618749588,0.97115372077250406,0.97115372077250406,1,null,0.1,{"$f":"BE25","v":0.31137908154314553},0.14691943127962082,0.19139282585746042,0.23354770223455956,0.27350493102801854,0.31137908154314553,0.34727875027786304,0.38130687230129201,0.41356101639932885,0.44413366483348704,0.47311247851515359,0.50058054835559584,0.52661663351241306,0.55129538721555749,0.57468757082043354,0.59686025670183263,0.61787702057045757,0.6377981237634669,0.65668068603172203,0.67457884931916778,null,{"$f":"0.63*C25","v":12.6},{"$f":"CA25","v":13},11,11,12,12,13,14,14,15,15,16,16,17,17,18,18,18,19,19,20,null,null,1,1,1,null,0,1,0,1,null,"N"]
["Exterior Lighting, Upgrade","each",20,"y",15,110,25,225,"Each",200000,1750000,200000,1750000,"Each",0,1.2999999999999999E-2,null,0,0,0,null,0,1.8500000000000001E-3,0,1.1299999999999999E-3,null,"Full",null,null,null,null,null,null,null,null,null,null,null,null,null,null,null,null,null,null,null,null,null,null,null,null,null,null,null,null,null,null,null,null,null,null,null,null,null,null,null,null,null,null,null,null,null,null,null,null,null,null,null,null,null,null,null,null,null,null,null,null,null,null,null,null,null,null,null,null,1,1,1,null,1,0,1,0,null,"Y",2300000,"Each"]
["Fan/Air Handlers, Upgrade","each",15,"y",500,4000,500,4000,"Each",7500000,40000000,7500000,40000000,"Each",0,0.04,null,null,null,null,null,1.1400000000000001E-4,1.8500000000000001E-3,1.1400000000000001E-4,1.1299999999999999E-3,null,"Inc","y",0,0,0,0,0,0,0,0,0,0,0,0,0,0,0,0,0,0,0,0,0,0,0,0,0,0,0,0,0,0,0,0,0,0,0,0,0,0,0,0,0,0,0,0,null,null,null,null,null,null,null,null,null,null,null,null,null,null,null,null,null,null,null,null,null,null,null,1,1,1,null,0,1,1,0,null,"N"]
["Furnace, Replace","1000 Btu/hr",20,"y",45,80,33,70,"MBH",145000,400000,145000,250000,"MBH",0,0.12,null,0,0,0,null,0,1.8500000000000001E-3,0,1.1299999999999999E-3,null,"Inc","y",{"$f":"VLOOKUP($H$82,$AA$83:$CP$86,AC82)","v":{"$error":"#N/A"}},{"$f":"AI28","v":{"$error":"#N/A"}},{"$f":"VLOOKUP($H$82,$AA$83:$CP$86,AE82)","v":{"$error":"#N/A"}},{"$f":"VLOOKUP($H$82,$AA$83:$CP$86,AF82)","v":{"$error":"#N/A"}},{"$error":"#N/A"},{"$error":"#N/A"},{"$error":"#N/A"},{"$error":"#N/A"},{"$error":"#N/A"},{"$error":"#N/A"},{"$error":"#N/A"},{"$error":"#N/A"},{"$error":"#N/A"},{"$error":"#N/A"},{"$error":"#N/A"},{"$error":"#N/A"},{"$error":"#N/A"},{"$error":"#N/A"},{"$error":"#N/A"},{"$error":"#N/A"},{"$error":"#N/A"},null,{"$error":"#N/A"},{"$f":"BE28","v":{"$error":"#N/A"}},{"$error":"#N/A"},{"$error":"#N/A"},{"$error":"#N/A"},{"$error":"#N/A"},{"$error":"#N/A"},{"$error":"#N/A"},{"$error":"#N/A"},{"$error":"#N/A"},{"$error":"#N/A"},{"$error":"#N/A"},{"$error":"#N/A"},{"$error":"#N/A"},{"$error":"#N/A"},{"$error":"#N/A"},{"$error":"#N/A"},{"$error":"#N/A"},{"$error":"#N/A"},{"$error":"#N/A"},{"$error":"#N/A"},null,{"$f":"VLOOKUP($H$82,$AA$83:$CP$86,BU82)*C28","v":{"$error":"#N/A"}},{"$f":"CA28","v":{"$error":"#N/A"}},{"$error":"#N/A"},{"$error":"#N/A"},{"$error":"#N/A"},{"$error":"#N/A"},{"$error":"#N/A"},{"$error":"#N/A"},{"$error":"#N/A"},{"$error":"#N/A"},{"$error":"#N/A"},{"$error":"#N/A"},{"$error":"#N/A"},{"$error":"#N/A"},{"$error":"#N/A"},{"$error":"#N/A"},{"$error":"#N/A"},{"$error":"#N/A"},{"$error":"#N/A"},{"$error":"#N/A"},{"$error":"#N/A"},null,null,1,0.9,1,null,1,0,1,0,null,"N"]
["Gas-fired Dryers, Replace Electric","each",14,"y",700,1800,1000,1800,"Each",-8000000,2500000,-7500000,2500000,"Each",0,1.4999999999999999E-2,null,null,null,null,null,1.1400000000000001E-4,1.8500000000000001E-3,1.1400000000000001E-4,1.1299999999999999E-3,null,"Full",null,null,null,null,null,null,null,null,null,null,null,null,null,null,null,null,null,null,null,null,null,null,null,null,null,null,null,null,null,null,null,null,null,null,null,null,null,null,null,null,null,null,null,null,null,null,null,null,null,null,null,null,null,null,null,null,null,null,null,null,null,null,null,null,null,null,null,null,1,1,1,null,1,0,1,0,null,"N"]
["Geothermal Heat Pump","1000 Btu/hr",null,"n",null,null,null,null,null,null,null,null,null,null,null,null,null,null,null,null,null,null,null,null,null,null,"Full",null,null,null,null,null,null,null,null,null,null,null,null,null,null,null,null,null,null,null,null,null,null,null,null,null,null,null,null,null,null,null,null,null,null,null,null,null,null,null,null,null,null,null,null,null,null,null,null,null,null,null,null,null,null,null,null,null,null,null,null,null,null,null,null,null,null,null,null,null,null,null,null,null,null,null,null,null,"N"]
["Heat/Energy Recovery","1000 Btu/hr",15,"y",0,9999999,0,9999999,"MBH",0,9999999999,0,9999999999,"MBH",0,0.04,null,0,0,0,null,0,1.8500000000000001E-3,0,1.1299999999999999E-3,null,"Full",null,null,null,null,null,null,null,null,null,null,null,null,null,null,null,null,null,null,null,null,null,null,null,null,null,null,null,null,null,null,null,null,null,null,null,null,null,null,null,null,null,null,null,null,null,null,null,null,null,null,null,null,null,null,null,null,null,null,null,null,null,null,null,null,null,null,null,null,1,0.9,1,null,0,1,1,0,null,"N"]
["High Efficiency Fluorescent, Apt, Install","each",8,"y",5,35,10,100,"Each",30000,120000,30000,140000,"Each",0,3.5000000000000003E-2,null,365,3,0.10299999999999999,null,2.1000000000000001E-4,1.8500000000000001E-3,2.1000000000000001E-4,1.1299999999999999E-3,null,"Full",null,null,null,null,null,null,null,null,null,null,null,null,null,null,null,null,null,null,null,null,null,null,null,null,null,null,null,null,null,null,null,null,null,null,null,null,null,null,null,null,null,null,null,null,null,null,null,null,null,null,null,null,null,null,null,null,null,null,null,null,null,null,null,null,null,null,null,null,1,1,1,null,0,1,1,0,null,"Y",300000,"Unit"]
["High Efficiency Fluorescent, CA, Install","each",15,"y",20,160,60,240,"Each",55000,300000,100000,450000,"Each",0,3.5000000000000003E-2,null,365,24,0.9,null,1.1400000000000001E-4,1.8500000000000001E-3,1.1400000000000001E-4,1.1299999999999999E-3,null,"Full",null,null,null,null,null,null,null,null,null,null,null,null,null,null,null,null,null,null,null,null,null,null,null,null,null,null,null,null,null,null,null,null,null,null,null,null,null,null,null,null,null,null,null,null,null,null,null,null,null,null,null,null,null,null,null,null,null,null,null,null,null,null,null,null,null,null,null,null,1,1,1,null,0,1,1,0,null,"Y",918000,"Each"]
["Insulation, Above Grade Walls","Ins. sqft",30,"y",1.5,3.5,1.5,3.5,"Ins. Sqft",5000,22500,5000,22500,"Ins. Sqft",0,0.05,null,62.5,8,0.84,null,0,1.8500000000000001E-3,0,1.1299999999999999E-3,null,"Full",null,null,null,null,null,null,null,null,null,null,null,null,null,null,null,null,null,null,null,null,null,null,null,null,null,null,null,null,null,null,null,null,null,null,null,null,null,null,null,null,null,null,null,null,null,null,null,null,null,null,null,null,null,null,null,null,null,null,null,null,null,null,null,null,null,null,null,null,1,1,1,null,0,1,1,0,null,"Y",27500,"Ins. Sqft"]
["Insulation, Below Grade Walls","Ins. sqft",30,"y",1.5,3.5,1.5,3.5,"Ins. Sqft",5000,22500,5000,22500,"Ins. Sqft",0,0.02,null,62.5,8,0.84,null,0,1.8500000000000001E-3,0,1.1299999999999999E-3,null,"Full",null,null,null,null,null,null,null,null,null,null,null,null,null,null,null,null,null,null,null,null,null,null,null,null,null,null,null,null,null,null,null,null,null,null,null,null,null,null,null,null,null,null,null,null,null,null,null,null,null,null,null,null,null,null,null,null,null,null,null,null,null,null,null,null,null,null,null,null,1,1,1,null,1,0,1,0,null,"N"]
["Insulation, Other Shell","Ins. sqft",30,"y",1,4.5,1.5,4.5,"Ins. Sqft",6000,55000,4500,50000,"Ins. Sqft",0,0.03,null,null,null,null,null,0,1.8500000000000001E-3,0,1.1299999999999999E-3,null,"Full",null,null,null,null,null,null,null,null,null,null,null,null,null,null,null,null,null,null,null,null,null,null,null,null,null,null,null,null,null,null,null,null,null,null,null,null,null,null,null,null,null,null,null,null,null,null,null,null,null,null,null,null,null,null,null,null,null,null,null,null,null,null,null,null,null,null,null,null,1,1,1,null,1,0,0,1,null,"N"]
["Insulation, Roof Deck or Attic","Ins. Sqft",30,"y",1,3,2,4,"Ins. Sqft",3200,17500,7500,20000,"Ins. Sqft",0,0.05,null,62.5,8,0.84,null,0,1.8500000000000001E-3,0,1.1299999999999999E-3,null,"Full",null,null,null,null,null,null,null,null,null,null,null,null,null,null,null,null,null,null,null,null,null,null,null,null,null,null,null,null,null,null,null,null,null,null,null,null,null,null,null,null,null,null,null,null,null,null,null,null,null,null,null,null,null,null,null,null,null,null,null,null,null,null,null,null,null,null,null,null,1,1,1,null,1,0,1,0,null,"Y",40000,"Ins. Sqft"]
["Insulation, Slab","Ins. sqft",30,"y",0,9999999,0,9999999,"Ins. Sqft",0,9999999999,0,9999999999,"Ins. Sqft",0,0.03,null,null,null,null,null,0,1.8500000000000001E-3,0,1.1299999999999999E-3,null,"Full",null,null,null,null,null,null,null,null,null,null,null,null,null,null,null,null,null,null,null,null,null,null,null,null,null,null,null,null,null,null,null,null,null,null,null,null,null,null,null,null,null,null,null,null,null,null,null,null,null,null,null,null,null,null,null,null,null,null,null,null,null,null,null,null,null,null,null,null,1,1,1,null,1,0,1,0,null,"N"]
["LED Exit Signs","each",15,"y",50,160,50,180,"Each",100000,1000000,100000,1000000,"Each",0,1.4999999999999999E-2,null,null,null,null,null,1.1400000000000001E-4,1.8500000000000001E-3,1.1400000000000001E-4,1.1299999999999999E-3,null,"Full",null,null,null,null,null,null,null,null,null,null,null,null,null,null,null,null,null,null,null,null,null,null,null,null,null,null,null,null,null,null,null,null,null,null,null,null,null,null,null,null,null,null,null,null,null,null,null,null,null,null,null,null,null,null,null,null,null,null,null,null,null,null,null,null,null,null,null,null,1,1,1,null,1,0,1,0,null,"Y",1140000,"Each"]
["LED Fixtures & Screw-Ins","each",15,"y",25,225,20,300,"Each",67250,1600000,67250,1600000,"Each",0,3.5000000000000003E-2,null,null,null,null,null,1.1400000000000001E-4,1.8500000000000001E-3,1.1400000000000001E-4,1.1299999999999999E-3,null,"Full",null,null,null,null,null,null,null,null,null,null,null,null,null,null,null,null,null,null,null,null,null,null,null,null,null,null,null,null,null,null,null,null,null,null,null,null,null,null,null,null,null,null,null,null,null,null,null,null,null,null,null,null,null,null,null,null,null,null,null,null,null,null,null,null,null,null,null,null,1,1,1,null,1,0,1,0,null,"Y",1600000,"Each"]
["Low-flow Devices","each",10,"y",10,45,15,100,"Unit",500000,3000000,500000,4000000,"Unit",0,0.03,null,365,24,0.98,null,1.1400000000000001E-4,1.8500000000000001E-3,1.1400000000000001E-4,1.1299999999999999E-3,null,"Full",null,null,null,null,null,null,null,null,null,null,null,null,null,null,null,null,null,null,null,null,null,null,null,null,null,null,null,null,null,null,null,null,null,null,null,null,null,null,null,null,null,null,null,null,null,null,null,null,null,null,null,null,null,null,null,null,null,null,null,null,null,null,null,null,null,null,null,null,1,1,1,null,1,0,1,0,null,"Y",2400000,"Each"]
["Motors, Install NEMA Premium Efficiency","each",15,"y",525,4000,500,4000,"Each",2000000,11000000,2000000,11000000,"Each",0,8.9999999999999993E-3,null,365,24,0.78,null,1.1400000000000001E-4,1.8500000000000001E-3,1.1400000000000001E-4,1.1299999999999999E-3,null,"Inc","y",0,0,0,0,0,0,0,0,0,0,0,0,0,0,0,0,0,0,0,0,0,0,0,0,0,0,0,0,0,0,0,0,0,0,0,0,0,0,0,0,0,0,0,0,null,null,null,null,null,null,null,null,null,null,null,null,null,null,null,null,null,null,null,null,null,null,null,1,1,1,null,0,1,1,0,null,"Y",23000000,"Each"]
["Other",null,null,"y",0,9999999,0,9999999,"Each",0,9999999999,0,9999999999,"Each",0,0.03,null,null,null,null,null,1.1400000000000001E-4,1.8500000000000001E-3,1.1400000000000001E-4,1.1299999999999999E-3,null,"Full",null,null,null,null,null,null,null,null,null,null,null,null,null,null,null,null,null,null,null,null,null,null,null,null,null,null,null,null,null,null,null,null,null,null,null,null,null,null,null,null,null,null,null,null,null,null,null,null,null,null,null,null,null,null,null,null,null,null,null,null,null,null,null,null,null,null,null,null,1,1,1,null,0,1,1,0,null,"N"]
["Other Appliances, Install Energy Star","each",null,"y",200,2500,200,2500,"Each",1500000,5500000,1500000,5500000,"Each",0,0.02,null,null,null,null,null,1.1400000000000001E-4,1.8500000000000001E-3,1.1400000000000001E-4,1.1299999999999999E-3,null,"Full",null,null,null,null,null,null,null,null,null,null,null,null,null,null,null,null,null,null,null,null,null,null,null,null,null,null,null,null,null,null,null,null,null,null,null,null,null,null,null,null,null,null,null,null,null,null,null,null,null,null,null,null,null,null,null,null,null,null,null,null,null,null,null,null,null,null,null,null,1,1,1,null,1,0,1,0,null,"N"]
["Other Cooling Measure",null,null,"y",0,9999999,0,9999999,"Each",0,9999999999,0,9999999999,"Each",0,0.02,null,null,null,null,null,0,1.8500000000000001E-3,0,1.1299999999999999E-3,null,"Full",null,null,null,null,null,null,null,null,null,null,null,null,null,null,null,null,null,null,null,null,null,null,null,null,null,null,null,null,null,null,null,null,null,null,null,null,null,null,null,null,null,null,null,null,null,null,null,null,null,null,null,null,null,null,null,null,null,null,null,null,null,null,null,null,null,null,null,null,1,1,1,null,1,0,1,0,null,"N"]
["Other DHW Measure",null,null,"y",0,9999999,0,9999999,"Each",0,9999999999,0,9999999999,"Each",0,0.02,null,null,null,null,null,1.1400000000000001E-4,1.8500000000000001E-3,1.1400000000000001E-4,1.1299999999999999E-3,null,"Full",null,null,null,null,null,null,null,null,null,null,null,null,null,null,null,null,null,null,null,null,null,null,null,null,null,null,null,null,null,null,null,null,null,null,null,null,null,null,null,null,null,null,null,null,null,null,null,null,null,null,null,null,null,null,null,null,null,null,null,null,null,null,null,null,null,null,null,null,1,1,1,null,0,1,1,0,null,"N"]
["Other Envelope Measure",null,null,"y",0,9999999,0,9999999,"Each",0,9999999999,0,9999999999,"Each",0,0.02,null,null,null,null,null,0,1.8500000000000001E-3,0,1.1299999999999999E-3,null,"Full",null,null,null,null,null,null,null,null,null,null,null,null,null,null,null,null,null,null,null,null,null,null,null,null,null,null,null,null,null,null,null,null,null,null,null,null,null,null,null,null,null,null,null,null,null,null,null,null,null,null,null,null,null,null,null,null,null,null,null,null,null,null,null,null,null,null,null,null,1,1,1,null,0,1,1,0,null,"N"]
["Other Heating Measure",null,null,"y",0,9999999,0,9999999,"Each",0,9999999999,0,9999999999,"Each",0,0.02,null,null,null,null,null,0,1.8500000000000001E-3,0,1.1299999999999999E-3,null,"Full",null,null,null,null,null,null,null,null,null,null,null,null,null,null,null,null,null,null,null,null,null,null,null,null,null,null,null,null,null,null,null,null,null,null,null,null,null,null,null,null,null,null,null,null,null,null,null,null,null,null,null,null,null,null,null,null,null,null,null,null,null,null,null,null,null,null,null,null,1,1,1,null,0,1,1,0,null,"N"]
["Other Lighting Measure","each",null,"y",0,9999999,0,9999999,"Each",0,9999999999,0,9999999999,"Each",0,0.02,null,null,null,null,null,1.1400000000000001E-4,1.8500000000000001E-3,1.1400000000000001E-4,1.1299999999999999E-3,null,"Full",null,null,null,null,null,null,null,null,null,null,null,null,null,null,null,null,null,null,null,null,null,null,null,null,null,null,null,null,null,null,null,null,null,null,null,null,null,null,null,null,null,null,null,null,null,null,null,null,null,null,null,null,null,null,null,null,null,null,null,null,null,null,null,null,null,null,null,null,1,1,1,null,1,0,1,0,null,"N"]
["Other Motor Measure","each",15,"y",525,4000,500,4000,"Each",2000000,11000000,2000000,11000000,"Each",0,8.9999999999999993E-3,null,365,24,0.78,null,1.1400000000000001E-4,1.8500000000000001E-3,1.1400000000000001E-4,1.1299999999999999E-3,null,"Inc","y",0,0,0,0,0,0,0,0,0,0,0,0,0,0,0,0,0,0,0,0,0,0,0,0,0,0,0,0,0,0,0,0,0,0,0,0,0,0,0,0,0,0,0,0,null,null,null,null,null,null,null,null,null,null,null,null,null,null,null,null,null,null,null,null,null,null,null,1,1,1,null,1,0,1,0,null,"N"]
["Other Ventilation Measure",null,null,"y",0,9999999,0,9999999,"Each",0,9999999999,0,9999999999,"Each",0,0.03,null,null,null,null,null,1.1400000000000001E-4,1.8500000000000001E-3,1.1400000000000001E-4,1.1299999999999999E-3,null,"Full",null,null,null,null,null,null,null,null,null,null,null,null,null,null,null,null,null,null,null,null,null,null,null,null,null,null,null,null,null,null,null,null,null,null,null,null,null,null,null,null,null,null,null,null,null,null,null,null,null,null,null,null,null,null,null,null,null,null,null,null,null,null,null,null,null,null,null,null,1,1,1,null,1,0,1,0,null,"N"]
["Outdoor Reset Control, Install","each",15,"y",1200,8500,1200,8500,"Each",13000000,250000000,13000000,250000000,"Each",0,0.03,null,null,null,null,null,0,1.8500000000000001E-3,0,1.1299999999999999E-3,null,"Full",null,null,null,null,null,null,null,null,null,null,null,null,null,null,null,null,null,null,null,null,null,null,null,null,null,null,null,null,null,null,null,null,null,null,null,null,null,null,null,null,null,null,null,null,null,null,null,null,null,null,null,null,null,null,null,null,null,null,null,null,null,null,null,null,null,null,null,null,1,1,1,null,1,0,0,1,null,"N"]
["PTAC",null,null,"n",null,null,null,null,null,null,null,null,null,null,null,null,null,null,null,null,null,null,null,null,null,null,"Full",null,null,null,null,null,null,null,null,null,null,null,null,null,null,null,null,null,null,null,null,null,null,null,null,null,null,null,null,null,null,null,null,null,null,null,null,null,null,null,null,null,null,null,null,null,null,null,null,null,null,null,null,null,null,null,null,null,null,null,null,null,null,null,null,null,null,null,null,null,null,null,null,null,null,null,null,null,"N"]
["Photovoltaic System",null,null,"n",null,null,null,null,null,null,null,null,null,null,null,null,null,null,null,null,null,null,null,null,null,null,"Full",null,null,null,null,null,null,null,null,null,null,null,null,null,null,null,null,null,null,null,null,null,null,null,null,null,null,null,null,null,null,null,null,null,null,null,null,null,null,null,null,null,null,null,null,null,null,null,null,null,null,null,null,null,null,null,null,null,null,null,null,null,null,null,null,null,null,null,null,null,null,null,null,null,null,null,null,null,"N"]
["Piping, DHW, Insulate","Ins. Sqft",11,"y",1.33,8,2,10,"Ins. Sqft",7500,35000,7500,45000,"$",0,1.4999999999999999E-2,null,365,24,0.98,null,1.1400000000000001E-4,1.8500000000000001E-3,1.1400000000000001E-4,1.1299999999999999E-3,null,"Full",null,null,null,null,null,null,null,null,null,null,null,null,null,null,null,null,null,null,null,null,null,null,null,null,null,null,null,null,null,null,null,null,null,null,null,null,null,null,null,null,null,null,null,null,null,null,null,null,null,null,null,null,null,null,null,null,null,null,null,null,null,null,null,null,null,null,null,null,1,1,1,null,1,0,0,1,null,"Y",3300,"Sqft"]
["Piping, Heating, Insulate","Ins. Sqft",11,"y",2.6,8,2.75,10,"Ins. Sqft",10000,35000,8500,45000,"$",0,1.4999999999999999E-2,null,365,24,0.98,null,1.1400000000000001E-4,1.8500000000000001E-3,1.1400000000000001E-4,1.1299999999999999E-3,null,"Full",null,null,null,null,null,null,null,null,null,null,null,null,null,null,null,null,null,null,null,null,null,null,null,null,null,null,null,null,null,null,null,null,null,null,null,null,null,null,null,null,null,null,null,null,null,null,null,null,null,null,null,null,null,null,null,null,null,null,null,null,null,null,null,null,null,null,null,null,1,1,1,null,0,1,1,0,null,"Y",1700000,"Ins. Sqft"]
["Programmable Thermostats, Common Area","each",11,"y",50,325,50,325,"Each",875000,5000000,900000,5000000,"Each",0,1.4999999999999999E-2,null,0,0,0,null,0,1.8500000000000001E-3,0,1.1299999999999999E-3,null,"Full",null,null,null,null,null,null,null,null,null,null,null,null,null,null,null,null,null,null,null,null,null,null,null,null,null,null,null,null,null,null,null,null,null,null,null,null,null,null,null,null,null,null,null,null,null,null,null,null,null,null,null,null,null,null,null,null,null,null,null,null,null,null,null,null,null,null,null,null,1,0.9,1,null,0,1,1,0,null,"Y",3900000,"Unit"]
["Pumps, Upgrade","each",15,"y",500,4000,500,4000,"Each",2000000,11000000,1500000,11000000,"Each",0,8.9999999999999993E-3,null,365,24,0.78,null,1.1400000000000001E-4,1.8500000000000001E-3,1.1400000000000001E-4,1.1299999999999999E-3,null,"Inc","y",0,0,0,0,0,0,0,0,0,0,0,0,0,0,0,0,0,0,0,0,0,0,0,0,0,0,0,0,0,0,0,0,0,0,0,0,0,0,0,0,0,0,0,0,null,null,null,null,null,null,null,null,null,null,null,null,null,null,null,null,null,null,null,null,null,null,null,1,1,1,null,0,1,1,0,null,"Y",36000000,"Each"]
["Refrigerators, install Energy Star","each",17,"y",400,750,400,750,"Each",341200,1194200,341200,1194200,"Each",0,0.04,null,365,24,0.86299999999999999,null,1.1400000000000001E-4,1.8500000000000001E-3,1.1400000000000001E-4,1.1299999999999999E-3,null,"Inc","n",0.11,null,0.17133905636692398,0.24932238283465552,0.32296496856531393,0.39250842969660382,0.45858817582470179,0.5213767224015019,0.58103799249150057,0.63772774472836724,0.69159397995650529,0.74277732761922666,0.79141141290229378,0.79141141290229378,0.83762320559133174,0.88153335155388268,0.92315434298758037,0.96260551970198549,null,null,null,null,0.12,null,0.16587677725118488,0.20936187417173913,0.25057997551823608,0.2896492658940627,0.32668176861996456,0.36178366693835495,0.39505560847237442,0.42659299381267712,0.45648625005940957,0.48482109010370578,0.51167875839213806,0.53713626387880398,0.5612666008329894,0.58413895813553496,0.60581891766401419,0.62636864233555856,null,null,null,null,{"$f":"0.11*C59","v":1.87},null,2,3,4,5,6,7.0000000000000009,8,9,10,10.999999999999998,12,12,13,14.000000000000002,15,16,null,null,null,null,null,1,1,1,null,0,1,1,0,null,"Y",{"$f":"650*3413","v":2218450},"Each"]
["Replace DHW Heater (Central)","1000 Btu/hr",15,"y",0.3,0.75,0.3,0.75,"Sqft",1500,5500,1500,7000,"Sqft",0,0.04,null,365,24,0.98,null,1.1400000000000001E-4,1.8500000000000001E-3,1.1400000000000001E-4,1.1299999999999999E-3,null,"Inc","y",0.21,{"$f":"AH60","v":0.49430204324750487},0.34701576701144321,0.34701576701144321,0.42239940787638042,0.49430204324750487,0.56288174250685241,0.62828955460999381,0.62828955460999381,0.69028748077410884,0.74905328756473932,0.80475547409614245,0.85755375516856258,0.90759951921824988,0.90759951921824988,0.95503626239330885,null,null,null,null,null,null,0.22,{"$f":"BD60","v":0.37037094022428285},0.26066350710900477,0.29920711574313241,0.33574134193661831,0.37037094022428285,0.4031952040040595,0.43430825024081465,0.46379928932778647,0.49175288087941837,0.51824917618902211,0.54336414804646638,0.56716980857484967,0.58973441571075802,0.61112266892014977,0.6313958947110424,null,null,null,null,null,null,{"$f":"0.21*C60","v":3.15},{"$f":"BZ60","v":6},4,4,5.0000000000000009,6,6.9999999999999991,8,8,9,10.000000000000002,11,12,13,13,13.999999999999998,null,null,null,null,null,null,null,1,1,1,null,0,1,0,1,null,"Y",12000000,"Unit"]
["Replace DHW Heater (In-Unit)","1000 Btu/hr",11,"y",0.3,0.75,0.3,0.75,"Sqft",1500,5500,1500,7000,"Sqft",0,0.04,null,365,24,0.98,null,1.1400000000000001E-4,1.8500000000000001E-3,1.1400000000000001E-4,1.1299999999999999E-3,null,"Inc","n",0.21,null,0.33209997878971165,0.43066542504053229,0.43066542504053229,0.52409238831145244,0.61336323460968278,0.69865738561109447,0.78014685109008031,0.85738805059622791,0.85738805059622791,0.93060245771105976,null,null,null,null,null,null,null,null,null,null,0.22,null,0.26066350710900477,0.29920711574313241,0.33574134193661831,0.37037094022428285,0.4031952040040595,0.43430825024081465,0.46379928932778647,0.49175288087941837,0.51824917618902211,0.54336414804646638,null,null,null,null,null,null,null,null,null,null,{"$f":"0.21*C61","v":2.31},null,3,4,4,5,6,7,8,9,9,10,null,null,null,null,null,null,null,null,null,null,null,1,1,1,null,0,1,1,0,null,"N"]
["Replace DHW Indirect-fired Heater","1000 Btu/hr",15,"y",0.3,0.65,0.3,0.65,"Sqft",3000,5500,3000,7000,"Sqft",0,0.04,null,365,24,0.98,null,1.1400000000000001E-4,1.8500000000000001E-3,1.1400000000000001E-4,1.1299999999999999E-3,null,"Inc","y",0.34,{"$f":"AH62","v":0.56288174250685241},0.42239940787638042,0.49430204324750487,0.49430204324750487,0.56288174250685241,0.62828955460999381,0.69028748077410884,0.69028748077410884,0.74905328756473932,0.80475547409614245,0.85755375516856258,0.85755375516856258,0.90759951921824988,0.95503626239330885,0.95503626239330885,null,null,null,null,null,null,0.93,{"$f":"BD62","v":0.94349482796884598},0.93364928909952616,0.93710833090002477,0.94038704350713243,0.94349482796884598,0.94644059523113355,0.94923279168827823,0.95187942340121168,0.95438807905328116,0.95676595170927126,0.95901985944006751,0.96115626487210193,0.96318129371763217,0.96510075233898784,0.96692014439714491,null,null,null,null,null,null,{"$f":"0.34*C62","v":5.1000000000000005},{"$f":"BZ62","v":6.9999999999999991},5.0000000000000009,6,6,6.9999999999999991,8,9,9,10.000000000000002,11,12,12,13,13.999999999999998,13.999999999999998,null,null,null,null,null,null,null,1,1,1,null,0,1,1,0,null,"N"]
["Smoke-Driven Louver, Install","each",15,"y",1500,5000,1500,5000,"Each",6000000,80000000,6000000,80000000,"Each",0,1.4999999999999999E-2,null,null,null,null,null,0,1.8500000000000001E-3,0,1.1299999999999999E-3,null,"Full",null,null,null,null,null,null,null,null,null,null,null,null,null,null,null,null,null,null,null,null,null,null,null,null,null,null,null,null,null,null,null,null,null,null,null,null,null,null,null,null,null,null,null,null,null,null,null,null,null,null,null,null,null,null,null,null,null,null,null,null,null,null,null,null,null,null,null,null,1,1,1,null,0,1,1,0,null,"N"]
["Solar Hot Water",null,null,"n",null,null,null,null,null,null,null,null,null,null,null,null,null,null,null,null,null,null,null,null,null,null,"Full",null,null,null,null,null,null,null,null,null,null,null,null,null,null,null,null,null,null,null,null,null,null,null,null,null,null,null,null,null,null,null,null,null,null,null,null,null,null,null,null,null,null,null,null,null,null,null,null,null,null,null,null,null,null,null,null,null,null,null,null,null,null,null,null,null,null,null,null,null,null,null,null,null,null,null,null,null,"N"]
["Split System AC/HP","each",15,"y",0,9999999,0,9999999,"Each",0,9999999999,0,9999999999,"Each",0,0.03,null,null,null,null,null,0,1.8500000000000001E-3,0,1.1299999999999999E-3,null,"Inc","y",{"$f":"VLOOKUP($H$84,$AA$97:$CP$101,AC82)","v":{"$error":"#N/A"}},{"$f":"AH65","v":{"$error":"#N/A"}},{"$f":"VLOOKUP($H$84,$AA$97:$CP$101,AE82)","v":{"$error":"#N/A"}},{"$f":"VLOOKUP($H$84,$AA$97:$CP$101,AF82)","v":{"$error":"#N/A"}},{"$error":"#N/A"},{"$error":"#N/A"},{"$error":"#N/A"},{"$error":"#N/A"},{"$error":"#N/A"},{"$error":"#N/A"},{"$error":"#N/A"},{"$error":"#N/A"},{"$error":"#N/A"},{"$error":"#N/A"},{"$error":"#N/A"},{"$error":"#N/A"},null,null,null,null,null,null,{"$f":"VLOOKUP($H$84,$AA$97:$CP$101,AY82)","v":{"$error":"#N/A"}},{"$f":"BD65","v":{"$error":"#N/A"}},{"$error":"#N/A"},{"$error":"#N/A"},{"$error":"#N/A"},{"$error":"#N/A"},{"$error":"#N/A"},{"$error":"#N/A"},{"$error":"#N/A"},{"$error":"#N/A"},{"$error":"#N/A"},{"$error":"#N/A"},{"$error":"#N/A"},{"$error":"#N/A"},{"$error":"#N/A"},{"$error":"#N/A"},null,null,null,null,null,null,{"$f":"VLOOKUP($H$84,$AA$97:$CP$101,BU82)*C65","v":{"$error":"#N/A"}},{"$f":"BZ65","v":{"$error":"#N/A"}},{"$f":"VLOOKUP($H$84,$AA$97:$CP$101,BW82)","v":{"$error":"#N/A"}},{"$error":"#N/A"},{"$error":"#N/A"},{"$error":"#N/A"},{"$error":"#N/A"},{"$error":"#N/A"},{"$error":"#N/A"},{"$error":"#N/A"},{"$error":"#N/A"},{"$error":"#N/A"},{"$error":"#N/A"},{"$error":"#N/A"},{"$error":"#N/A"},{"$error":"#N/A"}," "," ",null,null,null,null,null,1,0.9,1,null,0,1,0,1,null,"N"]
["Steam Traps, Replace","each",5,"y",75,150,75,150,"Each",1750000,5750000,1750000,5750000,"Each",0,3.5000000000000003E-2,null,null,null,null,null,0,1.8500000000000001E-3,0,1.1299999999999999E-3,null,"Full",null,null,null,null,null,null,null,null,null,null,null,null,null,null,null,null,null,null,null,null,null,null,null,null,null,null,null,null,null,null,null,null,null,null,null,null,null,null,null,null,null,null,null,null,null,null,null,null,null,null,null,null,null,null,null,null,null,null,null,null,null,null,null,null,null,null,null,null,1,1,1,null,0,1,0,1,null,"N"]
["Submetering","each",null,"y",375,650,375,650,"Each",1000000,4000000,1000000,4000000,"Each",0,0.09,null,null,null,null,null,null,null,null,null,null,"Full",null,null,null,null,null,null,null,null,null,null,null,null,null,null,null,null,null,null,null,null,null,null,null,null,null,null,null,null,null,null,null,null,null,null,null,null,null,null,null,null,null,null,null,null,null,null,null,null,null,null,null,null,null,null,null,null,null,null,null,null,null,null,null,null,null,null,null,null,null,null,null,null,null,null,null,null,null,"Y",{"$f":"'Energy and Water Use'!$D$33*'Energy and Water Use'!$F$82*1000000*16%","v":0},"Total"]
["Thermostatic Radiator Valves, install","each",12,"y",200,625,200,750,"Unit",2000000,6000000,3000000,9000000,"Unit",0,0.05,null,0,0,0,null,0,1.8500000000000001E-3,0,1.1299999999999999E-3,null,"Full",null,null,null,null,null,null,null,null,null,null,null,null,null,null,null,null,null,null,null,null,null,null,null,null,null,null,null,null,null,null,null,null,null,null,null,null,null,null,null,null,null,null,null,null,null,null,null,null,null,null,null,null,null,null,null,null,null,null,null,null,null,null,null,null,null,null,null,null,1,0.9,1,null,0,1,0,1,null,"Y",8000000,"Unit"]
["Timers/Sensors, Install","each",8,"y",50,160,60,240,"Each",180000,300000,180000,450000,"Each",0,3.5000000000000003E-2,null,0,0,0,null,0,1.8500000000000001E-3,0,1.1299999999999999E-3,null,"Full",null,null,null,null,null,null,null,null,null,null,null,null,null,null,null,null,null,null,null,null,null,null,null,null,null,null,null,null,null,null,null,null,null,null,null,null,null,null,null,null,null,null,null,null,null,null,null,null,null,null,null,null,null,null,null,null,null,null,null,null,null,null,null,null,null,null,null,null,1,1,1,null,0,1,0,1,null,"Y",1200000,"Each"]
["Var. Speed Drive","each",15,"y",575,20000,725,20000,"Each",2500000,40000000,2500000,40000000,"Each",0,0.03,null,365,24,0.78,null,1.1400000000000001E-4,1.8500000000000001E-3,1.1400000000000001E-4,1.1299999999999999E-3,null,"Full",null,null,null,null,null,null,null,null,null,null,null,null,null,null,null,null,null,null,null,null,null,null,null,null,null,null,null,null,null,null,null,null,null,null,null,null,null,null,null,null,null,null,null,null,null," "," "," "," "," "," "," "," "," "," "," "," "," "," "," "," "," "," ",null,null,null,null,null,1,1,1,null,0,1,0,1,null,"N"]
["Ventilation Central Controls","each",10,"y",0.25,0.5,0.02,0.1,"Sqft",500,3500,500,3500,"Sqft",0,3.5000000000000003E-2,null,null,null,null,null,0,1.8500000000000001E-3,0,1.1299999999999999E-3,null,"Full",null,null,null,null,null,null,null,null,null,null,null,null,null,null,null,null,null,null,null,null,null,null,null,null,null,null,null,null,null,null,null,null,null,null,null,null,null,null,null,null,null,null,null,null,null," "," "," "," "," "," "," "," "," "," "," "," "," "," "," "," "," "," ",null,null,null,null,null,1,1,1.1000000000000001,null,0,1,0,1,null,"N"]
["Vertical Shafts, Seal","each",15,"y",2300,5000,2300,5000,"Each",38000000,75000000,38000000,75000000,"Each",0,0.02,null,null,null,null,null,0,1.8500000000000001E-3,0,1.1299999999999999E-3,null,"Full",null,null,null,null,null,null,null,null,null,null,null,null,null,null,null,null,null,null,null,null,null,null,null,null,null,null,null,null,null,null,null,null,null,null,null,null,null,null,null,null,null,null,null,null,null,null,null,null,null,null,null,null,null,null,null,null,null,null,null,null,null,null,null,null,null,null,null,null,1,1,1,null,0,1,0,1,null,"N"]
["Washing Machines, Install Energy Star","each",14,"y",750,1750,1000,1875,"Each",2225000,5000000,7000000,12500000,"Each",0,8.0000000000000002E-3,null,365,1.1000000000000001,0.52300000000000002,null,1.1400000000000001E-4,1.8500000000000001E-3,1.1400000000000001E-4,1.1299999999999999E-3,null,"Inc","n",0.39,null,0.44525647158411813,0.52021647849890917,0.59144299133148948,0.59144299133148948,0.65912196228004571,0.72343008191833225,0.72343008191833225,0.78453524048458234,0.8425969661952436,0.8425969661952436,0.89776684172784782,0.95018889996033573,0.95018889996033573,null,null,null,null,null,null,null,0.24,null,0.27962085308056872,0.31717616405741111,0.35277361522029482,0.38651527509032679,0.41849789108087843,0.44881316690130657,0.47754802549886877,0.50478485829276665,0.53060176141494475,0.55507275963501856,0.57826801861139199,0.60025404607714883,0.6210938825375818,null,null,null,null,null,null,null,{"$f":"0.39*C73","v":5.46},null,5,6,7,7,8.0000000000000018,9,9,10,11,11,12,13,13,null,null,null,null,null,null,null,null,1,1,1,null,0,1,0,1,null,"Y",1200000,"Unit"]
["Water Source AC/HP","1000 Btu/hr",15,"y",0,9999999,0,9999999,"Each",0,9999999999,0,9999999999,"Each",0,0.08,null,null,null,null,null,0,1.8500000000000001E-3,0,1.1299999999999999E-3,null,"Inc","y",{"$f":"VLOOKUP($H$84,$AA$97:$CP$101,AC82)","v":{"$error":"#N/A"}},{"$f":"AH74","v":{"$error":"#N/A"}},{"$f":"VLOOKUP($H$84,$AA$97:$CP$101,AE82)","v":{"$error":"#N/A"}},{"$f":"VLOOKUP($H$84,$AA$97:$CP$101,AF82)","v":{"$error":"#N/A"}},{"$error":"#N/A"},{"$error":"#N/A"},{"$error":"#N/A"},{"$error":"#N/A"},{"$error":"#N/A"},{"$error":"#N/A"},{"$error":"#N/A"},{"$error":"#N/A"},{"$error":"#N/A"},{"$error":"#N/A"},{"$error":"#N/A"},{"$error":"#N/A"},null,null,null,null,null,null,{"$f":"VLOOKUP($H$84,$AA$97:$CP$101,AY82)","v":{"$error":"#N/A"}},{"$f":"BD74","v":{"$error":"#N/A"}},{"$error":"#N/A"},{"$error":"#N/A"},{"$error":"#N/A"},{"$error":"#N/A"},{"$error":"#N/A"},{"$error":"#N/A"},{"$error":"#N/A"},{"$error":"#N/A"},{"$error":"#N/A"},{"$error":"#N/A"},{"$error":"#N/A"},{"$error":"#N/A"},{"$error":"#N/A"},{"$error":"#N/A"},null,null,null,null,null,null,{"$f":"VLOOKUP($H$84,$AA$97:$CP$101,BU82)*C74","v":{"$error":"#N/A"}},{"$f":"BZ74","v":{"$error":"#N/A"}},{"$f":"VLOOKUP($H$84,$AA$97:$CP$101,BW82)","v":{"$error":"#N/A"}},{"$error":"#N/A"},{"$error":"#N/A"},{"$error":"#N/A"},{"$error":"#N/A"},{"$error":"#N/A"},{"$error":"#N/A"},{"$error":"#N/A"},{"$error":"#N/A"},{"$error":"#N/A"},{"$error":"#N/A"},{"$error":"#N/A"},{"$error":"#N/A"},{"$error":"#N/A"},null,null,null,null,null,null,null,1,0.9,1,null,0,1,0,1,null,"N"]
["Wind Turbine",null,null,"n",null,null,null,null,null,null,null,null,null,null,null,null,null,null,null,null,null,null,null,null,null,null,"Full",null,null,null,null,null,null,null,null,null,null,null,null,null,null,null,null,null,null,null,null,null,null,null,null,null,null,null,null,null,null,null,null,null,null,null,null,null,null,null,null,null,null,null,null,null,null,null,null,null,null,null,null,null,null,null,null,null,null,null,null,null,null,null,null,null,null,null,null,null,null,null,null,null,null,null,null,null,"N"]
["Window Air Conditioners, Install","each",10,"y",250,600,250,500,"Each",250000,750000,250000,750000,"Each",0,1.4999999999999999E-2,null,62.5,8,0.84,null,0,1.8500000000000001E-3,0,1.1299999999999999E-3,null,"Inc","n",0.25,null,0.36050398074652928,0.46698637918396196,0.56754170954653027,0.56754170954653027,0.66308873286251369,0.75387689527646196,0.84014321889852539,0.84014321889852539,0.92211292060187444,null,null,null,null,null,null,null,null,null,null,null,0.23,null,0.27014218009478674,0.30819163990027176,0.34425747857845668,0.37844310765730482,0.41084654754246908,0.44156070857106056,0.47067365741332767,0.49826886958609251,0.52442546880198337,null,null,null,null,null,null,null,null,null,null,null,{"$f":"0.25*C76","v":2.5},null,3,4,5,5,6,7,8,8,9,null,null,null,null,null,null,null,null,null,null,null,null,1,1,1,null,0,1,1,0,null,"N"]
["Windows, Replace","each",20,"y",300,500,400,650,"Each",400000,1500000,400000,2000000,"Each",0,7.0000000000000007E-2,null,62.5,8,0.84,null,0,1.8500000000000001E-3,0,1.1299999999999999E-3,null,"Inc","y",0.63,{"$f":"AI77","v":0.76153087198201719},0.67529879497528067,0.67529879497528067,0.7195687907135323,0.7195687907135323,0.76153087198201719,0.80130535659669488,0.80130535659669488,0.83900628988074955,0.83900628988074955,0.87474177166658351,0.87474177166658351,0.90861426625031227,0.90861426625031227,0.94072089618749588,0.94072089618749588,0.94072089618749588,0.97115372077250406,0.97115372077250406,1,null,0.1,{"$f":"BE77","v":0.31137908154314553},0.14691943127962082,0.19139282585746042,0.23354770223455956,0.27350493102801854,0.31137908154314553,0.34727875027786304,0.38130687230129201,0.41356101639932885,0.44413366483348704,0.47311247851515359,0.50058054835559584,0.52661663351241306,0.55129538721555749,0.57468757082043354,0.59686025670183263,0.61787702057045757,0.6377981237634669,0.65668068603172203,0.67457884931916778,null,{"$f":"0.63*C77","v":12.6},{"$f":"CA77","v":13},11,11,12,12,13,14,14,15,15,16,16,17,17,18,18,18,19,19,20,null,null,1,1,1,null,0,1,0,1,null,"Y",2500000,"Each"]
["Windows, Weatherstrip or Airseal","sqft",15,"y",0.04,0.32,0.04,0.32,"Sqft",4000,15000,4500,15000,"$",0,0.03,null,62.5,8,0.84,null,0,1.8500000000000001E-3,0,1.1299999999999999E-3,null,"Full",null,null,null,null,null,null,null,null,null,null,null,null,null,null,null,null,null,null,null,null,null,null,null,null,null,null,null,null,null,null,null,null,null,null,null,null,null,null,null,null,null,null,null,null,null,null,null,null,null,null,null,null,null,null,null,null,null,null,null,null,null,null,null,null,null,null,null,null,1,1,1,null,0,1,0,1,null,"N"]
[]
[]
["Project Information for Calculations:",null,null,null,null,"Special Measures for TRC Test:",null,null,null,null,null,null,null,null,null,null,null,null,null,null,null,null,null,null,null,null,"Appendix M Data for Measures with Multiple Efficiency/Type Options"]
["Location",{"$f":"IF(UpDown=\"U\",\"Upstate\",\"Downstate\")","v":{"$error":"#N/A"}},null,null,null,{"$f":"'Scope and Prelim. Cost Est.'!B20","v":"Gas Furnace AFUE"},null,{"$f":"'Scope and Prelim. Cost Est.'!D20","v":0},null,null,null,null,null,null,null,null,null,null,null,null,null,null,null,null,null,null,"Gas Furnace",null,3,4,5,6,7,8,9,10,11,12,13,14,15,16,17,18,19,20,21,22,23,24,25,26,27,28,29,30,31,32,33,34,35,36,37,38,39,40,41,42,43,44,45,46,47,26,48,49,50,51,52,53,54,55,56,57,58,59,60,61,62,63,64,65,66]
["Number of floors",{"$f":"'Building Info'!F23","v":0},null,null,null,{"$f":"'Scope and Prelim. Cost Est.'!B21","v":"Chiller Type/Capacity"},null,{"$f":"'Scope and Prelim. Cost Est.'!D21","v":0},null,null,null,null,null,null,null,null,null,null,null,null,null,null,null,null,null,null,"90 AFUE",null,0.44,null,0.47249391479431918,0.52733667679792895,0.57932033746485767,0.62859394947142522,0.62859394947142522,0.67529879497528067,0.7195687907135323,0.7195687907135323,0.76153087198201719,0.80130535659669488,0.80130535659669488,0.83900628988074955,0.87474177166658351,0.87474177166658351,0.90861426625031227,0.94072089618749588,0.94072089618749588,0.97115372077250406,0.97115372077250406,null,0.28000000000000003,null,0.31753554502369674,0.35311426068596841,0.38683816178764774,0.4188039448224149,0.44910326523451649,0.47782300022229052,0.5050454978410337,0.53084881311946308,0.55530693186678959,0.57848998281212283,0.60046443868447663,0.62129330680993045,0.64103630977244586,0.65975005665634678,0.67748820536146614,0.69430161645636601,0.71023849901077352,0.72534454882537769,0.73966307945533427,null,0.44,null,7,8,9,10,10,11,12,12,13,14,14,15,16,16,17,18,18,19,19]
["Low/High rise",{"$f":"IF(Floors=0,0,IF(Floors<=3,\"low\",\"high\"))","v":0},null,null,null,{"$f":"'Scope and Prelim. Cost Est.'!B22","v":"Central AC/HP SEER"},null,{"$f":"'Scope and Prelim. Cost Est.'!D22","v":0},null,null,null,null,null,null,null,null,null,null,null,null,null,null,null,null,null,null,"92 AFUE",null,0.48,null,0.52733667679792895,0.57932033746485767,0.57932033746485767,0.62859394947142522,0.67529879497528067,0.67529879497528067,0.7195687907135323,0.76153087198201719,0.76153087198201719,0.80130535659669488,0.83900628988074955,0.83900628988074955,0.87474177166658351,0.90861426625031227,0.90861426625031227,0.94072089618749588,0.94072089618749588,0.97115372077250406,0.97115372077250406,null,0.31,null,0.34597156398104278,0.38006783315738635,0.4123865717131624,0.44302044712148103,0.47205729584974487,0.49958037521302834,0.5256686020976572,0.55039677923948549,0.57383580970567349,0.59605290019495105,0.61711175373929017,0.63707275235951677,0.65599313019859407,0.67392713762899903,0.69092619680473844,0.70703904910401749,0.72231189488532466,0.73678852595765365,0.75051045114469539,null,0.48,null,8,9,9,10,11,11,12,13,13,14,15,15,16,17,17,18,18,19,19]
["Total sqft",{"$f":"'Building Info'!F24","v":0},null,null,null,null,null,null,null,null,null,null,null,null,null,null,null,null,null,null,null,null,null,null,null,null,"94 AFUE",null,0.51,null,0.52733667679792895,0.57932033746485767,0.62859394947142522,0.67529879497528067,0.67529879497528067,0.7195687907135323,0.76153087198201719,0.76153087198201719,0.80130535659669488,0.80130535659669488,0.83900628988074955,0.87474177166658351,0.87474177166658351,0.90861426625031227,0.90861426625031227,0.94072089618749588,0.94072089618749588,0.97115372077250406,1,null,0.34,null,0.37440758293838872,0.4070214056288044,0.43793498163867717,0.46723694942054705,0.49501132646497348,0.52133775020376627,0.54629170635428093,0.5699447453595079,0.59236468754455729,0.61361581757777928,0.6337590687941036,0.65285219790910287,0.67094995062474216,0.68810421860165127,0.70436418824801073,0.71977648175166886,0.7343852907598758,0.7482325030899295,0.76135782283405651,null,0.51,null,8,9,10,11,11,12,13,13,14,14,15,16,16,17,17,18,18,19,20]
["Number of Units",{"$f":"'Building Info'!H42","v":0},null,null,null,null,null,null,null,null,null,null,null,null,null,null,null,null,null,null,null,null,null,null,null,null,"96 AFUE",null,0.54,null,0.57932033746485767,0.62859394947142522,0.62859394947142522,0.67529879497528067,0.7195687907135323,0.7195687907135323,0.76153087198201719,0.80130535659669488,0.80130535659669488,0.83900628988074955,0.83900628988074955,0.87474177166658351,0.87474177166658351,0.90861426625031227,0.94072089618749588,0.94072089618749588,0.97115372077250406,0.97115372077250406,1,null,0.36,null,0.39336492890995256,0.42499045394308288,0.45496725492235357,0.483381284286591,0.5103140135417924,0.53584266686425819,0.56004044252536311,0.58297672277285617,0.60471727277047971,0.62532442916633135,0.64485727883064592,0.66337182827549368,0.68092116424217419,0.6975556059167527,0.71332284921019218,0.72826810351676974,0.74243422134290982,0.75586182117811351,0.76858940396029718,null,0.54,null,9,10,10,11,12,12,13,14,14,15,15,16,16,17,18,18,19,19,20]
[null,null,null,null,null,null,null,null,null,null,null,null,null,null,null,null,null,null,null,null,null,null,null,null,null,null,"Chillers"]
[null,null,null,null,null,null,null,null,null,null,null,null,null,null,null,null,null,null,null,null,null,null,null,null,null,null,"Air Cooled, Reciprocal/Screw",null,0.5,null,0.52779037404875973,0.57928495086555032,0.62821476407406152,0.62821476407406152,0.67470755552155126,0.71888470468352239,0.71888470468352239,0.76086154555106311,0.80074766773514627,0.80074766773514627,0.83855441862053337,0.87439020145028379,0.87439020145028379,0.90835776811355451,0.90835776811355451,0.9405545137659439,0.9405545137659439,0.9710727560904836,1,null,0.18,null,0.22274881516587663,0.26326901911457501,0.30167679536926539,0.33808227049219464,0.37258982985042144,0.40529841691983071,0.43630181698562154,0.46568892605272183,0.49354400573717716,0.51994692486936211,0.54497338850176502,0.5686951549779764,0.5911802416852856,0.61249312008083945,0.63269490055055866,0.6518435076308613,0.66999384609560309,0.68719795838445785,0.70350517382413069,null,0.5,null,8,9,10,10,11,12,12,13,14,14,15,16,16,17,17,18,18,19,20]
["Unit Conversions:",null,null,null,null,null,null,null,null,null,null,null,null,null,null,null,null,null,null,null,null,null,null,null,null,null,"Water Cooled Centrifugal, <150 ton",null,0.57999999999999996,null,0.62821476407406152,0.62821476407406152,0.67470755552155126,0.71888470468352239,0.71888470468352239,0.76086154555106311,0.76086154555106311,0.80074766773514627,0.83855441862053337,0.83855441862053337,0.87439020145028379,0.87439020145028379,0.90835776811355451,0.90835776811355451,0.9405545137659439,0.9405545137659439,0.9710727560904836,0.9710727560904836,1,null,0.21,null,0.25118483412322268,0.29022259158599295,0.32722520529478016,0.36229877279126077,0.39554386046564993,0.42705579191056864,0.45692492124224515,0.48523689217274424,0.51207288357606084,0.53750984225219034,0.56162070355657856,0.5844746005275625,0.6061370621114337,0.62667020105349169,0.64613289199383095,0.66458094027851278,0.68206724197015423,0.69864193551673381,0.71435254551349181,null,0.57999999999999996,null,10,10,11,12,12,13,13,14,15,15,16,16,17,17,18,18,19,19,20]
["Electricity",{"$f":"3412/1000000","v":3.4120000000000001E-3},"MMBtu/kWh",null,null,null,null,null,null,null,null,null,null,null,null,null,null,null,null,null,null,null,null,null,null,null,"Water Cooled Centrifugal, >300 ton",null,0.31,null,0.35653808116496305,0.41656213187539243,0.47359659590698855,0.52779037404875973,0.57928495086555032,0.57928495086555032,0.62821476407406152,0.67470755552155126,0.71888470468352239,0.76086154555106311,0.76086154555106311,0.80074766773514627,0.83855441862053337,0.87439020145028379,0.87439020145028379,0.90835776811355451,0.9405545137659439,0.9710727560904836,0.9710727560904836,null,0.33,null,0.36492890995260663,0.39803688147166505,0.42941884499683891,0.45916478198752497,0.48735998292656391,0.51408529187352037,0.53941733826873972,0.56342875665283376,0.58618839493159602,0.60776151178350324,0.62820996377583249,0.64759238272590758,0.66596434381602609,0.68337852494410056,0.69988485776691989,0.71553067086911848,0.73036082546835868,0.74441784404583755,0.75774203227093606,null,0.31,null,5,6,7,8,9,9,10,11,12,13,13,14,15,16,16,17,18,19,19]
["Electricity site to source",{"$f":"'Energy and Water Use'!D92","v":2.5499999999999998},null,null,null,null,null,null,null,null,null,null,null,null,null,null,null,null,null,null,null,null,null,null,null,null,"Water Cooled Centrifugal, 150-300 ton",null,0.38,null,0.41656213187539243,0.47359659590698855,0.52779037404875973,0.57928495086555032,0.57928495086555032,0.62821476407406152,0.67470755552155126,0.71888470468352239,0.71888470468352239,0.76086154555106311,0.80074766773514627,0.83855441862053337,0.83855441862053337,0.87439020145028379,0.90835776811355451,0.90835776811355451,0.9405545137659439,0.9710727560904836,0.9710727560904836,null,0.24,null,0.27962085308056872,0.31717616405741111,0.35277361522029482,0.38651527509032679,0.41849789108087843,0.44881316690130657,0.47754802549886877,0.50478485829276665,0.53060176141494475,0.55507275963501856,0.57826801861139199,0.60025404607714883,0.6210938825375818,0.64084728202614394,0.65957088343710324,0.67731837292616415,0.69414063784470525,0.71008591264900978,0.72519991720285293,null,0.38,null,6,7,8,9,9,10,11,12,12,13,14,15,15,16,17,17,18,19,19]
["Gas site to source",{"$f":"'Energy and Water Use'!D93","v":1.05},null,null,null,null,null,null,null,null,null,null,null,null,null,null,null,null,null,null,null,null,null,null,null,null,"Water Cooled Recriprocal",null,0.15,null,0.22647392321244089,0.29336773802485289,0.35653808116496305,0.41656213187539243,0.47359659590698855,0.52779037404875973,0.52779037404875973,0.57928495086555032,0.62821476407406152,0.67470755552155126,0.71888470468352239,0.76086154555106311,0.80074766773514627,0.83855441862053337,0.87439020145028379,0.90835776811355451,0.90835776811355451,0.9405545137659439,0.9710727560904836,null,0.03,null,8.0568720379146974E-2,0.12850115675748519,0.1739347457416921,0.21699975899686452,0.25781967677427919,0.29651154196614127,0.33318629570250358,0.36794909545261001,0.4008996165427583,0.4321323379552211,0.46173681322769777,0.48979792723004523,0.51639613955454522,0.54160771521757844,0.56550494333419743,0.58815634439260422,0.60962686672284772,0.62997807272307838,0.64926831537732532,null,0.15,null,3,4,5,6,7,8,8,9,10,11,12,13,14,15,16,17,17,18,19]
["Oil site to source",{"$f":"'Energy and Water Use'!D94","v":1.01},null,null,null,null,null,null,null,null,null,null,null,null,null,null,null,null,null,null,null,null,null,null,null,null,"Water Cooled Screw, <150 ton",null,0.37,null,0.41656213187539243,0.47359659590698855,0.52779037404875973,0.57928495086555032,0.57928495086555032,0.62821476407406152,0.67470755552155126,0.71888470468352239,0.71888470468352239,0.76086154555106311,0.80074766773514627,0.83855441862053337,0.83855441862053337,0.87439020145028379,0.90835776811355451,0.90835776811355451,0.9405545137659439,0.9710727560904836,0.9710727560904836,null,0.16,null,0.20379146919431279,0.24529997080029642,0.28464452208558899,0.3219379356261507,0.35728714277360263,0.39079350025933879,0.42255308081453924,0.45265694863937367,0.48119142051125463,0.50823831328081004,0.5338751784652227,0.55817552461158559,0.58120902806785357,0.60304173276573803,0.62373623958837721,0.64335188586576031,0.66194491551256918,0.67956864029627395,0.69627359269789002,null,0.37,null,6,7,8,9,9,10,11,12,12,13,14,15,15,16,17,17,18,19,19]
["Steam site to source",{"$f":"'Energy and Water Use'!D97","v":1.2},null,null,null,null,null,null,null,null,null,null,null,null,null,null,null,null,null,null,null,null,null,null,null,null,"Water Cooled Screw, >300 ton",null,0.69,null,0.71888470468352239,0.71888470468352239,0.76086154555106311,0.76086154555106311,0.80074766773514627,0.80074766773514627,0.83855441862053337,0.83855441862053337,0.87439020145028379,0.87439020145028379,0.90835776811355451,0.90835776811355451,0.9405545137659439,0.9405545137659439,0.9405545137659439,0.9710727560904836,0.9710727560904836,0.9710727560904836,1,null,0.12,null,0.16587677725118488,0.20936187417173913,0.25057997551823608,0.2896492658940627,0.32668176861996456,0.36178366693835495,0.39505560847237442,0.42659299381267712,0.45648625005940957,0.48482109010370578,0.51167875839213806,0.53713626387880398,0.5612666008329894,0.58413895813553496,0.60581891766401419,0.62636864233555856,0.64584705434650092,0.66431000411990604,0.68181043044540868,null,0.69,null,12,12,13,13,14,14,15,15,16,16,17,17,18,18,18,19,19,19,20]
["Propane site to source",{"$f":"'Energy and Water Use'!D98","v":1.01},null,null,null,null,null,null,null,null,null,null,null,null,null,null,null,null,null,null,null,null,null,null,null,null,"Water Cooled Screw, 150-300 ton",null,0.31,null,0.35653808116496305,0.41656213187539243,0.47359659590698855,0.52779037404875973,0.57928495086555032,0.57928495086555032,0.62821476407406152,0.67470755552155126,0.71888470468352239,0.76086154555106311,0.76086154555106311,0.80074766773514627,0.83855441862053337,0.87439020145028379,0.87439020145028379,0.90835776811355451,0.9405545137659439,0.9710727560904836,0.9710727560904836,null,0.13,null,0.17535545023696686,0.21834639832887848,0.25909611216007433,0.29772143332708467,0.33433311215837402,0.36903612526860086,0.40192997655791562,0.43310898251935126,0.46266254267237084,0.49067539589798181,0.51722786341040927,0.54239607906199927,0.56625220764170558,0.58886465179308578,0.61029824814510492,0.63061445321810894,0.64987151963801804,0.66812466316399799,0.6854262210085289,null,0.31,null,5,6,7,8,9,9,10,11,12,13,13,14,15,16,16,17,18,19,19]
["Other site to source",1,null,null,null,null,null,null,null,null,null,null,null,null,null,null,null,null,null,null,null,null,null,null,null,null,"Central AC/HP"]
[null,null,null,null,null,null,null,null,null,null,null,null,null,null,null,null,null,null,null,null,null,null,null,null,null,null,"SEER 14",null,0.19,null,0.27007659632275571,0.34984937352957773,0.42518180483919837,0.49676219291845047,0.56477741383329672,0.56477741383329672,0.62940503601066577,0.69081378381918845,0.74916397806061075,0.8046079545218795,0.85729046168062173,0.90734903860231375,0.90734903860231375,0.95491437401572443,null,null,null,null,null,null,0.1,null,0.14691943127962082,0.19139282585746042,0.23354770223455956,0.27350493102801854,0.31137908154314553,0.34727875027786304,0.38130687230129201,0.41356101639932885,0.44413366483348704,0.47311247851515359,0.50058054835559584,0.52661663351241306,0.55129538721555749,0.57468757082043354,null,null,null,null,null,null,0.19,null,3,4,5.0000000000000009,6,6.9999999999999991,6.9999999999999991,8,9,10.000000000000002,11,12,13,13,13.999999999999998]
[null,null,null,null,null,null,null,null,null,null,null,null,null,null,null,null,null,null,null,null,null,null,null,null,null,null,"SEER 15",null,0.31,null,0.34984937352957773,0.42518180483919837,0.49676219291845047,0.56477741383329672,0.62940503601066577,0.62940503601066577,0.69081378381918845,0.74916397806061075,0.8046079545218795,0.8046079545218795,0.85729046168062173,0.90734903860231375,0.95491437401572443,0.95491437401572443,null,null,null,null,null,null,0.2,null,0.2417061611374407,0.2812380674288536,0.31870906865294191,0.35422660535823869,0.38789251692724047,0.41980333358032274,0.45005055315670395,0.4787209034660701,0.50589659096309969,0.5316555364579143,0.55607159853830734,0.5792147853443671,0.60115145530271774,0.62194450739594087,null,null,null,null,null,null,0.31,null,4,5.0000000000000009,6,6.9999999999999991,8,8,9,10.000000000000002,11,11,12,13,13.999999999999998,13.999999999999998]
[null,null,null,null,null,null,null,null,null,null,null,null,null,null,null,null,null,null,null,null,null,null,null,null,null,null,"SEER 16",null,0.38,null,0.49676219291845047,0.49676219291845047,0.56477741383329672,0.56477741383329672,0.62940503601066577,0.69081378381918845,0.74916397806061075,0.74916397806061075,0.8046079545218795,0.85729046168062173,0.85729046168062173,0.90734903860231375,0.95491437401572443,0.95491437401572443,null,null,null,null,null,null,0.26,null,0.29857819905213268,0.3351452123716897,0.36980588850397123,0.40265960995637085,0.43380057815769746,0.46331808356179849,0.49129676166995118,0.51781683570611492,0.54295434664086717,0.56678137122357075,0.58936622864793442,0.61077367644353964,0.63106509615501394,0.65029866934124536,null,null,null,null,null,null,0.38,null,6,6,6.9999999999999991,6.9999999999999991,8,9,10.000000000000002,10.000000000000002,11,12,12,13,13.999999999999998,13.999999999999998]
[null,null,null,null,null,null,null,null,null,null,null,null,null,null,null,null,null,null,null,null,null,null,null,null,null,null,"SEER 17",null,0.44,null,0.49676219291845047,0.56477741383329672,0.56477741383329672,0.62940503601066577,0.69081378381918845,0.69081378381918845,0.74916397806061075,0.8046079545218795,0.8046079545218795,0.85729046168062173,0.90734903860231375,0.90734903860231375,0.95491437401572443,0.95491437401572443,null,null,null,null,null,null,0.31,null,0.34597156398104278,0.38006783315738635,0.4123865717131624,0.44302044712148103,0.47205729584974487,0.49958037521302834,0.5256686020976572,0.55039677923948549,0.57383580970567349,0.59605290019495105,0.61711175373929017,0.63707275235951677,0.65599313019859407,0.67392713762899903,null,null,null,null,null,null,0.44,null,6,6.9999999999999991,6.9999999999999991,8,9,9,10.000000000000002,11,11,12,13,13,13.999999999999998,13.999999999999998]
[null,null,null,null,null,null,null,null,null,null,null,null,null,null,null,null,null,null,null,null,null,null,null,null,null,null,"SEER 18",null,0.48,null,0.56477741383329672,0.56477741383329672,0.62940503601066577,0.69081378381918845,0.69081378381918845,0.74916397806061075,0.74916397806061075,0.8046079545218795,0.85729046168062173,0.85729046168062173,0.90734903860231375,0.90734903860231375,0.95491437401572443,0.95491437401572443,null,null,null,null,null,null,0.37,null,0.40284360189573465,0.43397497810022234,0.46348339156419172,0.49145345171961297,0.51796535708020186,0.5430951251945042,0.56691481061090432,0.58949271147953031,0.61089356538344097,0.6311787349606075,0.65040638384891714,0.6686316434586892,0.68590677105089015,0.70228129957430352,null,null,null,null,null,null,0.48,null,6.9999999999999991,6.9999999999999991,8,9,9,10.000000000000002,10.000000000000002,11,12,12,13,13,13.999999999999998,13.999999999999998]

{"sheet":"Replacement Cost Schedule","index":15,"n_rows":117,"n_cols":33,"rows_kept":117,"cut":false,"hidden":false,"merged":[[6,2,6,32],[7,2,7,32],[114,2,114,9],[116,2,116,9],[115,2,115,9],[8,2,8,32]]}
[]
[null,"Instructions / Definitions / Notes"]
[null,1,"The white cells in the Replacement Cost Schedule below are linked to the measures listed on the Scope and Prelim. Cost Est. tab.  Make sure that ALL critical, short term, and long term capital needs and all EEWC measures are included."]
[null,2,"Fannie Mae estimated useful life tables may be used, but should be adjusted based on the Needs Assessor's observations of the building component.  See"]
[null,null,"https://www.fanniemae.com/content/guide_form/4099f.pdf"]
[null,3,"Include exact, or as accurate as possible, measurements of each item recommended. Items that cannot be quantified can be categorized as Lump Sum (LS)."]
[null,4,"Project the estimated annual replacement expenditures for a 20 year period in columns M through AA.  Note: Y1 is year 1, Y2 is year 2, etc."]
[null,5,"The costs outlined in the replacement schedule should be total costs for each scope item, inclusive of all critical, short-term and long-term capital, EEWC incremental items, and EEWC-only items."]
[null,6,"Estimate the costs in current dollars.  Inflated costs are calculated automatically."]
[]
[null,null,"REPLACEMENT COST SCHEDULE"]
[]
[null,null,"Scope Name","Description of Work","EUL","Age","RUL","Unit Type","Qty.","Cost Per Unit","Critical Costs","Short Term Costs ","Y1","Y2","Y3","Y4","Y5","Y6","Y7","Y8","Y9","Y10","Y11","Y12","Y13","Y14","Y15","Y16","Y17","Y18","Y19","Y20","Total Long Term"]
[null,null,{"$f":"IF(ISBLANK('Scope and Prelim. Cost Est.'!B26),\"\",'Scope and Prelim. Cost Est.'!B26)","v":""},{"$f":"IF(ISBLANK('Scope and Prelim. Cost Est.'!C26),\"\",'Scope and Prelim. Cost Est.'!C26)","v":""},{"$f":"IF('Scope and Prelim. Cost Est.'!AA26=\"\",'Scope and Prelim. Cost Est.'!Z26,'Scope and Prelim. Cost Est.'!AA26)","v":""},null,{"$f":"IF(F14=\"\",\"\",E14-F14)","v":""},{"$f":"IF('Scope and Prelim. Cost Est.'!L26=\"\",'Scope and Prelim. Cost Est.'!K26,'Scope and Prelim. Cost Est.'!L26)","v":""},{"$f":"IF('Scope and Prelim. Cost Est.'!M26=\"\",\"\",'Scope and Prelim. Cost Est.'!M26)","v":""},{"$f":"IF('Scope and Prelim. Cost Est.'!N26=\"\",\"\",'Scope and Prelim. Cost Est.'!N26)","v":""},null,{"$f":"IF(J14=\"\",\"\",I14*J14)","v":""},null,null,null,null,null,null,null,null,null,null,null,null,null,null,null,null,null,null,null,null,{"$f":"SUM(M14:AF14)","v":0}]
[null,null,{"$f":"IF(ISBLANK('Scope and Prelim. Cost Est.'!B27),\"\",'Scope and Prelim. Cost Est.'!B27)","v":""},{"$f":"IF(ISBLANK('Scope and Prelim. Cost Est.'!C27),\"\",'Scope and Prelim. Cost Est.'!C27)","v":""},{"$f":"IF('Scope and Prelim. Cost Est.'!AA27=\"\",'Scope and Prelim. Cost Est.'!Z27,'Scope and Prelim. Cost Est.'!AA27)","v":""},null,"",{"$f":"IF('Scope and Prelim. Cost Est.'!L27=\"\",'Scope and Prelim. Cost Est.'!K27,'Scope and Prelim. Cost Est.'!L27)","v":""},{"$f":"IF('Scope and Prelim. Cost Est.'!M27=\"\",\"\",'Scope and Prelim. Cost Est.'!M27)","v":""},{"$f":"IF('Scope and Prelim. Cost Est.'!N27=\"\",\"\",'Scope and Prelim. Cost Est.'!N27)","v":""},null,"",null,null,null,null,null,null,null,null,null,null,null,null,null,null,null,null,null,null,null,null,{"$f":"SUM(M15:AF15)","v":0}]
[null,null,{"$f":"IF(ISBLANK('Scope and Prelim. Cost Est.'!B28),\"\",'Scope and Prelim. Cost Est.'!B28)","v":""},{"$f":"IF(ISBLANK('Scope and Prelim. Cost Est.'!C28),\"\",'Scope and Prelim. Cost Est.'!C28)","v":""},{"$f":"IF('Scope and Prelim. Cost Est.'!AA28=\"\",'Scope and Prelim. Cost Est.'!Z28,'Scope and Prelim. Cost Est.'!AA28)","v":""},null,"",{"$f":"IF('Scope and Prelim. Cost Est.'!L28=\"\",'Scope and Prelim. Cost Est.'!K28,'Scope and Prelim. Cost Est.'!L28)","v":""},{"$f":"IF('Scope and Prelim. Cost Est.'!M28=\"\",\"\",'Scope and Prelim. Cost Est.'!M28)","v":""},{"$f":"IF('Scope and Prelim. Cost Est.'!N28=\"\",\"\",'Scope and Prelim. Cost Est.'!N28)","v":""},null,"",null,null,null,null,null,null,null,null,null,null,null,null,null,null,null,null,null,null,null,null,0]
[null,null,{"$f":"IF(ISBLANK('Scope and Prelim. Cost Est.'!B29),\"\",'Scope and Prelim. Cost Est.'!B29)","v":""},{"$f":"IF(ISBLANK('Scope and Prelim. Cost Est.'!C29),\"\",'Scope and Prelim. Cost Est.'!C29)","v":""},{"$f":"IF('Scope and Prelim. Cost Est.'!AA29=\"\",'Scope and Prelim. Cost Est.'!Z29,'Scope and Prelim. Cost Est.'!AA29)","v":""},null,"",{"$f":"IF('Scope and Prelim. Cost Est.'!L29=\"\",'Scope and Prelim. Cost Est.'!K29,'Scope and Prelim. Cost Est.'!L29)","v":""},{"$f":"IF('Scope and Prelim. Cost Est.'!M29=\"\",\"\",'Scope and Prelim. Cost Est.'!M29)","v":""},{"$f":"IF('Scope and Prelim. Cost Est.'!N29=\"\",\"\",'Scope and Prelim. Cost Est.'!N29)","v":""},null,"",null,null,null,null,null,null,null,null,null,null,null,null,null,null,null,null,null,null,null,null,0]
[null,null,{"$f":"IF(ISBLANK('Scope and Prelim. Cost Est.'!B30),\"\",'Scope and Prelim. Cost Est.'!B30)","v":""},{"$f":"IF(ISBLANK('Scope and Prelim. Cost Est.'!C30),\"\",'Scope and Prelim. Cost Est.'!C30)","v":""},{"$f":"IF('Scope and Prelim. Cost Est.'!AA30=\"\",'Scope and Prelim. Cost Est.'!Z30,'Scope and Prelim. Cost Est.'!AA30)","v":""},null,"",{"$f":"IF('Scope and Prelim. Cost Est.'!L30=\"\",'Scope and Prelim. Cost Est.'!K30,'Scope and Prelim. Cost Est.'!L30)","v":""},{"$f":"IF('Scope and Prelim. Cost Est.'!M30=\"\",\"\",'Scope and Prelim. Cost Est.'!M30)","v":""},{"$f":"IF('Scope and Prelim. Cost Est.'!N30=\"\",\"\",'Scope and Prelim. Cost Est.'!N30)","v":""},null,"",null,null,null,null,null,null,null,null,null,null,null,null,null,null,null,null,null,null,null,null,0]
[null,null,{"$f":"IF(ISBLANK('Scope and Prelim. Cost Est.'!B31),\"\",'Scope and Prelim. Cost Est.'!B31)","v":""},{"$f":"IF(ISBLANK('Scope and Prelim. Cost Est.'!C31),\"\",'Scope and Prelim. Cost Est.'!C31)","v":""},{"$f":"IF('Scope and Prelim. Cost Est.'!AA31=\"\",'Scope and Prelim. Cost Est.'!Z31,'Scope and Prelim. Cost Est.'!AA31)","v":""},null,"",{"$f":"IF('Scope and Prelim. Cost Est.'!L31=\"\",'Scope and Prelim. Cost Est.'!K31,'Scope and Prelim. Cost Est.'!L31)","v":""},{"$f":"IF('Scope and Prelim. Cost Est.'!M31=\"\",\"\",'Scope and Prelim. Cost Est.'!M31)","v":""},{"$f":"IF('Scope and Prelim. Cost Est.'!N31=\"\",\"\",'Scope and Prelim. Cost Est.'!N31)","v":""},null,"",null,null,null,null,null,null,null,null,null,null,null,null,null,null,null,null,null,null,null,null,0]
[null,null,{"$f":"IF(ISBLANK('Scope and Prelim. Cost Est.'!B32),\"\",'Scope and Prelim. Cost Est.'!B32)","v":""},{"$f":"IF(ISBLANK('Scope and Prelim. Cost Est.'!C32),\"\",'Scope and Prelim. Cost Est.'!C32)","v":""},{"$f":"IF('Scope and Prelim. Cost Est.'!AA32=\"\",'Scope and Prelim. Cost Est.'!Z32,'Scope and Prelim. Cost Est.'!AA32)","v":""},null,"",{"$f":"IF('Scope and Prelim. Cost Est.'!L32=\"\",'Scope and Prelim. Cost Est.'!K32,'Scope and Prelim. Cost Est.'!L32)","v":""},{"$f":"IF('Scope and Prelim. Cost Est.'!M32=\"\",\"\",'Scope and Prelim. Cost Est.'!M32)","v":""},{"$f":"IF('Scope and Prelim. Cost Est.'!N32=\"\",\"\",'Scope and Prelim. Cost Est.'!N32)","v":""},null,"",null,null,null,null,null,null,null,null,null,null,null,null,null,null,null,null,null,null,null,null,0]
[null,null,{"$f":"IF(ISBLANK('Scope and Prelim. Cost Est.'!B33),\"\",'Scope and Prelim. Cost Est.'!B33)","v":""},{"$f":"IF(ISBLANK('Scope and Prelim. Cost Est.'!C33),\"\",'Scope and Prelim. Cost Est.'!C33)","v":""},{"$f":"IF('Scope and Prelim. Cost Est.'!AA33=\"\",'Scope and Prelim. Cost Est.'!Z33,'Scope and Prelim. Cost Est.'!AA33)","v":""},null,"",{"$f":"IF('Scope and Prelim. Cost Est.'!L33=\"\",'Scope and Prelim. Cost Est.'!K33,'Scope and Prelim. Cost Est.'!L33)","v":""},{"$f":"IF('Scope and Prelim. Cost Est.'!M33=\"\",\"\",'Scope and Prelim. Cost Est.'!M33)","v":""},{"$f":"IF('Scope and Prelim. Cost Est.'!N33=\"\",\"\",'Scope and Prelim. Cost Est.'!N33)","v":""},null,"",null,null,null,null,null,null,null,null,null,null,null,null,null,null,null,null,null,null,null,null,0]
[null,null,{"$f":"IF(ISBLANK('Scope and Prelim. Cost Est.'!B34),\"\",'Scope and Prelim. Cost Est.'!B34)","v":""},{"$f":"IF(ISBLANK('Scope and Prelim. Cost Est.'!C34),\"\",'Scope and Prelim. Cost Est.'!C34)","v":""},{"$f":"IF('Scope and Prelim. Cost Est.'!AA34=\"\",'Scope and Prelim. Cost Est.'!Z34,'Scope and Prelim. Cost Est.'!AA34)","v":""},null,"",{"$f":"IF('Scope and Prelim. Cost Est.'!L34=\"\",'Scope and Prelim. Cost Est.'!K34,'Scope and Prelim. Cost Est.'!L34)","v":""},{"$f":"IF('Scope and Prelim. Cost Est.'!M34=\"\",\"\",'Scope and Prelim. Cost Est.'!M34)","v":""},{"$f":"IF('Scope and Prelim. Cost Est.'!N34=\"\",\"\",'Scope and Prelim. Cost Est.'!N34)","v":""},null,"",null,null,null,null,null,null,null,null,null,null,null,null,null,null,null,null,null,null,null,null,0]
[null,null,{"$f":"IF(ISBLANK('Scope and Prelim. Cost Est.'!B35),\"\",'Scope and Prelim. Cost Est.'!B35)","v":""},{"$f":"IF(ISBLANK('Scope and Prelim. Cost Est.'!C35),\"\",'Scope and Prelim. Cost Est.'!C35)","v":""},{"$f":"IF('Scope and Prelim. Cost Est.'!AA35=\"\",'Scope and Prelim. Cost Est.'!Z35,'Scope and Prelim. Cost Est.'!AA35)","v":""},null,"",{"$f":"IF('Scope and Prelim. Cost Est.'!L35=\"\",'Scope and Prelim. Cost Est.'!K35,'Scope and Prelim. Cost Est.'!L35)","v":""},{"$f":"IF('Scope and Prelim. Cost Est.'!M35=\"\",\"\",'Scope and Prelim. Cost Est.'!M35)","v":""},{"$f":"IF('Scope and Prelim. Cost Est.'!N35=\"\",\"\",'Scope and Prelim. Cost Est.'!N35)","v":""},null,"",null,null,null,null,null,null,null,null,null,null,null,null,null,null,null,null,null,null,null,null,0]
[null,null,{"$f":"IF(ISBLANK('Scope and Prelim. Cost Est.'!B36),\"\",'Scope and Prelim. Cost Est.'!B36)","v":""},{"$f":"IF(ISBLANK('Scope and Prelim. Cost Est.'!C36),\"\",'Scope and Prelim. Cost Est.'!C36)","v":""},{"$f":"IF('Scope and Prelim. Cost Est.'!AA36=\"\",'Scope and Prelim. Cost Est.'!Z36,'Scope and Prelim. Cost Est.'!AA36)","v":""},null,"",{"$f":"IF('Scope and Prelim. Cost Est.'!L36=\"\",'Scope and Prelim. Cost Est.'!K36,'Scope and Prelim. Cost Est.'!L36)","v":""},{"$f":"IF('Scope and Prelim. Cost Est.'!M36=\"\",\"\",'Scope and Prelim. Cost Est.'!M36)","v":""},{"$f":"IF('Scope and Prelim. Cost Est.'!N36=\"\",\"\",'Scope and Prelim. Cost Est.'!N36)","v":""},null,"",null,null,null,null,null,null,null,null,null,null,null,null,null,null,null,null,null,null,null,null,0]
[null,null,{"$f":"IF(ISBLANK('Scope and Prelim. Cost Est.'!B37),\"\",'Scope and Prelim. Cost Est.'!B37)","v":""},{"$f":"IF(ISBLANK('Scope and Prelim. Cost Est.'!C37),\"\",'Scope and Prelim. Cost Est.'!C37)","v":""},{"$f":"IF('Scope and Prelim. Cost Est.'!AA37=\"\",'Scope and Prelim. Cost Est.'!Z37,'Scope and Prelim. Cost Est.'!AA37)","v":""},null,"",{"$f":"IF('Scope and Prelim. Cost Est.'!L37=\"\",'Scope and Prelim. Cost Est.'!K37,'Scope and Prelim. Cost Est.'!L37)","v":""},{"$f":"IF('Scope and Prelim. Cost Est.'!M37=\"\",\"\",'Scope and Prelim. Cost Est.'!M37)","v":""},{"$f":"IF('Scope and Prelim. Cost Est.'!N37=\"\",\"\",'Scope and Prelim. Cost Est.'!N37)","v":""},null,"",null,null,null,null,null,null,null,null,null,null,null,null,null,null,null,null,null,null,null,null,0]
[null,null,{"$f":"IF(ISBLANK('Scope and Prelim. Cost Est.'!B38),\"\",'Scope and Prelim. Cost Est.'!B38)","v":""},{"$f":"IF(ISBLANK('Scope and Prelim. Cost Est.'!C38),\"\",'Scope and Prelim. Cost Est.'!C38)","v":""},{"$f":"IF('Scope and Prelim. Cost Est.'!AA38=\"\",'Scope and Prelim. Cost Est.'!Z38,'Scope and Prelim. Cost Est.'!AA38)","v":""},null,"",{"$f":"IF('Scope and Prelim. Cost Est.'!L38=\"\",'Scope and Prelim. Cost Est.'!K38,'Scope and Prelim. Cost Est.'!L38)","v":""},{"$f":"IF('Scope and Prelim. Cost Est.'!M38=\"\",\"\",'Scope and Prelim. Cost Est.'!M38)","v":""},{"$f":"IF('Scope and Prelim. Cost Est.'!N38=\"\",\"\",'Scope and Prelim. Cost Est.'!N38)","v":""},null,"",null,null,null,null,null,null,null,null,null,null,null,null,null,null,null,null,null,null,null,null,0]
[null,null,{"$f":"IF(ISBLANK('Scope and Prelim. Cost Est.'!B39),\"\",'Scope and Prelim. Cost Est.'!B39)","v":""},{"$f":"IF(ISBLANK('Scope and Prelim. Cost Est.'!C39),\"\",'Scope and Prelim. Cost Est.'!C39)","v":""},{"$f":"IF('Scope and Prelim. Cost Est.'!AA39=\"\",'Scope and Prelim. Cost Est.'!Z39,'Scope and Prelim. Cost Est.'!AA39)","v":""},null,"",{"$f":"IF('Scope and Prelim. Cost Est.'!L39=\"\",'Scope and Prelim. Cost Est.'!K39,'Scope and Prelim. Cost Est.'!L39)","v":""},{"$f":"IF('Scope and Prelim. Cost Est.'!M39=\"\",\"\",'Scope and Prelim. Cost Est.'!M39)","v":""},{"$f":"IF('Scope and Prelim. Cost Est.'!N39=\"\",\"\",'Scope and Prelim. Cost Est.'!N39)","v":""},null,"",null,null,null,null,null,null,null,null,null,null,null,null,null,null,null,null,null,null,null,null,0]
[null,null,{"$f":"IF(ISBLANK('Scope and Prelim. Cost Est.'!B40),\"\",'Scope and Prelim. Cost Est.'!B40)","v":""},{"$f":"IF(ISBLANK('Scope and Prelim. Cost Est.'!C40),\"\",'Scope and Prelim. Cost Est.'!C40)","v":""},{"$f":"IF('Scope and Prelim. Cost Est.'!AA40=\"\",'Scope and Prelim. Cost Est.'!Z40,'Scope and Prelim. Cost Est.'!AA40)","v":""},null,"",{"$f":"IF('Scope and Prelim. Cost Est.'!L40=\"\",'Scope and Prelim. Cost Est.'!K40,'Scope and Prelim. Cost Est.'!L40)","v":""},{"$f":"IF('Scope and Prelim. Cost Est.'!M40=\"\",\"\",'Scope and Prelim. Cost Est.'!M40)","v":""},{"$f":"IF('Scope and Prelim. Cost Est.'!N40=\"\",\"\",'Scope and Prelim. Cost Est.'!N40)","v":""},null,"",null,null,null,null,null,null,null,null,null,null,null,null,null,null,null,null,null,null,null,null,0]
[null,null,{"$f":"IF(ISBLANK('Scope and Prelim. Cost Est.'!B41),\"\",'Scope and Prelim. Cost Est.'!B41)","v":""},{"$f":"IF(ISBLANK('Scope and Prelim. Cost Est.'!C41),\"\",'Scope and Prelim. Cost Est.'!C41)","v":""},{"$f":"IF('Scope and Prelim. Cost Est.'!AA41=\"\",'Scope and Prelim. Cost Est.'!Z41,'Scope and Prelim. Cost Est.'!AA41)","v":""},null,"",{"$f":"IF('Scope and Prelim. Cost Est.'!L41=\"\",'Scope and Prelim. Cost Est.'!K41,'Scope and Prelim. Cost Est.'!L41)","v":""},{"$f":"IF('Scope and Prelim. Cost Est.'!M41=\"\",\"\",'Scope and Prelim. Cost Est.'!M41)","v":""},{"$f":"IF('Scope and Prelim. Cost Est.'!N41=\"\",\"\",'Scope and Prelim. Cost Est.'!N41)","v":""},null,"",null,null,null,null,null,null,null,null,null,null,null,null,null,null,null,null,null,null,null,null,0]
[null,null,{"$f":"IF(ISBLANK('Scope and Prelim. Cost Est.'!B42),\"\",'Scope and Prelim. Cost Est.'!B42)","v":""},{"$f":"IF(ISBLANK('Scope and Prelim. Cost Est.'!C42),\"\",'Scope and Prelim. Cost Est.'!C42)","v":""},{"$f":"IF('Scope and Prelim. Cost Est.'!AA42=\"\",'Scope and Prelim. Cost Est.'!Z42,'Scope and Prelim. Cost Est.'!AA42)","v":""},null,"",{"$f":"IF('Scope and Prelim. Cost Est.'!L42=\"\",'Scope and Prelim. Cost Est.'!K42,'Scope and Prelim. Cost Est.'!L42)","v":""},{"$f":"IF('Scope and Prelim. Cost Est.'!M42=\"\",\"\",'Scope and Prelim. Cost Est.'!M42)","v":""},{"$f":"IF('Scope and Prelim. Cost Est.'!N42=\"\",\"\",'Scope and Prelim. Cost Est.'!N42)","v":""},null,"",null,null,null,null,null,null,null,null,null,null,null,null,null,null,null,null,null,null,null,null,0]
[null,null,{"$f":"IF(ISBLANK('Scope and Prelim. Cost Est.'!B43),\"\",'Scope and Prelim. Cost Est.'!B43)","v":""},{"$f":"IF(ISBLANK('Scope and Prelim. Cost Est.'!C43),\"\",'Scope and Prelim. Cost Est.'!C43)","v":""},{"$f":"IF('Scope and Prelim. Cost Est.'!AA43=\"\",'Scope and Prelim. Cost Est.'!Z43,'Scope and Prelim. Cost Est.'!AA43)","v":""},null,"",{"$f":"IF('Scope and Prelim. Cost Est.'!L43=\"\",'Scope and Prelim. Cost Est.'!K43,'Scope and Prelim. Cost Est.'!L43)","v":""},{"$f":"IF('Scope and Prelim. Cost Est.'!M43=\"\",\"\",'Scope and Prelim. Cost Est.'!M43)","v":""},{"$f":"IF('Scope and Prelim. Cost Est.'!N43=\"\",\"\",'Scope and Prelim. Cost Est.'!N43)","v":""},null,"",null,null,null,null,null,null,null,null,null,null,null,null,null,null,null,null,null,null,null,null,0]
[null,null,{"$f":"IF(ISBLANK('Scope and Prelim. Cost Est.'!B44),\"\",'Scope and Prelim. Cost Est.'!B44)","v":""},{"$f":"IF(ISBLANK('Scope and Prelim. Cost Est.'!C44),\"\",'Scope and Prelim. Cost Est.'!C44)","v":""},{"$f":"IF('Scope and Prelim. Cost Est.'!AA44=\"\",'Scope and Prelim. Cost Est.'!Z44,'Scope and Prelim. Cost Est.'!AA44)","v":""},null,"",{"$f":"IF('Scope and Prelim. Cost Est.'!L44=\"\",'Scope and Prelim. Cost Est.'!K44,'Scope and Prelim. Cost Est.'!L44)","v":""},{"$f":"IF('Scope and Prelim. Cost Est.'!M44=\"\",\"\",'Scope and Prelim. Cost Est.'!M44)","v":""},{"$f":"IF('Scope and Prelim. Cost Est.'!N44=\"\",\"\",'Scope and Prelim. Cost Est.'!N44)","v":""},null,"",null,null,null,null,null,null,null,null,null,null,null,null,null,null,null,null,null,null,null,null,0]
[null,null,{"$f":"IF(ISBLANK('Scope and Prelim. Cost Est.'!B45),\"\",'Scope and Prelim. Cost Est.'!B45)","v":""},{"$f":"IF(ISBLANK('Scope and Prelim. Cost Est.'!C45),\"\",'Scope and Prelim. Cost Est.'!C45)","v":""},{"$f":"IF('Scope and Prelim. Cost Est.'!AA45=\"\",'Scope and Prelim. Cost Est.'!Z45,'Scope and Prelim. Cost Est.'!AA45)","v":""},null,"",{"$f":"IF('Scope and Prelim. Cost Est.'!L45=\"\",'Scope and Prelim. Cost Est.'!K45,'Scope and Prelim. Cost Est.'!L45)","v":""},{"$f":"IF('Scope and Prelim. Cost Est.'!M45=\"\",\"\",'Scope and Prelim. Cost Est.'!M45)","v":""},{"$f":"IF('Scope and Prelim. Cost Est.'!N45=\"\",\"\",'Scope and Prelim. Cost Est.'!N45)","v":""},null,"",null,null,null,null,null,null,null,null,null,null,null,null,null,null,null,null,null,null,null,null,0]
[null,null,{"$f":"IF(ISBLANK('Scope and Prelim. Cost Est.'!B46),\"\",'Scope and Prelim. Cost Est.'!B46)","v":""},{"$f":"IF(ISBLANK('Scope and Prelim. Cost Est.'!C46),\"\",'Scope and Prelim. Cost Est.'!C46)","v":""},{"$f":"IF('Scope and Prelim. Cost Est.'!AA46=\"\",'Scope and Prelim. Cost Est.'!Z46,'Scope and Prelim. Cost Est.'!AA46)","v":""},null,"",{"$f":"IF('Scope and Prelim. Cost Est.'!L46=\"\",'Scope and Prelim. Cost Est.'!K46,'Scope and Prelim. Cost Est.'!L46)","v":""},{"$f":"IF('Scope and Prelim. Cost Est.'!M46=\"\",\"\",'Scope and Prelim. Cost Est.'!M46)","v":""},{"$f":"IF('Scope and Prelim. Cost Est.'!N46=\"\",\"\",'Scope and Prelim. Cost Est.'!N46)","v":""},null,"",null,null,null,null,null,null,null,null,null,null,null,null,null,null,null,null,null,null,null,null,0]
[null,null,{"$f":"IF(ISBLANK('Scope and Prelim. Cost Est.'!B47),\"\",'Scope and Prelim. Cost Est.'!B47)","v":""},{"$f":"IF(ISBLANK('Scope and Prelim. Cost Est.'!C47),\"\",'Scope and Prelim. Cost Est.'!C47)","v":""},{"$f":"IF('Scope and Prelim. Cost Est.'!AA47=\"\",'Scope and Prelim. Cost Est.'!Z47,'Scope and Prelim. Cost Est.'!AA47)","v":""},null,"",{"$f":"IF('Scope and Prelim. Cost Est.'!L47=\"\",'Scope and Prelim. Cost Est.'!K47,'Scope and Prelim. Cost Est.'!L47)","v":""},{"$f":"IF('Scope and Prelim. Cost Est.'!M47=\"\",\"\",'Scope and Prelim. Cost Est.'!M47)","v":""},{"$f":"IF('Scope and Prelim. Cost Est.'!N47=\"\",\"\",'Scope and Prelim. Cost Est.'!N47)","v":""},null,"",null,null,null,null,null,null,null,null,null,null,null,null,null,null,null,null,null,null,null,null,0]
[null,null,{"$f":"IF(ISBLANK('Scope and Prelim. Cost Est.'!B48),\"\",'Scope and Prelim. Cost Est.'!B48)","v":""},{"$f":"IF(ISBLANK('Scope and Prelim. Cost Est.'!C48),\"\",'Scope and Prelim. Cost Est.'!C48)","v":""},{"$f":"IF('Scope and Prelim. Cost Est.'!AA48=\"\",'Scope and Prelim. Cost Est.'!Z48,'Scope and Prelim. Cost Est.'!AA48)","v":""},null,"",{"$f":"IF('Scope and Prelim. Cost Est.'!L48=\"\",'Scope and Prelim. Cost Est.'!K48,'Scope and Prelim. Cost Est.'!L48)","v":""},{"$f":"IF('Scope and Prelim. Cost Est.'!M48=\"\",\"\",'Scope and Prelim. Cost Est.'!M48)","v":""},{"$f":"IF('Scope and Prelim. Cost Est.'!N48=\"\",\"\",'Scope and Prelim. Cost Est.'!N48)","v":""},null,"",null,null,null,null,null,null,null,null,null,null,null,null,null,null,null,null,null,null,null,null,0]
[null,null,{"$f":"IF(ISBLANK('Scope and Prelim. Cost Est.'!B49),\"\",'Scope and Prelim. Cost Est.'!B49)","v":""},{"$f":"IF(ISBLANK('Scope and Prelim. Cost Est.'!C49),\"\",'Scope and Prelim. Cost Est.'!C49)","v":""},{"$f":"IF('Scope and Prelim. Cost Est.'!AA49=\"\",'Scope and Prelim. Cost Est.'!Z49,'Scope and Prelim. Cost Est.'!AA49)","v":""},null,"",{"$f":"IF('Scope and Prelim. Cost Est.'!L49=\"\",'Scope and Prelim. Cost Est.'!K49,'Scope and Prelim. Cost Est.'!L49)","v":""},{"$f":"IF('Scope and Prelim. Cost Est.'!M49=\"\",\"\",'Scope and Prelim. Cost Est.'!M49)","v":""},{"$f":"IF('Scope and Prelim. Cost Est.'!N49=\"\",\"\",'Scope and Prelim. Cost Est.'!N49)","v":""},null,"",null,null,null,null,null,null,null,null,null,null,null,null,null,null,null,null,null,null,null,null,0]
[null,null,{"$f":"IF(ISBLANK('Scope and Prelim. Cost Est.'!B50),\"\",'Scope and Prelim. Cost Est.'!B50)","v":""},{"$f":"IF(ISBLANK('Scope and Prelim. Cost Est.'!C50),\"\",'Scope and Prelim. Cost Est.'!C50)","v":""},{"$f":"IF('Scope and Prelim. Cost Est.'!AA50=\"\",'Scope and Prelim. Cost Est.'!Z50,'Scope and Prelim. Cost Est.'!AA50)","v":""},null,"",{"$f":"IF('Scope and Prelim. Cost Est.'!L50=\"\",'Scope and Prelim. Cost Est.'!K50,'Scope and Prelim. Cost Est.'!L50)","v":""},{"$f":"IF('Scope and Prelim. Cost Est.'!M50=\"\",\"\",'Scope and Prelim. Cost Est.'!M50)","v":""},{"$f":"IF('Scope and Prelim. Cost Est.'!N50=\"\",\"\",'Scope and Prelim. Cost Est.'!N50)","v":""},null,"",null,null,null,null,null,null,null,null,null,null,null,null,null,null,null,null,null,null,null,null,0]
[null,null,{"$f":"IF(ISBLANK('Scope and Prelim. Cost Est.'!B51),\"\",'Scope and Prelim. Cost Est.'!B51)","v":""},{"$f":"IF(ISBLANK('Scope and Prelim. Cost Est.'!C51),\"\",'Scope and Prelim. Cost Est.'!C51)","v":""},{"$f":"IF('Scope and Prelim. Cost Est.'!AA51=\"\",'Scope and Prelim. Cost Est.'!Z51,'Scope and Prelim. Cost Est.'!AA51)","v":""},null,"",{"$f":"IF('Scope and Prelim. Cost Est.'!L51=\"\",'Scope and Prelim. Cost Est.'!K51,'Scope and Prelim. Cost Est.'!L51)","v":""},{"$f":"IF('Scope and Prelim. Cost Est.'!M51=\"\",\"\",'Scope and Prelim. Cost Est.'!M51)","v":""},{"$f":"IF('Scope and Prelim. Cost Est.'!N51=\"\",\"\",'Scope and Prelim. Cost Est.'!N51)","v":""},null,"",null,null,null,null,null,null,null,null,null,null,null,null,null,null,null,null,null,null,null,null,0]
[null,null,{"$f":"IF(ISBLANK('Scope and Prelim. Cost Est.'!B52),\"\",'Scope and Prelim. Cost Est.'!B52)","v":""},{"$f":"IF(ISBLANK('Scope and Prelim. Cost Est.'!C52),\"\",'Scope and Prelim. Cost Est.'!C52)","v":""},{"$f":"IF('Scope and Prelim. Cost Est.'!AA52=\"\",'Scope and Prelim. Cost Est.'!Z52,'Scope and Prelim. Cost Est.'!AA52)","v":""},null,"",{"$f":"IF('Scope and Prelim. Cost Est.'!L52=\"\",'Scope and Prelim. Cost Est.'!K52,'Scope and Prelim. Cost Est.'!L52)","v":""},{"$f":"IF('Scope and Prelim. Cost Est.'!M52=\"\",\"\",'Scope and Prelim. Cost Est.'!M52)","v":""},{"$f":"IF('Scope and Prelim. Cost Est.'!N52=\"\",\"\",'Scope and Prelim. Cost Est.'!N52)","v":""},null,"",null,null,null,null,null,null,null,null,null,null,null,null,null,null,null,null,null,null,null,null,0]
[null,null,{"$f":"IF(ISBLANK('Scope and Prelim. Cost Est.'!B53),\"\",'Scope and Prelim. Cost Est.'!B53)","v":""},{"$f":"IF(ISBLANK('Scope and Prelim. Cost Est.'!C53),\"\",'Scope and Prelim. Cost Est.'!C53)","v":""},{"$f":"IF('Scope and Prelim. Cost Est.'!AA53=\"\",'Scope and Prelim. Cost Est.'!Z53,'Scope and Prelim. Cost Est.'!AA53)","v":""},null,"",{"$f":"IF('Scope and Prelim. Cost Est.'!L53=\"\",'Scope and Prelim. Cost Est.'!K53,'Scope and Prelim. Cost Est.'!L53)","v":""},{"$f":"IF('Scope and Prelim. Cost Est.'!M53=\"\",\"\",'Scope and Prelim. Cost Est.'!M53)","v":""},{"$f":"IF('Scope and Prelim. Cost Est.'!N53=\"\",\"\",'Scope and Prelim. Cost Est.'!N53)","v":""},null,"",null,null,null,null,null,null,null,null,null,null,null,null,null,null,null,null,null,null,null,null,0]
[null,null,{"$f":"IF(ISBLANK('Scope and Prelim. Cost Est.'!B54),\"\",'Scope and Prelim. Cost Est.'!B54)","v":""},{"$f":"IF(ISBLANK('Scope and Prelim. Cost Est.'!C54),\"\",'Scope and Prelim. Cost Est.'!C54)","v":""},{"$f":"IF('Scope and Prelim. Cost Est.'!AA54=\"\",'Scope and Prelim. Cost Est.'!Z54,'Scope and Prelim. Cost Est.'!AA54)","v":""},null,"",{"$f":"IF('Scope and Prelim. Cost Est.'!L54=\"\",'Scope and Prelim. Cost Est.'!K54,'Scope and Prelim. Cost Est.'!L54)","v":""},{"$f":"IF('Scope and Prelim. Cost Est.'!M54=\"\",\"\",'Scope and Prelim. Cost Est.'!M54)","v":""},{"$f":"IF('Scope and Prelim. Cost Est.'!N54=\"\",\"\",'Scope and Prelim. Cost Est.'!N54)","v":""},null,"",null,null,null,null,null,null,null,null,null,null,null,null,null,null,null,null,null,null,null,null,0]
[null,null,{"$f":"IF(ISBLANK('Scope and Prelim. Cost Est.'!B55),\"\",'Scope and Prelim. Cost Est.'!B55)","v":""},{"$f":"IF(ISBLANK('Scope and Prelim. Cost Est.'!C55),\"\",'Scope and Prelim. Cost Est.'!C55)","v":""},{"$f":"IF('Scope and Prelim. Cost Est.'!AA55=\"\",'Scope and Prelim. Cost Est.'!Z55,'Scope and Prelim. Cost Est.'!AA55)","v":""},null,"",{"$f":"IF('Scope and Prelim. Cost Est.'!L55=\"\",'Scope and Prelim. Cost Est.'!K55,'Scope and Prelim. Cost Est.'!L55)","v":""},{"$f":"IF('Scope and Prelim. Cost Est.'!M55=\"\",\"\",'Scope and Prelim. Cost Est.'!M55)","v":""},{"$f":"IF('Scope and Prelim. Cost Est.'!N55=\"\",\"\",'Scope and Prelim. Cost Est.'!N55)","v":""},null,"",null,null,null,null,null,null,null,null,null,null,null,null,null,null,null,null,null,null,null,null,0]
[null,null,{"$f":"IF(ISBLANK('Scope and Prelim. Cost Est.'!B56),\"\",'Scope and Prelim. Cost Est.'!B56)","v":""},{"$f":"IF(ISBLANK('Scope and Prelim. Cost Est.'!C56),\"\",'Scope and Prelim. Cost Est.'!C56)","v":""},{"$f":"IF('Scope and Prelim. Cost Est.'!AA56=\"\",'Scope and Prelim. Cost Est.'!Z56,'Scope and Prelim. Cost Est.'!AA56)","v":""},null,"",{"$f":"IF('Scope and Prelim. Cost Est.'!L56=\"\",'Scope and Prelim. Cost Est.'!K56,'Scope and Prelim. Cost Est.'!L56)","v":""},{"$f":"IF('Scope and Prelim. Cost Est.'!M56=\"\",\"\",'Scope and Prelim. Cost Est.'!M56)","v":""},{"$f":"IF('Scope and Prelim. Cost Est.'!N56=\"\",\"\",'Scope and Prelim. Cost Est.'!N56)","v":""},null,"",null,null,null,null,null,null,null,null,null,null,null,null,null,null,null,null,null,null,null,null,0]
[null,null,{"$f":"IF(ISBLANK('Scope and Prelim. Cost Est.'!B57),\"\",'Scope and Prelim. Cost Est.'!B57)","v":""},{"$f":"IF(ISBLANK('Scope and Prelim. Cost Est.'!C57),\"\",'Scope and Prelim. Cost Est.'!C57)","v":""},{"$f":"IF('Scope and Prelim. Cost Est.'!AA57=\"\",'Scope and Prelim. Cost Est.'!Z57,'Scope and Prelim. Cost Est.'!AA57)","v":""},null,"",{"$f":"IF('Scope and Prelim. Cost Est.'!L57=\"\",'Scope and Prelim. Cost Est.'!K57,'Scope and Prelim. Cost Est.'!L57)","v":""},{"$f":"IF('Scope and Prelim. Cost Est.'!M57=\"\",\"\",'Scope and Prelim. Cost Est.'!M57)","v":""},{"$f":"IF('Scope and Prelim. Cost Est.'!N57=\"\",\"\",'Scope and Prelim. Cost Est.'!N57)","v":""},null,"",null,null,null,null,null,null,null,null,null,null,null,null,null,null,null,null,null,null,null,null,0]
[null,null,{"$f":"IF(ISBLANK('Scope and Prelim. Cost Est.'!B58),\"\",'Scope and Prelim. Cost Est.'!B58)","v":""},{"$f":"IF(ISBLANK('Scope and Prelim. Cost Est.'!C58),\"\",'Scope and Prelim. Cost Est.'!C58)","v":""},{"$f":"IF('Scope and Prelim. Cost Est.'!AA58=\"\",'Scope and Prelim. Cost Est.'!Z58,'Scope and Prelim. Cost Est.'!AA58)","v":""},null,{"$f":"IF(F46=\"\",\"\",E46-F46)","v":""},{"$f":"IF('Scope and Prelim. Cost Est.'!L58=\"\",'Scope and Prelim. Cost Est.'!K58,'Scope and Prelim. Cost Est.'!L58)","v":""},{"$f":"IF('Scope and Prelim. Cost Est.'!M58=\"\",\"\",'Scope and Prelim. Cost Est.'!M58)","v":""},{"$f":"IF('Scope and Prelim. Cost Est.'!N58=\"\",\"\",'Scope and Prelim. Cost Est.'!N58)","v":""},null,"",null,null,null,null,null,null,null,null,null,null,null,null,null,null,null,null,null,null,null,null,0]
[null,null,{"$f":"IF(ISBLANK('Scope and Prelim. Cost Est.'!B59),\"\",'Scope and Prelim. Cost Est.'!B59)","v":""},{"$f":"IF(ISBLANK('Scope and Prelim. Cost Est.'!C59),\"\",'Scope and Prelim. Cost Est.'!C59)","v":""},{"$f":"IF('Scope and Prelim. Cost Est.'!AA59=\"\",'Scope and Prelim. Cost Est.'!Z59,'Scope and Prelim. Cost Est.'!AA59)","v":""},null,"",{"$f":"IF('Scope and Prelim. Cost Est.'!L59=\"\",'Scope and Prelim. Cost Est.'!K59,'Scope and Prelim. Cost Est.'!L59)","v":""},{"$f":"IF('Scope and Prelim. Cost Est.'!M59=\"\",\"\",'Scope and Prelim. Cost Est.'!M59)","v":""},{"$f":"IF('Scope and Prelim. Cost Est.'!N59=\"\",\"\",'Scope and Prelim. Cost Est.'!N59)","v":""},null,"",null,null,null,null,null,null,null,null,null,null,null,null,null,null,null,null,null,null,null,null,0]
[null,null,{"$f":"IF(ISBLANK('Scope and Prelim. Cost Est.'!B60),\"\",'Scope and Prelim. Cost Est.'!B60)","v":""},{"$f":"IF(ISBLANK('Scope and Prelim. Cost Est.'!C60),\"\",'Scope and Prelim. Cost Est.'!C60)","v":""},{"$f":"IF('Scope and Prelim. Cost Est.'!AA60=\"\",'Scope and Prelim. Cost Est.'!Z60,'Scope and Prelim. Cost Est.'!AA60)","v":""},null,"",{"$f":"IF('Scope and Prelim. Cost Est.'!L60=\"\",'Scope and Prelim. Cost Est.'!K60,'Scope and Prelim. Cost Est.'!L60)","v":""},{"$f":"IF('Scope and Prelim. Cost Est.'!M60=\"\",\"\",'Scope and Prelim. Cost Est.'!M60)","v":""},{"$f":"IF('Scope and Prelim. Cost Est.'!N60=\"\",\"\",'Scope and Prelim. Cost Est.'!N60)","v":""},null,"",null,null,null,null,null,null,null,null,null,null,null,null,null,null,null,null,null,null,null,null,0]
[null,null,{"$f":"IF(ISBLANK('Scope and Prelim. Cost Est.'!B61),\"\",'Scope and Prelim. Cost Est.'!B61)","v":""},{"$f":"IF(ISBLANK('Scope and Prelim. Cost Est.'!C61),\"\",'Scope and Prelim. Cost Est.'!C61)","v":""},{"$f":"IF('Scope and Prelim. Cost Est.'!AA61=\"\",'Scope and Prelim. Cost Est.'!Z61,'Scope and Prelim. Cost Est.'!AA61)","v":""},null,"",{"$f":"IF('Scope and Prelim. Cost Est.'!L61=\"\",'Scope and Prelim. Cost Est.'!K61,'Scope and Prelim. Cost Est.'!L61)","v":""},{"$f":"IF('Scope and Prelim. Cost Est.'!M61=\"\",\"\",'Scope and Prelim. Cost Est.'!M61)","v":""},{"$f":"IF('Scope and Prelim. Cost Est.'!N61=\"\",\"\",'Scope and Prelim. Cost Est.'!N61)","v":""},null,"",null,null,null,null,null,null,null,null,null,null,null,null,null,null,null,null,null,null,null,null,0]
[null,null,{"$f":"IF(ISBLANK('Scope and Prelim. Cost Est.'!B62),\"\",'Scope and Prelim. Cost Est.'!B62)","v":""},{"$f":"IF(ISBLANK('Scope and Prelim. Cost Est.'!C62),\"\",'Scope and Prelim. Cost Est.'!C62)","v":""},{"$f":"IF('Scope and Prelim. Cost Est.'!AA62=\"\",'Scope and Prelim. Cost Est.'!Z62,'Scope and Prelim. Cost Est.'!AA62)","v":""},null,"",{"$f":"IF('Scope and Prelim. Cost Est.'!L62=\"\",'Scope and Prelim. Cost Est.'!K62,'Scope and Prelim. Cost Est.'!L62)","v":""},{"$f":"IF('Scope and Prelim. Cost Est.'!M62=\"\",\"\",'Scope and Prelim. Cost Est.'!M62)","v":""},{"$f":"IF('Scope and Prelim. Cost Est.'!N62=\"\",\"\",'Scope and Prelim. Cost Est.'!N62)","v":""},null,"",null,null,null,null,null,null,null,null,null,null,null,null,null,null,null,null,null,null,null,null,0]
[null,null,{"$f":"IF(ISBLANK('Scope and Prelim. Cost Est.'!B63),\"\",'Scope and Prelim. Cost Est.'!B63)","v":""},{"$f":"IF(ISBLANK('Scope and Prelim. Cost Est.'!C63),\"\",'Scope and Prelim. Cost Est.'!C63)","v":""},{"$f":"IF('Scope and Prelim. Cost Est.'!AA63=\"\",'Scope and Prelim. Cost Est.'!Z63,'Scope and Prelim. Cost Est.'!AA63)","v":""},null,"",{"$f":"IF('Scope and Prelim. Cost Est.'!L63=\"\",'Scope and Prelim. Cost Est.'!K63,'Scope and Prelim. Cost Est.'!L63)","v":""},{"$f":"IF('Scope and Prelim. Cost Est.'!M63=\"\",\"\",'Scope and Prelim. Cost Est.'!M63)","v":""},{"$f":"IF('Scope and Prelim. Cost Est.'!N63=\"\",\"\",'Scope and Prelim. Cost Est.'!N63)","v":""},null,"",null,null,null,null,null,null,null,null,null,null,null,null,null,null,null,null,null,null,null,null,0]
[null,null,{"$f":"IF(ISBLANK('Scope and Prelim. Cost Est.'!B64),\"\",'Scope and Prelim. Cost Est.'!B64)","v":""},{"$f":"IF(ISBLANK('Scope and Prelim. Cost Est.'!C64),\"\",'Scope and Prelim. Cost Est.'!C64)","v":""},{"$f":"IF('Scope and Prelim. Cost Est.'!AA64=\"\",'Scope and Prelim. Cost Est.'!Z64,'Scope and Prelim. Cost Est.'!AA64)","v":""},null,"",{"$f":"IF('Scope and Prelim. Cost Est.'!L64=\"\",'Scope and Prelim. Cost Est.'!K64,'Scope and Prelim. Cost Est.'!L64)","v":""},{"$f":"IF('Scope and Prelim. Cost Est.'!M64=\"\",\"\",'Scope and Prelim. Cost Est.'!M64)","v":""},{"$f":"IF('Scope and Prelim. Cost Est.'!N64=\"\",\"\",'Scope and Prelim. Cost Est.'!N64)","v":""},null,"",null,null,null,null,null,null,null,null,null,null,null,null,null,null,null,null,null,null,null,null,0]
[null,null,{"$f":"IF(ISBLANK('Scope and Prelim. Cost Est.'!B65),\"\",'Scope and Prelim. Cost Est.'!B65)","v":""},{"$f":"IF(ISBLANK('Scope and Prelim. Cost Est.'!C65),\"\",'Scope and Prelim. Cost Est.'!C65)","v":""},{"$f":"IF('Scope and Prelim. Cost Est.'!AA65=\"\",'Scope and Prelim. Cost Est.'!Z65,'Scope and Prelim. Cost Est.'!AA65)","v":""},null,"",{"$f":"IF('Scope and Prelim. Cost Est.'!L65=\"\",'Scope and Prelim. Cost Est.'!K65,'Scope and Prelim. Cost Est.'!L65)","v":""},{"$f":"IF('Scope and Prelim. Cost Est.'!M65=\"\",\"\",'Scope and Prelim. Cost Est.'!M65)","v":""},{"$f":"IF('Scope and Prelim. Cost Est.'!N65=\"\",\"\",'Scope and Prelim. Cost Est.'!N65)","v":""},null,"",null,null,null,null,null,null,null,null,null,null,null,null,null,null,null,null,null,null,null,null,0]
[null,null,{"$f":"IF(ISBLANK('Scope and Prelim. Cost Est.'!B66),\"\",'Scope and Prelim. Cost Est.'!B66)","v":""},{"$f":"IF(ISBLANK('Scope and Prelim. Cost Est.'!C66),\"\",'Scope and Prelim. Cost Est.'!C66)","v":""},{"$f":"IF('Scope and Prelim. Cost Est.'!AA66=\"\",'Scope and Prelim. Cost Est.'!Z66,'Scope and Prelim. Cost Est.'!AA66)","v":""},null,"",{"$f":"IF('Scope and Prelim. Cost Est.'!L66=\"\",'Scope and Prelim. Cost Est.'!K66,'Scope and Prelim. Cost Est.'!L66)","v":""},{"$f":"IF('Scope and Prelim. Cost Est.'!M66=\"\",\"\",'Scope and Prelim. Cost Est.'!M66)","v":""},{"$f":"IF('Scope and Prelim. Cost Est.'!N66=\"\",\"\",'Scope and Prelim. Cost Est.'!N66)","v":""},null,"",null,null,null,null,null,null,null,null,null,null,null,null,null,null,null,null,null,null,null,null,0]
[null,null,{"$f":"IF(ISBLANK('Scope and Prelim. Cost Est.'!B67),\"\",'Scope and Prelim. Cost Est.'!B67)","v":""},{"$f":"IF(ISBLANK('Scope and Prelim. Cost Est.'!C67),\"\",'Scope and Prelim. Cost Est.'!C67)","v":""},{"$f":"IF('Scope and Prelim. Cost Est.'!AA67=\"\",'Scope and Prelim. Cost Est.'!Z67,'Scope and Prelim. Cost Est.'!AA67)","v":""},null,"",{"$f":"IF('Scope and Prelim. Cost Est.'!L67=\"\",'Scope and Prelim. Cost Est.'!K67,'Scope and Prelim. Cost Est.'!L67)","v":""},{"$f":"IF('Scope and Prelim. Cost Est.'!M67=\"\",\"\",'Scope and Prelim. Cost Est.'!M67)","v":""},{"$f":"IF('Scope and Prelim. Cost Est.'!N67=\"\",\"\",'Scope and Prelim. Cost Est.'!N67)","v":""},null,"",null,null,null,null,null,null,null,null,null,null,null,null,null,null,null,null,null,null,null,null,0]
[null,null,{"$f":"IF(ISBLANK('Scope and Prelim. Cost Est.'!B68),\"\",'Scope and Prelim. Cost Est.'!B68)","v":""},{"$f":"IF(ISBLANK('Scope and Prelim. Cost Est.'!C68),\"\",'Scope and Prelim. Cost Est.'!C68)","v":""},{"$f":"IF('Scope and Prelim. Cost Est.'!AA68=\"\",'Scope and Prelim. Cost Est.'!Z68,'Scope and Prelim. Cost Est.'!AA68)","v":""},null,"",{"$f":"IF('Scope and Prelim. Cost Est.'!L68=\"\",'Scope and Prelim. Cost Est.'!K68,'Scope and Prelim. Cost Est.'!L68)","v":""},{"$f":"IF('Scope and Prelim. Cost Est.'!M68=\"\",\"\",'Scope and Prelim. Cost Est.'!M68)","v":""},{"$f":"IF('Scope and Prelim. Cost Est.'!N68=\"\",\"\",'Scope and Prelim. Cost Est.'!N68)","v":""},null,"",null,null,null,null,null,null,null,null,null,null,null,null,null,null,null,null,null,null,null,null,0]
[null,null,{"$f":"IF(ISBLANK('Scope and Prelim. Cost Est.'!B69),\"\",'Scope and Prelim. Cost Est.'!B69)","v":""},{"$f":"IF(ISBLANK('Scope and Prelim. Cost Est.'!C69),\"\",'Scope and Prelim. Cost Est.'!C69)","v":""},{"$f":"IF('Scope and Prelim. Cost Est.'!AA69=\"\",'Scope and Prelim. Cost Est.'!Z69,'Scope and Prelim. Cost Est.'!AA69)","v":""},null,"",{"$f":"IF('Scope and Prelim. Cost Est.'!L69=\"\",'Scope and Prelim. Cost Est.'!K69,'Scope and Prelim. Cost Est.'!L69)","v":""},{"$f":"IF('Scope and Prelim. Cost Est.'!M69=\"\",\"\",'Scope and Prelim. Cost Est.'!M69)","v":""},{"$f":"IF('Scope and Prelim. Cost Est.'!N69=\"\",\"\",'Scope and Prelim. Cost Est.'!N69)","v":""},null,"",null,null,null,null,null,null,null,null,null,null,null,null,null,null,null,null,null,null,null,null,0]
[null,null,{"$f":"IF(ISBLANK('Scope and Prelim. Cost Est.'!B70),\"\",'Scope and Prelim. Cost Est.'!B70)","v":""},{"$f":"IF(ISBLANK('Scope and Prelim. Cost Est.'!C70),\"\",'Scope and Prelim. Cost Est.'!C70)","v":""},{"$f":"IF('Scope and Prelim. Cost Est.'!AA70=\"\",'Scope and Prelim. Cost Est.'!Z70,'Scope and Prelim. Cost Est.'!AA70)","v":""},null,"",{"$f":"IF('Scope and Prelim. Cost Est.'!L70=\"\",'Scope and Prelim. Cost Est.'!K70,'Scope and Prelim. Cost Est.'!L70)","v":""},{"$f":"IF('Scope and Prelim. Cost Est.'!M70=\"\",\"\",'Scope and Prelim. Cost Est.'!M70)","v":""},{"$f":"IF('Scope and Prelim. Cost Est.'!N70=\"\",\"\",'Scope and Prelim. Cost Est.'!N70)","v":""},null,{"$f":"IF(J58=\"\",\"\",I58*J58)","v":""},null,null,null,null,null,null,null,null,null,null,null,null,null,null,null,null,null,null,null,null,0]
[null,null,{"$f":"IF(ISBLANK('Scope and Prelim. Cost Est.'!B71),\"\",'Scope and Prelim. Cost Est.'!B71)","v":""},{"$f":"IF(ISBLANK('Scope and Prelim. Cost Est.'!C71),\"\",'Scope and Prelim. Cost Est.'!C71)","v":""},{"$f":"IF('Scope and Prelim. Cost Est.'!AA71=\"\",'Scope and Prelim. Cost Est.'!Z71,'Scope and Prelim. Cost Est.'!AA71)","v":""},null,"",{"$f":"IF('Scope and Prelim. Cost Est.'!L71=\"\",'Scope and Prelim. Cost Est.'!K71,'Scope and Prelim. Cost Est.'!L71)","v":""},{"$f":"IF('Scope and Prelim. Cost Est.'!M71=\"\",\"\",'Scope and Prelim. Cost Est.'!M71)","v":""},{"$f":"IF('Scope and Prelim. Cost Est.'!N71=\"\",\"\",'Scope and Prelim. Cost Est.'!N71)","v":""},null,"",null,null,null,null,null,null,null,null,null,null,null,null,null,null,null,null,null,null,null,null,0]
[null,null,{"$f":"IF(ISBLANK('Scope and Prelim. Cost Est.'!B72),\"\",'Scope and Prelim. Cost Est.'!B72)","v":""},{"$f":"IF(ISBLANK('Scope and Prelim. Cost Est.'!C72),\"\",'Scope and Prelim. Cost Est.'!C72)","v":""},{"$f":"IF('Scope and Prelim. Cost Est.'!AA72=\"\",'Scope and Prelim. Cost Est.'!Z72,'Scope and Prelim. Cost Est.'!AA72)","v":""},null,"",{"$f":"IF('Scope and Prelim. Cost Est.'!L72=\"\",'Scope and Prelim. Cost Est.'!K72,'Scope and Prelim. Cost Est.'!L72)","v":""},{"$f":"IF('Scope and Prelim. Cost Est.'!M72=\"\",\"\",'Scope and Prelim. Cost Est.'!M72)","v":""},{"$f":"IF('Scope and Prelim. Cost Est.'!N72=\"\",\"\",'Scope and Prelim. Cost Est.'!N72)","v":""},null,"",null,null,null,null,null,null,null,null,null,null,null,null,null,null,null,null,null,null,null,null,0]
[null,null,{"$f":"IF(ISBLANK('Scope and Prelim. Cost Est.'!B73),\"\",'Scope and Prelim. Cost Est.'!B73)","v":""},{"$f":"IF(ISBLANK('Scope and Prelim. Cost Est.'!C73),\"\",'Scope and Prelim. Cost Est.'!C73)","v":""},{"$f":"IF('Scope and Prelim. Cost Est.'!AA73=\"\",'Scope and Prelim. Cost Est.'!Z73,'Scope and Prelim. Cost Est.'!AA73)","v":""},null,"",{"$f":"IF('Scope and Prelim. Cost Est.'!L73=\"\",'Scope and Prelim. Cost Est.'!K73,'Scope and Prelim. Cost Est.'!L73)","v":""},{"$f":"IF('Scope and Prelim. Cost Est.'!M73=\"\",\"\",'Scope and Prelim. Cost Est.'!M73)","v":""},{"$f":"IF('Scope and Prelim. Cost Est.'!N73=\"\",\"\",'Scope and Prelim. Cost Est.'!N73)","v":""},null,"",null,null,null,null,null,null,null,null,null,null,null,null,null,null,null,null,null,null,null,null,0]
[null,null,{"$f":"IF(ISBLANK('Scope and Prelim. Cost Est.'!B74),\"\",'Scope and Prelim. Cost Est.'!B74)","v":""},{"$f":"IF(ISBLANK('Scope and Prelim. Cost Est.'!C74),\"\",'Scope and Prelim. Cost Est.'!C74)","v":""},{"$f":"IF('Scope and Prelim. Cost Est.'!AA74=\"\",'Scope and Prelim. Cost Est.'!Z74,'Scope and Prelim. Cost Est.'!AA74)","v":""},null,"",{"$f":"IF('Scope and Prelim. Cost Est.'!L74=\"\",'Scope and Prelim. Cost Est.'!K74,'Scope and Prelim. Cost Est.'!L74)","v":""},{"$f":"IF('Scope and Prelim. Cost Est.'!M74=\"\",\"\",'Scope and Prelim. Cost Est.'!M74)","v":""},{"$f":"IF('Scope and Prelim. Cost Est.'!N74=\"\",\"\",'Scope and Prelim. Cost Est.'!N74)","v":""},null,"",null,null,null,null,null,null,null,null,null,null,null,null,null,null,null,null,null,null,null,null,0]
[null,null,{"$f":"IF(ISBLANK('Scope and Prelim. Cost Est.'!B75),\"\",'Scope and Prelim. Cost Est.'!B75)","v":""},{"$f":"IF(ISBLANK('Scope and Prelim. Cost Est.'!C75),\"\",'Scope and Prelim. Cost Est.'!C75)","v":""},{"$f":"IF('Scope and Prelim. Cost Est.'!AA75=\"\",'Scope and Prelim. Cost Est.'!Z75,'Scope and Prelim. Cost Est.'!AA75)","v":""},null,{"$f":"IF(F63=\"\",\"\",E63-F63)","v":""},{"$f":"IF('Scope and Prelim. Cost Est.'!L75=\"\",'Scope and Prelim. Cost Est.'!K75,'Scope and Prelim. Cost Est.'!L75)","v":""},{"$f":"IF('Scope and Prelim. Cost Est.'!M75=\"\",\"\",'Scope and Prelim. Cost Est.'!M75)","v":""},{"$f":"IF('Scope and Prelim. Cost Est.'!N75=\"\",\"\",'Scope and Prelim. Cost Est.'!N75)","v":""},null,{"$f":"IF(J63=\"\",\"\",I63*J63)","v":""},null,null,null,null,null,null,null,null,null,null,null,null,null,null,null,null,null,null,null,null,{"$f":"SUM(M63:AF63)","v":0}]
[null,null,{"$f":"IF(ISBLANK('Scope and Prelim. Cost Est.'!B76),\"\",'Scope and Prelim. Cost Est.'!B76)","v":""},{"$f":"IF(ISBLANK('Scope and Prelim. Cost Est.'!C76),\"\",'Scope and Prelim. Cost Est.'!C76)","v":""},{"$f":"IF('Scope and Prelim. Cost Est.'!AA76=\"\",'Scope and Prelim. Cost Est.'!Z76,'Scope and Prelim. Cost Est.'!AA76)","v":""},null,"",{"$f":"IF('Scope and Prelim. Cost Est.'!L76=\"\",'Scope and Prelim. Cost Est.'!K76,'Scope and Prelim. Cost Est.'!L76)","v":""},{"$f":"IF('Scope and Prelim. Cost Est.'!M76=\"\",\"\",'Scope and Prelim. Cost Est.'!M76)","v":""},{"$f":"IF('Scope and Prelim. Cost Est.'!N76=\"\",\"\",'Scope and Prelim. Cost Est.'!N76)","v":""},null,"",null,null,null,null,null,null,null,null,null,null,null,null,null,null,null,null,null,null,null,null,0]
[null,null,{"$f":"IF(ISBLANK('Scope and Prelim. Cost Est.'!B77),\"\",'Scope and Prelim. Cost Est.'!B77)","v":""},{"$f":"IF(ISBLANK('Scope and Prelim. Cost Est.'!C77),\"\",'Scope and Prelim. Cost Est.'!C77)","v":""},{"$f":"IF('Scope and Prelim. Cost Est.'!AA77=\"\",'Scope and Prelim. Cost Est.'!Z77,'Scope and Prelim. Cost Est.'!AA77)","v":""},null,"",{"$f":"IF('Scope and Prelim. Cost Est.'!L77=\"\",'Scope and Prelim. Cost Est.'!K77,'Scope and Prelim. Cost Est.'!L77)","v":""},{"$f":"IF('Scope and Prelim. Cost Est.'!M77=\"\",\"\",'Scope and Prelim. Cost Est.'!M77)","v":""},{"$f":"IF('Scope and Prelim. Cost Est.'!N77=\"\",\"\",'Scope and Prelim. Cost Est.'!N77)","v":""},null,"",null,null,null,null,null,null,null,null,null,null,null,null,null,null,null,null,null,null,null,null,0]
[null,null,{"$f":"IF(ISBLANK('Scope and Prelim. Cost Est.'!B78),\"\",'Scope and Prelim. Cost Est.'!B78)","v":""},{"$f":"IF(ISBLANK('Scope and Prelim. Cost Est.'!C78),\"\",'Scope and Prelim. Cost Est.'!C78)","v":""},{"$f":"IF('Scope and Prelim. Cost Est.'!AA78=\"\",'Scope and Prelim. Cost Est.'!Z78,'Scope and Prelim. Cost Est.'!AA78)","v":""},null,"",{"$f":"IF('Scope and Prelim. Cost Est.'!L78=\"\",'Scope and Prelim. Cost Est.'!K78,'Scope and Prelim. Cost Est.'!L78)","v":""},{"$f":"IF('Scope and Prelim. Cost Est.'!M78=\"\",\"\",'Scope and Prelim. Cost Est.'!M78)","v":""},{"$f":"IF('Scope and Prelim. Cost Est.'!N78=\"\",\"\",'Scope and Prelim. Cost Est.'!N78)","v":""},null,"",null,null,null,null,null,null,null,null,null,null,null,null,null,null,null,null,null,null,null,null,0]
[null,null,{"$f":"IF(ISBLANK('Scope and Prelim. Cost Est.'!B79),\"\",'Scope and Prelim. Cost Est.'!B79)","v":""},{"$f":"IF(ISBLANK('Scope and Prelim. Cost Est.'!C79),\"\",'Scope and Prelim. Cost Est.'!C79)","v":""},{"$f":"IF('Scope and Prelim. Cost Est.'!AA79=\"\",'Scope and Prelim. Cost Est.'!Z79,'Scope and Prelim. Cost Est.'!AA79)","v":""},null,"",{"$f":"IF('Scope and Prelim. Cost Est.'!L79=\"\",'Scope and Prelim. Cost Est.'!K79,'Scope and Prelim. Cost Est.'!L79)","v":""},{"$f":"IF('Scope and Prelim. Cost Est.'!M79=\"\",\"\",'Scope and Prelim. Cost Est.'!M79)","v":""},{"$f":"IF('Scope and Prelim. Cost Est.'!N79=\"\",\"\",'Scope and Prelim. Cost Est.'!N79)","v":""},null,"",null,null,null,null,null,null,null,null,null,null,null,null,null,null,null,null,null,null,null,null,0]
[null,null,{"$f":"IF(ISBLANK('Scope and Prelim. Cost Est.'!B80),\"\",'Scope and Prelim. Cost Est.'!B80)","v":""},{"$f":"IF(ISBLANK('Scope and Prelim. Cost Est.'!C80),\"\",'Scope and Prelim. Cost Est.'!C80)","v":""},{"$f":"IF('Scope and Prelim. Cost Est.'!AA80=\"\",'Scope and Prelim. Cost Est.'!Z80,'Scope and Prelim. Cost Est.'!AA80)","v":""},null,"",{"$f":"IF('Scope and Prelim. Cost Est.'!L80=\"\",'Scope and Prelim. Cost Est.'!K80,'Scope and Prelim. Cost Est.'!L80)","v":""},{"$f":"IF('Scope and Prelim. Cost Est.'!M80=\"\",\"\",'Scope and Prelim. Cost Est.'!M80)","v":""},{"$f":"IF('Scope and Prelim. Cost Est.'!N80=\"\",\"\",'Scope and Prelim. Cost Est.'!N80)","v":""},null,"",null,null,null,null,null,null,null,null,null,null,null,null,null,null,null,null,null,null,null,null,0]
[null,null,{"$f":"IF(ISBLANK('Scope and Prelim. Cost Est.'!B81),\"\",'Scope and Prelim. Cost Est.'!B81)","v":""},{"$f":"IF(ISBLANK('Scope and Prelim. Cost Est.'!C81),\"\",'Scope and Prelim. Cost Est.'!C81)","v":""},{"$f":"IF('Scope and Prelim. Cost Est.'!AA81=\"\",'Scope and Prelim. Cost Est.'!Z81,'Scope and Prelim. Cost Est.'!AA81)","v":""},null,"",{"$f":"IF('Scope and Prelim. Cost Est.'!L81=\"\",'Scope and Prelim. Cost Est.'!K81,'Scope and Prelim. Cost Est.'!L81)","v":""},{"$f":"IF('Scope and Prelim. Cost Est.'!M81=\"\",\"\",'Scope and Prelim. Cost Est.'!M81)","v":""},{"$f":"IF('Scope and Prelim. Cost Est.'!N81=\"\",\"\",'Scope and Prelim. Cost Est.'!N81)","v":""},null,"",null,null,null,null,null,null,null,null,null,null,null,null,null,null,null,null,null,null,null,null,0]
[null,null,{"$f":"IF(ISBLANK('Scope and Prelim. Cost Est.'!B82),\"\",'Scope and Prelim. Cost Est.'!B82)","v":""},{"$f":"IF(ISBLANK('Scope and Prelim. Cost Est.'!C82),\"\",'Scope and Prelim. Cost Est.'!C82)","v":""},{"$f":"IF('Scope and Prelim. Cost Est.'!AA82=\"\",'Scope and Prelim. Cost Est.'!Z82,'Scope and Prelim. Cost Est.'!AA82)","v":""},null,"",{"$f":"IF('Scope and Prelim. Cost Est.'!L82=\"\",'Scope and Prelim. Cost Est.'!K82,'Scope and Prelim. Cost Est.'!L82)","v":""},{"$f":"IF('Scope and Prelim. Cost Est.'!M82=\"\",\"\",'Scope and Prelim. Cost Est.'!M82)","v":""},{"$f":"IF('Scope and Prelim. Cost Est.'!N82=\"\",\"\",'Scope and Prelim. Cost Est.'!N82)","v":""},null,"",null,null,null,null,null,null,null,null,null,null,null,null,null,null,null,null,null,null,null,null,0]
[null,null,{"$f":"IF(ISBLANK('Scope and Prelim. Cost Est.'!B83),\"\",'Scope and Prelim. Cost Est.'!B83)","v":""},{"$f":"IF(ISBLANK('Scope and Prelim. Cost Est.'!C83),\"\",'Scope and Prelim. Cost Est.'!C83)","v":""},{"$f":"IF('Scope and Prelim. Cost Est.'!AA83=\"\",'Scope and Prelim. Cost Est.'!Z83,'Scope and Prelim. Cost Est.'!AA83)","v":""},null,"",{"$f":"IF('Scope and Prelim. Cost Est.'!L83=\"\",'Scope and Prelim. Cost Est.'!K83,'Scope and Prelim. Cost Est.'!L83)","v":""},{"$f":"IF('Scope and Prelim. Cost Est.'!M83=\"\",\"\",'Scope and Prelim. Cost Est.'!M83)","v":""},{"$f":"IF('Scope and Prelim. Cost Est.'!N83=\"\",\"\",'Scope and Prelim. Cost Est.'!N83)","v":""},null,"",null,null,null,null,null,null,null,null,null,null,null,null,null,null,null,null,null,null,null,null,0]
[null,null,{"$f":"IF(ISBLANK('Scope and Prelim. Cost Est.'!B84),\"\",'Scope and Prelim. Cost Est.'!B84)","v":""},{"$f":"IF(ISBLANK('Scope and Prelim. Cost Est.'!C84),\"\",'Scope and Prelim. Cost Est.'!C84)","v":""},{"$f":"IF('Scope and Prelim. Cost Est.'!AA84=\"\",'Scope and Prelim. Cost Est.'!Z84,'Scope and Prelim. Cost Est.'!AA84)","v":""},null,"",{"$f":"IF('Scope and Prelim. Cost Est.'!L84=\"\",'Scope and Prelim. Cost Est.'!K84,'Scope and Prelim. Cost Est.'!L84)","v":""},{"$f":"IF('Scope and Prelim. Cost Est.'!M84=\"\",\"\",'Scope and Prelim. Cost Est.'!M84)","v":""},{"$f":"IF('Scope and Prelim. Cost Est.'!N84=\"\",\"\",'Scope and Prelim. Cost Est.'!N84)","v":""},null,"",null,null,null,null,null,null,null,null,null,null,null,null,null,null,null,null,null,null,null,null,0]
[null,null,{"$f":"IF(ISBLANK('Scope and Prelim. Cost Est.'!B85),\"\",'Scope and Prelim. Cost Est.'!B85)","v":""},{"$f":"IF(ISBLANK('Scope and Prelim. Cost Est.'!C85),\"\",'Scope and Prelim. Cost Est.'!C85)","v":""},{"$f":"IF('Scope and Prelim. Cost Est.'!AA85=\"\",'Scope and Prelim. Cost Est.'!Z85,'Scope and Prelim. Cost Est.'!AA85)","v":""},null,"",{"$f":"IF('Scope and Prelim. Cost Est.'!L85=\"\",'Scope and Prelim. Cost Est.'!K85,'Scope and Prelim. Cost Est.'!L85)","v":""},{"$f":"IF('Scope and Prelim. Cost Est.'!M85=\"\",\"\",'Scope and Prelim. Cost Est.'!M85)","v":""},{"$f":"IF('Scope and Prelim. Cost Est.'!N85=\"\",\"\",'Scope and Prelim. Cost Est.'!N85)","v":""},null,"",null,null,null,null,null,null,null,null,null,null,null,null,null,null,null,null,null,null,null,null,0]
[null,null,{"$f":"IF(ISBLANK('Scope and Prelim. Cost Est.'!B86),\"\",'Scope and Prelim. Cost Est.'!B86)","v":""},{"$f":"IF(ISBLANK('Scope and Prelim. Cost Est.'!C86),\"\",'Scope and Prelim. Cost Est.'!C86)","v":""},{"$f":"IF('Scope and Prelim. Cost Est.'!AA86=\"\",'Scope and Prelim. Cost Est.'!Z86,'Scope and Prelim. Cost Est.'!AA86)","v":""},null,"",{"$f":"IF('Scope and Prelim. Cost Est.'!L86=\"\",'Scope and Prelim. Cost Est.'!K86,'Scope and Prelim. Cost Est.'!L86)","v":""},{"$f":"IF('Scope and Prelim. Cost Est.'!M86=\"\",\"\",'Scope and Prelim. Cost Est.'!M86)","v":""},{"$f":"IF('Scope and Prelim. Cost Est.'!N86=\"\",\"\",'Scope and Prelim. Cost Est.'!N86)","v":""},null,"",null,null,null,null,null,null,null,null,null,null,null,null,null,null,null,null,null,null,null,null,0]
[null,null,{"$f":"IF(ISBLANK('Scope and Prelim. Cost Est.'!B87),\"\",'Scope and Prelim. Cost Est.'!B87)","v":""},{"$f":"IF(ISBLANK('Scope and Prelim. Cost Est.'!C87),\"\",'Scope and Prelim. Cost Est.'!C87)","v":""},{"$f":"IF('Scope and Prelim. Cost Est.'!AA87=\"\",'Scope and Prelim. Cost Est.'!Z87,'Scope and Prelim. Cost Est.'!AA87)","v":""},null,"",{"$f":"IF('Scope and Prelim. Cost Est.'!L87=\"\",'Scope and Prelim. Cost Est.'!K87,'Scope and Prelim. Cost Est.'!L87)","v":""},{"$f":"IF('Scope and Prelim. Cost Est.'!M87=\"\",\"\",'Scope and Prelim. Cost Est.'!M87)","v":""},{"$f":"IF('Scope and Prelim. Cost Est.'!N87=\"\",\"\",'Scope and Prelim. Cost Est.'!N87)","v":""},null,"",null,null,null,null,null,null,null,null,null,null,null,null,null,null,null,null,null,null,null,null,0]
[null,null,{"$f":"IF(ISBLANK('Scope and Prelim. Cost Est.'!B88),\"\",'Scope and Prelim. Cost Est.'!B88)","v":""},{"$f":"IF(ISBLANK('Scope and Prelim. Cost Est.'!C88),\"\",'Scope and Prelim. Cost Est.'!C88)","v":""},{"$f":"IF('Scope and Prelim. Cost Est.'!AA88=\"\",'Scope and Prelim. Cost Est.'!Z88,'Scope and Prelim. Cost Est.'!AA88)","v":""},null,"",{"$f":"IF('Scope and Prelim. Cost Est.'!L88=\"\",'Scope and Prelim. Cost Est.'!K88,'Scope and Prelim. Cost Est.'!L88)","v":""},{"$f":"IF('Scope and Prelim. Cost Est.'!M88=\"\",\"\",'Scope and Prelim. Cost Est.'!M88)","v":""},{"$f":"IF('Scope and Prelim. Cost Est.'!N88=\"\",\"\",'Scope and Prelim. Cost Est.'!N88)","v":""},null,"",null,null,null,null,null,null,null,null,null,null,null,null,null,null,null,null,null,null,null,null,0]
[null,null,{"$f":"IF(ISBLANK('Scope and Prelim. Cost Est.'!B89),\"\",'Scope and Prelim. Cost Est.'!B89)","v":""},{"$f":"IF(ISBLANK('Scope and Prelim. Cost Est.'!C89),\"\",'Scope and Prelim. Cost Est.'!C89)","v":""},{"$f":"IF('Scope and Prelim. Cost Est.'!AA89=\"\",'Scope and Prelim. Cost Est.'!Z89,'Scope and Prelim. Cost Est.'!AA89)","v":""},null,"",{"$f":"IF('Scope and Prelim. Cost Est.'!L89=\"\",'Scope and Prelim. Cost Est.'!K89,'Scope and Prelim. Cost Est.'!L89)","v":""},{"$f":"IF('Scope and Prelim. Cost Est.'!M89=\"\",\"\",'Scope and Prelim. Cost Est.'!M89)","v":""},{"$f":"IF('Scope and Prelim. Cost Est.'!N89=\"\",\"\",'Scope and Prelim. Cost Est.'!N89)","v":""},null,"",null,null,null,null,null,null,null,null,null,null,null,null,null,null,null,null,null,null,null,null,0]
[null,null,{"$f":"IF(ISBLANK('Scope and Prelim. Cost Est.'!B90),\"\",'Scope and Prelim. Cost Est.'!B90)","v":""},{"$f":"IF(ISBLANK('Scope and Prelim. Cost Est.'!C90),\"\",'Scope and Prelim. Cost Est.'!C90)","v":""},{"$f":"IF('Scope and Prelim. Cost Est.'!AA90=\"\",'Scope and Prelim. Cost Est.'!Z90,'Scope and Prelim. Cost Est.'!AA90)","v":""},null,"",{"$f":"IF('Scope and Prelim. Cost Est.'!L90=\"\",'Scope and Prelim. Cost Est.'!K90,'Scope and Prelim. Cost Est.'!L90)","v":""},{"$f":"IF('Scope and Prelim. Cost Est.'!M90=\"\",\"\",'Scope and Prelim. Cost Est.'!M90)","v":""},{"$f":"IF('Scope and Prelim. Cost Est.'!N90=\"\",\"\",'Scope and Prelim. Cost Est.'!N90)","v":""},null,"",null,null,null,null,null,null,null,null,null,null,null,null,null,null,null,null,null,null,null,null,0]
[null,null,{"$f":"IF(ISBLANK('Scope and Prelim. Cost Est.'!B91),\"\",'Scope and Prelim. Cost Est.'!B91)","v":""},{"$f":"IF(ISBLANK('Scope and Prelim. Cost Est.'!C91),\"\",'Scope and Prelim. Cost Est.'!C91)","v":""},{"$f":"IF('Scope and Prelim. Cost Est.'!AA91=\"\",'Scope and Prelim. Cost Est.'!Z91,'Scope and Prelim. Cost Est.'!AA91)","v":""},null,"",{"$f":"IF('Scope and Prelim. Cost Est.'!L91=\"\",'Scope and Prelim. Cost Est.'!K91,'Scope and Prelim. Cost Est.'!L91)","v":""},{"$f":"IF('Scope and Prelim. Cost Est.'!M91=\"\",\"\",'Scope and Prelim. Cost Est.'!M91)","v":""},{"$f":"IF('Scope and Prelim. Cost Est.'!N91=\"\",\"\",'Scope and Prelim. Cost Est.'!N91)","v":""},null,"",null,null,null,null,null,null,null,null,null,null,null,null,null,null,null,null,null,null,null,null,0]
[null,null,{"$f":"IF(ISBLANK('Scope and Prelim. Cost Est.'!B92),\"\",'Scope and Prelim. Cost Est.'!B92)","v":""},{"$f":"IF(ISBLANK('Scope and Prelim. Cost Est.'!C92),\"\",'Scope and Prelim. Cost Est.'!C92)","v":""},{"$f":"IF('Scope and Prelim. Cost Est.'!AA92=\"\",'Scope and Prelim. Cost Est.'!Z92,'Scope and Prelim. Cost Est.'!AA92)","v":""},null,"",{"$f":"IF('Scope and Prelim. Cost Est.'!L92=\"\",'Scope and Prelim. Cost Est.'!K92,'Scope and Prelim. Cost Est.'!L92)","v":""},{"$f":"IF('Scope and Prelim. Cost Est.'!M92=\"\",\"\",'Scope and Prelim. Cost Est.'!M92)","v":""},{"$f":"IF('Scope and Prelim. Cost Est.'!N92=\"\",\"\",'Scope and Prelim. Cost Est.'!N92)","v":""},null,"",null,null,null,null,null,null,null,null,null,null,null,null,null,null,null,null,null,null,null,null,0]
[null,null,{"$f":"IF(ISBLANK('Scope and Prelim. Cost Est.'!B93),\"\",'Scope and Prelim. Cost Est.'!B93)","v":""},{"$f":"IF(ISBLANK('Scope and Prelim. Cost Est.'!C93),\"\",'Scope and Prelim. Cost Est.'!C93)","v":""},{"$f":"IF('Scope and Prelim. Cost Est.'!AA93=\"\",'Scope and Prelim. Cost Est.'!Z93,'Scope and Prelim. Cost Est.'!AA93)","v":""},null,"",{"$f":"IF('Scope and Prelim. Cost Est.'!L93=\"\",'Scope and Prelim. Cost Est.'!K93,'Scope and Prelim. Cost Est.'!L93)","v":""},{"$f":"IF('Scope and Prelim. Cost Est.'!M93=\"\",\"\",'Scope and Prelim. Cost Est.'!M93)","v":""},{"$f":"IF('Scope and Prelim. Cost Est.'!N93=\"\",\"\",'Scope and Prelim. Cost Est.'!N93)","v":""},null,"",null,null,null,null,null,null,null,null,null,null,null,null,null,null,null,null,null,null,null,null,0]
[null,null,{"$f":"IF(ISBLANK('Scope and Prelim. Cost Est.'!B94),\"\",'Scope and Prelim. Cost Est.'!B94)","v":""},{"$f":"IF(ISBLANK('Scope and Prelim. Cost Est.'!C94),\"\",'Scope and Prelim. Cost Est.'!C94)","v":""},{"$f":"IF('Scope and Prelim. Cost Est.'!AA94=\"\",'Scope and Prelim. Cost Est.'!Z94,'Scope and Prelim. Cost Est.'!AA94)","v":""},null,"",{"$f":"IF('Scope and Prelim. Cost Est.'!L94=\"\",'Scope and Prelim. Cost Est.'!K94,'Scope and Prelim. Cost Est.'!L94)","v":""},{"$f":"IF('Scope and Prelim. Cost Est.'!M94=\"\",\"\",'Scope and Prelim. Cost Est.'!M94)","v":""},{"$f":"IF('Scope and Prelim. Cost Est.'!N94=\"\",\"\",'Scope and Prelim. Cost Est.'!N94)","v":""},null,"",null,null,null,null,null,null,null,null,null,null,null,null,null,null,null,null,null,null,null,null,0]
[null,null,{"$f":"IF(ISBLANK('Scope and Prelim. Cost Est.'!B95),\"\",'Scope and Prelim. Cost Est.'!B95)","v":""},{"$f":"IF(ISBLANK('Scope and Prelim. Cost Est.'!C95),\"\",'Scope and Prelim. Cost Est.'!C95)","v":""},{"$f":"IF('Scope and Prelim. Cost Est.'!AA95=\"\",'Scope and Prelim. Cost Est.'!Z95,'Scope and Prelim. Cost Est.'!AA95)","v":""},null,"",{"$f":"IF('Scope and Prelim. Cost Est.'!L95=\"\",'Scope and Prelim. Cost Est.'!K95,'Scope and Prelim. Cost Est.'!L95)","v":""},{"$f":"IF('Scope and Prelim. Cost Est.'!M95=\"\",\"\",'Scope and Prelim. Cost Est.'!M95)","v":""},{"$f":"IF('Scope and Prelim. Cost Est.'!N95=\"\",\"\",'Scope and Prelim. Cost Est.'!N95)","v":""},null,"",null,null,null,null,null,null,null,null,null,null,null,null,null,null,null,null,null,null,null,null,0]
[null,null,{"$f":"IF(ISBLANK('Scope and Prelim. Cost Est.'!B96),\"\",'Scope and Prelim. Cost Est.'!B96)","v":""},{"$f":"IF(ISBLANK('Scope and Prelim. Cost Est.'!C96),\"\",'Scope and Prelim. Cost Est.'!C96)","v":""},{"$f":"IF('Scope and Prelim. Cost Est.'!AA96=\"\",'Scope and Prelim. Cost Est.'!Z96,'Scope and Prelim. Cost Est.'!AA96)","v":""},null,"",{"$f":"IF('Scope and Prelim. Cost Est.'!L96=\"\",'Scope and Prelim. Cost Est.'!K96,'Scope and Prelim. Cost Est.'!L96)","v":""},{"$f":"IF('Scope and Prelim. Cost Est.'!M96=\"\",\"\",'Scope and Prelim. Cost Est.'!M96)","v":""},{"$f":"IF('Scope and Prelim. Cost Est.'!N96=\"\",\"\",'Scope and Prelim. Cost Est.'!N96)","v":""},null,"",null,null,null,null,null,null,null,null,null,null,null,null,null,null,null,null,null,null,null,null,0]
[null,null,{"$f":"IF(ISBLANK('Scope and Prelim. Cost Est.'!B97),\"\",'Scope and Prelim. Cost Est.'!B97)","v":""},{"$f":"IF(ISBLANK('Scope and Prelim. Cost Est.'!C97),\"\",'Scope and Prelim. Cost Est.'!C97)","v":""},{"$f":"IF('Scope and Prelim. Cost Est.'!AA97=\"\",'Scope and Prelim. Cost Est.'!Z97,'Scope and Prelim. Cost Est.'!AA97)","v":""},null,"",{"$f":"IF('Scope and Prelim. Cost Est.'!L97=\"\",'Scope and Prelim. Cost Est.'!K97,'Scope and Prelim. Cost Est.'!L97)","v":""},{"$f":"IF('Scope and Prelim. Cost Est.'!M97=\"\",\"\",'Scope and Prelim. Cost Est.'!M97)","v":""},{"$f":"IF('Scope and Prelim. Cost Est.'!N97=\"\",\"\",'Scope and Prelim. Cost Est.'!N97)","v":""},null,"",null,null,null,null,null,null,null,null,null,null,null,null,null,null,null,null,null,null,null,null,0]
[null,null,{"$f":"IF(ISBLANK('Scope and Prelim. Cost Est.'!B98),\"\",'Scope and Prelim. Cost Est.'!B98)","v":""},{"$f":"IF(ISBLANK('Scope and Prelim. Cost Est.'!C98),\"\",'Scope and Prelim. Cost Est.'!C98)","v":""},{"$f":"IF('Scope and Prelim. Cost Est.'!AA98=\"\",'Scope and Prelim. Cost Est.'!Z98,'Scope and Prelim. Cost Est.'!AA98)","v":""},null,"",{"$f":"IF('Scope and Prelim. Cost Est.'!L98=\"\",'Scope and Prelim. Cost Est.'!K98,'Scope and Prelim. Cost Est.'!L98)","v":""},{"$f":"IF('Scope and Prelim. Cost Est.'!M98=\"\",\"\",'Scope and Prelim. Cost Est.'!M98)","v":""},{"$f":"IF('Scope and Prelim. Cost Est.'!N98=\"\",\"\",'Scope and Prelim. Cost Est.'!N98)","v":""},null,"",null,null,null,null,null,null,null,null,null,null,null,null,null,null,null,null,null,null,null,null,0]
[null,null,{"$f":"IF(ISBLANK('Scope and Prelim. Cost Est.'!B99),\"\",'Scope and Prelim. Cost Est.'!B99)","v":""},{"$f":"IF(ISBLANK('Scope and Prelim. Cost Est.'!C99),\"\",'Scope and Prelim. Cost Est.'!C99)","v":""},{"$f":"IF('Scope and Prelim. Cost Est.'!AA99=\"\",'Scope and Prelim. Cost Est.'!Z99,'Scope and Prelim. Cost Est.'!AA99)","v":""},null,"",{"$f":"IF('Scope and Prelim. Cost Est.'!L99=\"\",'Scope and Prelim. Cost Est.'!K99,'Scope and Prelim. Cost Est.'!L99)","v":""},{"$f":"IF('Scope and Prelim. Cost Est.'!M99=\"\",\"\",'Scope and Prelim. Cost Est.'!M99)","v":""},{"$f":"IF('Scope and Prelim. Cost Est.'!N99=\"\",\"\",'Scope and Prelim. Cost Est.'!N99)","v":""},null,"",null,null,null,null,null,null,null,null,null,null,null,null,null,null,null,null,null,null,null,null,0]
[null,null,{"$f":"IF(ISBLANK('Scope and Prelim. Cost Est.'!B100),\"\",'Scope and Prelim. Cost Est.'!B100)","v":""},{"$f":"IF(ISBLANK('Scope and Prelim. Cost Est.'!C100),\"\",'Scope and Prelim. Cost Est.'!C100)","v":""},{"$f":"IF('Scope and Prelim. Cost Est.'!AA100=\"\",'Scope and Prelim. Cost Est.'!Z100,'Scope and Prelim. Cost Est.'!AA100)","v":""},null,"",{"$f":"IF('Scope and Prelim. Cost Est.'!L100=\"\",'Scope and Prelim. Cost Est.'!K100,'Scope and Prelim. Cost Est.'!L100)","v":""},{"$f":"IF('Scope and Prelim. Cost Est.'!M100=\"\",\"\",'Scope and Prelim. Cost Est.'!M100)","v":""},{"$f":"IF('Scope and Prelim. Cost Est.'!N100=\"\",\"\",'Scope and Prelim. Cost Est.'!N100)","v":""},null,"",null,null,null,null,null,null,null,null,null,null,null,null,null,null,null,null,null,null,null,null,0]
[null,null,{"$f":"IF(ISBLANK('Scope and Prelim. Cost Est.'!B101),\"\",'Scope and Prelim. Cost Est.'!B101)","v":""},{"$f":"IF(ISBLANK('Scope and Prelim. Cost Est.'!C101),\"\",'Scope and Prelim. Cost Est.'!C101)","v":""},{"$f":"IF('Scope and Prelim. Cost Est.'!AA101=\"\",'Scope and Prelim. Cost Est.'!Z101,'Scope and Prelim. Cost Est.'!AA101)","v":""},null,"",{"$f":"IF('Scope and Prelim. Cost Est.'!L101=\"\",'Scope and Prelim. Cost Est.'!K101,'Scope and Prelim. Cost Est.'!L101)","v":""},{"$f":"IF('Scope and Prelim. Cost Est.'!M101=\"\",\"\",'Scope and Prelim. Cost Est.'!M101)","v":""},{"$f":"IF('Scope and Prelim. Cost Est.'!N101=\"\",\"\",'Scope and Prelim. Cost Est.'!N101)","v":""},null,"",null,null,null,null,null,null,null,null,null,null,null,null,null,null,null,null,null,null,null,null,0]
[null,null,{"$f":"IF(ISBLANK('Scope and Prelim. Cost Est.'!B102),\"\",'Scope and Prelim. Cost Est.'!B102)","v":""},{"$f":"IF(ISBLANK('Scope and Prelim. Cost Est.'!C102),\"\",'Scope and Prelim. Cost Est.'!C102)","v":""},{"$f":"IF('Scope and Prelim. Cost Est.'!AA102=\"\",'Scope and Prelim. Cost Est.'!Z102,'Scope and Prelim. Cost Est.'!AA102)","v":""},null,"",{"$f":"IF('Scope and Prelim. Cost Est.'!L102=\"\",'Scope and Prelim. Cost Est.'!K102,'Scope and Prelim. Cost Est.'!L102)","v":""},{"$f":"IF('Scope and Prelim. Cost Est.'!M102=\"\",\"\",'Scope and Prelim. Cost Est.'!M102)","v":""},{"$f":"IF('Scope and Prelim. Cost Est.'!N102=\"\",\"\",'Scope and Prelim. Cost Est.'!N102)","v":""},null,"",null,null,null,null,null,null,null,null,null,null,null,null,null,null,null,null,null,null,null,null,0]
[null,null,{"$f":"IF(ISBLANK('Scope and Prelim. Cost Est.'!B103),\"\",'Scope and Prelim. Cost Est.'!B103)","v":""},{"$f":"IF(ISBLANK('Scope and Prelim. Cost Est.'!C103),\"\",'Scope and Prelim. Cost Est.'!C103)","v":""},{"$f":"IF('Scope and Prelim. Cost Est.'!AA103=\"\",'Scope and Prelim. Cost Est.'!Z103,'Scope and Prelim. Cost Est.'!AA103)","v":""},null,"",{"$f":"IF('Scope and Prelim. Cost Est.'!L103=\"\",'Scope and Prelim. Cost Est.'!K103,'Scope and Prelim. Cost Est.'!L103)","v":""},{"$f":"IF('Scope and Prelim. Cost Est.'!M103=\"\",\"\",'Scope and Prelim. Cost Est.'!M103)","v":""},{"$f":"IF('Scope and Prelim. Cost Est.'!N103=\"\",\"\",'Scope and Prelim. Cost Est.'!N103)","v":""},null,"",null,null,null,null,null,null,null,null,null,null,null,null,null,null,null,null,null,null,null,null,0]
[null,null,{"$f":"IF(ISBLANK('Scope and Prelim. Cost Est.'!B104),\"\",'Scope and Prelim. Cost Est.'!B104)","v":""},{"$f":"IF(ISBLANK('Scope and Prelim. Cost Est.'!C104),\"\",'Scope and Prelim. Cost Est.'!C104)","v":""},{"$f":"IF('Scope and Prelim. Cost Est.'!AA104=\"\",'Scope and Prelim. Cost Est.'!Z104,'Scope and Prelim. Cost Est.'!AA104)","v":""},null,"",{"$f":"IF('Scope and Prelim. Cost Est.'!L104=\"\",'Scope and Prelim. Cost Est.'!K104,'Scope and Prelim. Cost Est.'!L104)","v":""},{"$f":"IF('Scope and Prelim. Cost Est.'!M104=\"\",\"\",'Scope and Prelim. Cost Est.'!M104)","v":""},{"$f":"IF('Scope and Prelim. Cost Est.'!N104=\"\",\"\",'Scope and Prelim. Cost Est.'!N104)","v":""},null,"",null,null,null,null,null,null,null,null,null,null,null,null,null,null,null,null,null,null,null,null,0]
[null,null,{"$f":"IF(ISBLANK('Scope and Prelim. Cost Est.'!B105),\"\",'Scope and Prelim. Cost Est.'!B105)","v":""},{"$f":"IF(ISBLANK('Scope and Prelim. Cost Est.'!C105),\"\",'Scope and Prelim. Cost Est.'!C105)","v":""},{"$f":"IF('Scope and Prelim. Cost Est.'!AA105=\"\",'Scope and Prelim. Cost Est.'!Z105,'Scope and Prelim. Cost Est.'!AA105)","v":""},null,"",{"$f":"IF('Scope and Prelim. Cost Est.'!L105=\"\",'Scope and Prelim. Cost Est.'!K105,'Scope and Prelim. Cost Est.'!L105)","v":""},{"$f":"IF('Scope and Prelim. Cost Est.'!M105=\"\",\"\",'Scope and Prelim. Cost Est.'!M105)","v":""},{"$f":"IF('Scope and Prelim. Cost Est.'!N105=\"\",\"\",'Scope and Prelim. Cost Est.'!N105)","v":""},null,"",null,null,null,null,null,null,null,null,null,null,null,null,null,null,null,null,null,null,null,null,0]
[null,null,{"$f":"IF(ISBLANK('Scope and Prelim. Cost Est.'!B106),\"\",'Scope and Prelim. Cost Est.'!B106)","v":""},{"$f":"IF(ISBLANK('Scope and Prelim. Cost Est.'!C106),\"\",'Scope and Prelim. Cost Est.'!C106)","v":""},{"$f":"IF('Scope and Prelim. Cost Est.'!AA106=\"\",'Scope and Prelim. Cost Est.'!Z106,'Scope and Prelim. Cost Est.'!AA106)","v":""},null,"",{"$f":"IF('Scope and Prelim. Cost Est.'!L106=\"\",'Scope and Prelim. Cost Est.'!K106,'Scope and Prelim. Cost Est.'!L106)","v":""},{"$f":"IF('Scope and Prelim. Cost Est.'!M106=\"\",\"\",'Scope and Prelim. Cost Est.'!M106)","v":""},{"$f":"IF('Scope and Prelim. Cost Est.'!N106=\"\",\"\",'Scope and Prelim. Cost Est.'!N106)","v":""},null,"",null,null,null,null,null,null,null,null,null,null,null,null,null,null,null,null,null,null,null,null,0]
[null,null,{"$f":"IF(ISBLANK('Scope and Prelim. Cost Est.'!B107),\"\",'Scope and Prelim. Cost Est.'!B107)","v":""},{"$f":"IF(ISBLANK('Scope and Prelim. Cost Est.'!C107),\"\",'Scope and Prelim. Cost Est.'!C107)","v":""},{"$f":"IF('Scope and Prelim. Cost Est.'!AA107=\"\",'Scope and Prelim. Cost Est.'!Z107,'Scope and Prelim. Cost Est.'!AA107)","v":""},null,"",{"$f":"IF('Scope and Prelim. Cost Est.'!L107=\"\",'Scope and Prelim. Cost Est.'!K107,'Scope and Prelim. Cost Est.'!L107)","v":""},{"$f":"IF('Scope and Prelim. Cost Est.'!M107=\"\",\"\",'Scope and Prelim. Cost Est.'!M107)","v":""},{"$f":"IF('Scope and Prelim. Cost Est.'!N107=\"\",\"\",'Scope and Prelim. Cost Est.'!N107)","v":""},null,"",null,null,null,null,null,null,null,null,null,null,null,null,null,null,null,null,null,null,null,null,0]
[null,null,{"$f":"IF(ISBLANK('Scope and Prelim. Cost Est.'!B108),\"\",'Scope and Prelim. Cost Est.'!B108)","v":""},{"$f":"IF(ISBLANK('Scope and Prelim. Cost Est.'!C108),\"\",'Scope and Prelim. Cost Est.'!C108)","v":""},{"$f":"IF('Scope and Prelim. Cost Est.'!AA108=\"\",'Scope and Prelim. Cost Est.'!Z108,'Scope and Prelim. Cost Est.'!AA108)","v":""},null,"",{"$f":"IF('Scope and Prelim. Cost Est.'!L108=\"\",'Scope and Prelim. Cost Est.'!K108,'Scope and Prelim. Cost Est.'!L108)","v":""},{"$f":"IF('Scope and Prelim. Cost Est.'!M108=\"\",\"\",'Scope and Prelim. Cost Est.'!M108)","v":""},{"$f":"IF('Scope and Prelim. Cost Est.'!N108=\"\",\"\",'Scope and Prelim. Cost Est.'!N108)","v":""},null,"",null,null,null,null,null,null,null,null,null,null,null,null,null,null,null,null,null,null,null,null,0]
[null,null,{"$f":"IF(ISBLANK('Scope and Prelim. Cost Est.'!B109),\"\",'Scope and Prelim. Cost Est.'!B109)","v":""},{"$f":"IF(ISBLANK('Scope and Prelim. Cost Est.'!C109),\"\",'Scope and Prelim. Cost Est.'!C109)","v":""},{"$f":"IF('Scope and Prelim. Cost Est.'!AA109=\"\",'Scope and Prelim. Cost Est.'!Z109,'Scope and Prelim. Cost Est.'!AA109)","v":""},null,"",{"$f":"IF('Scope and Prelim. Cost Est.'!L109=\"\",'Scope and Prelim. Cost Est.'!K109,'Scope and Prelim. Cost Est.'!L109)","v":""},{"$f":"IF('Scope and Prelim. Cost Est.'!M109=\"\",\"\",'Scope and Prelim. Cost Est.'!M109)","v":""},{"$f":"IF('Scope and Prelim. Cost Est.'!N109=\"\",\"\",'Scope and Prelim. Cost Est.'!N109)","v":""},null,"",null,null,null,null,null,null,null,null,null,null,null,null,null,null,null,null,null,null,null,null,0]
[null,null,{"$f":"IF(ISBLANK('Scope and Prelim. Cost Est.'!B110),\"\",'Scope and Prelim. Cost Est.'!B110)","v":""},{"$f":"IF(ISBLANK('Scope and Prelim. Cost Est.'!C110),\"\",'Scope and Prelim. Cost Est.'!C110)","v":""},{"$f":"IF('Scope and Prelim. Cost Est.'!AA110=\"\",'Scope and Prelim. Cost Est.'!Z110,'Scope and Prelim. Cost Est.'!AA110)","v":""},null,"",{"$f":"IF('Scope and Prelim. Cost Est.'!L110=\"\",'Scope and Prelim. Cost Est.'!K110,'Scope and Prelim. Cost Est.'!L110)","v":""},{"$f":"IF('Scope and Prelim. Cost Est.'!M110=\"\",\"\",'Scope and Prelim. Cost Est.'!M110)","v":""},{"$f":"IF('Scope and Prelim. Cost Est.'!N110=\"\",\"\",'Scope and Prelim. Cost Est.'!N110)","v":""},null,"",null,null,null,null,null,null,null,null,null,null,null,null,null,null,null,null,null,null,null,null,0]
[null,null,{"$f":"IF(ISBLANK('Scope and Prelim. Cost Est.'!B111),\"\",'Scope and Prelim. Cost Est.'!B111)","v":""},{"$f":"IF(ISBLANK('Scope and Prelim. Cost Est.'!C111),\"\",'Scope and Prelim. Cost Est.'!C111)","v":""},{"$f":"IF('Scope and Prelim. Cost Est.'!AA111=\"\",'Scope and Prelim. Cost Est.'!Z111,'Scope and Prelim. Cost Est.'!AA111)","v":""},null,"",{"$f":"IF('Scope and Prelim. Cost Est.'!L111=\"\",'Scope and Prelim. Cost Est.'!K111,'Scope and Prelim. Cost Est.'!L111)","v":""},{"$f":"IF('Scope and Prelim. Cost Est.'!M111=\"\",\"\",'Scope and Prelim. Cost Est.'!M111)","v":""},{"$f":"IF('Scope and Prelim. Cost Est.'!N111=\"\",\"\",'Scope and Prelim. Cost Est.'!N111)","v":""},null,"",null,null,null,null,null,null,null,null,null,null,null,null,null,null,null,null,null,null,null,null,0]
[null,null,{"$f":"IF(ISBLANK('Scope and Prelim. Cost Est.'!B112),\"\",'Scope and Prelim. Cost Est.'!B112)","v":""},{"$f":"IF(ISBLANK('Scope and Prelim. Cost Est.'!C112),\"\",'Scope and Prelim. Cost Est.'!C112)","v":""},{"$f":"IF('Scope and Prelim. Cost Est.'!AA112=\"\",'Scope and Prelim. Cost Est.'!Z112,'Scope and Prelim. Cost Est.'!AA112)","v":""},null,"",{"$f":"IF('Scope and Prelim. Cost Est.'!L112=\"\",'Scope and Prelim. Cost Est.'!K112,'Scope and Prelim. Cost Est.'!L112)","v":""},{"$f":"IF('Scope and Prelim. Cost Est.'!M112=\"\",\"\",'Scope and Prelim. Cost Est.'!M112)","v":""},{"$f":"IF('Scope and Prelim. Cost Est.'!N112=\"\",\"\",'Scope and Prelim. Cost Est.'!N112)","v":""},null,"",null,null,null,null,null,null,null,null,null,null,null,null,null,null,null,null,null,null,null,null,0]
[null,null,{"$f":"IF(ISBLANK('Scope and Prelim. Cost Est.'!B113),\"\",'Scope and Prelim. Cost Est.'!B113)","v":""},{"$f":"IF(ISBLANK('Scope and Prelim. Cost Est.'!C113),\"\",'Scope and Prelim. Cost Est.'!C113)","v":""},{"$f":"IF('Scope and Prelim. Cost Est.'!AA113=\"\",'Scope and Prelim. Cost Est.'!Z113,'Scope and Prelim. Cost Est.'!AA113)","v":""},null,"",{"$f":"IF('Scope and Prelim. Cost Est.'!L113=\"\",'Scope and Prelim. Cost Est.'!K113,'Scope and Prelim. Cost Est.'!L113)","v":""},{"$f":"IF('Scope and Prelim. Cost Est.'!M113=\"\",\"\",'Scope and Prelim. Cost Est.'!M113)","v":""},{"$f":"IF('Scope and Prelim. Cost Est.'!N113=\"\",\"\",'Scope and Prelim. Cost Est.'!N113)","v":""},null,"",null,null,null,null,null,null,null,null,null,null,null,null,null,null,null,null,null,null,null,null,0]
[null,null,{"$f":"IF(ISBLANK('Scope and Prelim. Cost Est.'!B114),\"\",'Scope and Prelim. Cost Est.'!B114)","v":""},{"$f":"IF(ISBLANK('Scope and Prelim. Cost Est.'!C114),\"\",'Scope and Prelim. Cost Est.'!C114)","v":""},{"$f":"IF('Scope and Prelim. Cost Est.'!AA114=\"\",'Scope and Prelim. Cost Est.'!Z114,'Scope and Prelim. Cost Est.'!AA114)","v":""},null,"",{"$f":"IF('Scope and Prelim. Cost Est.'!L114=\"\",'Scope and Prelim. Cost Est.'!K114,'Scope and Prelim. Cost Est.'!L114)","v":""},{"$f":"IF('Scope and Prelim. Cost Est.'!M114=\"\",\"\",'Scope and Prelim. Cost Est.'!M114)","v":""},{"$f":"IF('Scope and Prelim. Cost Est.'!N114=\"\",\"\",'Scope and Prelim. Cost Est.'!N114)","v":""},null,"",null,null,null,null,null,null,null,null,null,null,null,null,null,null,null,null,null,null,null,null,0]
[null,null,{"$f":"IF(ISBLANK('Scope and Prelim. Cost Est.'!B115),\"\",'Scope and Prelim. Cost Est.'!B115)","v":""},{"$f":"IF(ISBLANK('Scope and Prelim. Cost Est.'!C115),\"\",'Scope and Prelim. Cost Est.'!C115)","v":""},{"$f":"IF('Scope and Prelim. Cost Est.'!AA115=\"\",'Scope and Prelim. Cost Est.'!Z115,'Scope and Prelim. Cost Est.'!AA115)","v":""},null,"",{"$f":"IF('Scope and Prelim. Cost Est.'!L115=\"\",'Scope and Prelim. Cost Est.'!K115,'Scope and Prelim. Cost Est.'!L115)","v":""},{"$f":"IF('Scope and Prelim. Cost Est.'!M115=\"\",\"\",'Scope and Prelim. Cost Est.'!M115)","v":""},{"$f":"IF('Scope and Prelim. Cost Est.'!N115=\"\",\"\",'Scope and Prelim. Cost Est.'!N115)","v":""},null,"",null,null,null,null,null,null,null,null,null,null,null,null,null,null,null,null,null,null,null,null,0]
[null,null,{"$f":"IF(ISBLANK('Scope and Prelim. Cost Est.'!B116),\"\",'Scope and Prelim. Cost Est.'!B116)","v":""},{"$f":"IF(ISBLANK('Scope and Prelim. Cost Est.'!C116),\"\",'Scope and Prelim. Cost Est.'!C116)","v":""},{"$f":"IF('Scope and Prelim. Cost Est.'!AA116=\"\",'Scope and Prelim. Cost Est.'!Z116,'Scope and Prelim. Cost Est.'!AA116)","v":""},null,"",{"$f":"IF('Scope and Prelim. Cost Est.'!L116=\"\",'Scope and Prelim. Cost Est.'!K116,'Scope and Prelim. Cost Est.'!L116)","v":""},{"$f":"IF('Scope and Prelim. Cost Est.'!M116=\"\",\"\",'Scope and Prelim. Cost Est.'!M116)","v":""},{"$f":"IF('Scope and Prelim. Cost Est.'!N116=\"\",\"\",'Scope and Prelim. Cost Est.'!N116)","v":""},null,"",null,null,null,null,null,null,null,null,null,null,null,null,null,null,null,null,null,null,null,null,0]
[null,null,{"$f":"IF(ISBLANK('Scope and Prelim. Cost Est.'!B117),\"\",'Scope and Prelim. Cost Est.'!B117)","v":""},{"$f":"IF(ISBLANK('Scope and Prelim. Cost Est.'!C117),\"\",'Scope and Prelim. Cost Est.'!C117)","v":""},{"$f":"IF('Scope and Prelim. Cost Est.'!AA117=\"\",'Scope and Prelim. Cost Est.'!Z117,'Scope and Prelim. Cost Est.'!AA117)","v":""},null,"",{"$f":"IF('Scope and Prelim. Cost Est.'!L117=\"\",'Scope and Prelim. Cost Est.'!K117,'Scope and Prelim. Cost Est.'!L117)","v":""},{"$f":"IF('Scope and Prelim. Cost Est.'!M117=\"\",\"\",'Scope and Prelim. Cost Est.'!M117)","v":""},{"$f":"IF('Scope and Prelim. Cost Est.'!N117=\"\",\"\",'Scope and Prelim. Cost Est.'!N117)","v":""},null,"",null,null,null,null,null,null,null,null,null,null,null,null,null,null,null,null,null,null,null,null,0]
[null,null,{"$f":"IF(ISBLANK('Scope and Prelim. Cost Est.'!B118),\"\",'Scope and Prelim. Cost Est.'!B118)","v":""},{"$f":"IF(ISBLANK('Scope and Prelim. Cost Est.'!C118),\"\",'Scope and Prelim. Cost Est.'!C118)","v":""},{"$f":"IF('Scope and Prelim. Cost Est.'!AA118=\"\",'Scope and Prelim. Cost Est.'!Z118,'Scope and Prelim. Cost Est.'!AA118)","v":""},null,"",{"$f":"IF('Scope and Prelim. Cost Est.'!L118=\"\",'Scope and Prelim. Cost Est.'!K118,'Scope and Prelim. Cost Est.'!L118)","v":""},{"$f":"IF('Scope and Prelim. Cost Est.'!M118=\"\",\"\",'Scope and Prelim. Cost Est.'!M118)","v":""},{"$f":"IF('Scope and Prelim. Cost Est.'!N118=\"\",\"\",'Scope and Prelim. Cost Est.'!N118)","v":""},null,"",null,null,null,null,null,null,null,null,null,null,null,null,null,null,null,null,null,null,null,null,0]
[null,null,{"$f":"IF(ISBLANK('Scope and Prelim. Cost Est.'!B119),\"\",'Scope and Prelim. Cost Est.'!B119)","v":""},{"$f":"IF(ISBLANK('Scope and Prelim. Cost Est.'!C119),\"\",'Scope and Prelim. Cost Est.'!C119)","v":""},{"$f":"IF('Scope and Prelim. Cost Est.'!AA119=\"\",'Scope and Prelim. Cost Est.'!Z119,'Scope and Prelim. Cost Est.'!AA119)","v":""},null,"",{"$f":"IF('Scope and Prelim. Cost Est.'!L119=\"\",'Scope and Prelim. Cost Est.'!K119,'Scope and Prelim. Cost Est.'!L119)","v":""},{"$f":"IF('Scope and Prelim. Cost Est.'!M119=\"\",\"\",'Scope and Prelim. Cost Est.'!M119)","v":""},{"$f":"IF('Scope and Prelim. Cost Est.'!N119=\"\",\"\",'Scope and Prelim. Cost Est.'!N119)","v":""},null,"",null,null,null,null,null,null,null,null,null,null,null,null,null,null,null,null,null,null,null,null,0]
[null,null,{"$f":"IF(ISBLANK('Scope and Prelim. Cost Est.'!B120),\"\",'Scope and Prelim. Cost Est.'!B120)","v":""},{"$f":"IF(ISBLANK('Scope and Prelim. Cost Est.'!C120),\"\",'Scope and Prelim. Cost Est.'!C120)","v":""},{"$f":"IF('Scope and Prelim. Cost Est.'!AA120=\"\",'Scope and Prelim. Cost Est.'!Z120,'Scope and Prelim. Cost Est.'!AA120)","v":""},null,"",{"$f":"IF('Scope and Prelim. Cost Est.'!L120=\"\",'Scope and Prelim. Cost Est.'!K120,'Scope and Prelim. Cost Est.'!L120)","v":""},{"$f":"IF('Scope and Prelim. Cost Est.'!M120=\"\",\"\",'Scope and Prelim. Cost Est.'!M120)","v":""},{"$f":"IF('Scope and Prelim. Cost Est.'!N120=\"\",\"\",'Scope and Prelim. Cost Est.'!N120)","v":""},null,"",null,null,null,null,null,null,null,null,null,null,null,null,null,null,null,null,null,null,null,null,0]
[null,null,{"$f":"IF(ISBLANK('Scope and Prelim. Cost Est.'!B121),\"\",'Scope and Prelim. Cost Est.'!B121)","v":""},{"$f":"IF(ISBLANK('Scope and Prelim. Cost Est.'!C121),\"\",'Scope and Prelim. Cost Est.'!C121)","v":""},{"$f":"IF('Scope and Prelim. Cost Est.'!AA121=\"\",'Scope and Prelim. Cost Est.'!Z121,'Scope and Prelim. Cost Est.'!AA121)","v":""},null,"",{"$f":"IF('Scope and Prelim. Cost Est.'!L121=\"\",'Scope and Prelim. Cost Est.'!K121,'Scope and Prelim. Cost Est.'!L121)","v":""},{"$f":"IF('Scope and Prelim. Cost Est.'!M121=\"\",\"\",'Scope and Prelim. Cost Est.'!M121)","v":""},{"$f":"IF('Scope and Prelim. Cost Est.'!N121=\"\",\"\",'Scope and Prelim. Cost Est.'!N121)","v":""},null,"",null,null,null,null,null,null,null,null,null,null,null,null,null,null,null,null,null,null,null,null,0]
[null,null,{"$f":"IF(ISBLANK('Scope and Prelim. Cost Est.'!B122),\"\",'Scope and Prelim. Cost Est.'!B122)","v":""},{"$f":"IF(ISBLANK('Scope and Prelim. Cost Est.'!C122),\"\",'Scope and Prelim. Cost Est.'!C122)","v":""},{"$f":"IF('Scope and Prelim. Cost Est.'!AA122=\"\",'Scope and Prelim. Cost Est.'!Z122,'Scope and Prelim. Cost Est.'!AA122)","v":""},null,"",{"$f":"IF('Scope and Prelim. Cost Est.'!L122=\"\",'Scope and Prelim. Cost Est.'!K122,'Scope and Prelim. Cost Est.'!L122)","v":""},{"$f":"IF('Scope and Prelim. Cost Est.'!M122=\"\",\"\",'Scope and Prelim. Cost Est.'!M122)","v":""},{"$f":"IF('Scope and Prelim. Cost Est.'!N122=\"\",\"\",'Scope and Prelim. Cost Est.'!N122)","v":""},null,"",null,null,null,null,null,null,null,null,null,null,null,null,null,null,null,null,null,null,null,null,0]
[null,null,{"$f":"IF(ISBLANK('Scope and Prelim. Cost Est.'!B123),\"\",'Scope and Prelim. Cost Est.'!B123)","v":""},{"$f":"IF(ISBLANK('Scope and Prelim. Cost Est.'!C123),\"\",'Scope and Prelim. Cost Est.'!C123)","v":""},{"$f":"IF('Scope and Prelim. Cost Est.'!AA123=\"\",'Scope and Prelim. Cost Est.'!Z123,'Scope and Prelim. Cost Est.'!AA123)","v":""},null,"",{"$f":"IF('Scope and Prelim. Cost Est.'!L123=\"\",'Scope and Prelim. Cost Est.'!K123,'Scope and Prelim. Cost Est.'!L123)","v":""},{"$f":"IF('Scope and Prelim. Cost Est.'!M123=\"\",\"\",'Scope and Prelim. Cost Est.'!M123)","v":""},{"$f":"IF('Scope and Prelim. Cost Est.'!N123=\"\",\"\",'Scope and Prelim. Cost Est.'!N123)","v":""},null,"",null,null,null,null,null,null,null,null,null,null,null,null,null,null,null,null,null,null,null,null,0]
[null,null,{"$f":"IF(ISBLANK('Scope and Prelim. Cost Est.'!B124),\"\",'Scope and Prelim. Cost Est.'!B124)","v":""},{"$f":"IF(ISBLANK('Scope and Prelim. Cost Est.'!C124),\"\",'Scope and Prelim. Cost Est.'!C124)","v":""},{"$f":"IF('Scope and Prelim. Cost Est.'!AA124=\"\",'Scope and Prelim. Cost Est.'!Z124,'Scope and Prelim. Cost Est.'!AA124)","v":""},null,"",{"$f":"IF('Scope and Prelim. Cost Est.'!L124=\"\",'Scope and Prelim. Cost Est.'!K124,'Scope and Prelim. Cost Est.'!L124)","v":""},{"$f":"IF('Scope and Prelim. Cost Est.'!M124=\"\",\"\",'Scope and Prelim. Cost Est.'!M124)","v":""},{"$f":"IF('Scope and Prelim. Cost Est.'!N124=\"\",\"\",'Scope and Prelim. Cost Est.'!N124)","v":""},null,"",null,null,null,null,null,null,null,null,null,null,null,null,null,null,null,null,null,null,null,null,0]
[null,null,{"$f":"IF(ISBLANK('Scope and Prelim. Cost Est.'!B125),\"\",'Scope and Prelim. Cost Est.'!B125)","v":""},{"$f":"IF(ISBLANK('Scope and Prelim. Cost Est.'!C125),\"\",'Scope and Prelim. Cost Est.'!C125)","v":""},{"$f":"IF('Scope and Prelim. Cost Est.'!AA125=\"\",'Scope and Prelim. Cost Est.'!Z125,'Scope and Prelim. Cost Est.'!AA125)","v":""},null,"",{"$f":"IF('Scope and Prelim. Cost Est.'!L125=\"\",'Scope and Prelim. Cost Est.'!K125,'Scope and Prelim. Cost Est.'!L125)","v":""},{"$f":"IF('Scope and Prelim. Cost Est.'!M125=\"\",\"\",'Scope and Prelim. Cost Est.'!M125)","v":""},{"$f":"IF('Scope and Prelim. Cost Est.'!N125=\"\",\"\",'Scope and Prelim. Cost Est.'!N125)","v":""},null,"",null,null,null,null,null,null,null,null,null,null,null,null,null,null,null,null,null,null,null,null,0]
[]
[null,null,"Total - Uninflated",null,null,null,null,null,null,null,null,{"$f":"SUM(L14:L113)","v":0},{"$f":"SUM(M14:M113)","v":0},0,0,0,0,0,0,0,0,0,0,0,0,0,0,0,0,{"$f":"SUM(AD14:AD113)","v":0},{"$f":"SUM(AE14:AE113)","v":0},{"$f":"SUM(AF14:AF113)","v":0},{"$f":"SUM(AG14:AG113)","v":0}]
[null,null,"Factor",null,null,null,null,null,null,null,null,null,{"$f":"1","v":1},{"$f":"M116+(1*0.03)","v":1.03},{"$f":"N116+(1*0.03)","v":1.06},{"$f":"O116+(1*0.03)","v":1.0900000000000001},{"$f":"P116+(1*0.03)","v":1.1200000000000001},1.1500000000000001,1.1800000000000002,1.2100000000000002,1.2400000000000002,1.2700000000000002,1.3000000000000003,1.3300000000000003,1.3600000000000003,1.3900000000000003,1.4200000000000004,{"$f":"AA116+(1*0.03)","v":1.4500000000000004},{"$f":"AB116+(1*0.03)","v":1.4800000000000004},{"$f":"AC116+(1*0.03)","v":1.5100000000000005},{"$f":"AD116+(1*0.03)","v":1.5400000000000005},{"$f":"AE116+(1*0.03)","v":1.5700000000000005}]
[null,null,"Total - Inflated",null,null,null,null,null,null,null,null,{"$f":"L115","v":0},{"$f":"M115*M116","v":0},{"$f":"N115*N116","v":0},0,0,0,0,0,0,0,0,0,0,0,0,0,0,0,0,0,{"$f":"AF115*AF116","v":0},{"$f":"SUM(M117:AF117)","v":0}]

{"sheet":"ZipCode Map","index":16,"n_rows":912,"n_cols":16,"rows_kept":912,"cut":false,"hidden":true,"merged":[[0,9,0,12],[0,13,0,15],[911,1,911,4],[911,9,911,12],[911,13,911,15]]}
[null,"actual","actual",null,"actual",null,null,null,null,"climate mapped",null,null,null,"weather normalization mapped"]
[null,"zip_code","zip_state",null,"zip_city",null,null,null,null,"city state","state","CDD","HDD","city","state","file name"]
[]
[]
["User Data:",{"$f":"LEFT('Building Info'!F22,3)","v":""},{"$f":"LOOKUP($B$5,$B$8:$B$908,C$8:C$908)","v":{"$error":"#N/A"}},{"$f":"LOOKUP($B$5,$B$8:$B$908,D$8:D$908)","v":{"$error":"#N/A"}},{"$f":"LOOKUP($B$5,$B$8:$B$908,E$8:E$908)","v":{"$error":"#N/A"}},{"$f":"LOOKUP($B$5,$B$8:$B$908,F$8:F$908)","v":{"$error":"#N/A"}},null,{"$f":"LOOKUP($B$5,$B$8:$B$908,H$8:H$908)","v":{"$error":"#N/A"}},{"$f":"CONCATENATE(H5,\",\",\" \",D5)","v":{"$error":"#N/A"}},{"$f":"LOOKUP($B$5,$B$8:$B$908,J$8:J$908)","v":{"$error":"#N/A"}},{"$error":"#N/A"},{"$f":"LOOKUP($B$5,$B$8:$B$908,L$8:L$908)","v":{"$error":"#N/A"}},{"$error":"#N/A"},{"$error":"#N/A"},{"$error":"#N/A"},{"$error":"#N/A"}]
[]
[]
[null,"009","\"Puerto_Rico\"","PR","\"San Juan\"",null,{"$f":"LEN(E8)","v":10},{"$f":"MID(E8,2,G8-2)","v":"San Juan"},null,"SAN JUAN    PR","PR",5558,0,"San Juan Puerto Rico","PR","XXSANJUA.txt"]
[null,"010","\"Massachusetts\"","MA","\"Springfield\"",null,{"$f":"LEN(E9)","v":13},{"$f":"MID(E9,2,G9-2)","v":"Springfield"},null,"WORCESTER    MA","MA",333,6979,"Hartford-Springfield","CT","CTHARTFO.txt"]
[null,"011","\"Massachusetts\"","MA","\"Springfield\"",null,{"$f":"LEN(E10)","v":13},{"$f":"MID(E10,2,G10-2)","v":"Springfield"},null,"HARTFORD    CT","CT",677,6151,"Hartford-Springfield","CT","CTHARTFO.txt"]
[null,"012","\"Massachusetts\"","MA","\"Pittsfield\"",null,12,"Pittsfield",null,"ALBANY    NY","NY",507,6894,"Albany","NY","NYALBANY.txt"]
[null,"013","\"Massachusetts\"","MA","\"Greenfield\"",null,12,"Greenfield",null,"WORCESTER    MA","MA",333,6979,"Boston","MA","MABOSTON.txt"]
[null,"014","\"Massachusetts\"","MA","\"Worcester\"",null,11,"Worcester",null,"WORCESTER    MA","MA",333,6979,"Boston","MA","MABOSTON.txt"]
[null,"015","\"Massachusetts\"","MA","\"Worcester\"",null,11,"Worcester",null,"WORCESTER    MA","MA",333,6979,"Boston","MA","MABOSTON.txt"]
[null,"016","\"Massachusetts\"","MA","\"Worcester\"",null,11,"Worcester",null,"WORCESTER    MA","MA",333,6979,"Boston","MA","MABOSTON.txt"]
[null,"017","\"Massachusetts\"","MA","\"Framingham\"",null,12,"Framingham",null,"WORCESTER    MA","MA",333,6979,"Boston","MA","MABOSTON.txt"]
[null,"018","\"Massachusetts\"","MA","\"Woburn\"",null,8,"Woburn",null,"WORCESTER    MA","MA",333,6979,"Boston","MA","MABOSTON.txt"]
[null,"019","\"Massachusetts\"","MA","\"Lynn\"",null,6,"Lynn",null,"BOSTON    MA","MA",678,5641,"Boston","MA","MABOSTON.txt"]
[null,"020","\"Massachusetts\"","MA","\"Boston\"",null,8,"Boston",null,"WORCESTER    MA","MA",333,6979,"Boston","MA","MABOSTON.txt"]
[null,"021","\"Massachusetts\"","MA","\"Boston\"",null,8,"Boston",null,"BOSTON    MA","MA",678,5641,"Boston","MA","MABOSTON.txt"]
[null,"022","\"Massachusetts\"","MA","\"Boston\"",null,8,"Boston",null,"BOSTON    MA","MA",678,5641,"Boston","MA","MABOSTON.txt"]
[null,"023","\"Massachusetts\"","MA","\"Brockton\"",null,10,"Brockton",null,"PROVIDENCE    RI","RI",606,5884,"Rhode Island","RI","RIPROVID.txt"]
[null,"024","\"Massachusetts\"","MA","\"Brockton\"",null,10,"Brockton",null,"BOSTON    MA","MA",678,5641,"Boston","MA","MABOSTON.txt"]
[null,"025","\"Massachusetts\"","MA","\"Buzzards Bay\"",null,14,"Buzzards Bay",null,"PROVIDENCE    RI","RI",606,5884,"Rhode Island","RI","RIPROVID.txt"]
[null,"026","\"Massachusetts\"","MA","\"Hyannis\"",null,9,"Hyannis",null,"PROVIDENCE    RI","RI",606,5884,"Rhode Island","RI","RIPROVID.txt"]
[null,"027","\"Massachusetts\"","MA","\"New Bedford\"",null,13,"New Bedford",null,"PROVIDENCE    RI","RI",606,5884,"Rhode Island","RI","RIPROVID.txt"]
[null,"028","\"Rhode_Island\"","RI","\"Providence\"",null,12,"Providence",null,"WORCESTER    MA","MA",333,6979,"Rhode Island","RI","RIPROVID.txt"]
[null,"029","\"Rhode_Island\"","RI","\"Providence\"",null,12,"Providence",null,"PROVIDENCE    RI","RI",606,5884,"Rhode Island","RI","RIPROVID.txt"]
[null,"030","\"New_Hampshire\"","NH","\"Manchester\"",null,12,"Manchester",null,"WORCESTER    MA","MA",333,6979,"Concord","NH","NHCONCOR.txt"]
[null,"031","\"New_Hampshire\"","NH","\"Manchester\"",null,12,"Manchester",null,"CONCORD    NH","NH",328,7554,"Concord","NH","NHCONCOR.txt"]
[null,"032","\"New_Hampshire\"","NH","\"Pittsfield\"",null,12,"Pittsfield",null,"CONCORD    NH","NH",328,7554,"Concord","NH","NHCONCOR.txt"]
[null,"033","\"New_Hampshire\"","NH","\"Concord\"",null,9,"Concord",null,"CONCORD    NH","NH",328,7554,"Concord","NH","NHCONCOR.txt"]
[null,"034","\"New_Hampshire\"","NH","\"Keene\"",null,7,"Keene",null,"WORCESTER    MA","MA",333,6979,"Concord","NH","NHCONCOR.txt"]
[null,"035","\"New_Hampshire\"","NH","\"Littleton\"",null,11,"Littleton",null,"BURLINGTON    VT","VT",388,7771,"Burlington","VT","VTBURLIN.txt"]
[null,"036","\"New_Hampshire\"","NH","\"Acworth\"",null,9,"Acworth",null,"CONCORD    NH","NH",328,7554,"Concord","NH","NHCONCOR.txt"]
[null,"037","\"New_Hampshire\"","NH","\"Claremont\"",null,11,"Claremont",null,"BURLINGTON    VT","VT",388,7771,"Burlington","VT","VTBURLIN.txt"]
[null,"038","\"New_Hampshire\"","NH","\"Portsmouth\"",null,12,"Portsmouth",null,"PORTLAND    ME","ME",268,7378,"Portland","ME","MEPORTLA.txt"]
[null,"039","\"Maine\"","ME","\"Kittery\"",null,9,"Kittery",null,"PORTLAND    ME","ME",268,7378,"Portland","ME","MEPORTLA.txt"]
[null,"040","\"Maine\"","ME","\"Portland\"",null,10,"Portland",null,"PORTLAND    ME","ME",268,7378,"Portland","ME","MEPORTLA.txt"]
[null,"041","\"Maine\"","ME","\"Portland\"",null,10,"Portland",null,"PORTLAND    ME","ME",268,7378,"Portland","ME","MEPORTLA.txt"]
[null,"042","\"Maine\"","ME","\"Auburn\"",null,8,"Auburn",null,"PORTLAND    ME","ME",268,7378,"Portland","ME","MEPORTLA.txt"]
[null,"043","\"Maine\"","ME","\"Augusta\"",null,9,"Augusta",null,"PORTLAND    ME","ME",268,7378,"Portland","ME","MEPORTLA.txt"]
[null,"044","\"Maine\"","ME","\"Bangor\"",null,8,"Bangor",null,"PORTLAND    ME","ME",268,7378,"Portland","ME","MEPORTLA.txt"]
[null,"045","\"Maine\"","ME","\"Bath\"",null,6,"Bath",null,"PORTLAND    ME","ME",268,7378,"Portland","ME","MEPORTLA.txt"]
[null,"046","\"Maine\"","ME","\"Ellsworth\"",null,11,"Ellsworth",null,"PORTLAND    ME","ME",268,7378,"Portland","ME","MEPORTLA.txt"]
[null,"047","\"Maine\"","ME","\"Caribou\"",null,9,"Caribou",null,"CARIBOU    ME","ME",131,9651,"Caribou","ME","MECARIBO.txt"]
[null,"048","\"Maine\"","ME","\"Rockland\"",null,10,"Rockland",null,"PORTLAND    ME","ME",268,7378,"Portland","ME","MEPORTLA.txt"]
[null,"049","\"Maine\"","ME","\"Waterville\"",null,12,"Waterville",null,"PORTLAND    ME","ME",268,7378,"Portland","ME","MEPORTLA.txt"]
[null,"050","\"Vermont\"","VT","\"White River Junction\"",null,22,"White River Junction",null,"BURLINGTON    VT","VT",388,7771,"Burlington","VT","VTBURLIN.txt"]
[null,"051","\"Vermont\"","VT","\"Bellows Falls\"",null,15,"Bellows Falls",null,"CONCORD    NH","NH",328,7554,"Concord","NH","NHCONCOR.txt"]
[null,"052","\"Vermont\"","VT","\"Bennington\"",null,12,"Bennington",null,"ALBANY    NY","NY",507,6894,"Albany","NY","NYALBANY.txt"]
[null,"053","\"Vermont\"","VT","\"Brattleboro\"",null,13,"Brattleboro",null,"WORCESTER    MA","MA",333,6979,"Albany","NY","NYALBANY.txt"]
[null,"054","\"Vermont\"","VT","\"Burlington\"",null,12,"Burlington",null,"BURLINGTON    VT","VT",388,7771,"Burlington","VT","VTBURLIN.txt"]
[null,"056","\"Vermont\"","VT","\"Montpelier\"",null,12,"Montpelier",null,"BURLINGTON    VT","VT",388,7771,"Burlington","VT","VTBURLIN.txt"]
[null,"057","\"Vermont\"","VT","\"Rutland\"",null,9,"Rutland",null,"ALBANY    NY","NY",507,6894,"Albany","NY","NYALBANY.txt"]
[null,"058","\"Vermont\"","VT","\"St. Johnsbury\"",null,15,"St. Johnsbury",null,"BURLINGTON    VT","VT",388,7771,"Burlington","VT","VTBURLIN.txt"]
[null,"059","\"Vermont\"","VT","\"Canaan\"",null,8,"Canaan",null,"BURLINGTON    VT","VT",388,7771,"Burlington","VT","VTBURLIN.txt"]
[null,"060","\"Connecticut\"","CT","\"Hartford\"",null,10,"Hartford",null,"WORCESTER    MA","MA",333,6979,"Hartford-Springfield","CT","CTHARTFO.txt"]
[null,"061","\"Connecticut\"","CT","\"Hartford\"",null,10,"Hartford",null,"HARTFORD    CT","CT",677,6151,"Hartford-Springfield","CT","CTHARTFO.txt"]
[null,"062","\"Connecticut\"","CT","\"Willimantic\"",null,13,"Willimantic",null,"WORCESTER    MA","MA",333,6979,"Hartford-Springfield","CT","CTHARTFO.txt"]
[null,"063","\"Connecticut\"","CT","\"New London\"",null,12,"New London",null,"PROVIDENCE    RI","RI",606,5884,"Rhode Island","RI","RIPROVID.txt"]
[null,"064","\"Connecticut\"","CT","\"New Haven\"",null,11,"New Haven",null,"HARTFORD    CT","CT",677,6151,"Hartford-Springfield","CT","CTHARTFO.txt"]
[null,"065","\"Connecticut\"","CT","\"New Haven\"",null,11,"New Haven",null,"HARTFORD    CT","CT",677,6151,"Hartford-Springfield","CT","CTHARTFO.txt"]
[null,"066","\"Connecticut\"","CT","\"Bridgeport\"",null,12,"Bridgeport",null,"BRIDGEPORT    CT","CT",724,5537,"Bridgeport","CT","CTBRIDGE.txt"]
[null,"067","\"Connecticut\"","CT","\"Waterbury\"",null,11,"Waterbury",null,"HARTFORD    CT","CT",677,6151,"Hartford-Springfield","CT","CTHARTFO.txt"]
[null,"068","\"Connecticut\"","CT","\"Stamford\"",null,10,"Stamford",null,"BRIDGEPORT    CT","CT",724,5537,"Bridgeport","CT","CTBRIDGE.txt"]
[null,"069","\"Connecticut\"","CT","\"Stamford\"",null,10,"Stamford",null,"BRIDGEPORT    CT","CT",724,5537,"Bridgeport","CT","CTBRIDGE.txt"]
[null,"070","\"New_Jersey\"","NJ","\"Newark\"",null,8,"Newark",null,"NEW YORK (LAGUARDIA AP)    NY","NY",1052,4910,"Newark","NJ","NJNEWARK.txt"]
[null,"071","\"New_Jersey\"","NJ","\"Newark\"",null,8,"Newark",null,"NEWARK    NJ","NJ",1201,4888,"Newark","NJ","NJNEWARK.txt"]
[null,"072","\"New_Jersey\"","NJ","\"Elizabeth\"",null,11,"Elizabeth",null,"NEWARK    NJ","NJ",1201,4888,"Newark","NJ","NJNEWARK.txt"]
[null,"073","\"New_Jersey\"","NJ","\"Jersey_City\"",null,13,"Jersey_City",null,"NEWARK    NJ","NJ",1201,4888,"Newark","NJ","NJNEWARK.txt"]
[null,"074","\"New_Jersey\"","NJ","\"Paterson\"",null,10,"Paterson",null,"NEWARK    NJ","NJ",1201,4888,"Newark","NJ","NJNEWARK.txt"]
[null,"075","\"New_Jersey\"","NJ","\"Paterson\"",null,10,"Paterson",null,"NEWARK    NJ","NJ",1201,4888,"Newark","NJ","NJNEWARK.txt"]
[null,"076","\"New_Jersey\"","NJ","\"Hackensack\"",null,{"$f":"LEN(E74)","v":12},{"$f":"MID(E74,2,G74-2)","v":"Hackensack"},null,"NEWARK    NJ","NJ",1201,4888,"Newark","NJ","NJNEWARK.txt"]
[null,"077","\"New_Jersey\"","NJ","\"Red Bank\"",null,10,"Red Bank",null,"NEWARK    NJ","NJ",1201,4888,"Newark","NJ","NJNEWARK.txt"]
[null,"078","\"New_Jersey\"","NJ","\"Dover\"",null,7,"Dover",null,"ALLENTOWN    PA","PA",773,5785,"Allentown","PA","PAALLENT.txt"]
[null,"079","\"New_Jersey\"","NJ","\"Summit\"",null,8,"Summit",null,"NEWARK    NJ","NJ",1201,4888,"Newark","NJ","NJNEWARK.txt"]
[null,"080","\"New_Jersey\"","NJ","\"Cherry Hill\"",null,13,"Cherry Hill",null,"PHILADELPHIA    PA","PA",1101,4954,"Philadelphia","PA","PAPHILAD.txt"]
[null,"081","\"New_Jersey\"","NJ","\"Camden\"",null,8,"Camden",null,"PHILADELPHIA    PA","PA",1101,4954,"Philadelphia","PA","PAPHILAD.txt"]
[null,"082","\"New_Jersey\"","NJ","\"South Jersey\"",null,14,"South Jersey",null,"ATLANTIC CITY AP    NJ","NJ",826,5169,"Atlantic City","NJ","NJATLCTY.txt"]
[null,"083","\"New_Jersey\"","NJ","\"South Jersey\"",null,14,"South Jersey",null,"WILMINGTON    DE","DE",1046,4937,"Wilmington","DE","DEWILMIN.txt"]
[null,"084","\"New_Jersey\"","NJ","\"Atlantic City\"",null,15,"Atlantic City",null,"ATLANTIC CITY AP    NJ","NJ",826,5169,"Atlantic City","NJ","NJATLCTY.txt"]
[null,"085","\"New_Jersey\"","NJ","\"Trenton\"",null,9,"Trenton",null,"NEWARK    NJ","NJ",1201,4888,"Newark","NJ","NJNEWARK.txt"]
[null,"086","\"New_Jersey\"","NJ","\"Trenton\"",null,9,"Trenton",null,"NEWARK    NJ","NJ",1201,4888,"Newark","NJ","NJNEWARK.txt"]
[null,"087","\"New_Jersey\"","NJ","\"Lakewood\"",null,10,"Lakewood",null,"ATLANTIC CITY AP    NJ","NJ",826,5169,"Atlantic City","NJ","NJATLCTY.txt"]
[null,"088","\"New_Jersey\"","NJ","\"New Brunswick\"",null,15,"New Brunswick",null,"NEWARK    NJ","NJ",1201,4888,"Newark","NJ","NJNEWARK.txt"]
[null,"089","\"New_Jersey\"","NJ","\"New Brunswick\"",null,15,"New Brunswick",null,"NEWARK    NJ","NJ",1201,4888,"Newark","NJ","NJNEWARK.txt"]
[null,"100","\"New_York\"","NY","\"New York\"","N",10,"New York",null,"NEW YORK C.PARK    NY","NY",1096,4805,"New York City","NY","NYNEWYOR.txt"]
[null,"101","\"New_York\"","NY","\"New York\"","N",10,"New York",null,"NEW YORK C.PARK    NY","NY",1096,4805,"New York City","NY","NYNEWYOR.txt"]
[null,"102","\"New_York\"","NY","\"New York\"","N",10,"New York",null,"NEW YORK C.PARK    NY","NY",1096,4805,"New York City","NY","NYNEWYOR.txt"]
[null,"103","\"New_York\"","NY","\"Staten Island\"","N",15,"Staten Island",null,"NEW YORK (LAGUARDIA AP)    NY","NY",1052,4910,"New York City","NY","NYNEWYOR.txt"]
[null,"104","\"New_York\"","NY","\"Bronx\"","N",7,"Bronx",null,"NEW YORK (LAGUARDIA AP)    NY","NY",1052,4910,"New York City","NY","NYNEWYOR.txt"]
[null,"105","\"New_York\"","NY","\"Westchester\"","D",13,"Westchester",null,"BRIDGEPORT    CT","CT",724,5537,"Bridgeport","CT","CTBRIDGE.txt"]
[null,"106","\"New_York\"","NY","\"White Plains\"","D",14,"White Plains",null,"BRIDGEPORT    CT","CT",724,5537,"Bridgeport","CT","CTBRIDGE.txt"]
[null,"107","\"New_York\"","NY","\"Yonkers\"","D",9,"Yonkers",null,"NEW YORK (LAGUARDIA AP)    NY","NY",1052,4910,"New York City","NY","NYNEWYOR.txt"]
[null,"108","\"New_York\"","NY","\"New Rochelle\"","D",14,"New Rochelle",null,"NEW YORK (LAGUARDIA AP)    NY","NY",1052,4910,"New York City","NY","NYNEWYOR.txt"]
[null,"109","\"New_York\"","NY","\"Suffern\"","D",9,"Suffern",null,"BRIDGEPORT    CT","CT",724,5537,"Bridgeport","CT","CTBRIDGE.txt"]
[null,"110","\"New_York\"","NY","\"Great Neck\"","N",12,"Great Neck",null,"NEW YORK (LAGUARDIA AP)    NY","NY",1052,4910,"New York City","NY","NYNEWYOR.txt"]
[null,"111","\"New_York\"","NY","\"Queens\"","N",8,"Queens",null,"NEW YORK (LAGUARDIA AP)    NY","NY",1052,4910,"New York City","NY","NYNEWYOR.txt"]
[null,"112","\"New_York\"","NY","\"Brooklyn\"","N",10,"Brooklyn",null,"NEW YORK (LAGUARDIA AP)    NY","NY",1052,4910,"New York City","NY","NYNEWYOR.txt"]
[null,"113","\"New_York\"","NY","\"Flushing\"","N",10,"Flushing",null,"NEW YORK (JFK AP)    NY","NY",921,5027,"New York City","NY","NYNEWYOR.txt"]
[null,"114","\"New_York\"","NY","\"Jamaica\"","N",9,"Jamaica",null,"NEW YORK (JFK AP)    NY","NY",921,5027,"New York City","NY","NYNEWYOR.txt"]
[null,"115","\"New_York\"","NY","\"Minneola\"","D",10,"Minneola",null,"NEW YORK (JFK AP)    NY","NY",921,5027,"New York City","NY","NYNEWYOR.txt"]
[null,"116","\"New_York\"","NY","\"Far Rockaway\"","N",14,"Far Rockaway",null,"ISLIP    NY","NY",706,5647,"Bridgeport","CT","CTBRIDGE.txt"]
[null,"117","\"New_York\"","NY","\"Hicksville\"","D",12,"Hicksville",null,"ISLIP    NY","NY",706,5647,"Bridgeport","CT","CTBRIDGE.txt"]
[null,"118","\"New_York\"","NY","\"Hicksville\"","D",12,"Hicksville",null,"ISLIP    NY","NY",706,5647,"Bridgeport","CT","CTBRIDGE.txt"]
[null,"119","\"New_York\"","NY","\"Riverhead\"","D",11,"Riverhead",null,"BRIDGEPORT    CT","CT",724,5537,"Bridgeport","CT","CTBRIDGE.txt"]
[null,"120","\"New_York\"","NY","\"Albany\"","U",8,"Albany",null,"ALBANY    NY","NY",507,6894,"Albany","NY","NYALBANY.txt"]
[null,"121","\"New_York\"","NY","\"Albany\"","U",8,"Albany",null,"ALBANY    NY","NY",507,6894,"Albany","NY","NYALBANY.txt"]
[null,"122","\"New_York\"","NY","\"Albany\"","U",8,"Albany",null,"ALBANY    NY","NY",507,6894,"Albany","NY","NYALBANY.txt"]
[null,"123","\"New_York\"","NY","\"Schenectady\"","U",13,"Schenectady",null,"ALBANY    NY","NY",507,6894,"Albany","NY","NYALBANY.txt"]
[null,"124","\"New_York\"","NY","\"Kingston\"","U",10,"Kingston",null,"ALBANY    NY","NY",507,6894,"Albany","NY","NYALBANY.txt"]
[null,"125","\"New_York\"","NY","\"Poughkeepsie\"","U",14,"Poughkeepsie",null,"HARTFORD    CT","CT",677,6151,"Hartford-Springfield","CT","CTHARTFO.txt"]
[null,"126","\"New_York\"","NY","\"Poughkeepsie\"","U",14,"Poughkeepsie",null,"BRIDGEPORT    CT","CT",724,5537,"Bridgeport","CT","CTBRIDGE.txt"]
[null,"127","\"New_York\"","NY","\"Monticello\"","U",12,"Monticello",null,"BINGHAMTON    NY","NY",337,7273,"Wilkes-Barre","PA","PAWILKES.txt"]
[null,"128","\"New_York\"","NY","\"Glens Falls\"","U",13,"Glens Falls",null,"BURLINGTON    VT","VT",388,7771,"Burlington","VT","VTBURLIN.txt"]
[null,"129","\"New_York\"","NY","\"Plattsburgh\"","U",13,"Plattsburgh",null,"BURLINGTON    VT","VT",388,7771,"Burlington","VT","VTBURLIN.txt"]
[null,"130","\"New_York\"","NY","\"Syracuse\"","U",10,"Syracuse",null,"SYRACUSE    NY","NY",438,6834,"Syracuse","NY","NYSYRACU.txt"]
[null,"131","\"New_York\"","NY","\"Syracuse\"","U",10,"Syracuse",null,"ROCHESTER    NY","NY",425,6734,"Syracuse","NY","NYSYRACU.txt"]
[null,"132","\"New_York\"","NY","\"Syracuse\"","U",10,"Syracuse",null,"SYRACUSE    NY","NY",438,6834,"Syracuse","NY","NYSYRACU.txt"]
[null,"133","\"New_York\"","NY","\"Utica\"","U",7,"Utica",null,"BINGHAMTON    NY","NY",337,7273,"Wilkes-Barre","PA","PAWILKES.txt"]
[null,"134","\"New_York\"","NY","\"Utica\"","U",7,"Utica",null,"BINGHAMTON    NY","NY",337,7273,"Wilkes-Barre","PA","PAWILKES.txt"]
[null,"135","\"New_York\"","NY","\"Utica\"","U",7,"Utica",null,"SYRACUSE    NY","NY",438,6834,"Syracuse","NY","NYSYRACU.txt"]
[null,"136","\"New_York\"","NY","\"Watertown\"","U",11,"Watertown",null,"SYRACUSE    NY","NY",438,6834,"Syracuse","NY","NYSYRACU.txt"]
[null,"137","\"New_York\"","NY","\"Binghamton\"","U",12,"Binghamton",null,"ALBANY    NY","NY",507,6894,"Albany","NY","NYALBANY.txt"]
[null,"138","\"New_York\"","NY","\"Binghamton\"","U",12,"Binghamton",null,"ALBANY    NY","NY",507,6894,"Albany","NY","NYALBANY.txt"]
[null,"139","\"New_York\"","NY","\"Binghamton\"","U",12,"Binghamton",null,"BINGHAMTON    NY","NY",337,7273,"Wilkes-Barre","PA","PAWILKES.txt"]
[null,"140","\"New_York\"","NY","\"Buffalo\"","U",9,"Buffalo",null,"ERIE    PA","PA",550,6279,"Erie","PA","PAERIE.txt"]
[null,"141","\"New_York\"","NY","\"Buffalo\"","U",9,"Buffalo",null,"ROCHESTER    NY","NY",425,6734,"Rochester","NY","NYROCHES.txt"]
[null,"142","\"New_York\"","NY","\"Buffalo\"","U",9,"Buffalo",null,"BUFFALO    NY","NY",477,6747,"Buffalo","NY","NTBUFFAL.txt"]
[null,"143","\"New_York\"","NY","\"Niagara Falls\"","U",15,"Niagara Falls",null,"BUFFALO    NY","NY",477,6747,"Buffalo","NY","NTBUFFAL.txt"]
[null,"144","\"New_York\"","NY","\"Rochester\"","U",11,"Rochester",null,"BUFFALO    NY","NY",477,6747,"Buffalo","NY","NTBUFFAL.txt"]
[null,"145","\"New_York\"","NY","\"Rochester\"","U",11,"Rochester",null,"BUFFALO    NY","NY",477,6747,"Buffalo","NY","NTBUFFAL.txt"]
[null,"146","\"New_York\"","NY","\"Rochester\"","U",11,"Rochester",null,"ROCHESTER    NY","NY",425,6734,"Rochester","NY","NYROCHES.txt"]
[null,"147","\"New_York\"","NY","\"Jamestown\"","U",11,"Jamestown",null,"ERIE    PA","PA",550,6279,"Erie","PA","PAERIE.txt"]
[null,"148","\"New_York\"","NY","\"Ithaca\"","U",8,"Ithaca",null,"SYRACUSE    NY","NY",438,6834,"Syracuse","NY","NYSYRACU.txt"]
[null,"149","\"New_York\"","NY","\"Elmira\"","U",8,"Elmira",null,"BINGHAMTON    NY","NY",337,7273,"Syracuse","NY","NYSYRACU.txt"]
[null,"150","\"Pennsylvania\"","PA","\"Pittsburgh\"",null,{"$f":"LEN(E138)","v":12},{"$f":"MID(E138,2,G138-2)","v":"Pittsburgh"},null,"PITTSBURGH    PA","PA",654,5968,"Pittsburgh","PA","PAPITTSB.txt"]
[null,"151","\"Pennsylvania\"","PA","\"Pittsburgh\"",null,12,"Pittsburgh",null,"PITTSBURGH    PA","PA",654,5968,"Pittsburgh","PA","PAPITTSB.txt"]
[null,"152","\"Pennsylvania\"","PA","\"Pittsburgh\"",null,12,"Pittsburgh",null,"PITTSBURGH    PA","PA",654,5968,"Pittsburgh","PA","PAPITTSB.txt"]
[null,"153","\"Pennsylvania\"","PA","\"Washington\"",null,12,"Washington",null,"PITTSBURGH    PA","PA",654,5968,"Pittsburgh","PA","PAPITTSB.txt"]
[null,"154","\"Pennsylvania\"","PA","\"Uniontown\"",null,11,"Uniontown",null,"PITTSBURGH    PA","PA",654,5968,"Pittsburgh","PA","PAPITTSB.txt"]
[null,"155","\"Pennsylvania\"","PA","\"Somerset\"",null,10,"Somerset",null,"PITTSBURGH    PA","PA",654,5968,"Pittsburgh","PA","PAPITTSB.txt"]
[null,"156","\"Pennsylvania\"","PA","\"Greensburg\"",null,12,"Greensburg",null,"PITTSBURGH    PA","PA",654,5968,"Pittsburgh","PA","PAPITTSB.txt"]
[null,"157","\"Pennsylvania\"","PA","\"Indiana\"",null,9,"Indiana",null,"PITTSBURGH    PA","PA",654,5968,"Pittsburgh","PA","PAPITTSB.txt"]
[null,"158","\"Pennsylvania\"","PA","\"Du Bois\"",null,9,"Du Bois",null,"WILLIAMSPORT    PA","PA",622,6087,"Pittsburgh","PA","PAPITTSB.txt"]
[null,"159","\"Pennsylvania\"","PA","\"Johnstown\"",null,11,"Johnstown",null,"PITTSBURGH    PA","PA",654,5968,"Pittsburgh","PA","PAPITTSB.txt"]
[null,"160","\"Pennsylvania\"","PA","\"Butler\"",null,8,"Butler",null,"YOUNGSTOWN    OH","OH",497,6544,"Youngstown","OH","OHYOUNGS.txt"]
[null,"161","\"Pennsylvania\"","PA","\"New Castle\"",null,12,"New Castle",null,"PITTSBURGH    PA","PA",654,5968,"Pittsburgh","PA","PAPITTSB.txt"]
[null,"162","\"Pennsylvania\"","PA","\"Kittanning\"",null,12,"Kittanning",null,"YOUNGSTOWN    OH","OH",497,6544,"Youngstown","OH","OHYOUNGS.txt"]
[null,"163","\"Pennsylvania\"","PA","\"Oil City\"",null,10,"Oil City",null,"YOUNGSTOWN    OH","OH",497,6544,"Youngstown","OH","OHYOUNGS.txt"]
[null,"164","\"Pennsylvania\"","PA","\"Erie\"",null,6,"Erie",null,"ERIE    PA","PA",550,6279,"Erie","PA","PAERIE.txt"]
[null,"165","\"Pennsylvania\"","PA","\"Erie\"",null,6,"Erie",null,"ERIE    PA","PA",550,6279,"Erie","PA","PAERIE.txt"]
[null,"166","\"Pennsylvania\"","PA","\"Altoona\"",null,9,"Altoona",null,"PITTSBURGH    PA","PA",654,5968,"Pittsburgh","PA","PAPITTSB.txt"]
[null,"167","\"Pennsylvania\"","PA","\"Bradford\"",null,10,"Bradford",null,"ERIE    PA","PA",550,6279,"Erie","PA","PAERIE.txt"]
[null,"168","\"Pennsylvania\"","PA","\"State College\"",null,15,"State College",null,"WILLIAMSPORT    PA","PA",622,6087,"Harrisburg","PA","PAHARRIS.txt "]
[null,"169","\"Pennsylvania\"","PA","\"Wellsboro\"",null,11,"Wellsboro",null,"BINGHAMTON    NY","NY",337,7273,"Wilkes-Barre","PA","PAWILKES.txt"]
[null,"170","\"Pennsylvania\"","PA","\"Harrisburg\"",null,12,"Harrisburg",null,"HARRISBURG    PA","PA",962,5347,"Harrisburg","PA","PAHARRIS.txt "]
[null,"171","\"Pennsylvania\"","PA","\"Harrisburg\"",null,12,"Harrisburg",null,"HARRISBURG    PA","PA",962,5347,"Harrisburg","PA","PAHARRIS.txt "]
[null,"172","\"Pennsylvania\"","PA","\"Chambersburg\"",null,14,"Chambersburg",null,"HARRISBURG    PA","PA",962,5347,"Harrisburg","PA","PAHARRIS.txt "]
[null,"173","\"Pennsylvania\"","PA","\"York\"",null,6,"York",null,"HARRISBURG    PA","PA",962,5347,"Harrisburg","PA","PAHARRIS.txt "]
[null,"174","\"Pennsylvania\"","PA","\"York\"",null,6,"York",null,"HARRISBURG    PA","PA",962,5347,"Harrisburg","PA","PAHARRIS.txt "]
[null,"175","\"Pennsylvania\"","PA","\"Lancaster\"",null,11,"Lancaster",null,"HARRISBURG    PA","PA",962,5347,"Harrisburg","PA","PAHARRIS.txt "]
[null,"176","\"Pennsylvania\"","PA","\"Lancaster\"",null,11,"Lancaster",null,"HARRISBURG    PA","PA",962,5347,"Harrisburg","PA","PAHARRIS.txt "]
[null,"177","\"Pennsylvania\"","PA","\"Williamsport\"",null,14,"Williamsport",null,"WILLIAMSPORT    PA","PA",622,6087,"Harrisburg","PA","PAHARRIS.txt "]
[null,"178","\"Pennsylvania\"","PA","\"Sunbury\"",null,9,"Sunbury",null,"WILLIAMSPORT    PA","PA",622,6087,"Harrisburg","PA","PAHARRIS.txt "]
[null,"179","\"Pennsylvania\"","PA","\"Pottsville\"",null,12,"Pottsville",null,"ALLENTOWN    PA","PA",773,5785,"Allentown","PA","PAALLENT.txt"]
[null,"180","\"Pennsylvania\"","PA","\"Lehigh_Valley\"",null,15,"Lehigh_Valley",null,"ALLENTOWN    PA","PA",773,5785,"Allentown","PA","PAALLENT.txt"]
[null,"181","\"Pennsylvania\"","PA","\"Allentown\"",null,11,"Allentown",null,"ALLENTOWN    PA","PA",773,5785,"Allentown","PA","PAALLENT.txt"]
[null,"182","\"Pennsylvania\"","PA","\"Hazleton\"",null,10,"Hazleton",null,"AVOCA    PA","PA",539,6291,"Wilkes-Barre","PA","PAWILKES.txt"]
[null,"183","\"Pennsylvania\"","PA","\"Stroudsburg\"",null,13,"Stroudsburg",null,"ALLENTOWN    PA","PA",773,5785,"Allentown","PA","PAALLENT.txt"]
[null,"184","\"Pennsylvania\"","PA","\"Scranton\"",null,10,"Scranton",null,"AVOCA    PA","PA",539,6291,"Wilkes-Barre","PA","PAWILKES.txt"]
[null,"185","\"Pennsylvania\"","PA","\"Scranton\"",null,10,"Scranton",null,"AVOCA    PA","PA",539,6291,"Wilkes-Barre","PA","PAWILKES.txt"]
[null,"186","\"Pennsylvania\"","PA","\"Wilkes-Barre\"",null,14,"Wilkes-Barre",null,"AVOCA    PA","PA",539,6291,"Wilkes-Barre","PA","PAWILKES.txt"]
[null,"187","\"Pennsylvania\"","PA","\"Wilkes-Barre\"",null,14,"Wilkes-Barre",null,"AVOCA    PA","PA",539,6291,"Wilkes-Barre","PA","PAWILKES.txt"]
[null,"188","\"Pennsylvania\"","PA","\"Montrose\"",null,10,"Montrose",null,"BINGHAMTON    NY","NY",337,7273,"Wilkes-Barre","PA","PAWILKES.txt"]
[null,"189","\"Pennsylvania\"","PA","\"Doylestown\"",null,12,"Doylestown",null,"PHILADELPHIA    PA","PA",1101,4954,"Philadelphia","PA","PAPHILAD.txt"]
[null,"190","\"Pennsylvania\"","PA","\"Philadelphia\"",null,14,"Philadelphia",null,"WILMINGTON    DE","DE",1046,4937,"Philadelphia","PA","PAPHILAD.txt"]
[null,"191","\"Pennsylvania\"","PA","\"Philadelphia\"",null,14,"Philadelphia",null,"PHILADELPHIA    PA","PA",1101,4954,"Philadelphia","PA","PAPHILAD.txt"]
[null,"193","\"Pennsylvania\"","PA","\"Southeastern\"",null,14,"Southeastern",null,"WILMINGTON    DE","DE",1046,4937,"Wilmington","DE","DEWILMIN.txt"]
[null,"194","\"Pennsylvania\"","PA","\"Southeastern\"",null,14,"Southeastern",null,"WILMINGTON    DE","DE",1046,4937,"Wilmington","DE","DEWILMIN.txt"]
[null,"195","\"Pennsylvania\"","PA","\"Reading\"",null,9,"Reading",null,"ALLENTOWN    PA","PA",773,5785,"Allentown","PA","PAALLENT.txt"]
[null,"196","\"Pennsylvania\"","PA","\"Reading\"",null,9,"Reading",null,"ALLENTOWN    PA","PA",773,5785,"Allentown","PA","PAALLENT.txt"]
[null,"197","\"Delaware\"","DE","\"Wilmington\"",null,12,"Wilmington",null,"WILMINGTON    DE","DE",1046,4937,"Wilmington","DE","DEWILMIN.txt"]
[null,"198","\"Delaware\"","DE","\"Wilmington\"",null,12,"Wilmington",null,"WILMINGTON    DE","DE",1046,4937,"Wilmington","DE","DEWILMIN.txt"]
[null,"199","\"Delaware\"","DE","\"Dover\"",null,7,"Dover",null,"BALTIMORE    MD","MD",1137,4707,"Baltimore","MD","MDBALTIM.txt"]
[null,"200","\"DC\"","DC","\"Washington\"",null,12,"Washington",null,"WASHINGTON NAT'L AP DC","DC",1549,4047,"Washington","MD","MDWASHDC.txt"]
[null,"201","\"DC\"","DC","\"Washington\"",null,12,"Washington",null,"WASHINGTON NAT'L AP DC","DC",1549,4047,"Washington","MD","MDWASHDC.txt"]
[null,"202","\"DC\"","DC","\"Washington\"",null,12,"Washington",null,"WASHINGTON NAT'L AP DC","DC",1549,4047,"Washington","MD","MDWASHDC.txt"]
[null,"203","\"DC\"","DC","\"Washington\"",null,12,"Washington",null,"WASHINGTON NAT'L AP DC","DC",1549,4047,"Washington","MD","MDWASHDC.txt"]
[null,"204","\"DC\"","DC","\"Washington\"",null,12,"Washington",null,"WASHINGTON NAT'L AP DC","DC",1549,4047,"Washington","MD","MDWASHDC.txt"]
[null,"205","\"DC\"","DC","\"Washington\"",null,12,"Washington",null,"WASHINGTON NAT'L AP DC","DC",1549,4047,"Washington","MD","MDWASHDC.txt"]
[null,"206","\"Maryland\"","MD","\"Waldorf\"",null,9,"Waldorf",null,"WASHINGTON NAT'L AP DC","DC",1549,4047,"Washington","MD","MDWASHDC.txt"]
[null,"207","\"Maryland\"","MD","\"Laurel\"",null,8,"Laurel",null,"BALTIMORE    MD","MD",1137,4707,"Baltimore","MD","MDBALTIM.txt"]
[null,"208","\"Maryland\"","MD","\"Rockville\"",null,11,"Rockville",null,"BALTIMORE    MD","MD",1137,4707,"Baltimore","MD","MDBALTIM.txt"]
[null,"209","\"Maryland\"","MD","\"Silver Spring\"",null,15,"Silver Spring",null,"WASHINGTON NAT'L AP DC","DC",1549,4047,"Washington","MD","MDWASHDC.txt"]
[null,"210","\"Maryland\"","MD","\"Baltimore\"",null,11,"Baltimore",null,"BALTIMORE    MD","MD",1137,4707,"Baltimore","MD","MDBALTIM.txt"]
[null,"211","\"Maryland\"","MD","\"Baltimore\"",null,11,"Baltimore",null,"BALTIMORE    MD","MD",1137,4707,"Baltimore","MD","MDBALTIM.txt"]
[null,"212","\"Maryland\"","MD","\"Baltimore\"",null,11,"Baltimore",null,"BALTIMORE    MD","MD",1137,4707,"Baltimore","MD","MDBALTIM.txt"]
[null,"213","\"Maryland\"","MD","\"Baltimore\"",null,11,"Baltimore",null,"BALTIMORE    MD","MD",1137,4707,"Baltimore","MD","MDBALTIM.txt"]
[null,"214","\"Maryland\"","MD","\"Annapolis\"",null,11,"Annapolis",null,"BALTIMORE    MD","MD",1137,4707,"Baltimore","MD","MDBALTIM.txt"]
[null,"215","\"Maryland\"","MD","\"Cumberland\"",null,{"$f":"LEN(E202)","v":12},{"$f":"MID(E202,2,G202-2)","v":"Cumberland"},null,"PITTSBURGH    PA","PA",654,5968,"Pittsburgh","PA","PAPITTSB.txt"]
[null,"216","\"Maryland\"","MD","\"Easton\"",null,8,"Easton",null,"WASHINGTON NAT'L AP DC","DC",1549,4047,"Washington","MD","MDWASHDC.txt"]
[null,"217","\"Maryland\"","MD","\"Frederick\"",null,11,"Frederick",null,"BALTIMORE    MD","MD",1137,4707,"Baltimore","MD","MDBALTIM.txt"]
[null,"218","\"Maryland\"","MD","\"Salisbury\"",null,11,"Salisbury",null,"WALLOPS ISLAND    VA","VA",1096,4261,"Richmond","VA","VARICHMO.txt"]
[null,"219","\"Maryland\"","MD","\"Elkton\"",null,8,"Elkton",null,"WILMINGTON    DE","DE",1046,4937,"Wilmington","DE","DEWILMIN.txt"]
[null,"220","\"Virginia\"","VA","\"Northern VA\"",null,13,"Northern VA",null,"WASHINGTON DULLES AP DC","DC",973,5006,"Washington","MD","MDWASHDC.txt"]
[null,"221","\"Virginia\"","VA","\"Northern VA\"",null,13,"Northern VA",null,"WASHINGTON DULLES AP DC","DC",973,5006,"Washington","MD","MDWASHDC.txt"]
[null,"222","\"Virginia\"","VA","\"Arlington\"",null,11,"Arlington",null,"WASHINGTON NAT'L AP DC","DC",1549,4047,"Washington","MD","MDWASHDC.txt"]
[null,"223","\"Virginia\"","VA","\"Alexandria\"",null,12,"Alexandria",null,"WASHINGTON NAT'L AP DC","DC",1549,4047,"Washington","MD","MDWASHDC.txt"]
[null,"224","\"Virginia\"","VA","\"Fredericksburg\"",null,16,"Fredericksburg",null,"RICHMOND    VA","VA",1348,3963,"Richmond","VA","VARICHMO.txt"]
[null,"225","\"Virginia\"","VA","\"Fredericksburg\"",null,16,"Fredericksburg",null,"RICHMOND    VA","VA",1348,3963,"Richmond","VA","VARICHMO.txt"]
[null,"226","\"Virginia\"","VA","\"Winchester\"",null,12,"Winchester",null,"WASHINGTON DULLES AP DC","DC",973,5006,"Washington","MD","MDWASHDC.txt"]
[null,"227","\"Virginia\"","VA","\"Culpeper\"",null,10,"Culpeper",null,"WASHINGTON DULLES AP DC","DC",973,5006,"Washington","MD","MDWASHDC.txt"]
[null,"228","\"Virginia\"","VA","\"Harrisonburg\"",null,14,"Harrisonburg",null,"WASHINGTON DULLES AP DC","DC",973,5006,"Washington","MD","MDWASHDC.txt"]
[null,"229","\"Virginia\"","VA","\"Charlottesville\"",null,17,"Charlottesville",null,"RICHMOND    VA","VA",1348,3963,"Richmond","VA","VARICHMO.txt"]
[null,"230","\"Virginia\"","VA","\"Richmond\"",null,10,"Richmond",null,"RICHMOND    VA","VA",1348,3963,"Richmond","VA","VARICHMO.txt"]
[null,"231","\"Virginia\"","VA","\"Richmond\"",null,10,"Richmond",null,"RICHMOND    VA","VA",1348,3963,"Richmond","VA","VARICHMO.txt"]
[null,"232","\"Virginia\"","VA","\"Richmond\"",null,10,"Richmond",null,"RICHMOND    VA","VA",1348,3963,"Richmond","VA","VARICHMO.txt"]
[null,"233","\"Virginia\"","VA","\"Norfolk\"",null,9,"Norfolk",null,"NORFOLK    VA","VA",1422,3495,"Norfolk","VA","VANORFOL.txt "]
[null,"234","\"Virginia\"","VA","\"Norfolk\"",null,9,"Norfolk",null,"NORFOLK    VA","VA",1422,3495,"Norfolk","VA","VANORFOL.txt "]
[null,"235","\"Virginia\"","VA","\"Norfolk\"",null,9,"Norfolk",null,"NORFOLK    VA","VA",1422,3495,"Norfolk","VA","VANORFOL.txt "]
[null,"236","\"Virginia\"","VA","\"Norfolk\"",null,9,"Norfolk",null,"NORFOLK    VA","VA",1422,3495,"Norfolk","VA","VANORFOL.txt "]
[null,"237","\"Virginia\"","VA","\"Portsmouth\"",null,12,"Portsmouth",null,"NORFOLK    VA","VA",1422,3495,"Norfolk","VA","VANORFOL.txt "]
[null,"238","\"Virginia\"","VA","\"Petersburg\"",null,12,"Petersburg",null,"NORFOLK    VA","VA",1422,3495,"Norfolk","VA","VANORFOL.txt "]
[null,"239","\"Virginia\"","VA","\"Farmville\"",null,11,"Farmville",null,"RICHMOND    VA","VA",1348,3963,"Richmond","VA","VARICHMO.txt"]
[null,"240","\"Virginia\"","VA","\"Roanoke\"",null,9,"Roanoke",null,"ROANOKE    VA","VA",1052,4360,"Roanoke","VA","VAROANOK.txt"]
[null,"241","\"Virginia\"","VA","\"Roanoke\"",null,9,"Roanoke",null,"ROANOKE    VA","VA",1052,4360,"Roanoke","VA","VAROANOK.txt"]
[null,"242","\"Virginia\"","VA","\"Bristol\"",null,9,"Bristol",null,"ROANOKE    VA","VA",1052,4360,"Roanoke","VA","VAROANOK.txt"]
[null,"243","\"Virginia\"","VA","\"Pulaski\"",null,9,"Pulaski",null,"ROANOKE    VA","VA",1052,4360,"Roanoke","VA","VAROANOK.txt"]
[null,"244","\"Virginia\"","VA","\"Staunton\"",null,10,"Staunton",null,"ROANOKE    VA","VA",1052,4360,"Roanoke","VA","VAROANOK.txt"]
[null,"245","\"Virginia\"","VA","\"Lynchburg\"",null,11,"Lynchburg",null,"LYNCHBURG    VA","VA",1048,4340,"Roanoke","VA","VAROANOK.txt"]
[null,"246","\"Virginia\"","VA","\"Tazewell\"",null,10,"Tazewell",null,"ROANOKE    VA","VA",1052,4360,"Roanoke","VA","VAROANOK.txt"]
[null,"247","\"West_Virginia\"","WV","\"Bluefield\"",null,11,"Bluefield",null,"ROANOKE    VA","VA",1052,4360,"Roanoke","VA","VAROANOK.txt"]
[null,"248","\"West_Virginia\"","WV","\"Welch\"",null,7,"Welch",null,"CHARLESTON    WV","WV",1031,4646,"Charleston","WV","WVCHARLE.txt"]
[null,"249","\"West_Virginia\"","WV","\"Lewisburg\"",null,11,"Lewisburg",null,"CHARLESTON    WV","WV",1031,4646,"Charleston","WV","WVCHARLE.txt"]
[null,"250","\"West_Virginia\"","WV","\"Charleston\"",null,12,"Charleston",null,"CHARLESTON    WV","WV",1031,4646,"Charleston","WV","WVCHARLE.txt"]
[null,"251","\"West_Virginia\"","WV","\"Charleston\"",null,12,"Charleston",null,"CHARLESTON    WV","WV",1031,4646,"Charleston","WV","WVCHARLE.txt"]
[null,"252","\"West_Virginia\"","WV","\"Charleston\"",null,12,"Charleston",null,"CHARLESTON    WV","WV",1031,4646,"Charleston","WV","WVCHARLE.txt"]
[null,"253","\"West_Virginia\"","WV","\"Charleston\"",null,12,"Charleston",null,"CHARLESTON    WV","WV",1031,4646,"Charleston","WV","WVCHARLE.txt"]
[null,"254","\"West_Virginia\"","WV","\"Martinsburg\"",null,13,"Martinsburg",null,"WASHINGTON DULLES AP DC","DC",973,5006,"Washington","MD","MDWASHDC.txt"]
[null,"255","\"West_Virginia\"","WV","\"Huntington\"",null,12,"Huntington",null,"CHARLESTON    WV","WV",1031,4646,"Charleston","WV","WVCHARLE.txt"]
[null,"256","\"West_Virginia\"","WV","\"Logan\"",null,7,"Logan",null,"CHARLESTON    WV","WV",1031,4646,"Charleston","WV","WVCHARLE.txt"]
[null,"257","\"West_Virginia\"","WV","\"Huntington\"",null,12,"Huntington",null,"HUNTINGTON    WV","WV",1005,4665,"Charleston","WV","WVCHARLE.txt"]
[null,"258","\"West_Virginia\"","WV","\"Beckley\"",null,9,"Beckley",null,"BECKLEY    WV","WV",463,5558,"Charleston","WV","WVCHARLE.txt"]
[null,"259","\"West_Virginia\"","WV","\"Beckley\"",null,9,"Beckley",null,"BECKLEY    WV","WV",463,5558,"Charleston","WV","WVCHARLE.txt"]
[null,"260","\"West_Virginia\"","WV","\"Wheeling\"",null,10,"Wheeling",null,"PITTSBURGH    PA","PA",654,5968,"Pittsburgh","PA","PAPITTSB.txt"]
[null,"261","\"West_Virginia\"","WV","\"Parkersburg\"",null,13,"Parkersburg",null,"CHARLESTON    WV","WV",1031,4646,"Charleston","WV","WVCHARLE.txt"]
[null,"262","\"West_Virginia\"","WV","\"Buckhannon\"",null,12,"Buckhannon",null,"CHARLESTON    WV","WV",1031,4646,"Charleston","WV","WVCHARLE.txt"]
[null,"263","\"West_Virginia\"","WV","\"Clarksburg\"",null,12,"Clarksburg",null,"ELKINS    WV","WV",346,6120,"Elkins","WV","WVELKINS.txt"]
[null,"264","\"West_Virginia\"","WV","\"Clarksburg\"",null,12,"Clarksburg",null,"ELKINS    WV","WV",346,6120,"Elkins","WV","WVELKINS.txt"]
[null,"265","\"West_Virginia\"","WV","\"Morgantown\"",null,12,"Morgantown",null,"PITTSBURGH    PA","PA",654,5968,"Pittsburgh","PA","PAPITTSB.txt"]
[null,"266","\"West_Virginia\"","WV","\"Gassaway\"",null,10,"Gassaway",null,"CHARLESTON    WV","WV",1031,4646,"Charleston","WV","WVCHARLE.txt"]
[null,"267","\"West_Virginia\"","WV","\"Keyser\"",null,8,"Keyser",null,"ELKINS    WV","WV",346,6120,"Elkins","WV","WVELKINS.txt"]
[null,"268","\"West_Virginia\"","WV","\"Petersburg\"",null,12,"Petersburg",null,"ELKINS    WV","WV",346,6120,"Elkins","WV","WVELKINS.txt"]
[null,"270","\"North_Carolina\"","NC","\"Winston-Salem\"",null,15,"Winston-Salem",null,"GREENSBORO-WNSTN-SALM-HGHPT NC","NC",1253,3865,"Greensboro","NC","NCGRNSBO.txt"]
[null,"271","\"North_Carolina\"","NC","\"Winston-Salem\"",null,15,"Winston-Salem",null,"GREENSBORO-WNSTN-SALM-HGHPT NC","NC",1253,3865,"Greensboro","NC","NCGRNSBO.txt"]
[null,"272","\"North_Carolina\"","NC","\"Greensboro\"",null,12,"Greensboro",null,"GREENSBORO-WNSTN-SALM-HGHPT NC","NC",1253,3865,"Greensboro","NC","NCGRNSBO.txt"]
[null,"273","\"North_Carolina\"","NC","\"Greensboro\"",null,12,"Greensboro",null,"GREENSBORO-WNSTN-SALM-HGHPT NC","NC",1253,3865,"Greensboro","NC","NCGRNSBO.txt"]
[null,"274","\"North_Carolina\"","NC","\"Greensboro\"",null,12,"Greensboro",null,"GREENSBORO-WNSTN-SALM-HGHPT NC","NC",1253,3865,"Greensboro","NC","NCGRNSBO.txt"]
[null,"275","\"North_Carolina\"","NC","\"Raleigh\"",null,9,"Raleigh",null,"RALEIGH    NC","NC",1417,3457,"Raleigh Durham","NC","NCRALEIG.txt"]
[null,"276","\"North_Carolina\"","NC","\"Raleigh\"",null,9,"Raleigh",null,"RALEIGH    NC","NC",1417,3457,"Raleigh Durham","NC","NCRALEIG.txt"]
[null,"277","\"North_Carolina\"","NC","\"Durham\"",null,8,"Durham",null,"RALEIGH    NC","NC",1417,3457,"Raleigh Durham","NC","NCRALEIG.txt"]
[null,"278","\"North_Carolina\"","NC","\"Rocky Mount\"",null,13,"Rocky Mount",null,"RALEIGH    NC","NC",1417,3457,"Raleigh Durham","NC","NCRALEIG.txt"]
[null,"279","\"North_Carolina\"","NC","\"Elizabeth City\"",null,16,"Elizabeth City",null,"NORFOLK    VA","VA",1422,3495,"Norfolk","VA","VANORFOL.txt "]
[null,"280","\"North_Carolina\"","NC","\"Charlotte\"",null,{"$f":"LEN(E266)","v":11},{"$f":"MID(E266,2,G266-2)","v":"Charlotte"},null,"GREENVILLE-SPARTANBURG AP    SC","SC",1473,3272,"Charlotte","NC","NCCHARLO.txt"]
[null,"281","\"North_Carolina\"","NC","\"Charlotte\"",null,11,"Charlotte",null,"GREENVILLE-SPARTANBURG AP    SC","SC",1473,3272,"Charlotte","NC","NCCHARLO.txt"]
[null,"282","\"North_Carolina\"","NC","\"Charlotte\"",null,11,"Charlotte",null,"CHARLOTTE   NC","NC",1582,3341,"Charlotte","NC","NCCHARLO.txt"]
[null,"283","\"North_Carolina\"","NC","\"Fayetteville\"",null,14,"Fayetteville",null,"CHARLOTTE   NC","NC",1582,3341,"Charlotte","NC","NCCHARLO.txt"]
[null,"284","\"North_Carolina\"","NC","\"Wilmington\"",null,12,"Wilmington",null,"WILMINGTON    NC","NC",1926,2470,"Charlotte","NC","NCCHARLO.txt"]
[null,"285","\"North_Carolina\"","NC","\"Kinston\"",null,9,"Kinston",null,"WILMINGTON    NC","NC",1926,2470,"Charlotte","NC","NCCHARLO.txt"]
[null,"286","\"North_Carolina\"","NC","\"Hickory\"",null,9,"Hickory",null,"GREENSBORO-WNSTN-SALM-HGHPT NC","NC",1253,3865,"Greensboro","NC","NCGRNSBO.txt"]
[null,"287","\"North_Carolina\"","NC","\"Asheville\"",null,11,"Asheville",null,"BRISTOL-JHNSN CTY-KNGSPRT    TN","TN",972,4406,"Asheville","NC","NCASHEVI.txt"]
[null,"288","\"North_Carolina\"","NC","\"Asheville\"",null,11,"Asheville",null,"ASHEVILLE    NC","NC",787,4308,"Asheville","NC","NCASHEVI.txt"]
[null,"289","\"North_Carolina\"","NC","\"Andrews\"",null,9,"Andrews",null,"KNOXVILLE    TN","TN",1266,3937,"Knoxville","TN","TNKNOXVI.txt"]
[null,"290","\"South_Carolina\"","SC","\"Columbia\"",null,10,"Columbia",null,"COLUMBIA    SC","SC",1966,2649,"Columbia","SC","SCCOLMBA.txt"]
[null,"291","\"South_Carolina\"","SC","\"Columbia\"",null,10,"Columbia",null,"COLUMBIA    SC","SC",1966,2649,"Columbia","SC","SCCOLMBA.txt"]
[null,"292","\"South_Carolina\"","SC","\"Columbia\"",null,10,"Columbia",null,"COLUMBIA    SC","SC",1966,2649,"Columbia","SC","SCCOLMBA.txt"]
[null,"293","\"South_Carolina\"","SC","\"Spartanburg\"",null,13,"Spartanburg",null,"GREENVILLE-SPARTANBURG AP    SC","SC",1473,3272,"Charlotte","NC","NCCHARLO.txt"]
[null,"294","\"South_Carolina\"","SC","\"Charleston\"",null,12,"Charleston",null,"CHARLESTON AP    SC","SC",2266,2013,"Charleston","SC","SCCHARLE.txt"]
[null,"295","\"South_Carolina\"","SC","\"Florence\"",null,10,"Florence",null,"WILMINGTON    NC","NC",1926,2470,"Columbia","SC","SCCOLMBA.txt"]
[null,"296","\"South_Carolina\"","SC","\"Greenville\"",null,12,"Greenville",null,"GREENVILLE-SPARTANBURG AP    SC","SC",1473,3272,"Charlotte","NC","NCCHARLO.txt"]
[null,"297","\"South_Carolina\"","SC","\"Rock_Hill\"",null,11,"Rock_Hill",null,"COLUMBIA    SC","SC",1966,2649,"Columbia","SC","SCCOLMBA.txt"]
[null,"298","\"South_Carolina\"","SC","\"Aiken\"",null,7,"Aiken",null,"COLUMBIA    SC","SC",1966,2649,"Columbia","SC","SCCOLMBA.txt"]
[null,"299","\"South_Carolina\"","SC","\"Beaufort\"",null,10,"Beaufort",null,"SAVANNAH    GA","GA",2365,1847,"Savannah","GA","GASAVANN.txt"]
[null,"300","\"Georgia\"","GA","\"Atlanta\"",null,9,"Atlanta",null,"ATLANTA    GA","GA",1667,2991,"Atlanta","GA","GAATLANT.txt"]
[null,"301","\"Georgia\"","GA","\"Atlanta\"",null,9,"Atlanta",null,"ATLANTA    GA","GA",1667,2991,"Atlanta","GA","GAATLANT.txt"]
[null,"302","\"Georgia\"","GA","\"Atlanta\"",null,9,"Atlanta",null,"ATLANTA    GA","GA",1667,2991,"Atlanta","GA","GAATLANT.txt"]
[null,"303","\"Georgia\"","GA","\"Atlanta\"",null,9,"Atlanta",null,"ATLANTA    GA","GA",1667,2991,"Atlanta","GA","GAATLANT.txt"]
[null,"304","\"Georgia\"","GA","\"Swainsboro\"",null,12,"Swainsboro",null,"SAVANNAH    GA","GA",2365,1847,"Savannah","GA","GASAVANN.txt"]
[null,"305","\"Georgia\"","GA","\"Gainesville\"",null,13,"Gainesville",null,"GREENVILLE-SPARTANBURG AP    SC","SC",1473,3272,"Atlanta","GA","GAATLANT.txt"]
[null,"306","\"Georgia\"","GA","\"Athens\"",null,8,"Athens",null,"ATHENS    GA","GA",1709,2893,"Atlanta","GA","GAATLANT.txt"]
[null,"307","\"Georgia\"","GA","\"Dalton\"",null,8,"Dalton",null,"CHATTANOOGA    TN","TN",1544,3587,"Chattanooga","TN","TNCHATTA.txt"]
[null,"308","\"Georgia\"","GA","\"Augusta\"",null,9,"Augusta",null,"ATHENS    GA","GA",1709,2893,"Columbia","SC","SCCOLMBA.txt"]
[null,"309","\"Georgia\"","GA","\"Augusta\"",null,9,"Augusta",null,"AUGUSTA    GA","GA",1948,2565,"Columbia","SC","SCCOLMBA.txt"]
[null,"310","\"Georgia\"","GA","\"Macon\"",null,7,"Macon",null,"COLUMBUS    GA","GA",2284,2261,"Macon","GA","GAMACON.txt"]
[null,"311","\"Georgia\"","GA","\"Macon\"",null,7,"Macon",null,"COLUMBUS    GA","GA",2284,2261,"Macon","GA","GAMACON.txt"]
[null,"312","\"Georgia\"","GA","\"Macon\"",null,7,"Macon",null,"MACON    GA","GA",2125,2334,"Macon","GA","GAMACON.txt"]
[null,"313","\"Georgia\"","GA","\"Savannah\"",null,10,"Savannah",null,"SAVANNAH    GA","GA",2365,1847,"Savannah","GA","GASAVANN.txt"]
[null,"314","\"Georgia\"","GA","\"Savannah\"",null,10,"Savannah",null,"SAVANNAH    GA","GA",2365,1847,"Savannah","GA","GASAVANN.txt"]
[null,"315","\"Georgia\"","GA","\"Waycross\"",null,10,"Waycross",null,"SAVANNAH    GA","GA",2365,1847,"Savannah","GA","GASAVANN.txt"]
[null,"316","\"Georgia\"","GA","\"Valdosta\"",null,10,"Valdosta",null,"TALLAHASSEE    FL","FL",2518,1705,"Tallahassee","FL","FLTALLAH.txt"]
[null,"317","\"Georgia\"","GA","\"Albany\"",null,8,"Albany",null,"COLUMBUS    GA","GA",2284,2261,"Columbus","GA","GACOLMBS.txt"]
[null,"318","\"Georgia\"","GA","\"Columbus\"",null,10,"Columbus",null,"MACON    GA","GA",2125,2334,"Columbus","GA","GACOLMBS.txt"]
[null,"319","\"Georgia\"","GA","\"Columbus\"",null,10,"Columbus",null,"COLUMBUS    GA","GA",2284,2261,"Columbus","GA","GACOLMBS.txt"]
[null,"320","\"Florida\"","FL","\"Jacksonville\"",null,14,"Jacksonville",null,"JACKSONVILLE    FL","FL",2551,1434,"Jacksonville","FL","FLJACKSV.txt"]
[null,"321","\"Florida\"","FL","\"Jacksonville\"",null,14,"Jacksonville",null,"JACKSONVILLE    FL","FL",2551,1434,"Jacksonville","FL","FLJACKSV.txt"]
[null,"322","\"Florida\"","FL","\"Jacksonville\"",null,14,"Jacksonville",null,"JACKSONVILLE    FL","FL",2551,1434,"Jacksonville","FL","FLJACKSV.txt"]
[null,"323","\"Florida\"","FL","\"Tallahassee\"",null,13,"Tallahassee",null,"TALLAHASSEE    FL","FL",2518,1705,"Tallahassee","FL","FLTALLAH.txt"]
[null,"324","\"Florida\"","FL","\"Panama City\"",null,13,"Panama City",null,"APALACHICOLA    FL","FL",2582,1429,"Tallahassee","FL","FLTALLAH.txt"]
[null,"325","\"Florida\"","FL","\"Pensacola\"",null,11,"Pensacola",null,"PENSACOLA    FL","FL",2636,1617,"Mobile","AL","ALMOBILE.txt"]
[null,"326","\"Florida\"","FL","\"Gainesville\"",null,13,"Gainesville",null,"GAINESVILLE    FL","FL",2609,1267,"Jacksonville","FL","FLJACKSV.txt"]
[null,"327","\"Florida\"","FL","\"Titusville\"",null,12,"Titusville",null,"DAYTONA BEACH    FL","FL",2919,909,"Daytona Beach","FL","FLDAYTNA.txt"]
[null,"328","\"Florida\"","FL","\"Orlando\"",null,9,"Orlando",null,"ORLANDO    FL","FL",3381,686,"Orlando","FL","FLORLAND.txt"]
[null,"329","\"Florida\"","FL","\"Melbourne\"",null,11,"Melbourne",null,"VERO BEACH    FL","FL",3278,548,"Orlando","FL","FLORLAND.txt"]
[null,"330","\"Florida\"","FL","\"Miami\"",null,7,"Miami",null,"KEY WEST    FL","FL",4798,100,"Miami Beach","FL","FLMIAMIB.txt"]
[null,"331","\"Florida\"","FL","\"Miami\"",null,7,"Miami",null,"MIAMI    FL","FL",4198,200,"Miami Beach","FL","FLMIAMIB.txt"]
[null,"332","\"Florida\"","FL","\"Miami\"",null,7,"Miami",null,"MIAMI    FL","FL",4198,200,"Miami Beach","FL","FLMIAMIB.txt"]
[null,"333","\"Florida\"","FL","\"Fort Lauderdale\"",null,17,"Fort Lauderdale",null,"MIAMI    FL","FL",4198,200,"Miami Beach","FL","FLMIAMIB.txt"]
[null,"334","\"Florida\"","FL","\"West Palm Beach\"",null,17,"West Palm Beach",null,"WEST PALM BEACH    FL","FL",3891,323,"West Palm Beach","FL","FLWPALMB.txt"]
[null,"335","\"Florida\"","FL","\"Tampa\"",null,7,"Tampa",null,"TAMPA    FL","FL",3427,725,"Tampa St. Petersburg","FL","FLTAMPA.txt"]
[null,"336","\"Florida\"","FL","\"Tampa\"",null,7,"Tampa",null,"TAMPA    FL","FL",3427,725,"Tampa St. Petersburg","FL","FLTAMPA.txt"]
[null,"337","\"Florida\"","FL","\"St. Petersburg\"",null,16,"St. Petersburg",null,"TAMPA    FL","FL",3427,725,"Tampa St. Petersburg","FL","FLTAMPA.txt"]
[null,"338","\"Florida\"","FL","\"Lakeland\"",null,10,"Lakeland",null,"TAMPA    FL","FL",3427,725,"Tampa St. Petersburg","FL","FLTAMPA.txt"]
[null,"339","\"Florida\"","FL","\"Fort Myers\"",null,12,"Fort Myers",null,"FORT MYERS    FL","FL",3855,418,"Tampa St. Petersburg","FL","FLTAMPA.txt"]
[null,"342","\"Florida\"","FL","\"Bradenton\"",null,11,"Bradenton",null,"TAMPA    FL","FL",3427,725,"Tampa St. Petersburg","FL","FLTAMPA.txt"]
[null,"344","\"Florida\"","FL","\"Ocala\"",null,7,"Ocala",null,"DAYTONA BEACH    FL","FL",2919,909,"Daytona Beach","FL","FLDAYTNA.txt"]
[null,"346","\"Florida\"","FL","\"Clearwater\"",null,12,"Clearwater",null,"TAMPA    FL","FL",3427,725,"Tampa St. Petersburg","FL","FLTAMPA.txt"]
[null,"347","\"Florida\"","FL","\"Orlando\"",null,9,"Orlando",null,"ORLANDO    FL","FL",3381,686,"Orlando","FL","FLORLAND.txt"]
[null,"349","\"Florida\"","FL","\"Fort Pierce\"",null,{"$f":"LEN(E330)","v":13},{"$f":"MID(E330,2,G330-2)","v":"Fort Pierce"},null,"TAMPA    FL","FL",3427,725,"Tampa St. Petersburg","FL","FLTAMPA.txt"]
[null,"350","\"Alabama\"","AL","\"Birmingham\"",null,12,"Birmingham",null,"BIRMINGHAM AP    AL","AL",1797,2918,"Birmingham","AL","ALBIRMIN.txt "]
[null,"351","\"Alabama\"","AL","\"Birmingham\"",null,12,"Birmingham",null,"BIRMINGHAM AP    AL","AL",1797,2918,"Birmingham","AL","ALBIRMIN.txt "]
[null,"352","\"Alabama\"","AL","\"Birmingham\"",null,12,"Birmingham",null,"BIRMINGHAM AP    AL","AL",1797,2918,"Birmingham","AL","ALBIRMIN.txt "]
[null,"354","\"Alabama\"","AL","\"Tuscaloosa\"",null,12,"Tuscaloosa",null,"MERIDIAN    MS","MS",2138,2444,"Birmingham","AL","ALBIRMIN.txt "]
[null,"355","\"Alabama\"","AL","\"Jasper\"",null,8,"Jasper",null,"HUNTSVILLE    AL","AL",1651,3323,"Huntsville","AL","ALHUNTSV.txt"]
[null,"356","\"Alabama\"","AL","\"Decatur/Florence\"",null,18,"Decatur/Florence",null,"HUNTSVILLE    AL","AL",1651,3323,"Huntsville","AL","ALHUNTSV.txt"]
[null,"357","\"Alabama\"","AL","\"Huntsville\"",null,12,"Huntsville",null,"CHATTANOOGA    TN","TN",1544,3587,"Chattanooga","TN","TNCHATTA.txt"]
[null,"358","\"Alabama\"","AL","\"Huntsville\"",null,12,"Huntsville",null,"HUNTSVILLE    AL","AL",1651,3323,"Huntsville","AL","ALHUNTSV.txt"]
[null,"359","\"Alabama\"","AL","\"Gadsden\"",null,9,"Gadsden",null,"ATLANTA    GA","GA",1667,2991,"Atlanta","GA","GAATLANT.txt"]
[null,"360","\"Alabama\"","AL","\"Montgomery\"",null,12,"Montgomery",null,"COLUMBUS    GA","GA",2284,2261,"Montgomery","AL","ALMONTGO.txt "]
[null,"361","\"Alabama\"","AL","\"Montgomery\"",null,12,"Montgomery",null,"MONTGOMERY    AL","AL",2212,2224,"Montgomery","AL","ALMONTGO.txt "]
[null,"362","\"Alabama\"","AL","\"Anniston\"",null,10,"Anniston",null,"BIRMINGHAM AP    AL","AL",1797,2918,"Birmingham","AL","ALBIRMIN.txt "]
[null,"363","\"Alabama\"","AL","\"Dothan\"",null,8,"Dothan",null,"MONTGOMERY    AL","AL",2212,2224,"Montgomery","AL","ALMONTGO.txt "]
[null,"364","\"Alabama\"","AL","\"Evergreen\"",null,11,"Evergreen",null,"MONTGOMERY    AL","AL",2212,2224,"Montgomery","AL","ALMONTGO.txt "]
[null,"365","\"Alabama\"","AL","\"Mobile\"",null,8,"Mobile",null,"MOBILE    AL","AL",2627,1702,"Mobile","AL","ALMOBILE.txt"]
[null,"366","\"Alabama\"","AL","\"Mobile\"",null,8,"Mobile",null,"MOBILE    AL","AL",2627,1702,"Mobile","AL","ALMOBILE.txt"]
[null,"367","\"Alabama\"","AL","\"Selma\"",null,7,"Selma",null,"MONTGOMERY    AL","AL",2212,2224,"Montgomery","AL","ALMONTGO.txt "]
[null,"368","\"Alabama\"","AL","\"Opelika\"",null,9,"Opelika",null,"COLUMBUS    GA","GA",2284,2261,"Columbus","GA","GACOLMBS.txt"]
[null,"369","\"Alabama\"","AL","\"Butler\"",null,8,"Butler",null,"MERIDIAN    MS","MS",2138,2444,"Jackson","MS","MSJACKSO.txt"]
[null,"370","\"Tennessee\"","TN","\"Nashville\"",null,11,"Nashville",null,"NASHVILLE    TN","TN",1616,3729,"Nashville","TN","TNNASHVI.txt"]
[null,"371","\"Tennessee\"","TN","\"Nashville\"",null,11,"Nashville",null,"NASHVILLE    TN","TN",1616,3729,"Nashville","TN","TNNASHVI.txt"]
[null,"372","\"Tennessee\"","TN","\"Nashville\"",null,11,"Nashville",null,"NASHVILLE    TN","TN",1616,3729,"Nashville","TN","TNNASHVI.txt"]
[null,"373","\"Tennessee\"","TN","\"Chattanooga\"",null,13,"Chattanooga",null,"HUNTSVILLE    AL","AL",1651,3323,"Chattanooga","TN","TNCHATTA.txt"]
[null,"374","\"Tennessee\"","TN","\"Chattanooga\"",null,13,"Chattanooga",null,"CHATTANOOGA    TN","TN",1544,3587,"Chattanooga","TN","TNCHATTA.txt"]
[null,"376","\"Tennessee\"","TN","\"Johnson City\"",null,14,"Johnson City",null,"BRISTOL-JHNSN CTY-KNGSPRT    TN","TN",972,4406,"Knoxville","TN","TNKNOXVI.txt"]
[null,"377","\"Tennessee\"","TN","\"Knoxville\"",null,11,"Knoxville",null,"KNOXVILLE    TN","TN",1266,3937,"Knoxville","TN","TNKNOXVI.txt"]
[null,"378","\"Tennessee\"","TN","\"Knoxville\"",null,11,"Knoxville",null,"KNOXVILLE    TN","TN",1266,3937,"Knoxville","TN","TNKNOXVI.txt"]
[null,"379","\"Tennessee\"","TN","\"Knoxville\"",null,11,"Knoxville",null,"KNOXVILLE    TN","TN",1266,3937,"Knoxville","TN","TNKNOXVI.txt"]
[null,"380","\"Tennessee\"","TN","\"Memphis\"",null,9,"Memphis",null,"MEMPHIS    TN","TN",2118,3082,"Memphis","TN","TNMEMPHI.txt"]
[null,"381","\"Tennessee\"","TN","\"Memphis\"",null,9,"Memphis",null,"MEMPHIS    TN","TN",2118,3082,"Memphis","TN","TNMEMPHI.txt"]
[null,"382","\"Tennessee\"","TN","\"Mc_Kenzie\"",null,11,"Mc_Kenzie",null,"NASHVILLE    TN","TN",1616,3729,"Nashville","TN","TNNASHVI.txt"]
[null,"383","\"Tennessee\"","TN","\"Jackson\"",null,9,"Jackson",null,"HUNTSVILLE    AL","AL",1651,3323,"Huntsville","AL","ALHUNTSV.txt"]
[null,"384","\"Tennessee\"","TN","\"Columbia\"",null,10,"Columbia",null,"NASHVILLE    TN","TN",1616,3729,"Nashville","TN","TNNASHVI.txt"]
[null,"385","\"Tennessee\"","TN","\"Cookeville\"",null,12,"Cookeville",null,"NASHVILLE    TN","TN",1616,3729,"Nashville","TN","TNNASHVI.txt"]
[null,"386","\"Mississippi\"","MS","\"Oxford\"",null,8,"Oxford",null,"MEMPHIS    TN","TN",2118,3082,"Memphis","TN","TNMEMPHI.txt"]
[null,"387","\"Mississippi\"","MS","\"Greenville\"",null,12,"Greenville",null,"JACKSON    MS","MS",2215,2467,"Jackson","MS","MSJACKSO.txt"]
[null,"388","\"Mississippi\"","MS","\"Tupelo\"",null,8,"Tupelo",null,"TUPELO    MS","MS",1908,3079,"Tupelo","MS","MSTUPELO.txt"]
[null,"389","\"Mississippi\"","MS","\"Grenada\"",null,9,"Grenada",null,"MERIDIAN    MS","MS",2138,2444,"Tupelo","MS","MSTUPELO.txt"]
[null,"390","\"Mississippi\"","MS","\"Jackson\"",null,9,"Jackson",null,"JACKSON    MS","MS",2215,2467,"Jackson","MS","MSJACKSO.txt"]
[null,"391","\"Mississippi\"","MS","\"Jackson\"",null,9,"Jackson",null,"JACKSON    MS","MS",2215,2467,"Jackson","MS","MSJACKSO.txt"]
[null,"392","\"Mississippi\"","MS","\"Jackson\"",null,9,"Jackson",null,"JACKSON    MS","MS",2215,2467,"Jackson","MS","MSJACKSO.txt"]
[null,"393","\"Mississippi\"","MS","\"Meridian\"",null,10,"Meridian",null,"MERIDIAN    MS","MS",2138,2444,"Jackson","MS","MSJACKSO.txt"]
[null,"394","\"Mississippi\"","MS","\"Hattiesburg\"",null,13,"Hattiesburg",null,"MOBILE    AL","AL",2627,1702,"Mobile","AL","ALMOBILE.txt"]
[null,"395","\"Mississippi\"","MS","\"Gulfport\"",null,10,"Gulfport",null,"NEW ORLEANS    LA","LA",2655,1513,"New Orleans","LA","LANEWORL.txt"]
[null,"396","\"Mississippi\"","MS","\"McComb\"",null,8,"McComb",null,"JACKSON    MS","MS",2215,2467,"Jackson","MS","MSJACKSO.txt"]
[null,"397","\"Mississippi\"","MS","\"Columbus\"",null,10,"Columbus",null,"BIRMINGHAM AP    AL","AL",1797,2918,"Birmingham","AL","ALBIRMIN.txt "]
[null,"400","\"Kentucky\"","KY","\"Louisville\"",null,12,"Louisville",null,"LOUISVILLE    KY","KY",1288,4514,"Louisville","KY","KYLOUISV.txt"]
[null,"401","\"Kentucky\"","KY","\"Louisville\"",null,12,"Louisville",null,"LOUISVILLE    KY","KY",1288,4514,"Louisville","KY","KYLOUISV.txt"]
[null,"402","\"Kentucky\"","KY","\"Louisville\"",null,12,"Louisville",null,"LOUISVILLE    KY","KY",1288,4514,"Louisville","KY","KYLOUISV.txt"]
[null,"403","\"Kentucky\"","KY","\"Lexington\"",null,11,"Lexington",null,"LEXINGTON    KY","KY",1140,4783,"Lexington","KY","KYLEXING.txt"]
[null,"404","\"Kentucky\"","KY","\"Lexington\"",null,11,"Lexington",null,"LEXINGTON    KY","KY",1140,4783,"Lexington","KY","KYLEXING.txt"]
[null,"405","\"Kentucky\"","KY","\"Lexington\"",null,11,"Lexington",null,"LEXINGTON    KY","KY",1140,4783,"Lexington","KY","KYLEXING.txt"]
[null,"406","\"Kentucky\"","KY","\"Frankfort\"",null,11,"Frankfort",null,"LEXINGTON    KY","KY",1140,4783,"Lexington","KY","KYLEXING.txt"]
[null,"407","\"Kentucky\"","KY","\"Corbin\"",null,8,"Corbin",null,"KNOXVILLE    TN","TN",1266,3937,"Knoxville","TN","TNKNOXVI.txt"]
[null,"408","\"Kentucky\"","KY","\"Baxter\"",null,8,"Baxter",null,"BRISTOL-JHNSN CTY-KNGSPRT    TN","TN",972,4406,"Knoxville","TN","TNKNOXVI.txt"]
[null,"409","\"Kentucky\"","KY","\"Middlesboro\"",null,13,"Middlesboro",null,"BRISTOL-JHNSN CTY-KNGSPRT    TN","TN",972,4406,"Knoxville","TN","TNKNOXVI.txt"]
[null,"410","\"Kentucky\"","KY","\"Newport\"",null,9,"Newport",null,"GREATER CINCINNATI AP KY","KY",996,5248,"Cincinnati","OH","OHCINCIN.txt"]
[null,"411","\"Kentucky\"","KY","\"Ashland\"",null,9,"Ashland",null,"LEXINGTON    KY","KY",1140,4783,"Lexington","KY","KYLEXING.txt"]
[null,"412","\"Kentucky\"","KY","\"Ashland\"",null,9,"Ashland",null,"HUNTINGTON    WV","WV",1005,4665,"Charleston","WV","WVCHARLE.txt"]
[null,"413","\"Kentucky\"","KY","\"Campton\"",null,9,"Campton",null,"JACKSON    KY","KY",1033,4393,"Lexington","KY","KYLEXING.txt"]
[null,"414","\"Kentucky\"","KY","\"Campton\"",null,9,"Campton",null,"LEXINGTON    KY","KY",1140,4783,"Lexington","KY","KYLEXING.txt"]
[null,"415","\"Kentucky\"","KY","\"Pikeville\"",null,11,"Pikeville",null,"CHARLESTON    WV","WV",1031,4646,"Charleston","WV","WVCHARLE.txt"]
[null,"416","\"Kentucky\"","KY","\"Pikeville\"",null,11,"Pikeville",null,"HUNTINGTON    WV","WV",1005,4665,"Charleston","WV","WVCHARLE.txt"]
[null,"417","\"Kentucky\"","KY","\"Hazard\"",null,{"$f":"LEN(E394)","v":8},{"$f":"MID(E394,2,G394-2)","v":"Hazard"},null,"HUNTINGTON    WV","WV",1005,4665,"Charleston","WV","WVCHARLE.txt"]
[null,"418","\"Kentucky\"","KY","\"Hazard\"",null,8,"Hazard",null,"HUNTINGTON    WV","WV",1005,4665,"Charleston","WV","WVCHARLE.txt"]
[null,"420","\"Kentucky\"","KY","\"Paducah\"",null,9,"Paducah",null,"PADUCAH   KY ","KY",1475,4279,"Paducah","KY","KYPADUCA.txt"]
[null,"421","\"Kentucky\"","KY","\"Bowling Green\"",null,15,"Bowling Green",null,"LOUISVILLE    KY","KY",1288,4514,"Louisville","KY","KYLOUISV.txt"]
[null,"422","\"Kentucky\"","KY","\"Russellville\"",null,14,"Russellville",null,"LOUISVILLE    KY","KY",1288,4514,"Louisville","KY","KYLOUISV.txt"]
[null,"423","\"Kentucky\"","KY","\"Owensboro\"",null,11,"Owensboro",null,"NASHVILLE    TN","TN",1616,3729,"Nashville","TN","TNNASHVI.txt"]
[null,"424","\"Kentucky\"","KY","\"Henderson\"",null,11,"Henderson",null,"EVANSVILLE    IN","IN",1376,4708,"Evansville","IN","INEVANSV.txt"]
[null,"425","\"Kentucky\"","KY","\"Somerset\"",null,10,"Somerset",null,"LEXINGTON    KY","KY",1140,4783,"Lexington","KY","KYLEXING.txt"]
[null,"426","\"Kentucky\"","KY","\"Somerset\"",null,10,"Somerset",null,"LEXINGTON    KY","KY",1140,4783,"Lexington","KY","KYLEXING.txt"]
[null,"427","\"Kentucky\"","KY","\"Elizabethtown\"",null,15,"Elizabethtown",null,"NASHVILLE    TN","TN",1616,3729,"Nashville","TN","TNNASHVI.txt"]
[null,"430","\"Ohio\"","OH","\"Columbus\"",null,10,"Columbus",null,"COLUMBUS    OH","OH",797,5708,"Columbus","OH","OHCOLMBS.txt"]
[null,"431","\"Ohio\"","OH","\"Columbus\"",null,10,"Columbus",null,"COLUMBUS    OH","OH",797,5708,"Columbus","OH","OHCOLMBS.txt"]
[null,"432","\"Ohio\"","OH","\"Columbus\"",null,10,"Columbus",null,"COLUMBUS    OH","OH",797,5708,"Columbus","OH","OHCOLMBS.txt"]
[null,"433","\"Ohio\"","OH","\"Marion\"",null,8,"Marion",null,"DAYTON    OH","OH",886,5708,"Dayton","OH","OHDAYTON.txt"]
[null,"434","\"Ohio\"","OH","\"Bowling Green\"",null,15,"Bowling Green",null,"TOLEDO    OH","OH",610,6579,"Toledo","OH","OHTOLEDO.txt"]
[null,"435","\"Ohio\"","OH","\"Napoleon\"",null,10,"Napoleon",null,"FORT WAYNE    IN","IN",824,6273,"Fort Wayne","IN","INFTWAYN.txt"]
[null,"436","\"Ohio\"","OH","\"Toledo\"",null,8,"Toledo",null,"TOLEDO    OH","OH",610,6579,"Toledo","OH","OHTOLEDO.txt"]
[null,"437","\"Ohio\"","OH","\"Zanesville\"",null,12,"Zanesville",null,"PITTSBURGH    PA","PA",654,5968,"Pittsburgh","PA","PAPITTSB.txt"]
[null,"438","\"Ohio\"","OH","\"Zanesville\"",null,12,"Zanesville",null,"COLUMBUS    OH","OH",797,5708,"Columbus","OH","OHCOLMBS.txt"]
[null,"439","\"Ohio\"","OH","\"Stuebenville\"",null,14,"Stuebenville",null,"PITTSBURGH    PA","PA",654,5968,"Pittsburgh","PA","PAPITTSB.txt"]
[null,"440","\"Ohio\"","OH","\"Cleveland\"",null,11,"Cleveland",null,"CLEVELAND    OH","OH",621,6201,"Cleveland","OH","OHCLEVEL.txt"]
[null,"441","\"Ohio\"","OH","\"Cleveland\"",null,11,"Cleveland",null,"CLEVELAND    OH","OH",621,6201,"Cleveland","OH","OHCLEVEL.txt"]
[null,"442","\"Ohio\"","OH","\"Akron\"",null,7,"Akron",null,"AKRON    OH","OH",625,6160,"Akron Canton","OH","OHAKRON.txt"]
[null,"443","\"Ohio\"","OH","\"Akron\"",null,7,"Akron",null,"AKRON    OH","OH",625,6160,"Akron Canton","OH","OHAKRON.txt"]
[null,"444","\"Ohio\"","OH","\"Youngstown\"",null,12,"Youngstown",null,"YOUNGSTOWN    OH","OH",497,6544,"Youngstown","OH","OHYOUNGS.txt"]
[null,"445","\"Ohio\"","OH","\"Youngstown\"",null,12,"Youngstown",null,"YOUNGSTOWN    OH","OH",497,6544,"Youngstown","OH","OHYOUNGS.txt"]
[null,"446","\"Ohio\"","OH","\"Canton\"",null,8,"Canton",null,"AKRON    OH","OH",625,6160,"Akron Canton","OH","OHAKRON.txt"]
[null,"447","\"Ohio\"","OH","\"Canton\"",null,8,"Canton",null,"AKRON    OH","OH",625,6160,"Akron Canton","OH","OHAKRON.txt"]
[null,"448","\"Ohio\"","OH","\"Mansfield\"",null,11,"Mansfield",null,"MANSFIELD    OH","OH",666,6258,"Akron Canton","OH","OHAKRON.txt"]
[null,"449","\"Ohio\"","OH","\"Mansfield\"",null,11,"Mansfield",null,"MANSFIELD    OH","OH",666,6258,"Akron Canton","OH","OHAKRON.txt"]
[null,"450","\"Ohio\"","OH","\"Cincinnati\"",null,12,"Cincinnati",null,"GREATER CINCINNATI AP KY","KY",996,5248,"Cincinnati","OH","OHCINCIN.txt"]
[null,"451","\"Ohio\"","OH","\"Cincinnati\"",null,12,"Cincinnati",null,"GREATER CINCINNATI AP KY","KY",996,5248,"Cincinnati","OH","OHCINCIN.txt"]
[null,"452","\"Ohio\"","OH","\"Cincinnati\"",null,12,"Cincinnati",null,"GREATER CINCINNATI AP KY","KY",996,5248,"Cincinnati","OH","OHCINCIN.txt"]
[null,"453","\"Ohio\"","OH","\"Dayton\"",null,8,"Dayton",null,"COLUMBUS    OH","OH",797,5708,"Dayton","OH","OHDAYTON.txt"]
[null,"454","\"Ohio\"","OH","\"Dayton\"",null,8,"Dayton",null,"DAYTON    OH","OH",886,5708,"Dayton","OH","OHDAYTON.txt"]
[null,"455","\"Ohio\"","OH","\"Springfield\"",null,13,"Springfield",null,"DAYTON    OH","OH",886,5708,"Dayton","OH","OHDAYTON.txt"]
[null,"456","\"Ohio\"","OH","\"Chillicothe\"",null,13,"Chillicothe",null,"GREATER CINCINNATI AP KY","KY",996,5248,"Cincinnati","OH","OHCINCIN.txt"]
[null,"457","\"Ohio\"","OH","\"Athens\"",null,8,"Athens",null,"COLUMBUS    OH","OH",797,5708,"Columbus","OH","OHCOLMBS.txt"]
[null,"458","\"Ohio\"","OH","\"Lima\"",null,6,"Lima",null,"DAYTON    OH","OH",886,5708,"Dayton","OH","OHDAYTON.txt"]
[null,"460","\"Indiana\"","IN","\"Indianapolis\"",null,14,"Indianapolis",null,"INDIANAPOLIS    IN","IN",1014,5615,"Indianapolis","IN","ININDIAN.txt"]
[null,"461","\"Indiana\"","IN","\"Indianapolis\"",null,14,"Indianapolis",null,"INDIANAPOLIS    IN","IN",1014,5615,"Indianapolis","IN","ININDIAN.txt"]
[null,"462","\"Indiana\"","IN","\"Indianapolis\"",null,14,"Indianapolis",null,"INDIANAPOLIS    IN","IN",1014,5615,"Indianapolis","IN","ININDIAN.txt"]
[null,"463","\"Indiana\"","IN","\"Gary\"",null,6,"Gary",null,"SOUTH BEND    IN","IN",728,6331,"South Bend","IN","INSOBEND.txt"]
[null,"464","\"Indiana\"","IN","\"Gary\"",null,6,"Gary",null,"CHICAGO    IL","IL",752,6536,"Chicago","IL","ILCHICAG.txt"]
[null,"465","\"Indiana\"","IN","\"South Bend\"",null,12,"South Bend",null,"FORT WAYNE    IN","IN",824,6273,"South Bend","IN","INSOBEND.txt"]
[null,"466","\"Indiana\"","IN","\"South Bend\"",null,12,"South Bend",null,"SOUTH BEND    IN","IN",728,6331,"South Bend","IN","INSOBEND.txt"]
[null,"467","\"Indiana\"","IN","\"Fort Wayne\"",null,12,"Fort Wayne",null,"SOUTH BEND    IN","IN",728,6331,"Fort Wayne","IN","INFTWAYN.txt"]
[null,"468","\"Indiana\"","IN","\"Fort Wayne\"",null,12,"Fort Wayne",null,"FORT WAYNE    IN","IN",824,6273,"Fort Wayne","IN","INFTWAYN.txt"]
[null,"469","\"Indiana\"","IN","\"Kokomo\"",null,8,"Kokomo",null,"SOUTH BEND    IN","IN",728,6331,"South Bend","IN","INSOBEND.txt"]
[null,"470","\"Indiana\"","IN","\"Lawrenceburg\"",null,14,"Lawrenceburg",null,"GREATER CINCINNATI AP KY","KY",996,5248,"Cincinnati","OH","OHCINCIN.txt"]
[null,"471","\"Indiana\"","IN","\"New Albany\"",null,12,"New Albany",null,"LOUISVILLE    KY","KY",1288,4514,"Louisville","KY","KYLOUISV.txt"]
[null,"472","\"Indiana\"","IN","\"Columbus\"",null,10,"Columbus",null,"INDIANAPOLIS    IN","IN",1014,5615,"Indianapolis","IN","ININDIAN.txt"]
[null,"473","\"Indiana\"","IN","\"Muncie\"",null,8,"Muncie",null,"DAYTON    OH","OH",886,5708,"Dayton","OH","OHDAYTON.txt"]
[null,"474","\"Indiana\"","IN","\"Bloomington\"",null,13,"Bloomington",null,"INDIANAPOLIS    IN","IN",1014,5615,"Indianapolis","IN","ININDIAN.txt"]
[null,"475","\"Indiana\"","IN","\"Washington\"",null,12,"Washington",null,"EVANSVILLE    IN","IN",1376,4708,"Evansville","IN","INEVANSV.txt"]
[null,"476","\"Indiana\"","IN","\"Evansville\"",null,12,"Evansville",null,"EVANSVILLE    IN","IN",1376,4708,"Evansville","IN","INEVANSV.txt"]
[null,"477","\"Indiana\"","IN","\"Evansville\"",null,12,"Evansville",null,"EVANSVILLE    IN","IN",1376,4708,"Evansville","IN","INEVANSV.txt"]
[null,"478","\"Indiana\"","IN","\"Terre Haute\"",null,13,"Terre Haute",null,"INDIANAPOLIS    IN","IN",1014,5615,"Indianapolis","IN","ININDIAN.txt"]
[null,"479","\"Indiana\"","IN","\"Lafayette\"",null,11,"Lafayette",null,"SOUTH BEND    IN","IN",728,6331,"South Bend","IN","INSOBEND.txt"]
[null,"480","\"Michigan\"","MI","\"Royal Oak\"",null,11,"Royal Oak",null,"DETROIT    MI","MI",626,6569,"Detroit","MI","MIDETROI.txt"]
[null,"481","\"Michigan\"","MI","\"Ann Arbor\"",null,11,"Ann Arbor",null,"DETROIT    MI","MI",626,6569,"Detroit","MI","MIDETROI.txt"]
[null,"482","\"Michigan\"","MI","\"Detroit\"",null,9,"Detroit",null,"DETROIT    MI","MI",626,6569,"Detroit","MI","MIDETROI.txt"]
[null,"483","\"Michigan\"","MI","\"Detroit\"",null,9,"Detroit",null,"DETROIT    MI","MI",626,6569,"Detroit","MI","MIDETROI.txt"]
[null,"484","\"Michigan\"","MI","\"Flint\"",null,7,"Flint",null,"LANSING    MI","MI",490,7101,"Flint","MI","MIFLINT.txt"]
[null,"485","\"Michigan\"","MI","\"Flint\"",null,{"$f":"LEN(E458)","v":7},{"$f":"MID(E458,2,G458-2)","v":"Flint"},null,"FLINT    MI","MI",483,6979,"Flint","MI","MIFLINT.txt"]
[null,"486","\"Michigan\"","MI","\"Saginaw\"",null,9,"Saginaw",null,"LANSING    MI","MI",490,7101,"Lansing","MI","MILANSIN.txt"]
[null,"487","\"Michigan\"","MI","\"Saginaw\"",null,9,"Saginaw",null,"FLINT    MI","MI",483,6979,"Flint","MI","MIFLINT.txt"]
[null,"488","\"Michigan\"","MI","\"Lansing\"",null,9,"Lansing",null,"FLINT    MI","MI",483,6979,"Lansing","MI","MILANSIN.txt"]
[null,"489","\"Michigan\"","MI","\"Lansing\"",null,9,"Lansing",null,"LANSING    MI","MI",490,7101,"Lansing","MI","MILANSIN.txt"]
[null,"490","\"Michigan\"","MI","\"Kalamazoo\"",null,11,"Kalamazoo",null,"SOUTH BEND    IN","IN",728,6331,"South Bend","IN","INSOBEND.txt"]
[null,"491","\"Michigan\"","MI","\"Kalamazoo\"",null,11,"Kalamazoo",null,"SOUTH BEND    IN","IN",728,6331,"South Bend","IN","INSOBEND.txt"]
[null,"492","\"Michigan\"","MI","\"Jackson\"",null,9,"Jackson",null,"TOLEDO    OH","OH",610,6579,"Toledo","OH","OHTOLEDO.txt"]
[null,"493","\"Michigan\"","MI","\"Grand Rapids\"",null,14,"Grand Rapids",null,"MUSKEGON    MI","MI",431,6924,"Grand Rapids","MI","MIGRNDRA.txt"]
[null,"494","\"Michigan\"","MI","\"Muskegon\"",null,10,"Muskegon",null,"MUSKEGON    MI","MI",431,6924,"Grand Rapids","MI","MIGRNDRA.txt"]
[null,"495","\"Michigan\"","MI","\"Grand Rapids\"",null,14,"Grand Rapids",null,"GRAND RAPIDS    MI","MI",534,6973,"Grand Rapids","MI","MIGRNDRA.txt"]
[null,"496","\"Michigan\"","MI","\"Traverse City\"",null,15,"Traverse City",null,"ALPENA    MI","MI",231,8284,"Sault Ste Marie","MI","MISTEMAR.txt"]
[null,"497","\"Michigan\"","MI","\"Mackinaw City\"",null,15,"Mackinaw City",null,"SAULT STE. MARIE    MI","MI",131,9316,"Sault Ste Marie","MI","MISTEMAR.txt"]
[null,"498","\"Michigan\"","MI","\"Iron Mountain\"",null,15,"Iron Mountain",null,"MARQUETTE    MI","MI",155,9567,"Sault Ste Marie","MI","MISTEMAR.txt"]
[null,"499","\"Michigan\"","MI","\"Houghton\"",null,10,"Houghton",null,"HOUGHTON LAKE    MI","MI",256,8218,"Sault Ste Marie","MI","MISTEMAR.txt"]
[null,"500","\"Iowa\"","IA","\"Des Moines\"",null,12,"Des Moines",null,"DES MOINES    IA","IA",1036,6497,"Des Moines","IA","IADESMOI.txt"]
[null,"501","\"Iowa\"","IA","\"Des Moines\"",null,12,"Des Moines",null,"DES MOINES    IA","IA",1036,6497,"Des Moines","IA","IADESMOI.txt"]
[null,"502","\"Iowa\"","IA","\"Des Moines\"",null,12,"Des Moines",null,"DES MOINES    IA","IA",1036,6497,"Des Moines","IA","IADESMOI.txt"]
[null,"503","\"Iowa\"","IA","\"Des Moines\"",null,12,"Des Moines",null,"DES MOINES    IA","IA",1036,6497,"Des Moines","IA","IADESMOI.txt"]
[null,"504","\"Iowa\"","IA","\"Mason City\"",null,12,"Mason City",null,"WATERLOO    IA","IA",702,7406,"Des Moines","IA","IADESMOI.txt"]
[null,"505","\"Iowa\"","IA","\"Fort Dodge\"",null,12,"Fort Dodge",null,"SIOUX CITY    IA","IA",907,6893,"Sioux City","IA","IASIOCTY.txt"]
[null,"506","\"Iowa\"","IA","\"Waterloo\"",null,10,"Waterloo",null,"WATERLOO    IA","IA",702,7406,"Des Moines","IA","IADESMOI.txt"]
[null,"507","\"Iowa\"","IA","\"Waterloo\"",null,10,"Waterloo",null,"WATERLOO    IA","IA",702,7406,"Des Moines","IA","IADESMOI.txt"]
[null,"508","\"Iowa\"","IA","\"Creston\"",null,9,"Creston",null,"DES MOINES    IA","IA",1036,6497,"Des Moines","IA","IADESMOI.txt"]
[null,"510","\"Iowa\"","IA","\"Sioux City\"",null,12,"Sioux City",null,"SIOUX CITY    IA","IA",907,6893,"Sioux City","IA","IASIOCTY.txt"]
[null,"511","\"Iowa\"","IA","\"Sioux City\"",null,12,"Sioux City",null,"SIOUX CITY    IA","IA",907,6893,"Sioux City","IA","IASIOCTY.txt"]
[null,"512","\"Iowa\"","IA","\"Sheldon\"",null,9,"Sheldon",null,"SIOUX FALLS    SD","SD",744,7809,"Sioux Falls","SD","SDSIOFAL.txt"]
[null,"513","\"Iowa\"","IA","\"Spencer\"",null,9,"Spencer",null,"SIOUX FALLS    SD","SD",744,7809,"Sioux Falls","SD","SDSIOFAL.txt"]
[null,"514","\"Iowa\"","IA","\"Carroll\"",null,9,"Carroll",null,"SIOUX CITY    IA","IA",907,6893,"Sioux City","IA","IASIOCTY.txt"]
[null,"515","\"Iowa\"","IA","\"Council Bluffs\"",null,16,"Council Bluffs",null,"OMAHA (NORTH)    NE","NE",1037,6413,"Omaha","NE","NEOMAHA.txt"]
[null,"516","\"Iowa\"","IA","\"Shenandoah\"",null,12,"Shenandoah",null,"OMAHA (NORTH)    NE","NE",1037,6413,"Omaha","NE","NEOMAHA.txt"]
[null,"520","\"Iowa\"","IA","\"Dubuque\"",null,9,"Dubuque",null,"DUBUQUE    IA","IA",593,7327,"Des Moines","IA","IADESMOI.txt"]
[null,"521","\"Iowa\"","IA","\"Decorah\"",null,9,"Decorah",null,"LA CROSSE    WI","WI",692,7491,"Des Moines","IA","IADESMOI.txt"]
[null,"522","\"Iowa\"","IA","\"Cedar Rapids\"",null,14,"Cedar Rapids",null,"DES MOINES    IA","IA",1036,6497,"Des Moines","IA","IADESMOI.txt"]
[null,"523","\"Iowa\"","IA","\"Cedar Rapids\"",null,14,"Cedar Rapids",null,"DES MOINES    IA","IA",1036,6497,"Des Moines","IA","IADESMOI.txt"]
[null,"524","\"Iowa\"","IA","\"Cedar Rapids\"",null,14,"Cedar Rapids",null,"WATERLOO    IA","IA",702,7406,"Des Moines","IA","IADESMOI.txt"]
[null,"525","\"Iowa\"","IA","\"Ottumwa\"",null,9,"Ottumwa",null,"MOLINE    IL","IL",911,6474,"Des Moines","IA","IADESMOI.txt"]
[null,"526","\"Iowa\"","IA","\"Burlington\"",null,12,"Burlington",null,"MOLINE    IL","IL",911,6474,"Des Moines","IA","IADESMOI.txt"]
[null,"527","\"Iowa\"","IA","\"Davenport\"",null,11,"Davenport",null,"MOLINE    IL","IL",911,6474,"Des Moines","IA","IADESMOI.txt"]
[null,"528","\"Iowa\"","IA","\"Davenport\"",null,11,"Davenport",null,"MOLINE    IL","IL",911,6474,"Des Moines","IA","IADESMOI.txt"]
[null,"530","\"Wisconsin\"","WI","\"Milwaukee\"",null,11,"Milwaukee",null,"MADISON    WI","WI",485,7673,"Milwaukee","WI","WIMILWAU.txt"]
[null,"531","\"Wisconsin\"","WI","\"Milwaukee\"",null,11,"Milwaukee",null,"MADISON    WI","WI",485,7673,"Milwaukee","WI","WIMILWAU.txt"]
[null,"532","\"Wisconsin\"","WI","\"Milwaukee\"",null,11,"Milwaukee",null,"MILWAUKEE    WI","WI",479,7324,"Milwaukee","WI","WIMILWAU.txt"]
[null,"533","\"Wisconsin\"","WI","\"Milwaukee\"",null,11,"Milwaukee",null,"MILWAUKEE    WI","WI",479,7324,"Milwaukee","WI","WIMILWAU.txt"]
[null,"534","\"Wisconsin\"","WI","\"Racine\"",null,8,"Racine",null,"MILWAUKEE    WI","WI",479,7324,"Milwaukee","WI","WIMILWAU.txt"]
[null,"535","\"Wisconsin\"","WI","\"Madison\"",null,9,"Madison",null,"LA CROSSE    WI","WI",692,7491,"Madison","WI","WIMADISO.txt"]
[null,"536","\"Wisconsin\"","WI","\"Madison\"",null,9,"Madison",null,"LA CROSSE    WI","WI",692,7491,"Madison","WI","WIMADISO.txt"]
[null,"537","\"Wisconsin\"","WI","\"Madison\"",null,9,"Madison",null,"MADISON    WI","WI",485,7673,"Madison","WI","WIMADISO.txt"]
[null,"538","\"Wisconsin\"","WI","\"Platteville\"",null,13,"Platteville",null,"WATERLOO    IA","IA",702,7406,"Madison","WI","WIMADISO.txt"]
[null,"539","\"Wisconsin\"","WI","\"Portage\"",null,9,"Portage",null,"MADISON    WI","WI",485,7673,"Madison","WI","WIMADISO.txt"]
[null,"540","\"Wisconsin\"","WI","\"River Falls\"",null,13,"River Falls",null,"MINNEAPOLIS-ST.PAUL    MN","MN",682,7981,"Minneapolis St. Paul","MN","MNMINPLS.txt"]
[null,"541","\"Wisconsin\"","WI","\"Green Bay\"",null,11,"Green Bay",null,"GREEN BAY    WI","WI",381,8089,"Green Bay","WI","WIGREBAY.txt"]
[null,"542","\"Wisconsin\"","WI","\"Green Bay\"",null,11,"Green Bay",null,"GREEN BAY    WI","WI",381,8089,"Green Bay","WI","WIGREBAY.txt"]
[null,"543","\"Wisconsin\"","WI","\"Green Bay\"",null,11,"Green Bay",null,"GREEN BAY    WI","WI",381,8089,"Green Bay","WI","WIGREBAY.txt"]
[null,"544","\"Wisconsin\"","WI","\"Wausau\"",null,8,"Wausau",null,"GREEN BAY    WI","WI",381,8089,"Green Bay","WI","WIGREBAY.txt"]
[null,"545","\"Wisconsin\"","WI","\"Rhinelander\"",null,13,"Rhinelander",null,"HOUGHTON LAKE    MI","MI",256,8218,"Green Bay","WI","WIGREBAY.txt"]
[null,"546","\"Wisconsin\"","WI","\"La Crosse\"",null,11,"La Crosse",null,"MADISON    WI","WI",485,7673,"Madison","WI","WIMADISO.txt"]
[null,"547","\"Wisconsin\"","WI","\"Eau Claire\"",null,12,"Eau Claire",null,"MINNEAPOLIS-ST.PAUL    MN","MN",682,7981,"Minneapolis St. Paul","MN","MNMINPLS.txt"]
[null,"548","\"Wisconsin\"","WI","\"Spooner\"",null,9,"Spooner",null,"SAINT CLOUD    MN","MN",415,8928,"Madison","WI","WIMADISO.txt"]
[null,"549","\"Wisconsin\"","WI","\"Oshkosh\"",null,9,"Oshkosh",null,"LA CROSSE    WI","WI",692,7491,"Madison","WI","WIMADISO.txt"]
[null,"550","\"Minnesota\"","MN","\"Saint Paul\"",null,12,"Saint Paul",null,"MINNEAPOLIS-ST.PAUL    MN","MN",682,7981,"Minneapolis St. Paul","MN","MNMINPLS.txt"]
[null,"551","\"Minnesota\"","MN","\"Saint Paul\"",null,12,"Saint Paul",null,"MINNEAPOLIS-ST.PAUL    MN","MN",682,7981,"Minneapolis St. Paul","MN","MNMINPLS.txt"]
[null,"553","\"Minnesota\"","MN","\"Minneapolis\"",null,13,"Minneapolis",null,"MINNEAPOLIS-ST.PAUL    MN","MN",682,7981,"Minneapolis St. Paul","MN","MNMINPLS.txt"]
[null,"554","\"Minnesota\"","MN","\"Minneapolis\"",null,13,"Minneapolis",null,"MINNEAPOLIS-ST.PAUL    MN","MN",682,7981,"Minneapolis St. Paul","MN","MNMINPLS.txt"]
[null,"556","\"Minnesota\"","MN","\"Duluth\"",null,{"$f":"LEN(E522)","v":8},{"$f":"MID(E522,2,G522-2)","v":"Duluth"},null,"DULUTH    MN","MN",180,9818,"Duluth","MN","MNDULUTH.txt"]
[null,"557","\"Minnesota\"","MN","\"Duluth\"",null,8,"Duluth",null,"DULUTH    MN","MN",180,9818,"Duluth","MN","MNDULUTH.txt"]
[null,"558","\"Minnesota\"","MN","\"Duluth\"",null,8,"Duluth",null,"DULUTH    MN","MN",180,9818,"Duluth","MN","MNDULUTH.txt"]
[null,"559","\"Minnesota\"","MN","\"Rochester\"",null,11,"Rochester",null,"ROCHESTER    MN","MN",472,8250,"Minneapolis St. Paul","MN","MNMINPLS.txt"]
[null,"560","\"Minnesota\"","MN","\"Mankato\"",null,9,"Mankato",null,"ROCHESTER    MN","MN",472,8250,"Minneapolis St. Paul","MN","MNMINPLS.txt"]
[null,"561","\"Minnesota\"","MN","\"Windom\"",null,8,"Windom",null,"SIOUX FALLS    SD","SD",744,7809,"Sioux Falls","SD","SDSIOFAL.txt"]
[null,"562","\"Minnesota\"","MN","\"Willmar\"",null,9,"Willmar",null,"HURON    SD","SD",743,7923,"Minneapolis St. Paul","MN","MNMINPLS.txt"]
[null,"563","\"Minnesota\"","MN","\"Saint Cloud\"",null,13,"Saint Cloud",null,"SAINT CLOUD    MN","MN",415,8928,"Minneapolis St. Paul","MN","MNMINPLS.txt"]
[null,"564","\"Minnesota\"","MN","\"Brainerd\"",null,10,"Brainerd",null,"SAINT CLOUD    MN","MN",415,8928,"Minneapolis St. Paul","MN","MNMINPLS.txt"]
[null,"565","\"Minnesota\"","MN","\"Detroit Lakes\"",null,15,"Detroit Lakes",null,"FARGO    ND","ND",537,9254,"Fargo","ND","NDFARGO.txt"]
[null,"566","\"Minnesota\"","MN","\"Bemidji\"",null,9,"Bemidji",null,"INTERNATIONAL FALLS    MN","MN",249,10487,"Duluth","MN","MNDULUTH.txt"]
[null,"567","\"Minnesota\"","MN","\"Thief River Falls\"",null,19,"Thief River Falls",null,"FARGO    ND","ND",537,9254,"Fargo","ND","NDFARGO.txt"]
[null,"570","\"South_Dakota\"","SD","\"Sioux Falls\"",null,13,"Sioux Falls",null,"SIOUX FALLS    SD","SD",744,7809,"Sioux Falls","SD","SDSIOFAL.txt"]
[null,"571","\"South_Dakota\"","SD","\"Sioux Falls\"",null,13,"Sioux Falls",null,"SIOUX FALLS    SD","SD",744,7809,"Sioux Falls","SD","SDSIOFAL.txt"]
[null,"572","\"South_Dakota\"","SD","\"Watertown\"",null,11,"Watertown",null,"FARGO    ND","ND",537,9254,"Fargo","ND","NDFARGO.txt"]
[null,"573","\"South_Dakota\"","SD","\"Mitchell\"",null,10,"Mitchell",null,"RAPID CITY    SD","SD",611,7301,"Rapid City","SD","SDRAPCTY.txt"]
[null,"574","\"South_Dakota\"","SD","\"Aberdeen\"",null,10,"Aberdeen",null,"ABERDEEN    SD","SD",633,8446,"Fargo","ND","NDFARGO.txt"]
[null,"575","\"South_Dakota\"","SD","\"Pierre\"",null,8,"Pierre",null,"RAPID CITY    SD","SD",611,7301,"Rapid City","SD","SDRAPCTY.txt"]
[null,"576","\"South_Dakota\"","SD","\"Mobridge\"",null,10,"Mobridge",null,"BISMARCK    ND","ND",488,8968,"Bismarck","ND","NDBISMAR.txt"]
[null,"577","\"South_Dakota\"","SD","\"Rapid City\"",null,12,"Rapid City",null,"RAPID CITY    SD","SD",611,7301,"Rapid City","SD","SDRAPCTY.txt"]
[null,"580","\"North_Dakota\"","ND","\"Fargo\"",null,7,"Fargo",null,"FARGO    ND","ND",537,9254,"Fargo","ND","NDFARGO.txt"]
[null,"581","\"North_Dakota\"","ND","\"Fargo\"",null,7,"Fargo",null,"FARGO    ND","ND",537,9254,"Fargo","ND","NDFARGO.txt"]
[null,"582","\"North_Dakota\"","ND","\"Grand Forks\"",null,13,"Grand Forks",null,"FARGO    ND","ND",537,9254,"Fargo","ND","NDFARGO.txt"]
[null,"583","\"North_Dakota\"","ND","\"Devils Lake\"",null,13,"Devils Lake",null,"FARGO    ND","ND",537,9254,"Fargo","ND","NDFARGO.txt"]
[null,"584","\"North_Dakota\"","ND","\"Jamestown\"",null,11,"Jamestown",null,"BISMARCK    ND","ND",488,8968,"Bismarck","ND","NDBISMAR.txt"]
[null,"585","\"North_Dakota\"","ND","\"Bismarck\"",null,10,"Bismarck",null,"BISMARCK    ND","ND",488,8968,"Bismarck","ND","NDBISMAR.txt"]
[null,"586","\"North_Dakota\"","ND","\"Dickinson\"",null,11,"Dickinson",null,"BISMARCK    ND","ND",488,8968,"Bismarck","ND","NDBISMAR.txt"]
[null,"587","\"North_Dakota\"","ND","\"Minot\"",null,7,"Minot",null,"WILLISTON    ND","ND",548,9090,"Bismarck","ND","NDBISMAR.txt"]
[null,"588","\"North_Dakota\"","ND","\"Williston\"",null,11,"Williston",null,"WILLISTON    ND","ND",548,9090,"Bismarck","ND","NDBISMAR.txt"]
[null,"590","\"Montana\"","MT","\"Billings\"",null,10,"Billings",null,"BILLINGS    MT","MT",652,7164,"Billings","MT","MTBILLIN.txt"]
[null,"591","\"Montana\"","MT","\"Billings\"",null,10,"Billings",null,"BILLINGS    MT","MT",652,7164,"Billings","MT","MTBILLIN.txt"]
[null,"592","\"Montana\"","MT","\"Wolf Point\"",null,12,"Wolf Point",null,"GLASGOW    MT","MT",558,8745,"Great Falls","MT","MTGRFALL.txt"]
[null,"593","\"Montana\"","MT","\"Miles City\"",null,12,"Miles City",null,"GLASGOW    MT","MT",558,8745,"Great Falls","MT","MTGRFALL.txt"]
[null,"594","\"Montana\"","MT","\"Great Falls\"",null,13,"Great Falls",null,"GREAT FALLS    MT","MT",388,7741,"Great Falls","MT","MTGRFALL.txt"]
[null,"595","\"Montana\"","MT","\"Havre\"",null,7,"Havre",null,"GREAT FALLS    MT","MT",388,7741,"Great Falls","MT","MTGRFALL.txt"]
[null,"596","\"Montana\"","MT","\"Helena\"",null,8,"Helena",null,"HELENA    MT","MT",386,8031,"Helena","MT","MTHELENA.txt"]
[null,"597","\"Montana\"","MT","\"Butte\"",null,7,"Butte",null,"MISSOULA    MT","MT",280,7792,"Helena","MT","MTHELENA.txt"]
[null,"598","\"Montana\"","MT","\"Missoula\"",null,10,"Missoula",null,"MISSOULA    MT","MT",280,7792,"Helena","MT","MTHELENA.txt"]
[null,"599","\"Montana\"","MT","\"Kalispell\"",null,11,"Kalispell",null,"KALISPELL    MT","MT",149,8378,"Great Falls","MT","MTGRFALL.txt"]
[null,"600","\"Illinois\"","IL","\"North Chicago Sub.\"",null,20,"North Chicago Sub.",null,"ROCKFORD    IL","IL",702,6969,"Rockford","IL","ILROCKFO.txt"]
[null,"601","\"Illinois\"","IL","\"North Chicago Sub.\"",null,20,"North Chicago Sub.",null,"ROCKFORD    IL","IL",702,6969,"Rockford","IL","ILROCKFO.txt"]
[null,"602","\"Illinois\"","IL","\"Evanston\"",null,10,"Evanston",null,"CHICAGO    IL","IL",752,6536,"Chicago","IL","ILCHICAG.txt"]
[null,"603","\"Illinois\"","IL","\"Oak Park\"",null,10,"Oak Park",null,"CHICAGO    IL","IL",752,6536,"Chicago","IL","ILCHICAG.txt"]
[null,"604","\"Illinois\"","IL","\"South Chicago Sub.\"",null,20,"South Chicago Sub.",null,"CHICAGO    IL","IL",752,6536,"Chicago","IL","ILCHICAG.txt"]
[null,"605","\"Illinois\"","IL","\"South Chicago Sub.\"",null,20,"South Chicago Sub.",null,"CHICAGO    IL","IL",752,6536,"Chicago","IL","ILCHICAG.txt"]
[null,"606","\"Illinois\"","IL","\"Chicago\"",null,9,"Chicago",null,"CHICAGO    IL","IL",752,6536,"Chicago","IL","ILCHICAG.txt"]
[null,"607","\"Illinois\"","IL","\"Chicago\"",null,9,"Chicago",null,"CHICAGO    IL","IL",752,6536,"Chicago","IL","ILCHICAG.txt"]
[null,"609","\"Illinois\"","IL","\"Kankakee\"",null,10,"Kankakee",null,"PEORIA    IL","IL",982,6148,"Peoria","IL","ILPEORIA.txt"]
[null,"610","\"Illinois\"","IL","\"Rockford\"",null,10,"Rockford",null,"ROCKFORD    IL","IL",702,6969,"Rockford","IL","ILROCKFO.txt"]
[null,"611","\"Illinois\"","IL","\"Rockford\"",null,10,"Rockford",null,"ROCKFORD    IL","IL",702,6969,"Rockford","IL","ILROCKFO.txt"]
[null,"612","\"Illinois\"","IL","\"Rock Island\"",null,13,"Rock Island",null,"MOLINE    IL","IL",911,6474,"Peoria","IL","ILPEORIA.txt"]
[null,"613","\"Illinois\"","IL","\"La Salle\"",null,10,"La Salle",null,"MOLINE    IL","IL",911,6474,"Peoria","IL","ILPEORIA.txt"]
[null,"614","\"Illinois\"","IL","\"Galesburg\"",null,11,"Galesburg",null,"MOLINE    IL","IL",911,6474,"Peoria","IL","ILPEORIA.txt"]
[null,"615","\"Illinois\"","IL","\"Peoria\"",null,8,"Peoria",null,"PEORIA    IL","IL",982,6148,"Peoria","IL","ILPEORIA.txt"]
[null,"616","\"Illinois\"","IL","\"Peoria\"",null,8,"Peoria",null,"PEORIA    IL","IL",982,6148,"Peoria","IL","ILPEORIA.txt"]
[null,"617","\"Illinois\"","IL","\"Bloomington\"",null,13,"Bloomington",null,"SPRINGFIELD    IL","IL",1141,5688,"Springfield","IL","ILSPRING.txt"]
[null,"618","\"Illinois\"","IL","\"Champaign/Urbana\"",null,18,"Champaign/Urbana",null,"SPRINGFIELD    IL","IL",1141,5688,"Springfield","IL","ILSPRING.txt"]
[null,"619","\"Illinois\"","IL","\"Champaign/Urbana\"",null,18,"Champaign/Urbana",null,"SPRINGFIELD    IL","IL",1141,5688,"Springfield","IL","ILSPRING.txt"]
[null,"620","\"Illinois\"","IL","\"East Saint Louis\"",null,18,"East Saint Louis",null,"ST. LOUIS    MO","MO",1534,4758,"St Louis","MO","MOSTLOUI.txt"]
[null,"622","\"Illinois\"","IL","\"East Saint Louis\"",null,18,"East Saint Louis",null,"ST. LOUIS    MO","MO",1534,4758,"St Louis","MO","MOSTLOUI.txt"]
[null,"623","\"Illinois\"","IL","\"Quincy\"",null,8,"Quincy",null,"SPRINGFIELD    IL","IL",1141,5688,"Springfield","IL","ILSPRING.txt"]
[null,"624","\"Illinois\"","IL","\"Effingham\"",null,11,"Effingham",null,"ST. LOUIS    MO","MO",1534,4758,"St Louis","MO","MOSTLOUI.txt"]
[null,"625","\"Illinois\"","IL","\"Springfield\"",null,13,"Springfield",null,"SPRINGFIELD    IL","IL",1141,5688,"Springfield","IL","ILSPRING.txt"]
[null,"626","\"Illinois\"","IL","\"Springfield\"",null,13,"Springfield",null,"SPRINGFIELD    IL","IL",1141,5688,"Springfield","IL","ILSPRING.txt"]
[null,"627","\"Illinois\"","IL","\"Springfield\"",null,{"$f":"LEN(E586)","v":13},{"$f":"MID(E586,2,G586-2)","v":"Springfield"},null,"SPRINGFIELD    IL","IL",1141,5688,"Springfield","IL","ILSPRING.txt"]
[null,"628","\"Illinois\"","IL","\"Centralia\"",null,11,"Centralia",null,"EVANSVILLE    IN","IN",1376,4708,"Evansville","IN","INEVANSV.txt"]
[null,"629","\"Illinois\"","IL","\"Carbondale\"",null,12,"Carbondale",null,"EVANSVILLE    IN","IN",1376,4708,"Evansville","IN","INEVANSV.txt"]
[null,"630","\"Missouri\"","MO","\"Saint Louis\"",null,13,"Saint Louis",null,"ST. LOUIS    MO","MO",1534,4758,"St Louis","MO","MOSTLOUI.txt"]
[null,"631","\"Missouri\"","MO","\"Saint Louis\"",null,13,"Saint Louis",null,"ST. LOUIS    MO","MO",1534,4758,"St Louis","MO","MOSTLOUI.txt"]
[null,"632","\"Missouri\"","MO","\"Saint Louis\"",null,13,"Saint Louis",null,"ST. LOUIS    MO","MO",1534,4758,"St Louis","MO","MOSTLOUI.txt"]
[null,"633","\"Missouri\"","MO","\"Saint Charles\"",null,15,"Saint Charles",null,"ST. LOUIS    MO","MO",1534,4758,"St Louis","MO","MOSTLOUI.txt"]
[null,"634","\"Missouri\"","MO","\"Hannibal\"",null,10,"Hannibal",null,"COLUMBIA    MO","MO",1189,5212,"St Louis","MO","MOSTLOUI.txt"]
[null,"635","\"Missouri\"","MO","\"Kirksville\"",null,12,"Kirksville",null,"MOLINE    IL","IL",911,6474,"Peoria","IL","ILPEORIA.txt"]
[null,"636","\"Missouri\"","MO","\"Flat River\"",null,12,"Flat River",null,"ST. LOUIS    MO","MO",1534,4758,"St Louis","MO","MOSTLOUI.txt"]
[null,"637","\"Missouri\"","MO","\"Cape Girardeau\"",null,16,"Cape Girardeau",null,"ST. LOUIS    MO","MO",1534,4758,"St Louis","MO","MOSTLOUI.txt"]
[null,"638","\"Missouri\"","MO","\"Sikeston\"",null,10,"Sikeston",null,"EVANSVILLE    IN","IN",1376,4708,"Evansville","IN","INEVANSV.txt"]
[null,"639","\"Missouri\"","MO","\"Poplar Bluff\"",null,14,"Poplar Bluff",null,"SPRINGFIELD    MO","MO",1320,4638,"Springfield","MO","MOSPRING.txt"]
[null,"640","\"Missouri\"","MO","\"Kansas City\"",null,13,"Kansas City",null,"KANSAS CITY    MO","MO",1288,5393,"Kansas City","MO","MOKANCTY.txt"]
[null,"641","\"Missouri\"","MO","\"Kansas City\"",null,13,"Kansas City",null,"KANSAS CITY    MO","MO",1288,5393,"Kansas City","MO","MOKANCTY.txt"]
[null,"644","\"Missouri\"","MO","\"Saint Joseph\"",null,14,"Saint Joseph",null,"TOPEKA    KS","KS",1304,5265,"Topeka","KS","KSTOPEKA.txt"]
[null,"645","\"Missouri\"","MO","\"Saint Joseph\"",null,14,"Saint Joseph",null,"KANSAS CITY    MO","MO",1288,5393,"Kansas City","MO","MOKANCTY.txt"]
[null,"646","\"Missouri\"","MO","\"Chillicothe\"",null,13,"Chillicothe",null,"KANSAS CITY    MO","MO",1288,5393,"Kansas City","MO","MOKANCTY.txt"]
[null,"647","\"Missouri\"","MO","\"Harrisonville\"",null,15,"Harrisonville",null,"SPRINGFIELD    MO","MO",1320,4638,"Springfield","MO","MOSPRING.txt"]
[null,"648","\"Missouri\"","MO","\"Joplin\"",null,8,"Joplin",null,"SPRINGFIELD    MO","MO",1320,4638,"Springfield","MO","MOSPRING.txt"]
[null,"650","\"Missouri\"","MO","\"Jefferson_City\"",null,16,"Jefferson_City",null,"ST. LOUIS    MO","MO",1534,4758,"St Louis","MO","MOSTLOUI.txt"]
[null,"651","\"Missouri\"","MO","\"Jefferson_City\"",null,16,"Jefferson_City",null,"COLUMBIA    MO","MO",1189,5212,"St Louis","MO","MOSTLOUI.txt"]
[null,"652","\"Missouri\"","MO","\"Columbia\"",null,10,"Columbia",null,"COLUMBIA    MO","MO",1189,5212,"St Louis","MO","MOSTLOUI.txt"]
[null,"653","\"Missouri\"","MO","\"Sedalia\"",null,9,"Sedalia",null,"COLUMBIA    MO","MO",1189,5212,"St Louis","MO","MOSTLOUI.txt"]
[null,"654","\"Missouri\"","MO","\"Rolla\"",null,7,"Rolla",null,"SPRINGFIELD    MO","MO",1320,4638,"Springfield","MO","MOSPRING.txt"]
[null,"655","\"Missouri\"","MO","\"Rolla\"",null,7,"Rolla",null,"SPRINGFIELD    MO","MO",1320,4638,"Springfield","MO","MOSPRING.txt"]
[null,"656","\"Missouri\"","MO","\"Springfield\"",null,13,"Springfield",null,"SPRINGFIELD    MO","MO",1320,4638,"Springfield","MO","MOSPRING.txt"]
[null,"657","\"Missouri\"","MO","\"Springfield\"",null,13,"Springfield",null,"SPRINGFIELD    MO","MO",1320,4638,"Springfield","MO","MOSPRING.txt"]
[null,"658","\"Missouri\"","MO","\"Springfield\"",null,13,"Springfield",null,"SPRINGFIELD    MO","MO",1320,4638,"Springfield","MO","MOSPRING.txt"]
[null,"660","\"Kansas\"","KS","\"Kansas City\"",null,13,"Kansas City",null,"TOPEKA    KS","KS",1304,5265,"Kansas City","MO","MOKANCTY.txt"]
[null,"661","\"Kansas\"","KS","\"Kansas City\"",null,13,"Kansas City",null,"KANSAS CITY    MO","MO",1288,5393,"Kansas City","MO","MOKANCTY.txt"]
[null,"662","\"Kansas\"","KS","\"Shawnee/Mission\"",null,17,"Shawnee/Mission",null,"KANSAS CITY    MO","MO",1288,5393,"Kansas City","MO","MOKANCTY.txt"]
[null,"664","\"Kansas\"","KS","\"Topeka\"",null,8,"Topeka",null,"TOPEKA    KS","KS",1304,5265,"Topeka","KS","KSTOPEKA.txt"]
[null,"665","\"Kansas\"","KS","\"Topeka\"",null,8,"Topeka",null,"TOPEKA    KS","KS",1304,5265,"Topeka","KS","KSTOPEKA.txt"]
[null,"666","\"Kansas\"","KS","\"Topeka\"",null,8,"Topeka",null,"TOPEKA    KS","KS",1304,5265,"Topeka","KS","KSTOPEKA.txt"]
[null,"667","\"Kansas\"","KS","\"Fort Scott\"",null,12,"Fort Scott",null,"SPRINGFIELD    MO","MO",1320,4638,"Springfield","MO","MOSPRING.txt"]
[null,"668","\"Kansas\"","KS","\"Emporia\"",null,9,"Emporia",null,"WICHITA    KS","KS",1628,4791,"Wichita","KS","KSWICHIT.txt"]
[null,"669","\"Kansas\"","KS","\"Concordia\"",null,11,"Concordia",null,"CONCORDIA    KS","KS",1317,5574,"Topeka","KS","KSTOPEKA.txt"]
[null,"670","\"Kansas\"","KS","\"Wichita\"",null,9,"Wichita",null,"WICHITA    KS","KS",1628,4791,"Wichita","KS","KSWICHIT.txt"]
[null,"671","\"Kansas\"","KS","\"Wichita\"",null,9,"Wichita",null,"WICHITA    KS","KS",1628,4791,"Wichita","KS","KSWICHIT.txt"]
[null,"672","\"Kansas\"","KS","\"Wichita\"",null,9,"Wichita",null,"WICHITA    KS","KS",1628,4791,"Wichita","KS","KSWICHIT.txt"]
[null,"673","\"Kansas\"","KS","\"Independence\"",null,14,"Independence",null,"SPRINGFIELD    MO","MO",1320,4638,"Springfield","MO","MOSPRING.txt"]
[null,"674","\"Kansas\"","KS","\"Salina\"",null,8,"Salina",null,"TOPEKA    KS","KS",1304,5265,"Topeka","KS","KSTOPEKA.txt"]
[null,"675","\"Kansas\"","KS","\"Hutchinson\"",null,12,"Hutchinson",null,"WICHITA    KS","KS",1628,4791,"Wichita","KS","KSWICHIT.txt"]
[null,"676","\"Kansas\"","KS","\"Hays\"",null,6,"Hays",null,"DODGE CITY    KS","KS",1465,5001,"Wichita","KS","KSWICHIT.txt"]
[null,"677","\"Kansas\"","KS","\"Colby\"",null,7,"Colby",null,"GOODLAND    KS","KS",859,5974,"Goodland","KS","KSGOODLA.txt"]
[null,"678","\"Kansas\"","KS","\"Dodge City\"",null,12,"Dodge City",null,"DODGE CITY    KS","KS",1465,5001,"Wichita","KS","KSWICHIT.txt"]
[null,"679","\"Kansas\"","KS","\"Liberal\"",null,9,"Liberal",null,"DODGE CITY    KS","KS",1465,5001,"Wichita","KS","KSWICHIT.txt"]
[null,"680","\"Nebraska\"","NE","\"Omaha\"",null,7,"Omaha",null,"OMAHA EPPLEY AP    NE","NE",1072,6300,"Omaha","NE","NEOMAHA.txt"]
[null,"681","\"Nebraska\"","NE","\"Omaha\"",null,7,"Omaha",null,"OMAHA EPPLEY AP    NE","NE",1072,6300,"Omaha","NE","NEOMAHA.txt"]
[null,"683","\"Nebraska\"","NE","\"Lincoln\"",null,9,"Lincoln",null,"LINCOLN    NE","NE",1134,6278,"Lincoln","NE","NELINCOL.txt"]
[null,"684","\"Nebraska\"","NE","\"Lincoln\"",null,9,"Lincoln",null,"LINCOLN    NE","NE",1134,6278,"Lincoln","NE","NELINCOL.txt"]
[null,"685","\"Nebraska\"","NE","\"Lincoln\"",null,9,"Lincoln",null,"LINCOLN    NE","NE",1134,6278,"Lincoln","NE","NELINCOL.txt"]
[null,"686","\"Nebraska\"","NE","\"Columbus\"",null,10,"Columbus",null,"GRAND ISLAND    NE","NE",997,6421,"Lincoln","NE","NELINCOL.txt"]
[null,"687","\"Nebraska\"","NE","\"Norfolk\"",null,9,"Norfolk",null,"NORFOLK    NE","NE",877,6873,"Sioux City","IA","IASIOCTY.txt"]
[null,"688","\"Nebraska\"","NE","\"Grand Island\"",null,14,"Grand Island",null,"GRAND ISLAND    NE","NE",997,6421,"Lincoln","NE","NELINCOL.txt"]
[null,"689","\"Nebraska\"","NE","\"Hastings\"",null,10,"Hastings",null,"GRAND ISLAND    NE","NE",997,6421,"Lincoln","NE","NELINCOL.txt"]
[null,"690","\"Nebraska\"","NE","\"McCook\"",null,8,"McCook",null,"GOODLAND    KS","KS",859,5974,"Goodland","KS","KSGOODLA.txt"]
[null,"691","\"Nebraska\"","NE","\"North_Platte\"",null,14,"North_Platte",null,"NORTH PLATTE    NE","NE",713,6859,"North Platte","NE","NENPLATT.txt"]
[null,"692","\"Nebraska\"","NE","\"Valentine\"",null,11,"Valentine",null,"VALENTINE    NE","NE",752,7282,"North Platte","NE","NENPLATT.txt"]
[null,"693","\"Nebraska\"","NE","\"Alliance\"",null,10,"Alliance",null,"RAPID CITY    SD","SD",611,7301,"Rapid City","SD","SDRAPCTY.txt"]
[null,"700","\"Louisiana\"","LA","\"New Orleans\"",null,13,"New Orleans",null,"NEW ORLEANS    LA","LA",2655,1513,"New Orleans","LA","LANEWORL.txt"]
[null,"701","\"Louisiana\"","LA","\"New Orleans\"",null,13,"New Orleans",null,"NEW ORLEANS    LA","LA",2655,1513,"New Orleans","LA","LANEWORL.txt"]
[null,"703","\"Louisiana\"","LA","\"Thibodaux\"",null,11,"Thibodaux",null,"NEW ORLEANS    LA","LA",2655,1513,"New Orleans","LA","LANEWORL.txt"]
[null,"704","\"Louisiana\"","LA","\"Hammond\"",null,{"$f":"LEN(E650)","v":9},{"$f":"MID(E650,2,G650-2)","v":"Hammond"},null,"BATON ROUGE    LA","LA",2690,1669,"Baton Rouge","LA","LABATONR.txt"]
[null,"705","\"Louisiana\"","LA","\"Lafayette\"",null,11,"Lafayette",null,"BATON ROUGE    LA","LA",2690,1669,"Baton Rouge","LA","LABATONR.txt"]
[null,"706","\"Louisiana\"","LA","\"Lake Charles\"",null,14,"Lake Charles",null,"LAKE CHARLES    LA","LA",2650,1616,"Lake Charles","LA","LALAKECH.txt"]
[null,"707","\"Louisiana\"","LA","\"Baton Rouge\"",null,13,"Baton Rouge",null,"BATON ROUGE    LA","LA",2690,1669,"Baton Rouge","LA","LABATONR.txt"]
[null,"708","\"Louisiana\"","LA","\"Baton Rouge\"",null,13,"Baton Rouge",null,"BATON ROUGE    LA","LA",2690,1669,"Baton Rouge","LA","LABATONR.txt"]
[null,"710","\"Louisiana\"","LA","\"Shreveport\"",null,12,"Shreveport",null,"SHREVEPORT    LA","LA",2368,2264,"Shreveport","LA","LASHREVE.txt"]
[null,"711","\"Louisiana\"","LA","\"Shreveport\"",null,12,"Shreveport",null,"SHREVEPORT    LA","LA",2368,2264,"Shreveport","LA","LASHREVE.txt"]
[null,"712","\"Louisiana\"","LA","\"Monroe\"",null,8,"Monroe",null,"JACKSON    MS","MS",2215,2467,"Jackson","MS","MSJACKSO.txt"]
[null,"713","\"Louisiana\"","LA","\"Alexandria\"",null,12,"Alexandria",null,"SHREVEPORT    LA","LA",2368,2264,"Shreveport","LA","LASHREVE.txt"]
[null,"714","\"Louisiana\"","LA","\"Aimwell\"",null,9,"Aimwell",null,"SHREVEPORT    LA","LA",2368,2264,"Shreveport","LA","LASHREVE.txt"]
[null,"716","\"Arkansas\"","AR","\"Pine Bluff\"",null,12,"Pine Bluff",null,"JACKSON    MS","MS",2215,2467,"Jackson","MS","MSJACKSO.txt"]
[null,"717","\"Arkansas\"","AR","\"Camden\"",null,8,"Camden",null,"LITTLE ROCK    AR","AR",2005,3155,"Little Rock","AR","ARLIROCK.txt"]
[null,"718","\"Arkansas\"","AR","\"Hope\"",null,6,"Hope",null,"LITTLE ROCK    AR","AR",2005,3155,"Little Rock","AR","ARLIROCK.txt"]
[null,"719","\"Arkansas\"","AR","\"Hot Springs\"",null,13,"Hot Springs",null,"LITTLE ROCK    AR","AR",2005,3155,"Little Rock","AR","ARLIROCK.txt"]
[null,"720","\"Arkansas\"","AR","\"Little Rock\"",null,13,"Little Rock",null,"LITTLE ROCK    AR","AR",2005,3155,"Little Rock","AR","ARLIROCK.txt"]
[null,"721","\"Arkansas\"","AR","\"Little Rock\"",null,13,"Little Rock",null,"LITTLE ROCK    AR","AR",2005,3155,"Little Rock","AR","ARLIROCK.txt"]
[null,"722","\"Arkansas\"","AR","\"Little Rock\"",null,13,"Little Rock",null,"LITTLE ROCK    AR","AR",2005,3155,"Little Rock","AR","ARLIROCK.txt"]
[null,"723","\"Arkansas\"","AR","\"West Memphis\"",null,14,"West Memphis",null,"NORTH LITTLE ROCK    AR","AR",1916,3228,"Little Rock","AR","ARLIROCK.txt"]
[null,"724","\"Arkansas\"","AR","\"Jonesboro\"",null,11,"Jonesboro",null,"NORTH LITTLE ROCK    AR","AR",1916,3228,"Little Rock","AR","ARLIROCK.txt"]
[null,"725","\"Arkansas\"","AR","\"Batesville\"",null,12,"Batesville",null,"NORTH LITTLE ROCK    AR","AR",1916,3228,"Little Rock","AR","ARLIROCK.txt"]
[null,"726","\"Arkansas\"","AR","\"Harrison\"",null,10,"Harrison",null,"FORT SMITH    AR","AR",1894,3478,"Fort Smith","AR","ARFTSMIT.txt"]
[null,"727","\"Arkansas\"","AR","\"Fayetteville\"",null,14,"Fayetteville",null,"SPRINGFIELD    MO","MO",1320,4638,"Springfield","MO","MOSPRING.txt"]
[null,"728","\"Arkansas\"","AR","\"Russellville\"",null,14,"Russellville",null,"FORT SMITH    AR","AR",1894,3478,"Fort Smith","AR","ARFTSMIT.txt"]
[null,"729","\"Arkansas\"","AR","\"Fort Smith\"",null,12,"Fort Smith",null,"FORT SMITH    AR","AR",1894,3478,"Fort Smith","AR","ARFTSMIT.txt"]
[null,"730","\"Oklahoma\"","OK","\"Oklahoma City\"",null,15,"Oklahoma City",null,"OKLAHOMA CITY    OK","OK",1859,3659,"Oklahoma City","OK","OKOKLCTY.txt"]
[null,"731","\"Oklahoma\"","OK","\"Oklahoma City\"",null,15,"Oklahoma City",null,"OKLAHOMA CITY    OK","OK",1859,3659,"Oklahoma City","OK","OKOKLCTY.txt"]
[null,"734","\"Oklahoma\"","OK","\"Ardmore\"",null,9,"Ardmore",null,"DALLAS-FORT WORTH    TX","TX",2603,2407,"Dallas Ft Worth","TX","TXDALLAS.txt"]
[null,"735","\"Oklahoma\"","OK","\"Lawton\"",null,8,"Lawton",null,"WICHITA FALLS    TX","TX",2340,3042,"Wichita Falls","TX","TXWICHFA.txt"]
[null,"736","\"Oklahoma\"","OK","\"Clinton\"",null,9,"Clinton",null,"OKLAHOMA CITY    OK","OK",1859,3659,"Oklahoma City","OK","OKOKLCTY.txt"]
[null,"737","\"Oklahoma\"","OK","\"Enid\"",null,6,"Enid",null,"OKLAHOMA CITY    OK","OK",1859,3659,"Oklahoma City","OK","OKOKLCTY.txt"]
[null,"738","\"Oklahoma\"","OK","\"Woodward\"",null,10,"Woodward",null,"AMARILLO    TX","TX",1354,4258,"Amarillo","TX","TXAMARIL.txt"]
[null,"739","\"Oklahoma\"","OK","\"Guymon\"",null,8,"Guymon",null,"AMARILLO    TX","TX",1354,4258,"Oklahoma City","OK","OKOKLCTY.txt"]
[null,"740","\"Oklahoma\"","OK","\"Tulsa\"",null,7,"Tulsa",null,"OKLAHOMA CITY    OK","OK",1859,3659,"Tulsa","OK","OKTULSA.txt"]
[null,"741","\"Oklahoma\"","OK","\"Tulsa\"",null,7,"Tulsa",null,"TULSA    OK","OK",2017,3691,"Tulsa","OK","OKTULSA.txt"]
[null,"743","\"Oklahoma\"","OK","\"Vinita\"",null,8,"Vinita",null,"TULSA    OK","OK",2017,3691,"Tulsa","OK","OKTULSA.txt"]
[null,"744","\"Oklahoma\"","OK","\"Muskogee\"",null,10,"Muskogee",null,"FORT SMITH    AR","AR",1894,3478,"Fort Smith","AR","ARFTSMIT.txt"]
[null,"745","\"Oklahoma\"","OK","\"McAlester\"",null,11,"McAlester",null,"FORT SMITH    AR","AR",1894,3478,"Fort Smith","AR","ARFTSMIT.txt"]
[null,"746","\"Oklahoma\"","OK","\"Ponca City\"",null,12,"Ponca City",null,"TULSA    OK","OK",2017,3691,"Tulsa","OK","OKTULSA.txt"]
[null,"747","\"Oklahoma\"","OK","\"Durant\"",null,8,"Durant",null,"DALLAS-FORT WORTH    TX","TX",2603,2407,"Dallas Ft Worth","TX","TXDALLAS.txt"]
[null,"748","\"Oklahoma\"","OK","\"Shawnee\"",null,9,"Shawnee",null,"WICHITA FALLS    TX","TX",2340,3042,"Wichita Falls","TX","TXWICHFA.txt"]
[null,"749","\"Oklahoma\"","OK","\"Poteau\"",null,8,"Poteau",null,"FORT SMITH    AR","AR",1894,3478,"Fort Smith","AR","ARFTSMIT.txt"]
[null,"750","\"Texas\"","TX","\"Dallas\"",null,8,"Dallas",null,"DALLAS-FORT WORTH    TX","TX",2603,2407,"Dallas Ft Worth","TX","TXDALLAS.txt"]
[null,"751","\"Texas\"","TX","\"Dallas\"",null,8,"Dallas",null,"DALLAS-FORT WORTH    TX","TX",2603,2407,"Dallas Ft Worth","TX","TXDALLAS.txt"]
[null,"752","\"Texas\"","TX","\"Dallas\"",null,8,"Dallas",null,"DALLAS-FORT WORTH    TX","TX",2603,2407,"Dallas Ft Worth","TX","TXDALLAS.txt"]
[null,"753","\"Texas\"","TX","\"Dallas\"",null,8,"Dallas",null,"DALLAS-FORT WORTH    TX","TX",2603,2407,"Dallas Ft Worth","TX","TXDALLAS.txt"]
[null,"754","\"Texas\"","TX","\"Greenville\"",null,12,"Greenville",null,"DALLAS-FORT WORTH    TX","TX",2603,2407,"Dallas Ft Worth","TX","TXDALLAS.txt"]
[null,"755","\"Texas\"","TX","\"Texarkana\"",null,11,"Texarkana",null,"SHREVEPORT    LA","LA",2368,2264,"Shreveport","LA","LASHREVE.txt"]
[null,"756","\"Texas\"","TX","\"Longview\"",null,10,"Longview",null,"SHREVEPORT    LA","LA",2368,2264,"Shreveport","LA","LASHREVE.txt"]
[null,"757","\"Texas\"","TX","\"Tyler\"",null,7,"Tyler",null,"DALLAS-FORT WORTH    TX","TX",2603,2407,"Dallas Ft Worth","TX","TXDALLAS.txt"]
[null,"758","\"Texas\"","TX","\"Palestine\"",null,11,"Palestine",null,"WACO    TX","TX",2816,2179,"Waco","TX","TXWACO.txt"]
[null,"759","\"Texas\"","TX","\"Lufkin\"",null,8,"Lufkin",null,"WACO    TX","TX",2816,2179,"Waco","TX","TXWACO.txt"]
[null,"760","\"Texas\"","TX","\"Fort Worth\"",null,12,"Fort Worth",null,"DALLAS-FORT WORTH    TX","TX",2603,2407,"Dallas Ft Worth","TX","TXDALLAS.txt"]
[null,"761","\"Texas\"","TX","\"Fort Worth\"",null,12,"Fort Worth",null,"DALLAS-FORT WORTH    TX","TX",2603,2407,"Dallas Ft Worth","TX","TXDALLAS.txt"]
[null,"762","\"Texas\"","TX","\"Denton\"",null,8,"Denton",null,"DALLAS-FORT WORTH    TX","TX",2603,2407,"Dallas Ft Worth","TX","TXDALLAS.txt"]
[null,"763","\"Texas\"","TX","\"Wichita Falls\"",null,15,"Wichita Falls",null,"WICHITA FALLS    TX","TX",2340,3042,"Wichita Falls","TX","TXWICHFA.txt"]
[null,"764","\"Texas\"","TX","\"Stephenville\"",null,14,"Stephenville",null,"ABILENE    TX","TX",2451,2584,"Abilene","TX","TXABILEN.txt"]
[null,"765","\"Texas\"","TX","\"Temple\"",null,8,"Temple",null,"WACO    TX","TX",2816,2179,"Waco","TX","TXWACO.txt"]
[null,"766","\"Texas\"","TX","\"Waco\"",null,6,"Waco",null,"WACO    TX","TX",2816,2179,"Waco","TX","TXWACO.txt"]
[null,"767","\"Texas\"","TX","\"Waco\"",null,6,"Waco",null,"WACO    TX","TX",2816,2179,"Waco","TX","TXWACO.txt"]
[null,"768","\"Texas\"","TX","\"Brownwood\"",null,11,"Brownwood",null,"ABILENE    TX","TX",2451,2584,"Abilene","TX","TXABILEN.txt"]
[null,"769","\"Texas\"","TX","\"San Angelo\"",null,12,"San Angelo",null,"SAN ANGELO    TX","TX",2400,2414,"San Angelo","TX","TXSANANG.txt"]
[null,"770","\"Texas\"","TX","\"Houston\"",null,9,"Houston",null,"HOUSTON    TX","TX",2700,1599,"Houston","TX","TXHOUSTO.txt"]
[null,"771","\"Texas\"","TX","\"Houston\"",null,9,"Houston",null,"HOUSTON    TX","TX",2700,1599,"Houston","TX","TXHOUSTO.txt"]
[null,"772","\"Texas\"","TX","\"Houston\"",null,9,"Houston",null,"HOUSTON    TX","TX",2700,1599,"Houston","TX","TXHOUSTO.txt"]
[null,"773","\"Texas\"","TX","\"Conroe\"",null,{"$f":"LEN(E714)","v":8},{"$f":"MID(E714,2,G714-2)","v":"Conroe"},null,"HOUSTON    TX","TX",2700,1599,"Houston","TX","TXHOUSTO.txt"]
[null,"774","\"Texas\"","TX","\"Houston\"",null,9,"Houston",null,"HOUSTON    TX","TX",2700,1599,"Houston","TX","TXHOUSTO.txt"]
[null,"775","\"Texas\"","TX","\"Galveston\"",null,11,"Galveston",null,"GALVESTON    TX","TX",2994,1263,"Houston","TX","TXHOUSTO.txt"]
[null,"776","\"Texas\"","TX","\"Beaumont\"",null,10,"Beaumont",null,"PORT ARTHUR    TX","TX",2764,1499,"Houston","TX","TXHOUSTO.txt"]
[null,"777","\"Texas\"","TX","\"Beaumont\"",null,10,"Beaumont",null,"PORT ARTHUR    TX","TX",2764,1499,"Houston","TX","TXHOUSTO.txt"]
[null,"778","\"Texas\"","TX","\"Bryan\"",null,7,"Bryan",null,"AUSTIN    TX","TX",3016,1688,"Austin","TX","TXAUSTIN.txt"]
[null,"779","\"Texas\"","TX","\"Victoria\"",null,10,"Victoria",null,"VICTORIA    TX","TX",3118,1296,"Corpus Christi","TX","TXCORPUS.txt"]
[null,"780","\"Texas\"","TX","\"Laredo/Pearsall\"",null,17,"Laredo/Pearsall",null,"VICTORIA    TX","TX",3118,1296,"San Antonio","TX","TXSANANT.txt"]
[null,"781","\"Texas\"","TX","\"San Antonio\"",null,13,"San Antonio",null,"AUSTIN    TX","TX",3016,1688,"San Antonio","TX","TXSANANT.txt"]
[null,"782","\"Texas\"","TX","\"San Antonio\"",null,13,"San Antonio",null,"SAN ANTONIO    TX","TX",2996,1644,"San Antonio","TX","TXSANANT.txt"]
[null,"783","\"Texas\"","TX","\"Corpus Christi\"",null,16,"Corpus Christi",null,"CORPUS CHRISTI    TX","TX",3439,1016,"Corpus Christi","TX","TXCORPUS.txt"]
[null,"784","\"Texas\"","TX","\"Corpus Christi\"",null,16,"Corpus Christi",null,"CORPUS CHRISTI    TX","TX",3439,1016,"Corpus Christi","TX","TXCORPUS.txt"]
[null,"785","\"Texas\"","TX","\"Brownsville\"",null,13,"Brownsville",null,"BROWNSVILLE    TX","TX",3888,635,"Brownsville","TX","TXBROWNS.txt"]
[null,"786","\"Texas\"","TX","\"Austin\"",null,8,"Austin",null,"SAN ANTONIO    TX","TX",2996,1644,"Austin","TX","TXAUSTIN.txt"]
[null,"787","\"Texas\"","TX","\"Austin\"",null,8,"Austin",null,"AUSTIN    TX","TX",3016,1688,"Austin","TX","TXAUSTIN.txt"]
[null,"788","\"Texas\"","TX","\"Uvalde\"",null,8,"Uvalde",null,"DEL RIO    TX","TX",3142,1506,"San Antonio","TX","TXSANANT.txt"]
[null,"789","\"Texas\"","TX","\"Giddings\"",null,10,"Giddings",null,"AUSTIN    TX","TX",3016,1688,"Austin","TX","TXAUSTIN.txt"]
[null,"790","\"Texas\"","TX","\"Adrian\"",null,8,"Adrian",null,"AMARILLO    TX","TX",1354,4258,"Amarillo","TX","TXAMARIL.txt"]
[null,"791","\"Texas\"","TX","\"Amarillo\"",null,10,"Amarillo",null,"AMARILLO    TX","TX",1354,4258,"Amarillo","TX","TXAMARIL.txt"]
[null,"792","\"Texas\"","TX","\"Childress\"",null,11,"Childress",null,"LUBBOCK    TX","TX",1689,3431,"Lubbock","TX","TXLUBBOC.txt"]
[null,"793","\"Texas\"","TX","\"Lubbock\"",null,9,"Lubbock",null,"LUBBOCK    TX","TX",1689,3431,"Lubbock","TX","TXLUBBOC.txt"]
[null,"794","\"Texas\"","TX","\"Lubbock\"",null,9,"Lubbock",null,"LUBBOCK    TX","TX",1689,3431,"Lubbock","TX","TXLUBBOC.txt"]
[null,"795","\"Texas\"","TX","\"Abilene\"",null,9,"Abilene",null,"ABILENE    TX","TX",2451,2584,"Abilene","TX","TXABILEN.txt"]
[null,"796","\"Texas\"","TX","\"Abilene\"",null,9,"Abilene",null,"ABILENE    TX","TX",2451,2584,"Abilene","TX","TXABILEN.txt"]
[null,"797","\"Texas\"","TX","\"Midland\"",null,9,"Midland",null,"EL PASO    TX","TX",2094,2708,"Midland Odessa","TX","TXMIDLAN.txt"]
[null,"798","\"Texas\"","TX","\"El Paso\"",null,9,"El Paso",null,"MIDLAND-ODESSA    TX","TX",2163,2751,"El Paso","TX","TXELPASO.txt"]
[null,"799","\"Texas\"","TX","\"El Paso\"",null,9,"El Paso",null,"EL PASO    TX","TX",2094,2708,"El Paso","TX","TXELPASO.txt"]
[null,"800","\"Colorado\"","CO","\"Denver\"",null,8,"Denver",null,"DENVER    CO","CO",679,6020,"Denver","CO","CODENVER.txt"]
[null,"801","\"Colorado\"","CO","\"Denver\"",null,8,"Denver",null,"DENVER    CO","CO",679,6020,"Denver","CO","CODENVER.txt"]
[null,"802","\"Colorado\"","CO","\"Denver\"",null,8,"Denver",null,"DENVER    CO","CO",679,6020,"Denver","CO","CODENVER.txt"]
[null,"803","\"Colorado\"","CO","\"Boulder\"",null,9,"Boulder",null,"DENVER    CO","CO",679,6020,"Denver","CO","CODENVER.txt"]
[null,"804","\"Colorado\"","CO","\"Golden/Dillon\"",null,15,"Golden/Dillon",null,"DENVER    CO","CO",679,6020,"Denver","CO","CODENVER.txt"]
[null,"805","\"Colorado\"","CO","\"Longmont\"",null,10,"Longmont",null,"DENVER    CO","CO",679,6020,"Denver","CO","CODENVER.txt"]
[null,"806","\"Colorado\"","CO","\"Greeley\"",null,9,"Greeley",null,"DENVER    CO","CO",679,6020,"Denver","CO","CODENVER.txt"]
[null,"807","\"Colorado\"","CO","\"Fort Morgan\"",null,13,"Fort Morgan",null,"COLORADO SPRINGS    CO","CO",419,6415,"Colorado Springs","CO","COCOSPGS.txt"]
[null,"808","\"Colorado\"","CO","\"Colorado Springs\"",null,18,"Colorado Springs",null,"COLORADO SPRINGS    CO","CO",419,6415,"Colorado Springs","CO","COCOSPGS.txt"]
[null,"809","\"Colorado\"","CO","\"Colorado Springs\"",null,18,"Colorado Springs",null,"COLORADO SPRINGS    CO","CO",419,6415,"Colorado Springs","CO","COCOSPGS.txt"]
[null,"810","\"Colorado\"","CO","\"Pueblo\"",null,8,"Pueblo",null,"PUEBLO    CO","CO",973,5413,"Pueblo","CO","COPUEBLO.txt"]
[null,"811","\"Colorado\"","CO","\"Alamosa\"",null,9,"Alamosa",null,"ALAMOSA    CO","CO",62,8749,"Colorado Springs","CO","COCOSPGS.txt"]
[null,"812","\"Colorado\"","CO","\"Salida\"",null,8,"Salida",null,"ALAMOSA    CO","CO",62,8749,"Pueblo","CO","COPUEBLO.txt"]
[null,"813","\"Colorado\"","CO","\"Durango\"",null,9,"Durango",null,"GRAND JUNCTION    CO","CO",1183,5548,"Grand Junction","CO","COGRNDJU.txt"]
[null,"814","\"Colorado\"","CO","\"Montrose\"",null,10,"Montrose",null,"GRAND JUNCTION    CO","CO",1183,5548,"Grand Junction","CO","COGRNDJU.txt"]
[null,"815","\"Colorado\"","CO","\"Grand Junction\"",null,16,"Grand Junction",null,"GRAND JUNCTION    CO","CO",1183,5548,"Grand Junction","CO","COGRNDJU.txt"]
[null,"816","\"Colorado\"","CO","\"Glenwood Springs\"",null,18,"Glenwood Springs",null,"GRAND JUNCTION    CO","CO",1183,5548,"Grand Junction","CO","COGRNDJU.txt"]
[null,"820","\"Wyoming\"","WY","\"Cheyenne\"",null,10,"Cheyenne",null,"CHEYENNE    WY","WY",285,7326,"Cheyenne","WY","WYCHEYEN.txt"]
[null,"821","\"Wyoming\"","WY","\"Yellowstone Nat Pk\"",null,20,"Yellowstone Nat Pk",null,"HELENA    MT","MT",386,8031,"Helena","MT","MTHELENA.txt"]
[null,"822","\"Wyoming\"","WY","\"Wheatland\"",null,11,"Wheatland",null,"SCOTTSBLUFF    NE","NE",713,6729,"Cheyenne","WY","WYCHEYEN.txt"]
[null,"823","\"Wyoming\"","WY","\"Rawlins\"",null,9,"Rawlins",null,"CHEYENNE    WY","WY",285,7326,"Cheyenne","WY","WYCHEYEN.txt"]
[null,"824","\"Wyoming\"","WY","\"Worland\"",null,9,"Worland",null,"LANDER    WY","WY",479,7889,"Casper","WY","WYCASPER.txt "]
[null,"825","\"Wyoming\"","WY","\"Riverton\"",null,10,"Riverton",null,"LANDER    WY","WY",479,7889,"Casper","WY","WYCASPER.txt "]
[null,"826","\"Wyoming\"","WY","\"Casper\"",null,8,"Casper",null,"SHERIDAN    WY","WY",439,7804,"Casper","WY","WYCASPER.txt "]
[null,"827","\"Wyoming\"","WY","\"Gillette\"",null,10,"Gillette",null,"CASPER    WY","WY",445,7682,"Casper","WY","WYCASPER.txt "]
[null,"828","\"Wyoming\"","WY","\"Sheridan\"",null,10,"Sheridan",null,"SHERIDAN    WY","WY",439,7804,"Casper","WY","WYCASPER.txt "]
[null,"829","\"Wyoming\"","WY","\"Rock Springs\"",null,14,"Rock Springs",null,"LANDER    WY","WY",479,7889,"Casper","WY","WYCASPER.txt "]
[null,"830","\"Wyoming\"","WY","\"Jackson\"",null,9,"Jackson",null,"LANDER    WY","WY",479,7889,"Casper","WY","WYCASPER.txt "]
[null,"831","\"Wyoming\"","WY","\"Kemmerer\"",null,10,"Kemmerer",null,"LANDER    WY","WY",479,7889,"Casper","WY","WYCASPER.txt "]
[null,"832","\"Idaho\"","ID","\"Pocatello\"",null,11,"Pocatello",null,"POCATELLO    ID","ID",421,7180,"Pocatello","ID","IDPOCATE.txt"]
[null,"833","\"Idaho\"","ID","\"Twin Falls\"",null,12,"Twin Falls",null,"POCATELLO    ID","ID",421,7180,"Pocatello","ID","IDPOCATE.txt"]
[null,"834","\"Idaho\"","ID","\"Idaho Falls\"",null,13,"Idaho Falls",null,"POCATELLO    ID","ID",421,7180,"Pocatello","ID","IDPOCATE.txt"]
[null,"835","\"Idaho\"","ID","\"Lewiston\"",null,10,"Lewiston",null,"LEWISTON    ID","ID",814,5270,"Spokane","WA","WASPOKAN.txt"]
[null,"836","\"Idaho\"","ID","\"Boise\"",null,7,"Boise",null,"BOISE    ID","ID",754,5861,"Boise","ID","IDBOISE.txt"]
[null,"837","\"Idaho\"","ID","\"Boise\"",null,7,"Boise",null,"BOISE    ID","ID",754,5861,"Boise","ID","IDBOISE.txt"]
[null,"838","\"Idaho\"","ID","\"Coeur D'Alene\"",null,15,"Coeur D'Alene",null,"SPOKANE    WA","WA",398,6842,"Spokane","WA","WASPOKAN.txt"]
[null,"840","\"Utah\"","UT","\"Salt Lake City/Heber City\"",null,27,"Salt Lake City/Heber City",null,"SALT LAKE CITY    UT","UT",1047,5765,"Salt Lake City","UT","UTSALTLK.txt"]
[null,"841","\"Utah\"","UT","\"Salt Lake City\"",null,{"$f":"LEN(E778)","v":16},{"$f":"MID(E778,2,G778-2)","v":"Salt Lake City"},null,"SALT LAKE CITY    UT","UT",1047,5765,"Salt Lake City","UT","UTSALTLK.txt"]
[null,"843","\"Utah\"","UT","\"Ogden/Logan\"",null,13,"Ogden/Logan",null,"SALT LAKE CITY    UT","UT",1047,5765,"Salt Lake City","UT","UTSALTLK.txt"]
[null,"844","\"Utah\"","UT","\"Ogden\"",null,7,"Ogden",null,"SALT LAKE CITY    UT","UT",1047,5765,"Salt Lake City","UT","UTSALTLK.txt"]
[null,"845","\"Utah\"","UT","\"Southeast Utah/Green River\"",null,28,"Southeast Utah/Green River",null,"GRAND JUNCTION    CO","CO",1183,5548,"Grand Junction","CO","COGRNDJU.txt"]
[null,"846","\"Utah\"","UT","\"Provo\"",null,7,"Provo",null,"SALT LAKE CITY    UT","UT",1047,5765,"Salt Lake City","UT","UTSALTLK.txt"]
[null,"847","\"Utah\"","UT","\"Southwest Utah/Cedar City\"",null,27,"Southwest Utah/Cedar City",null,"MILFORD    UT","UT",647,6511,"Grand Junction","CO","COGRNDJU.txt"]
[null,"850","\"Arizona\"","AZ","\"Phoenix\"",null,9,"Phoenix",null,"PHOENIX    AZ","AZ",4162,1350,"Phoenix","AZ","AZPHOENI.txt"]
[null,"851","\"Arizona\"","AZ","\"Phoenix\"",null,9,"Phoenix",null,"PHOENIX    AZ","AZ",4162,1350,"Phoenix","AZ","AZPHOENI.txt"]
[null,"852","\"Arizona\"","AZ","\"Casa Grande\"",null,13,"Casa Grande",null,"TUCSON    AZ","AZ",2954,1678,"Tucson","AZ","AZTUCSON.txt"]
[null,"853","\"Arizona\"","AZ","\"Buckeye/Yuma\"",null,14,"Buckeye/Yuma",null,"YUMA    AZ","AZ",4305,927,"Yuma","AZ","AZYUMA.txt"]
[null,"855","\"Arizona\"","AZ","\"Globe\"",null,7,"Globe",null,"TUCSON    AZ","AZ",2954,1678,"Tucson","AZ","AZTUCSON.txt"]
[null,"856","\"Arizona\"","AZ","\"Sierra Vista/Nogales\"",null,22,"Sierra Vista/Nogales",null,"TUCSON    AZ","AZ",2954,1678,"Tucson","AZ","AZTUCSON.txt"]
[null,"857","\"Arizona\"","AZ","\"Tucson\"",null,8,"Tucson",null,"TUCSON    AZ","AZ",2954,1678,"Tucson","AZ","AZTUCSON.txt"]
[null,"859","\"Arizona\"","AZ","\"Show Low\"",null,10,"Show Low",null,"ALBUQUERQUE    NM","NM",1244,4425,"Albuquerque","NM","NMALBUQU.txt"]
[null,"860","\"Arizona\"","AZ","\"Flagstaff\"",null,11,"Flagstaff",null,"FLAGSTAFF    AZ","AZ",145,7131,"Flagstaff","AZ","AZFLAGST.txt"]
[null,"863","\"Arizona\"","AZ","\"Prescott\"",null,10,"Prescott",null,"FLAGSTAFF    AZ","AZ",145,7131,"Flagstaff","AZ","AZFLAGST.txt"]
[null,"864","\"Arizona\"","AZ","\"Kingman\"",null,9,"Kingman",null,"LAS VEGAS    NV","NV",3201,2407,"Las Vegas","NV","NVLASVEG.txt"]
[null,"865","\"Arizona\"","AZ","\"Window Rock\"",null,13,"Window Rock",null,"FLAGSTAFF    AZ","AZ",145,7131,"Flagstaff","AZ","AZFLAGST.txt"]
[null,"870","\"New_Mexico\"","NM","\"Bernalillo\"",null,12,"Bernalillo",null,"ALBUQUERQUE    NM","NM",1244,4425,"Albuquerque","NM","NMALBUQU.txt"]
[null,"871","\"New_Mexico\"","NM","\"Albuquerque\"",null,13,"Albuquerque",null,"ALBUQUERQUE    NM","NM",1244,4425,"Albuquerque","NM","NMALBUQU.txt"]
[null,"872","\"New_Mexico\"","NM","\"Albuquerque\"",null,13,"Albuquerque",null,"ALBUQUERQUE    NM","NM",1244,4425,"Albuquerque","NM","NMALBUQU.txt"]
[null,"873","\"New_Mexico\"","NM","\"Gallup\"",null,8,"Gallup",null,"ALBUQUERQUE    NM","NM",1244,4425,"Albuquerque","NM","NMALBUQU.txt"]
[null,"874","\"New_Mexico\"","NM","\"Farmington\"",null,12,"Farmington",null,"GRAND JUNCTION    CO","CO",1183,5548,"Grand Junction","CO","COGRNDJU.txt"]
[null,"875","\"New_Mexico\"","NM","\"Santa Fe\"",null,10,"Santa Fe",null,"ALBUQUERQUE    NM","NM",1244,4425,"Santa Fe","NM","NMSANTAF.txt"]
[null,"877","\"New_Mexico\"","NM","\"Las Vegas\"",null,11,"Las Vegas",null,"PUEBLO    CO","CO",973,5413,"Pueblo","CO","COPUEBLO.txt"]
[null,"878","\"New_Mexico\"","NM","\"Socorro\"",null,9,"Socorro",null,"ALBUQUERQUE    NM","NM",1244,4425,"Albuquerque","NM","NMALBUQU.txt"]
[null,"879","\"New_Mexico\"","NM","\"Truth or Conseq.\"",null,18,"Truth or Conseq.",null,"EL PASO    TX","TX",2094,2708,"El Paso","TX","TXELPASO.txt"]
[null,"880","\"New_Mexico\"","NM","\"Las Cruces\"",null,12,"Las Cruces",null,"EL PASO    TX","TX",2094,2708,"El Paso","TX","TXELPASO.txt"]
[null,"881","\"New_Mexico\"","NM","\"Clovis\"",null,8,"Clovis",null,"CLAYTON    NM","NM",772,5064,"Amarillo","TX","TXAMARIL.txt"]
[null,"882","\"New_Mexico\"","NM","\"Roswell\"",null,9,"Roswell",null,"ROSWELL    NM","NM",1776,3267,"Lubbock","TX","TXLUBBOC.txt"]
[null,"883","\"New_Mexico\"","NM","\"Carrizozo\"",null,11,"Carrizozo",null,"ALBUQUERQUE    NM","NM",1244,4425,"Albuquerque","NM","NMALBUQU.txt"]
[null,"884","\"New_Mexico\"","NM","\"Tucumcari\"",null,11,"Tucumcari",null,"CLAYTON    NM","NM",772,5064,"Amarillo","TX","TXAMARIL.txt"]
[null,"890","\"Nevada\"","NV","\"Tonopah\"",null,9,"Tonopah",null,"MILFORD    UT","UT",647,6511,"Las Vegas","NV","NVLASVEG.txt"]
[null,"891","\"Nevada\"","NV","\"Las Vegas\"",null,11,"Las Vegas",null,"LAS VEGAS    NV","NV",3201,2407,"Las Vegas","NV","NVLASVEG.txt"]
[null,"893","\"Nevada\"","NV","\"Ely\"",null,5,"Ely",null,"ELY    NV","NV",208,7621,"Reno","NV","NVRENO.txt"]
[null,"894","\"Nevada\"","NV","\"Reno\"",null,6,"Reno",null,"RENO    NV","NV",508,5674,"Reno","NV","NVRENO.txt"]
[null,"895","\"Nevada\"","NV","\"Reno\"",null,6,"Reno",null,"RENO    NV","NV",508,5674,"Reno","NV","NVRENO.txt"]
[null,"896","\"Nevada\"","NV","\"Reno\"",null,6,"Reno",null,"RENO    NV","NV",508,5674,"Reno","NV","NVRENO.txt"]
[null,"897","\"Nevada\"","NV","\"Carson City\"",null,13,"Carson City",null,"RENO    NV","NV",508,5674,"Reno","NV","NVRENO.txt"]
[null,"898","\"Nevada\"","NV","\"Elko\"",null,6,"Elko",null,"ELKO    NV","NV",457,7077,"Reno","NV","NVRENO.txt"]
[null,"900","\"California\"","CA","\"Los Angeles\"",null,13,"Los Angeles",null,"LOS ANGELES AP    CA","CA",727,1458,"Los Angeles","CA","CALOSANG.txt"]
[null,"901","\"California\"","CA","\"Los Angeles\"",null,13,"Los Angeles",null,"LOS ANGELES AP    CA","CA",727,1458,"Los Angeles","CA","CALOSANG.txt"]
[null,"902","\"California\"","CA","\"Los Angeles\"",null,13,"Los Angeles",null,"LOS ANGELES AP    CA","CA",727,1458,"Los Angeles","CA","CALOSANG.txt"]
[null,"903","\"California\"","CA","\"Inglewood\"",null,11,"Inglewood",null,"LOS ANGELES AP    CA","CA",727,1458,"Los Angeles","CA","CALOSANG.txt"]
[null,"904","\"California\"","CA","\"Santa Monica\"",null,14,"Santa Monica",null,"LOS ANGELES AP    CA","CA",727,1458,"Los Angeles","CA","CALOSANG.txt"]
[null,"905","\"California\"","CA","\"Torrance\"",null,10,"Torrance",null,"LONG BEACH    CA","CA",1201,1430,"Los Angeles","CA","CALOSANG.txt"]
[null,"906","\"California\"","CA","\"Whittier\"",null,10,"Whittier",null,"LONG BEACH    CA","CA",1201,1430,"Los Angeles","CA","CALOSANG.txt"]
[null,"907","\"California\"","CA","\"San Pedro\"",null,11,"San Pedro",null,"LONG BEACH    CA","CA",1201,1430,"Los Angeles","CA","CALOSANG.txt"]
[null,"908","\"California\"","CA","\"Long Beach\"",null,12,"Long Beach",null,"LONG BEACH    CA","CA",1201,1430,"Los Angeles","CA","CALOSANG.txt"]
[null,"910","\"California\"","CA","\"Pasadena\"",null,10,"Pasadena",null,"LOS ANGELES C.O.    CA","CA",1537,1154,"Los Angeles","CA","CALOSANG.txt"]
[null,"911","\"California\"","CA","\"Pasadena\"",null,10,"Pasadena",null,"LOS ANGELES C.O.    CA","CA",1537,1154,"Los Angeles","CA","CALOSANG.txt"]
[null,"912","\"California\"","CA","\"Glendale\"",null,10,"Glendale",null,"LOS ANGELES C.O.    CA","CA",1537,1154,"Los Angeles","CA","CALOSANG.txt"]
[null,"913","\"California\"","CA","\"Van Nuys\"",null,10,"Van Nuys",null,"BAKERSFIELD    CA","CA",2365,2182,"Los Angeles","CA","CALOSANG.txt"]
[null,"914","\"California\"","CA","\"Van Nuys\"",null,10,"Van Nuys",null,"LOS ANGELES C.O.    CA","CA",1537,1154,"Los Angeles","CA","CALOSANG.txt"]
[null,"915","\"California\"","CA","\"Burbank\"",null,9,"Burbank",null,"LOS ANGELES C.O.    CA","CA",1537,1154,"Los Angeles","CA","CALOSANG.txt"]
[null,"916","\"California\"","CA","\"North Hollywood\"",null,17,"North Hollywood",null,"LOS ANGELES C.O.    CA","CA",1537,1154,"Los Angeles","CA","CALOSANG.txt"]
[null,"917","\"California\"","CA","\"Covina\"",null,8,"Covina",null,"LONG BEACH    CA","CA",1201,1430,"Los Angeles","CA","CALOSANG.txt"]
[null,"918","\"California\"","CA","\"Alhambra\"",null,10,"Alhambra",null,"LOS ANGELES C.O.    CA","CA",1537,1154,"Los Angeles","CA","CALOSANG.txt"]
[null,"919","\"California\"","CA","\"San Diego\"",null,11,"San Diego",null,"SAN DIEGO    CA","CA",984,1256,"San Diego","CA","CASANDIE.txt"]
[null,"920","\"California\"","CA","\"San Diego\"",null,11,"San Diego",null,"LONG BEACH    CA","CA",1201,1430,"San Diego","CA","CASANDIE.txt"]
[null,"921","\"California\"","CA","\"San Diego\"",null,11,"San Diego",null,"SAN DIEGO    CA","CA",984,1256,"San Diego","CA","CASANDIE.txt"]
[null,"922","\"California\"","CA","\"Palm Springs\"",null,14,"Palm Springs",null,"SAN DIEGO    CA","CA",984,1256,"San Diego","CA","CASANDIE.txt"]
[null,"923","\"California\"","CA","\"San Bern./Victorville/Redlands\"",null,32,"San Bern./Victorville/Redlands",null,"LAS VEGAS    NV","NV",3201,2407,"Las Vegas","NV","NVLASVEG.txt"]
[null,"924","\"California\"","CA","\"San Bernardino\"",null,16,"San Bernardino",null,"LOS ANGELES C.O.    CA","CA",1537,1154,"Los Angeles","CA","CALOSANG.txt"]
[null,"925","\"California\"","CA","\"Riverside\"",null,{"$f":"LEN(E842)","v":11},{"$f":"MID(E842,2,G842-2)","v":"Riverside"},null,"LOS ANGELES C.O.    CA","CA",1537,1154,"Los Angeles","CA","CALOSANG.txt"]
[null,"926","\"California\"","CA","\"Santa Ana\"",null,11,"Santa Ana",null,"LONG BEACH    CA","CA",1201,1430,"Los Angeles","CA","CALOSANG.txt"]
[null,"927","\"California\"","CA","\"Santa Ana\"",null,11,"Santa Ana",null,"LONG BEACH    CA","CA",1201,1430,"Los Angeles","CA","CALOSANG.txt"]
[null,"928","\"California\"","CA","\"Anaheim\"",null,9,"Anaheim",null,"LONG BEACH    CA","CA",1201,1430,"Los Angeles","CA","CALOSANG.txt"]
[null,"930","\"California\"","CA","\"Ventura/Oxnard\"",null,16,"Ventura/Oxnard",null,"BAKERSFIELD    CA","CA",2365,2182,"Los Angeles","CA","CALOSANG.txt"]
[null,"931","\"California\"","CA","\"Santa Barbara\"",null,15,"Santa Barbara",null,"SANTA BARBARA    CA","CA",289,2438,"Los Angeles","CA","CALOSANG.txt"]
[null,"932","\"California\"","CA","\"Bakersfield/Visalia\"",null,21,"Bakersfield/Visalia",null,"FRESNO    CA","CA",1967,2556,"Fresno","CA","CAFRESNO.txt"]
[null,"933","\"California\"","CA","\"Bakersfield\"",null,13,"Bakersfield",null,"BAKERSFIELD    CA","CA",2365,2182,"Fresno","CA","CAFRESNO.txt"]
[null,"934","\"California\"","CA","\"San Luis Obispo\"",null,17,"San Luis Obispo",null,"SANTA MARIA    CA","CA",169,2984,"Fresno","CA","CAFRESNO.txt"]
[null,"935","\"California\"","CA","\"Lancaster\"",null,11,"Lancaster",null,"BISHOP    CA","CA",1039,4310,"Reno","NV","NVRENO.txt"]
[null,"936","\"California\"","CA","\"Fresno\"",null,8,"Fresno",null,"FRESNO    CA","CA",1967,2556,"Fresno","CA","CAFRESNO.txt"]
[null,"937","\"California\"","CA","\"Fresno\"",null,8,"Fresno",null,"FRESNO    CA","CA",1967,2556,"Fresno","CA","CAFRESNO.txt"]
[null,"939","\"California\"","CA","\"Monterey\"",null,10,"Monterey",null,"SAN FRANCISCO C.O.    CA","CA",65,3005,"San Francisco","CA","CASANFRA.txt"]
[null,"940","\"California\"","CA","\"So. San Francisco\"",null,19,"So. San Francisco",null,"SAN FRANCISCO C.O.    CA","CA",65,3005,"San Francisco","CA","CASANFRA.txt"]
[null,"941","\"California\"","CA","\"San Francisco\"",null,15,"San Francisco",null,"SAN FRANCISCO C.O.    CA","CA",65,3005,"San Francisco","CA","CASANFRA.txt"]
[null,"942","\"California\"","CA","\"Sacramento/Placerville\"",null,24,"Sacramento/Placerville",null,"SAN FRANCISCO AP    CA","CA",145,3016,"Sacramento","CA","CASACRAM.txt"]
[null,"943","\"California\"","CA","\"Palo Alto\"",null,11,"Palo Alto",null,"SAN FRANCISCO AP    CA","CA",145,3016,"San Jose","CA","CASANJOS.txt"]
[null,"944","\"California\"","CA","\"San Mateo\"",null,11,"San Mateo",null,"SAN FRANCISCO AP    CA","CA",145,3016,"San Jose","CA","CASANJOS.txt"]
[null,"945","\"California\"","CA","\"Concord\"",null,9,"Concord",null,"SACRAMENTO    CA","CA",1237,2749,"Sacramento","CA","CASACRAM.txt"]
[null,"946","\"California\"","CA","\"Oakland\"",null,9,"Oakland",null,"SAN FRANCISCO AP    CA","CA",145,3016,"San Jose","CA","CASANJOS.txt"]
[null,"947","\"California\"","CA","\"Berkeley\"",null,10,"Berkeley",null,"SAN FRANCISCO AP    CA","CA",145,3016,"San Jose","CA","CASANJOS.txt"]
[null,"948","\"California\"","CA","\"Richmond\"",null,10,"Richmond",null,"SAN FRANCISCO AP    CA","CA",145,3016,"San Jose","CA","CASANJOS.txt"]
[null,"949","\"California\"","CA","\"San Rafael\"",null,12,"San Rafael",null,"SAN FRANCISCO AP    CA","CA",145,3016,"San Jose","CA","CASANJOS.txt"]
[null,"950","\"California\"","CA","\"Gilroy\"",null,8,"Gilroy",null,"SAN FRANCISCO AP    CA","CA",145,3016,"San Jose","CA","CASANJOS.txt"]
[null,"951","\"California\"","CA","\"San Jose\"",null,10,"San Jose",null,"SAN FRANCISCO AP    CA","CA",145,3016,"San Jose","CA","CASANJOS.txt"]
[null,"952","\"California\"","CA","\"Stockton\"",null,10,"Stockton",null,"STOCKTON    CA","CA",1470,2707,"Sacramento","CA","CASACRAM.txt"]
[null,"953","\"California\"","CA","\"Merced\"",null,8,"Merced",null,"SACRAMENTO    CA","CA",1237,2749,"Sacramento","CA","CASACRAM.txt"]
[null,"954","\"California\"","CA","\"Santa Rosa\"",null,12,"Santa Rosa",null,"SACRAMENTO    CA","CA",1237,2749,"Sacramento","CA","CASACRAM.txt"]
[null,"955","\"California\"","CA","\"Eureka\"",null,8,"Eureka",null,"EUREKA    CA","CA",725,4496,"Medford","OR","ORMEDFOR.txt"]
[null,"956","\"California\"","CA","\"Sacramento/Placerville\"",null,24,"Sacramento/Placerville",null,"SACRAMENTO    CA","CA",1237,2749,"Sacramento","CA","CASACRAM.txt"]
[null,"957","\"California\"","CA","\"Pollock Pines\"",null,15,"Pollock Pines",null,"RENO    NV","NV",508,5674,"Reno","NV","NVRENO.txt"]
[null,"958","\"California\"","CA","\"Sacramento\"",null,12,"Sacramento",null,"SACRAMENTO    CA","CA",1237,2749,"Sacramento","CA","CASACRAM.txt"]
[null,"959","\"California\"","CA","\"Marysville\"",null,12,"Marysville",null,"SACRAMENTO    CA","CA",1237,2749,"Sacramento","CA","CASACRAM.txt"]
[null,"960","\"California\"","CA","\"Redding\"",null,9,"Redding",null,"REDDING    CA","CA",1797,2855,"Sacramento","CA","CASACRAM.txt"]
[null,"961","\"California\"","CA","\"Susanville\"",null,12,"Susanville",null,"WINNEMUCCA    NV","NV",538,6315,"Sacramento","CA","CASACRAM.txt"]
[null,"967","\"Hawaii\"","HI","\"Honolulu\"",null,10,"Honolulu",null,"HILO    HI","HI",3284,0,"Honolulu","HI","HIHONOLU.txt"]
[null,"968","\"Hawaii\"","HI","\"Honolulu\"",null,10,"Honolulu",null,"HONOLULU    HI","HI",4474,0,"Honolulu","HI","HIHONOLU.txt"]
[null,969,"\"Guam\"","GU","\"Mangilao\"",null,10,"Mangilao",null,"GUAM    PC","PC",5034,0,"Honolulu","HI","HIHONOLU.txt"]
[null,"970","\"Oregon\"","OR","\"Hood River\"",null,12,"Hood River",null,"SALEM    OR","OR",247,4927,"Salem","OR","ORSALEM.txt"]
[null,"971","\"Oregon\"","OR","\"Portland\"",null,10,"Portland",null,"PORTLAND    OR","OR",371,4522,"Portland","OR","ORPORTLA.txt"]
[null,"972","\"Oregon\"","OR","\"Portland\"",null,10,"Portland",null,"PORTLAND    OR","OR",371,4522,"Portland","OR","ORPORTLA.txt"]
[null,"973","\"Oregon\"","OR","\"Salem\"",null,7,"Salem",null,"SALEM    OR","OR",247,4927,"Salem","OR","ORSALEM.txt"]
[null,"974","\"Oregon\"","OR","\"Eugene\"",null,8,"Eugene",null,"EUGENE    OR","OR",300,4546,"Eugene","OR","OREUGENE.txt"]
[null,"975","\"Oregon\"","OR","\"Medford\"",null,9,"Medford",null,"MEDFORD    OR","OR",725,4611,"Medford","OR","ORMEDFOR.txt"]
[null,"976","\"Oregon\"","OR","\"Klamath Falls\"",null,15,"Klamath Falls",null,"MEDFORD    OR","OR",725,4611,"Medford","OR","ORMEDFOR.txt"]
[null,"977","\"Oregon\"","OR","\"Bend\"",null,6,"Bend",null,"BURNS    OR","OR",202,7785,"Yakima","WA","WAYAKIMA.txt"]
[null,"978","\"Oregon\"","OR","\"Pendleton\"",null,11,"Pendleton",null,"PENDLETON    OR","OR",701,5294,"Yakima","WA","WAYAKIMA.txt"]
[null,"979","\"Oregon\"","OR","\"Ontario\"",null,9,"Ontario",null,"BOISE    ID","ID",754,5861,"Boise","ID","IDBOISE.txt"]
[null,"980","\"Washington\"","WA","\"Seattle\"",null,9,"Seattle",null,"SEATTLE C.O.    WA","WA",167,4611,"Seattle","WA","WASEATTL.txt"]
[null,"981","\"Washington\"","WA","\"Seattle\"",null,9,"Seattle",null,"SEATTLE C.O.    WA","WA",167,4611,"Seattle","WA","WASEATTL.txt"]
[null,"982","\"Washington\"","WA","\"Everett\"",null,9,"Everett",null,"QUILLAYUTE    WA","WA",6,5858,"Seattle","WA","WASEATTL.txt"]
[null,"983","\"Washington\"","WA","\"Tacoma\"",null,8,"Tacoma",null,"SEATTLE SEA-TAC AP    WA","WA",190,4908,"Seattle","WA","WASEATTL.txt"]
[null,"984","\"Washington\"","WA","\"Tacoma\"",null,8,"Tacoma",null,"SEATTLE SEA-TAC AP    WA","WA",190,4908,"Seattle","WA","WASEATTL.txt"]
[null,"985","\"Washington\"","WA","\"Olympia\"",null,9,"Olympia",null,"OLYMPIA    WA","WA",101,5655,"Seattle","WA","WASEATTL.txt"]
[null,"986","\"Washington\"","WA","\"Vancouver\"",null,11,"Vancouver",null,"PORTLAND    OR","OR",371,4522,"Portland","OR","ORPORTLA.txt"]
[null,"988","\"Washington\"","WA","\"Wenatchee\"",null,11,"Wenatchee",null,"YAKIMA    WA","WA",458,5967,"Yakima","WA","WAYAKIMA.txt"]
[null,"989","\"Washington\"","WA","\"Yakima\"",null,8,"Yakima",null,"YAKIMA    WA","WA",458,5967,"Yakima","WA","WAYAKIMA.txt"]
[null,"990","\"Washington\"","WA","\"Spokane\"",null,9,"Spokane",null,"SPOKANE    WA","WA",398,6842,"Spokane","WA","WASPOKAN.txt"]
[null,"991","\"Washington\"","WA","\"Spokane\"",null,9,"Spokane",null,"SPOKANE    WA","WA",398,6842,"Spokane","WA","WASPOKAN.txt"]
[null,"992","\"Washington\"","WA","\"Spokane\"",null,9,"Spokane",null,"SPOKANE    WA","WA",398,6842,"Spokane","WA","WASPOKAN.txt"]
[null,"993","\"Washington\"","WA","\"Richland\"",null,10,"Richland",null,"PENDLETON    OR","OR",701,5294,"Yakima","WA","WAYAKIMA.txt"]
[null,"994","\"Washington\"","WA","\"Clarkston\"",null,11,"Clarkston",null,"PENDLETON    OR","OR",701,5294,"Yakima","WA","WAYAKIMA.txt"]
[null,"995","\"Alaska\"","AK","\"Anchorage\"",null,11,"Anchorage",null,"ANCHORAGE    AK","AK",0,10570,"Anchorage","AK","AKANCHOR.txt"]
[null,"996","\"Alaska\"","AK","\"Anchorage\"",null,11,"Anchorage",null,"ANCHORAGE    AK","AK",0,10570,"Anchorage","AK","AKANCHOR.txt"]
[null,"997","\"Alaska\"","AK","\"Fairbanks\"",null,{"$f":"LEN(E906)","v":11},{"$f":"MID(E906,2,G906-2)","v":"Fairbanks"},null,"FAIRBANKS    AK","AK",84,13940,"Fairbanks","AK","AKFAIRBA.txt "]
[null,"998","\"Alaska\"","AK","\"Juneau\"",null,{"$f":"LEN(E907)","v":8},{"$f":"MID(E907,2,G907-2)","v":"Juneau"},null,"JUNEAU    AK","AK",0,8897,"Juneau","AK","AKJUNEAU.txt"]
[null,"999","\"Alaska\"","AK","\"Ketchikan\"",null,{"$f":"LEN(E908)","v":11},{"$f":"MID(E908,2,G908-2)","v":"Ketchikan"},null,"KING SALMON    AK","AK",0,11456,"Juneau","AK","AKJUNEAU.txt"]
[]
[]
[]
[null,"901 Unique Zip Codes",null,null,null,null,null,null,null,"242 Unique Climates",null,null,null,"159 IWIN - NCDC Sites"]

{"sheet":"Operation and Maintenance","index":17,"n_rows":48,"n_cols":9,"rows_kept":48,"cut":false,"hidden":false,"merged":[[14,3,14,4],[15,3,15,4],[16,3,16,4],[17,3,17,4],[9,3,9,4],[10,3,10,4],[11,3,11,4],[12,3,12,4],[13,3,13,4],[46,8,47,8],[24,8,29,8],[31,8,33,8],[34,8,37,8],[38,8,43,8],[44,8,45,8],[2,1,2,6],[3,1,3,6],[6,3,6,4],[7,3,7,4],[8,3,8,4],[5,1,5,8],[6,7,6,8],[7,7,7,8],[8,7,8,8],[18,3,18,4],[19,3,19,4],[20,3,20,4],[21,3,21,4],[22,3,22,4],[9,7,9,8],[10,7,10,8],[11,7,11,8],[12,7,12,8],[13,7,13,8],[14,7,14,8],[15,7,15,8],[21,7,21,8],[22,7,22,8],[16,7,16,8],[17,7,17,8],[18,7,18,8],[19,7,19,8],[20,7,20,8]]}
[]
[null,"Instructions / Definitions / Notes "]
[null,"1. Provide a description of any recommended measures that can be made through improved maintenance and operations. Includes:\n- heating and cooling;\n- appliances;\n- lighting (e.g. missing lamps, automatic controls working correctly);\n- existing maintenance, operating, and janitorial practices, products, and outcomes;\n- water conservation (e.g. leak inspection)\n- recycling and waste management"]
[null,"2. Evaluate if the health related operations and maintenance measures apply to the building."]
[]
[null,"OPERATION AND MAINTENANCE MEASURES"]
[null,"General Recommended O&M Interventions","Intervention Type","Why Do It",null,"Frequency","Impact / Cost","Notes"]
[]
[]
[]
[]
[]
[]
[]
[]
[]
[]
[]
[]
[]
[]
[]
[]
[null,"Health Related O&M Interventions to Evaluate","Intervention Type","Applies to This Building  (Y/N)","Why Do It","Frequency","Impact / Cost","Relevant NYC Code and Resources","Enterprise Green Communities Criteria"]
[null,"Inspect fans, fix and clean vents/ventilation ducts, replace filters. Set regular inspection schedule.\n","Health - Air Quality and Ventilation",null,"Asthma & respiratory risks","Annual, Filters every 6 mos.","High impact, low cost","§[C26-1205.1] 27-745 Occupiable rooms. All occupiable rooms shall be ventilated by natural or mechanical means, or by a combination of both. Natural ventilation may be provided except where  mechanical ventilation is required by article seven or eight of this subchapter.","5.1a Building Performance Standard\n5.3 Sizing of Heating and Cooling Equipment\n6.10 Asthmagen-Free Materials\n7.1 Ventilation\n7.2 Clothes dryer exhaust\n7.3 Combustion Equipment \n"]
[null,"Educate tenants about ways to improve ventilation and about reporting fans that don’t work and windows that don't open.  ","Health - Air Quality and Ventilation",null,"Asthma & respiratory risks ","Lease up & annual ","High Impact, low cost"]
[null,"Educate tenants about identifying and reporting problems with central heating/cooling.","Health - Air Quality and Ventilation",null,"General health; energy efficiency","Lease up & annual ","High Impact, Low cost"]
[null,"Ensure regular cleaning of dryers to improve functionality and to reduce fire hazards.","Health - Air Quality and Ventilation",null,"Respiratory risks & fire hazards","Annual","High Impact, low cost"]
[null,"Ensure proper venting of dryers.","Health - Air Quality and Ventilation",null,"Respiratory risks & moisture control","Annual","Medium Impact, High Cost"]
[null,"Evaluate boiler to ensure proper combustion safety to ensure proper combustion safety and to efficiently manage temperature. ","Health - Air Quality and Ventilation",null,null,null,"Low Impact, Low cost"]
[null,"Prohibit smoking within units and within 20ft of building. Incorporate no smoking provisions in lease. Note","Health - Air Quality and Ventilation",null,"Asthma and cancer risks","One time change","High Impact, Low Cost","https://www1.nyc.gov/site/doh/health/health-topics/smoking-smoke-free-housing.page"]
[null,"Clean mold, eliminate water leaks, clean surfaces and replace surfaces as needed.  Fix drainage as needed. ","Health - Moisture ",null,"Asthma & respiratory risks; moisture control","As needed","High impact, low cost","http://www1.nyc.gov/site/doh/health/health-topics/air-quality-indoor-moisture.page","4.3 Leaks and Water Metering\n6.7a,b Environmentally Preferable Flooring:\n6.8 Mold Prevention: Surfaces\n6.9 Mold Prevention: Tub and Shower Enclosures \n7.5 Vapor Retarder Strategies \n7.7 Mold Prevention: Water Heaters"]
[null,"Educate tenants about importance of and ways to report leaks (running toilets, leaking radiators, dripping faucets, moisture problems, and mold issues in the building.","Health - Moisture ",null,"Asthma & respiratory risks; moisture control","Lease up & annual","High Impact, Low cost"]
[null,"Replace or place entry door weather-stripping and door sweeps. ","Health - Moisture ",null,"Moisture control; energy efficiency",null,"Medium Impact, Low Cost"]
[null,"Seal holes and cracks, including around plumbing and utility openings and foundation. Install door sweeps to prevent pest entry. Use pest resistant materials during  repairs. Accompany pest management professional during each service visit to identify areas in need or repair. Train staff to monitor pest prone places for conditions conducive to pests. Adopt the use of reduced risk pesticides building wide. Review pest proofing tips for building owners, managers and staff in NYC DOHMH IPM Toolkit.","Health - Pests",null,"Asthma risks, pest control","Rehab, unit turnover, annual inspections","High impact, low cost","NYC Integrated Pest Management Tool Kit http://www.nyc.gov/html/doh/downloads/pdf/pesticide/ipm-toolkit.pdf","7.10 Integrated Pest Management "]
[null,"Educate residents on how to minimize food and water sources for pests;  identify and report openings for repair; on the use of reduced risk pesticides (gel bait, bait stations).  Educate management on implementation of  a building-wide Integrated Pest Management (IPM) protocol.","Health - Pests",null,"Asthma risks, pest control","Lease up & annual","High Impact, Low Cost"]
[null,"Adopt an integrated pest management scope of work","Health - Pests",null,"Asthma risks, pest control","Pest contract","High impact, Low Cost","NYCDOHMH Toolkit"]
[null,"Ensure garbage room is properly maintained through maintenance and ensure waste storage capacity meets the needs of the building","Health - Pests",null,"Asthma risks, pest control","6 months","Medium Impact, Low Cost"]
[null,"Institute an off gassing period for units before occupancy after rehabilitation, especially after carpeting, painting, and floor work","Health - Hazardous Materials and Conditions",null,"Respiratory and other health risks","Post rehab","High impact, low cost","NYC Local Law 2 (2012) - VOC Emissions Limits in Carpets and Carpet Cushions: https://www1.nyc.gov/site/doh/health/health-topics/air-quality-vocs-and-carpeting-what-consumers-and-the-public-should-know.page \nand https://www1.nyc.gov/assets/buildings/local_laws/ll2of2012.pdf \n\nFloor Refinishing and Moisture-Cure Urethanes: https://www1.nyc.gov/site/doh/health/health-topics/floor-refinishing.page \n","3.1 Environmental Remediation\n5.4 ENERGY STAR Appliances\n6.1 Low / No VOC Paints, Coatings and Primers\n6.2 Low / No VOC Adhesives and Sealants\n6.6 Composite Woods Products that Emit low/No Formaldehyde\n6.7 Environmentally Preferable Flooring\n6.10 Asthmagen-Free materials\n7.1 Ventilation\n7.3 Combustion Equipment\n7.8 Radon Mitigation \n7.15 Reduce Lead Hazards\n7.16 Smoke-Free Building\n8.3 Resident Manual\n8.4 Resident and Property Staff Orientation\n"]
[null,"Ensure carbon monoxide (CO) detectors are installed pursuant to code. Mitigate sources of CO build-up, i.e. back drafting, unventilated heaters, or other combustion effects. Educate tenants to report if their CO detector is going off.","Health - Hazardous Materials and Conditions",null,"CO poisoning risks","Annual inspection; Lease up","Med-Hi Impact, Low Cost","http://www1.nyc.gov/site/hpd/owners/Smoke-carbon-monoxide-detectors.page"]
[null,"Use green products in cleaning, rehab, repairs, painting.  Use low-/no-volatile organic compounds (VOCs), low/no formaldehyde in cleaning products, paint, sealants, adhesives, building materials.  ","Health - Hazardous Materials and Conditions",null,"Respiratory and other health risks","Ongoing","Medium Impact, Low Cost","http://programs.lisc.org/NYC/Images/Two_Shades_of_Green_-_Green_Cleaning_Toolkit.pdf; \nGreenseal; \nGreenshield; \nEPA Safer Choice; \nEPA Formaldehyde emissions standards for composite wood products: https://www.epa.gov/formaldehyde/formaldehyde-emission-standards-composite-wood-products "]
[null,"Seal and clean ventilation ducts, can be HVAC or maintenance staff","Health - Hazardous Materials and Conditions",null,"Respiratory and other health risks","Rehab, energy projects","Medium Impact, Medium Cost"]
[null,"Use no-VOC and no-formaldehyde paint, adhesives, sealants, cleaners, and products","Health - Hazardous Materials and Conditions",null,null,null,"Medium Impact, Medium Cost","EPA Formaldehyde emissions standards for composite wood products: https://www.epa.gov/formaldehyde/formaldehyde-emission-standards-composite-wood-products "]
[null,"Lead:  In buildings constructed prior to 1978 (or 1960 in NYC), ensure that lead-safe renovation practices are utilized for any repairs that could disturb \nlead-based paint.  Have building maintenance staff trained and certified in EPA Renovation,  Repair and Painting (RRP).  ","Health - Hazardous Materials and Conditions",null,"Neurological damage","Rehab, annually for units occupied by young children",null,"In NYC, Local Law 1 of 2004 (the Lead Paint Law) requires owners to annually inspect units occupied by children under the age of six, to identify and fix lead paint hazards."]
[null,"Ensure indoor and outdoor areas are well lit","Health - Active Design Opportunities to Encourage Physical Activity",null,"Encourage physical activity","Rehab, ongoing","Med-hi impact, low cost",null,"3.4 Landscaping\n5.5 Lighting\n7.12,13 Active Design\n7.14 Interior and Outdoor Activity Spaces for Children and Adults\n8 2.9 Improving Connectivity to the Community\n8.1 Building Operations & Maintenance (O&M) Manual and Plan\n\n"]
[null,"Ensure stairs are attractive option over elevators - located close to the entrance and well-lit (with daylight if possible); stair prompt signage","Health - Active Design Opportunities to Encourage Physical Activity",null,"Encourage physical activity","Ongoing","Low Impact, High Cost","Stair prompt sign: www1.nyc.gov/assets/doh/downloads/pdf/tcny/takethestairs.pdf or call 311 to order signs in English or Spanish  \n\nNYC Active Design Guidelines - http://www1.nyc.gov/assets/doh/downloads/pdf/environmental/active-design-guidelines.pdf \n\nCenter for Active Design Guidelines:\nhttps://centerforactivedesign.org/dl/guidelines.pdf"]
[null,"Install hand held and adjustable shower heads","Health - Fall, Trip, and Fire Hazard",null,"Reduce trip and fall risks","Annual inspection","Medium impact, Low cost",null,"5.5 Lighting                                                        7.11a,b Beyond ADA: Universal Design\n7.12, 13 Active Design \n8.1 Building Operations & Maintenance (O&M) Manual and Plan\n"]
[null,"Install slip-resistant adhesive in dark or contrasting color at the edge of each stair","Health - Fall, Trip, and Fire Hazard",null,"Reduce trip and fall risks","Annual inspection","Medium Impact, Low Cost"]

{"sheet":"Healthy Rehab Interventions ","index":18,"n_rows":49,"n_cols":6,"rows_kept":49,"cut":false,"hidden":false,"merged":[[5,1,5,5],[7,1,7,5],[17,1,17,5],[14,1,14,4],[24,4,31,4],[24,5,31,5],[37,4,41,4],[8,5,16,5],[43,5,48,5],[18,5,22,5],[33,5,34,5],[37,5,41,5],[23,1,23,5],[32,1,32,5],[36,1,36,5],[42,1,42,5]]}
[]
[null,"Instructions / Definitions / Notes "]
[null,"1. The IPNA is intended to be used statewide in NY State. References to NY City (NYC) requirements do not preclude its use outside of NY City."]
[]
[]
[null,"HEALTHY REHAB INTERVENTIONS"]
[null,"Intervention- Rehab","Applies to This Building  (Y/N)","Impact / Potential Cost","Relevant NYC Code and Resources","Enterprise Green Communities Criteria"]
[null,"Air Contaminants or Allergens From Indoor Sources"]
[null,"Vent gas combustion appliances (boilers, hot water heater, stove top)",null,"High Impact, Variable Cost",null,"6.1 & 6.2 Low / No VOC Adhesives and Sealants\n6.7 Environmentally Preferable Flooring\n6.10 Asthmagen-Free Materials\n7.1 Ventilation\n7.2 Clothes dryer exhaust\n7.3 Combustion Equipment \n7.7 Mold Prevention: Water Heaters\n"]
[null,"Remove carpet; make floors smooth and cleanable",null,"Medium Impact, Variable cost"]
[null,"Replace gas stoves with electric",null,"Medium Impact, High Cost"]
[null,"New building materials meet green and health standards (VOC, formaldehyde)",null,"Medium Impact, Low Cost","http://living-future.org/redlist"]
[null,"Repair/replace roof top fans, and seal duct work",null,"Medium Impact, Med-Hi Cost"]
[null,"Install constant airflow regulators w/ continuous exhausts",null,"Medium Impact, Variable cost","Cost decreases with scale"]
[null,"Air Contaminants or Allergens From Outdoor Sources"]
[null,"Install enhanced air filtration in building ventilation/HVAC",null,"High impact, medium cost"]
[null,"Locate exterior intake grilles to minimize intake of contaminants",null,"Medium Impact, Variable Cost"]
[null,"Moisture"]
[null,"Repair leaks, structural issues, water damage, radiator valves, drainage ",null,"High Impact, Variable Cost","NYC Mold Guidelines - http://www1.nyc.gov/assets/doh/downloads/pdf/epi/epi-mold-guidelines.pdf \n\nEPA Mold/Moisture Guide - https://www.epa.gov/sites/production/files/2016-10/documents/moldguide12.pdf","4.3 Leaks and Water Metering\n6.7a,b Environmentally Preferable Flooring:\n6.8 Mold Prevention: Surfaces\n6.9 Mold Prevention: Tub and Shower Enclosures \n7.1 Ventilation\n7.2 Clothes Dryer Exhaust\n7.5 Vapor Retarder Strategies\n7.7 Mold Prevention: Water Heaters"]
[null,"Repair/install ventilation/fans (bathroom, kitchen, dryer)",null,"Medium Impact, Med-Hi Cost"]
[null,"Replace carpet with smooth flooring in wet areas (bath, kitchen); meet Enterprise Green Criteria standards",null,"Medium Impact, Medium Cost"]
[null,"Steam leaks elimination- change radiator valve. ",null,"Medium Impact, Med-Hi Cost"]
[null,"Bath: Minimize moisture hold materials (tub surround, particle board vanity)",null,"Medium Impact, Variable cost","NYC LL13 (2014) - Requires the use of mold-resistant materials in moisture-prone locations: https://www1.nyc.gov/assets/buildings/local_laws/ll13of2014.pdf "]
[null,"Pests"]
[null,"Pest proof exterior doorways. Install door sweeps and pest resistant door brushes to all exterior doors and waste storage areas. Ensure entryway thresholds are sealed properly.",null,"High-impact, Low Cost","NYC DOHMH IPM Toolkit, Pest Prevention By Design Guidelines","7.10 Integrated Pest Management "]
[null,"Prevent pest access from sub-areas into living areas through exclusion and the use of pest resistant materials ",null,"High Impact, Low Cost"]
[null,"Seal all joint penetrations with low VOC caulk.",null,"High Impact, Low cost"]
[null,"Pest proof units and common areas using guidelines presented in the NYC DOHMH IPM Toolkit “Pest Proofing Tips for Owners and Staff”",null,"High impact, medium cost"]
[null,"Properly install all unit fixtures, including kitchen cabinetry, radiators, sinks, and flooring to prevent pest access and harborage into and through units. Provide QA on unit interiors to guarantee pest prevention.",null,"High Impact, Low cost"]
[null,"Seal utility lines entering apartments to prevent pest access into and through units",null,"High Impact, Low cost"]
[null,"Ensure building has enough storage capacity for waste generated by the building and the means to clean waste storage areas. Renovate waste storage areas to improve capacity and improve waste storage sanitation.",null,"High Impact, Medium-Hi Cost"]
[null,"Use durable pest resistant materials for all renovation work.",null,"High Impact, Medium Cost"]
[null,"Hazardous Materials"]
[null,"Hire lead-paint professional to abate or implement lead hazard control measures.  For NYC, see Local Law 1 (2004) for building owner requirements.",null,"High Impact, Med-Hi Cost","http://www1.nyc.gov/site/hpd/owners/Lead-Based-Paint.page","7.15 Reduce Lead Hazards\n\n"]
[null,"Hire asbestos specialists to inspect, test and remove any asbestos in non intact condition or that may be disrupted during other rehab work.",null,"Medium Impact, High Cost","http://www.nyc.gov/html/fdny/pdf/cda/atru_guidance_document_final.pdf"]
[null,"Repair /install carbon monoxide alarms",null,"High Impact, Low Cost per Unit","http://www1.nyc.gov/site/hpd/owners/Smoke-carbon-monoxide-detectors.page"]
[null,"Active Design to Encourage Physical Activity; Healthy Living"]
[null,"Stairways: improve lighting, access, appeal, safety",null,"Medium Impact, Low Cost","NYC Active Design Guidelines - http://www1.nyc.gov/assets/doh/downloads/pdf/environmental/active-design-guidelines.pdf   \nCenter for Active Design Guidelines:\nhttps://centerforactivedesign.org/dl/guidelines.pdf","3.4 Landscaping\n5.5 Lighting\n7.12,13 Active Design\n7.14 Interior and Outdoor Activity Spaces for Children and Adults\n8 2.9 Improving Connectivity to the Community\n8.1 Building Operations & Maintenance (O&M) Manual and Plan\n\n"]
[null,"Create added indoor and exterior play areas, exterior gardens",null,"Medium Impact, Med-Hi Cost"]
[null,"Improve daylighting ",null,"Low impact, Variable Cost"]
[null,"Add vegetation to landscaping plans ",null,"Low impact, low cost"]
[null,"Provide secure, ground-floor parking areas for bicycles",null,"Low impact, low cost"]
[null,"Fall/Trip/Fire Hazard"]
[null,"Install dual stairway handrails; slip resistant stairs ",null,"High impact, medium cost",null,"5.5 Lighting 7.11a,b Beyond ADA: Universal Design\n7.12, 13 Active Design \n8.1 Building Operations & Maintenance (O&M) Manual and Plan\n"]
[null,"Repair faulty wiring",null,"High impact, medium cost"]
[null,"Incorporate age-friendly elements in ground floor units, i.e. accessible walk-in showers with no threshold or compressible rubber threshold; wider doorways; grab bars at tubs, showers and toilets ",null,"High impact, high cost","NYC Aging in Place Guide for Building Owners - http://www.nyc.gov/html/dfta/downloads/pdf/publications/AIPGuide2016.pdf"]
[null,"Ensure light switches are located close to room entrances and outlets are placed at accessible height; occupancy sensor bath light ",null,"Medium impact, low cost"]
[null,"Install reinforcements for potential future grab bar installation in bathroom walls. Grab bars must be securely anchored to wall studs or masonry.",null,"Medium impact, medium cost"]
[null,"Temperature-controlled water faucets",null,"Low impact, low cost"]

{"sheet":"Completeness Check","index":19,"n_rows":15,"n_cols":4,"rows_kept":15,"cut":false,"hidden":false,"merged":[[14,1,14,2],[9,1,9,2],[8,1,8,2],[2,2,2,3],[4,2,4,3],[13,1,13,2],[12,1,12,2],[11,1,11,2],[10,1,10,2],[3,2,3,3]]}
[null,"Completeness Check"]
[null,"Instructions / Definitions / Notes "]
[null,1,"Once all project data has been entered, review the items below to ensure the project meets the specified criteria."]
[null,2,"Comments highlighted in green indicate that the project passes the corresponding check. Yellow highlighted comments require additional review. Red highlighted comments indicate that the project requires revision in order to meet minimum quality control standards."]
[null,3,"All yellow and red highlighted cells should be cleared by the provider by updating the relevant inputs on other tabs of the tool before the project is submitted for review."]
[]
[null,"COMPLETENESS CHECK"]
[]
[null,"Quality Control Check Type",null,"Comment"]
["*\n*\n*","Measure Quantity Check",null,{"$f":"IF(COUNTBLANK('Scope and Prelim. Cost Est.'!$B$26:$B$125)=100,\"\",IF(COUNTIF('Scope and Prelim. Cost Est.'!$F$26:$F$125,\"Yes\")<>COUNTIFS('Scope and Prelim. Cost Est.'!$F$26:$F$125,\"Yes\",'Scope and Prelim. Cost Est.'!$M$26:$M$125,\"<>\"),\"Error - All Energy Efficient measures listed in the Scope and Prelim. Cost Est. tab must have associated quantities entered.\"&\" Please review the 'Qty' column of the Scope and Prelim. Cost Est. tab and ensure quantities are entered for all Energy Efficient measures.\"&\"Missing data is highlighted in orange.\",\"OK - All measure quantities entered.\"))","v":""}]
["*\n*\n*","Measure Unit Check",null,{"$f":"IF(SUMPRODUCT(--(EfficiencyCol=\"Yes\"),((UnitCol=\"\")*(UserUnitCol=\"\")))>=1,\"Error - All Energy Efficient measures listed in the Scope and Prelim. Cost Est. tab must have associated units entered.\"&\" Please review the 'Unit Type' tabs of the Scope and Prelim. Cost Est. tab and ensure units are entered for all Energy Efficent measures.\"&\" Missing data is highlighted in orange.\",\"OK - All measure units entered.\")","v":"OK - All measure units entered."}]
["*\n*\n*","Measure Lives Check",null,{"$f":"IF(SUMPRODUCT(--(EfficiencyCol=\"Yes\"),((MeasureLifeCol=\"\")*(UserMeasureLifeCol=\"\")))>=1,\"Error - All Energy Efficient measures listed in the Scope and Prelim. Cost Est. tab must have an associated measure life. This is automatic for most measures, but must be manually entered for some measure categories. \"&\"Please review the 'Measure Life (years)' columns of the Scope and Prelim. Cost Est. tab and ensure measure lives are entered for all Energy Efficient measures. Missing data is highlighted in orange.\",\"OK - All measure lives entered.\")","v":"OK - All measure lives entered."}]
["*\n*\n*\n*","Baseline Year of Manufacture Check",null,{"$f":"IF(COUNTBLANK('Scope and Prelim. Cost Est.'!$B$26:$B$125)=100,\"\",IF(COUNTIFS('Scope and Prelim. Cost Est.'!$F$26:$F$125,\"Yes\",'Scope and Prelim. Cost Est.'!$AB$26:$AB$125,\"Inc\")<>COUNTIFS('Scope and Prelim. Cost Est.'!$F$26:$F$125,\"Yes\",'Scope and Prelim. Cost Est.'!$AC$26:$AC$125,\"<>\"),\"Error - All measures listed in the Scope and Prelim. Cost Est. tab must have associated baseline equipment year of manufacture for purposes of the TRC test calculation. \"&\"Please review the 'Existing Equipment Year of Manufacture' column in the Scope and Prelim. Cost Est. tab and ensure baseline manufacture years are entered as required. Missing data is highlighted in orange.\",\"OK – Baseline years of manufacture entered as required.\"))","v":""}]
["*\n*\n*\n*\n*","Quality Control Check",null,{"$f":"IF(COUNTBLANK('Scope and Prelim. Cost Est.'!$B$26:$B$125)=100,\"\",IF(COUNTIF('Quality Control'!$AT$22:$AT$121,\"Y\")>0,\"Error - One or more measures exceed the upper limit for site savings. Please review the Scope and Prelim. Cost Est. tab and reduce savings for any measure flagged for exceeding maximum allowable savings.\",IF(OR(COUNTIFS('Quality Control'!$AR$22:$AR$121,\"Y\",'Quality Control'!$L$22:$L$121,\"\")>0,COUNTIFS('Quality Control'!$AS$22:$AS$121,\"Y\",'Quality Control'!$L$22:$L$121,\"\")>0)=TRUE,\"Caution - Please provide responses in all orange-shaded cells on the Quality Control tab.\",\"OK - Responses provided on Quality Control tab.\")))","v":""}]
[null,"Projected Annual Fuel Consumption and Savings",null,{"$f":"IF(ABS(('Energy and Water Use'!$M$33-'Energy and Water Use'!$X$33)-'Project Savings Summary'!$F$26)>=0.001,\"Error - The recorded existing and projected annual energy use in the Energy and Water Use tab are not consistent with the energy savings claimed in the Scope and Prelim. Cost Est. tab.\"&\" Please review existing and projected annual energy use in the Energy and Water Use and Scope and projected annual energy savings in the Prelim. Cost Est. tab.\",\"OK - Existing and projected annual energy use in the Energy and Water Use tab aligns with projected annual fuel savings in the Scope and Prelim. Cost Est. tab\")","v":"OK - Existing and projected annual energy use in the Energy and Water Use tab aligns with projected annual fuel savings in the Scope and Prelim. Cost Est. tab"}]

{"sheet":"Project Savings Summary","index":20,"n_rows":26,"n_cols":18,"rows_kept":26,"cut":false,"hidden":false,"merged":[[20,11,20,13],[21,11,21,12],[22,11,22,12],[23,11,23,12],[24,11,24,12],[25,11,25,12],[7,1,8,1],[14,1,15,1],[20,1,21,1],[9,11,9,12],[10,11,10,12],[11,11,11,12],[12,11,12,12],[13,11,13,12],[14,11,14,12],[15,11,15,12],[7,11,7,16],[8,11,8,12],[16,11,16,12],[21,2,21,3],[15,2,15,3],[2,2,2,9],[21,5,21,6],[8,2,8,3],[14,2,14,9],[7,2,7,9],[20,2,20,9],[8,5,8,6],[15,5,15,6]]}
[]
[null,"Instructions / Definitions / Notes "]
[null,1,"This tab will auto-populate when the Energy and Water Use and Scope and Prelim. Cost Est. tabs have been completed."]
[]
[]
[null,"PROJECT SAVINGS SUMMARY"]
[]
[null,null,"OWNER PAID",null,null,null,null,null,null,null,null,"SUMMARY BY SCOPE AREA"]
[null,null,"Total Annual Consumption (use/yr)",null,"Total Annual Cost ($/yr)","Total Annual Savings",null,"Total Annual Cost Savings ($)","Total Annual Energy Savings %","Total Energy Cost Savings %",null,null,null,"Total Cost ","Projected Annual Electricity Savings\n (kWh/yr)","Project Annual Fuel Savings (MMBtu/yr)","Projected Annual Cost Savings \n($/yr)","Simple Payback"]
[null,"Electric",{"$f":"'Energy and Water Use'!D31","v":0},"kWh/yr",{"$f":"'Energy and Water Use'!D36","v":0},{"$f":"SUMIF('Scope and Prelim. Cost Est.'!$Y$26:$Y$125,\"No\",'Scope and Prelim. Cost Est.'!$Q$26:$Q$125)+SUMIF('Scope and Prelim. Cost Est.'!$Y$26:$Y$125,\"No\",'Scope and Prelim. Cost Est.'!$R$26:$R$125)","v":0},"kWh/yr",{"$f":"F10*'Energy and Water Use'!$E$58","v":0},{"$f":"IFERROR(F10/C10,0)","v":0},{"$f":"IFERROR(H10/E10,0)","v":0},null,"Site Work",null,{"$f":"SUMIF('Scope and Prelim. Cost Est.'!$E$26:$E$125,L10,'Scope and Prelim. Cost Est.'!$P$26:$P$125)","v":0},{"$f":"SUMIF('Scope and Prelim. Cost Est.'!$E$26:$E$125,L10,'Scope and Prelim. Cost Est.'!$Q$26:$Q$125)+SUMIF('Scope and Prelim. Cost Est.'!$E$26:$E$125,L10,'Scope and Prelim. Cost Est.'!$R$26:$R$125)","v":0},{"$f":"SUMIF('Scope and Prelim. Cost Est.'!$E$26:$E$125,L10,'Scope and Prelim. Cost Est.'!$S$26:$S$125)+SUMIF('Scope and Prelim. Cost Est.'!$E$26:$E$125,L10,'Scope and Prelim. Cost Est.'!$T$26:$T$125)","v":0},{"$f":"SUMIF('Scope and Prelim. Cost Est.'!$E$26:$E$125,L10,'Scope and Prelim. Cost Est.'!$V$26:$V$125)","v":0},{"$f":"IFERROR(N10/Q10,0)","v":0}]
[null,"Fuel",{"$f":"SUM('Energy and Water Use'!E31*'Energy and Water Use'!$F$83+'Energy and Water Use'!F31*'Energy and Water Use'!$F$84+'Energy and Water Use'!G31*'Energy and Water Use'!$F$85+'Energy and Water Use'!H31*'Energy and Water Use'!$F$86+'Energy and Water Use'!I31*'Energy and Water Use'!$F$87)","v":0},"MMBtu/yr",{"$f":"SUM('Energy and Water Use'!E36:I36)","v":0},{"$f":"SUMIF('Scope and Prelim. Cost Est.'!$Y$26:$Y$125,\"No\",'Scope and Prelim. Cost Est.'!$S$26:$S$125)+SUMIF('Scope and Prelim. Cost Est.'!$Y$26:$Y$125,\"No\",'Scope and Prelim. Cost Est.'!$T$26:$T$125)","v":0},"MMBtu/yr",{"$f":"SUM(IF(ISERROR(LOOKUP('Scope and Prelim. Cost Est.'!U26:$U$125,'drop down tables'!$G$43:$G$47,'Energy and Water Use'!$E$59:$E$63)*LOOKUP('Scope and Prelim. Cost Est.'!U26:$U$125,'drop down tables'!$G$43:$G$47,'Energy and Water Use'!$F$83:$F$88)*'Scope and Prelim. Cost Est.'!$S$26:$S$125*('Scope and Prelim. Cost Est.'!$Y$26:$Z$125=\"No\")),0,LOOKUP('Scope and Prelim. Cost Est.'!U26:$U$125,'drop down tables'!$G$43:$G$47,'Energy and Water Use'!$E$59:$E$63)/LOOKUP('Scope and Prelim. Cost Est.'!U26:$U$125,'drop down tables'!$G$43:$G$47,'Energy and Water Use'!$F$83:$F$88)*'Scope and Prelim. Cost Est.'!$S$26:$S$125*('Scope and Prelim. Cost Est.'!$Y$26:$Z$125=\"No\")))\n+\nSUM(IF(ISERROR(LOOKUP('Scope and Prelim. Cost Est.'!U26:$U$125,'drop down tables'!$G$43:$G$47,'Energy and Water Use'!$E$59:$E$63)*LOOKUP('Scope and Prelim. Cost Est.'!U26:$U$125,'drop down tables'!$G$43:$G$47,'Energy and Water Use'!$F$83:$F$88)*'Scope and Prelim. Cost Est.'!$T$26:$T$125*('Scope and Prelim. Cost Est.'!$Y$26:$Z$125=\"No\")),0,LOOKUP('Scope and Prelim. Cost Est.'!U26:$U$125,'drop down tables'!$G$43:$G$47,'Energy and Water Use'!$E$59:$E$63)/LOOKUP('Scope and Prelim. Cost Est.'!U26:$U$125,'drop down tables'!$G$43:$G$47,'Energy and Water Use'!$F$83:$F$88)*'Scope and Prelim. Cost Est.'!$T$26:$T$125*('Scope and Prelim. Cost Est.'!$Y$26:$Z$125=\"No\")))","v":0},{"$f":"IFERROR(F11/C11,0)","v":0},{"$f":"IFERROR(H11/E11,0)","v":0},null,"Building Envelope",null,{"$f":"SUMIF('Scope and Prelim. Cost Est.'!$E$26:$E$125,L11,'Scope and Prelim. Cost Est.'!$P$26:$P$125)","v":0},{"$f":"SUMIF('Scope and Prelim. Cost Est.'!$E$26:$E$125,L11,'Scope and Prelim. Cost Est.'!$Q$26:$Q$125)+SUMIF('Scope and Prelim. Cost Est.'!$E$26:$E$125,L11,'Scope and Prelim. Cost Est.'!$R$26:$R$125)","v":0},{"$f":"SUMIF('Scope and Prelim. Cost Est.'!$E$26:$E$125,L11,'Scope and Prelim. Cost Est.'!$S$26:$S$125)+SUMIF('Scope and Prelim. Cost Est.'!$E$26:$E$125,L11,'Scope and Prelim. Cost Est.'!$T$26:$T$125)","v":0},{"$f":"SUMIF('Scope and Prelim. Cost Est.'!$E$26:$E$125,L11,'Scope and Prelim. Cost Est.'!$V$26:$V$125)","v":0},{"$f":"IFERROR(N11/Q11,0)","v":0}]
[null,"Water",{"$f":"'Energy and Water Use'!K31","v":0},"Gal/yr",{"$f":"'Energy and Water Use'!K36","v":0},{"$f":"SUMIF('Scope and Prelim. Cost Est.'!$Y$26:$Y$125,\"no\",'Scope and Prelim. Cost Est.'!$AD$26:$AD$125)","v":0},"Gal/yr",{"$f":"IFERROR(F12*'Energy and Water Use'!$E$65,0)","v":0},0,0,null,"Interior Common Space",null,{"$f":"SUMIF('Scope and Prelim. Cost Est.'!$E$26:$E$125,L12,'Scope and Prelim. Cost Est.'!$P$26:$P$125)","v":0},{"$f":"SUMIF('Scope and Prelim. Cost Est.'!$E$26:$E$125,L12,'Scope and Prelim. Cost Est.'!$Q$26:$Q$125)+SUMIF('Scope and Prelim. Cost Est.'!$E$26:$E$125,L12,'Scope and Prelim. Cost Est.'!$R$26:$R$125)","v":0},{"$f":"SUMIF('Scope and Prelim. Cost Est.'!$E$26:$E$125,L12,'Scope and Prelim. Cost Est.'!$S$26:$S$125)+SUMIF('Scope and Prelim. Cost Est.'!$E$26:$E$125,L12,'Scope and Prelim. Cost Est.'!$T$26:$T$125)","v":0},{"$f":"SUMIF('Scope and Prelim. Cost Est.'!$E$26:$E$125,L12,'Scope and Prelim. Cost Est.'!$V$26:$V$125)","v":0},0]
[null,"TOTAL",{"$f":"'Energy and Water Use'!M31","v":0},"kBtu/yr",{"$f":"SUM(E10:E12)","v":0},{"$f":"F10*'Energy and Water Use'!E82+F11*1000","v":0},"kBtu/yr",{"$f":"SUM(H10:H12)","v":0},{"$f":"IFERROR(F13/C13,0)","v":0},0,null,"Apartments",null,{"$f":"SUMIF('Scope and Prelim. Cost Est.'!$E$26:$E$125,L13,'Scope and Prelim. Cost Est.'!$P$26:$P$125)","v":0},{"$f":"SUMIF('Scope and Prelim. Cost Est.'!$E$26:$E$125,L13,'Scope and Prelim. Cost Est.'!$Q$26:$Q$125)+SUMIF('Scope and Prelim. Cost Est.'!$E$26:$E$125,L13,'Scope and Prelim. Cost Est.'!$R$26:$R$125)","v":0},{"$f":"SUMIF('Scope and Prelim. Cost Est.'!$E$26:$E$125,L13,'Scope and Prelim. Cost Est.'!$S$26:$S$125)+SUMIF('Scope and Prelim. Cost Est.'!$E$26:$E$125,L13,'Scope and Prelim. Cost Est.'!$T$26:$T$125)","v":0},{"$f":"SUMIF('Scope and Prelim. Cost Est.'!$E$26:$E$125,L13,'Scope and Prelim. Cost Est.'!$V$26:$V$125)","v":0},0]
[null,null,null,null,null,null,null,null,null,null,null,"Building Systems",null,{"$f":"SUMIF('Scope and Prelim. Cost Est.'!$E$26:$E$125,L14,'Scope and Prelim. Cost Est.'!$P$26:$P$125)","v":0},{"$f":"SUMIF('Scope and Prelim. Cost Est.'!$E$26:$E$125,L14,'Scope and Prelim. Cost Est.'!$Q$26:$Q$125)+SUMIF('Scope and Prelim. Cost Est.'!$E$26:$E$125,L14,'Scope and Prelim. Cost Est.'!$R$26:$R$125)","v":0},{"$f":"SUMIF('Scope and Prelim. Cost Est.'!$E$26:$E$125,L14,'Scope and Prelim. Cost Est.'!$S$26:$S$125)+SUMIF('Scope and Prelim. Cost Est.'!$E$26:$E$125,L14,'Scope and Prelim. Cost Est.'!$T$26:$T$125)","v":0},{"$f":"SUMIF('Scope and Prelim. Cost Est.'!$E$26:$E$125,L14,'Scope and Prelim. Cost Est.'!$V$26:$V$125)","v":0},0]
[null,null,"TENANT PAID",null,null,null,null,null,null,null,null,"Environmental",null,{"$f":"SUMIF('Scope and Prelim. Cost Est.'!$E$26:$E$125,L15,'Scope and Prelim. Cost Est.'!$P$26:$P$125)","v":0},{"$f":"SUMIF('Scope and Prelim. Cost Est.'!$E$26:$E$125,L15,'Scope and Prelim. Cost Est.'!$Q$26:$Q$125)+SUMIF('Scope and Prelim. Cost Est.'!$E$26:$E$125,L15,'Scope and Prelim. Cost Est.'!$R$26:$R$125)","v":0},{"$f":"SUMIF('Scope and Prelim. Cost Est.'!$E$26:$E$125,L15,'Scope and Prelim. Cost Est.'!$S$26:$S$125)+SUMIF('Scope and Prelim. Cost Est.'!$E$26:$E$125,L15,'Scope and Prelim. Cost Est.'!$T$26:$T$125)","v":0},{"$f":"SUMIF('Scope and Prelim. Cost Est.'!$E$26:$E$125,L15,'Scope and Prelim. Cost Est.'!$V$26:$V$125)","v":0},0]
[null,null,"Total Annual Consumption (use/yr)",null,"Total Annual Cost ($/yr)","Total Annual Savings",null,"Total Annual Cost Savings ($)","Total Annual Energy Savings %","Total Energy Cost Savings %",null,"Special Considerations",null,{"$f":"SUMIF('Scope and Prelim. Cost Est.'!$E$26:$E$125,L16,'Scope and Prelim. Cost Est.'!$P$26:$P$125)","v":0},{"$f":"SUMIF('Scope and Prelim. Cost Est.'!$E$26:$E$125,L16,'Scope and Prelim. Cost Est.'!$Q$26:$Q$125)+SUMIF('Scope and Prelim. Cost Est.'!$E$26:$E$125,L16,'Scope and Prelim. Cost Est.'!$R$26:$R$125)","v":0},{"$f":"SUMIF('Scope and Prelim. Cost Est.'!$E$26:$E$125,L16,'Scope and Prelim. Cost Est.'!$S$26:$S$125)+SUMIF('Scope and Prelim. Cost Est.'!$E$26:$E$125,L16,'Scope and Prelim. Cost Est.'!$T$26:$T$125)","v":0},{"$f":"SUMIF('Scope and Prelim. Cost Est.'!$E$26:$E$125,L16,'Scope and Prelim. Cost Est.'!$V$26:$V$125)","v":0},0]
[null,"Electric",{"$f":"'Energy and Water Use'!D32","v":0},"kWh/yr",{"$f":"'Energy and Water Use'!D37","v":0},{"$f":"SUMIF('Scope and Prelim. Cost Est.'!$Y$26:$Y$125,\"YES\",'Scope and Prelim. Cost Est.'!$Q$26:$Q$125)+SUMIF('Scope and Prelim. Cost Est.'!$Y$26:$Y$125,\"YES\",'Scope and Prelim. Cost Est.'!$R$26:$R$125)","v":0},"kWh/yr",{"$f":"F17*'Energy and Water Use'!$E$58","v":0},{"$f":"IFERROR(F17/C17,0)","v":0},{"$f":"IFERROR(H17/E17,0)","v":0},null,"Health/Pest Management",null,{"$f":"SUMIF('Scope and Prelim. Cost Est.'!$E$26:$E$125,L17,'Scope and Prelim. Cost Est.'!$P$26:$P$125)","v":0},{"$f":"SUMIF('Scope and Prelim. Cost Est.'!$E$26:$E$125,L17,'Scope and Prelim. Cost Est.'!$Q$26:$Q$125)+SUMIF('Scope and Prelim. Cost Est.'!$E$26:$E$125,L17,'Scope and Prelim. Cost Est.'!$R$26:$R$125)","v":0},{"$f":"SUMIF('Scope and Prelim. Cost Est.'!$E$26:$E$125,L17,'Scope and Prelim. Cost Est.'!$S$26:$S$125)+SUMIF('Scope and Prelim. Cost Est.'!$E$26:$E$125,L17,'Scope and Prelim. Cost Est.'!$T$26:$T$125)","v":0},{"$f":"SUMIF('Scope and Prelim. Cost Est.'!$E$26:$E$125,L17,'Scope and Prelim. Cost Est.'!$V$26:$V$125)","v":0},0]
[null,"Fuel",{"$f":"SUM('Energy and Water Use'!E32*'Energy and Water Use'!$F$83+'Energy and Water Use'!F32*'Energy and Water Use'!$F$84+'Energy and Water Use'!G32*'Energy and Water Use'!$F$85+'Energy and Water Use'!H32*'Energy and Water Use'!$F$86+'Energy and Water Use'!I32*'Energy and Water Use'!$F$87)","v":0},"MMBtu/yr",{"$f":"SUM('Energy and Water Use'!E37:I37)","v":0},{"$f":"SUMIF('Scope and Prelim. Cost Est.'!$Y$26:$Y$125,\"YES\",'Scope and Prelim. Cost Est.'!$S$26:$S$125)+SUMIF('Scope and Prelim. Cost Est.'!$Y$26:$Y$125,\"YES\",'Scope and Prelim. Cost Est.'!$T$26:$T$125)","v":0},"MMBtu/yr",{"$f":"SUM(IF(ISERROR(LOOKUP('Scope and Prelim. Cost Est.'!U26:$U$125,'drop down tables'!$G$43:$G$47,'Energy and Water Use'!$E$59:$E$63)*LOOKUP('Scope and Prelim. Cost Est.'!U26:$U$125,'drop down tables'!$G$43:$G$47,'Energy and Water Use'!$F$83:$F$88)*'Scope and Prelim. Cost Est.'!$S$26:$S$125*('Scope and Prelim. Cost Est.'!$Y$26:$Z$125=\"YES\")),0,LOOKUP('Scope and Prelim. Cost Est.'!U26:$U$125,'drop down tables'!$G$43:$G$47,'Energy and Water Use'!$E$59:$E$63)/LOOKUP('Scope and Prelim. Cost Est.'!U26:$U$125,'drop down tables'!$G$43:$G$47,'Energy and Water Use'!$F$83:$F$88)*'Scope and Prelim. Cost Est.'!$S$26:$S$125*('Scope and Prelim. Cost Est.'!$Y$26:$Z$125=\"YES\")))\n+\nSUM(IF(ISERROR(LOOKUP('Scope and Prelim. Cost Est.'!U26:$U$125,'drop down tables'!$G$43:$G$47,'Energy and Water Use'!$E$59:$E$63)*LOOKUP('Scope and Prelim. Cost Est.'!U26:$U$125,'drop down tables'!$G$43:$G$47,'Energy and Water Use'!$F$83:$F$88)*'Scope and Prelim. Cost Est.'!$T$26:$T$125*('Scope and Prelim. Cost Est.'!$Y$26:$Z$125=\"YES\")),0,LOOKUP('Scope and Prelim. Cost Est.'!U26:$U$125,'drop down tables'!$G$43:$G$47,'Energy and Water Use'!$E$59:$E$63)/LOOKUP('Scope and Prelim. Cost Est.'!U26:$U$125,'drop down tables'!$G$43:$G$47,'Energy and Water Use'!$F$83:$F$88)*'Scope and Prelim. Cost Est.'!$T$26:$T$125*('Scope and Prelim. Cost Est.'!$Y$26:$Z$125=\"YES\")))","v":0},{"$f":"IFERROR(F18/C18,0)","v":0},{"$f":"IFERROR(H18/E18,0)","v":0}]
[null,"TOTAL",{"$f":"'Energy and Water Use'!M32","v":0},"kBtu/yr",{"$f":"SUM(E17:E18)","v":0},{"$f":"F17*'Energy and Water Use'!E82+F18*1000","v":0},"kBtu/yr",{"$f":"SUM(H17:H18)","v":0},{"$f":"IFERROR(F19/C19,0)","v":0},{"$f":"IFERROR(H19/E19,0)","v":0}]
[]
[null,null,"PROJECT TOTAL",null,null,null,null,null,null,null,null,"TOTAL COST BY MEASURE TYPE"]
[null,null,"Total Annual Consumption (use/yr)",null,"Total Annual Cost ($/yr)","Total Annual Savings",null,"Total Annual Cost Savings ($)","Total Annual Energy Savings %","Total Energy Cost Savings %",null,"Total Capital Cost",null,{"$f":"SUMIF('Scope and Prelim. Cost Est.'!$J$26:$J$125, \"Capital\",'Scope and Prelim. Cost Est.'!$P$26:$P$125)","v":0}]
[null,"Electric",{"$f":"C10+C17","v":0},"kWh/yr",{"$f":"E10+E17","v":0},{"$f":"F10+F17","v":0},"kWh/yr",{"$f":"H10+H17","v":0},{"$f":"IFERROR(F23/C23,0)","v":0},{"$f":"IFERROR(H23/E23,0)","v":0},null,"Total EEWC Incremental Cost",null,{"$f":"SUMIF('Scope and Prelim. Cost Est.'!$J$26:$J$125, \"EEWC-Incremental\",'Scope and Prelim. Cost Est.'!$P$26:$P$125)","v":0}]
[null,"Fuel",{"$f":"C11+C18","v":0},"MMBtu/yr",{"$f":"E11+E18","v":0},{"$f":"F11+F18","v":0},"MMBtu/yr",{"$f":"H11+H18","v":0},{"$f":"IFERROR(F24/C24,0)","v":0},{"$f":"IFERROR(H24/E24,0)","v":0},null,"Total EEWC-Only Cost",null,{"$f":"SUMIF('Scope and Prelim. Cost Est.'!$J$26:$J$125, \"EEWC-Only\",'Scope and Prelim. Cost Est.'!$P$26:$P$125)","v":0}]
[null,"Water",{"$f":"C12","v":0},"Gal/yr",{"$f":"E12","v":0},{"$f":"F12","v":0},"Gal/yr",{"$f":"H12","v":0},{"$f":"IFERROR(F25/C25,0)","v":0},{"$f":"IFERROR(H25/E25,0)","v":0},null,"Total Health Cost",null,{"$f":"SUMIF('Scope and Prelim. Cost Est.'!$J$26:$J$125, \"Health\",'Scope and Prelim. Cost Est.'!$P$26:$P$125)","v":0}]
[null,"TOTAL",{"$f":"'Energy and Water Use'!M33","v":0},"kBtu/yr",{"$f":"SUM(E23:E25)","v":0},{"$f":"F23*'Energy and Water Use'!E82+F24*1000","v":0},"kBtu/yr",{"$f":"SUM(H23:H25)","v":0},{"$f":"IFERROR(F26/C26,0)","v":0},{"$f":"IFERROR(H26/E26,0)","v":0},null,"TOTAL COST",null,{"$f":"SUM(N21:N25)","v":0}]

{"sheet":"Photos","index":21,"n_rows":6,"n_cols":3,"rows_kept":6,"cut":false,"hidden":false,"merged":[[2,2,2,10],[4,2,4,10],[5,2,5,10]]}
[]
[null,"Instructions / Definitions / Notes"]
[null,1,"This tab is a reminder to include photos with the final IPNA Report."]
[null,2,"Use photos to document typical conditions present on site, with a focus on physical deficiencies."]
[null,3,"Include front and typical elevations and exteriors, site work, parking areas, roofing, structural systems, plumbing, HVAC and electrical systems, conveyance systems, life safety systems, representative interiors, and any special or unusual conditions present (per ASTM E2018)."]
[null,4,"Be sure to label each photo to clearly indicate the location of the photo, what is shown, and any deficiencies identified."]

{"sheet":"External Calcs - Optional","index":22,"n_rows":3,"n_cols":2,"rows_kept":3,"cut":false,"hidden":false,"merged":[]}
[]
[null,"Instructions / Definitions / Notes"]
[null,"Please include any necessary external calculations in this tab. "]

{"sheet":"Health Questionnaire - Optional","index":23,"n_rows":100,"n_cols":3,"rows_kept":100,"cut":false,"hidden":false,"merged":[[96,1,96,2],[7,1,7,2],[15,1,15,2],[19,1,19,2],[28,1,28,2],[36,1,36,2],[40,1,40,2],[46,1,46,2],[52,1,52,2],[64,1,64,2],[82,1,82,2],[91,1,91,2]]}
[]
[null,"Instructions = Definitions = Notes "]
[null,"1. This section is optional and is provided for background purposes."]
[]
[null,"HEALTH QUESTIONNAIRE"]
[]
[null,"Common Areas  (Interior Focus, Some exterior)","Notes"]
[null,"Air Quality:  Air Contaminants of Allergens from Indoor Sources"]
[null,"Adequate functional mechanical ventilation in laundry?"]
[null,"Are dryers vented properly to the outside?"]
[null,"Exhaust or central fans function properly? "]
[null,"Combustion equipment properly vented to outside?"]
[null,"HVAC filtration maintained and sufficient?"]
[null,"Carpet in wet or heavy use areas?"]
[]
[null,"Air Quality:  Air Contaminants of Allergens from Exterior Sources"]
[null,"Exterior fans, vents working and not near air pollution sources (heavy traffic, combustion)?"]
[null,"Exterior intake grilles located to minimize outdoor contaminant sources (vehicle idling, other combustion)?"]
[]
[null,"Moisture"]
[null,"Evidence of significant moisture or musty smells? "]
[null,"Evidence of water leaks or damage?"]
[null,"Ground water seepage?"]
[null,"Signs of sewage backup?"]
[null,"Sump pump present and functional?"]
[null,"Wet/moisture problems with carpet?"]
[null,"Fluid leaks (e.g. oils, lubricants, antifreeze, etc.)?"]
[]
[null,"Pests"]
[null,"Evidence of rodents (droppings, chew marks, sightings)?"]
[null,"Evidence of cockroaches (body parts, frass, live roaches)?"]
[null,"Evidence of the use of rodenticide in interior areas? Is rodenticide containerized or not?"]
[null,"Evidence of the use of spray pesticides during regular pest management services?"]
[null,"Evidence of reduced risk pesticides (gel baits, cockroach bait stations)?"]
[null,"Trash accumulation on trash chute?"]
[]
[null,"Hazardous Materials "]
[null,"Lead: Flaking, chipping, peeling paint (pre-1978 bldgs)?"]
[null,"Asbestos: Potential asbestos?"]
[]
[null,"Active Design Opportunities (to encourage health & wellness, physical activity, safety)"]
[null,"Stairways: good lighting , accessible, appealing, safe?"]
[null,"Bike storage?"]
[null,"Exterior areas that could be used for resident space (garden, play equipment, etc.)"]
[null,"Other underutilized building spaces that could be used for resident programs, projects? "]
[]
[null,"Fall, Trip, Fire Hazards  "]
[null,"Sufficient dual handrails, slip resistant stairs?"]
[null,"Sufficient stairway lighting?"]
[null,"Are there any potential fire hazards that inspectors should be looking for in common areas, exterior, basement?  Should there be smoke detectors in common areas?"]
[]
[null,"Apartments"]
[null,"Air Quality:  Air Contaminants of Allergens from Interior Sources"]
[null,"Sufficient ventilation: operable windows or mechanical system?"]
[null,"Exhaust fan in bathroom?"]
[null,"Does bath  fan work?"]
[null,"Is there fan dust needing cleaning? "]
[null,"Exhaust grille (central syst.) in bathroom, with sufficient air flow?"]
[null,"Stove type (Gas, Elec)"]
[null,"Operable kitchen fan above range?"]
[null,"Does the kitchen fan exhaust outside?"]
[null,"Exhaust grille (central syst.) in kitchen functions or needs repairs?"]
[null,"Visual evidence of tobacco smoke?  "]
[]
[null,"Moisture"]
[null,"Dehumidifier present and in use?"]
[null,"Dehumidifier properly maintained?"]
[null,"Water damage, current moisture issues, or musty smells?"]
[null,"Floor?"]
[null,"Ceiling?"]
[null,"Interior wall?"]
[null,"Exterior wall?"]
[null,"Significant evidence of moisture on walls, ceiling above tub surround?"]
[null,"Water damage near plumbing (e.g. tub, sink, shower)?"]
[null,"Significant moisture issues on shower walls, tiles, ceiling?"]
[null,"Significant moisture issues under bathroom sink?"]
[null,"Plumbing pipe penetrations under bathroom sink sealed?"]
[null,"Water damage on floor (esp. at toilet flange)?"]
[null,"Water, moisture problems with carpet?"]
[null,"Dryers vented to exterior?"]
[null,"Radiator valve leaks?"]
[]
[null,"Pests"]
[null,"Evidence of cockroaches or other insects?"]
[null,"Evidence of rodents or rats?"]
[null,"Is exterior door undercut large enough for vermin?"]
[null,"Pipe or other penetrations sealed?"]
[null,"Pest exclusion/entry issues?"]
[null,"Entry door bottom (Sweep, Auto, N)"]
[null,"Door jamb w-strip?"]
[]
[null,"Hazardous Materials"]
[null,"Lead: Peeling, chipping, flaking  paint, pre-1978 building?"]
[null,"CO alarms present and working?"]
[null,"Asbestos: Potential asbestos?"]
[]
[null,"Trip, Fall, Fire Hazards"]
[null,"Senior units baths (walk in shower, higher toilets, grab bars, lighting on sensor)?"]
[null,"Sufficient lighting?"]
[null,"Smoke detectors present and working?"]

{"sheet":"Cover Page","index":24,"n_rows":32,"n_cols":5,"rows_kept":32,"cut":false,"hidden":false,"merged":[[3,0,4,8],[31,4,37,5],[10,3,10,7],[12,3,12,7],[16,3,16,7],[18,3,18,7],[20,3,20,7],[26,3,26,7],[24,3,24,7],[22,3,22,7],[27,1,27,2],[28,3,28,7],[27,3,27,7]]}
[]
[]
[]
["Integrated Physical Needs Assessment (IPNA)"]
[]
[]
[]
[null,null,"Insert photo of building here."]
[null,null,"Best practice is to Select 'Insert' --> 'Picture' --> 'From File' from the menu above "]
[]
[]
[]
[]
[]
[]
[]
[]
[]
[]
[]
[]
[]
[]
[]
[]
[]
[]
[null,"Building:       ",null,{"$f":"IF(ISBLANK('Building Info'!F19), \"<Project Name>\", 'Building Info'!F19)","v":"<Project Name>"}]
[null,null,null,{"$f":"IF(ISBLANK('Building Info'!F20),\"<Project Address>\",CONCATENATE('Building Info'!F20,\", \",'Building Info'!F21,\", NY \", 'Building Info'!F22))","v":"<Project Address>"}]
[]
[]
[null,null,null,null,"(Consultant Company Logo)"]

{"sheet":"Energy and Water PRINT","index":25,"n_rows":272,"n_cols":84,"rows_kept":272,"cut":false,"hidden":false,"merged":[[110,3,111,3],[140,3,141,3],[147,3,148,3],[154,3,155,3],[259,3,260,3],[102,2,104,2],[33,2,37,2],[38,2,39,2],[40,2,41,2],[42,2,43,2],[44,2,45,2],[46,2,57,2],[58,2,61,2],[62,2,63,2],[64,2,68,2],[72,2,78,2],[95,2,100,2],[110,2,111,2],[140,2,141,2],[147,2,148,2],[154,2,155,2],[259,2,260,2]]}
[]
[]
[]
[null,null,null,null,null,null,null,null,null,null,null,null,{"$f":"IF(V10>0,CHAR(10)&U10&V10,\"\")","v":""}]
[null,null,"INSPECTION - ENERGY AND WATER"]
[]
[null,null,"Building Envelope"]
[null,null,"General Building/Envelope Description",{"$f":"IF('Inspection - Energy and Water'!D10>0,'Inspection - Energy and Water'!D10,\"\")","v":""},null,null,null,null,null,null,null,null,"Column"]
[null,null,"Envelope Components",null,null,null,null,null,null,null,null,"Row Header","D",null,"J",null,"K",null,"L"]
[null,null,"Above Grade Exterior Walls",{"$f":"IF(N10>0,M10&N10,\"\")&IF(P10>0,CHAR(10)&O10&P10,\"\")&IF(R10>0,CHAR(10)&Q10&R10,\"\")&IF(T10>0,CHAR(10)&S10&T10,\"\")&IF(V10>0,CHAR(10)&U10&V10,\"\")&IF(X10>0,CHAR(10)&W10&X10,\"\")&IF(Z10>0,CHAR(10)&Y10&Z10,\"\")&IF(AB10>0,CHAR(10)&AA10&AB10,\"\")&IF(AD10>0,CHAR(10)&AC10&AD10,\"\")&IF(AF10>0,CHAR(10)&AE10&AF10,\"\")&IF(AH10>0,CHAR(10)&AG10&AH10,\"\")&IF(AJ10>0,CHAR(10)&AI10&AJ10,\"\")&IF(AL10>0,CHAR(10)&AK10&AL10,\"\")&IF(AN10>0,CHAR(10)&AM10&AN10,\"\")&IF(AP10>0,CHAR(10)&AO10&AP10,\"\")&IF(AR10>0,CHAR(10)&AQ10&AR10,\"\")&IF(AT10>0,CHAR(10)&AS10&AT10,\"\")&IF(AV10>0,CHAR(10)&AU10&AV10,\"\")&IF(AX10>0,CHAR(10)&AW10&AX10,\"\")&IF(AZ10>0,CHAR(10)&AY10&AZ10,\"\")&IF(BB10>0,CHAR(10)&BA10&BB10,\"\")&IF(BD10>0,CHAR(10)&BC10&BD10,\"\")&IF(BF10>0,CHAR(10)&BE10&BF10,\"\")&IF(BH10>0,CHAR(10)&BG10&BH10,\"\")&IF(BJ10>0,CHAR(10)&BI10&BJ10,\"\")&IF(BL10>0,CHAR(10)&BK10&BL10,\"\")&IF(BN10>0,CHAR(10)&BM10&BN10,\"\")&IF(BP10>0,CHAR(10)&BO10&BP10,\"\")&IF(BR10>0,CHAR(10)&BQ10&BR10,\"\")&IF(BT10>0,CHAR(10)&BS10&BT10,\"\")&IF(BV10>0,CHAR(10)&BU10&BV10,\"\")&IF(BX10>0,CHAR(10)&BW10&BX10,\"\")&IF(BZ10>0,CHAR(10)&BY10&BZ10,\"\")&IF(CB10>0,CHAR(10)&CA10&CB10,\"\")&IF(CD10>0,CHAR(10)&CC10&CD10,\"\")&IF(CF10>0,CHAR(10)&CE10&CF10,\"\")","v":""},null,null,null,null,null,null,null,{"$f":"ROW($L$9)","v":9},{"$f":"INDIRECT(\"'Inspection - Energy and Water'!\"&M$9&$L10)&\": \"","v":": "},{"$f":"INDIRECT(\"'Inspection - Energy and Water'!\"&M$9&ROW())","v":0},{"$f":"INDIRECT(\"'Inspection - Energy and Water'!\"&O$9&$L10)&\": \"","v":": "},{"$f":"INDIRECT(\"'Inspection - Energy and Water'!\"&O$9&ROW())","v":0},{"$f":"INDIRECT(\"'Inspection - Energy and Water'!\"&Q$9&$L10)&\": \"","v":": "},{"$f":"INDIRECT(\"'Inspection - Energy and Water'!\"&Q$9&ROW())","v":0},{"$f":"INDIRECT(\"'Inspection - Energy and Water'!\"&S$9&$L10)&\": \"","v":": "},{"$f":"INDIRECT(\"'Inspection - Energy and Water'!\"&S$9&ROW())","v":0}]
[null,null,"Floor Perimeter/ Rim Joists",": Construction Description\n: Estimated Total R-Value\n: Verification method\n: Additional Notes",null,null,null,null,null,null,null,{"$f":"ROW($L$9)","v":9},": ","Construction Description",": ","Estimated Total R-Value",": ","Verification method",": ","Additional Notes"]
[null,null,"Below Grade Walls","",null,null,null,null,null,null,null,9,": ",0,": ",0,": ",0,": ",0]
[null,null,"Floor Above Unconditioned Space","",null,null,null,null,null,null,null,9,": ",0,": ",0,": ",0,": ",0]
[null,null,"Slab On/Below Grade","",null,null,null,null,null,null,null,9,": ",0,": ",0,": ",0,": ",0]
[null,null,"Roof","",null,null,null,null,null,null,null,9,": ",0,": ",0,": ",0,": ",0]
[null,null,"Ceilings to Unconditioned Attics","",null,null,null,null,null,null,null,9,": ",0,": ",0,": ",0,": ",0]
[null,null,"Wall to Unconditioned Space","",null,null,null,null,null,null,null,9,": ",0,": ",0,": ",0,": ",0]
[null,null,{"$f":"IF('Inspection - Energy and Water'!C20>0,'Inspection - Energy and Water'!C20,\"\")","v":""},"",null,null,null,null,null,null,null,9,": ",0,": ",0,": ",0,": ",0]
[null,null,{"$f":"IF('Inspection - Energy and Water'!C21>0,'Inspection - Energy and Water'!C21,\"\")","v":""},"",null,null,null,null,null,null,null,9,{"$f":"INDIRECT(\"'Inspection - Energy and Water'!\"&M$9&$L19)&\": \"","v":": "},{"$f":"INDIRECT(\"'Inspection - Energy and Water'!\"&M$9&ROW())","v":0},{"$f":"INDIRECT(\"'Inspection - Energy and Water'!\"&O$9&$L19)&\": \"","v":": "},{"$f":"INDIRECT(\"'Inspection - Energy and Water'!\"&O$9&ROW())","v":0},{"$f":"INDIRECT(\"'Inspection - Energy and Water'!\"&Q$9&$L19)&\": \"","v":": "},{"$f":"INDIRECT(\"'Inspection - Energy and Water'!\"&Q$9&ROW())","v":0},{"$f":"INDIRECT(\"'Inspection - Energy and Water'!\"&S$9&$L19)&\": \"","v":": "},{"$f":"INDIRECT(\"'Inspection - Energy and Water'!\"&S$9&ROW())","v":0}]
[null,null,{"$f":"IF('Inspection - Energy and Water'!C22>0,'Inspection - Energy and Water'!C22,\"\")","v":""},"",null,null,null,null,null,null,null,9,{"$f":"INDIRECT(\"'Inspection - Energy and Water'!\"&M$9&$L20)&\": \"","v":": "},{"$f":"INDIRECT(\"'Inspection - Energy and Water'!\"&M$9&ROW())","v":0},{"$f":"INDIRECT(\"'Inspection - Energy and Water'!\"&O$9&$L20)&\": \"","v":": "},{"$f":"INDIRECT(\"'Inspection - Energy and Water'!\"&O$9&ROW())","v":0},{"$f":"INDIRECT(\"'Inspection - Energy and Water'!\"&Q$9&$L20)&\": \"","v":": "},{"$f":"INDIRECT(\"'Inspection - Energy and Water'!\"&Q$9&ROW())","v":0},{"$f":"INDIRECT(\"'Inspection - Energy and Water'!\"&S$9&$L20)&\": \"","v":": "},{"$f":"INDIRECT(\"'Inspection - Energy and Water'!\"&S$9&ROW())","v":0}]
[null,null,"Windows",null,null,null,null,null,null,null,null,"Row Header","D",null,"F",null,"H",null,"I",null,"J",null,"K",null,"M",null,"N",null,"O",null,"Q",null,"R",null,"T"]
[null,null,"Window Type 1",{"$f":"IF(N22>0,M22&N22,\"\")&IF(P22>0,CHAR(10)&O22&P22,\"\")&IF(R22>0,CHAR(10)&Q22&R22,\"\")&IF(T22>0,CHAR(10)&S22&T22,\"\")&IF(V22>0,CHAR(10)&U22&V22,\"\")&IF(X22>0,CHAR(10)&W22&X22,\"\")&IF(Z22>0,CHAR(10)&Y22&Z22,\"\")&IF(AB22>0,CHAR(10)&AA22&AB22,\"\")&IF(AD22>0,CHAR(10)&AC22&AD22,\"\")&IF(AF22>0,CHAR(10)&AE22&AF22,\"\")&IF(AH22>0,CHAR(10)&AG22&AH22,\"\")&IF(AJ22>0,CHAR(10)&AI22&AJ22,\"\")&IF(AL22>0,CHAR(10)&AK22&AL22,\"\")&IF(AN22>0,CHAR(10)&AM22&AN22,\"\")&IF(AP22>0,CHAR(10)&AO22&AP22,\"\")&IF(AR22>0,CHAR(10)&AQ22&AR22,\"\")&IF(AT22>0,CHAR(10)&AS22&AT22,\"\")&IF(AV22>0,CHAR(10)&AU22&AV22,\"\")&IF(AX22>0,CHAR(10)&AW22&AX22,\"\")&IF(AZ22>0,CHAR(10)&AY22&AZ22,\"\")&IF(BB22>0,CHAR(10)&BA22&BB22,\"\")&IF(BD22>0,CHAR(10)&BC22&BD22,\"\")&IF(BF22>0,CHAR(10)&BE22&BF22,\"\")&IF(BH22>0,CHAR(10)&BG22&BH22,\"\")&IF(BJ22>0,CHAR(10)&BI22&BJ22,\"\")&IF(BL22>0,CHAR(10)&BK22&BL22,\"\")&IF(BN22>0,CHAR(10)&BM22&BN22,\"\")&IF(BP22>0,CHAR(10)&BO22&BP22,\"\")&IF(BR22>0,CHAR(10)&BQ22&BR22,\"\")&IF(BT22>0,CHAR(10)&BS22&BT22,\"\")&IF(BV22>0,CHAR(10)&BU22&BV22,\"\")&IF(BX22>0,CHAR(10)&BW22&BX22,\"\")&IF(BZ22>0,CHAR(10)&BY22&BZ22,\"\")&IF(CB22>0,CHAR(10)&CA22&CB22,\"\")&IF(CD22>0,CHAR(10)&CC22&CD22,\"\")&IF(CF22>0,CHAR(10)&CE22&CF22,\"\")","v":""},null,null,null,null,null,null,null,{"$f":"ROW($L$21)","v":21},{"$f":"INDIRECT(\"'Inspection - Energy and Water'!\"&$M$21&$L22)&\": \"","v":": "},{"$f":"INDIRECT(\"'Inspection - Energy and Water'!\"&$M$21&ROW())","v":0},{"$f":"INDIRECT(\"'Inspection - Energy and Water'!\"&$O$21&$L22)&\": \"","v":": "},{"$f":"INDIRECT(\"'Inspection - Energy and Water'!\"&$O$21&ROW())","v":0},{"$f":"INDIRECT(\"'Inspection - Energy and Water'!\"&$Q$21&$L22)&\": \"","v":": "},{"$f":"INDIRECT(\"'Inspection - Energy and Water'!\"&$Q$21&ROW())","v":0},{"$f":"INDIRECT(\"'Inspection - Energy and Water'!\"&$S$21&$L22)&\": \"","v":": "},{"$f":"INDIRECT(\"'Inspection - Energy and Water'!\"&$S$21&ROW())","v":0},{"$f":"INDIRECT(\"'Inspection - Energy and Water'!\"&$U$21&$L22)&\": \"","v":": "},{"$f":"INDIRECT(\"'Inspection - Energy and Water'!\"&$U$21&ROW())","v":0},{"$f":"INDIRECT(\"'Inspection - Energy and Water'!\"&$W$21&$L22)&\": \"","v":": "},{"$f":"INDIRECT(\"'Inspection - Energy and Water'!\"&$W$21&ROW())","v":0},{"$f":"INDIRECT(\"'Inspection - Energy and Water'!\"&$Y$21&$L22)&\": \"","v":": "},{"$f":"INDIRECT(\"'Inspection - Energy and Water'!\"&$Y$21&ROW())","v":0},{"$f":"INDIRECT(\"'Inspection - Energy and Water'!\"&$AA$21&$L22)&\": \"","v":": "},{"$f":"INDIRECT(\"'Inspection - Energy and Water'!\"&$AA$21&ROW())","v":0},{"$f":"INDIRECT(\"'Inspection - Energy and Water'!\"&$AC$21&$L22)&\": \"","v":": "},{"$f":"INDIRECT(\"'Inspection - Energy and Water'!\"&$AC$21&ROW())","v":0},{"$f":"INDIRECT(\"'Inspection - Energy and Water'!\"&$AE$21&$L22)&\": \"","v":": "},{"$f":"INDIRECT(\"'Inspection - Energy and Water'!\"&$AE$21&ROW())","v":0},{"$f":"INDIRECT(\"'Inspection - Energy and Water'!\"&$AG$21&$L22)&\": \"","v":": "},{"$f":"INDIRECT(\"'Inspection - Energy and Water'!\"&$AG$21&ROW())","v":0},{"$f":"INDIRECT(\"'Inspection - Energy and Water'!\"&$AI$21&$L22)&\": \"","v":": "},{"$f":"INDIRECT(\"'Inspection - Energy and Water'!\"&$AI$21&ROW())","v":0}]
[null,null,"Window Type 2",{"$f":"IF(N23>0,M23&N23,\"\")&IF(P23>0,CHAR(10)&O23&P23,\"\")&IF(R23>0,CHAR(10)&Q23&R23,\"\")&IF(T23>0,CHAR(10)&S23&T23,\"\")&IF(V23>0,CHAR(10)&U23&V23,\"\")&IF(X23>0,CHAR(10)&W23&X23,\"\")&IF(Z23>0,CHAR(10)&Y23&Z23,\"\")&IF(AB23>0,CHAR(10)&AA23&AB23,\"\")&IF(AD23>0,CHAR(10)&AC23&AD23,\"\")&IF(AF23>0,CHAR(10)&AE23&AF23,\"\")&IF(AH23>0,CHAR(10)&AG23&AH23,\"\")&IF(AJ23>0,CHAR(10)&AI23&AJ23,\"\")&IF(AL23>0,CHAR(10)&AK23&AL23,\"\")&IF(AN23>0,CHAR(10)&AM23&AN23,\"\")&IF(AP23>0,CHAR(10)&AO23&AP23,\"\")&IF(AR23>0,CHAR(10)&AQ23&AR23,\"\")&IF(AT23>0,CHAR(10)&AS23&AT23,\"\")&IF(AV23>0,CHAR(10)&AU23&AV23,\"\")&IF(AX23>0,CHAR(10)&AW23&AX23,\"\")&IF(AZ23>0,CHAR(10)&AY23&AZ23,\"\")&IF(BB23>0,CHAR(10)&BA23&BB23,\"\")&IF(BD23>0,CHAR(10)&BC23&BD23,\"\")&IF(BF23>0,CHAR(10)&BE23&BF23,\"\")&IF(BH23>0,CHAR(10)&BG23&BH23,\"\")&IF(BJ23>0,CHAR(10)&BI23&BJ23,\"\")&IF(BL23>0,CHAR(10)&BK23&BL23,\"\")&IF(BN23>0,CHAR(10)&BM23&BN23,\"\")&IF(BP23>0,CHAR(10)&BO23&BP23,\"\")&IF(BR23>0,CHAR(10)&BQ23&BR23,\"\")&IF(BT23>0,CHAR(10)&BS23&BT23,\"\")&IF(BV23>0,CHAR(10)&BU23&BV23,\"\")&IF(BX23>0,CHAR(10)&BW23&BX23,\"\")&IF(BZ23>0,CHAR(10)&BY23&BZ23,\"\")&IF(CB23>0,CHAR(10)&CA23&CB23,\"\")&IF(CD23>0,CHAR(10)&CC23&CD23,\"\")&IF(CF23>0,CHAR(10)&CE23&CF23,\"\")","v":": Location\n: Operation Type\n: Framing Material\n: Thermal Break\n: # of Panes\n: Glass Coating\n: Gas Filled\n: U-value\n: Weather-stripping\n: Qty. \n: Condition\n: Additional Notes"},null,null,null,null,null,null,null,{"$f":"ROW($L$21)","v":21},{"$f":"INDIRECT(\"'Inspection - Energy and Water'!\"&$M$21&$L23)&\": \"","v":": "},{"$f":"INDIRECT(\"'Inspection - Energy and Water'!\"&$M$21&ROW())","v":"Location"},{"$f":"INDIRECT(\"'Inspection - Energy and Water'!\"&$O$21&$L23)&\": \"","v":": "},{"$f":"INDIRECT(\"'Inspection - Energy and Water'!\"&$O$21&ROW())","v":"Operation Type"},{"$f":"INDIRECT(\"'Inspection - Energy and Water'!\"&$Q$21&$L23)&\": \"","v":": "},{"$f":"INDIRECT(\"'Inspection - Energy and Water'!\"&$Q$21&ROW())","v":"Framing Material"},{"$f":"INDIRECT(\"'Inspection - Energy and Water'!\"&$S$21&$L23)&\": \"","v":": "},{"$f":"INDIRECT(\"'Inspection - Energy and Water'!\"&$S$21&ROW())","v":"Thermal Break"},{"$f":"INDIRECT(\"'Inspection - Energy and Water'!\"&$U$21&$L23)&\": \"","v":": "},{"$f":"INDIRECT(\"'Inspection - Energy and Water'!\"&$U$21&ROW())","v":"# of Panes"},{"$f":"INDIRECT(\"'Inspection - Energy and Water'!\"&$W$21&$L23)&\": \"","v":": "},{"$f":"INDIRECT(\"'Inspection - Energy and Water'!\"&$W$21&ROW())","v":"Glass Coating"},{"$f":"INDIRECT(\"'Inspection - Energy and Water'!\"&$Y$21&$L23)&\": \"","v":": "},{"$f":"INDIRECT(\"'Inspection - Energy and Water'!\"&$Y$21&ROW())","v":"Gas Filled"},{"$f":"INDIRECT(\"'Inspection - Energy and Water'!\"&$AA$21&$L23)&\": \"","v":": "},{"$f":"INDIRECT(\"'Inspection - Energy and Water'!\"&$AA$21&ROW())","v":"U-value"},{"$f":"INDIRECT(\"'Inspection - Energy and Water'!\"&$AC$21&$L23)&\": \"","v":": "},{"$f":"INDIRECT(\"'Inspection - Energy and Water'!\"&$AC$21&ROW())","v":"Weather-stripping"},{"$f":"INDIRECT(\"'Inspection - Energy and Water'!\"&$AE$21&$L23)&\": \"","v":": "},{"$f":"INDIRECT(\"'Inspection - Energy and Water'!\"&$AE$21&ROW())","v":"Qty. "},{"$f":"INDIRECT(\"'Inspection - Energy and Water'!\"&$AG$21&$L23)&\": \"","v":": "},{"$f":"INDIRECT(\"'Inspection - Energy and Water'!\"&$AG$21&ROW())","v":"Condition"},{"$f":"INDIRECT(\"'Inspection - Energy and Water'!\"&$AI$21&$L23)&\": \"","v":": "},{"$f":"INDIRECT(\"'Inspection - Energy and Water'!\"&$AI$21&ROW())","v":"Additional Notes"}]
[null,null,"Window Type 3",{"$f":"IF(N24>0,M24&N24,\"\")&IF(P24>0,CHAR(10)&O24&P24,\"\")&IF(R24>0,CHAR(10)&Q24&R24,\"\")&IF(T24>0,CHAR(10)&S24&T24,\"\")&IF(V24>0,CHAR(10)&U24&V24,\"\")&IF(X24>0,CHAR(10)&W24&X24,\"\")&IF(Z24>0,CHAR(10)&Y24&Z24,\"\")&IF(AB24>0,CHAR(10)&AA24&AB24,\"\")&IF(AD24>0,CHAR(10)&AC24&AD24,\"\")&IF(AF24>0,CHAR(10)&AE24&AF24,\"\")&IF(AH24>0,CHAR(10)&AG24&AH24,\"\")&IF(AJ24>0,CHAR(10)&AI24&AJ24,\"\")&IF(AL24>0,CHAR(10)&AK24&AL24,\"\")&IF(AN24>0,CHAR(10)&AM24&AN24,\"\")&IF(AP24>0,CHAR(10)&AO24&AP24,\"\")&IF(AR24>0,CHAR(10)&AQ24&AR24,\"\")&IF(AT24>0,CHAR(10)&AS24&AT24,\"\")&IF(AV24>0,CHAR(10)&AU24&AV24,\"\")&IF(AX24>0,CHAR(10)&AW24&AX24,\"\")&IF(AZ24>0,CHAR(10)&AY24&AZ24,\"\")&IF(BB24>0,CHAR(10)&BA24&BB24,\"\")&IF(BD24>0,CHAR(10)&BC24&BD24,\"\")&IF(BF24>0,CHAR(10)&BE24&BF24,\"\")&IF(BH24>0,CHAR(10)&BG24&BH24,\"\")&IF(BJ24>0,CHAR(10)&BI24&BJ24,\"\")&IF(BL24>0,CHAR(10)&BK24&BL24,\"\")&IF(BN24>0,CHAR(10)&BM24&BN24,\"\")&IF(BP24>0,CHAR(10)&BO24&BP24,\"\")&IF(BR24>0,CHAR(10)&BQ24&BR24,\"\")&IF(BT24>0,CHAR(10)&BS24&BT24,\"\")&IF(BV24>0,CHAR(10)&BU24&BV24,\"\")&IF(BX24>0,CHAR(10)&BW24&BX24,\"\")&IF(BZ24>0,CHAR(10)&BY24&BZ24,\"\")&IF(CB24>0,CHAR(10)&CA24&CB24,\"\")&IF(CD24>0,CHAR(10)&CC24&CD24,\"\")&IF(CF24>0,CHAR(10)&CE24&CF24,\"\")","v":": In-Unit"},null,null,null,null,null,null,null,{"$f":"ROW($L$21)","v":21},{"$f":"INDIRECT(\"'Inspection - Energy and Water'!\"&$M$21&$L24)&\": \"","v":": "},{"$f":"INDIRECT(\"'Inspection - Energy and Water'!\"&$M$21&ROW())","v":"In-Unit"},{"$f":"INDIRECT(\"'Inspection - Energy and Water'!\"&$O$21&$L24)&\": \"","v":": "},{"$f":"INDIRECT(\"'Inspection - Energy and Water'!\"&$O$21&ROW())","v":0},{"$f":"INDIRECT(\"'Inspection - Energy and Water'!\"&$Q$21&$L24)&\": \"","v":": "},{"$f":"INDIRECT(\"'Inspection - Energy and Water'!\"&$Q$21&ROW())","v":0},{"$f":"INDIRECT(\"'Inspection - Energy and Water'!\"&$S$21&$L24)&\": \"","v":": "},{"$f":"INDIRECT(\"'Inspection - Energy and Water'!\"&$S$21&ROW())","v":0},{"$f":"INDIRECT(\"'Inspection - Energy and Water'!\"&$U$21&$L24)&\": \"","v":": "},{"$f":"INDIRECT(\"'Inspection - Energy and Water'!\"&$U$21&ROW())","v":0},{"$f":"INDIRECT(\"'Inspection - Energy and Water'!\"&$W$21&$L24)&\": \"","v":": "},{"$f":"INDIRECT(\"'Inspection - Energy and Water'!\"&$W$21&ROW())","v":0},{"$f":"INDIRECT(\"'Inspection - Energy and Water'!\"&$Y$21&$L24)&\": \"","v":": "},{"$f":"INDIRECT(\"'Inspection - Energy and Water'!\"&$Y$21&ROW())","v":0},{"$f":"INDIRECT(\"'Inspection - Energy and Water'!\"&$AA$21&$L24)&\": \"","v":": "},{"$f":"INDIRECT(\"'Inspection - Energy and Water'!\"&$AA$21&ROW())","v":0},{"$f":"INDIRECT(\"'Inspection - Energy and Water'!\"&$AC$21&$L24)&\": \"","v":": "},{"$f":"INDIRECT(\"'Inspection - Energy and Water'!\"&$AC$21&ROW())","v":0},{"$f":"INDIRECT(\"'Inspection - Energy and Water'!\"&$AE$21&$L24)&\": \"","v":": "},{"$f":"INDIRECT(\"'Inspection - Energy and Water'!\"&$AE$21&ROW())","v":0},{"$f":"INDIRECT(\"'Inspection - Energy and Water'!\"&$AG$21&$L24)&\": \"","v":": "},{"$f":"INDIRECT(\"'Inspection - Energy and Water'!\"&$AG$21&ROW())","v":0},{"$f":"INDIRECT(\"'Inspection - Energy and Water'!\"&$AI$21&$L24)&\": \"","v":": "},{"$f":"INDIRECT(\"'Inspection - Energy and Water'!\"&$AI$21&ROW())","v":0}]
[null,null,"Window Type 4",{"$f":"IF(N25>0,M25&N25,\"\")&IF(P25>0,CHAR(10)&O25&P25,\"\")&IF(R25>0,CHAR(10)&Q25&R25,\"\")&IF(T25>0,CHAR(10)&S25&T25,\"\")&IF(V25>0,CHAR(10)&U25&V25,\"\")&IF(X25>0,CHAR(10)&W25&X25,\"\")&IF(Z25>0,CHAR(10)&Y25&Z25,\"\")&IF(AB25>0,CHAR(10)&AA25&AB25,\"\")&IF(AD25>0,CHAR(10)&AC25&AD25,\"\")&IF(AF25>0,CHAR(10)&AE25&AF25,\"\")&IF(AH25>0,CHAR(10)&AG25&AH25,\"\")&IF(AJ25>0,CHAR(10)&AI25&AJ25,\"\")&IF(AL25>0,CHAR(10)&AK25&AL25,\"\")&IF(AN25>0,CHAR(10)&AM25&AN25,\"\")&IF(AP25>0,CHAR(10)&AO25&AP25,\"\")&IF(AR25>0,CHAR(10)&AQ25&AR25,\"\")&IF(AT25>0,CHAR(10)&AS25&AT25,\"\")&IF(AV25>0,CHAR(10)&AU25&AV25,\"\")&IF(AX25>0,CHAR(10)&AW25&AX25,\"\")&IF(AZ25>0,CHAR(10)&AY25&AZ25,\"\")&IF(BB25>0,CHAR(10)&BA25&BB25,\"\")&IF(BD25>0,CHAR(10)&BC25&BD25,\"\")&IF(BF25>0,CHAR(10)&BE25&BF25,\"\")&IF(BH25>0,CHAR(10)&BG25&BH25,\"\")&IF(BJ25>0,CHAR(10)&BI25&BJ25,\"\")&IF(BL25>0,CHAR(10)&BK25&BL25,\"\")&IF(BN25>0,CHAR(10)&BM25&BN25,\"\")&IF(BP25>0,CHAR(10)&BO25&BP25,\"\")&IF(BR25>0,CHAR(10)&BQ25&BR25,\"\")&IF(BT25>0,CHAR(10)&BS25&BT25,\"\")&IF(BV25>0,CHAR(10)&BU25&BV25,\"\")&IF(BX25>0,CHAR(10)&BW25&BX25,\"\")&IF(BZ25>0,CHAR(10)&BY25&BZ25,\"\")&IF(CB25>0,CHAR(10)&CA25&CB25,\"\")&IF(CD25>0,CHAR(10)&CC25&CD25,\"\")&IF(CF25>0,CHAR(10)&CE25&CF25,\"\")","v":": Common Area"},null,null,null,null,null,null,null,{"$f":"ROW($L$21)","v":21},{"$f":"INDIRECT(\"'Inspection - Energy and Water'!\"&$M$21&$L25)&\": \"","v":": "},{"$f":"INDIRECT(\"'Inspection - Energy and Water'!\"&$M$21&ROW())","v":"Common Area"},{"$f":"INDIRECT(\"'Inspection - Energy and Water'!\"&$O$21&$L25)&\": \"","v":": "},{"$f":"INDIRECT(\"'Inspection - Energy and Water'!\"&$O$21&ROW())","v":0},{"$f":"INDIRECT(\"'Inspection - Energy and Water'!\"&$Q$21&$L25)&\": \"","v":": "},{"$f":"INDIRECT(\"'Inspection - Energy and Water'!\"&$Q$21&ROW())","v":0},{"$f":"INDIRECT(\"'Inspection - Energy and Water'!\"&$S$21&$L25)&\": \"","v":": "},{"$f":"INDIRECT(\"'Inspection - Energy and Water'!\"&$S$21&ROW())","v":0},{"$f":"INDIRECT(\"'Inspection - Energy and Water'!\"&$U$21&$L25)&\": \"","v":": "},{"$f":"INDIRECT(\"'Inspection - Energy and Water'!\"&$U$21&ROW())","v":0},{"$f":"INDIRECT(\"'Inspection - Energy and Water'!\"&$W$21&$L25)&\": \"","v":": "},{"$f":"INDIRECT(\"'Inspection - Energy and Water'!\"&$W$21&ROW())","v":0},{"$f":"INDIRECT(\"'Inspection - Energy and Water'!\"&$Y$21&$L25)&\": \"","v":": "},{"$f":"INDIRECT(\"'Inspection - Energy and Water'!\"&$Y$21&ROW())","v":0},{"$f":"INDIRECT(\"'Inspection - Energy and Water'!\"&$AA$21&$L25)&\": \"","v":": "},{"$f":"INDIRECT(\"'Inspection - Energy and Water'!\"&$AA$21&ROW())","v":0},{"$f":"INDIRECT(\"'Inspection - Energy and Water'!\"&$AC$21&$L25)&\": \"","v":": "},{"$f":"INDIRECT(\"'Inspection - Energy and Water'!\"&$AC$21&ROW())","v":0},{"$f":"INDIRECT(\"'Inspection - Energy and Water'!\"&$AE$21&$L25)&\": \"","v":": "},{"$f":"INDIRECT(\"'Inspection - Energy and Water'!\"&$AE$21&ROW())","v":0},{"$f":"INDIRECT(\"'Inspection - Energy and Water'!\"&$AG$21&$L25)&\": \"","v":": "},{"$f":"INDIRECT(\"'Inspection - Energy and Water'!\"&$AG$21&ROW())","v":0},{"$f":"INDIRECT(\"'Inspection - Energy and Water'!\"&$AI$21&$L25)&\": \"","v":": "},{"$f":"INDIRECT(\"'Inspection - Energy and Water'!\"&$AI$21&ROW())","v":0}]
[null,null,"Window Type 5",{"$f":"IF(N26>0,M26&N26,\"\")&IF(P26>0,CHAR(10)&O26&P26,\"\")&IF(R26>0,CHAR(10)&Q26&R26,\"\")&IF(T26>0,CHAR(10)&S26&T26,\"\")&IF(V26>0,CHAR(10)&U26&V26,\"\")&IF(X26>0,CHAR(10)&W26&X26,\"\")&IF(Z26>0,CHAR(10)&Y26&Z26,\"\")&IF(AB26>0,CHAR(10)&AA26&AB26,\"\")&IF(AD26>0,CHAR(10)&AC26&AD26,\"\")&IF(AF26>0,CHAR(10)&AE26&AF26,\"\")&IF(AH26>0,CHAR(10)&AG26&AH26,\"\")&IF(AJ26>0,CHAR(10)&AI26&AJ26,\"\")&IF(AL26>0,CHAR(10)&AK26&AL26,\"\")&IF(AN26>0,CHAR(10)&AM26&AN26,\"\")&IF(AP26>0,CHAR(10)&AO26&AP26,\"\")&IF(AR26>0,CHAR(10)&AQ26&AR26,\"\")&IF(AT26>0,CHAR(10)&AS26&AT26,\"\")&IF(AV26>0,CHAR(10)&AU26&AV26,\"\")&IF(AX26>0,CHAR(10)&AW26&AX26,\"\")&IF(AZ26>0,CHAR(10)&AY26&AZ26,\"\")&IF(BB26>0,CHAR(10)&BA26&BB26,\"\")&IF(BD26>0,CHAR(10)&BC26&BD26,\"\")&IF(BF26>0,CHAR(10)&BE26&BF26,\"\")&IF(BH26>0,CHAR(10)&BG26&BH26,\"\")&IF(BJ26>0,CHAR(10)&BI26&BJ26,\"\")&IF(BL26>0,CHAR(10)&BK26&BL26,\"\")&IF(BN26>0,CHAR(10)&BM26&BN26,\"\")&IF(BP26>0,CHAR(10)&BO26&BP26,\"\")&IF(BR26>0,CHAR(10)&BQ26&BR26,\"\")&IF(BT26>0,CHAR(10)&BS26&BT26,\"\")&IF(BV26>0,CHAR(10)&BU26&BV26,\"\")&IF(BX26>0,CHAR(10)&BW26&BX26,\"\")&IF(BZ26>0,CHAR(10)&BY26&BZ26,\"\")&IF(CB26>0,CHAR(10)&CA26&CB26,\"\")&IF(CD26>0,CHAR(10)&CC26&CD26,\"\")&IF(CF26>0,CHAR(10)&CE26&CF26,\"\")","v":": Bulkhead"},null,null,null,null,null,null,null,{"$f":"ROW($L$21)","v":21},{"$f":"INDIRECT(\"'Inspection - Energy and Water'!\"&$M$21&$L26)&\": \"","v":": "},{"$f":"INDIRECT(\"'Inspection - Energy and Water'!\"&$M$21&ROW())","v":"Bulkhead"},{"$f":"INDIRECT(\"'Inspection - Energy and Water'!\"&$O$21&$L26)&\": \"","v":": "},{"$f":"INDIRECT(\"'Inspection - Energy and Water'!\"&$O$21&ROW())","v":0},{"$f":"INDIRECT(\"'Inspection - Energy and Water'!\"&$Q$21&$L26)&\": \"","v":": "},{"$f":"INDIRECT(\"'Inspection - Energy and Water'!\"&$Q$21&ROW())","v":0},{"$f":"INDIRECT(\"'Inspection - Energy and Water'!\"&$S$21&$L26)&\": \"","v":": "},{"$f":"INDIRECT(\"'Inspection - Energy and Water'!\"&$S$21&ROW())","v":0},{"$f":"INDIRECT(\"'Inspection - Energy and Water'!\"&$U$21&$L26)&\": \"","v":": "},{"$f":"INDIRECT(\"'Inspection - Energy and Water'!\"&$U$21&ROW())","v":0},{"$f":"INDIRECT(\"'Inspection - Energy and Water'!\"&$W$21&$L26)&\": \"","v":": "},{"$f":"INDIRECT(\"'Inspection - Energy and Water'!\"&$W$21&ROW())","v":0},{"$f":"INDIRECT(\"'Inspection - Energy and Water'!\"&$Y$21&$L26)&\": \"","v":": "},{"$f":"INDIRECT(\"'Inspection - Energy and Water'!\"&$Y$21&ROW())","v":0},{"$f":"INDIRECT(\"'Inspection - Energy and Water'!\"&$AA$21&$L26)&\": \"","v":": "},{"$f":"INDIRECT(\"'Inspection - Energy and Water'!\"&$AA$21&ROW())","v":0},{"$f":"INDIRECT(\"'Inspection - Energy and Water'!\"&$AC$21&$L26)&\": \"","v":": "},{"$f":"INDIRECT(\"'Inspection - Energy and Water'!\"&$AC$21&ROW())","v":0},{"$f":"INDIRECT(\"'Inspection - Energy and Water'!\"&$AE$21&$L26)&\": \"","v":": "},{"$f":"INDIRECT(\"'Inspection - Energy and Water'!\"&$AE$21&ROW())","v":0},{"$f":"INDIRECT(\"'Inspection - Energy and Water'!\"&$AG$21&$L26)&\": \"","v":": "},{"$f":"INDIRECT(\"'Inspection - Energy and Water'!\"&$AG$21&ROW())","v":0},{"$f":"INDIRECT(\"'Inspection - Energy and Water'!\"&$AI$21&$L26)&\": \"","v":": "},{"$f":"INDIRECT(\"'Inspection - Energy and Water'!\"&$AI$21&ROW())","v":0}]
[null,null,"Exterior Doors",null,null,null,null,null,null,null,null,"Row Header","D",null,"F",null,"H",null,"I",null,"K",null,"M",null,"N",null,"Q"]
[null,null,"Door Type 1",{"$f":"IF(N28>0,M28&N28,\"\")&IF(P28>0,CHAR(10)&O28&P28,\"\")&IF(R28>0,CHAR(10)&Q28&R28,\"\")&IF(T28>0,CHAR(10)&S28&T28,\"\")&IF(V28>0,CHAR(10)&U28&V28,\"\")&IF(X28>0,CHAR(10)&W28&X28,\"\")&IF(Z28>0,CHAR(10)&Y28&Z28,\"\")&IF(AB28>0,CHAR(10)&AA28&AB28,\"\")&IF(AD28>0,CHAR(10)&AC28&AD28,\"\")&IF(AF28>0,CHAR(10)&AE28&AF28,\"\")&IF(AH28>0,CHAR(10)&AG28&AH28,\"\")&IF(AJ28>0,CHAR(10)&AI28&AJ28,\"\")&IF(AL28>0,CHAR(10)&AK28&AL28,\"\")&IF(AN28>0,CHAR(10)&AM28&AN28,\"\")&IF(AP28>0,CHAR(10)&AO28&AP28,\"\")&IF(AR28>0,CHAR(10)&AQ28&AR28,\"\")&IF(AT28>0,CHAR(10)&AS28&AT28,\"\")&IF(AV28>0,CHAR(10)&AU28&AV28,\"\")&IF(AX28>0,CHAR(10)&AW28&AX28,\"\")&IF(AZ28>0,CHAR(10)&AY28&AZ28,\"\")&IF(BB28>0,CHAR(10)&BA28&BB28,\"\")&IF(BD28>0,CHAR(10)&BC28&BD28,\"\")&IF(BF28>0,CHAR(10)&BE28&BF28,\"\")&IF(BH28>0,CHAR(10)&BG28&BH28,\"\")&IF(BJ28>0,CHAR(10)&BI28&BJ28,\"\")&IF(BL28>0,CHAR(10)&BK28&BL28,\"\")&IF(BN28>0,CHAR(10)&BM28&BN28,\"\")&IF(BP28>0,CHAR(10)&BO28&BP28,\"\")&IF(BR28>0,CHAR(10)&BQ28&BR28,\"\")&IF(BT28>0,CHAR(10)&BS28&BT28,\"\")&IF(BV28>0,CHAR(10)&BU28&BV28,\"\")&IF(BX28>0,CHAR(10)&BW28&BX28,\"\")&IF(BZ28>0,CHAR(10)&BY28&BZ28,\"\")&IF(CB28>0,CHAR(10)&CA28&CB28,\"\")&IF(CD28>0,CHAR(10)&CC28&CD28,\"\")&IF(CF28>0,CHAR(10)&CE28&CF28,\"\")","v":""},null,null,null,null,null,null,null,{"$f":"ROW($L$27)","v":27},{"$f":"INDIRECT(\"'Inspection - Energy and Water'!\"&$M$27&$L28)&\": \"","v":": "},{"$f":"INDIRECT(\"'Inspection - Energy and Water'!\"&$M$27&ROW())","v":0},{"$f":"INDIRECT(\"'Inspection - Energy and Water'!\"&$O$27&$L28)&\": \"","v":": "},{"$f":"INDIRECT(\"'Inspection - Energy and Water'!\"&$O$27&ROW())","v":0},{"$f":"INDIRECT(\"'Inspection - Energy and Water'!\"&$Q$27&$L28)&\": \"","v":": "},{"$f":"INDIRECT(\"'Inspection - Energy and Water'!\"&$Q$27&ROW())","v":0},{"$f":"INDIRECT(\"'Inspection - Energy and Water'!\"&$S$27&$L28)&\": \"","v":": "},{"$f":"INDIRECT(\"'Inspection - Energy and Water'!\"&$S$27&ROW())","v":0},{"$f":"INDIRECT(\"'Inspection - Energy and Water'!\"&$U$27&$L28)&\": \"","v":": "},{"$f":"INDIRECT(\"'Inspection - Energy and Water'!\"&$U$27&ROW())","v":0},{"$f":"INDIRECT(\"'Inspection - Energy and Water'!\"&$W$27&$L28)&\": \"","v":": "},{"$f":"INDIRECT(\"'Inspection - Energy and Water'!\"&$W$27&ROW())","v":0},{"$f":"INDIRECT(\"'Inspection - Energy and Water'!\"&$Y$27&$L28)&\": \"","v":": "},{"$f":"INDIRECT(\"'Inspection - Energy and Water'!\"&$Y$27&ROW())","v":0},{"$f":"INDIRECT(\"'Inspection - Energy and Water'!\"&$AA$27&$L28)&\": \"","v":": "},{"$f":"INDIRECT(\"'Inspection - Energy and Water'!\"&$AA$27&ROW())","v":0}]
[null,null,"Door Type 2",{"$f":"IF(N29>0,M29&N29,\"\")&IF(P29>0,CHAR(10)&O29&P29,\"\")&IF(R29>0,CHAR(10)&Q29&R29,\"\")&IF(T29>0,CHAR(10)&S29&T29,\"\")&IF(V29>0,CHAR(10)&U29&V29,\"\")&IF(X29>0,CHAR(10)&W29&X29,\"\")&IF(Z29>0,CHAR(10)&Y29&Z29,\"\")&IF(AB29>0,CHAR(10)&AA29&AB29,\"\")&IF(AD29>0,CHAR(10)&AC29&AD29,\"\")&IF(AF29>0,CHAR(10)&AE29&AF29,\"\")&IF(AH29>0,CHAR(10)&AG29&AH29,\"\")&IF(AJ29>0,CHAR(10)&AI29&AJ29,\"\")&IF(AL29>0,CHAR(10)&AK29&AL29,\"\")&IF(AN29>0,CHAR(10)&AM29&AN29,\"\")&IF(AP29>0,CHAR(10)&AO29&AP29,\"\")&IF(AR29>0,CHAR(10)&AQ29&AR29,\"\")&IF(AT29>0,CHAR(10)&AS29&AT29,\"\")&IF(AV29>0,CHAR(10)&AU29&AV29,\"\")&IF(AX29>0,CHAR(10)&AW29&AX29,\"\")&IF(AZ29>0,CHAR(10)&AY29&AZ29,\"\")&IF(BB29>0,CHAR(10)&BA29&BB29,\"\")&IF(BD29>0,CHAR(10)&BC29&BD29,\"\")&IF(BF29>0,CHAR(10)&BE29&BF29,\"\")&IF(BH29>0,CHAR(10)&BG29&BH29,\"\")&IF(BJ29>0,CHAR(10)&BI29&BJ29,\"\")&IF(BL29>0,CHAR(10)&BK29&BL29,\"\")&IF(BN29>0,CHAR(10)&BM29&BN29,\"\")&IF(BP29>0,CHAR(10)&BO29&BP29,\"\")&IF(BR29>0,CHAR(10)&BQ29&BR29,\"\")&IF(BT29>0,CHAR(10)&BS29&BT29,\"\")&IF(BV29>0,CHAR(10)&BU29&BV29,\"\")&IF(BX29>0,CHAR(10)&BW29&BX29,\"\")&IF(BZ29>0,CHAR(10)&BY29&BZ29,\"\")&IF(CB29>0,CHAR(10)&CA29&CB29,\"\")&IF(CD29>0,CHAR(10)&CC29&CD29,\"\")&IF(CF29>0,CHAR(10)&CE29&CF29,\"\")","v":": Location\n: Material\n: % Glazing\n: Glazing Type\n: Weather-stripping\n: Qty.\n: Condition\n: Additional Notes"},null,null,null,null,null,null,null,{"$f":"ROW($L$27)","v":27},{"$f":"INDIRECT(\"'Inspection - Energy and Water'!\"&$M$27&$L29)&\": \"","v":": "},{"$f":"INDIRECT(\"'Inspection - Energy and Water'!\"&$M$27&ROW())","v":"Location"},{"$f":"INDIRECT(\"'Inspection - Energy and Water'!\"&$O$27&$L29)&\": \"","v":": "},{"$f":"INDIRECT(\"'Inspection - Energy and Water'!\"&$O$27&ROW())","v":"Material"},{"$f":"INDIRECT(\"'Inspection - Energy and Water'!\"&$Q$27&$L29)&\": \"","v":": "},{"$f":"INDIRECT(\"'Inspection - Energy and Water'!\"&$Q$27&ROW())","v":"% Glazing"},{"$f":"INDIRECT(\"'Inspection - Energy and Water'!\"&$S$27&$L29)&\": \"","v":": "},{"$f":"INDIRECT(\"'Inspection - Energy and Water'!\"&$S$27&ROW())","v":"Glazing Type"},{"$f":"INDIRECT(\"'Inspection - Energy and Water'!\"&$U$27&$L29)&\": \"","v":": "},{"$f":"INDIRECT(\"'Inspection - Energy and Water'!\"&$U$27&ROW())","v":"Weather-stripping"},{"$f":"INDIRECT(\"'Inspection - Energy and Water'!\"&$W$27&$L29)&\": \"","v":": "},{"$f":"INDIRECT(\"'Inspection - Energy and Water'!\"&$W$27&ROW())","v":"Qty."},{"$f":"INDIRECT(\"'Inspection - Energy and Water'!\"&$Y$27&$L29)&\": \"","v":": "},{"$f":"INDIRECT(\"'Inspection - Energy and Water'!\"&$Y$27&ROW())","v":"Condition"},{"$f":"INDIRECT(\"'Inspection - Energy and Water'!\"&$AA$27&$L29)&\": \"","v":": "},{"$f":"INDIRECT(\"'Inspection - Energy and Water'!\"&$AA$27&ROW())","v":"Additional Notes"}]
[null,null,"Door Type 3",{"$f":"IF(N30>0,M30&N30,\"\")&IF(P30>0,CHAR(10)&O30&P30,\"\")&IF(R30>0,CHAR(10)&Q30&R30,\"\")&IF(T30>0,CHAR(10)&S30&T30,\"\")&IF(V30>0,CHAR(10)&U30&V30,\"\")&IF(X30>0,CHAR(10)&W30&X30,\"\")&IF(Z30>0,CHAR(10)&Y30&Z30,\"\")&IF(AB30>0,CHAR(10)&AA30&AB30,\"\")&IF(AD30>0,CHAR(10)&AC30&AD30,\"\")&IF(AF30>0,CHAR(10)&AE30&AF30,\"\")&IF(AH30>0,CHAR(10)&AG30&AH30,\"\")&IF(AJ30>0,CHAR(10)&AI30&AJ30,\"\")&IF(AL30>0,CHAR(10)&AK30&AL30,\"\")&IF(AN30>0,CHAR(10)&AM30&AN30,\"\")&IF(AP30>0,CHAR(10)&AO30&AP30,\"\")&IF(AR30>0,CHAR(10)&AQ30&AR30,\"\")&IF(AT30>0,CHAR(10)&AS30&AT30,\"\")&IF(AV30>0,CHAR(10)&AU30&AV30,\"\")&IF(AX30>0,CHAR(10)&AW30&AX30,\"\")&IF(AZ30>0,CHAR(10)&AY30&AZ30,\"\")&IF(BB30>0,CHAR(10)&BA30&BB30,\"\")&IF(BD30>0,CHAR(10)&BC30&BD30,\"\")&IF(BF30>0,CHAR(10)&BE30&BF30,\"\")&IF(BH30>0,CHAR(10)&BG30&BH30,\"\")&IF(BJ30>0,CHAR(10)&BI30&BJ30,\"\")&IF(BL30>0,CHAR(10)&BK30&BL30,\"\")&IF(BN30>0,CHAR(10)&BM30&BN30,\"\")&IF(BP30>0,CHAR(10)&BO30&BP30,\"\")&IF(BR30>0,CHAR(10)&BQ30&BR30,\"\")&IF(BT30>0,CHAR(10)&BS30&BT30,\"\")&IF(BV30>0,CHAR(10)&BU30&BV30,\"\")&IF(BX30>0,CHAR(10)&BW30&BX30,\"\")&IF(BZ30>0,CHAR(10)&BY30&BZ30,\"\")&IF(CB30>0,CHAR(10)&CA30&CB30,\"\")&IF(CD30>0,CHAR(10)&CC30&CD30,\"\")&IF(CF30>0,CHAR(10)&CE30&CF30,\"\")","v":""},null,null,null,null,null,null,null,{"$f":"ROW($L$27)","v":27},{"$f":"INDIRECT(\"'Inspection - Energy and Water'!\"&$M$27&$L30)&\": \"","v":": "},{"$f":"INDIRECT(\"'Inspection - Energy and Water'!\"&$M$27&ROW())","v":0},{"$f":"INDIRECT(\"'Inspection - Energy and Water'!\"&$O$27&$L30)&\": \"","v":": "},{"$f":"INDIRECT(\"'Inspection - Energy and Water'!\"&$O$27&ROW())","v":0},{"$f":"INDIRECT(\"'Inspection - Energy and Water'!\"&$Q$27&$L30)&\": \"","v":": "},{"$f":"INDIRECT(\"'Inspection - Energy and Water'!\"&$Q$27&ROW())","v":0},{"$f":"INDIRECT(\"'Inspection - Energy and Water'!\"&$S$27&$L30)&\": \"","v":": "},{"$f":"INDIRECT(\"'Inspection - Energy and Water'!\"&$S$27&ROW())","v":0},{"$f":"INDIRECT(\"'Inspection - Energy and Water'!\"&$U$27&$L30)&\": \"","v":": "},{"$f":"INDIRECT(\"'Inspection - Energy and Water'!\"&$U$27&ROW())","v":0},{"$f":"INDIRECT(\"'Inspection - Energy and Water'!\"&$W$27&$L30)&\": \"","v":": "},{"$f":"INDIRECT(\"'Inspection - Energy and Water'!\"&$W$27&ROW())","v":0},{"$f":"INDIRECT(\"'Inspection - Energy and Water'!\"&$Y$27&$L30)&\": \"","v":": "},{"$f":"INDIRECT(\"'Inspection - Energy and Water'!\"&$Y$27&ROW())","v":0},{"$f":"INDIRECT(\"'Inspection - Energy and Water'!\"&$AA$27&$L30)&\": \"","v":": "},{"$f":"INDIRECT(\"'Inspection - Energy and Water'!\"&$AA$27&ROW())","v":0}]
[null,null,"Door Type 4",{"$f":"IF(N31>0,M31&N31,\"\")&IF(P31>0,CHAR(10)&O31&P31,\"\")&IF(R31>0,CHAR(10)&Q31&R31,\"\")&IF(T31>0,CHAR(10)&S31&T31,\"\")&IF(V31>0,CHAR(10)&U31&V31,\"\")&IF(X31>0,CHAR(10)&W31&X31,\"\")&IF(Z31>0,CHAR(10)&Y31&Z31,\"\")&IF(AB31>0,CHAR(10)&AA31&AB31,\"\")&IF(AD31>0,CHAR(10)&AC31&AD31,\"\")&IF(AF31>0,CHAR(10)&AE31&AF31,\"\")&IF(AH31>0,CHAR(10)&AG31&AH31,\"\")&IF(AJ31>0,CHAR(10)&AI31&AJ31,\"\")&IF(AL31>0,CHAR(10)&AK31&AL31,\"\")&IF(AN31>0,CHAR(10)&AM31&AN31,\"\")&IF(AP31>0,CHAR(10)&AO31&AP31,\"\")&IF(AR31>0,CHAR(10)&AQ31&AR31,\"\")&IF(AT31>0,CHAR(10)&AS31&AT31,\"\")&IF(AV31>0,CHAR(10)&AU31&AV31,\"\")&IF(AX31>0,CHAR(10)&AW31&AX31,\"\")&IF(AZ31>0,CHAR(10)&AY31&AZ31,\"\")&IF(BB31>0,CHAR(10)&BA31&BB31,\"\")&IF(BD31>0,CHAR(10)&BC31&BD31,\"\")&IF(BF31>0,CHAR(10)&BE31&BF31,\"\")&IF(BH31>0,CHAR(10)&BG31&BH31,\"\")&IF(BJ31>0,CHAR(10)&BI31&BJ31,\"\")&IF(BL31>0,CHAR(10)&BK31&BL31,\"\")&IF(BN31>0,CHAR(10)&BM31&BN31,\"\")&IF(BP31>0,CHAR(10)&BO31&BP31,\"\")&IF(BR31>0,CHAR(10)&BQ31&BR31,\"\")&IF(BT31>0,CHAR(10)&BS31&BT31,\"\")&IF(BV31>0,CHAR(10)&BU31&BV31,\"\")&IF(BX31>0,CHAR(10)&BW31&BX31,\"\")&IF(BZ31>0,CHAR(10)&BY31&BZ31,\"\")&IF(CB31>0,CHAR(10)&CA31&CB31,\"\")&IF(CD31>0,CHAR(10)&CC31&CD31,\"\")&IF(CF31>0,CHAR(10)&CE31&CF31,\"\")","v":""},null,null,null,null,null,null,null,{"$f":"ROW($L$27)","v":27},{"$f":"INDIRECT(\"'Inspection - Energy and Water'!\"&$M$27&$L31)&\": \"","v":": "},{"$f":"INDIRECT(\"'Inspection - Energy and Water'!\"&$M$27&ROW())","v":0},{"$f":"INDIRECT(\"'Inspection - Energy and Water'!\"&$O$27&$L31)&\": \"","v":": "},{"$f":"INDIRECT(\"'Inspection - Energy and Water'!\"&$O$27&ROW())","v":0},{"$f":"INDIRECT(\"'Inspection - Energy and Water'!\"&$Q$27&$L31)&\": \"","v":": "},{"$f":"INDIRECT(\"'Inspection - Energy and Water'!\"&$Q$27&ROW())","v":0},{"$f":"INDIRECT(\"'Inspection - Energy and Water'!\"&$S$27&$L31)&\": \"","v":": "},{"$f":"INDIRECT(\"'Inspection - Energy and Water'!\"&$S$27&ROW())","v":0},{"$f":"INDIRECT(\"'Inspection - Energy and Water'!\"&$U$27&$L31)&\": \"","v":": "},{"$f":"INDIRECT(\"'Inspection - Energy and Water'!\"&$U$27&ROW())","v":0},{"$f":"INDIRECT(\"'Inspection - Energy and Water'!\"&$W$27&$L31)&\": \"","v":": "},{"$f":"INDIRECT(\"'Inspection - Energy and Water'!\"&$W$27&ROW())","v":0},{"$f":"INDIRECT(\"'Inspection - Energy and Water'!\"&$Y$27&$L31)&\": \"","v":": "},{"$f":"INDIRECT(\"'Inspection - Energy and Water'!\"&$Y$27&ROW())","v":0},{"$f":"INDIRECT(\"'Inspection - Energy and Water'!\"&$AA$27&$L31)&\": \"","v":": "},{"$f":"INDIRECT(\"'Inspection - Energy and Water'!\"&$AA$27&ROW())","v":0}]
[null,null,"Door Type 5",{"$f":"IF(N32>0,M32&N32,\"\")&IF(P32>0,CHAR(10)&O32&P32,\"\")&IF(R32>0,CHAR(10)&Q32&R32,\"\")&IF(T32>0,CHAR(10)&S32&T32,\"\")&IF(V32>0,CHAR(10)&U32&V32,\"\")&IF(X32>0,CHAR(10)&W32&X32,\"\")&IF(Z32>0,CHAR(10)&Y32&Z32,\"\")&IF(AB32>0,CHAR(10)&AA32&AB32,\"\")&IF(AD32>0,CHAR(10)&AC32&AD32,\"\")&IF(AF32>0,CHAR(10)&AE32&AF32,\"\")&IF(AH32>0,CHAR(10)&AG32&AH32,\"\")&IF(AJ32>0,CHAR(10)&AI32&AJ32,\"\")&IF(AL32>0,CHAR(10)&AK32&AL32,\"\")&IF(AN32>0,CHAR(10)&AM32&AN32,\"\")&IF(AP32>0,CHAR(10)&AO32&AP32,\"\")&IF(AR32>0,CHAR(10)&AQ32&AR32,\"\")&IF(AT32>0,CHAR(10)&AS32&AT32,\"\")&IF(AV32>0,CHAR(10)&AU32&AV32,\"\")&IF(AX32>0,CHAR(10)&AW32&AX32,\"\")&IF(AZ32>0,CHAR(10)&AY32&AZ32,\"\")&IF(BB32>0,CHAR(10)&BA32&BB32,\"\")&IF(BD32>0,CHAR(10)&BC32&BD32,\"\")&IF(BF32>0,CHAR(10)&BE32&BF32,\"\")&IF(BH32>0,CHAR(10)&BG32&BH32,\"\")&IF(BJ32>0,CHAR(10)&BI32&BJ32,\"\")&IF(BL32>0,CHAR(10)&BK32&BL32,\"\")&IF(BN32>0,CHAR(10)&BM32&BN32,\"\")&IF(BP32>0,CHAR(10)&BO32&BP32,\"\")&IF(BR32>0,CHAR(10)&BQ32&BR32,\"\")&IF(BT32>0,CHAR(10)&BS32&BT32,\"\")&IF(BV32>0,CHAR(10)&BU32&BV32,\"\")&IF(BX32>0,CHAR(10)&BW32&BX32,\"\")&IF(BZ32>0,CHAR(10)&BY32&BZ32,\"\")&IF(CB32>0,CHAR(10)&CA32&CB32,\"\")&IF(CD32>0,CHAR(10)&CC32&CD32,\"\")&IF(CF32>0,CHAR(10)&CE32&CF32,\"\")","v":""},null,null,null,null,null,null,null,{"$f":"ROW($L$27)","v":27},{"$f":"INDIRECT(\"'Inspection - Energy and Water'!\"&$M$27&$L32)&\": \"","v":": "},{"$f":"INDIRECT(\"'Inspection - Energy and Water'!\"&$M$27&ROW())","v":0},{"$f":"INDIRECT(\"'Inspection - Energy and Water'!\"&$O$27&$L32)&\": \"","v":": "},{"$f":"INDIRECT(\"'Inspection - Energy and Water'!\"&$O$27&ROW())","v":0},{"$f":"INDIRECT(\"'Inspection - Energy and Water'!\"&$Q$27&$L32)&\": \"","v":": "},{"$f":"INDIRECT(\"'Inspection - Energy and Water'!\"&$Q$27&ROW())","v":0},{"$f":"INDIRECT(\"'Inspection - Energy and Water'!\"&$S$27&$L32)&\": \"","v":": "},{"$f":"INDIRECT(\"'Inspection - Energy and Water'!\"&$S$27&ROW())","v":0},{"$f":"INDIRECT(\"'Inspection - Energy and Water'!\"&$U$27&$L32)&\": \"","v":": "},{"$f":"INDIRECT(\"'Inspection - Energy and Water'!\"&$U$27&ROW())","v":0},{"$f":"INDIRECT(\"'Inspection - Energy and Water'!\"&$W$27&$L32)&\": \"","v":": "},{"$f":"INDIRECT(\"'Inspection - Energy and Water'!\"&$W$27&ROW())","v":0},{"$f":"INDIRECT(\"'Inspection - Energy and Water'!\"&$Y$27&$L32)&\": \"","v":": "},{"$f":"INDIRECT(\"'Inspection - Energy and Water'!\"&$Y$27&ROW())","v":0},{"$f":"INDIRECT(\"'Inspection - Energy and Water'!\"&$AA$27&$L32)&\": \"","v":": "},{"$f":"INDIRECT(\"'Inspection - Energy and Water'!\"&$AA$27&ROW())","v":0}]
[null,null,"Air Infiltration",null,null,null,null,null,null,null,null,"Row Header","D",null,"F",null,"H"]
[null,null,"Measurable Infiltration",{"$f":"IF(OR(P34>0,R34>0),IF(N34>0,M34&N34,\"\")&IF(P34>0,CHAR(10)&O34&P34,\"\")&IF(R34>0,CHAR(10)&Q34&R34,\"\")&IF(T34>0,CHAR(10)&S34&T34,\"\")&IF(V34>0,CHAR(10)&U34&V34,\"\")&IF(X34>0,CHAR(10)&W34&X34,\"\")&IF(Z34>0,CHAR(10)&Y34&Z34,\"\")&IF(AB34>0,CHAR(10)&AA34&AB34,\"\")&IF(AD34>0,CHAR(10)&AC34&AD34,\"\")&IF(AF34>0,CHAR(10)&AE34&AF34,\"\")&IF(AH34>0,CHAR(10)&AG34&AH34,\"\")&IF(AJ34>0,CHAR(10)&AI34&AJ34,\"\")&IF(AL34>0,CHAR(10)&AK34&AL34,\"\")&IF(AN34>0,CHAR(10)&AM34&AN34,\"\")&IF(AP34>0,CHAR(10)&AO34&AP34,\"\")&IF(AR34>0,CHAR(10)&AQ34&AR34,\"\")&IF(AT34>0,CHAR(10)&AS34&AT34,\"\")&IF(AV34>0,CHAR(10)&AU34&AV34,\"\")&IF(AX34>0,CHAR(10)&AW34&AX34,\"\")&IF(AZ34>0,CHAR(10)&AY34&AZ34,\"\")&IF(BB34>0,CHAR(10)&BA34&BB34,\"\")&IF(BD34>0,CHAR(10)&BC34&BD34,\"\")&IF(BF34>0,CHAR(10)&BE34&BF34,\"\")&IF(BH34>0,CHAR(10)&BG34&BH34,\"\")&IF(BJ34>0,CHAR(10)&BI34&BJ34,\"\")&IF(BL34>0,CHAR(10)&BK34&BL34,\"\")&IF(BN34>0,CHAR(10)&BM34&BN34,\"\")&IF(BP34>0,CHAR(10)&BO34&BP34,\"\")&IF(BR34>0,CHAR(10)&BQ34&BR34,\"\")&IF(BT34>0,CHAR(10)&BS34&BT34,\"\")&IF(BV34>0,CHAR(10)&BU34&BV34,\"\")&IF(BX34>0,CHAR(10)&BW34&BX34,\"\")&IF(BZ34>0,CHAR(10)&BY34&BZ34,\"\")&IF(CB34>0,CHAR(10)&CA34&CB34,\"\")&IF(CD34>0,CHAR(10)&CC34&CD34,\"\")&IF(CF34>0,CHAR(10)&CE34&CF34,\"\"),\"\")","v":""},null,null,null,null,null,null,null,{"$f":"ROW($L$33)","v":33},{"$f":"INDIRECT(\"'Inspection - Energy and Water'!\"&$M$33&$L34)&\": \"","v":": "},{"$f":"INDIRECT(\"'Inspection - Energy and Water'!\"&$M$33&ROW())","v":0},{"$f":"INDIRECT(\"'Inspection - Energy and Water'!\"&$O$33&$L34)&\": \"","v":": "},{"$f":"INDIRECT(\"'Inspection - Energy and Water'!\"&$O$33&ROW())","v":0},{"$f":"INDIRECT(\"'Inspection - Energy and Water'!\"&$Q$33&$L34)&\": \"","v":": "},{"$f":"INDIRECT(\"'Inspection - Energy and Water'!\"&$Q$33&ROW())","v":0}]
[null,null,null,{"$f":"IF(OR(P35>0,R35>0),IF(N35>0,M35&N35,\"\")&IF(P35>0,CHAR(10)&O35&P35,\"\")&IF(R35>0,CHAR(10)&Q35&R35,\"\")&IF(T35>0,CHAR(10)&S35&T35,\"\")&IF(V35>0,CHAR(10)&U35&V35,\"\")&IF(X35>0,CHAR(10)&W35&X35,\"\")&IF(Z35>0,CHAR(10)&Y35&Z35,\"\")&IF(AB35>0,CHAR(10)&AA35&AB35,\"\")&IF(AD35>0,CHAR(10)&AC35&AD35,\"\")&IF(AF35>0,CHAR(10)&AE35&AF35,\"\")&IF(AH35>0,CHAR(10)&AG35&AH35,\"\")&IF(AJ35>0,CHAR(10)&AI35&AJ35,\"\")&IF(AL35>0,CHAR(10)&AK35&AL35,\"\")&IF(AN35>0,CHAR(10)&AM35&AN35,\"\")&IF(AP35>0,CHAR(10)&AO35&AP35,\"\")&IF(AR35>0,CHAR(10)&AQ35&AR35,\"\")&IF(AT35>0,CHAR(10)&AS35&AT35,\"\")&IF(AV35>0,CHAR(10)&AU35&AV35,\"\")&IF(AX35>0,CHAR(10)&AW35&AX35,\"\")&IF(AZ35>0,CHAR(10)&AY35&AZ35,\"\")&IF(BB35>0,CHAR(10)&BA35&BB35,\"\")&IF(BD35>0,CHAR(10)&BC35&BD35,\"\")&IF(BF35>0,CHAR(10)&BE35&BF35,\"\")&IF(BH35>0,CHAR(10)&BG35&BH35,\"\")&IF(BJ35>0,CHAR(10)&BI35&BJ35,\"\")&IF(BL35>0,CHAR(10)&BK35&BL35,\"\")&IF(BN35>0,CHAR(10)&BM35&BN35,\"\")&IF(BP35>0,CHAR(10)&BO35&BP35,\"\")&IF(BR35>0,CHAR(10)&BQ35&BR35,\"\")&IF(BT35>0,CHAR(10)&BS35&BT35,\"\")&IF(BV35>0,CHAR(10)&BU35&BV35,\"\")&IF(BX35>0,CHAR(10)&BW35&BX35,\"\")&IF(BZ35>0,CHAR(10)&BY35&BZ35,\"\")&IF(CB35>0,CHAR(10)&CA35&CB35,\"\")&IF(CD35>0,CHAR(10)&CC35&CD35,\"\")&IF(CF35>0,CHAR(10)&CE35&CF35,\"\"),\"\")","v":": Location of Leakage\n: Tightness\n: Additional Notes"},null,null,null,null,null,null,null,{"$f":"ROW($L$33)","v":33},{"$f":"INDIRECT(\"'Inspection - Energy and Water'!\"&$M$33&$L35)&\": \"","v":": "},{"$f":"INDIRECT(\"'Inspection - Energy and Water'!\"&$M$33&ROW())","v":"Location of Leakage"},{"$f":"INDIRECT(\"'Inspection - Energy and Water'!\"&$O$33&$L35)&\": \"","v":": "},{"$f":"INDIRECT(\"'Inspection - Energy and Water'!\"&$O$33&ROW())","v":"Tightness"},{"$f":"INDIRECT(\"'Inspection - Energy and Water'!\"&$Q$33&$L35)&\": \"","v":": "},{"$f":"INDIRECT(\"'Inspection - Energy and Water'!\"&$Q$33&ROW())","v":"Additional Notes"}]
[null,null,null,"",null,null,null,null,null,null,null,33,": ","Open Window",": ",0,": ",0]
[null,null,null,"",null,null,null,null,null,null,null,33,": ","Broken Window",": ",0,": ",0]
[null,null,null,"",null,null,null,null,null,null,null,33,": ","Stairwell",": ",0,": ",0]
[null,null,"Common Area Windows","",null,null,null,null,null,null,null,33,": ","Elevator",": ",0,": ",0]
[null,null,null,"",null,null,null,null,null,null,null,33,": ","Other",": ",0,": ",0]
[null,null,"In-unit Windows","",null,null,null,null,null,null,null,33,": ","Frame",": ",0,": ",0]
[null,null,null,"",null,null,null,null,null,null,null,33,": ","Moving Surfaces",": ",0,": ",0]
[null,null,"Exterior Doors","",null,null,null,null,null,null,null,33,": ","Frame",": ",0,": ",0]
[null,null,null,"",null,null,null,null,null,null,null,33,": ","Moving Surfaces",": ",0,": ",0]
[null,null,"Laundry Room","",null,null,null,null,null,null,null,33,": ","Frame",": ",0,": ",0]
[null,null,null,"",null,null,null,null,null,null,null,33,": ","Moving Surfaces",": ",0,": ",0]
[null,null,"Attic","",null,null,null,null,null,null,null,33,": ","Dryer Vent",": ",0,": ",0]
[null,null,null,"",null,null,null,null,null,null,null,33,": ","Exhaust Fans",": ",0,": ",0]
[null,null,null,"",null,null,null,null,null,null,null,33,": ","Hatch Frame",": ",0,": ",0]
[null,null,null,"",null,null,null,null,null,null,null,33,": ","Hatch Door",": ",0,": ",0]
[null,null,null,"",null,null,null,null,null,null,null,33,": ","Pipe Penetrations",": ",0,": ",0]
[null,null,null,"",null,null,null,null,null,null,null,33,": ","Electrical Boxes",": ",0,": ",0]
[null,null,null,"",null,null,null,null,null,null,null,33,": ","Recessed Lights",": ",0,": ",0]
[null,null,null,"",null,null,null,null,null,null,null,33,": ","Wall Caps",": ",0,": ",0]
[null,null,null,"",null,null,null,null,null,null,null,33,": ","Exhaust Fans",": ",0,": ",0]
[null,null,null,"",null,null,null,null,null,null,null,33,": ","Open Chases",": ",0,": ",0]
[null,null,null,"",null,null,null,null,null,null,null,33,": ","Chimney and Vents",": ",0,": ",0]
[null,null,null,"",null,null,null,null,null,null,null,33,": ","Duct Penetrations",": ",0,": ",0]
[null,null,"Apartments","",null,null,null,null,null,null,null,33,": ","Party/firewalls",": ",0,": ",0]
[null,null,null,"",null,null,null,null,null,null,null,33,": ","Other",": ",0,": ",0]
[null,null,null,"",null,null,null,null,null,null,null,33,": ","Pipe Penetrations",": ",0,": ",0]
[null,null,null,"",null,null,null,null,null,null,null,33,": ","Exhaust Fans",": ",0,": ",0]
[null,null,"Room Air Conditioner","",null,null,null,null,null,null,null,33,": ","Electrical Boxes",": ",0,": ",0]
[null,null,null,"",null,null,null,null,null,null,null,33,": ","Patio Doors",": ",0,": ",0]
[null,null,"Basement Penetrations","",null,null,null,null,null,null,null,33,": ","Sleeve-to-wall Junction",": ",0,": ",0]
[null,null,null,"",null,null,null,null,null,null,null,33,": ","Unit Fit in Sleeve",": ",0,": ",0]
[null,null,null,"",null,null,null,null,null,null,null,33,": ","Doors",": ",0,": ",0]
[null,null,null,"",null,null,null,null,null,null,null,33,": ","Sill plates",": ",0,": ",0]
[null,null,null,"",null,null,null,null,null,null,null,33,{"$f":"INDIRECT(\"'Inspection - Energy and Water'!\"&$M$33&$L69)&\": \"","v":": "},{"$f":"INDIRECT(\"'Inspection - Energy and Water'!\"&$M$33&ROW())","v":"Windows"},{"$f":"INDIRECT(\"'Inspection - Energy and Water'!\"&$O$33&$L69)&\": \"","v":": "},{"$f":"INDIRECT(\"'Inspection - Energy and Water'!\"&$O$33&ROW())","v":0},{"$f":"INDIRECT(\"'Inspection - Energy and Water'!\"&$Q$33&$L69)&\": \"","v":": "},{"$f":"INDIRECT(\"'Inspection - Energy and Water'!\"&$Q$33&ROW())","v":0}]
[null,null,"Roof Penetrations","",null,null,null,null,null,null,null,33,": ","Vents ",": ",0,": ",0]
[null,null,"Elevator Penthouses","",null,null,null,null,null,null,null,33,": ","Other",": ",0,": ",0]
[null,null,"Stairwells","",null,null,null,null,null,null,null,33,": ",0,": ",0,": ",0]
[null,null,"Stack Effect","",null,null,null,null,null,null,null,33,": ",0,": ",0,": ",0]
[null,null,null,"",null,null,null,null,null,null,null,33,": ",0,": ",0,": ",0]
[null,null,null,"",null,null,null,null,null,null,null,33,": ","Abandoned chimneys/chases",": ",0,": ",0]
[null,null,null,"",null,null,null,null,null,null,null,33,": ","Pipe penetrations into chases",": ",0,": ",0]
[null,null,null,{"$f":"IF(OR(P77>0,R77>0),IF(N77>0,M77&N77,\"\")&IF(P77>0,CHAR(10)&O77&P77,\"\")&IF(R77>0,CHAR(10)&Q77&R77,\"\")&IF(T77>0,CHAR(10)&S77&T77,\"\")&IF(V77>0,CHAR(10)&U77&V77,\"\")&IF(X77>0,CHAR(10)&W77&X77,\"\")&IF(Z77>0,CHAR(10)&Y77&Z77,\"\")&IF(AB77>0,CHAR(10)&AA77&AB77,\"\")&IF(AD77>0,CHAR(10)&AC77&AD77,\"\")&IF(AF77>0,CHAR(10)&AE77&AF77,\"\")&IF(AH77>0,CHAR(10)&AG77&AH77,\"\")&IF(AJ77>0,CHAR(10)&AI77&AJ77,\"\")&IF(AL77>0,CHAR(10)&AK77&AL77,\"\")&IF(AN77>0,CHAR(10)&AM77&AN77,\"\")&IF(AP77>0,CHAR(10)&AO77&AP77,\"\")&IF(AR77>0,CHAR(10)&AQ77&AR77,\"\")&IF(AT77>0,CHAR(10)&AS77&AT77,\"\")&IF(AV77>0,CHAR(10)&AU77&AV77,\"\")&IF(AX77>0,CHAR(10)&AW77&AX77,\"\")&IF(AZ77>0,CHAR(10)&AY77&AZ77,\"\")&IF(BB77>0,CHAR(10)&BA77&BB77,\"\")&IF(BD77>0,CHAR(10)&BC77&BD77,\"\")&IF(BF77>0,CHAR(10)&BE77&BF77,\"\")&IF(BH77>0,CHAR(10)&BG77&BH77,\"\")&IF(BJ77>0,CHAR(10)&BI77&BJ77,\"\")&IF(BL77>0,CHAR(10)&BK77&BL77,\"\")&IF(BN77>0,CHAR(10)&BM77&BN77,\"\")&IF(BP77>0,CHAR(10)&BO77&BP77,\"\")&IF(BR77>0,CHAR(10)&BQ77&BR77,\"\")&IF(BT77>0,CHAR(10)&BS77&BT77,\"\")&IF(BV77>0,CHAR(10)&BU77&BV77,\"\")&IF(BX77>0,CHAR(10)&BW77&BX77,\"\")&IF(BZ77>0,CHAR(10)&BY77&BZ77,\"\")&IF(CB77>0,CHAR(10)&CA77&CB77,\"\")&IF(CD77>0,CHAR(10)&CC77&CD77,\"\")&IF(CF77>0,CHAR(10)&CE77&CF77,\"\"),\"\")","v":""},null,null,null,null,null,null,null,33,": ","Duct riser leakage",": ",0,": ",0]
[null,null,null,"",null,null,null,null,null,null,null,33,": ","Floor-to-floor openings",": ",0,": ",0]
[null,null,null,{"$f":"IF(OR(P79>0,R79>0),IF(N79>0,M79&N79,\"\")&IF(P79>0,CHAR(10)&O79&P79,\"\")&IF(R79>0,CHAR(10)&Q79&R79,\"\")&IF(T79>0,CHAR(10)&S79&T79,\"\")&IF(V79>0,CHAR(10)&U79&V79,\"\")&IF(X79>0,CHAR(10)&W79&X79,\"\")&IF(Z79>0,CHAR(10)&Y79&Z79,\"\")&IF(AB79>0,CHAR(10)&AA79&AB79,\"\")&IF(AD79>0,CHAR(10)&AC79&AD79,\"\")&IF(AF79>0,CHAR(10)&AE79&AF79,\"\")&IF(AH79>0,CHAR(10)&AG79&AH79,\"\")&IF(AJ79>0,CHAR(10)&AI79&AJ79,\"\")&IF(AL79>0,CHAR(10)&AK79&AL79,\"\")&IF(AN79>0,CHAR(10)&AM79&AN79,\"\")&IF(AP79>0,CHAR(10)&AO79&AP79,\"\")&IF(AR79>0,CHAR(10)&AQ79&AR79,\"\")&IF(AT79>0,CHAR(10)&AS79&AT79,\"\")&IF(AV79>0,CHAR(10)&AU79&AV79,\"\")&IF(AX79>0,CHAR(10)&AW79&AX79,\"\")&IF(AZ79>0,CHAR(10)&AY79&AZ79,\"\")&IF(BB79>0,CHAR(10)&BA79&BB79,\"\")&IF(BD79>0,CHAR(10)&BC79&BD79,\"\")&IF(BF79>0,CHAR(10)&BE79&BF79,\"\")&IF(BH79>0,CHAR(10)&BG79&BH79,\"\")&IF(BJ79>0,CHAR(10)&BI79&BJ79,\"\")&IF(BL79>0,CHAR(10)&BK79&BL79,\"\")&IF(BN79>0,CHAR(10)&BM79&BN79,\"\")&IF(BP79>0,CHAR(10)&BO79&BP79,\"\")&IF(BR79>0,CHAR(10)&BQ79&BR79,\"\")&IF(BT79>0,CHAR(10)&BS79&BT79,\"\")&IF(BV79>0,CHAR(10)&BU79&BV79,\"\")&IF(BX79>0,CHAR(10)&BW79&BX79,\"\")&IF(BZ79>0,CHAR(10)&BY79&BZ79,\"\")&IF(CB79>0,CHAR(10)&CA79&CB79,\"\")&IF(CD79>0,CHAR(10)&CC79&CD79,\"\")&IF(CF79>0,CHAR(10)&CE79&CF79,\"\"),\"\")","v":""},null,null,null,null,null,null,null,33,": ","Stairwell Doors",": ",0,": ",0]
[null,null,{"$f":"IF('Inspection - Energy and Water'!C82>0,'Inspection - Energy and Water'!C82,\"\")","v":""},{"$f":"IF(N80>0,M80&N80,\"\")&IF(P80>0,CHAR(10)&O80&P80,\"\")&IF(R80>0,CHAR(10)&Q80&R80,\"\")&IF(T80>0,CHAR(10)&S80&T80,\"\")&IF(V80>0,CHAR(10)&U80&V80,\"\")&IF(X80>0,CHAR(10)&W80&X80,\"\")&IF(Z80>0,CHAR(10)&Y80&Z80,\"\")&IF(AB80>0,CHAR(10)&AA80&AB80,\"\")&IF(AD80>0,CHAR(10)&AC80&AD80,\"\")&IF(AF80>0,CHAR(10)&AE80&AF80,\"\")&IF(AH80>0,CHAR(10)&AG80&AH80,\"\")&IF(AJ80>0,CHAR(10)&AI80&AJ80,\"\")&IF(AL80>0,CHAR(10)&AK80&AL80,\"\")&IF(AN80>0,CHAR(10)&AM80&AN80,\"\")&IF(AP80>0,CHAR(10)&AO80&AP80,\"\")&IF(AR80>0,CHAR(10)&AQ80&AR80,\"\")&IF(AT80>0,CHAR(10)&AS80&AT80,\"\")&IF(AV80>0,CHAR(10)&AU80&AV80,\"\")&IF(AX80>0,CHAR(10)&AW80&AX80,\"\")&IF(AZ80>0,CHAR(10)&AY80&AZ80,\"\")&IF(BB80>0,CHAR(10)&BA80&BB80,\"\")&IF(BD80>0,CHAR(10)&BC80&BD80,\"\")&IF(BF80>0,CHAR(10)&BE80&BF80,\"\")&IF(BH80>0,CHAR(10)&BG80&BH80,\"\")&IF(BJ80>0,CHAR(10)&BI80&BJ80,\"\")&IF(BL80>0,CHAR(10)&BK80&BL80,\"\")&IF(BN80>0,CHAR(10)&BM80&BN80,\"\")&IF(BP80>0,CHAR(10)&BO80&BP80,\"\")&IF(BR80>0,CHAR(10)&BQ80&BR80,\"\")&IF(BT80>0,CHAR(10)&BS80&BT80,\"\")&IF(BV80>0,CHAR(10)&BU80&BV80,\"\")&IF(BX80>0,CHAR(10)&BW80&BX80,\"\")&IF(BZ80>0,CHAR(10)&BY80&BZ80,\"\")&IF(CB80>0,CHAR(10)&CA80&CB80,\"\")&IF(CD80>0,CHAR(10)&CC80&CD80,\"\")&IF(CF80>0,CHAR(10)&CE80&CF80,\"\")","v":": Openings between building interior and mechanical room, if mechanical room has an operating chimney"},null,null,null,null,null,null,null,33,": ","Openings between building interior and mechanical room, if mechanical room has an operating chimney",": ",0,": ",0]
[null,null,{"$f":"IF('Inspection - Energy and Water'!C83>0,'Inspection - Energy and Water'!C83,\"\")","v":""},{"$f":"IF(N81>0,M81&N81,\"\")&IF(P81>0,CHAR(10)&O81&P81,\"\")&IF(R81>0,CHAR(10)&Q81&R81,\"\")&IF(T81>0,CHAR(10)&S81&T81,\"\")&IF(V81>0,CHAR(10)&U81&V81,\"\")&IF(X81>0,CHAR(10)&W81&X81,\"\")&IF(Z81>0,CHAR(10)&Y81&Z81,\"\")&IF(AB81>0,CHAR(10)&AA81&AB81,\"\")&IF(AD81>0,CHAR(10)&AC81&AD81,\"\")&IF(AF81>0,CHAR(10)&AE81&AF81,\"\")&IF(AH81>0,CHAR(10)&AG81&AH81,\"\")&IF(AJ81>0,CHAR(10)&AI81&AJ81,\"\")&IF(AL81>0,CHAR(10)&AK81&AL81,\"\")&IF(AN81>0,CHAR(10)&AM81&AN81,\"\")&IF(AP81>0,CHAR(10)&AO81&AP81,\"\")&IF(AR81>0,CHAR(10)&AQ81&AR81,\"\")&IF(AT81>0,CHAR(10)&AS81&AT81,\"\")&IF(AV81>0,CHAR(10)&AU81&AV81,\"\")&IF(AX81>0,CHAR(10)&AW81&AX81,\"\")&IF(AZ81>0,CHAR(10)&AY81&AZ81,\"\")&IF(BB81>0,CHAR(10)&BA81&BB81,\"\")&IF(BD81>0,CHAR(10)&BC81&BD81,\"\")&IF(BF81>0,CHAR(10)&BE81&BF81,\"\")&IF(BH81>0,CHAR(10)&BG81&BH81,\"\")&IF(BJ81>0,CHAR(10)&BI81&BJ81,\"\")&IF(BL81>0,CHAR(10)&BK81&BL81,\"\")&IF(BN81>0,CHAR(10)&BM81&BN81,\"\")&IF(BP81>0,CHAR(10)&BO81&BP81,\"\")&IF(BR81>0,CHAR(10)&BQ81&BR81,\"\")&IF(BT81>0,CHAR(10)&BS81&BT81,\"\")&IF(BV81>0,CHAR(10)&BU81&BV81,\"\")&IF(BX81>0,CHAR(10)&BW81&BX81,\"\")&IF(BZ81>0,CHAR(10)&BY81&BZ81,\"\")&IF(CB81>0,CHAR(10)&CA81&CB81,\"\")&IF(CD81>0,CHAR(10)&CC81&CD81,\"\")&IF(CF81>0,CHAR(10)&CE81&CF81,\"\")","v":": Other"},null,null,null,null,null,null,null,33,": ","Other",": ",0,": ",0]
[null,null,{"$f":"IF('Inspection - Energy and Water'!C84>0,'Inspection - Energy and Water'!C84,\"\")","v":""},{"$f":"IF(N82>0,M82&N82,\"\")&IF(P82>0,CHAR(10)&O82&P82,\"\")&IF(R82>0,CHAR(10)&Q82&R82,\"\")&IF(T82>0,CHAR(10)&S82&T82,\"\")&IF(V82>0,CHAR(10)&U82&V82,\"\")&IF(X82>0,CHAR(10)&W82&X82,\"\")&IF(Z82>0,CHAR(10)&Y82&Z82,\"\")&IF(AB82>0,CHAR(10)&AA82&AB82,\"\")&IF(AD82>0,CHAR(10)&AC82&AD82,\"\")&IF(AF82>0,CHAR(10)&AE82&AF82,\"\")&IF(AH82>0,CHAR(10)&AG82&AH82,\"\")&IF(AJ82>0,CHAR(10)&AI82&AJ82,\"\")&IF(AL82>0,CHAR(10)&AK82&AL82,\"\")&IF(AN82>0,CHAR(10)&AM82&AN82,\"\")&IF(AP82>0,CHAR(10)&AO82&AP82,\"\")&IF(AR82>0,CHAR(10)&AQ82&AR82,\"\")&IF(AT82>0,CHAR(10)&AS82&AT82,\"\")&IF(AV82>0,CHAR(10)&AU82&AV82,\"\")&IF(AX82>0,CHAR(10)&AW82&AX82,\"\")&IF(AZ82>0,CHAR(10)&AY82&AZ82,\"\")&IF(BB82>0,CHAR(10)&BA82&BB82,\"\")&IF(BD82>0,CHAR(10)&BC82&BD82,\"\")&IF(BF82>0,CHAR(10)&BE82&BF82,\"\")&IF(BH82>0,CHAR(10)&BG82&BH82,\"\")&IF(BJ82>0,CHAR(10)&BI82&BJ82,\"\")&IF(BL82>0,CHAR(10)&BK82&BL82,\"\")&IF(BN82>0,CHAR(10)&BM82&BN82,\"\")&IF(BP82>0,CHAR(10)&BO82&BP82,\"\")&IF(BR82>0,CHAR(10)&BQ82&BR82,\"\")&IF(BT82>0,CHAR(10)&BS82&BT82,\"\")&IF(BV82>0,CHAR(10)&BU82&BV82,\"\")&IF(BX82>0,CHAR(10)&BW82&BX82,\"\")&IF(BZ82>0,CHAR(10)&BY82&BZ82,\"\")&IF(CB82>0,CHAR(10)&CA82&CB82,\"\")&IF(CD82>0,CHAR(10)&CC82&CD82,\"\")&IF(CF82>0,CHAR(10)&CE82&CF82,\"\")","v":""},null,null,null,null,null,null,null,33,": ",0,": ",0,": ",0]
[null,null,"Blower Door Test, CFM50 (OPTIONAL)",{"$f":"IF(N83>0,M83&N83,\"\")&IF(P83>0,CHAR(10)&O83&P83,\"\")&IF(R83>0,CHAR(10)&Q83&R83,\"\")&IF(T83>0,CHAR(10)&S83&T83,\"\")&IF(V83>0,CHAR(10)&U83&V83,\"\")&IF(X83>0,CHAR(10)&W83&X83,\"\")&IF(Z83>0,CHAR(10)&Y83&Z83,\"\")&IF(AB83>0,CHAR(10)&AA83&AB83,\"\")&IF(AD83>0,CHAR(10)&AC83&AD83,\"\")&IF(AF83>0,CHAR(10)&AE83&AF83,\"\")&IF(AH83>0,CHAR(10)&AG83&AH83,\"\")&IF(AJ83>0,CHAR(10)&AI83&AJ83,\"\")&IF(AL83>0,CHAR(10)&AK83&AL83,\"\")&IF(AN83>0,CHAR(10)&AM83&AN83,\"\")&IF(AP83>0,CHAR(10)&AO83&AP83,\"\")&IF(AR83>0,CHAR(10)&AQ83&AR83,\"\")&IF(AT83>0,CHAR(10)&AS83&AT83,\"\")&IF(AV83>0,CHAR(10)&AU83&AV83,\"\")&IF(AX83>0,CHAR(10)&AW83&AX83,\"\")&IF(AZ83>0,CHAR(10)&AY83&AZ83,\"\")&IF(BB83>0,CHAR(10)&BA83&BB83,\"\")&IF(BD83>0,CHAR(10)&BC83&BD83,\"\")&IF(BF83>0,CHAR(10)&BE83&BF83,\"\")&IF(BH83>0,CHAR(10)&BG83&BH83,\"\")&IF(BJ83>0,CHAR(10)&BI83&BJ83,\"\")&IF(BL83>0,CHAR(10)&BK83&BL83,\"\")&IF(BN83>0,CHAR(10)&BM83&BN83,\"\")&IF(BP83>0,CHAR(10)&BO83&BP83,\"\")&IF(BR83>0,CHAR(10)&BQ83&BR83,\"\")&IF(BT83>0,CHAR(10)&BS83&BT83,\"\")&IF(BV83>0,CHAR(10)&BU83&BV83,\"\")&IF(BX83>0,CHAR(10)&BW83&BX83,\"\")&IF(BZ83>0,CHAR(10)&BY83&BZ83,\"\")&IF(CB83>0,CHAR(10)&CA83&CB83,\"\")&IF(CD83>0,CHAR(10)&CC83&CD83,\"\")&IF(CF83>0,CHAR(10)&CE83&CF83,\"\")","v":""},null,null,null,null,null,null,null,{"$f":"ROW()","v":83},null,{"$f":"INDIRECT(\"'Inspection - Energy and Water'!D\"&ROW())","v":0}]
[null,null,"Assumed or Modeled ACH",{"$f":"IF(N84>0,M84&N84,\"\")&IF(P84>0,CHAR(10)&O84&P84,\"\")&IF(R84>0,CHAR(10)&Q84&R84,\"\")&IF(T84>0,CHAR(10)&S84&T84,\"\")&IF(V84>0,CHAR(10)&U84&V84,\"\")&IF(X84>0,CHAR(10)&W84&X84,\"\")&IF(Z84>0,CHAR(10)&Y84&Z84,\"\")&IF(AB84>0,CHAR(10)&AA84&AB84,\"\")&IF(AD84>0,CHAR(10)&AC84&AD84,\"\")&IF(AF84>0,CHAR(10)&AE84&AF84,\"\")&IF(AH84>0,CHAR(10)&AG84&AH84,\"\")&IF(AJ84>0,CHAR(10)&AI84&AJ84,\"\")&IF(AL84>0,CHAR(10)&AK84&AL84,\"\")&IF(AN84>0,CHAR(10)&AM84&AN84,\"\")&IF(AP84>0,CHAR(10)&AO84&AP84,\"\")&IF(AR84>0,CHAR(10)&AQ84&AR84,\"\")&IF(AT84>0,CHAR(10)&AS84&AT84,\"\")&IF(AV84>0,CHAR(10)&AU84&AV84,\"\")&IF(AX84>0,CHAR(10)&AW84&AX84,\"\")&IF(AZ84>0,CHAR(10)&AY84&AZ84,\"\")&IF(BB84>0,CHAR(10)&BA84&BB84,\"\")&IF(BD84>0,CHAR(10)&BC84&BD84,\"\")&IF(BF84>0,CHAR(10)&BE84&BF84,\"\")&IF(BH84>0,CHAR(10)&BG84&BH84,\"\")&IF(BJ84>0,CHAR(10)&BI84&BJ84,\"\")&IF(BL84>0,CHAR(10)&BK84&BL84,\"\")&IF(BN84>0,CHAR(10)&BM84&BN84,\"\")&IF(BP84>0,CHAR(10)&BO84&BP84,\"\")&IF(BR84>0,CHAR(10)&BQ84&BR84,\"\")&IF(BT84>0,CHAR(10)&BS84&BT84,\"\")&IF(BV84>0,CHAR(10)&BU84&BV84,\"\")&IF(BX84>0,CHAR(10)&BW84&BX84,\"\")&IF(BZ84>0,CHAR(10)&BY84&BZ84,\"\")&IF(CB84>0,CHAR(10)&CA84&CB84,\"\")&IF(CD84>0,CHAR(10)&CC84&CD84,\"\")&IF(CF84>0,CHAR(10)&CE84&CF84,\"\")","v":""},null,null,null,null,null,null,null,{"$f":"ROW()","v":84},null,{"$f":"INDIRECT(\"'Inspection - Energy and Water'!D\"&ROW())","v":0}]
[]
[null,null,"Appliances"]
[null,null,"Common Area Appliances",null,null,null,null,null,null,null,null,"Row Header","D",null,"F",null,"H",null,"I",null,"J",null,"K",null,"L",null,"M",null,"N",null,"O",null,"S"]
[null,null,"Refrigerator",{"$f":"IF(N88>0,M88&N88,\"\")&IF(P88>0,CHAR(10)&O88&P88,\"\")&IF(R88>0,CHAR(10)&Q88&R88,\"\")&IF(T88>0,CHAR(10)&S88&T88,\"\")&IF(V88>0,CHAR(10)&U88&V88,\"\")&IF(X88>0,CHAR(10)&W88&X88,\"\")&IF(Z88>0,CHAR(10)&Y88&Z88,\"\")&IF(AB88>0,CHAR(10)&AA88&AB88,\"\")&IF(AD88>0,CHAR(10)&AC88&AD88,\"\")&IF(AF88>0,CHAR(10)&AE88&AF88,\"\")&IF(AH88>0,CHAR(10)&AG88&AH88,\"\")&IF(AJ88>0,CHAR(10)&AI88&AJ88,\"\")&IF(AL88>0,CHAR(10)&AK88&AL88,\"\")&IF(AN88>0,CHAR(10)&AM88&AN88,\"\")&IF(AP88>0,CHAR(10)&AO88&AP88,\"\")&IF(AR88>0,CHAR(10)&AQ88&AR88,\"\")&IF(AT88>0,CHAR(10)&AS88&AT88,\"\")&IF(AV88>0,CHAR(10)&AU88&AV88,\"\")&IF(AX88>0,CHAR(10)&AW88&AX88,\"\")&IF(AZ88>0,CHAR(10)&AY88&AZ88,\"\")&IF(BB88>0,CHAR(10)&BA88&BB88,\"\")&IF(BD88>0,CHAR(10)&BC88&BD88,\"\")&IF(BF88>0,CHAR(10)&BE88&BF88,\"\")&IF(BH88>0,CHAR(10)&BG88&BH88,\"\")&IF(BJ88>0,CHAR(10)&BI88&BJ88,\"\")&IF(BL88>0,CHAR(10)&BK88&BL88,\"\")&IF(BN88>0,CHAR(10)&BM88&BN88,\"\")&IF(BP88>0,CHAR(10)&BO88&BP88,\"\")&IF(BR88>0,CHAR(10)&BQ88&BR88,\"\")&IF(BT88>0,CHAR(10)&BS88&BT88,\"\")&IF(BV88>0,CHAR(10)&BU88&BV88,\"\")&IF(BX88>0,CHAR(10)&BW88&BX88,\"\")&IF(BZ88>0,CHAR(10)&BY88&BZ88,\"\")&IF(CB88>0,CHAR(10)&CA88&CB88,\"\")&IF(CD88>0,CHAR(10)&CC88&CD88,\"\")&IF(CF88>0,CHAR(10)&CE88&CF88,\"\")","v":""},null,null,null,null,null,null,null,{"$f":"ROW($L$87)","v":87},{"$f":"INDIRECT(\"'Inspection - Energy and Water'!\"&$M$87&$L88)&\": \"","v":": "},{"$f":"INDIRECT(\"'Inspection - Energy and Water'!\"&$M$87&ROW())","v":0},{"$f":"INDIRECT(\"'Inspection - Energy and Water'!\"&$O$87&$L88)&\": \"","v":": "},{"$f":"INDIRECT(\"'Inspection - Energy and Water'!\"&$O$87&ROW())","v":0},{"$f":"INDIRECT(\"'Inspection - Energy and Water'!\"&$Q$87&$L88)&\": \"","v":": "},{"$f":"INDIRECT(\"'Inspection - Energy and Water'!\"&$Q$87&ROW())","v":0},{"$f":"INDIRECT(\"'Inspection - Energy and Water'!\"&$S$87&$L88)&\": \"","v":": "},{"$f":"INDIRECT(\"'Inspection - Energy and Water'!\"&$S$87&ROW())","v":0},{"$f":"INDIRECT(\"'Inspection - Energy and Water'!\"&$U$87&$L88)&\": \"","v":": "},{"$f":"INDIRECT(\"'Inspection - Energy and Water'!\"&$U$87&ROW())","v":0},{"$f":"INDIRECT(\"'Inspection - Energy and Water'!\"&$W$87&$L88)&\": \"","v":": "},{"$f":"INDIRECT(\"'Inspection - Energy and Water'!\"&$W$87&ROW())","v":0},{"$f":"INDIRECT(\"'Inspection - Energy and Water'!\"&$Y$87&$L88)&\": \"","v":": "},{"$f":"INDIRECT(\"'Inspection - Energy and Water'!\"&$Y$87&ROW())","v":0},{"$f":"INDIRECT(\"'Inspection - Energy and Water'!\"&$AA$87&$L88)&\": \"","v":": "},{"$f":"INDIRECT(\"'Inspection - Energy and Water'!\"&$AA$87&ROW())","v":0},{"$f":"INDIRECT(\"'Inspection - Energy and Water'!\"&$AC$87&$L88)&\": \"","v":": "},{"$f":"INDIRECT(\"'Inspection - Energy and Water'!\"&$AC$87&ROW())","v":0},{"$f":"INDIRECT(\"'Inspection - Energy and Water'!\"&$AE$87&$L88)&\": \"","v":": "},{"$f":"INDIRECT(\"'Inspection - Energy and Water'!\"&$AE$87&ROW())","v":0},{"$f":"INDIRECT(\"'Inspection - Energy and Water'!\"&$AG$87&$L88)&\": \"","v":": "},{"$f":"INDIRECT(\"'Inspection - Energy and Water'!\"&$AG$87&ROW())","v":0}]
[null,null,"Stove/Range",": Location of Equipment\n: Manufacturer\n: Model No.\n: EStar?\n: Qty.\n: Year Manufactured\n: Capacity (ft.3)\n: Annual kWh/unit\n: Fuel Source\n: Condition\n: Additional Notes",null,null,null,null,null,null,null,{"$f":"ROW($L$87)","v":87},{"$f":"INDIRECT(\"'Inspection - Energy and Water'!\"&$M$87&$L89)&\": \"","v":": "},{"$f":"INDIRECT(\"'Inspection - Energy and Water'!\"&$M$87&ROW())","v":"Location of Equipment"},{"$f":"INDIRECT(\"'Inspection - Energy and Water'!\"&$O$87&$L89)&\": \"","v":": "},{"$f":"INDIRECT(\"'Inspection - Energy and Water'!\"&$O$87&ROW())","v":"Manufacturer"},{"$f":"INDIRECT(\"'Inspection - Energy and Water'!\"&$Q$87&$L89)&\": \"","v":": "},{"$f":"INDIRECT(\"'Inspection - Energy and Water'!\"&$Q$87&ROW())","v":"Model No."},{"$f":"INDIRECT(\"'Inspection - Energy and Water'!\"&$S$87&$L89)&\": \"","v":": "},"EStar?",{"$f":"INDIRECT(\"'Inspection - Energy and Water'!\"&$U$87&$L89)&\": \"","v":": "},{"$f":"INDIRECT(\"'Inspection - Energy and Water'!\"&$U$87&ROW())","v":"Qty."},{"$f":"INDIRECT(\"'Inspection - Energy and Water'!\"&$W$87&$L89)&\": \"","v":": "},{"$f":"INDIRECT(\"'Inspection - Energy and Water'!\"&$W$87&ROW())","v":"Year Manufactured"},{"$f":"INDIRECT(\"'Inspection - Energy and Water'!\"&$Y$87&$L89)&\": \"","v":": "},{"$f":"INDIRECT(\"'Inspection - Energy and Water'!\"&$Y$87&ROW())","v":"Capacity (ft.3)"},{"$f":"INDIRECT(\"'Inspection - Energy and Water'!\"&$AA$87&$L89)&\": \"","v":": "},{"$f":"INDIRECT(\"'Inspection - Energy and Water'!\"&$AA$87&ROW())","v":"Annual kWh/unit"},{"$f":"INDIRECT(\"'Inspection - Energy and Water'!\"&$AC$87&$L89)&\": \"","v":": "},{"$f":"INDIRECT(\"'Inspection - Energy and Water'!\"&$AC$87&ROW())","v":"Fuel Source"},{"$f":"INDIRECT(\"'Inspection - Energy and Water'!\"&$AE$87&$L89)&\": \"","v":": "},{"$f":"INDIRECT(\"'Inspection - Energy and Water'!\"&$AE$87&ROW())","v":"Condition"},{"$f":"INDIRECT(\"'Inspection - Energy and Water'!\"&$AG$87&$L89)&\": \"","v":": "},{"$f":"INDIRECT(\"'Inspection - Energy and Water'!\"&$AG$87&ROW())","v":"Additional Notes"}]
[null,null,"Vending Machine","",null,null,null,null,null,null,null,87,": ",0,": ",0,": ",0,": ",0,": ",0,": ",0,": ",0,": ",0,": ",0,": ",0,": ",0]
[null,null,"Clothes Washer","",null,null,null,null,null,null,null,87,": ",0,": ",0,": ",0,": ",0,": ",0,": ",0,": ",0,": ",0,": ",0,": ",0,": ",0]
[null,null,"Clothes Dryer","",null,null,null,null,null,null,null,87,": ",0,": ",0,": ",0,": ",0,": ",0,": ",0,": ",0,": ",0,": ",0,": ",0,": ",0]
[null,null,{"$f":"IF('Inspection - Energy and Water'!C95>0,'Inspection - Energy and Water'!C95,\"\")","v":""},"",null,null,null,null,null,null,null,87,": ",0,": ",0,": ",0,": ",0,": ",0,": ",0,": ",0,": ",0,": ",0,": ",0,": ",0]
[null,null,{"$f":"IF('Inspection - Energy and Water'!C96>0,'Inspection - Energy and Water'!C96,\"\")","v":""},"",null,null,null,null,null,null,null,87,": ",0,": ",0,": ",0,": ",0,": ",0,": ",0,": ",0,": ",0,": ",0,": ",0,": ",0]
[null,null,"Apartment Appliances",null,null,null,null,null,null,null,null,"Row Header","D",null,"F",null,"H",null,"I",null,"J",null,"K",null,"L",null,"M",null,"N",null,"O",null,"S"]
[null,null,"Refrigerators",{"$f":"IF(N96>0,M96&N96,\"\")&IF(P96>0,CHAR(10)&O96&P96,\"\")&IF(R96>0,CHAR(10)&Q96&R96,\"\")&IF(T96>0,CHAR(10)&S96&T96,\"\")&IF(V96>0,CHAR(10)&U96&V96,\"\")&IF(X96>0,CHAR(10)&W96&X96,\"\")&IF(Z96>0,CHAR(10)&Y96&Z96,\"\")&IF(AB96>0,CHAR(10)&AA96&AB96,\"\")&IF(AD96>0,CHAR(10)&AC96&AD96,\"\")&IF(AF96>0,CHAR(10)&AE96&AF96,\"\")&IF(AH96>0,CHAR(10)&AG96&AH96,\"\")&IF(AJ96>0,CHAR(10)&AI96&AJ96,\"\")&IF(AL96>0,CHAR(10)&AK96&AL96,\"\")&IF(AN96>0,CHAR(10)&AM96&AN96,\"\")&IF(AP96>0,CHAR(10)&AO96&AP96,\"\")&IF(AR96>0,CHAR(10)&AQ96&AR96,\"\")&IF(AT96>0,CHAR(10)&AS96&AT96,\"\")&IF(AV96>0,CHAR(10)&AU96&AV96,\"\")&IF(AX96>0,CHAR(10)&AW96&AX96,\"\")&IF(AZ96>0,CHAR(10)&AY96&AZ96,\"\")&IF(BB96>0,CHAR(10)&BA96&BB96,\"\")&IF(BD96>0,CHAR(10)&BC96&BD96,\"\")&IF(BF96>0,CHAR(10)&BE96&BF96,\"\")&IF(BH96>0,CHAR(10)&BG96&BH96,\"\")&IF(BJ96>0,CHAR(10)&BI96&BJ96,\"\")&IF(BL96>0,CHAR(10)&BK96&BL96,\"\")&IF(BN96>0,CHAR(10)&BM96&BN96,\"\")&IF(BP96>0,CHAR(10)&BO96&BP96,\"\")&IF(BR96>0,CHAR(10)&BQ96&BR96,\"\")&IF(BT96>0,CHAR(10)&BS96&BT96,\"\")&IF(BV96>0,CHAR(10)&BU96&BV96,\"\")&IF(BX96>0,CHAR(10)&BW96&BX96,\"\")&IF(BZ96>0,CHAR(10)&BY96&BZ96,\"\")&IF(CB96>0,CHAR(10)&CA96&CB96,\"\")&IF(CD96>0,CHAR(10)&CC96&CD96,\"\")&IF(CF96>0,CHAR(10)&CE96&CF96,\"\")","v":""},null,null,null,null,null,null,null,{"$f":"ROW($L$95)","v":95},{"$f":"INDIRECT(\"'Inspection - Energy and Water'!\"&$M$95&$L96)&\": \"","v":": "},{"$f":"INDIRECT(\"'Inspection - Energy and Water'!\"&$M$95&ROW())","v":0},{"$f":"INDIRECT(\"'Inspection - Energy and Water'!\"&$O$95&$L96)&\": \"","v":": "},{"$f":"INDIRECT(\"'Inspection - Energy and Water'!\"&$O$95&ROW())","v":0},{"$f":"INDIRECT(\"'Inspection - Energy and Water'!\"&$Q$95&$L96)&\": \"","v":": "},{"$f":"INDIRECT(\"'Inspection - Energy and Water'!\"&$Q$95&ROW())","v":0},{"$f":"INDIRECT(\"'Inspection - Energy and Water'!\"&$S$95&$L96)&\": \"","v":": "},{"$f":"INDIRECT(\"'Inspection - Energy and Water'!\"&$S$95&ROW())","v":0},{"$f":"INDIRECT(\"'Inspection - Energy and Water'!\"&$U$95&$L96)&\": \"","v":": "},{"$f":"INDIRECT(\"'Inspection - Energy and Water'!\"&$U$95&ROW())","v":0},{"$f":"INDIRECT(\"'Inspection - Energy and Water'!\"&$W$95&$L96)&\": \"","v":": "},{"$f":"INDIRECT(\"'Inspection - Energy and Water'!\"&$W$95&ROW())","v":0},{"$f":"INDIRECT(\"'Inspection - Energy and Water'!\"&$Y$95&$L96)&\": \"","v":": "},{"$f":"INDIRECT(\"'Inspection - Energy and Water'!\"&$Y$95&ROW())","v":0},{"$f":"INDIRECT(\"'Inspection - Energy and Water'!\"&$AA$95&$L96)&\": \"","v":": "},{"$f":"INDIRECT(\"'Inspection - Energy and Water'!\"&$AA$95&ROW())","v":0},{"$f":"INDIRECT(\"'Inspection - Energy and Water'!\"&$AC$95&$L96)&\": \"","v":": "},{"$f":"INDIRECT(\"'Inspection - Energy and Water'!\"&$AC$95&ROW())","v":0},{"$f":"INDIRECT(\"'Inspection - Energy and Water'!\"&$AE$95&$L96)&\": \"","v":": "},{"$f":"INDIRECT(\"'Inspection - Energy and Water'!\"&$AE$95&ROW())","v":0},{"$f":"INDIRECT(\"'Inspection - Energy and Water'!\"&$AG$95&$L96)&\": \"","v":": "},{"$f":"INDIRECT(\"'Inspection - Energy and Water'!\"&$AG$95&ROW())","v":0}]
[null,null,null,": List Apartment Numbers\n: Manufacturer\n: Model No.\n: EStar?\n: Qty.\n: Year Manufactured\n: Capacity (ft.3)\n: Annual kWh/unit\n: Fuel Source\n: Condition\n: Additional Notes",null,null,null,null,null,null,null,{"$f":"ROW($L$95)","v":95},{"$f":"INDIRECT(\"'Inspection - Energy and Water'!\"&$M$95&$L97)&\": \"","v":": "},{"$f":"INDIRECT(\"'Inspection - Energy and Water'!\"&$M$95&ROW())","v":"List Apartment Numbers"},{"$f":"INDIRECT(\"'Inspection - Energy and Water'!\"&$O$95&$L97)&\": \"","v":": "},{"$f":"INDIRECT(\"'Inspection - Energy and Water'!\"&$O$95&ROW())","v":"Manufacturer"},{"$f":"INDIRECT(\"'Inspection - Energy and Water'!\"&$Q$95&$L97)&\": \"","v":": "},{"$f":"INDIRECT(\"'Inspection - Energy and Water'!\"&$Q$95&ROW())","v":"Model No."},{"$f":"INDIRECT(\"'Inspection - Energy and Water'!\"&$S$95&$L97)&\": \"","v":": "},{"$f":"INDIRECT(\"'Inspection - Energy and Water'!\"&$S$95&ROW())","v":"EStar?"},{"$f":"INDIRECT(\"'Inspection - Energy and Water'!\"&$U$95&$L97)&\": \"","v":": "},{"$f":"INDIRECT(\"'Inspection - Energy and Water'!\"&$U$95&ROW())","v":"Qty."},{"$f":"INDIRECT(\"'Inspection - Energy and Water'!\"&$W$95&$L97)&\": \"","v":": "},{"$f":"INDIRECT(\"'Inspection - Energy and Water'!\"&$W$95&ROW())","v":"Year Manufactured"},{"$f":"INDIRECT(\"'Inspection - Energy and Water'!\"&$Y$95&$L97)&\": \"","v":": "},{"$f":"INDIRECT(\"'Inspection - Energy and Water'!\"&$Y$95&ROW())","v":"Capacity (ft.3)"},{"$f":"INDIRECT(\"'Inspection - Energy and Water'!\"&$AA$95&$L97)&\": \"","v":": "},{"$f":"INDIRECT(\"'Inspection - Energy and Water'!\"&$AA$95&ROW())","v":"Annual kWh/unit"},{"$f":"INDIRECT(\"'Inspection - Energy and Water'!\"&$AC$95&$L97)&\": \"","v":": "},{"$f":"INDIRECT(\"'Inspection - Energy and Water'!\"&$AC$95&ROW())","v":"Fuel Source"},{"$f":"INDIRECT(\"'Inspection - Energy and Water'!\"&$AE$95&$L97)&\": \"","v":": "},{"$f":"INDIRECT(\"'Inspection - Energy and Water'!\"&$AE$95&ROW())","v":"Condition"},{"$f":"INDIRECT(\"'Inspection - Energy and Water'!\"&$AG$95&$L97)&\": \"","v":": "},{"$f":"INDIRECT(\"'Inspection - Energy and Water'!\"&$AG$95&ROW())","v":"Additional Notes"}]
[null,null,null,"",null,null,null,null,null,null,null,95,": ",0,": ",0,": ",0,": ",0,": ",0,": ",0,": ",0,": ",0,": ",0,": ",0,": ",0]
[null,null,null,"",null,null,null,null,null,null,null,95,": ",0,": ",0,": ",0,": ",0,": ",0,": ",0,": ",0,": ",0,": ",0,": ",0,": ",0]
[null,null,null,"",null,null,null,null,null,null,null,95,": ",0,": ",0,": ",0,": ",0,": ",0,": ",0,": ",0,": ",0,": ",0,": ",0,": ",0]
[null,null,null,"",null,null,null,null,null,null,null,95,": ",0,": ",0,": ",0,": ",0,": ",0,": ",0,": ",0,": ",0,": ",0,": ",0,": ",0]
[null,null,"Dishwashers","",null,null,null,null,null,null,null,95,": ",0,": ",0,": ",0,": ",0,": ",0,": ",0,": ",0,": ",0,": ",0,": ",0,": ",0]
[null,null,"Stove/Range","",null,null,null,null,null,null,null,95,": ",0,": ",0,": ",0,": ",0,": ",0,": ",0,": ",0,": ",0,": ",0,": ",0,": ",0]
[null,null,null,"",null,null,null,null,null,null,null,95,": ",0,": ",0,": ",0,": ",0,": ",0,": ",0,": ",0,": ",0,": ",0,": ",0,": ",0]
[null,null,null,"",null,null,null,null,null,null,null,95,": ",0,": ",0,": ",0,": ",0,": ",0,": ",0,": ",0,": ",0,": ",0,": ",0,": ",0]
[null,null,{"$f":"IF('Inspection - Energy and Water'!C108>0,'Inspection - Energy and Water'!C108,\"\")","v":""},"",null,null,null,null,null,null,null,95,": ",0,": ",0,": ",0,": ",0,": ",0,": ",0,": ",0,": ",0,": ",0,": ",0,": ",0]
[null,null,{"$f":"IF('Inspection - Energy and Water'!C109>0,'Inspection - Energy and Water'!C109,\"\")","v":""},"",null,null,null,null,null,null,null,95,": ",0,": ",0,": ",0,": ",0,": ",0,": ",0,": ",0,": ",0,": ",0,": ",0,": ",0]
[null,null,{"$f":"IF('Inspection - Energy and Water'!C110>0,'Inspection - Energy and Water'!C110,\"\")","v":""},"",null,null,null,null,null,null,null,95,": ",0,": ",0,": ",0,": ",0,": ",0,": ",0,": ",0,": ",0,": ",0,": ",0,": ",0]
[]
[null,null,"Mechanical Systems"]
[null,null,"Heating Components",null,null,null,null,null,null,null,null,"Row Header","D",null,"G",null,"H",null,"J",null,"L",null,"M",null,"O",null,"P",null,"Q",null,"O",null,"R",null,"S",null,"T",null,"U",null,"V",null,"W",null,"X",null,"Y",null,"Z",null,"AA",null,"AB",null,"AC",null,"AD",null,"AE",null,"AF",null,"AG",null,"AH",null,"AI",null,"AJ",null,"AK",null,"AL",null,"AN",null,"AO"]
[]
[null,null,"Primary Heating System"]
[null,null,"Heating System",{"$f":"IF(N114>0,M114&N114,\"\")&IF(P114>0,CHAR(10)&O114&P114,\"\")&IF(R114>0,CHAR(10)&Q114&R114,\"\")&IF(T114>0,CHAR(10)&S114&T114,\"\")&IF(V114>0,CHAR(10)&U114&V114,\"\")&IF(X114>0,CHAR(10)&W114&X114,\"\")&IF(Z114>0,CHAR(10)&Y114&Z114,\"\")&IF(AB114>0,CHAR(10)&AA114&AB114,\"\")&IF(AD114>0,CHAR(10)&AC114&AD114,\"\")&IF(AF114>0,CHAR(10)&AE114&AF114,\"\")&IF(AH114>0,CHAR(10)&AG114&AH114,\"\")&IF(AJ114>0,CHAR(10)&AI114&AJ114,\"\")&IF(AL114>0,CHAR(10)&AK114&AL114,\"\")&IF(AN114>0,CHAR(10)&AM114&AN114,\"\")&IF(AP114>0,CHAR(10)&AO114&AP114,\"\")&IF(AR114>0,CHAR(10)&AQ114&AR114,\"\")&IF(OR(AT114>0,AV114>0,AX114>0,AZ114>0,BB114>0),CHAR(10)&\"Combustion Testing: \",\"\")&IF(AT114>0,\"     \"&CHAR(149)&AS114&AT114,\"\")&IF(AV114>0,\"     \"&CHAR(149)&AU114&AV114,\"\")&IF(AX114>0,\"     \"&CHAR(149)&AW114&AX114,\"\")&IF(AZ114>0,\"     \"&CHAR(149)&AY114&AZ114,\"\")&IF(BB114>0,\"     \"&CHAR(149)&BA114&BB114,\"\")&IF(BD114>0,\"     \"&CHAR(149)&BC114&BD114,\"\")&IF(BF114>0,CHAR(10)&BE114&BF114,\"\")&IF(BH114>0,CHAR(10)&BG114&BH114,\"\")&IF(OR(BJ114>0,BL114>0,BN114>0,BP114>0,BR114>0,BT114>0),CHAR(10)&\"Controls:\",\"\")&IF(BJ114>0,\"     \"&CHAR(149)&BI114&BJ114,\"\")&IF(BL114>0,\"     \"&CHAR(149)&BK114&BL114,\"\")&IF(BN114>0,\"     \"&CHAR(149)&BM114&BN114,\"\")&IF(BP114>0,\"     \"&CHAR(149)&BO114&BP114,\"\")&IF(BR114>0,\"     \"&CHAR(149)&BQ114&BR114,\"\")&IF(BT114>0,\"     \"&CHAR(149)&BS114&BT114,\"\")&IF(BV114>0,CHAR(10)&BU114&BV114,\"\")&IF(BX114>0,CHAR(10)&BW114&BX114,\"\")&IF(BZ114>0,CHAR(10)&BY114&BZ114,\"\")&IF(CB114>0,CHAR(10)&CA114&CB114,\"\")&IF(CD114>0,CHAR(10)&CC114&CD114,\"\")&IF(CF114>0,CHAR(10)&CE114&CF114,\"\")","v":"\nCombustion Testing:      •: Draft     •: Stack Temp.     •: % O2     •: % CO2     •: CO/CO air free     •: Combustion Efficiency\nControls:     •: Heat Timer     •: Energy Mgt. System (EMS)     •: Outdoor Air Reset     •: Night Setback     •: Sequencing Controls     •: Aquastat/ Pressuretrol"},null,null,null,null,null,null,null,{"$f":"ROW($L$111)","v":111},{"$f":"INDIRECT(\"'Inspection - Energy and Water'!\"&$M$111&$L114)&\": \"","v":": "},{"$f":"INDIRECT(\"'Inspection - Energy and Water'!\"&$M$111&ROW())","v":0},{"$f":"INDIRECT(\"'Inspection - Energy and Water'!\"&$O$111&$L114)&\": \"","v":": "},{"$f":"INDIRECT(\"'Inspection - Energy and Water'!\"&$O$111&ROW())","v":0},{"$f":"INDIRECT(\"'Inspection - Energy and Water'!\"&$Q$111&$L114)&\": \"","v":": "},{"$f":"INDIRECT(\"'Inspection - Energy and Water'!\"&$Q$111&ROW())","v":0},{"$f":"INDIRECT(\"'Inspection - Energy and Water'!\"&$S$111&$L114)&\": \"","v":": "},{"$f":"INDIRECT(\"'Inspection - Energy and Water'!\"&$S$111&ROW())","v":0},{"$f":"INDIRECT(\"'Inspection - Energy and Water'!\"&$U$111&$L114)&\": \"","v":": "},{"$f":"INDIRECT(\"'Inspection - Energy and Water'!\"&$U$111&ROW())","v":0},{"$f":"INDIRECT(\"'Inspection - Energy and Water'!\"&$W$111&$L114)&\": \"","v":": "},{"$f":"INDIRECT(\"'Inspection - Energy and Water'!\"&$W$111&ROW())","v":0},{"$f":"INDIRECT(\"'Inspection - Energy and Water'!\"&$Y$111&$L114)&\": \"","v":": "},{"$f":"INDIRECT(\"'Inspection - Energy and Water'!\"&$Y$111&ROW())","v":0},{"$f":"INDIRECT(\"'Inspection - Energy and Water'!\"&$AA$111&$L114)&\": \"","v":": "},{"$f":"INDIRECT(\"'Inspection - Energy and Water'!\"&$AA$111&ROW())","v":0},{"$f":"INDIRECT(\"'Inspection - Energy and Water'!\"&$AC$111&$L114)&\": \"","v":": "},{"$f":"INDIRECT(\"'Inspection - Energy and Water'!\"&$AC$111&ROW())","v":0},{"$f":"INDIRECT(\"'Inspection - Energy and Water'!\"&$AE$111&$L114)&\": \"","v":": "},{"$f":"INDIRECT(\"'Inspection - Energy and Water'!\"&$AE$111&ROW())","v":0},{"$f":"INDIRECT(\"'Inspection - Energy and Water'!\"&$AG$111&$L114)&\": \"","v":": "},{"$f":"INDIRECT(\"'Inspection - Energy and Water'!\"&$AG$111&ROW())","v":0},{"$f":"INDIRECT(\"'Inspection - Energy and Water'!\"&$AI$111&$L114)&\": \"","v":": "},{"$f":"INDIRECT(\"'Inspection - Energy and Water'!\"&$AI$111&ROW())","v":0},{"$f":"INDIRECT(\"'Inspection - Energy and Water'!\"&$AK$111&$L114)&\": \"","v":": "},{"$f":"INDIRECT(\"'Inspection - Energy and Water'!\"&$AK$111&ROW())","v":0},{"$f":"INDIRECT(\"'Inspection - Energy and Water'!\"&$AM$111&$L114)&\": \"","v":": "},{"$f":"INDIRECT(\"'Inspection - Energy and Water'!\"&$AM$111&ROW())","v":0},{"$f":"INDIRECT(\"'Inspection - Energy and Water'!\"&$AO$111&$L114)&\": \"","v":": "},{"$f":"INDIRECT(\"'Inspection - Energy and Water'!\"&$AO$111&ROW())","v":0},{"$f":"INDIRECT(\"'Inspection - Energy and Water'!\"&$AQ$111&$L114)&\": \"","v":": "},{"$f":"INDIRECT(\"'Inspection - Energy and Water'!\"&$AQ$111&ROW())","v":0},{"$f":"INDIRECT(\"'Inspection - Energy and Water'!\"&$AS$111&ROW($AS$112))&\": \"","v":": "},{"$f":"INDIRECT(\"'Inspection - Energy and Water'!\"&$AS$111&ROW())","v":"Draft"},{"$f":"INDIRECT(\"'Inspection - Energy and Water'!\"&$AU$111&ROW($AU$112))&\": \"","v":": "},{"$f":"INDIRECT(\"'Inspection - Energy and Water'!\"&$AU$111&ROW())","v":"Stack Temp."},{"$f":"INDIRECT(\"'Inspection - Energy and Water'!\"&$AW$111&ROW($AW$112))&\": \"","v":": "},{"$f":"INDIRECT(\"'Inspection - Energy and Water'!\"&$AW$111&ROW())","v":"% O2"},{"$f":"INDIRECT(\"'Inspection - Energy and Water'!\"&$AY$111&ROW($AY$112))&\": \"","v":": "},{"$f":"INDIRECT(\"'Inspection - Energy and Water'!\"&$AY$111&ROW())","v":"% CO2"},{"$f":"INDIRECT(\"'Inspection - Energy and Water'!\"&$BA$111&ROW($BA$112))&\": \"","v":": "},{"$f":"INDIRECT(\"'Inspection - Energy and Water'!\"&$BA$111&ROW())","v":"CO/CO air free"},{"$f":"INDIRECT(\"'Inspection - Energy and Water'!\"&$BC$111&ROW($BC$112))&\": \"","v":": "},{"$f":"INDIRECT(\"'Inspection - Energy and Water'!\"&$BC$111&ROW())","v":"Combustion Efficiency"},{"$f":"INDIRECT(\"'Inspection - Energy and Water'!\"&$BE$111&$L114)&\": \"","v":": "},{"$f":"INDIRECT(\"'Inspection - Energy and Water'!\"&$BE$111&ROW())","v":0},{"$f":"INDIRECT(\"'Inspection - Energy and Water'!\"&$BG$111&$L114)&\": \"","v":": "},{"$f":"INDIRECT(\"'Inspection - Energy and Water'!\"&$BG$111&ROW())","v":0},{"$f":"INDIRECT(\"'Inspection - Energy and Water'!\"&$BI$111&ROW($BI$112))&\": \"","v":": "},{"$f":"INDIRECT(\"'Inspection - Energy and Water'!\"&$BI$111&ROW())","v":"Heat Timer"},{"$f":"INDIRECT(\"'Inspection - Energy and Water'!\"&$BK$111&ROW($BK$112))&\": \"","v":": "},{"$f":"INDIRECT(\"'Inspection - Energy and Water'!\"&$BK$111&ROW())","v":"Energy Mgt. System (EMS)"},{"$f":"INDIRECT(\"'Inspection - Energy and Water'!\"&$BM$111&ROW($BM$112))&\": \"","v":": "},{"$f":"INDIRECT(\"'Inspection - Energy and Water'!\"&$BM$111&ROW())","v":"Outdoor Air Reset"},{"$f":"INDIRECT(\"'Inspection - Energy and Water'!\"&$BO$111&ROW($BO$112))&\": \"","v":": "},{"$f":"INDIRECT(\"'Inspection - Energy and Water'!\"&$BO$111&ROW())","v":"Night Setback"},{"$f":"INDIRECT(\"'Inspection - Energy and Water'!\"&$BQ$111&ROW($BQ$112))&\": \"","v":": "},{"$f":"INDIRECT(\"'Inspection - Energy and Water'!\"&$BQ$111&ROW())","v":"Sequencing Controls"},{"$f":"INDIRECT(\"'Inspection - Energy and Water'!\"&$BS$111&ROW($BS$112))&\": \"","v":": "},{"$f":"INDIRECT(\"'Inspection - Energy and Water'!\"&$BS$111&ROW())","v":"Aquastat/ Pressuretrol"},{"$f":"INDIRECT(\"'Inspection - Energy and Water'!\"&$BU$111&$L114)&\": \"","v":": "},{"$f":"INDIRECT(\"'Inspection - Energy and Water'!\"&$BU$111&ROW())","v":0},{"$f":"INDIRECT(\"'Inspection - Energy and Water'!\"&$BW$111&$L114)&\": \"","v":": "},{"$f":"INDIRECT(\"'Inspection - Energy and Water'!\"&$BW$111&ROW())","v":0},{"$f":"INDIRECT(\"'Inspection - Energy and Water'!\"&$BY$111&$L114)&\": \"","v":": "},{"$f":"INDIRECT(\"'Inspection - Energy and Water'!\"&$BY$111&ROW())","v":0}]
[null,null,"Burner",{"$f":"IF(N115>0,M115&N115,\"\")&IF(P115>0,CHAR(10)&O115&P115,\"\")&IF(R115>0,CHAR(10)&Q115&R115,\"\")&IF(T115>0,CHAR(10)&S115&T115,\"\")&IF(V115>0,CHAR(10)&U115&V115,\"\")&IF(X115>0,CHAR(10)&W115&X115,\"\")&IF(Z115>0,CHAR(10)&Y115&Z115,\"\")&IF(AB115>0,CHAR(10)&AA115&AB115,\"\")&IF(AD115>0,CHAR(10)&AC115&AD115,\"\")&IF(AF115>0,CHAR(10)&AE115&AF115,\"\")&IF(AH115>0,CHAR(10)&AG115&AH115,\"\")&IF(AJ115>0,CHAR(10)&AI115&AJ115,\"\")&IF(AL115>0,CHAR(10)&AK115&AL115,\"\")&IF(AN115>0,CHAR(10)&AM115&AN115,\"\")&IF(AP115>0,CHAR(10)&AO115&AP115,\"\")&IF(AR115>0,CHAR(10)&AQ115&AR115,\"\")&IF(OR(AT115>0,AV115>0,AX115>0,AZ115>0,BB115>0),CHAR(10)&\"Combustion Testing: \",\"\")&IF(AT115>0,\"     \"&CHAR(149)&AS115&AT115,\"\")&IF(AV115>0,\"     \"&CHAR(149)&AU115&AV115,\"\")&IF(AX115>0,\"     \"&CHAR(149)&AW115&AX115,\"\")&IF(AZ115>0,\"     \"&CHAR(149)&AY115&AZ115,\"\")&IF(BB115>0,\"     \"&CHAR(149)&BA115&BB115,\"\")&IF(BD115>0,\"     \"&CHAR(149)&BC115&BD115,\"\")&IF(BF115>0,CHAR(10)&BE115&BF115,\"\")&IF(BH115>0,CHAR(10)&BG115&BH115,\"\")&IF(OR(BJ115>0,BL115>0,BN115>0,BP115>0,BR115>0,BT115>0),CHAR(10)&\"Controls:\",\"\")&IF(BJ115>0,\"     \"&CHAR(149)&BI115&BJ115,\"\")&IF(BL115>0,\"     \"&CHAR(149)&BK115&BL115,\"\")&IF(BN115>0,\"     \"&CHAR(149)&BM115&BN115,\"\")&IF(BP115>0,\"     \"&CHAR(149)&BO115&BP115,\"\")&IF(BR115>0,\"     \"&CHAR(149)&BQ115&BR115,\"\")&IF(BT115>0,\"     \"&CHAR(149)&BS115&BT115,\"\")&IF(BV115>0,CHAR(10)&BU115&BV115,\"\")&IF(BX115>0,CHAR(10)&BW115&BX115,\"\")&IF(BZ115>0,CHAR(10)&BY115&BZ115,\"\")&IF(CB115>0,CHAR(10)&CA115&CB115,\"\")&IF(CD115>0,CHAR(10)&CC115&CD115,\"\")&IF(CF115>0,CHAR(10)&CE115&CF115,\"\")","v":""},null,null,null,null,null,null,null,{"$f":"ROW($L$111)","v":111},{"$f":"INDIRECT(\"'Inspection - Energy and Water'!\"&$M$111&$L115)&\": \"","v":": "},{"$f":"INDIRECT(\"'Inspection - Energy and Water'!\"&$M$111&ROW())","v":0},{"$f":"INDIRECT(\"'Inspection - Energy and Water'!\"&$O$111&$L115)&\": \"","v":": "},{"$f":"INDIRECT(\"'Inspection - Energy and Water'!\"&$O$111&ROW())","v":0},{"$f":"INDIRECT(\"'Inspection - Energy and Water'!\"&$Q$111&$L115)&\": \"","v":": "},{"$f":"INDIRECT(\"'Inspection - Energy and Water'!\"&$Q$111&ROW())","v":0},{"$f":"INDIRECT(\"'Inspection - Energy and Water'!\"&$S$111&$L115)&\": \"","v":": "},{"$f":"INDIRECT(\"'Inspection - Energy and Water'!\"&$S$111&ROW())","v":0},{"$f":"INDIRECT(\"'Inspection - Energy and Water'!\"&$U$111&$L115)&\": \"","v":": "},{"$f":"INDIRECT(\"'Inspection - Energy and Water'!\"&$U$111&ROW())","v":0},{"$f":"INDIRECT(\"'Inspection - Energy and Water'!\"&$W$111&$L115)&\": \"","v":": "},{"$f":"INDIRECT(\"'Inspection - Energy and Water'!\"&$W$111&ROW())","v":0},{"$f":"INDIRECT(\"'Inspection - Energy and Water'!\"&$Y$111&$L115)&\": \"","v":": "},{"$f":"INDIRECT(\"'Inspection - Energy and Water'!\"&$Y$111&ROW())","v":0},{"$f":"INDIRECT(\"'Inspection - Energy and Water'!\"&$AA$111&$L115)&\": \"","v":": "},{"$f":"INDIRECT(\"'Inspection - Energy and Water'!\"&$AA$111&ROW())","v":0},{"$f":"INDIRECT(\"'Inspection - Energy and Water'!\"&$AC$111&$L115)&\": \"","v":": "},{"$f":"INDIRECT(\"'Inspection - Energy and Water'!\"&$AC$111&ROW())","v":0},{"$f":"INDIRECT(\"'Inspection - Energy and Water'!\"&$AE$111&$L115)&\": \"","v":": "},{"$f":"INDIRECT(\"'Inspection - Energy and Water'!\"&$AE$111&ROW())","v":0},{"$f":"INDIRECT(\"'Inspection - Energy and Water'!\"&$AG$111&$L115)&\": \"","v":": "},{"$f":"INDIRECT(\"'Inspection - Energy and Water'!\"&$AG$111&ROW())","v":0},{"$f":"INDIRECT(\"'Inspection - Energy and Water'!\"&$AI$111&$L115)&\": \"","v":": "},{"$f":"INDIRECT(\"'Inspection - Energy and Water'!\"&$AI$111&ROW())","v":0},{"$f":"INDIRECT(\"'Inspection - Energy and Water'!\"&$AK$111&$L115)&\": \"","v":": "},{"$f":"INDIRECT(\"'Inspection - Energy and Water'!\"&$AK$111&ROW())","v":0},{"$f":"INDIRECT(\"'Inspection - Energy and Water'!\"&$AM$111&$L115)&\": \"","v":": "},{"$f":"INDIRECT(\"'Inspection - Energy and Water'!\"&$AM$111&ROW())","v":0},{"$f":"INDIRECT(\"'Inspection - Energy and Water'!\"&$AO$111&$L115)&\": \"","v":": "},{"$f":"INDIRECT(\"'Inspection - Energy and Water'!\"&$AO$111&ROW())","v":0},{"$f":"INDIRECT(\"'Inspection - Energy and Water'!\"&$AQ$111&$L115)&\": \"","v":": "},{"$f":"INDIRECT(\"'Inspection - Energy and Water'!\"&$AQ$111&ROW())","v":0},{"$f":"INDIRECT(\"'Inspection - Energy and Water'!\"&$AS$111&ROW($AS$112))&\": \"","v":": "},{"$f":"INDIRECT(\"'Inspection - Energy and Water'!\"&$AS$111&ROW())","v":0},{"$f":"INDIRECT(\"'Inspection - Energy and Water'!\"&$AU$111&ROW($AU$112))&\": \"","v":": "},{"$f":"INDIRECT(\"'Inspection - Energy and Water'!\"&$AU$111&ROW())","v":0},{"$f":"INDIRECT(\"'Inspection - Energy and Water'!\"&$AW$111&ROW($AW$112))&\": \"","v":": "},{"$f":"INDIRECT(\"'Inspection - Energy and Water'!\"&$AW$111&ROW())","v":0},{"$f":"INDIRECT(\"'Inspection - Energy and Water'!\"&$AY$111&ROW($AY$112))&\": \"","v":": "},{"$f":"INDIRECT(\"'Inspection - Energy and Water'!\"&$AY$111&ROW())","v":0},{"$f":"INDIRECT(\"'Inspection - Energy and Water'!\"&$BA$111&ROW($BA$112))&\": \"","v":": "},{"$f":"INDIRECT(\"'Inspection - Energy and Water'!\"&$BA$111&ROW())","v":0},{"$f":"INDIRECT(\"'Inspection - Energy and Water'!\"&$BC$111&ROW($BC$112))&\": \"","v":": "},{"$f":"INDIRECT(\"'Inspection - Energy and Water'!\"&$BC$111&ROW())","v":0},{"$f":"INDIRECT(\"'Inspection - Energy and Water'!\"&$BE$111&$L115)&\": \"","v":": "},{"$f":"INDIRECT(\"'Inspection - Energy and Water'!\"&$BE$111&ROW())","v":0},{"$f":"INDIRECT(\"'Inspection - Energy and Water'!\"&$BG$111&$L115)&\": \"","v":": "},{"$f":"INDIRECT(\"'Inspection - Energy and Water'!\"&$BG$111&ROW())","v":0},{"$f":"INDIRECT(\"'Inspection - Energy and Water'!\"&$BI$111&$L115)&\": \"","v":": "},{"$f":"INDIRECT(\"'Inspection - Energy and Water'!\"&$BI$111&ROW())","v":0},{"$f":"INDIRECT(\"'Inspection - Energy and Water'!\"&$BK$111&ROW($BK$112))&\": \"","v":": "},{"$f":"INDIRECT(\"'Inspection - Energy and Water'!\"&$BK$111&ROW())","v":0},{"$f":"INDIRECT(\"'Inspection - Energy and Water'!\"&$BM$111&ROW($BM$112))&\": \"","v":": "},{"$f":"INDIRECT(\"'Inspection - Energy and Water'!\"&$BM$111&ROW())","v":0},{"$f":"INDIRECT(\"'Inspection - Energy and Water'!\"&$BO$111&ROW($BO$112))&\": \"","v":": "},{"$f":"INDIRECT(\"'Inspection - Energy and Water'!\"&$BO$111&ROW())","v":0},{"$f":"INDIRECT(\"'Inspection - Energy and Water'!\"&$BQ$111&ROW($BQ$112))&\": \"","v":": "},{"$f":"INDIRECT(\"'Inspection - Energy and Water'!\"&$BQ$111&ROW())","v":0},{"$f":"INDIRECT(\"'Inspection - Energy and Water'!\"&$BS$111&ROW($BS$112))&\": \"","v":": "},{"$f":"INDIRECT(\"'Inspection - Energy and Water'!\"&$BS$111&ROW())","v":0},{"$f":"INDIRECT(\"'Inspection - Energy and Water'!\"&$BU$111&$L115)&\": \"","v":": "},{"$f":"INDIRECT(\"'Inspection - Energy and Water'!\"&$BU$111&ROW())","v":0},{"$f":"INDIRECT(\"'Inspection - Energy and Water'!\"&$BW$111&$L115)&\": \"","v":": "},{"$f":"INDIRECT(\"'Inspection - Energy and Water'!\"&$BW$111&ROW())","v":0},{"$f":"INDIRECT(\"'Inspection - Energy and Water'!\"&$BY$111&$L115)&\": \"","v":": "},{"$f":"INDIRECT(\"'Inspection - Energy and Water'!\"&$BY$111&ROW())","v":0}]
[null,null,"Oil Storage Tanks",{"$f":"IF(N116>0,M116&N116,\"\")&IF(P116>0,CHAR(10)&O116&P116,\"\")&IF(R116>0,CHAR(10)&Q116&R116,\"\")&IF(T116>0,CHAR(10)&S116&T116,\"\")&IF(V116>0,CHAR(10)&U116&V116,\"\")&IF(X116>0,CHAR(10)&W116&X116,\"\")&IF(Z116>0,CHAR(10)&Y116&Z116,\"\")&IF(AB116>0,CHAR(10)&AA116&AB116,\"\")&IF(AD116>0,CHAR(10)&AC116&AD116,\"\")&IF(AF116>0,CHAR(10)&AE116&AF116,\"\")&IF(AH116>0,CHAR(10)&AG116&AH116,\"\")&IF(AJ116>0,CHAR(10)&AI116&AJ116,\"\")&IF(AL116>0,CHAR(10)&AK116&AL116,\"\")&IF(AN116>0,CHAR(10)&AM116&AN116,\"\")&IF(AP116>0,CHAR(10)&AO116&AP116,\"\")&IF(AR116>0,CHAR(10)&AQ116&AR116,\"\")&IF(OR(AT116>0,AV116>0,AX116>0,AZ116>0,BB116>0),CHAR(10)&\"Combustion Testing: \",\"\")&IF(AT116>0,\"     \"&CHAR(149)&AS116&AT116,\"\")&IF(AV116>0,\"     \"&CHAR(149)&AU116&AV116,\"\")&IF(AX116>0,\"     \"&CHAR(149)&AW116&AX116,\"\")&IF(AZ116>0,\"     \"&CHAR(149)&AY116&AZ116,\"\")&IF(BB116>0,\"     \"&CHAR(149)&BA116&BB116,\"\")&IF(BD116>0,\"     \"&CHAR(149)&BC116&BD116,\"\")&IF(BF116>0,CHAR(10)&BE116&BF116,\"\")&IF(BH116>0,CHAR(10)&BG116&BH116,\"\")&IF(OR(BJ116>0,BL116>0,BN116>0,BP116>0,BR116>0,BT116>0),CHAR(10)&\"Controls:\",\"\")&IF(BJ116>0,\"     \"&CHAR(149)&BI116&BJ116,\"\")&IF(BL116>0,\"     \"&CHAR(149)&BK116&BL116,\"\")&IF(BN116>0,\"     \"&CHAR(149)&BM116&BN116,\"\")&IF(BP116>0,\"     \"&CHAR(149)&BO116&BP116,\"\")&IF(BR116>0,\"     \"&CHAR(149)&BQ116&BR116,\"\")&IF(BT116>0,\"     \"&CHAR(149)&BS116&BT116,\"\")&IF(BV116>0,CHAR(10)&BU116&BV116,\"\")&IF(BX116>0,CHAR(10)&BW116&BX116,\"\")&IF(BZ116>0,CHAR(10)&BY116&BZ116,\"\")&IF(CB116>0,CHAR(10)&CA116&CB116,\"\")&IF(CD116>0,CHAR(10)&CC116&CD116,\"\")&IF(CF116>0,CHAR(10)&CE116&CF116,\"\")","v":""},null,null,null,null,null,null,null,{"$f":"ROW($L$111)","v":111},{"$f":"INDIRECT(\"'Inspection - Energy and Water'!\"&$M$111&$L116)&\": \"","v":": "},{"$f":"INDIRECT(\"'Inspection - Energy and Water'!\"&$M$111&ROW())","v":0},{"$f":"INDIRECT(\"'Inspection - Energy and Water'!\"&$O$111&$L116)&\": \"","v":": "},{"$f":"INDIRECT(\"'Inspection - Energy and Water'!\"&$O$111&ROW())","v":0},{"$f":"INDIRECT(\"'Inspection - Energy and Water'!\"&$Q$111&$L116)&\": \"","v":": "},{"$f":"INDIRECT(\"'Inspection - Energy and Water'!\"&$Q$111&ROW())","v":0},{"$f":"INDIRECT(\"'Inspection - Energy and Water'!\"&$S$111&$L116)&\": \"","v":": "},{"$f":"INDIRECT(\"'Inspection - Energy and Water'!\"&$S$111&ROW())","v":0},{"$f":"INDIRECT(\"'Inspection - Energy and Water'!\"&$U$111&$L116)&\": \"","v":": "},{"$f":"INDIRECT(\"'Inspection - Energy and Water'!\"&$U$111&ROW())","v":0},{"$f":"INDIRECT(\"'Inspection - Energy and Water'!\"&$W$111&$L116)&\": \"","v":": "},{"$f":"INDIRECT(\"'Inspection - Energy and Water'!\"&$W$111&ROW())","v":0},{"$f":"INDIRECT(\"'Inspection - Energy and Water'!\"&$Y$111&$L116)&\": \"","v":": "},{"$f":"INDIRECT(\"'Inspection - Energy and Water'!\"&$Y$111&ROW())","v":0},{"$f":"INDIRECT(\"'Inspection - Energy and Water'!\"&$AA$111&$L116)&\": \"","v":": "},{"$f":"INDIRECT(\"'Inspection - Energy and Water'!\"&$AA$111&ROW())","v":0},{"$f":"INDIRECT(\"'Inspection - Energy and Water'!\"&$AC$111&$L116)&\": \"","v":": "},{"$f":"INDIRECT(\"'Inspection - Energy and Water'!\"&$AC$111&ROW())","v":0},{"$f":"INDIRECT(\"'Inspection - Energy and Water'!\"&$AE$111&$L116)&\": \"","v":": "},{"$f":"INDIRECT(\"'Inspection - Energy and Water'!\"&$AE$111&ROW())","v":0},{"$f":"INDIRECT(\"'Inspection - Energy and Water'!\"&$AG$111&$L116)&\": \"","v":": "},{"$f":"INDIRECT(\"'Inspection - Energy and Water'!\"&$AG$111&ROW())","v":0},{"$f":"INDIRECT(\"'Inspection - Energy and Water'!\"&$AI$111&$L116)&\": \"","v":": "},{"$f":"INDIRECT(\"'Inspection - Energy and Water'!\"&$AI$111&ROW())","v":0},{"$f":"INDIRECT(\"'Inspection - Energy and Water'!\"&$AK$111&$L116)&\": \"","v":": "},{"$f":"INDIRECT(\"'Inspection - Energy and Water'!\"&$AK$111&ROW())","v":0},{"$f":"INDIRECT(\"'Inspection - Energy and Water'!\"&$AM$111&$L116)&\": \"","v":": "},{"$f":"INDIRECT(\"'Inspection - Energy and Water'!\"&$AM$111&ROW())","v":0},{"$f":"INDIRECT(\"'Inspection - Energy and Water'!\"&$AO$111&$L116)&\": \"","v":": "},{"$f":"INDIRECT(\"'Inspection - Energy and Water'!\"&$AO$111&ROW())","v":0},{"$f":"INDIRECT(\"'Inspection - Energy and Water'!\"&$AQ$111&$L116)&\": \"","v":": "},{"$f":"INDIRECT(\"'Inspection - Energy and Water'!\"&$AQ$111&ROW())","v":0},{"$f":"INDIRECT(\"'Inspection - Energy and Water'!\"&$AS$111&ROW($AS$112))&\": \"","v":": "},{"$f":"INDIRECT(\"'Inspection - Energy and Water'!\"&$AS$111&ROW())","v":0},{"$f":"INDIRECT(\"'Inspection - Energy and Water'!\"&$AU$111&ROW($AU$112))&\": \"","v":": "},{"$f":"INDIRECT(\"'Inspection - Energy and Water'!\"&$AU$111&ROW())","v":0},{"$f":"INDIRECT(\"'Inspection - Energy and Water'!\"&$AW$111&ROW($AW$112))&\": \"","v":": "},{"$f":"INDIRECT(\"'Inspection - Energy and Water'!\"&$AW$111&ROW())","v":0},{"$f":"INDIRECT(\"'Inspection - Energy and Water'!\"&$AY$111&ROW($AY$112))&\": \"","v":": "},{"$f":"INDIRECT(\"'Inspection - Energy and Water'!\"&$AY$111&ROW())","v":0},{"$f":"INDIRECT(\"'Inspection - Energy and Water'!\"&$BA$111&ROW($BA$112))&\": \"","v":": "},{"$f":"INDIRECT(\"'Inspection - Energy and Water'!\"&$BA$111&ROW())","v":0},{"$f":"INDIRECT(\"'Inspection - Energy and Water'!\"&$BC$111&ROW($BC$112))&\": \"","v":": "},{"$f":"INDIRECT(\"'Inspection - Energy and Water'!\"&$BC$111&ROW())","v":0},{"$f":"INDIRECT(\"'Inspection - Energy and Water'!\"&$BE$111&$L116)&\": \"","v":": "},{"$f":"INDIRECT(\"'Inspection - Energy and Water'!\"&$BE$111&ROW())","v":0},{"$f":"INDIRECT(\"'Inspection - Energy and Water'!\"&$BG$111&$L116)&\": \"","v":": "},{"$f":"INDIRECT(\"'Inspection - Energy and Water'!\"&$BG$111&ROW())","v":0},{"$f":"INDIRECT(\"'Inspection - Energy and Water'!\"&$BI$111&$L116)&\": \"","v":": "},{"$f":"INDIRECT(\"'Inspection - Energy and Water'!\"&$BI$111&ROW())","v":0},{"$f":"INDIRECT(\"'Inspection - Energy and Water'!\"&$BK$111&ROW($BK$112))&\": \"","v":": "},{"$f":"INDIRECT(\"'Inspection - Energy and Water'!\"&$BK$111&ROW())","v":0},{"$f":"INDIRECT(\"'Inspection - Energy and Water'!\"&$BM$111&ROW($BM$112))&\": \"","v":": "},{"$f":"INDIRECT(\"'Inspection - Energy and Water'!\"&$BM$111&ROW())","v":0},{"$f":"INDIRECT(\"'Inspection - Energy and Water'!\"&$BO$111&ROW($BO$112))&\": \"","v":": "},{"$f":"INDIRECT(\"'Inspection - Energy and Water'!\"&$BO$111&ROW())","v":0},{"$f":"INDIRECT(\"'Inspection - Energy and Water'!\"&$BQ$111&ROW($BQ$112))&\": \"","v":": "},{"$f":"INDIRECT(\"'Inspection - Energy and Water'!\"&$BQ$111&ROW())","v":0},{"$f":"INDIRECT(\"'Inspection - Energy and Water'!\"&$BS$111&ROW($BS$112))&\": \"","v":": "},{"$f":"INDIRECT(\"'Inspection - Energy and Water'!\"&$BS$111&ROW())","v":0},{"$f":"INDIRECT(\"'Inspection - Energy and Water'!\"&$BU$111&$L116)&\": \"","v":": "},{"$f":"INDIRECT(\"'Inspection - Energy and Water'!\"&$BU$111&ROW())","v":0},{"$f":"INDIRECT(\"'Inspection - Energy and Water'!\"&$BW$111&$L116)&\": \"","v":": "},{"$f":"INDIRECT(\"'Inspection - Energy and Water'!\"&$BW$111&ROW())","v":0},{"$f":"INDIRECT(\"'Inspection - Energy and Water'!\"&$BY$111&$L116)&\": \"","v":": "},{"$f":"INDIRECT(\"'Inspection - Energy and Water'!\"&$BY$111&ROW())","v":0}]
[null,null,"End Use Equipment",{"$f":"IF(N117>0,M117&N117,\"\")&IF(P117>0,CHAR(10)&O117&P117,\"\")&IF(R117>0,CHAR(10)&Q117&R117,\"\")&IF(T117>0,CHAR(10)&S117&T117,\"\")&IF(V117>0,CHAR(10)&U117&V117,\"\")&IF(X117>0,CHAR(10)&W117&X117,\"\")&IF(Z117>0,CHAR(10)&Y117&Z117,\"\")&IF(AB117>0,CHAR(10)&AA117&AB117,\"\")&IF(AD117>0,CHAR(10)&AC117&AD117,\"\")&IF(AF117>0,CHAR(10)&AE117&AF117,\"\")&IF(AH117>0,CHAR(10)&AG117&AH117,\"\")&IF(AJ117>0,CHAR(10)&AI117&AJ117,\"\")&IF(AL117>0,CHAR(10)&AK117&AL117,\"\")&IF(AN117>0,CHAR(10)&AM117&AN117,\"\")&IF(AP117>0,CHAR(10)&AO117&AP117,\"\")&IF(AR117>0,CHAR(10)&AQ117&AR117,\"\")&IF(OR(AT117>0,AV117>0,AX117>0,AZ117>0,BB117>0),CHAR(10)&\"Combustion Testing: \",\"\")&IF(AT117>0,\"     \"&CHAR(149)&AS117&AT117,\"\")&IF(AV117>0,\"     \"&CHAR(149)&AU117&AV117,\"\")&IF(AX117>0,\"     \"&CHAR(149)&AW117&AX117,\"\")&IF(AZ117>0,\"     \"&CHAR(149)&AY117&AZ117,\"\")&IF(BB117>0,\"     \"&CHAR(149)&BA117&BB117,\"\")&IF(BD117>0,\"     \"&CHAR(149)&BC117&BD117,\"\")&IF(BF117>0,CHAR(10)&BE117&BF117,\"\")&IF(BH117>0,CHAR(10)&BG117&BH117,\"\")&IF(OR(BJ117>0,BL117>0,BN117>0,BP117>0,BR117>0,BT117>0),CHAR(10)&\"Controls:\",\"\")&IF(BJ117>0,\"     \"&CHAR(149)&BI117&BJ117,\"\")&IF(BL117>0,\"     \"&CHAR(149)&BK117&BL117,\"\")&IF(BN117>0,\"     \"&CHAR(149)&BM117&BN117,\"\")&IF(BP117>0,\"     \"&CHAR(149)&BO117&BP117,\"\")&IF(BR117>0,\"     \"&CHAR(149)&BQ117&BR117,\"\")&IF(BT117>0,\"     \"&CHAR(149)&BS117&BT117,\"\")&IF(BV117>0,CHAR(10)&BU117&BV117,\"\")&IF(BX117>0,CHAR(10)&BW117&BX117,\"\")&IF(BZ117>0,CHAR(10)&BY117&BZ117,\"\")&IF(CB117>0,CHAR(10)&CA117&CB117,\"\")&IF(CD117>0,CHAR(10)&CC117&CD117,\"\")&IF(CF117>0,CHAR(10)&CE117&CF117,\"\")","v":""},null,null,null,null,null,null,null,{"$f":"ROW($L$111)","v":111},{"$f":"INDIRECT(\"'Inspection - Energy and Water'!\"&$M$111&$L117)&\": \"","v":": "},{"$f":"INDIRECT(\"'Inspection - Energy and Water'!\"&$M$111&ROW())","v":0},{"$f":"INDIRECT(\"'Inspection - Energy and Water'!\"&$O$111&$L117)&\": \"","v":": "},{"$f":"INDIRECT(\"'Inspection - Energy and Water'!\"&$O$111&ROW())","v":0},{"$f":"INDIRECT(\"'Inspection - Energy and Water'!\"&$Q$111&$L117)&\": \"","v":": "},{"$f":"INDIRECT(\"'Inspection - Energy and Water'!\"&$Q$111&ROW())","v":0},{"$f":"INDIRECT(\"'Inspection - Energy and Water'!\"&$S$111&$L117)&\": \"","v":": "},{"$f":"INDIRECT(\"'Inspection - Energy and Water'!\"&$S$111&ROW())","v":0},{"$f":"INDIRECT(\"'Inspection - Energy and Water'!\"&$U$111&$L117)&\": \"","v":": "},{"$f":"INDIRECT(\"'Inspection - Energy and Water'!\"&$U$111&ROW())","v":0},{"$f":"INDIRECT(\"'Inspection - Energy and Water'!\"&$W$111&$L117)&\": \"","v":": "},{"$f":"INDIRECT(\"'Inspection - Energy and Water'!\"&$W$111&ROW())","v":0},{"$f":"INDIRECT(\"'Inspection - Energy and Water'!\"&$Y$111&$L117)&\": \"","v":": "},{"$f":"INDIRECT(\"'Inspection - Energy and Water'!\"&$Y$111&ROW())","v":0},{"$f":"INDIRECT(\"'Inspection - Energy and Water'!\"&$AA$111&$L117)&\": \"","v":": "},{"$f":"INDIRECT(\"'Inspection - Energy and Water'!\"&$AA$111&ROW())","v":0},{"$f":"INDIRECT(\"'Inspection - Energy and Water'!\"&$AC$111&$L117)&\": \"","v":": "},{"$f":"INDIRECT(\"'Inspection - Energy and Water'!\"&$AC$111&ROW())","v":0},{"$f":"INDIRECT(\"'Inspection - Energy and Water'!\"&$AE$111&$L117)&\": \"","v":": "},{"$f":"INDIRECT(\"'Inspection - Energy and Water'!\"&$AE$111&ROW())","v":0},{"$f":"INDIRECT(\"'Inspection - Energy and Water'!\"&$AG$111&$L117)&\": \"","v":": "},{"$f":"INDIRECT(\"'Inspection - Energy and Water'!\"&$AG$111&ROW())","v":0},{"$f":"INDIRECT(\"'Inspection - Energy and Water'!\"&$AI$111&$L117)&\": \"","v":": "},{"$f":"INDIRECT(\"'Inspection - Energy and Water'!\"&$AI$111&ROW())","v":0},{"$f":"INDIRECT(\"'Inspection - Energy and Water'!\"&$AK$111&$L117)&\": \"","v":": "},{"$f":"INDIRECT(\"'Inspection - Energy and Water'!\"&$AK$111&ROW())","v":0},{"$f":"INDIRECT(\"'Inspection - Energy and Water'!\"&$AM$111&$L117)&\": \"","v":": "},{"$f":"INDIRECT(\"'Inspection - Energy and Water'!\"&$AM$111&ROW())","v":0},{"$f":"INDIRECT(\"'Inspection - Energy and Water'!\"&$AO$111&$L117)&\": \"","v":": "},{"$f":"INDIRECT(\"'Inspection - Energy and Water'!\"&$AO$111&ROW())","v":0},{"$f":"INDIRECT(\"'Inspection - Energy and Water'!\"&$AQ$111&$L117)&\": \"","v":": "},{"$f":"INDIRECT(\"'Inspection - Energy and Water'!\"&$AQ$111&ROW())","v":0},{"$f":"INDIRECT(\"'Inspection - Energy and Water'!\"&$AS$111&ROW($AS$112))&\": \"","v":": "},{"$f":"INDIRECT(\"'Inspection - Energy and Water'!\"&$AS$111&ROW())","v":0},{"$f":"INDIRECT(\"'Inspection - Energy and Water'!\"&$AU$111&ROW($AU$112))&\": \"","v":": "},{"$f":"INDIRECT(\"'Inspection - Energy and Water'!\"&$AU$111&ROW())","v":0},{"$f":"INDIRECT(\"'Inspection - Energy and Water'!\"&$AW$111&ROW($AW$112))&\": \"","v":": "},{"$f":"INDIRECT(\"'Inspection - Energy and Water'!\"&$AW$111&ROW())","v":0},{"$f":"INDIRECT(\"'Inspection - Energy and Water'!\"&$AY$111&ROW($AY$112))&\": \"","v":": "},{"$f":"INDIRECT(\"'Inspection - Energy and Water'!\"&$AY$111&ROW())","v":0},{"$f":"INDIRECT(\"'Inspection - Energy and Water'!\"&$BA$111&ROW($BA$112))&\": \"","v":": "},{"$f":"INDIRECT(\"'Inspection - Energy and Water'!\"&$BA$111&ROW())","v":0},{"$f":"INDIRECT(\"'Inspection - Energy and Water'!\"&$BC$111&ROW($BC$112))&\": \"","v":": "},{"$f":"INDIRECT(\"'Inspection - Energy and Water'!\"&$BC$111&ROW())","v":0},{"$f":"INDIRECT(\"'Inspection - Energy and Water'!\"&$BE$111&$L117)&\": \"","v":": "},{"$f":"INDIRECT(\"'Inspection - Energy and Water'!\"&$BE$111&ROW())","v":0},{"$f":"INDIRECT(\"'Inspection - Energy and Water'!\"&$BG$111&$L117)&\": \"","v":": "},{"$f":"INDIRECT(\"'Inspection - Energy and Water'!\"&$BG$111&ROW())","v":0},{"$f":"INDIRECT(\"'Inspection - Energy and Water'!\"&$BI$111&$L117)&\": \"","v":": "},{"$f":"INDIRECT(\"'Inspection - Energy and Water'!\"&$BI$111&ROW())","v":0},{"$f":"INDIRECT(\"'Inspection - Energy and Water'!\"&$BK$111&ROW($BK$112))&\": \"","v":": "},{"$f":"INDIRECT(\"'Inspection - Energy and Water'!\"&$BK$111&ROW())","v":0},{"$f":"INDIRECT(\"'Inspection - Energy and Water'!\"&$BM$111&ROW($BM$112))&\": \"","v":": "},{"$f":"INDIRECT(\"'Inspection - Energy and Water'!\"&$BM$111&ROW())","v":0},{"$f":"INDIRECT(\"'Inspection - Energy and Water'!\"&$BO$111&ROW($BO$112))&\": \"","v":": "},{"$f":"INDIRECT(\"'Inspection - Energy and Water'!\"&$BO$111&ROW())","v":0},{"$f":"INDIRECT(\"'Inspection - Energy and Water'!\"&$BQ$111&ROW($BQ$112))&\": \"","v":": "},{"$f":"INDIRECT(\"'Inspection - Energy and Water'!\"&$BQ$111&ROW())","v":0},{"$f":"INDIRECT(\"'Inspection - Energy and Water'!\"&$BS$111&ROW($BS$112))&\": \"","v":": "},{"$f":"INDIRECT(\"'Inspection - Energy and Water'!\"&$BS$111&ROW())","v":0},{"$f":"INDIRECT(\"'Inspection - Energy and Water'!\"&$BU$111&$L117)&\": \"","v":": "},{"$f":"INDIRECT(\"'Inspection - Energy and Water'!\"&$BU$111&ROW())","v":0},{"$f":"INDIRECT(\"'Inspection - Energy and Water'!\"&$BW$111&$L117)&\": \"","v":": "},{"$f":"INDIRECT(\"'Inspection - Energy and Water'!\"&$BW$111&ROW())","v":0},{"$f":"INDIRECT(\"'Inspection - Energy and Water'!\"&$BY$111&$L117)&\": \"","v":": "},{"$f":"INDIRECT(\"'Inspection - Energy and Water'!\"&$BY$111&ROW())","v":0}]
[null,null,"Secondary Heating System"]
[null,null,"Heating System",{"$f":"IF(N119>0,M119&N119,\"\")&IF(P119>0,CHAR(10)&O119&P119,\"\")&IF(R119>0,CHAR(10)&Q119&R119,\"\")&IF(T119>0,CHAR(10)&S119&T119,\"\")&IF(V119>0,CHAR(10)&U119&V119,\"\")&IF(X119>0,CHAR(10)&W119&X119,\"\")&IF(Z119>0,CHAR(10)&Y119&Z119,\"\")&IF(AB119>0,CHAR(10)&AA119&AB119,\"\")&IF(AD119>0,CHAR(10)&AC119&AD119,\"\")&IF(AF119>0,CHAR(10)&AE119&AF119,\"\")&IF(AH119>0,CHAR(10)&AG119&AH119,\"\")&IF(AJ119>0,CHAR(10)&AI119&AJ119,\"\")&IF(AL119>0,CHAR(10)&AK119&AL119,\"\")&IF(AN119>0,CHAR(10)&AM119&AN119,\"\")&IF(AP119>0,CHAR(10)&AO119&AP119,\"\")&IF(AR119>0,CHAR(10)&AQ119&AR119,\"\")&IF(OR(AT119>0,AV119>0,AX119>0,AZ119>0,BB119>0),CHAR(10)&\"Combustion Testing: \",\"\")&IF(AT119>0,\"     \"&CHAR(149)&AS119&AT119,\"\")&IF(AV119>0,\"     \"&CHAR(149)&AU119&AV119,\"\")&IF(AX119>0,\"     \"&CHAR(149)&AW119&AX119,\"\")&IF(AZ119>0,\"     \"&CHAR(149)&AY119&AZ119,\"\")&IF(BB119>0,\"     \"&CHAR(149)&BA119&BB119,\"\")&IF(BD119>0,\"     \"&CHAR(149)&BC119&BD119,\"\")&IF(BF119>0,CHAR(10)&BE119&BF119,\"\")&IF(BH119>0,CHAR(10)&BG119&BH119,\"\")&IF(OR(BJ119>0,BL119>0,BN119>0,BP119>0,BR119>0,BT119>0),CHAR(10)&\"Controls:\",\"\")&IF(BJ119>0,\"     \"&CHAR(149)&BI119&BJ119,\"\")&IF(BL119>0,\"     \"&CHAR(149)&BK119&BL119,\"\")&IF(BN119>0,\"     \"&CHAR(149)&BM119&BN119,\"\")&IF(BP119>0,\"     \"&CHAR(149)&BO119&BP119,\"\")&IF(BR119>0,\"     \"&CHAR(149)&BQ119&BR119,\"\")&IF(BT119>0,\"     \"&CHAR(149)&BS119&BT119,\"\")&IF(BV119>0,CHAR(10)&BU119&BV119,\"\")&IF(BX119>0,CHAR(10)&BW119&BX119,\"\")&IF(BZ119>0,CHAR(10)&BY119&BZ119,\"\")&IF(CB119>0,CHAR(10)&CA119&CB119,\"\")&IF(CD119>0,CHAR(10)&CC119&CD119,\"\")&IF(CF119>0,CHAR(10)&CE119&CF119,\"\")","v":""},null,null,null,null,null,null,null,{"$f":"ROW($L$111)","v":111},{"$f":"INDIRECT(\"'Inspection - Energy and Water'!\"&$M$111&$L119)&\": \"","v":": "},{"$f":"INDIRECT(\"'Inspection - Energy and Water'!\"&$M$111&ROW())","v":0},{"$f":"INDIRECT(\"'Inspection - Energy and Water'!\"&$O$111&$L119)&\": \"","v":": "},{"$f":"INDIRECT(\"'Inspection - Energy and Water'!\"&$O$111&ROW())","v":0},{"$f":"INDIRECT(\"'Inspection - Energy and Water'!\"&$Q$111&$L119)&\": \"","v":": "},{"$f":"INDIRECT(\"'Inspection - Energy and Water'!\"&$Q$111&ROW())","v":0},{"$f":"INDIRECT(\"'Inspection - Energy and Water'!\"&$S$111&$L119)&\": \"","v":": "},{"$f":"INDIRECT(\"'Inspection - Energy and Water'!\"&$S$111&ROW())","v":0},{"$f":"INDIRECT(\"'Inspection - Energy and Water'!\"&$U$111&$L119)&\": \"","v":": "},{"$f":"INDIRECT(\"'Inspection - Energy and Water'!\"&$U$111&ROW())","v":0},{"$f":"INDIRECT(\"'Inspection - Energy and Water'!\"&$W$111&$L119)&\": \"","v":": "},{"$f":"INDIRECT(\"'Inspection - Energy and Water'!\"&$W$111&ROW())","v":0},{"$f":"INDIRECT(\"'Inspection - Energy and Water'!\"&$Y$111&$L119)&\": \"","v":": "},{"$f":"INDIRECT(\"'Inspection - Energy and Water'!\"&$Y$111&ROW())","v":0},{"$f":"INDIRECT(\"'Inspection - Energy and Water'!\"&$AA$111&$L119)&\": \"","v":": "},{"$f":"INDIRECT(\"'Inspection - Energy and Water'!\"&$AA$111&ROW())","v":0},{"$f":"INDIRECT(\"'Inspection - Energy and Water'!\"&$AC$111&$L119)&\": \"","v":": "},{"$f":"INDIRECT(\"'Inspection - Energy and Water'!\"&$AC$111&ROW())","v":0},{"$f":"INDIRECT(\"'Inspection - Energy and Water'!\"&$AE$111&$L119)&\": \"","v":": "},{"$f":"INDIRECT(\"'Inspection - Energy and Water'!\"&$AE$111&ROW())","v":0},{"$f":"INDIRECT(\"'Inspection - Energy and Water'!\"&$AG$111&$L119)&\": \"","v":": "},{"$f":"INDIRECT(\"'Inspection - Energy and Water'!\"&$AG$111&ROW())","v":0},{"$f":"INDIRECT(\"'Inspection - Energy and Water'!\"&$AI$111&$L119)&\": \"","v":": "},{"$f":"INDIRECT(\"'Inspection - Energy and Water'!\"&$AI$111&ROW())","v":0},{"$f":"INDIRECT(\"'Inspection - Energy and Water'!\"&$AK$111&$L119)&\": \"","v":": "},{"$f":"INDIRECT(\"'Inspection - Energy and Water'!\"&$AK$111&ROW())","v":0},{"$f":"INDIRECT(\"'Inspection - Energy and Water'!\"&$AM$111&$L119)&\": \"","v":": "},{"$f":"INDIRECT(\"'Inspection - Energy and Water'!\"&$AM$111&ROW())","v":0},{"$f":"INDIRECT(\"'Inspection - Energy and Water'!\"&$AO$111&$L119)&\": \"","v":": "},{"$f":"INDIRECT(\"'Inspection - Energy and Water'!\"&$AO$111&ROW())","v":0},{"$f":"INDIRECT(\"'Inspection - Energy and Water'!\"&$AQ$111&$L119)&\": \"","v":": "},{"$f":"INDIRECT(\"'Inspection - Energy and Water'!\"&$AQ$111&ROW())","v":0},{"$f":"INDIRECT(\"'Inspection - Energy and Water'!\"&$AS$111&$L119)&\": \"","v":": "},{"$f":"INDIRECT(\"'Inspection - Energy and Water'!\"&$AS$111&ROW())","v":0},{"$f":"INDIRECT(\"'Inspection - Energy and Water'!\"&$AU$111&ROW($AU$112))&\": \"","v":": "},{"$f":"INDIRECT(\"'Inspection - Energy and Water'!\"&$AU$111&ROW())","v":0},{"$f":"INDIRECT(\"'Inspection - Energy and Water'!\"&$AW$111&ROW($AW$112))&\": \"","v":": "},{"$f":"INDIRECT(\"'Inspection - Energy and Water'!\"&$AW$111&ROW())","v":0},{"$f":"INDIRECT(\"'Inspection - Energy and Water'!\"&$AY$111&ROW($AY$112))&\": \"","v":": "},{"$f":"INDIRECT(\"'Inspection - Energy and Water'!\"&$AY$111&ROW())","v":0},{"$f":"INDIRECT(\"'Inspection - Energy and Water'!\"&$BA$111&ROW($BA$112))&\": \"","v":": "},{"$f":"INDIRECT(\"'Inspection - Energy and Water'!\"&$BA$111&ROW())","v":0},{"$f":"INDIRECT(\"'Inspection - Energy and Water'!\"&$BC$111&ROW($BC$112))&\": \"","v":": "},{"$f":"INDIRECT(\"'Inspection - Energy and Water'!\"&$BC$111&ROW())","v":0},{"$f":"INDIRECT(\"'Inspection - Energy and Water'!\"&$BE$111&$L119)&\": \"","v":": "},{"$f":"INDIRECT(\"'Inspection - Energy and Water'!\"&$BE$111&ROW())","v":0},{"$f":"INDIRECT(\"'Inspection - Energy and Water'!\"&$BG$111&$L119)&\": \"","v":": "},{"$f":"INDIRECT(\"'Inspection - Energy and Water'!\"&$BG$111&ROW())","v":0},{"$f":"INDIRECT(\"'Inspection - Energy and Water'!\"&$BI$111&$L119)&\": \"","v":": "},{"$f":"INDIRECT(\"'Inspection - Energy and Water'!\"&$BI$111&ROW())","v":0},{"$f":"INDIRECT(\"'Inspection - Energy and Water'!\"&$BK$111&ROW($BK$112))&\": \"","v":": "},{"$f":"INDIRECT(\"'Inspection - Energy and Water'!\"&$BK$111&ROW())","v":0},{"$f":"INDIRECT(\"'Inspection - Energy and Water'!\"&$BM$111&ROW($BM$112))&\": \"","v":": "},{"$f":"INDIRECT(\"'Inspection - Energy and Water'!\"&$BM$111&ROW())","v":0},{"$f":"INDIRECT(\"'Inspection - Energy and Water'!\"&$BO$111&ROW($BO$112))&\": \"","v":": "},{"$f":"INDIRECT(\"'Inspection - Energy and Water'!\"&$BO$111&ROW())","v":0},{"$f":"INDIRECT(\"'Inspection - Energy and Water'!\"&$BQ$111&ROW($BQ$112))&\": \"","v":": "},{"$f":"INDIRECT(\"'Inspection - Energy and Water'!\"&$BQ$111&ROW())","v":0},{"$f":"INDIRECT(\"'Inspection - Energy and Water'!\"&$BS$111&ROW($BS$112))&\": \"","v":": "},{"$f":"INDIRECT(\"'Inspection - Energy and Water'!\"&$BS$111&ROW())","v":0},{"$f":"INDIRECT(\"'Inspection - Energy and Water'!\"&$BU$111&$L119)&\": \"","v":": "},{"$f":"INDIRECT(\"'Inspection - Energy and Water'!\"&$BU$111&ROW())","v":0},{"$f":"INDIRECT(\"'Inspection - Energy and Water'!\"&$BW$111&$L119)&\": \"","v":": "},{"$f":"INDIRECT(\"'Inspection - Energy and Water'!\"&$BW$111&ROW())","v":0},{"$f":"INDIRECT(\"'Inspection - Energy and Water'!\"&$BY$111&$L119)&\": \"","v":": "},{"$f":"INDIRECT(\"'Inspection - Energy and Water'!\"&$BY$111&ROW())","v":0}]
[null,null,"Burner",{"$f":"IF(N120>0,M120&N120,\"\")&IF(P120>0,CHAR(10)&O120&P120,\"\")&IF(R120>0,CHAR(10)&Q120&R120,\"\")&IF(T120>0,CHAR(10)&S120&T120,\"\")&IF(V120>0,CHAR(10)&U120&V120,\"\")&IF(X120>0,CHAR(10)&W120&X120,\"\")&IF(Z120>0,CHAR(10)&Y120&Z120,\"\")&IF(AB120>0,CHAR(10)&AA120&AB120,\"\")&IF(AD120>0,CHAR(10)&AC120&AD120,\"\")&IF(AF120>0,CHAR(10)&AE120&AF120,\"\")&IF(AH120>0,CHAR(10)&AG120&AH120,\"\")&IF(AJ120>0,CHAR(10)&AI120&AJ120,\"\")&IF(AL120>0,CHAR(10)&AK120&AL120,\"\")&IF(AN120>0,CHAR(10)&AM120&AN120,\"\")&IF(AP120>0,CHAR(10)&AO120&AP120,\"\")&IF(AR120>0,CHAR(10)&AQ120&AR120,\"\")&IF(OR(AT120>0,AV120>0,AX120>0,AZ120>0,BB120>0),CHAR(10)&\"Combustion Testing: \",\"\")&IF(AT120>0,\"     \"&CHAR(149)&AS120&AT120,\"\")&IF(AV120>0,\"     \"&CHAR(149)&AU120&AV120,\"\")&IF(AX120>0,\"     \"&CHAR(149)&AW120&AX120,\"\")&IF(AZ120>0,\"     \"&CHAR(149)&AY120&AZ120,\"\")&IF(BB120>0,\"     \"&CHAR(149)&BA120&BB120,\"\")&IF(BD120>0,\"     \"&CHAR(149)&BC120&BD120,\"\")&IF(BF120>0,CHAR(10)&BE120&BF120,\"\")&IF(BH120>0,CHAR(10)&BG120&BH120,\"\")&IF(OR(BJ120>0,BL120>0,BN120>0,BP120>0,BR120>0,BT120>0),CHAR(10)&\"Controls:\",\"\")&IF(BJ120>0,\"     \"&CHAR(149)&BI120&BJ120,\"\")&IF(BL120>0,\"     \"&CHAR(149)&BK120&BL120,\"\")&IF(BN120>0,\"     \"&CHAR(149)&BM120&BN120,\"\")&IF(BP120>0,\"     \"&CHAR(149)&BO120&BP120,\"\")&IF(BR120>0,\"     \"&CHAR(149)&BQ120&BR120,\"\")&IF(BT120>0,\"     \"&CHAR(149)&BS120&BT120,\"\")&IF(BV120>0,CHAR(10)&BU120&BV120,\"\")&IF(BX120>0,CHAR(10)&BW120&BX120,\"\")&IF(BZ120>0,CHAR(10)&BY120&BZ120,\"\")&IF(CB120>0,CHAR(10)&CA120&CB120,\"\")&IF(CD120>0,CHAR(10)&CC120&CD120,\"\")&IF(CF120>0,CHAR(10)&CE120&CF120,\"\")","v":""},null,null,null,null,null,null,null,{"$f":"ROW($L$111)","v":111},{"$f":"INDIRECT(\"'Inspection - Energy and Water'!\"&$M$111&$L120)&\": \"","v":": "},{"$f":"INDIRECT(\"'Inspection - Energy and Water'!\"&$M$111&ROW())","v":0},{"$f":"INDIRECT(\"'Inspection - Energy and Water'!\"&$O$111&$L120)&\": \"","v":": "},{"$f":"INDIRECT(\"'Inspection - Energy and Water'!\"&$O$111&ROW())","v":0},{"$f":"INDIRECT(\"'Inspection - Energy and Water'!\"&$Q$111&$L120)&\": \"","v":": "},{"$f":"INDIRECT(\"'Inspection - Energy and Water'!\"&$Q$111&ROW())","v":0},{"$f":"INDIRECT(\"'Inspection - Energy and Water'!\"&$S$111&$L120)&\": \"","v":": "},{"$f":"INDIRECT(\"'Inspection - Energy and Water'!\"&$S$111&ROW())","v":0},{"$f":"INDIRECT(\"'Inspection - Energy and Water'!\"&$U$111&$L120)&\": \"","v":": "},{"$f":"INDIRECT(\"'Inspection - Energy and Water'!\"&$U$111&ROW())","v":0},{"$f":"INDIRECT(\"'Inspection - Energy and Water'!\"&$W$111&$L120)&\": \"","v":": "},{"$f":"INDIRECT(\"'Inspection - Energy and Water'!\"&$W$111&ROW())","v":0},{"$f":"INDIRECT(\"'Inspection - Energy and Water'!\"&$Y$111&$L120)&\": \"","v":": "},{"$f":"INDIRECT(\"'Inspection - Energy and Water'!\"&$Y$111&ROW())","v":0},{"$f":"INDIRECT(\"'Inspection - Energy and Water'!\"&$AA$111&$L120)&\": \"","v":": "},{"$f":"INDIRECT(\"'Inspection - Energy and Water'!\"&$AA$111&ROW())","v":0},{"$f":"INDIRECT(\"'Inspection - Energy and Water'!\"&$AC$111&$L120)&\": \"","v":": "},{"$f":"INDIRECT(\"'Inspection - Energy and Water'!\"&$AC$111&ROW())","v":0},{"$f":"INDIRECT(\"'Inspection - Energy and Water'!\"&$AE$111&$L120)&\": \"","v":": "},{"$f":"INDIRECT(\"'Inspection - Energy and Water'!\"&$AE$111&ROW())","v":0},{"$f":"INDIRECT(\"'Inspection - Energy and Water'!\"&$AG$111&$L120)&\": \"","v":": "},{"$f":"INDIRECT(\"'Inspection - Energy and Water'!\"&$AG$111&ROW())","v":0},{"$f":"INDIRECT(\"'Inspection - Energy and Water'!\"&$AI$111&$L120)&\": \"","v":": "},{"$f":"INDIRECT(\"'Inspection - Energy and Water'!\"&$AI$111&ROW())","v":0},{"$f":"INDIRECT(\"'Inspection - Energy and Water'!\"&$AK$111&$L120)&\": \"","v":": "},{"$f":"INDIRECT(\"'Inspection - Energy and Water'!\"&$AK$111&ROW())","v":0},{"$f":"INDIRECT(\"'Inspection - Energy and Water'!\"&$AM$111&$L120)&\": \"","v":": "},{"$f":"INDIRECT(\"'Inspection - Energy and Water'!\"&$AM$111&ROW())","v":0},{"$f":"INDIRECT(\"'Inspection - Energy and Water'!\"&$AO$111&$L120)&\": \"","v":": "},{"$f":"INDIRECT(\"'Inspection - Energy and Water'!\"&$AO$111&ROW())","v":0},{"$f":"INDIRECT(\"'Inspection - Energy and Water'!\"&$AQ$111&$L120)&\": \"","v":": "},{"$f":"INDIRECT(\"'Inspection - Energy and Water'!\"&$AQ$111&ROW())","v":0},{"$f":"INDIRECT(\"'Inspection - Energy and Water'!\"&$AS$111&$L120)&\": \"","v":": "},{"$f":"INDIRECT(\"'Inspection - Energy and Water'!\"&$AS$111&ROW())","v":0},{"$f":"INDIRECT(\"'Inspection - Energy and Water'!\"&$AU$111&ROW($AU$112))&\": \"","v":": "},{"$f":"INDIRECT(\"'Inspection - Energy and Water'!\"&$AU$111&ROW())","v":0},{"$f":"INDIRECT(\"'Inspection - Energy and Water'!\"&$AW$111&ROW($AW$112))&\": \"","v":": "},{"$f":"INDIRECT(\"'Inspection - Energy and Water'!\"&$AW$111&ROW())","v":0},{"$f":"INDIRECT(\"'Inspection - Energy and Water'!\"&$AY$111&ROW($AY$112))&\": \"","v":": "},{"$f":"INDIRECT(\"'Inspection - Energy and Water'!\"&$AY$111&ROW())","v":0},{"$f":"INDIRECT(\"'Inspection - Energy and Water'!\"&$BA$111&ROW($BA$112))&\": \"","v":": "},{"$f":"INDIRECT(\"'Inspection - Energy and Water'!\"&$BA$111&ROW())","v":0},{"$f":"INDIRECT(\"'Inspection - Energy and Water'!\"&$BC$111&ROW($BC$112))&\": \"","v":": "},{"$f":"INDIRECT(\"'Inspection - Energy and Water'!\"&$BC$111&ROW())","v":0},{"$f":"INDIRECT(\"'Inspection - Energy and Water'!\"&$BE$111&$L120)&\": \"","v":": "},{"$f":"INDIRECT(\"'Inspection - Energy and Water'!\"&$BE$111&ROW())","v":0},{"$f":"INDIRECT(\"'Inspection - Energy and Water'!\"&$BG$111&$L120)&\": \"","v":": "},{"$f":"INDIRECT(\"'Inspection - Energy and Water'!\"&$BG$111&ROW())","v":0},{"$f":"INDIRECT(\"'Inspection - Energy and Water'!\"&$BI$111&$L120)&\": \"","v":": "},{"$f":"INDIRECT(\"'Inspection - Energy and Water'!\"&$BI$111&ROW())","v":0},{"$f":"INDIRECT(\"'Inspection - Energy and Water'!\"&$BK$111&ROW($BK$112))&\": \"","v":": "},{"$f":"INDIRECT(\"'Inspection - Energy and Water'!\"&$BK$111&ROW())","v":0},{"$f":"INDIRECT(\"'Inspection - Energy and Water'!\"&$BM$111&ROW($BM$112))&\": \"","v":": "},{"$f":"INDIRECT(\"'Inspection - Energy and Water'!\"&$BM$111&ROW())","v":0},{"$f":"INDIRECT(\"'Inspection - Energy and Water'!\"&$BO$111&ROW($BO$112))&\": \"","v":": "},{"$f":"INDIRECT(\"'Inspection - Energy and Water'!\"&$BO$111&ROW())","v":0},{"$f":"INDIRECT(\"'Inspection - Energy and Water'!\"&$BQ$111&ROW($BQ$112))&\": \"","v":": "},{"$f":"INDIRECT(\"'Inspection - Energy and Water'!\"&$BQ$111&ROW())","v":0},{"$f":"INDIRECT(\"'Inspection - Energy and Water'!\"&$BS$111&ROW($BS$112))&\": \"","v":": "},{"$f":"INDIRECT(\"'Inspection - Energy and Water'!\"&$BS$111&ROW())","v":0},{"$f":"INDIRECT(\"'Inspection - Energy and Water'!\"&$BU$111&$L120)&\": \"","v":": "},{"$f":"INDIRECT(\"'Inspection - Energy and Water'!\"&$BU$111&ROW())","v":0},{"$f":"INDIRECT(\"'Inspection - Energy and Water'!\"&$BW$111&$L120)&\": \"","v":": "},{"$f":"INDIRECT(\"'Inspection - Energy and Water'!\"&$BW$111&ROW())","v":0},{"$f":"INDIRECT(\"'Inspection - Energy and Water'!\"&$BY$111&$L120)&\": \"","v":": "},{"$f":"INDIRECT(\"'Inspection - Energy and Water'!\"&$BY$111&ROW())","v":0}]
[null,null,"End Use Equipment",{"$f":"IF(N121>0,M121&N121,\"\")&IF(P121>0,CHAR(10)&O121&P121,\"\")&IF(R121>0,CHAR(10)&Q121&R121,\"\")&IF(T121>0,CHAR(10)&S121&T121,\"\")&IF(V121>0,CHAR(10)&U121&V121,\"\")&IF(X121>0,CHAR(10)&W121&X121,\"\")&IF(Z121>0,CHAR(10)&Y121&Z121,\"\")&IF(AB121>0,CHAR(10)&AA121&AB121,\"\")&IF(AD121>0,CHAR(10)&AC121&AD121,\"\")&IF(AF121>0,CHAR(10)&AE121&AF121,\"\")&IF(AH121>0,CHAR(10)&AG121&AH121,\"\")&IF(AJ121>0,CHAR(10)&AI121&AJ121,\"\")&IF(AL121>0,CHAR(10)&AK121&AL121,\"\")&IF(AN121>0,CHAR(10)&AM121&AN121,\"\")&IF(AP121>0,CHAR(10)&AO121&AP121,\"\")&IF(AR121>0,CHAR(10)&AQ121&AR121,\"\")&IF(OR(AT121>0,AV121>0,AX121>0,AZ121>0,BB121>0),CHAR(10)&\"Combustion Testing: \",\"\")&IF(AT121>0,\"     \"&CHAR(149)&AS121&AT121,\"\")&IF(AV121>0,\"     \"&CHAR(149)&AU121&AV121,\"\")&IF(AX121>0,\"     \"&CHAR(149)&AW121&AX121,\"\")&IF(AZ121>0,\"     \"&CHAR(149)&AY121&AZ121,\"\")&IF(BB121>0,\"     \"&CHAR(149)&BA121&BB121,\"\")&IF(BD121>0,\"     \"&CHAR(149)&BC121&BD121,\"\")&IF(BF121>0,CHAR(10)&BE121&BF121,\"\")&IF(BH121>0,CHAR(10)&BG121&BH121,\"\")&IF(OR(BJ121>0,BL121>0,BN121>0,BP121>0,BR121>0,BT121>0),CHAR(10)&\"Controls:\",\"\")&IF(BJ121>0,\"     \"&CHAR(149)&BI121&BJ121,\"\")&IF(BL121>0,\"     \"&CHAR(149)&BK121&BL121,\"\")&IF(BN121>0,\"     \"&CHAR(149)&BM121&BN121,\"\")&IF(BP121>0,\"     \"&CHAR(149)&BO121&BP121,\"\")&IF(BR121>0,\"     \"&CHAR(149)&BQ121&BR121,\"\")&IF(BT121>0,\"     \"&CHAR(149)&BS121&BT121,\"\")&IF(BV121>0,CHAR(10)&BU121&BV121,\"\")&IF(BX121>0,CHAR(10)&BW121&BX121,\"\")&IF(BZ121>0,CHAR(10)&BY121&BZ121,\"\")&IF(CB121>0,CHAR(10)&CA121&CB121,\"\")&IF(CD121>0,CHAR(10)&CC121&CD121,\"\")&IF(CF121>0,CHAR(10)&CE121&CF121,\"\")","v":""},null,null,null,null,null,null,null,{"$f":"ROW($L$111)","v":111},{"$f":"INDIRECT(\"'Inspection - Energy and Water'!\"&$M$111&$L121)&\": \"","v":": "},{"$f":"INDIRECT(\"'Inspection - Energy and Water'!\"&$M$111&ROW())","v":0},{"$f":"INDIRECT(\"'Inspection - Energy and Water'!\"&$O$111&$L121)&\": \"","v":": "},{"$f":"INDIRECT(\"'Inspection - Energy and Water'!\"&$O$111&ROW())","v":0},{"$f":"INDIRECT(\"'Inspection - Energy and Water'!\"&$Q$111&$L121)&\": \"","v":": "},{"$f":"INDIRECT(\"'Inspection - Energy and Water'!\"&$Q$111&ROW())","v":0},{"$f":"INDIRECT(\"'Inspection - Energy and Water'!\"&$S$111&$L121)&\": \"","v":": "},{"$f":"INDIRECT(\"'Inspection - Energy and Water'!\"&$S$111&ROW())","v":0},{"$f":"INDIRECT(\"'Inspection - Energy and Water'!\"&$U$111&$L121)&\": \"","v":": "},{"$f":"INDIRECT(\"'Inspection - Energy and Water'!\"&$U$111&ROW())","v":0},{"$f":"INDIRECT(\"'Inspection - Energy and Water'!\"&$W$111&$L121)&\": \"","v":": "},{"$f":"INDIRECT(\"'Inspection - Energy and Water'!\"&$W$111&ROW())","v":0},{"$f":"INDIRECT(\"'Inspection - Energy and Water'!\"&$Y$111&$L121)&\": \"","v":": "},{"$f":"INDIRECT(\"'Inspection - Energy and Water'!\"&$Y$111&ROW())","v":0},{"$f":"INDIRECT(\"'Inspection - Energy and Water'!\"&$AA$111&$L121)&\": \"","v":": "},{"$f":"INDIRECT(\"'Inspection - Energy and Water'!\"&$AA$111&ROW())","v":0},{"$f":"INDIRECT(\"'Inspection - Energy and Water'!\"&$AC$111&$L121)&\": \"","v":": "},{"$f":"INDIRECT(\"'Inspection - Energy and Water'!\"&$AC$111&ROW())","v":0},{"$f":"INDIRECT(\"'Inspection - Energy and Water'!\"&$AE$111&$L121)&\": \"","v":": "},{"$f":"INDIRECT(\"'Inspection - Energy and Water'!\"&$AE$111&ROW())","v":0},{"$f":"INDIRECT(\"'Inspection - Energy and Water'!\"&$AG$111&$L121)&\": \"","v":": "},{"$f":"INDIRECT(\"'Inspection - Energy and Water'!\"&$AG$111&ROW())","v":0},{"$f":"INDIRECT(\"'Inspection - Energy and Water'!\"&$AI$111&$L121)&\": \"","v":": "},{"$f":"INDIRECT(\"'Inspection - Energy and Water'!\"&$AI$111&ROW())","v":0},{"$f":"INDIRECT(\"'Inspection - Energy and Water'!\"&$AK$111&$L121)&\": \"","v":": "},{"$f":"INDIRECT(\"'Inspection - Energy and Water'!\"&$AK$111&ROW())","v":0},{"$f":"INDIRECT(\"'Inspection - Energy and Water'!\"&$AM$111&$L121)&\": \"","v":": "},{"$f":"INDIRECT(\"'Inspection - Energy and Water'!\"&$AM$111&ROW())","v":0},{"$f":"INDIRECT(\"'Inspection - Energy and Water'!\"&$AO$111&$L121)&\": \"","v":": "},{"$f":"INDIRECT(\"'Inspection - Energy and Water'!\"&$AO$111&ROW())","v":0},{"$f":"INDIRECT(\"'Inspection - Energy and Water'!\"&$AQ$111&$L121)&\": \"","v":": "},{"$f":"INDIRECT(\"'Inspection - Energy and Water'!\"&$AQ$111&ROW())","v":0},{"$f":"INDIRECT(\"'Inspection - Energy and Water'!\"&$AS$111&$L121)&\": \"","v":": "},{"$f":"INDIRECT(\"'Inspection - Energy and Water'!\"&$AS$111&ROW())","v":0},{"$f":"INDIRECT(\"'Inspection - Energy and Water'!\"&$AU$111&ROW($AU$112))&\": \"","v":": "},{"$f":"INDIRECT(\"'Inspection - Energy and Water'!\"&$AU$111&ROW())","v":0},{"$f":"INDIRECT(\"'Inspection - Energy and Water'!\"&$AW$111&ROW($AW$112))&\": \"","v":": "},{"$f":"INDIRECT(\"'Inspection - Energy and Water'!\"&$AW$111&ROW())","v":0},{"$f":"INDIRECT(\"'Inspection - Energy and Water'!\"&$AY$111&ROW($AY$112))&\": \"","v":": "},{"$f":"INDIRECT(\"'Inspection - Energy and Water'!\"&$AY$111&ROW())","v":0},{"$f":"INDIRECT(\"'Inspection - Energy and Water'!\"&$BA$111&ROW($BA$112))&\": \"","v":": "},{"$f":"INDIRECT(\"'Inspection - Energy and Water'!\"&$BA$111&ROW())","v":0},{"$f":"INDIRECT(\"'Inspection - Energy and Water'!\"&$BC$111&ROW($BC$112))&\": \"","v":": "},{"$f":"INDIRECT(\"'Inspection - Energy and Water'!\"&$BC$111&ROW())","v":0},{"$f":"INDIRECT(\"'Inspection - Energy and Water'!\"&$BE$111&$L121)&\": \"","v":": "},{"$f":"INDIRECT(\"'Inspection - Energy and Water'!\"&$BE$111&ROW())","v":0},{"$f":"INDIRECT(\"'Inspection - Energy and Water'!\"&$BG$111&$L121)&\": \"","v":": "},{"$f":"INDIRECT(\"'Inspection - Energy and Water'!\"&$BG$111&ROW())","v":0},{"$f":"INDIRECT(\"'Inspection - Energy and Water'!\"&$BI$111&$L121)&\": \"","v":": "},{"$f":"INDIRECT(\"'Inspection - Energy and Water'!\"&$BI$111&ROW())","v":0},{"$f":"INDIRECT(\"'Inspection - Energy and Water'!\"&$BK$111&ROW($BK$112))&\": \"","v":": "},{"$f":"INDIRECT(\"'Inspection - Energy and Water'!\"&$BK$111&ROW())","v":0},{"$f":"INDIRECT(\"'Inspection - Energy and Water'!\"&$BM$111&ROW($BM$112))&\": \"","v":": "},{"$f":"INDIRECT(\"'Inspection - Energy and Water'!\"&$BM$111&ROW())","v":0},{"$f":"INDIRECT(\"'Inspection - Energy and Water'!\"&$BO$111&ROW($BO$112))&\": \"","v":": "},{"$f":"INDIRECT(\"'Inspection - Energy and Water'!\"&$BO$111&ROW())","v":0},{"$f":"INDIRECT(\"'Inspection - Energy and Water'!\"&$BQ$111&ROW($BQ$112))&\": \"","v":": "},{"$f":"INDIRECT(\"'Inspection - Energy and Water'!\"&$BQ$111&ROW())","v":0},{"$f":"INDIRECT(\"'Inspection - Energy and Water'!\"&$BS$111&ROW($BS$112))&\": \"","v":": "},{"$f":"INDIRECT(\"'Inspection - Energy and Water'!\"&$BS$111&ROW())","v":0},{"$f":"INDIRECT(\"'Inspection - Energy and Water'!\"&$BU$111&$L121)&\": \"","v":": "},{"$f":"INDIRECT(\"'Inspection - Energy and Water'!\"&$BU$111&ROW())","v":0},{"$f":"INDIRECT(\"'Inspection - Energy and Water'!\"&$BW$111&$L121)&\": \"","v":": "},{"$f":"INDIRECT(\"'Inspection - Energy and Water'!\"&$BW$111&ROW())","v":0},{"$f":"INDIRECT(\"'Inspection - Energy and Water'!\"&$BY$111&$L121)&\": \"","v":": "},{"$f":"INDIRECT(\"'Inspection - Energy and Water'!\"&$BY$111&ROW())","v":0}]
[null,null,"Tertiary Heating System"]
[null,null,"Heating System",{"$f":"IF(N123>0,M123&N123,\"\")&IF(P123>0,CHAR(10)&O123&P123,\"\")&IF(R123>0,CHAR(10)&Q123&R123,\"\")&IF(T123>0,CHAR(10)&S123&T123,\"\")&IF(V123>0,CHAR(10)&U123&V123,\"\")&IF(X123>0,CHAR(10)&W123&X123,\"\")&IF(Z123>0,CHAR(10)&Y123&Z123,\"\")&IF(AB123>0,CHAR(10)&AA123&AB123,\"\")&IF(AD123>0,CHAR(10)&AC123&AD123,\"\")&IF(AF123>0,CHAR(10)&AE123&AF123,\"\")&IF(AH123>0,CHAR(10)&AG123&AH123,\"\")&IF(AJ123>0,CHAR(10)&AI123&AJ123,\"\")&IF(AL123>0,CHAR(10)&AK123&AL123,\"\")&IF(AN123>0,CHAR(10)&AM123&AN123,\"\")&IF(AP123>0,CHAR(10)&AO123&AP123,\"\")&IF(AR123>0,CHAR(10)&AQ123&AR123,\"\")&IF(OR(AT123>0,AV123>0,AX123>0,AZ123>0,BB123>0),CHAR(10)&\"Combustion Testing: \",\"\")&IF(AT123>0,\"     \"&CHAR(149)&AS123&AT123,\"\")&IF(AV123>0,\"     \"&CHAR(149)&AU123&AV123,\"\")&IF(AX123>0,\"     \"&CHAR(149)&AW123&AX123,\"\")&IF(AZ123>0,\"     \"&CHAR(149)&AY123&AZ123,\"\")&IF(BB123>0,\"     \"&CHAR(149)&BA123&BB123,\"\")&IF(BD123>0,\"     \"&CHAR(149)&BC123&BD123,\"\")&IF(BF123>0,CHAR(10)&BE123&BF123,\"\")&IF(BH123>0,CHAR(10)&BG123&BH123,\"\")&IF(OR(BJ123>0,BL123>0,BN123>0,BP123>0,BR123>0,BT123>0),CHAR(10)&\"Controls:\",\"\")&IF(BJ123>0,\"     \"&CHAR(149)&BI123&BJ123,\"\")&IF(BL123>0,\"     \"&CHAR(149)&BK123&BL123,\"\")&IF(BN123>0,\"     \"&CHAR(149)&BM123&BN123,\"\")&IF(BP123>0,\"     \"&CHAR(149)&BO123&BP123,\"\")&IF(BR123>0,\"     \"&CHAR(149)&BQ123&BR123,\"\")&IF(BT123>0,\"     \"&CHAR(149)&BS123&BT123,\"\")&IF(BV123>0,CHAR(10)&BU123&BV123,\"\")&IF(BX123>0,CHAR(10)&BW123&BX123,\"\")&IF(BZ123>0,CHAR(10)&BY123&BZ123,\"\")&IF(CB123>0,CHAR(10)&CA123&CB123,\"\")&IF(CD123>0,CHAR(10)&CC123&CD123,\"\")&IF(CF123>0,CHAR(10)&CE123&CF123,\"\")","v":""},null,null,null,null,null,null,null,{"$f":"ROW($L$111)","v":111},{"$f":"INDIRECT(\"'Inspection - Energy and Water'!\"&$M$111&$L123)&\": \"","v":": "},{"$f":"INDIRECT(\"'Inspection - Energy and Water'!\"&$M$111&ROW())","v":0},{"$f":"INDIRECT(\"'Inspection - Energy and Water'!\"&$O$111&$L123)&\": \"","v":": "},{"$f":"INDIRECT(\"'Inspection - Energy and Water'!\"&$O$111&ROW())","v":0},{"$f":"INDIRECT(\"'Inspection - Energy and Water'!\"&$Q$111&$L123)&\": \"","v":": "},{"$f":"INDIRECT(\"'Inspection - Energy and Water'!\"&$Q$111&ROW())","v":0},{"$f":"INDIRECT(\"'Inspection - Energy and Water'!\"&$S$111&$L123)&\": \"","v":": "},{"$f":"INDIRECT(\"'Inspection - Energy and Water'!\"&$S$111&ROW())","v":0},{"$f":"INDIRECT(\"'Inspection - Energy and Water'!\"&$U$111&$L123)&\": \"","v":": "},{"$f":"INDIRECT(\"'Inspection - Energy and Water'!\"&$U$111&ROW())","v":0},{"$f":"INDIRECT(\"'Inspection - Energy and Water'!\"&$W$111&$L123)&\": \"","v":": "},{"$f":"INDIRECT(\"'Inspection - Energy and Water'!\"&$W$111&ROW())","v":0},{"$f":"INDIRECT(\"'Inspection - Energy and Water'!\"&$Y$111&$L123)&\": \"","v":": "},{"$f":"INDIRECT(\"'Inspection - Energy and Water'!\"&$Y$111&ROW())","v":0},{"$f":"INDIRECT(\"'Inspection - Energy and Water'!\"&$AA$111&$L123)&\": \"","v":": "},{"$f":"INDIRECT(\"'Inspection - Energy and Water'!\"&$AA$111&ROW())","v":0},{"$f":"INDIRECT(\"'Inspection - Energy and Water'!\"&$AC$111&$L123)&\": \"","v":": "},{"$f":"INDIRECT(\"'Inspection - Energy and Water'!\"&$AC$111&ROW())","v":0},{"$f":"INDIRECT(\"'Inspection - Energy and Water'!\"&$AE$111&$L123)&\": \"","v":": "},{"$f":"INDIRECT(\"'Inspection - Energy and Water'!\"&$AE$111&ROW())","v":0},{"$f":"INDIRECT(\"'Inspection - Energy and Water'!\"&$AG$111&$L123)&\": \"","v":": "},{"$f":"INDIRECT(\"'Inspection - Energy and Water'!\"&$AG$111&ROW())","v":0},{"$f":"INDIRECT(\"'Inspection - Energy and Water'!\"&$AI$111&$L123)&\": \"","v":": "},{"$f":"INDIRECT(\"'Inspection - Energy and Water'!\"&$AI$111&ROW())","v":0},{"$f":"INDIRECT(\"'Inspection - Energy and Water'!\"&$AK$111&$L123)&\": \"","v":": "},{"$f":"INDIRECT(\"'Inspection - Energy and Water'!\"&$AK$111&ROW())","v":0},{"$f":"INDIRECT(\"'Inspection - Energy and Water'!\"&$AM$111&$L123)&\": \"","v":": "},{"$f":"INDIRECT(\"'Inspection - Energy and Water'!\"&$AM$111&ROW())","v":0},{"$f":"INDIRECT(\"'Inspection - Energy and Water'!\"&$AO$111&$L123)&\": \"","v":": "},{"$f":"INDIRECT(\"'Inspection - Energy and Water'!\"&$AO$111&ROW())","v":0},{"$f":"INDIRECT(\"'Inspection - Energy and Water'!\"&$AQ$111&$L123)&\": \"","v":": "},{"$f":"INDIRECT(\"'Inspection - Energy and Water'!\"&$AQ$111&ROW())","v":0},{"$f":"INDIRECT(\"'Inspection - Energy and Water'!\"&$AS$111&$L123)&\": \"","v":": "},{"$f":"INDIRECT(\"'Inspection - Energy and Water'!\"&$AS$111&ROW())","v":0},{"$f":"INDIRECT(\"'Inspection - Energy and Water'!\"&$AU$111&ROW($AU$112))&\": \"","v":": "},{"$f":"INDIRECT(\"'Inspection - Energy and Water'!\"&$AU$111&ROW())","v":0},{"$f":"INDIRECT(\"'Inspection - Energy and Water'!\"&$AW$111&ROW($AW$112))&\": \"","v":": "},{"$f":"INDIRECT(\"'Inspection - Energy and Water'!\"&$AW$111&ROW())","v":0},{"$f":"INDIRECT(\"'Inspection - Energy and Water'!\"&$AY$111&ROW($AY$112))&\": \"","v":": "},{"$f":"INDIRECT(\"'Inspection - Energy and Water'!\"&$AY$111&ROW())","v":0},{"$f":"INDIRECT(\"'Inspection - Energy and Water'!\"&$BA$111&ROW($BA$112))&\": \"","v":": "},{"$f":"INDIRECT(\"'Inspection - Energy and Water'!\"&$BA$111&ROW())","v":0},{"$f":"INDIRECT(\"'Inspection - Energy and Water'!\"&$BC$111&ROW($BC$112))&\": \"","v":": "},{"$f":"INDIRECT(\"'Inspection - Energy and Water'!\"&$BC$111&ROW())","v":0},{"$f":"INDIRECT(\"'Inspection - Energy and Water'!\"&$BE$111&$L123)&\": \"","v":": "},{"$f":"INDIRECT(\"'Inspection - Energy and Water'!\"&$BE$111&ROW())","v":0},{"$f":"INDIRECT(\"'Inspection - Energy and Water'!\"&$BG$111&$L123)&\": \"","v":": "},{"$f":"INDIRECT(\"'Inspection - Energy and Water'!\"&$BG$111&ROW())","v":0},{"$f":"INDIRECT(\"'Inspection - Energy and Water'!\"&$BI$111&$L123)&\": \"","v":": "},{"$f":"INDIRECT(\"'Inspection - Energy and Water'!\"&$BI$111&ROW())","v":0},{"$f":"INDIRECT(\"'Inspection - Energy and Water'!\"&$BK$111&ROW($BK$112))&\": \"","v":": "},{"$f":"INDIRECT(\"'Inspection - Energy and Water'!\"&$BK$111&ROW())","v":0},{"$f":"INDIRECT(\"'Inspection - Energy and Water'!\"&$BM$111&ROW($BM$112))&\": \"","v":": "},{"$f":"INDIRECT(\"'Inspection - Energy and Water'!\"&$BM$111&ROW())","v":0},{"$f":"INDIRECT(\"'Inspection - Energy and Water'!\"&$BO$111&ROW($BO$112))&\": \"","v":": "},{"$f":"INDIRECT(\"'Inspection - Energy and Water'!\"&$BO$111&ROW())","v":0},{"$f":"INDIRECT(\"'Inspection - Energy and Water'!\"&$BQ$111&ROW($BQ$112))&\": \"","v":": "},{"$f":"INDIRECT(\"'Inspection - Energy and Water'!\"&$BQ$111&ROW())","v":0},{"$f":"INDIRECT(\"'Inspection - Energy and Water'!\"&$BS$111&ROW($BS$112))&\": \"","v":": "},{"$f":"INDIRECT(\"'Inspection - Energy and Water'!\"&$BS$111&ROW())","v":0},{"$f":"INDIRECT(\"'Inspection - Energy and Water'!\"&$BU$111&$L123)&\": \"","v":": "},{"$f":"INDIRECT(\"'Inspection - Energy and Water'!\"&$BU$111&ROW())","v":0},{"$f":"INDIRECT(\"'Inspection - Energy and Water'!\"&$BW$111&$L123)&\": \"","v":": "},{"$f":"INDIRECT(\"'Inspection - Energy and Water'!\"&$BW$111&ROW())","v":0},{"$f":"INDIRECT(\"'Inspection - Energy and Water'!\"&$BY$111&$L123)&\": \"","v":": "},{"$f":"INDIRECT(\"'Inspection - Energy and Water'!\"&$BY$111&ROW())","v":0}]
[null,null,"Burner",{"$f":"IF(N124>0,M124&N124,\"\")&IF(P124>0,CHAR(10)&O124&P124,\"\")&IF(R124>0,CHAR(10)&Q124&R124,\"\")&IF(T124>0,CHAR(10)&S124&T124,\"\")&IF(V124>0,CHAR(10)&U124&V124,\"\")&IF(X124>0,CHAR(10)&W124&X124,\"\")&IF(Z124>0,CHAR(10)&Y124&Z124,\"\")&IF(AB124>0,CHAR(10)&AA124&AB124,\"\")&IF(AD124>0,CHAR(10)&AC124&AD124,\"\")&IF(AF124>0,CHAR(10)&AE124&AF124,\"\")&IF(AH124>0,CHAR(10)&AG124&AH124,\"\")&IF(AJ124>0,CHAR(10)&AI124&AJ124,\"\")&IF(AL124>0,CHAR(10)&AK124&AL124,\"\")&IF(AN124>0,CHAR(10)&AM124&AN124,\"\")&IF(AP124>0,CHAR(10)&AO124&AP124,\"\")&IF(AR124>0,CHAR(10)&AQ124&AR124,\"\")&IF(OR(AT124>0,AV124>0,AX124>0,AZ124>0,BB124>0),CHAR(10)&\"Combustion Testing: \",\"\")&IF(AT124>0,\"     \"&CHAR(149)&AS124&AT124,\"\")&IF(AV124>0,\"     \"&CHAR(149)&AU124&AV124,\"\")&IF(AX124>0,\"     \"&CHAR(149)&AW124&AX124,\"\")&IF(AZ124>0,\"     \"&CHAR(149)&AY124&AZ124,\"\")&IF(BB124>0,\"     \"&CHAR(149)&BA124&BB124,\"\")&IF(BD124>0,\"     \"&CHAR(149)&BC124&BD124,\"\")&IF(BF124>0,CHAR(10)&BE124&BF124,\"\")&IF(BH124>0,CHAR(10)&BG124&BH124,\"\")&IF(OR(BJ124>0,BL124>0,BN124>0,BP124>0,BR124>0,BT124>0),CHAR(10)&\"Controls:\",\"\")&IF(BJ124>0,\"     \"&CHAR(149)&BI124&BJ124,\"\")&IF(BL124>0,\"     \"&CHAR(149)&BK124&BL124,\"\")&IF(BN124>0,\"     \"&CHAR(149)&BM124&BN124,\"\")&IF(BP124>0,\"     \"&CHAR(149)&BO124&BP124,\"\")&IF(BR124>0,\"     \"&CHAR(149)&BQ124&BR124,\"\")&IF(BT124>0,\"     \"&CHAR(149)&BS124&BT124,\"\")&IF(BV124>0,CHAR(10)&BU124&BV124,\"\")&IF(BX124>0,CHAR(10)&BW124&BX124,\"\")&IF(BZ124>0,CHAR(10)&BY124&BZ124,\"\")&IF(CB124>0,CHAR(10)&CA124&CB124,\"\")&IF(CD124>0,CHAR(10)&CC124&CD124,\"\")&IF(CF124>0,CHAR(10)&CE124&CF124,\"\")","v":""},null,null,null,null,null,null,null,{"$f":"ROW($L$111)","v":111},{"$f":"INDIRECT(\"'Inspection - Energy and Water'!\"&$M$111&$L124)&\": \"","v":": "},{"$f":"INDIRECT(\"'Inspection - Energy and Water'!\"&$M$111&ROW())","v":0},{"$f":"INDIRECT(\"'Inspection - Energy and Water'!\"&$O$111&$L124)&\": \"","v":": "},{"$f":"INDIRECT(\"'Inspection - Energy and Water'!\"&$O$111&ROW())","v":0},{"$f":"INDIRECT(\"'Inspection - Energy and Water'!\"&$Q$111&$L124)&\": \"","v":": "},{"$f":"INDIRECT(\"'Inspection - Energy and Water'!\"&$Q$111&ROW())","v":0},{"$f":"INDIRECT(\"'Inspection - Energy and Water'!\"&$S$111&$L124)&\": \"","v":": "},{"$f":"INDIRECT(\"'Inspection - Energy and Water'!\"&$S$111&ROW())","v":0},{"$f":"INDIRECT(\"'Inspection - Energy and Water'!\"&$U$111&$L124)&\": \"","v":": "},{"$f":"INDIRECT(\"'Inspection - Energy and Water'!\"&$U$111&ROW())","v":0},{"$f":"INDIRECT(\"'Inspection - Energy and Water'!\"&$W$111&$L124)&\": \"","v":": "},{"$f":"INDIRECT(\"'Inspection - Energy and Water'!\"&$W$111&ROW())","v":0},{"$f":"INDIRECT(\"'Inspection - Energy and Water'!\"&$Y$111&$L124)&\": \"","v":": "},{"$f":"INDIRECT(\"'Inspection - Energy and Water'!\"&$Y$111&ROW())","v":0},{"$f":"INDIRECT(\"'Inspection - Energy and Water'!\"&$AA$111&$L124)&\": \"","v":": "},{"$f":"INDIRECT(\"'Inspection - Energy and Water'!\"&$AA$111&ROW())","v":0},{"$f":"INDIRECT(\"'Inspection - Energy and Water'!\"&$AC$111&$L124)&\": \"","v":": "},{"$f":"INDIRECT(\"'Inspection - Energy and Water'!\"&$AC$111&ROW())","v":0},{"$f":"INDIRECT(\"'Inspection - Energy and Water'!\"&$AE$111&$L124)&\": \"","v":": "},{"$f":"INDIRECT(\"'Inspection - Energy and Water'!\"&$AE$111&ROW())","v":0},{"$f":"INDIRECT(\"'Inspection - Energy and Water'!\"&$AG$111&$L124)&\": \"","v":": "},{"$f":"INDIRECT(\"'Inspection - Energy and Water'!\"&$AG$111&ROW())","v":0},{"$f":"INDIRECT(\"'Inspection - Energy and Water'!\"&$AI$111&$L124)&\": \"","v":": "},{"$f":"INDIRECT(\"'Inspection - Energy and Water'!\"&$AI$111&ROW())","v":0},{"$f":"INDIRECT(\"'Inspection - Energy and Water'!\"&$AK$111&$L124)&\": \"","v":": "},{"$f":"INDIRECT(\"'Inspection - Energy and Water'!\"&$AK$111&ROW())","v":0},{"$f":"INDIRECT(\"'Inspection - Energy and Water'!\"&$AM$111&$L124)&\": \"","v":": "},{"$f":"INDIRECT(\"'Inspection - Energy and Water'!\"&$AM$111&ROW())","v":0},{"$f":"INDIRECT(\"'Inspection - Energy and Water'!\"&$AO$111&$L124)&\": \"","v":": "},{"$f":"INDIRECT(\"'Inspection - Energy and Water'!\"&$AO$111&ROW())","v":0},{"$f":"INDIRECT(\"'Inspection - Energy and Water'!\"&$AQ$111&$L124)&\": \"","v":": "},{"$f":"INDIRECT(\"'Inspection - Energy and Water'!\"&$AQ$111&ROW())","v":0},{"$f":"INDIRECT(\"'Inspection - Energy and Water'!\"&$AS$111&$L124)&\": \"","v":": "},{"$f":"INDIRECT(\"'Inspection - Energy and Water'!\"&$AS$111&ROW())","v":0},{"$f":"INDIRECT(\"'Inspection - Energy and Water'!\"&$AU$111&ROW($AU$112))&\": \"","v":": "},{"$f":"INDIRECT(\"'Inspection - Energy and Water'!\"&$AU$111&ROW())","v":0},{"$f":"INDIRECT(\"'Inspection - Energy and Water'!\"&$AW$111&ROW($AW$112))&\": \"","v":": "},{"$f":"INDIRECT(\"'Inspection - Energy and Water'!\"&$AW$111&ROW())","v":0},{"$f":"INDIRECT(\"'Inspection - Energy and Water'!\"&$AY$111&ROW($AY$112))&\": \"","v":": "},{"$f":"INDIRECT(\"'Inspection - Energy and Water'!\"&$AY$111&ROW())","v":0},{"$f":"INDIRECT(\"'Inspection - Energy and Water'!\"&$BA$111&ROW($BA$112))&\": \"","v":": "},{"$f":"INDIRECT(\"'Inspection - Energy and Water'!\"&$BA$111&ROW())","v":0},{"$f":"INDIRECT(\"'Inspection - Energy and Water'!\"&$BC$111&ROW($BC$112))&\": \"","v":": "},{"$f":"INDIRECT(\"'Inspection - Energy and Water'!\"&$BC$111&ROW())","v":0},{"$f":"INDIRECT(\"'Inspection - Energy and Water'!\"&$BE$111&$L124)&\": \"","v":": "},{"$f":"INDIRECT(\"'Inspection - Energy and Water'!\"&$BE$111&ROW())","v":0},{"$f":"INDIRECT(\"'Inspection - Energy and Water'!\"&$BG$111&$L124)&\": \"","v":": "},{"$f":"INDIRECT(\"'Inspection - Energy and Water'!\"&$BG$111&ROW())","v":0},{"$f":"INDIRECT(\"'Inspection - Energy and Water'!\"&$BI$111&$L124)&\": \"","v":": "},{"$f":"INDIRECT(\"'Inspection - Energy and Water'!\"&$BI$111&ROW())","v":0},{"$f":"INDIRECT(\"'Inspection - Energy and Water'!\"&$BK$111&ROW($BK$112))&\": \"","v":": "},{"$f":"INDIRECT(\"'Inspection - Energy and Water'!\"&$BK$111&ROW())","v":0},{"$f":"INDIRECT(\"'Inspection - Energy and Water'!\"&$BM$111&ROW($BM$112))&\": \"","v":": "},{"$f":"INDIRECT(\"'Inspection - Energy and Water'!\"&$BM$111&ROW())","v":0},{"$f":"INDIRECT(\"'Inspection - Energy and Water'!\"&$BO$111&ROW($BO$112))&\": \"","v":": "},{"$f":"INDIRECT(\"'Inspection - Energy and Water'!\"&$BO$111&ROW())","v":0},{"$f":"INDIRECT(\"'Inspection - Energy and Water'!\"&$BQ$111&ROW($BQ$112))&\": \"","v":": "},{"$f":"INDIRECT(\"'Inspection - Energy and Water'!\"&$BQ$111&ROW())","v":0},{"$f":"INDIRECT(\"'Inspection - Energy and Water'!\"&$BS$111&ROW($BS$112))&\": \"","v":": "},{"$f":"INDIRECT(\"'Inspection - Energy and Water'!\"&$BS$111&ROW())","v":0},{"$f":"INDIRECT(\"'Inspection - Energy and Water'!\"&$BU$111&$L124)&\": \"","v":": "},{"$f":"INDIRECT(\"'Inspection - Energy and Water'!\"&$BU$111&ROW())","v":0},{"$f":"INDIRECT(\"'Inspection - Energy and Water'!\"&$BW$111&$L124)&\": \"","v":": "},{"$f":"INDIRECT(\"'Inspection - Energy and Water'!\"&$BW$111&ROW())","v":0},{"$f":"INDIRECT(\"'Inspection - Energy and Water'!\"&$BY$111&$L124)&\": \"","v":": "},{"$f":"INDIRECT(\"'Inspection - Energy and Water'!\"&$BY$111&ROW())","v":0}]
[null,null,"End Use Equipment",{"$f":"IF(N125>0,M125&N125,\"\")&IF(P125>0,CHAR(10)&O125&P125,\"\")&IF(R125>0,CHAR(10)&Q125&R125,\"\")&IF(T125>0,CHAR(10)&S125&T125,\"\")&IF(V125>0,CHAR(10)&U125&V125,\"\")&IF(X125>0,CHAR(10)&W125&X125,\"\")&IF(Z125>0,CHAR(10)&Y125&Z125,\"\")&IF(AB125>0,CHAR(10)&AA125&AB125,\"\")&IF(AD125>0,CHAR(10)&AC125&AD125,\"\")&IF(AF125>0,CHAR(10)&AE125&AF125,\"\")&IF(AH125>0,CHAR(10)&AG125&AH125,\"\")&IF(AJ125>0,CHAR(10)&AI125&AJ125,\"\")&IF(AL125>0,CHAR(10)&AK125&AL125,\"\")&IF(AN125>0,CHAR(10)&AM125&AN125,\"\")&IF(AP125>0,CHAR(10)&AO125&AP125,\"\")&IF(AR125>0,CHAR(10)&AQ125&AR125,\"\")&IF(OR(AT125>0,AV125>0,AX125>0,AZ125>0,BB125>0),CHAR(10)&\"Combustion Testing: \",\"\")&IF(AT125>0,\"     \"&CHAR(149)&AS125&AT125,\"\")&IF(AV125>0,\"     \"&CHAR(149)&AU125&AV125,\"\")&IF(AX125>0,\"     \"&CHAR(149)&AW125&AX125,\"\")&IF(AZ125>0,\"     \"&CHAR(149)&AY125&AZ125,\"\")&IF(BB125>0,\"     \"&CHAR(149)&BA125&BB125,\"\")&IF(BD125>0,\"     \"&CHAR(149)&BC125&BD125,\"\")&IF(BF125>0,CHAR(10)&BE125&BF125,\"\")&IF(BH125>0,CHAR(10)&BG125&BH125,\"\")&IF(OR(BJ125>0,BL125>0,BN125>0,BP125>0,BR125>0,BT125>0),CHAR(10)&\"Controls:\",\"\")&IF(BJ125>0,\"     \"&CHAR(149)&BI125&BJ125,\"\")&IF(BL125>0,\"     \"&CHAR(149)&BK125&BL125,\"\")&IF(BN125>0,\"     \"&CHAR(149)&BM125&BN125,\"\")&IF(BP125>0,\"     \"&CHAR(149)&BO125&BP125,\"\")&IF(BR125>0,\"     \"&CHAR(149)&BQ125&BR125,\"\")&IF(BT125>0,\"     \"&CHAR(149)&BS125&BT125,\"\")&IF(BV125>0,CHAR(10)&BU125&BV125,\"\")&IF(BX125>0,CHAR(10)&BW125&BX125,\"\")&IF(BZ125>0,CHAR(10)&BY125&BZ125,\"\")&IF(CB125>0,CHAR(10)&CA125&CB125,\"\")&IF(CD125>0,CHAR(10)&CC125&CD125,\"\")&IF(CF125>0,CHAR(10)&CE125&CF125,\"\")","v":""},null,null,null,null,null,null,null,{"$f":"ROW($L$111)","v":111},{"$f":"INDIRECT(\"'Inspection - Energy and Water'!\"&$M$111&$L125)&\": \"","v":": "},{"$f":"INDIRECT(\"'Inspection - Energy and Water'!\"&$M$111&ROW())","v":0},{"$f":"INDIRECT(\"'Inspection - Energy and Water'!\"&$O$111&$L125)&\": \"","v":": "},{"$f":"INDIRECT(\"'Inspection - Energy and Water'!\"&$O$111&ROW())","v":0},{"$f":"INDIRECT(\"'Inspection - Energy and Water'!\"&$Q$111&$L125)&\": \"","v":": "},{"$f":"INDIRECT(\"'Inspection - Energy and Water'!\"&$Q$111&ROW())","v":0},{"$f":"INDIRECT(\"'Inspection - Energy and Water'!\"&$S$111&$L125)&\": \"","v":": "},{"$f":"INDIRECT(\"'Inspection - Energy and Water'!\"&$S$111&ROW())","v":0},{"$f":"INDIRECT(\"'Inspection - Energy and Water'!\"&$U$111&$L125)&\": \"","v":": "},{"$f":"INDIRECT(\"'Inspection - Energy and Water'!\"&$U$111&ROW())","v":0},{"$f":"INDIRECT(\"'Inspection - Energy and Water'!\"&$W$111&$L125)&\": \"","v":": "},{"$f":"INDIRECT(\"'Inspection - Energy and Water'!\"&$W$111&ROW())","v":0},{"$f":"INDIRECT(\"'Inspection - Energy and Water'!\"&$Y$111&$L125)&\": \"","v":": "},{"$f":"INDIRECT(\"'Inspection - Energy and Water'!\"&$Y$111&ROW())","v":0},{"$f":"INDIRECT(\"'Inspection - Energy and Water'!\"&$AA$111&$L125)&\": \"","v":": "},{"$f":"INDIRECT(\"'Inspection - Energy and Water'!\"&$AA$111&ROW())","v":0},{"$f":"INDIRECT(\"'Inspection - Energy and Water'!\"&$AC$111&$L125)&\": \"","v":": "},{"$f":"INDIRECT(\"'Inspection - Energy and Water'!\"&$AC$111&ROW())","v":0},{"$f":"INDIRECT(\"'Inspection - Energy and Water'!\"&$AE$111&$L125)&\": \"","v":": "},{"$f":"INDIRECT(\"'Inspection - Energy and Water'!\"&$AE$111&ROW())","v":0},{"$f":"INDIRECT(\"'Inspection - Energy and Water'!\"&$AG$111&$L125)&\": \"","v":": "},{"$f":"INDIRECT(\"'Inspection - Energy and Water'!\"&$AG$111&ROW())","v":0},{"$f":"INDIRECT(\"'Inspection - Energy and Water'!\"&$AI$111&$L125)&\": \"","v":": "},{"$f":"INDIRECT(\"'Inspection - Energy and Water'!\"&$AI$111&ROW())","v":0},{"$f":"INDIRECT(\"'Inspection - Energy and Water'!\"&$AK$111&$L125)&\": \"","v":": "},{"$f":"INDIRECT(\"'Inspection - Energy and Water'!\"&$AK$111&ROW())","v":0},{"$f":"INDIRECT(\"'Inspection - Energy and Water'!\"&$AM$111&$L125)&\": \"","v":": "},{"$f":"INDIRECT(\"'Inspection - Energy and Water'!\"&$AM$111&ROW())","v":0},{"$f":"INDIRECT(\"'Inspection - Energy and Water'!\"&$AO$111&$L125)&\": \"","v":": "},{"$f":"INDIRECT(\"'Inspection - Energy and Water'!\"&$AO$111&ROW())","v":0},{"$f":"INDIRECT(\"'Inspection - Energy and Water'!\"&$AQ$111&$L125)&\": \"","v":": "},{"$f":"INDIRECT(\"'Inspection - Energy and Water'!\"&$AQ$111&ROW())","v":0},{"$f":"INDIRECT(\"'Inspection - Energy and Water'!\"&$AS$111&$L125)&\": \"","v":": "},{"$f":"INDIRECT(\"'Inspection - Energy and Water'!\"&$AS$111&ROW())","v":0},{"$f":"INDIRECT(\"'Inspection - Energy and Water'!\"&$AU$111&ROW($AU$112))&\": \"","v":": "},{"$f":"INDIRECT(\"'Inspection - Energy and Water'!\"&$AU$111&ROW())","v":0},{"$f":"INDIRECT(\"'Inspection - Energy and Water'!\"&$AW$111&ROW($AW$112))&\": \"","v":": "},{"$f":"INDIRECT(\"'Inspection - Energy and Water'!\"&$AW$111&ROW())","v":0},{"$f":"INDIRECT(\"'Inspection - Energy and Water'!\"&$AY$111&ROW($AY$112))&\": \"","v":": "},{"$f":"INDIRECT(\"'Inspection - Energy and Water'!\"&$AY$111&ROW())","v":0},{"$f":"INDIRECT(\"'Inspection - Energy and Water'!\"&$BA$111&ROW($BA$112))&\": \"","v":": "},{"$f":"INDIRECT(\"'Inspection - Energy and Water'!\"&$BA$111&ROW())","v":0},{"$f":"INDIRECT(\"'Inspection - Energy and Water'!\"&$BC$111&ROW($BC$112))&\": \"","v":": "},{"$f":"INDIRECT(\"'Inspection - Energy and Water'!\"&$BC$111&ROW())","v":0},{"$f":"INDIRECT(\"'Inspection - Energy and Water'!\"&$BE$111&$L125)&\": \"","v":": "},{"$f":"INDIRECT(\"'Inspection - Energy and Water'!\"&$BE$111&ROW())","v":0},{"$f":"INDIRECT(\"'Inspection - Energy and Water'!\"&$BG$111&$L125)&\": \"","v":": "},{"$f":"INDIRECT(\"'Inspection - Energy and Water'!\"&$BG$111&ROW())","v":0},{"$f":"INDIRECT(\"'Inspection - Energy and Water'!\"&$BI$111&$L125)&\": \"","v":": "},{"$f":"INDIRECT(\"'Inspection - Energy and Water'!\"&$BI$111&ROW())","v":0},{"$f":"INDIRECT(\"'Inspection - Energy and Water'!\"&$BK$111&ROW($BK$112))&\": \"","v":": "},{"$f":"INDIRECT(\"'Inspection - Energy and Water'!\"&$BK$111&ROW())","v":0},{"$f":"INDIRECT(\"'Inspection - Energy and Water'!\"&$BM$111&ROW($BM$112))&\": \"","v":": "},{"$f":"INDIRECT(\"'Inspection - Energy and Water'!\"&$BM$111&ROW())","v":0},{"$f":"INDIRECT(\"'Inspection - Energy and Water'!\"&$BO$111&ROW($BO$112))&\": \"","v":": "},{"$f":"INDIRECT(\"'Inspection - Energy and Water'!\"&$BO$111&ROW())","v":0},{"$f":"INDIRECT(\"'Inspection - Energy and Water'!\"&$BQ$111&ROW($BQ$112))&\": \"","v":": "},{"$f":"INDIRECT(\"'Inspection - Energy and Water'!\"&$BQ$111&ROW())","v":0},{"$f":"INDIRECT(\"'Inspection - Energy and Water'!\"&$BS$111&ROW($BS$112))&\": \"","v":": "},{"$f":"INDIRECT(\"'Inspection - Energy and Water'!\"&$BS$111&ROW())","v":0},{"$f":"INDIRECT(\"'Inspection - Energy and Water'!\"&$BU$111&$L125)&\": \"","v":": "},{"$f":"INDIRECT(\"'Inspection - Energy and Water'!\"&$BU$111&ROW())","v":0},{"$f":"INDIRECT(\"'Inspection - Energy and Water'!\"&$BW$111&$L125)&\": \"","v":": "},{"$f":"INDIRECT(\"'Inspection - Energy and Water'!\"&$BW$111&ROW())","v":0},{"$f":"INDIRECT(\"'Inspection - Energy and Water'!\"&$BY$111&$L125)&\": \"","v":": "},{"$f":"INDIRECT(\"'Inspection - Energy and Water'!\"&$BY$111&ROW())","v":0}]
[null,null,"Other Equipment",null,null,null,null,null,null,null,null,null,"D",null,"F",null,"I"]
[null,null,{"$f":"IF('Inspection - Energy and Water'!C129>0,'Inspection - Energy and Water'!C129,\"\")","v":"ex. equipment"},{"$f":"IF(N127>0,M127&N127,\"\")&IF(P127>0,CHAR(10)&O127&P127,\"\")&IF(R127>0,CHAR(10)&Q127&R127,\"\")&IF(T127>0,CHAR(10)&S127&T127,\"\")&IF(V127>0,CHAR(10)&U127&V127,\"\")&IF(X127>0,CHAR(10)&W127&X127,\"\")&IF(Z127>0,CHAR(10)&Y127&Z127,\"\")&IF(AB127>0,CHAR(10)&AA127&AB127,\"\")&IF(AD127>0,CHAR(10)&AC127&AD127,\"\")&IF(AF127>0,CHAR(10)&AE127&AF127,\"\")&IF(AH127>0,CHAR(10)&AG127&AH127,\"\")&IF(AJ127>0,CHAR(10)&AI127&AJ127,\"\")&IF(AL127>0,CHAR(10)&AK127&AL127,\"\")&IF(AN127>0,CHAR(10)&AM127&AN127,\"\")&IF(AP127>0,CHAR(10)&AO127&AP127,\"\")&IF(AR127>0,CHAR(10)&AQ127&AR127,\"\")&IF(AT127>0,CHAR(10)&AS127&AT127,\"\")&IF(AV127>0,CHAR(10)&AU127&AV127,\"\")&IF(AX127>0,CHAR(10)&AW127&AX127,\"\")&IF(AZ127>0,CHAR(10)&AY127&AZ127,\"\")&IF(BB127>0,CHAR(10)&BA127&BB127,\"\")&IF(BD127>0,CHAR(10)&BC127&BD127,\"\")&IF(BF127>0,CHAR(10)&BE127&BF127,\"\")&IF(BH127>0,CHAR(10)&BG127&BH127,\"\")&IF(BJ127>0,CHAR(10)&BI127&BJ127,\"\")&IF(BL127>0,CHAR(10)&BK127&BL127,\"\")&IF(BN127>0,CHAR(10)&BM127&BN127,\"\")&IF(BP127>0,CHAR(10)&BO127&BP127,\"\")&IF(BR127>0,CHAR(10)&BQ127&BR127,\"\")&IF(BT127>0,CHAR(10)&BS127&BT127,\"\")&IF(BV127>0,CHAR(10)&BU127&BV127,\"\")&IF(BX127>0,CHAR(10)&BW127&BX127,\"\")&IF(BZ127>0,CHAR(10)&BY127&BZ127,\"\")&IF(CB127>0,CHAR(10)&CA127&CB127,\"\")&IF(CD127>0,CHAR(10)&CC127&CD127,\"\")&IF(CF127>0,CHAR(10)&CE127&CF127,\"\")","v":""},null,null,null,null,null,null,null,{"$f":"ROW($L$126)","v":126},{"$f":"INDIRECT(\"'Inspection - Energy and Water'!\"&$M$126&$L127)&\": \"","v":": "},{"$f":"INDIRECT(\"'Inspection - Energy and Water'!\"&$M$126&ROW())","v":0},{"$f":"INDIRECT(\"'Inspection - Energy and Water'!\"&$O$126&$L127)&\": \"","v":": "},{"$f":"INDIRECT(\"'Inspection - Energy and Water'!\"&$O$126&ROW())","v":0},{"$f":"INDIRECT(\"'Inspection - Energy and Water'!\"&$Q$126&$L127)&\": \"","v":": "},{"$f":"INDIRECT(\"'Inspection - Energy and Water'!\"&$Q$126&ROW())","v":0}]
[null,null,{"$f":"IF('Inspection - Energy and Water'!C130>0,'Inspection - Energy and Water'!C130,\"\")","v":""},{"$f":"IF(N128>0,M128&N128,\"\")&IF(P128>0,CHAR(10)&O128&P128,\"\")&IF(R128>0,CHAR(10)&Q128&R128,\"\")&IF(T128>0,CHAR(10)&S128&T128,\"\")&IF(V128>0,CHAR(10)&U128&V128,\"\")&IF(X128>0,CHAR(10)&W128&X128,\"\")&IF(Z128>0,CHAR(10)&Y128&Z128,\"\")&IF(AB128>0,CHAR(10)&AA128&AB128,\"\")&IF(AD128>0,CHAR(10)&AC128&AD128,\"\")&IF(AF128>0,CHAR(10)&AE128&AF128,\"\")&IF(AH128>0,CHAR(10)&AG128&AH128,\"\")&IF(AJ128>0,CHAR(10)&AI128&AJ128,\"\")&IF(AL128>0,CHAR(10)&AK128&AL128,\"\")&IF(AN128>0,CHAR(10)&AM128&AN128,\"\")&IF(AP128>0,CHAR(10)&AO128&AP128,\"\")&IF(AR128>0,CHAR(10)&AQ128&AR128,\"\")&IF(AT128>0,CHAR(10)&AS128&AT128,\"\")&IF(AV128>0,CHAR(10)&AU128&AV128,\"\")&IF(AX128>0,CHAR(10)&AW128&AX128,\"\")&IF(AZ128>0,CHAR(10)&AY128&AZ128,\"\")&IF(BB128>0,CHAR(10)&BA128&BB128,\"\")&IF(BD128>0,CHAR(10)&BC128&BD128,\"\")&IF(BF128>0,CHAR(10)&BE128&BF128,\"\")&IF(BH128>0,CHAR(10)&BG128&BH128,\"\")&IF(BJ128>0,CHAR(10)&BI128&BJ128,\"\")&IF(BL128>0,CHAR(10)&BK128&BL128,\"\")&IF(BN128>0,CHAR(10)&BM128&BN128,\"\")&IF(BP128>0,CHAR(10)&BO128&BP128,\"\")&IF(BR128>0,CHAR(10)&BQ128&BR128,\"\")&IF(BT128>0,CHAR(10)&BS128&BT128,\"\")&IF(BV128>0,CHAR(10)&BU128&BV128,\"\")&IF(BX128>0,CHAR(10)&BW128&BX128,\"\")&IF(BZ128>0,CHAR(10)&BY128&BZ128,\"\")&IF(CB128>0,CHAR(10)&CA128&CB128,\"\")&IF(CD128>0,CHAR(10)&CC128&CD128,\"\")&IF(CF128>0,CHAR(10)&CE128&CF128,\"\")","v":": Location of Equipment\n: Description\n: Condition"},null,null,null,null,null,null,null,{"$f":"ROW($L$126)","v":126},{"$f":"INDIRECT(\"'Inspection - Energy and Water'!\"&$M$126&$L128)&\": \"","v":": "},{"$f":"INDIRECT(\"'Inspection - Energy and Water'!\"&$M$126&ROW())","v":"Location of Equipment"},{"$f":"INDIRECT(\"'Inspection - Energy and Water'!\"&$O$126&$L128)&\": \"","v":": "},{"$f":"INDIRECT(\"'Inspection - Energy and Water'!\"&$O$126&ROW())","v":"Description"},{"$f":"INDIRECT(\"'Inspection - Energy and Water'!\"&$Q$126&$L128)&\": \"","v":": "},{"$f":"INDIRECT(\"'Inspection - Energy and Water'!\"&$Q$126&ROW())","v":"Condition"}]
[null,null,{"$f":"IF('Inspection - Energy and Water'!C131>0,'Inspection - Energy and Water'!C131,\"\")","v":""},{"$f":"IF(N129>0,M129&N129,\"\")&IF(P129>0,CHAR(10)&O129&P129,\"\")&IF(R129>0,CHAR(10)&Q129&R129,\"\")&IF(T129>0,CHAR(10)&S129&T129,\"\")&IF(V129>0,CHAR(10)&U129&V129,\"\")&IF(X129>0,CHAR(10)&W129&X129,\"\")&IF(Z129>0,CHAR(10)&Y129&Z129,\"\")&IF(AB129>0,CHAR(10)&AA129&AB129,\"\")&IF(AD129>0,CHAR(10)&AC129&AD129,\"\")&IF(AF129>0,CHAR(10)&AE129&AF129,\"\")&IF(AH129>0,CHAR(10)&AG129&AH129,\"\")&IF(AJ129>0,CHAR(10)&AI129&AJ129,\"\")&IF(AL129>0,CHAR(10)&AK129&AL129,\"\")&IF(AN129>0,CHAR(10)&AM129&AN129,\"\")&IF(AP129>0,CHAR(10)&AO129&AP129,\"\")&IF(AR129>0,CHAR(10)&AQ129&AR129,\"\")&IF(AT129>0,CHAR(10)&AS129&AT129,\"\")&IF(AV129>0,CHAR(10)&AU129&AV129,\"\")&IF(AX129>0,CHAR(10)&AW129&AX129,\"\")&IF(AZ129>0,CHAR(10)&AY129&AZ129,\"\")&IF(BB129>0,CHAR(10)&BA129&BB129,\"\")&IF(BD129>0,CHAR(10)&BC129&BD129,\"\")&IF(BF129>0,CHAR(10)&BE129&BF129,\"\")&IF(BH129>0,CHAR(10)&BG129&BH129,\"\")&IF(BJ129>0,CHAR(10)&BI129&BJ129,\"\")&IF(BL129>0,CHAR(10)&BK129&BL129,\"\")&IF(BN129>0,CHAR(10)&BM129&BN129,\"\")&IF(BP129>0,CHAR(10)&BO129&BP129,\"\")&IF(BR129>0,CHAR(10)&BQ129&BR129,\"\")&IF(BT129>0,CHAR(10)&BS129&BT129,\"\")&IF(BV129>0,CHAR(10)&BU129&BV129,\"\")&IF(BX129>0,CHAR(10)&BW129&BX129,\"\")&IF(BZ129>0,CHAR(10)&BY129&BZ129,\"\")&IF(CB129>0,CHAR(10)&CA129&CB129,\"\")&IF(CD129>0,CHAR(10)&CC129&CD129,\"\")&IF(CF129>0,CHAR(10)&CE129&CF129,\"\")","v":""},null,null,null,null,null,null,null,{"$f":"ROW($L$126)","v":126},{"$f":"INDIRECT(\"'Inspection - Energy and Water'!\"&$M$126&$L129)&\": \"","v":": "},{"$f":"INDIRECT(\"'Inspection - Energy and Water'!\"&$M$126&ROW())","v":0},{"$f":"INDIRECT(\"'Inspection - Energy and Water'!\"&$O$126&$L129)&\": \"","v":": "},{"$f":"INDIRECT(\"'Inspection - Energy and Water'!\"&$O$126&ROW())","v":0},{"$f":"INDIRECT(\"'Inspection - Energy and Water'!\"&$Q$126&$L129)&\": \"","v":": "},{"$f":"INDIRECT(\"'Inspection - Energy and Water'!\"&$Q$126&ROW())","v":0}]
[null,null,{"$f":"IF('Inspection - Energy and Water'!C132>0,'Inspection - Energy and Water'!C132,\"\")","v":""},{"$f":"IF(N130>0,M130&N130,\"\")&IF(P130>0,CHAR(10)&O130&P130,\"\")&IF(R130>0,CHAR(10)&Q130&R130,\"\")&IF(T130>0,CHAR(10)&S130&T130,\"\")&IF(V130>0,CHAR(10)&U130&V130,\"\")&IF(X130>0,CHAR(10)&W130&X130,\"\")&IF(Z130>0,CHAR(10)&Y130&Z130,\"\")&IF(AB130>0,CHAR(10)&AA130&AB130,\"\")&IF(AD130>0,CHAR(10)&AC130&AD130,\"\")&IF(AF130>0,CHAR(10)&AE130&AF130,\"\")&IF(AH130>0,CHAR(10)&AG130&AH130,\"\")&IF(AJ130>0,CHAR(10)&AI130&AJ130,\"\")&IF(AL130>0,CHAR(10)&AK130&AL130,\"\")&IF(AN130>0,CHAR(10)&AM130&AN130,\"\")&IF(AP130>0,CHAR(10)&AO130&AP130,\"\")&IF(AR130>0,CHAR(10)&AQ130&AR130,\"\")&IF(AT130>0,CHAR(10)&AS130&AT130,\"\")&IF(AV130>0,CHAR(10)&AU130&AV130,\"\")&IF(AX130>0,CHAR(10)&AW130&AX130,\"\")&IF(AZ130>0,CHAR(10)&AY130&AZ130,\"\")&IF(BB130>0,CHAR(10)&BA130&BB130,\"\")&IF(BD130>0,CHAR(10)&BC130&BD130,\"\")&IF(BF130>0,CHAR(10)&BE130&BF130,\"\")&IF(BH130>0,CHAR(10)&BG130&BH130,\"\")&IF(BJ130>0,CHAR(10)&BI130&BJ130,\"\")&IF(BL130>0,CHAR(10)&BK130&BL130,\"\")&IF(BN130>0,CHAR(10)&BM130&BN130,\"\")&IF(BP130>0,CHAR(10)&BO130&BP130,\"\")&IF(BR130>0,CHAR(10)&BQ130&BR130,\"\")&IF(BT130>0,CHAR(10)&BS130&BT130,\"\")&IF(BV130>0,CHAR(10)&BU130&BV130,\"\")&IF(BX130>0,CHAR(10)&BW130&BX130,\"\")&IF(BZ130>0,CHAR(10)&BY130&BZ130,\"\")&IF(CB130>0,CHAR(10)&CA130&CB130,\"\")&IF(CD130>0,CHAR(10)&CC130&CD130,\"\")&IF(CF130>0,CHAR(10)&CE130&CF130,\"\")","v":""},null,null,null,null,null,null,null,{"$f":"ROW($L$126)","v":126},{"$f":"INDIRECT(\"'Inspection - Energy and Water'!\"&$M$126&$L130)&\": \"","v":": "},{"$f":"INDIRECT(\"'Inspection - Energy and Water'!\"&$M$126&ROW())","v":0},{"$f":"INDIRECT(\"'Inspection - Energy and Water'!\"&$O$126&$L130)&\": \"","v":": "},{"$f":"INDIRECT(\"'Inspection - Energy and Water'!\"&$O$126&ROW())","v":0},{"$f":"INDIRECT(\"'Inspection - Energy and Water'!\"&$Q$126&$L130)&\": \"","v":": "},{"$f":"INDIRECT(\"'Inspection - Energy and Water'!\"&$Q$126&ROW())","v":0}]
[null,null,{"$f":"IF('Inspection - Energy and Water'!C133>0,'Inspection - Energy and Water'!C133,\"\")","v":""},{"$f":"IF(N131>0,M131&N131,\"\")&IF(P131>0,CHAR(10)&O131&P131,\"\")&IF(R131>0,CHAR(10)&Q131&R131,\"\")&IF(T131>0,CHAR(10)&S131&T131,\"\")&IF(V131>0,CHAR(10)&U131&V131,\"\")&IF(X131>0,CHAR(10)&W131&X131,\"\")&IF(Z131>0,CHAR(10)&Y131&Z131,\"\")&IF(AB131>0,CHAR(10)&AA131&AB131,\"\")&IF(AD131>0,CHAR(10)&AC131&AD131,\"\")&IF(AF131>0,CHAR(10)&AE131&AF131,\"\")&IF(AH131>0,CHAR(10)&AG131&AH131,\"\")&IF(AJ131>0,CHAR(10)&AI131&AJ131,\"\")&IF(AL131>0,CHAR(10)&AK131&AL131,\"\")&IF(AN131>0,CHAR(10)&AM131&AN131,\"\")&IF(AP131>0,CHAR(10)&AO131&AP131,\"\")&IF(AR131>0,CHAR(10)&AQ131&AR131,\"\")&IF(AT131>0,CHAR(10)&AS131&AT131,\"\")&IF(AV131>0,CHAR(10)&AU131&AV131,\"\")&IF(AX131>0,CHAR(10)&AW131&AX131,\"\")&IF(AZ131>0,CHAR(10)&AY131&AZ131,\"\")&IF(BB131>0,CHAR(10)&BA131&BB131,\"\")&IF(BD131>0,CHAR(10)&BC131&BD131,\"\")&IF(BF131>0,CHAR(10)&BE131&BF131,\"\")&IF(BH131>0,CHAR(10)&BG131&BH131,\"\")&IF(BJ131>0,CHAR(10)&BI131&BJ131,\"\")&IF(BL131>0,CHAR(10)&BK131&BL131,\"\")&IF(BN131>0,CHAR(10)&BM131&BN131,\"\")&IF(BP131>0,CHAR(10)&BO131&BP131,\"\")&IF(BR131>0,CHAR(10)&BQ131&BR131,\"\")&IF(BT131>0,CHAR(10)&BS131&BT131,\"\")&IF(BV131>0,CHAR(10)&BU131&BV131,\"\")&IF(BX131>0,CHAR(10)&BW131&BX131,\"\")&IF(BZ131>0,CHAR(10)&BY131&BZ131,\"\")&IF(CB131>0,CHAR(10)&CA131&CB131,\"\")&IF(CD131>0,CHAR(10)&CC131&CD131,\"\")&IF(CF131>0,CHAR(10)&CE131&CF131,\"\")","v":""},null,null,null,null,null,null,null,{"$f":"ROW($L$126)","v":126},{"$f":"INDIRECT(\"'Inspection - Energy and Water'!\"&$M$126&$L131)&\": \"","v":": "},{"$f":"INDIRECT(\"'Inspection - Energy and Water'!\"&$M$126&ROW())","v":0},{"$f":"INDIRECT(\"'Inspection - Energy and Water'!\"&$O$126&$L131)&\": \"","v":": "},{"$f":"INDIRECT(\"'Inspection - Energy and Water'!\"&$O$126&ROW())","v":0},{"$f":"INDIRECT(\"'Inspection - Energy and Water'!\"&$Q$126&$L131)&\": \"","v":": "},{"$f":"INDIRECT(\"'Inspection - Energy and Water'!\"&$Q$126&ROW())","v":0}]
[null,null,"Heating Distribution",null,null,null,null,null,null,null,null,"Row Header","D",null,"F",null,"G",null,"J",null,"K",null,"L",null,"M",null,"O",null,"P",null,"Q",null,"S",null,"T",null,"U",null,"V",null,"W",null,"X",null,"Y",null,"Z",null,"AA",null,"AE"]
[null,null,"Heating System Distribution"]
[null,null,"Primary Heating System Distribution",{"$f":"IF(N134>0,M134&N134,\"\")&IF(P134>0,CHAR(10)&O134&P134,\"\")&IF(R134>0,CHAR(10)&Q134&R134,\"\")&IF(T134>0,CHAR(10)&S134&T134,\"\")&IF(V134>0,CHAR(10)&U134&V134,\"\")&IF(X134>0,CHAR(10)&W134&X134,\"\")&IF(Z134>0,CHAR(10)&Y134&Z134,\"\")&IF(AB134>0,CHAR(10)&AA134&AB134,\"\")&IF(AD134>0,CHAR(10)&AC134&AD134,\"\")&IF(AF134>0,CHAR(10)&AE134&AF134,\"\")&IF(AH134>0,CHAR(10)&AG134&AH134,\"\")&IF(AJ134>0,CHAR(10)&AI134&AJ134,\"\")&IF(AL134>0,CHAR(10)&AK134&AL134,\"\")&IF(AN134>0,CHAR(10)&AM134&AN134,\"\")&IF(AP134>0,CHAR(10)&AO134&AP134,\"\")&IF(AR134>0,CHAR(10)&AQ134&AR134,\"\")&IF(AT134>0,CHAR(10)&AS134&AT134,\"\")&IF(AV134>0,CHAR(10)&AU134&AV134,\"\")&IF(AX134>0,CHAR(10)&AW134&AX134,\"\")&IF(AZ134>0,CHAR(10)&AY134&AZ134,\"\")&IF(BB134>0,CHAR(10)&BA134&BB134,\"\")&IF(BD134>0,CHAR(10)&BC134&BD134,\"\")&IF(BF134>0,CHAR(10)&BE134&BF134,\"\")&IF(BH134>0,CHAR(10)&BG134&BH134,\"\")&IF(BJ134>0,CHAR(10)&BI134&BJ134,\"\")&IF(BL134>0,CHAR(10)&BK134&BL134,\"\")&IF(BN134>0,CHAR(10)&BM134&BN134,\"\")&IF(BP134>0,CHAR(10)&BO134&BP134,\"\")&IF(BR134>0,CHAR(10)&BQ134&BR134,\"\")&IF(BT134>0,CHAR(10)&BS134&BT134,\"\")&IF(BV134>0,CHAR(10)&BU134&BV134,\"\")&IF(BX134>0,CHAR(10)&BW134&BX134,\"\")&IF(BZ134>0,CHAR(10)&BY134&BZ134,\"\")&IF(CB134>0,CHAR(10)&CA134&CB134,\"\")&IF(CD134>0,CHAR(10)&CC134&CD134,\"\")&IF(CF134>0,CHAR(10)&CE134&CF134,\"\")","v":": Central Distribution Type\n: Operation Control\n: Description of Zones\n: Qty. of Zones\n: Condensate Return Tanks\n: In-Unit Heating\n: In-Unit Heating Controls\n: Hot Water Return Temp (F°)\n: Piping Description\n: Insulation Material\n: Insulation Thickness\n: Linear ft. un-insulated\n: TRV's\n: Valve Type/Condition\n: Radiator Type/Condition\n: Steam Traps\n: Master Venting\n: Other\n: Other Equipment/Additional Notes\n: Condition"},null,null,null,null,null,null,null,{"$f":"ROW($L$132)","v":132},{"$f":"INDIRECT(\"'Inspection - Energy and Water'!\"&$M$132&$L134)&\": \"","v":": "},{"$f":"INDIRECT(\"'Inspection - Energy and Water'!\"&$M$132&ROW())","v":"Central Distribution Type"},{"$f":"INDIRECT(\"'Inspection - Energy and Water'!\"&$O$132&$L134)&\": \"","v":": "},{"$f":"INDIRECT(\"'Inspection - Energy and Water'!\"&$O$132&ROW())","v":"Operation Control"},{"$f":"INDIRECT(\"'Inspection - Energy and Water'!\"&$Q$132&$L134)&\": \"","v":": "},{"$f":"INDIRECT(\"'Inspection - Energy and Water'!\"&$Q$132&ROW())","v":"Description of Zones"},{"$f":"INDIRECT(\"'Inspection - Energy and Water'!\"&$S$132&$L134)&\": \"","v":": "},{"$f":"INDIRECT(\"'Inspection - Energy and Water'!\"&$S$132&ROW())","v":"Qty. of Zones"},{"$f":"INDIRECT(\"'Inspection - Energy and Water'!\"&$U$132&$L134)&\": \"","v":": "},{"$f":"INDIRECT(\"'Inspection - Energy and Water'!\"&$U$132&ROW())","v":"Condensate Return Tanks"},{"$f":"INDIRECT(\"'Inspection - Energy and Water'!\"&$W$132&$L134)&\": \"","v":": "},{"$f":"INDIRECT(\"'Inspection - Energy and Water'!\"&$W$132&ROW())","v":"In-Unit Heating"},{"$f":"INDIRECT(\"'Inspection - Energy and Water'!\"&$Y$132&$L134)&\": \"","v":": "},{"$f":"INDIRECT(\"'Inspection - Energy and Water'!\"&$Y$132&ROW())","v":"In-Unit Heating Controls"},{"$f":"INDIRECT(\"'Inspection - Energy and Water'!\"&$AA$132&$L134)&\": \"","v":": "},{"$f":"INDIRECT(\"'Inspection - Energy and Water'!\"&$AA$132&ROW())","v":"Hot Water Return Temp (F°)"},{"$f":"INDIRECT(\"'Inspection - Energy and Water'!\"&$AC$132&$L134)&\": \"","v":": "},{"$f":"INDIRECT(\"'Inspection - Energy and Water'!\"&$AC$132&ROW())","v":"Piping Description"},{"$f":"INDIRECT(\"'Inspection - Energy and Water'!\"&$AE$132&$L134)&\": \"","v":": "},{"$f":"INDIRECT(\"'Inspection - Energy and Water'!\"&$AE$132&ROW())","v":"Insulation Material"},{"$f":"INDIRECT(\"'Inspection - Energy and Water'!\"&$AG$132&$L134)&\": \"","v":": "},{"$f":"INDIRECT(\"'Inspection - Energy and Water'!\"&$AG$132&ROW())","v":"Insulation Thickness"},{"$f":"INDIRECT(\"'Inspection - Energy and Water'!\"&$AI$132&$L134)&\": \"","v":": "},{"$f":"INDIRECT(\"'Inspection - Energy and Water'!\"&$AI$132&ROW())","v":"Linear ft. un-insulated"},{"$f":"INDIRECT(\"'Inspection - Energy and Water'!\"&$AK$132&$L134)&\": \"","v":": "},{"$f":"INDIRECT(\"'Inspection - Energy and Water'!\"&$AK$132&ROW())","v":"TRV's"},{"$f":"INDIRECT(\"'Inspection - Energy and Water'!\"&$AM$132&$L134)&\": \"","v":": "},{"$f":"INDIRECT(\"'Inspection - Energy and Water'!\"&$AM$132&ROW())","v":"Valve Type/Condition"},{"$f":"INDIRECT(\"'Inspection - Energy and Water'!\"&$AO$132&$L134)&\": \"","v":": "},{"$f":"INDIRECT(\"'Inspection - Energy and Water'!\"&$AO$132&ROW())","v":"Radiator Type/Condition"},{"$f":"INDIRECT(\"'Inspection - Energy and Water'!\"&$AQ$132&$L134)&\": \"","v":": "},{"$f":"INDIRECT(\"'Inspection - Energy and Water'!\"&$AQ$132&ROW())","v":"Steam Traps"},{"$f":"INDIRECT(\"'Inspection - Energy and Water'!\"&$AS$132&$L134)&\": \"","v":": "},{"$f":"INDIRECT(\"'Inspection - Energy and Water'!\"&$AS$132&ROW())","v":"Master Venting"},{"$f":"INDIRECT(\"'Inspection - Energy and Water'!\"&$AU$132&$L134)&\": \"","v":": "},{"$f":"INDIRECT(\"'Inspection - Energy and Water'!\"&$AU$132&ROW())","v":"Other"},{"$f":"INDIRECT(\"'Inspection - Energy and Water'!\"&$AW$132&$L134)&\": \"","v":": "},{"$f":"INDIRECT(\"'Inspection - Energy and Water'!\"&$AW$132&ROW())","v":"Other Equipment/Additional Notes"},{"$f":"INDIRECT(\"'Inspection - Energy and Water'!\"&$AY$132&$L134)&\": \"","v":": "},{"$f":"INDIRECT(\"'Inspection - Energy and Water'!\"&$AY$132&ROW())","v":"Condition"}]
[null,null,"Secondary Heating System Distribution",{"$f":"IF(N135>0,M135&N135,\"\")&IF(P135>0,CHAR(10)&O135&P135,\"\")&IF(R135>0,CHAR(10)&Q135&R135,\"\")&IF(T135>0,CHAR(10)&S135&T135,\"\")&IF(V135>0,CHAR(10)&U135&V135,\"\")&IF(X135>0,CHAR(10)&W135&X135,\"\")&IF(Z135>0,CHAR(10)&Y135&Z135,\"\")&IF(AB135>0,CHAR(10)&AA135&AB135,\"\")&IF(AD135>0,CHAR(10)&AC135&AD135,\"\")&IF(AF135>0,CHAR(10)&AE135&AF135,\"\")&IF(AH135>0,CHAR(10)&AG135&AH135,\"\")&IF(AJ135>0,CHAR(10)&AI135&AJ135,\"\")&IF(AL135>0,CHAR(10)&AK135&AL135,\"\")&IF(AN135>0,CHAR(10)&AM135&AN135,\"\")&IF(AP135>0,CHAR(10)&AO135&AP135,\"\")&IF(AR135>0,CHAR(10)&AQ135&AR135,\"\")&IF(AT135>0,CHAR(10)&AS135&AT135,\"\")&IF(AV135>0,CHAR(10)&AU135&AV135,\"\")&IF(AX135>0,CHAR(10)&AW135&AX135,\"\")&IF(AZ135>0,CHAR(10)&AY135&AZ135,\"\")&IF(BB135>0,CHAR(10)&BA135&BB135,\"\")&IF(BD135>0,CHAR(10)&BC135&BD135,\"\")&IF(BF135>0,CHAR(10)&BE135&BF135,\"\")&IF(BH135>0,CHAR(10)&BG135&BH135,\"\")&IF(BJ135>0,CHAR(10)&BI135&BJ135,\"\")&IF(BL135>0,CHAR(10)&BK135&BL135,\"\")&IF(BN135>0,CHAR(10)&BM135&BN135,\"\")&IF(BP135>0,CHAR(10)&BO135&BP135,\"\")&IF(BR135>0,CHAR(10)&BQ135&BR135,\"\")&IF(BT135>0,CHAR(10)&BS135&BT135,\"\")&IF(BV135>0,CHAR(10)&BU135&BV135,\"\")&IF(BX135>0,CHAR(10)&BW135&BX135,\"\")&IF(BZ135>0,CHAR(10)&BY135&BZ135,\"\")&IF(CB135>0,CHAR(10)&CA135&CB135,\"\")&IF(CD135>0,CHAR(10)&CC135&CD135,\"\")&IF(CF135>0,CHAR(10)&CE135&CF135,\"\")","v":"\n: ."},null,null,null,null,null,null,null,{"$f":"ROW($L$132)","v":132},{"$f":"INDIRECT(\"'Inspection - Energy and Water'!\"&$M$132&$L135)&\": \"","v":": "},{"$f":"INDIRECT(\"'Inspection - Energy and Water'!\"&$M$132&ROW())","v":0},{"$f":"INDIRECT(\"'Inspection - Energy and Water'!\"&$O$132&$L135)&\": \"","v":": "},{"$f":"INDIRECT(\"'Inspection - Energy and Water'!\"&$O$132&ROW())","v":0},{"$f":"INDIRECT(\"'Inspection - Energy and Water'!\"&$Q$132&$L135)&\": \"","v":": "},{"$f":"INDIRECT(\"'Inspection - Energy and Water'!\"&$Q$132&ROW())","v":0},{"$f":"INDIRECT(\"'Inspection - Energy and Water'!\"&$S$132&$L135)&\": \"","v":": "},{"$f":"INDIRECT(\"'Inspection - Energy and Water'!\"&$S$132&ROW())","v":0},{"$f":"INDIRECT(\"'Inspection - Energy and Water'!\"&$U$132&$L135)&\": \"","v":": "},{"$f":"INDIRECT(\"'Inspection - Energy and Water'!\"&$U$132&ROW())","v":0},{"$f":"INDIRECT(\"'Inspection - Energy and Water'!\"&$W$132&$L135)&\": \"","v":": "},{"$f":"INDIRECT(\"'Inspection - Energy and Water'!\"&$W$132&ROW())","v":0},{"$f":"INDIRECT(\"'Inspection - Energy and Water'!\"&$Y$132&$L135)&\": \"","v":": "},{"$f":"INDIRECT(\"'Inspection - Energy and Water'!\"&$Y$132&ROW())","v":0},{"$f":"INDIRECT(\"'Inspection - Energy and Water'!\"&$AA$132&$L135)&\": \"","v":": "},{"$f":"INDIRECT(\"'Inspection - Energy and Water'!\"&$AA$132&ROW())","v":"."},{"$f":"INDIRECT(\"'Inspection - Energy and Water'!\"&$AC$132&$L135)&\": \"","v":": "},{"$f":"INDIRECT(\"'Inspection - Energy and Water'!\"&$AC$132&ROW())","v":0},{"$f":"INDIRECT(\"'Inspection - Energy and Water'!\"&$AE$132&$L135)&\": \"","v":": "},{"$f":"INDIRECT(\"'Inspection - Energy and Water'!\"&$AE$132&ROW())","v":0},{"$f":"INDIRECT(\"'Inspection - Energy and Water'!\"&$AG$132&$L135)&\": \"","v":": "},{"$f":"INDIRECT(\"'Inspection - Energy and Water'!\"&$AG$132&ROW())","v":0},{"$f":"INDIRECT(\"'Inspection - Energy and Water'!\"&$AI$132&$L135)&\": \"","v":": "},{"$f":"INDIRECT(\"'Inspection - Energy and Water'!\"&$AI$132&ROW())","v":0},{"$f":"INDIRECT(\"'Inspection - Energy and Water'!\"&$AK$132&$L135)&\": \"","v":": "},{"$f":"INDIRECT(\"'Inspection - Energy and Water'!\"&$AK$132&ROW())","v":0},{"$f":"INDIRECT(\"'Inspection - Energy and Water'!\"&$AM$132&$L135)&\": \"","v":": "},{"$f":"INDIRECT(\"'Inspection - Energy and Water'!\"&$AM$132&ROW())","v":0},{"$f":"INDIRECT(\"'Inspection - Energy and Water'!\"&$AO$132&$L135)&\": \"","v":": "},{"$f":"INDIRECT(\"'Inspection - Energy and Water'!\"&$AO$132&ROW())","v":0},{"$f":"INDIRECT(\"'Inspection - Energy and Water'!\"&$AQ$132&$L135)&\": \"","v":": "},{"$f":"INDIRECT(\"'Inspection - Energy and Water'!\"&$AQ$132&ROW())","v":0},{"$f":"INDIRECT(\"'Inspection - Energy and Water'!\"&$AS$132&$L135)&\": \"","v":": "},{"$f":"INDIRECT(\"'Inspection - Energy and Water'!\"&$AS$132&ROW())","v":0},{"$f":"INDIRECT(\"'Inspection - Energy and Water'!\"&$AU$132&$L135)&\": \"","v":": "},{"$f":"INDIRECT(\"'Inspection - Energy and Water'!\"&$AU$132&ROW())","v":0},{"$f":"INDIRECT(\"'Inspection - Energy and Water'!\"&$AW$132&$L135)&\": \"","v":": "},{"$f":"INDIRECT(\"'Inspection - Energy and Water'!\"&$AW$132&ROW())","v":0},{"$f":"INDIRECT(\"'Inspection - Energy and Water'!\"&$AY$132&$L135)&\": \"","v":": "},{"$f":"INDIRECT(\"'Inspection - Energy and Water'!\"&$AY$132&ROW())","v":0}]
[null,null,"Tertiary Heating System Distribution",{"$f":"IF(N136>0,M136&N136,\"\")&IF(P136>0,CHAR(10)&O136&P136,\"\")&IF(R136>0,CHAR(10)&Q136&R136,\"\")&IF(T136>0,CHAR(10)&S136&T136,\"\")&IF(V136>0,CHAR(10)&U136&V136,\"\")&IF(X136>0,CHAR(10)&W136&X136,\"\")&IF(Z136>0,CHAR(10)&Y136&Z136,\"\")&IF(AB136>0,CHAR(10)&AA136&AB136,\"\")&IF(AD136>0,CHAR(10)&AC136&AD136,\"\")&IF(AF136>0,CHAR(10)&AE136&AF136,\"\")&IF(AH136>0,CHAR(10)&AG136&AH136,\"\")&IF(AJ136>0,CHAR(10)&AI136&AJ136,\"\")&IF(AL136>0,CHAR(10)&AK136&AL136,\"\")&IF(AN136>0,CHAR(10)&AM136&AN136,\"\")&IF(AP136>0,CHAR(10)&AO136&AP136,\"\")&IF(AR136>0,CHAR(10)&AQ136&AR136,\"\")&IF(AT136>0,CHAR(10)&AS136&AT136,\"\")&IF(AV136>0,CHAR(10)&AU136&AV136,\"\")&IF(AX136>0,CHAR(10)&AW136&AX136,\"\")&IF(AZ136>0,CHAR(10)&AY136&AZ136,\"\")&IF(BB136>0,CHAR(10)&BA136&BB136,\"\")&IF(BD136>0,CHAR(10)&BC136&BD136,\"\")&IF(BF136>0,CHAR(10)&BE136&BF136,\"\")&IF(BH136>0,CHAR(10)&BG136&BH136,\"\")&IF(BJ136>0,CHAR(10)&BI136&BJ136,\"\")&IF(BL136>0,CHAR(10)&BK136&BL136,\"\")&IF(BN136>0,CHAR(10)&BM136&BN136,\"\")&IF(BP136>0,CHAR(10)&BO136&BP136,\"\")&IF(BR136>0,CHAR(10)&BQ136&BR136,\"\")&IF(BT136>0,CHAR(10)&BS136&BT136,\"\")&IF(BV136>0,CHAR(10)&BU136&BV136,\"\")&IF(BX136>0,CHAR(10)&BW136&BX136,\"\")&IF(BZ136>0,CHAR(10)&BY136&BZ136,\"\")&IF(CB136>0,CHAR(10)&CA136&CB136,\"\")&IF(CD136>0,CHAR(10)&CC136&CD136,\"\")&IF(CF136>0,CHAR(10)&CE136&CF136,\"\")","v":""},null,null,null,null,null,null,null,{"$f":"ROW($L$132)","v":132},{"$f":"INDIRECT(\"'Inspection - Energy and Water'!\"&$M$132&$L136)&\": \"","v":": "},{"$f":"INDIRECT(\"'Inspection - Energy and Water'!\"&$M$132&ROW())","v":0},{"$f":"INDIRECT(\"'Inspection - Energy and Water'!\"&$O$132&$L136)&\": \"","v":": "},{"$f":"INDIRECT(\"'Inspection - Energy and Water'!\"&$O$132&ROW())","v":0},{"$f":"INDIRECT(\"'Inspection - Energy and Water'!\"&$Q$132&$L136)&\": \"","v":": "},{"$f":"INDIRECT(\"'Inspection - Energy and Water'!\"&$Q$132&ROW())","v":0},{"$f":"INDIRECT(\"'Inspection - Energy and Water'!\"&$S$132&$L136)&\": \"","v":": "},{"$f":"INDIRECT(\"'Inspection - Energy and Water'!\"&$S$132&ROW())","v":0},{"$f":"INDIRECT(\"'Inspection - Energy and Water'!\"&$U$132&$L136)&\": \"","v":": "},{"$f":"INDIRECT(\"'Inspection - Energy and Water'!\"&$U$132&ROW())","v":0},{"$f":"INDIRECT(\"'Inspection - Energy and Water'!\"&$W$132&$L136)&\": \"","v":": "},{"$f":"INDIRECT(\"'Inspection - Energy and Water'!\"&$W$132&ROW())","v":0},{"$f":"INDIRECT(\"'Inspection - Energy and Water'!\"&$Y$132&$L136)&\": \"","v":": "},{"$f":"INDIRECT(\"'Inspection - Energy and Water'!\"&$Y$132&ROW())","v":0},{"$f":"INDIRECT(\"'Inspection - Energy and Water'!\"&$AA$132&$L136)&\": \"","v":": "},{"$f":"INDIRECT(\"'Inspection - Energy and Water'!\"&$AA$132&ROW())","v":0},{"$f":"INDIRECT(\"'Inspection - Energy and Water'!\"&$AC$132&$L136)&\": \"","v":": "},{"$f":"INDIRECT(\"'Inspection - Energy and Water'!\"&$AC$132&ROW())","v":0},{"$f":"INDIRECT(\"'Inspection - Energy and Water'!\"&$AE$132&$L136)&\": \"","v":": "},{"$f":"INDIRECT(\"'Inspection - Energy and Water'!\"&$AE$132&ROW())","v":0},{"$f":"INDIRECT(\"'Inspection - Energy and Water'!\"&$AG$132&$L136)&\": \"","v":": "},{"$f":"INDIRECT(\"'Inspection - Energy and Water'!\"&$AG$132&ROW())","v":0},{"$f":"INDIRECT(\"'Inspection - Energy and Water'!\"&$AI$132&$L136)&\": \"","v":": "},{"$f":"INDIRECT(\"'Inspection - Energy and Water'!\"&$AI$132&ROW())","v":0},{"$f":"INDIRECT(\"'Inspection - Energy and Water'!\"&$AK$132&$L136)&\": \"","v":": "},{"$f":"INDIRECT(\"'Inspection - Energy and Water'!\"&$AK$132&ROW())","v":0},{"$f":"INDIRECT(\"'Inspection - Energy and Water'!\"&$AM$132&$L136)&\": \"","v":": "},{"$f":"INDIRECT(\"'Inspection - Energy and Water'!\"&$AM$132&ROW())","v":0},{"$f":"INDIRECT(\"'Inspection - Energy and Water'!\"&$AO$132&$L136)&\": \"","v":": "},{"$f":"INDIRECT(\"'Inspection - Energy and Water'!\"&$AO$132&ROW())","v":0},{"$f":"INDIRECT(\"'Inspection - Energy and Water'!\"&$AQ$132&$L136)&\": \"","v":": "},{"$f":"INDIRECT(\"'Inspection - Energy and Water'!\"&$AQ$132&ROW())","v":0},{"$f":"INDIRECT(\"'Inspection - Energy and Water'!\"&$AS$132&$L136)&\": \"","v":": "},{"$f":"INDIRECT(\"'Inspection - Energy and Water'!\"&$AS$132&ROW())","v":0},{"$f":"INDIRECT(\"'Inspection - Energy and Water'!\"&$AU$132&$L136)&\": \"","v":": "},{"$f":"INDIRECT(\"'Inspection - Energy and Water'!\"&$AU$132&ROW())","v":0},{"$f":"INDIRECT(\"'Inspection - Energy and Water'!\"&$AW$132&$L136)&\": \"","v":": "},{"$f":"INDIRECT(\"'Inspection - Energy and Water'!\"&$AW$132&ROW())","v":0},{"$f":"INDIRECT(\"'Inspection - Energy and Water'!\"&$AY$132&$L136)&\": \"","v":": "},{"$f":"INDIRECT(\"'Inspection - Energy and Water'!\"&$AY$132&ROW())","v":0}]
[null,null,"Cooling Components",null,null,null,null,null,null,null,null,"Row Header","D",null,"G",null,"H",null,"J",null,"L",null,"N",null,"O",null,"P",null,"Q",null,"R",null,"S",null,"T",null,"U",null,"X",null,"Z",null,"AA",null,"AB",null,"AF"]
[null,null,"Primary Cooling System",{"$f":"IF(N138>0,M138&N138,\"\")&IF(P138>0,CHAR(10)&O138&P138,\"\")&IF(R138>0,CHAR(10)&Q138&R138,\"\")&IF(T138>0,CHAR(10)&S138&T138,\"\")&IF(V138>0,CHAR(10)&U138&V138,\"\")&IF(X138>0,CHAR(10)&W138&X138,\"\")&IF(Z138>0,CHAR(10)&Y138&Z138,\"\")&IF(AB138>0,CHAR(10)&AA138&AB138,\"\")&IF(AD138>0,CHAR(10)&AC138&AD138,\"\")&IF(AF138>0,CHAR(10)&AE138&AF138,\"\")&IF(AH138>0,CHAR(10)&AG138&AH138,\"\")&IF(AJ138>0,CHAR(10)&AI138&AJ138,\"\")&IF(AL138>0,CHAR(10)&AK138&AL138,\"\")&IF(AN138>0,CHAR(10)&AM138&AN138,\"\")&IF(AP138>0,CHAR(10)&AO138&AP138,\"\")&IF(AR138>0,CHAR(10)&AQ138&AR138,\"\")&IF(AT138>0,CHAR(10)&AS138&AT138,\"\")&IF(AV138>0,CHAR(10)&AU138&AV138,\"\")&IF(AX138>0,CHAR(10)&AW138&AX138,\"\")&IF(AZ138>0,CHAR(10)&AY138&AZ138,\"\")&IF(BB138>0,CHAR(10)&BA138&BB138,\"\")&IF(BD138>0,CHAR(10)&BC138&BD138,\"\")&IF(BF138>0,CHAR(10)&BE138&BF138,\"\")&IF(BH138>0,CHAR(10)&BG138&BH138,\"\")&IF(BJ138>0,CHAR(10)&BI138&BJ138,\"\")&IF(BL138>0,CHAR(10)&BK138&BL138,\"\")&IF(BN138>0,CHAR(10)&BM138&BN138,\"\")&IF(BP138>0,CHAR(10)&BO138&BP138,\"\")&IF(BR138>0,CHAR(10)&BQ138&BR138,\"\")&IF(BT138>0,CHAR(10)&BS138&BT138,\"\")&IF(BV138>0,CHAR(10)&BU138&BV138,\"\")&IF(BX138>0,CHAR(10)&BW138&BX138,\"\")&IF(BZ138>0,CHAR(10)&BY138&BZ138,\"\")&IF(CB138>0,CHAR(10)&CA138&CB138,\"\")&IF(CD138>0,CHAR(10)&CC138&CD138,\"\")&IF(CF138>0,CHAR(10)&CE138&CF138,\"\")","v":""},null,null,null,null,null,null,null,{"$f":"ROW($L$137)","v":137},{"$f":"INDIRECT(\"'Inspection - Energy and Water'!\"&$M$137&$L138)&\": \"","v":": "},{"$f":"INDIRECT(\"'Inspection - Energy and Water'!\"&$M$137&ROW())","v":0},{"$f":"INDIRECT(\"'Inspection - Energy and Water'!\"&$O$137&$L138)&\": \"","v":": "},{"$f":"INDIRECT(\"'Inspection - Energy and Water'!\"&$O$137&ROW())","v":0},{"$f":"INDIRECT(\"'Inspection - Energy and Water'!\"&$Q$137&$L138)&\": \"","v":": "},{"$f":"INDIRECT(\"'Inspection - Energy and Water'!\"&$Q$137&ROW())","v":0},{"$f":"INDIRECT(\"'Inspection - Energy and Water'!\"&$S$137&$L138)&\": \"","v":": "},{"$f":"INDIRECT(\"'Inspection - Energy and Water'!\"&$S$137&ROW())","v":0},{"$f":"INDIRECT(\"'Inspection - Energy and Water'!\"&$U$137&$L138)&\": \"","v":": "},{"$f":"INDIRECT(\"'Inspection - Energy and Water'!\"&$U$137&ROW())","v":0},{"$f":"INDIRECT(\"'Inspection - Energy and Water'!\"&$W$137&$L138)&\": \"","v":": "},{"$f":"INDIRECT(\"'Inspection - Energy and Water'!\"&$W$137&ROW())","v":0},{"$f":"INDIRECT(\"'Inspection - Energy and Water'!\"&$Y$137&$L138)&\": \"","v":": "},{"$f":"INDIRECT(\"'Inspection - Energy and Water'!\"&$Y$137&ROW())","v":0},{"$f":"INDIRECT(\"'Inspection - Energy and Water'!\"&$AA$137&$L138)&\": \"","v":": "},{"$f":"INDIRECT(\"'Inspection - Energy and Water'!\"&$AA$137&ROW())","v":0},{"$f":"INDIRECT(\"'Inspection - Energy and Water'!\"&$AC$137&$L138)&\": \"","v":": "},{"$f":"INDIRECT(\"'Inspection - Energy and Water'!\"&$AC$137&ROW())","v":0},{"$f":"INDIRECT(\"'Inspection - Energy and Water'!\"&$AE$137&$L138)&\": \"","v":": "},{"$f":"INDIRECT(\"'Inspection - Energy and Water'!\"&$AE$137&ROW())","v":0},{"$f":"INDIRECT(\"'Inspection - Energy and Water'!\"&$AG$137&$L138)&\": \"","v":": "},{"$f":"INDIRECT(\"'Inspection - Energy and Water'!\"&$AG$137&ROW())","v":0},{"$f":"INDIRECT(\"'Inspection - Energy and Water'!\"&$AI$137&$L138)&\": \"","v":": "},{"$f":"INDIRECT(\"'Inspection - Energy and Water'!\"&$AI$137&ROW())","v":0},{"$f":"INDIRECT(\"'Inspection - Energy and Water'!\"&$AK$137&$L138)&\": \"","v":": "},{"$f":"INDIRECT(\"'Inspection - Energy and Water'!\"&$AK$137&ROW())","v":0},{"$f":"INDIRECT(\"'Inspection - Energy and Water'!\"&$AM$137&$L138)&\": \"","v":": "},{"$f":"INDIRECT(\"'Inspection - Energy and Water'!\"&$AM$137&ROW())","v":0},{"$f":"INDIRECT(\"'Inspection - Energy and Water'!\"&$AO$137&$L138)&\": \"","v":": "},{"$f":"INDIRECT(\"'Inspection - Energy and Water'!\"&$AO$137&ROW())","v":0},{"$f":"INDIRECT(\"'Inspection - Energy and Water'!\"&$AQ$137&$L138)&\": \"","v":": "},{"$f":"INDIRECT(\"'Inspection - Energy and Water'!\"&$AQ$137&ROW())","v":0},{"$f":"INDIRECT(\"'Inspection - Energy and Water'!\"&$AS$137&$L138)&\": \"","v":": "},{"$f":"INDIRECT(\"'Inspection - Energy and Water'!\"&$AS$137&ROW())","v":0},{"$f":"INDIRECT(\"'Inspection - Energy and Water'!\"&$AU$137&$L138)&\": \"","v":": "},{"$f":"INDIRECT(\"'Inspection - Energy and Water'!\"&$AU$137&ROW())","v":0}]
[null,null,"Secondary Cooling System",{"$f":"IF(N139>0,M139&N139,\"\")&IF(P139>0,CHAR(10)&O139&P139,\"\")&IF(R139>0,CHAR(10)&Q139&R139,\"\")&IF(T139>0,CHAR(10)&S139&T139,\"\")&IF(V139>0,CHAR(10)&U139&V139,\"\")&IF(X139>0,CHAR(10)&W139&X139,\"\")&IF(Z139>0,CHAR(10)&Y139&Z139,\"\")&IF(AB139>0,CHAR(10)&AA139&AB139,\"\")&IF(AD139>0,CHAR(10)&AC139&AD139,\"\")&IF(AF139>0,CHAR(10)&AE139&AF139,\"\")&IF(AH139>0,CHAR(10)&AG139&AH139,\"\")&IF(AJ139>0,CHAR(10)&AI139&AJ139,\"\")&IF(AL139>0,CHAR(10)&AK139&AL139,\"\")&IF(AN139>0,CHAR(10)&AM139&AN139,\"\")&IF(AP139>0,CHAR(10)&AO139&AP139,\"\")&IF(AR139>0,CHAR(10)&AQ139&AR139,\"\")&IF(AT139>0,CHAR(10)&AS139&AT139,\"\")&IF(AV139>0,CHAR(10)&AU139&AV139,\"\")&IF(AX139>0,CHAR(10)&AW139&AX139,\"\")&IF(AZ139>0,CHAR(10)&AY139&AZ139,\"\")&IF(BB139>0,CHAR(10)&BA139&BB139,\"\")&IF(BD139>0,CHAR(10)&BC139&BD139,\"\")&IF(BF139>0,CHAR(10)&BE139&BF139,\"\")&IF(BH139>0,CHAR(10)&BG139&BH139,\"\")&IF(BJ139>0,CHAR(10)&BI139&BJ139,\"\")&IF(BL139>0,CHAR(10)&BK139&BL139,\"\")&IF(BN139>0,CHAR(10)&BM139&BN139,\"\")&IF(BP139>0,CHAR(10)&BO139&BP139,\"\")&IF(BR139>0,CHAR(10)&BQ139&BR139,\"\")&IF(BT139>0,CHAR(10)&BS139&BT139,\"\")&IF(BV139>0,CHAR(10)&BU139&BV139,\"\")&IF(BX139>0,CHAR(10)&BW139&BX139,\"\")&IF(BZ139>0,CHAR(10)&BY139&BZ139,\"\")&IF(CB139>0,CHAR(10)&CA139&CB139,\"\")&IF(CD139>0,CHAR(10)&CC139&CD139,\"\")&IF(CF139>0,CHAR(10)&CE139&CF139,\"\")","v":": Equipment Type\n: Qty.\n: Location of Equipment\n: Spaces Served\n: Manufacturer\n: Model No.\n: EStar?\n: Year Installed\n: Fuel Source\n: Btu/h\n: Rated Efficiency\n: Rated Efficiency Units\n: Controls\n: Thermostat Setpoints\n: Ownership\n: % of Apartments w/ Cooling\n: Additional Notes\n: Condition"},null,null,null,null,null,null,null,{"$f":"ROW($L$137)","v":137},{"$f":"INDIRECT(\"'Inspection - Energy and Water'!\"&$M$137&$L139)&\": \"","v":": "},{"$f":"INDIRECT(\"'Inspection - Energy and Water'!\"&$M$137&ROW())","v":"Equipment Type"},{"$f":"INDIRECT(\"'Inspection - Energy and Water'!\"&$O$137&$L139)&\": \"","v":": "},{"$f":"INDIRECT(\"'Inspection - Energy and Water'!\"&$O$137&ROW())","v":"Qty."},{"$f":"INDIRECT(\"'Inspection - Energy and Water'!\"&$Q$137&$L139)&\": \"","v":": "},{"$f":"INDIRECT(\"'Inspection - Energy and Water'!\"&$Q$137&ROW())","v":"Location of Equipment"},{"$f":"INDIRECT(\"'Inspection - Energy and Water'!\"&$S$137&$L139)&\": \"","v":": "},{"$f":"INDIRECT(\"'Inspection - Energy and Water'!\"&$S$137&ROW())","v":"Spaces Served"},{"$f":"INDIRECT(\"'Inspection - Energy and Water'!\"&$U$137&$L139)&\": \"","v":": "},{"$f":"INDIRECT(\"'Inspection - Energy and Water'!\"&$U$137&ROW())","v":"Manufacturer"},{"$f":"INDIRECT(\"'Inspection - Energy and Water'!\"&$W$137&$L139)&\": \"","v":": "},{"$f":"INDIRECT(\"'Inspection - Energy and Water'!\"&$W$137&ROW())","v":"Model No."},{"$f":"INDIRECT(\"'Inspection - Energy and Water'!\"&$Y$137&$L139)&\": \"","v":": "},{"$f":"INDIRECT(\"'Inspection - Energy and Water'!\"&$Y$137&ROW())","v":"EStar?"},{"$f":"INDIRECT(\"'Inspection - Energy and Water'!\"&$AA$137&$L139)&\": \"","v":": "},{"$f":"INDIRECT(\"'Inspection - Energy and Water'!\"&$AA$137&ROW())","v":"Year Installed"},{"$f":"INDIRECT(\"'Inspection - Energy and Water'!\"&$AC$137&$L139)&\": \"","v":": "},{"$f":"INDIRECT(\"'Inspection - Energy and Water'!\"&$AC$137&ROW())","v":"Fuel Source"},{"$f":"INDIRECT(\"'Inspection - Energy and Water'!\"&$AE$137&$L139)&\": \"","v":": "},{"$f":"INDIRECT(\"'Inspection - Energy and Water'!\"&$AE$137&ROW())","v":"Btu/h"},{"$f":"INDIRECT(\"'Inspection - Energy and Water'!\"&$AG$137&$L139)&\": \"","v":": "},{"$f":"INDIRECT(\"'Inspection - Energy and Water'!\"&$AG$137&ROW())","v":"Rated Efficiency"},{"$f":"INDIRECT(\"'Inspection - Energy and Water'!\"&$AI$137&$L139)&\": \"","v":": "},{"$f":"INDIRECT(\"'Inspection - Energy and Water'!\"&$AI$137&ROW())","v":"Rated Efficiency Units"},{"$f":"INDIRECT(\"'Inspection - Energy and Water'!\"&$AK$137&$L139)&\": \"","v":": "},{"$f":"INDIRECT(\"'Inspection - Energy and Water'!\"&$AK$137&ROW())","v":"Controls"},{"$f":"INDIRECT(\"'Inspection - Energy and Water'!\"&$AM$137&$L139)&\": \"","v":": "},{"$f":"INDIRECT(\"'Inspection - Energy and Water'!\"&$AM$137&ROW())","v":"Thermostat Setpoints"},{"$f":"INDIRECT(\"'Inspection - Energy and Water'!\"&$AO$137&$L139)&\": \"","v":": "},{"$f":"INDIRECT(\"'Inspection - Energy and Water'!\"&$AO$137&ROW())","v":"Ownership"},{"$f":"INDIRECT(\"'Inspection - Energy and Water'!\"&$AQ$137&$L139)&\": \"","v":": "},{"$f":"INDIRECT(\"'Inspection - Energy and Water'!\"&$AQ$137&ROW())","v":"% of Apartments w/ Cooling"},{"$f":"INDIRECT(\"'Inspection - Energy and Water'!\"&$AS$137&$L139)&\": \"","v":": "},{"$f":"INDIRECT(\"'Inspection - Energy and Water'!\"&$AS$137&ROW())","v":"Additional Notes"},{"$f":"INDIRECT(\"'Inspection - Energy and Water'!\"&$AU$137&$L139)&\": \"","v":": "},{"$f":"INDIRECT(\"'Inspection - Energy and Water'!\"&$AU$137&ROW())","v":"Condition"}]
[null,null,"Tertiary Cooling System",{"$f":"IF(N140>0,M140&N140,\"\")&IF(P140>0,CHAR(10)&O140&P140,\"\")&IF(R140>0,CHAR(10)&Q140&R140,\"\")&IF(T140>0,CHAR(10)&S140&T140,\"\")&IF(V140>0,CHAR(10)&U140&V140,\"\")&IF(X140>0,CHAR(10)&W140&X140,\"\")&IF(Z140>0,CHAR(10)&Y140&Z140,\"\")&IF(AB140>0,CHAR(10)&AA140&AB140,\"\")&IF(AD140>0,CHAR(10)&AC140&AD140,\"\")&IF(AF140>0,CHAR(10)&AE140&AF140,\"\")&IF(AH140>0,CHAR(10)&AG140&AH140,\"\")&IF(AJ140>0,CHAR(10)&AI140&AJ140,\"\")&IF(AL140>0,CHAR(10)&AK140&AL140,\"\")&IF(AN140>0,CHAR(10)&AM140&AN140,\"\")&IF(AP140>0,CHAR(10)&AO140&AP140,\"\")&IF(AR140>0,CHAR(10)&AQ140&AR140,\"\")&IF(AT140>0,CHAR(10)&AS140&AT140,\"\")&IF(AV140>0,CHAR(10)&AU140&AV140,\"\")&IF(AX140>0,CHAR(10)&AW140&AX140,\"\")&IF(AZ140>0,CHAR(10)&AY140&AZ140,\"\")&IF(BB140>0,CHAR(10)&BA140&BB140,\"\")&IF(BD140>0,CHAR(10)&BC140&BD140,\"\")&IF(BF140>0,CHAR(10)&BE140&BF140,\"\")&IF(BH140>0,CHAR(10)&BG140&BH140,\"\")&IF(BJ140>0,CHAR(10)&BI140&BJ140,\"\")&IF(BL140>0,CHAR(10)&BK140&BL140,\"\")&IF(BN140>0,CHAR(10)&BM140&BN140,\"\")&IF(BP140>0,CHAR(10)&BO140&BP140,\"\")&IF(BR140>0,CHAR(10)&BQ140&BR140,\"\")&IF(BT140>0,CHAR(10)&BS140&BT140,\"\")&IF(BV140>0,CHAR(10)&BU140&BV140,\"\")&IF(BX140>0,CHAR(10)&BW140&BX140,\"\")&IF(BZ140>0,CHAR(10)&BY140&BZ140,\"\")&IF(CB140>0,CHAR(10)&CA140&CB140,\"\")&IF(CD140>0,CHAR(10)&CC140&CD140,\"\")&IF(CF140>0,CHAR(10)&CE140&CF140,\"\")","v":""},null,null,null,null,null,null,null,{"$f":"ROW($L$137)","v":137},{"$f":"INDIRECT(\"'Inspection - Energy and Water'!\"&$M$137&$L140)&\": \"","v":": "},{"$f":"INDIRECT(\"'Inspection - Energy and Water'!\"&$M$137&ROW())","v":0},{"$f":"INDIRECT(\"'Inspection - Energy and Water'!\"&$O$137&$L140)&\": \"","v":": "},{"$f":"INDIRECT(\"'Inspection - Energy and Water'!\"&$O$137&ROW())","v":0},{"$f":"INDIRECT(\"'Inspection - Energy and Water'!\"&$Q$137&$L140)&\": \"","v":": "},{"$f":"INDIRECT(\"'Inspection - Energy and Water'!\"&$Q$137&ROW())","v":0},{"$f":"INDIRECT(\"'Inspection - Energy and Water'!\"&$S$137&$L140)&\": \"","v":": "},{"$f":"INDIRECT(\"'Inspection - Energy and Water'!\"&$S$137&ROW())","v":0},{"$f":"INDIRECT(\"'Inspection - Energy and Water'!\"&$U$137&$L140)&\": \"","v":": "},{"$f":"INDIRECT(\"'Inspection - Energy and Water'!\"&$U$137&ROW())","v":0},{"$f":"INDIRECT(\"'Inspection - Energy and Water'!\"&$W$137&$L140)&\": \"","v":": "},{"$f":"INDIRECT(\"'Inspection - Energy and Water'!\"&$W$137&ROW())","v":0},{"$f":"INDIRECT(\"'Inspection - Energy and Water'!\"&$Y$137&$L140)&\": \"","v":": "},{"$f":"INDIRECT(\"'Inspection - Energy and Water'!\"&$Y$137&ROW())","v":0},{"$f":"INDIRECT(\"'Inspection - Energy and Water'!\"&$AA$137&$L140)&\": \"","v":": "},{"$f":"INDIRECT(\"'Inspection - Energy and Water'!\"&$AA$137&ROW())","v":0},{"$f":"INDIRECT(\"'Inspection - Energy and Water'!\"&$AC$137&$L140)&\": \"","v":": "},{"$f":"INDIRECT(\"'Inspection - Energy and Water'!\"&$AC$137&ROW())","v":0},{"$f":"INDIRECT(\"'Inspection - Energy and Water'!\"&$AE$137&$L140)&\": \"","v":": "},{"$f":"INDIRECT(\"'Inspection - Energy and Water'!\"&$AE$137&ROW())","v":0},{"$f":"INDIRECT(\"'Inspection - Energy and Water'!\"&$AG$137&$L140)&\": \"","v":": "},{"$f":"INDIRECT(\"'Inspection - Energy and Water'!\"&$AG$137&ROW())","v":0},{"$f":"INDIRECT(\"'Inspection - Energy and Water'!\"&$AI$137&$L140)&\": \"","v":": "},{"$f":"INDIRECT(\"'Inspection - Energy and Water'!\"&$AI$137&ROW())","v":0},{"$f":"INDIRECT(\"'Inspection - Energy and Water'!\"&$AK$137&$L140)&\": \"","v":": "},{"$f":"INDIRECT(\"'Inspection - Energy and Water'!\"&$AK$137&ROW())","v":0},{"$f":"INDIRECT(\"'Inspection - Energy and Water'!\"&$AM$137&$L140)&\": \"","v":": "},{"$f":"INDIRECT(\"'Inspection - Energy and Water'!\"&$AM$137&ROW())","v":0},{"$f":"INDIRECT(\"'Inspection - Energy and Water'!\"&$AO$137&$L140)&\": \"","v":": "},{"$f":"INDIRECT(\"'Inspection - Energy and Water'!\"&$AO$137&ROW())","v":0},{"$f":"INDIRECT(\"'Inspection - Energy and Water'!\"&$AQ$137&$L140)&\": \"","v":": "},{"$f":"INDIRECT(\"'Inspection - Energy and Water'!\"&$AQ$137&ROW())","v":0},{"$f":"INDIRECT(\"'Inspection - Energy and Water'!\"&$AS$137&$L140)&\": \"","v":": "},{"$f":"INDIRECT(\"'Inspection - Energy and Water'!\"&$AS$137&ROW())","v":0},{"$f":"INDIRECT(\"'Inspection - Energy and Water'!\"&$AU$137&$L140)&\": \"","v":": "},{"$f":"INDIRECT(\"'Inspection - Energy and Water'!\"&$AU$137&ROW())","v":0}]
[null,null,"DHW System",null,null,null,null,null,null,null,null,"Row Header","D",null,"G",null,"H",null,"I",null,"J",null,"K",null,"L",null,"M",null,"N",null,"O",null,"P",null,"Q",null,"R",null,"S",null,"T",null,"V",null,"X",null,"Y",null,"AA",null,"AB",null,"AC",null,"AD",null,"AE",null,"AF",null,"AG",null,"AH",null,"AI",null,"AJ",null,"AK",null,"AL",null,"AM",null,"AN",null,"AO",null,"AP",null,"AR",null,"AV"]
[]
[null,null,"DHW System 1",{"$f":"IF(N143>0,M143&N143,\"\")&IF(P143>0,CHAR(10)&O143&P143,\"\")&IF(R143>0,CHAR(10)&Q143&R143,\"\")&IF(T143>0,CHAR(10)&S143&T143,\"\")&IF(V143>0,CHAR(10)&U143&V143,\"\")&IF(X143>0,CHAR(10)&W143&X143,\"\")&IF(Z143>0,CHAR(10)&Y143&Z143,\"\")&IF(AB143>0,CHAR(10)&AA143&AB143,\"\")&IF(AD143>0,CHAR(10)&AC143&AD143,\"\")&IF(AF143>0,\"     \"&CHAR(149)&AE143&AF143,\"\")&IF(AH143>0,\"     \"&CHAR(149)&AG143&AH143,\"\")&IF(AJ143>0,\"     \"&CHAR(149)&AI143&AJ143,\"\")&IF(AL143>0,\"     \"&CHAR(149)&AK143&AL143,\"\")&IF(AN143>0,\"     \"&CHAR(149)&AM143&AN143,\"\")&IF(AP143>0,CHAR(10)&AO143&AP143,\"\")&IF(AR143>0,CHAR(10)&AQ143&AR143,\"\")&IF(AT143>0,CHAR(10)&AS143&AT143,\"\")&IF(AV143>0,CHAR(10)&AU143&AV143,\"\")&IF(AX143>0,CHAR(10)&AW143&AX143,\"\")&IF(AZ143>0,CHAR(10)&AY143&AZ143,\"\")&IF(BB143>0,CHAR(10)&BA143&BB143,\"\")&IF(BD143>0,CHAR(10)&BC143&BD143,\"\")&IF(BF143>0,CHAR(10)&BE143&BF143,\"\")&IF(BH143>0,CHAR(10)&BG143&BH143,\"\")&IF(BJ143>0,CHAR(10)&BI143&BJ143,\"\")&IF(BL143>0,CHAR(10)&BK143&BL143,\"\")&IF(OR(BN143>0,BP143>0,BR143>0,BT143>0,BV143>0,BX143>0),CHAR(10)&\"Combustion Testing: \",\"\")&IF(BN143>0,\"     \"&CHAR(149)&BM143&BN143,\"\")&IF(BP143>0,\"     \"&CHAR(149)&BO143&BP143,\"\")&IF(BR143>0,\"     \"&CHAR(149)&BQ143&BR143,\"\")&IF(BT143>0,\"     \"&CHAR(149)&BS143&BT143,\"\")&IF(BV143>0,\"     \"&CHAR(149)&BU143&BV143,\"\")&IF(BX143>0,\"     \"&CHAR(149)&BW143&BX143,\"\")&IF(BZ143>0,CHAR(10)&BY143&BZ143,\"\")&IF(CB143>0,CHAR(10)&CA143&CB143,\"\")&IF(CD143>0,CHAR(10)&CC143&CD143,\"\")&IF(CF143>0,CHAR(10)&CE143&CF143,\"\")","v":": Equipment Description\n: Qty.\n: DHW from Space Heating Boiler?\n: External Heat Exchanger?\n: Tankless Coil?\n: Mixing Valve?\n: Recirc. Pump?\n: Expansion Tank?\n: Storage Tank\n: Location of Equipment\n: Spaces Served\n: EStar?\n: Manufacturer\n: Model No.\n: Year Installed\n: Fuel Source\n: Rated Efficiency\n: Rated Efficiency (units)\n: Venting Type\n: Input (Mbh)\n: Output (Mbh)\nCombustion Testing:      •: Combustion Testing\n: Controls\n: Thermostat Setpoints\n: Condition\n: Additional Notes"},null,null,null,null,null,null,null,{"$f":"ROW($L$141)","v":141},{"$f":"INDIRECT(\"'Inspection - Energy and Water'!\"&M$141&$L143)&\": \"","v":": "},{"$f":"INDIRECT(\"'Inspection - Energy and Water'!\"&M$141&ROW())","v":"Equipment Description"},{"$f":"INDIRECT(\"'Inspection - Energy and Water'!\"&O$141&$L143)&\": \"","v":": "},{"$f":"INDIRECT(\"'Inspection - Energy and Water'!\"&O$141&ROW())","v":"Qty."},{"$f":"INDIRECT(\"'Inspection - Energy and Water'!\"&Q$141&$L143)&\": \"","v":": "},{"$f":"INDIRECT(\"'Inspection - Energy and Water'!\"&Q$141&ROW())","v":"DHW from Space Heating Boiler?"},{"$f":"INDIRECT(\"'Inspection - Energy and Water'!\"&S$141&$L143)&\": \"","v":": "},{"$f":"INDIRECT(\"'Inspection - Energy and Water'!\"&S$141&ROW())","v":"External Heat Exchanger?"},{"$f":"INDIRECT(\"'Inspection - Energy and Water'!\"&U$141&$L143)&\": \"","v":": "},{"$f":"INDIRECT(\"'Inspection - Energy and Water'!\"&U$141&ROW())","v":"Tankless Coil?"},{"$f":"INDIRECT(\"'Inspection - Energy and Water'!\"&W$141&$L143)&\": \"","v":": "},{"$f":"INDIRECT(\"'Inspection - Energy and Water'!\"&W$141&ROW())","v":"Mixing Valve?"},{"$f":"INDIRECT(\"'Inspection - Energy and Water'!\"&Y$141&$L143)&\": \"","v":": "},{"$f":"INDIRECT(\"'Inspection - Energy and Water'!\"&Y$141&ROW())","v":"Recirc. Pump?"},{"$f":"INDIRECT(\"'Inspection - Energy and Water'!\"&AA$141&$L143)&\": \"","v":": "},{"$f":"INDIRECT(\"'Inspection - Energy and Water'!\"&AA$141&ROW())","v":"Expansion Tank?"},{"$f":"INDIRECT(\"'Inspection - Energy and Water'!\"&AC$141&$L143)&\": \"","v":": "},{"$f":"INDIRECT(\"'Inspection - Energy and Water'!\"&AC$141&ROW())","v":"Storage Tank"},{"$f":"INDIRECT(\"'Inspection - Energy and Water'!\"&AE$141&ROW($AE$142))&\": \"","v":": "},{"$f":"INDIRECT(\"'Inspection - Energy and Water'!\"&AE$141&ROW())","v":0},{"$f":"INDIRECT(\"'Inspection - Energy and Water'!\"&AG$141&ROW($AE$142))&\": \"","v":": "},{"$f":"INDIRECT(\"'Inspection - Energy and Water'!\"&AG$141&ROW())","v":0},{"$f":"INDIRECT(\"'Inspection - Energy and Water'!\"&AI$141&ROW($AE$142))&\": \"","v":": "},{"$f":"INDIRECT(\"'Inspection - Energy and Water'!\"&AI$141&ROW())","v":0},{"$f":"INDIRECT(\"'Inspection - Energy and Water'!\"&AK$141&ROW($AE$142))&\": \"","v":": "},{"$f":"INDIRECT(\"'Inspection - Energy and Water'!\"&AK$141&ROW())","v":0},{"$f":"INDIRECT(\"'Inspection - Energy and Water'!\"&AM$141&ROW($AE$142))&\": \"","v":": "},{"$f":"INDIRECT(\"'Inspection - Energy and Water'!\"&AM$141&ROW())","v":0},{"$f":"INDIRECT(\"'Inspection - Energy and Water'!\"&AO$141&$L143)&\": \"","v":": "},{"$f":"INDIRECT(\"'Inspection - Energy and Water'!\"&AO$141&ROW())","v":"Location of Equipment"},{"$f":"INDIRECT(\"'Inspection - Energy and Water'!\"&AQ$141&$L143)&\": \"","v":": "},{"$f":"INDIRECT(\"'Inspection - Energy and Water'!\"&AQ$141&ROW())","v":"Spaces Served"},{"$f":"INDIRECT(\"'Inspection - Energy and Water'!\"&AS$141&$L143)&\": \"","v":": "},{"$f":"INDIRECT(\"'Inspection - Energy and Water'!\"&AS$141&ROW())","v":"EStar?"},{"$f":"INDIRECT(\"'Inspection - Energy and Water'!\"&AU$141&$L143)&\": \"","v":": "},{"$f":"INDIRECT(\"'Inspection - Energy and Water'!\"&AU$141&ROW())","v":"Manufacturer"},{"$f":"INDIRECT(\"'Inspection - Energy and Water'!\"&AW$141&$L143)&\": \"","v":": "},{"$f":"INDIRECT(\"'Inspection - Energy and Water'!\"&AW$141&ROW())","v":"Model No."},{"$f":"INDIRECT(\"'Inspection - Energy and Water'!\"&AY$141&$L143)&\": \"","v":": "},{"$f":"INDIRECT(\"'Inspection - Energy and Water'!\"&AY$141&ROW())","v":"Year Installed"},{"$f":"INDIRECT(\"'Inspection - Energy and Water'!\"&BA$141&$L143)&\": \"","v":": "},{"$f":"INDIRECT(\"'Inspection - Energy and Water'!\"&BA$141&ROW())","v":"Fuel Source"},{"$f":"INDIRECT(\"'Inspection - Energy and Water'!\"&BC$141&$L143)&\": \"","v":": "},{"$f":"INDIRECT(\"'Inspection - Energy and Water'!\"&BC$141&ROW())","v":"Rated Efficiency"},{"$f":"INDIRECT(\"'Inspection - Energy and Water'!\"&BE$141&$L143)&\": \"","v":": "},{"$f":"INDIRECT(\"'Inspection - Energy and Water'!\"&BE$141&ROW())","v":"Rated Efficiency (units)"},{"$f":"INDIRECT(\"'Inspection - Energy and Water'!\"&BG$141&$L143)&\": \"","v":": "},{"$f":"INDIRECT(\"'Inspection - Energy and Water'!\"&BG$141&ROW())","v":"Venting Type"},{"$f":"INDIRECT(\"'Inspection - Energy and Water'!\"&BI$141&$L143)&\": \"","v":": "},{"$f":"INDIRECT(\"'Inspection - Energy and Water'!\"&BI$141&ROW())","v":"Input (Mbh)"},{"$f":"INDIRECT(\"'Inspection - Energy and Water'!\"&BK$141&$L143)&\": \"","v":": "},{"$f":"INDIRECT(\"'Inspection - Energy and Water'!\"&BK$141&ROW())","v":"Output (Mbh)"},{"$f":"INDIRECT(\"'Inspection - Energy and Water'!\"&BM$141&$L143)&\": \"","v":": "},{"$f":"INDIRECT(\"'Inspection - Energy and Water'!\"&BM$141&ROW())","v":"Combustion Testing"},{"$f":"INDIRECT(\"'Inspection - Energy and Water'!\"&BO$141&ROW($BO$142))&\": \"","v":": "},{"$f":"INDIRECT(\"'Inspection - Energy and Water'!\"&BO$141&ROW())","v":0},{"$f":"INDIRECT(\"'Inspection - Energy and Water'!\"&BQ$141&ROW($BO$142))&\": \"","v":": "},{"$f":"INDIRECT(\"'Inspection - Energy and Water'!\"&BQ$141&ROW())","v":0},{"$f":"INDIRECT(\"'Inspection - Energy and Water'!\"&BS$141&ROW($BO$142))&\": \"","v":": "},{"$f":"INDIRECT(\"'Inspection - Energy and Water'!\"&BS$141&ROW())","v":0},{"$f":"INDIRECT(\"'Inspection - Energy and Water'!\"&BU$141&ROW($BO$142))&\": \"","v":": "},{"$f":"INDIRECT(\"'Inspection - Energy and Water'!\"&BU$141&ROW())","v":0},{"$f":"INDIRECT(\"'Inspection - Energy and Water'!\"&BW$141&ROW($BO$142))&\": \"","v":": "},{"$f":"INDIRECT(\"'Inspection - Energy and Water'!\"&BW$141&ROW())","v":0},{"$f":"INDIRECT(\"'Inspection - Energy and Water'!\"&BY$141&$L143)&\": \"","v":": "},{"$f":"INDIRECT(\"'Inspection - Energy and Water'!\"&BY$141&ROW())","v":"Controls"},{"$f":"INDIRECT(\"'Inspection - Energy and Water'!\"&CA$141&$L143)&\": \"","v":": "},{"$f":"INDIRECT(\"'Inspection - Energy and Water'!\"&CA$141&ROW())","v":"Thermostat Setpoints"},{"$f":"INDIRECT(\"'Inspection - Energy and Water'!\"&CC$141&$L143)&\": \"","v":": "},{"$f":"INDIRECT(\"'Inspection - Energy and Water'!\"&CC$141&ROW())","v":"Condition"},{"$f":"INDIRECT(\"'Inspection - Energy and Water'!\"&CE$141&$L143)&\": \"","v":": "},{"$f":"INDIRECT(\"'Inspection - Energy and Water'!\"&CE$141&ROW())","v":"Additional Notes"}]
[null,null,"DHW System 2",{"$f":"IF(N144>0,M144&N144,\"\")&IF(P144>0,CHAR(10)&O144&P144,\"\")&IF(R144>0,CHAR(10)&Q144&R144,\"\")&IF(T144>0,CHAR(10)&S144&T144,\"\")&IF(V144>0,CHAR(10)&U144&V144,\"\")&IF(X144>0,CHAR(10)&W144&X144,\"\")&IF(Z144>0,CHAR(10)&Y144&Z144,\"\")&IF(AB144>0,CHAR(10)&AA144&AB144,\"\")&IF(AD144>0,CHAR(10)&AC144&AD144,\"\")&IF(AF144>0,\"     \"&CHAR(149)&AE144&AF144,\"\")&IF(AH144>0,\"     \"&CHAR(149)&AG144&AH144,\"\")&IF(AJ144>0,\"     \"&CHAR(149)&AI144&AJ144,\"\")&IF(AL144>0,\"     \"&CHAR(149)&AK144&AL144,\"\")&IF(AN144>0,\"     \"&CHAR(149)&AM144&AN144,\"\")&IF(AP144>0,CHAR(10)&AO144&AP144,\"\")&IF(AR144>0,CHAR(10)&AQ144&AR144,\"\")&IF(AT144>0,CHAR(10)&AS144&AT144,\"\")&IF(AV144>0,CHAR(10)&AU144&AV144,\"\")&IF(AX144>0,CHAR(10)&AW144&AX144,\"\")&IF(AZ144>0,CHAR(10)&AY144&AZ144,\"\")&IF(BB144>0,CHAR(10)&BA144&BB144,\"\")&IF(BD144>0,CHAR(10)&BC144&BD144,\"\")&IF(BF144>0,CHAR(10)&BE144&BF144,\"\")&IF(BH144>0,CHAR(10)&BG144&BH144,\"\")&IF(BJ144>0,CHAR(10)&BI144&BJ144,\"\")&IF(BL144>0,CHAR(10)&BK144&BL144,\"\")&IF(OR(BN144>0,BP144>0,BR144>0,BT144>0,BV144>0,BX144>0),CHAR(10)&\"Combustion Testing: \",\"\")&IF(BN144>0,\"     \"&CHAR(149)&BM144&BN144,\"\")&IF(BP144>0,\"     \"&CHAR(149)&BO144&BP144,\"\")&IF(BR144>0,\"     \"&CHAR(149)&BQ144&BR144,\"\")&IF(BT144>0,\"     \"&CHAR(149)&BS144&BT144,\"\")&IF(BV144>0,\"     \"&CHAR(149)&BU144&BV144,\"\")&IF(BX144>0,\"     \"&CHAR(149)&BW144&BX144,\"\")&IF(BZ144>0,CHAR(10)&BY144&BZ144,\"\")&IF(CB144>0,CHAR(10)&CA144&CB144,\"\")&IF(CD144>0,CHAR(10)&CC144&CD144,\"\")&IF(CF144>0,CHAR(10)&CE144&CF144,\"\")","v":"\n: Storage Tank?     •: Heating Element?     •:  Capacity     •: Water Temp.     •: Insulated?     •: Insulation Thickness\nCombustion Testing:      •: Draft     •: Stack Temp.     •: % O2     •: % CO2     •: CO/CO air free     •: Combustion Efficiency"},null,null,null,null,null,null,null,{"$f":"ROW($L$141)","v":141},{"$f":"INDIRECT(\"'Inspection - Energy and Water'!\"&M$141&$L144)&\": \"","v":": "},{"$f":"INDIRECT(\"'Inspection - Energy and Water'!\"&M$141&ROW())","v":0},{"$f":"INDIRECT(\"'Inspection - Energy and Water'!\"&O$141&$L144)&\": \"","v":": "},{"$f":"INDIRECT(\"'Inspection - Energy and Water'!\"&O$141&ROW())","v":0},{"$f":"INDIRECT(\"'Inspection - Energy and Water'!\"&Q$141&$L144)&\": \"","v":": "},{"$f":"INDIRECT(\"'Inspection - Energy and Water'!\"&Q$141&ROW())","v":0},{"$f":"INDIRECT(\"'Inspection - Energy and Water'!\"&S$141&$L144)&\": \"","v":": "},{"$f":"INDIRECT(\"'Inspection - Energy and Water'!\"&S$141&ROW())","v":0},{"$f":"INDIRECT(\"'Inspection - Energy and Water'!\"&U$141&$L144)&\": \"","v":": "},{"$f":"INDIRECT(\"'Inspection - Energy and Water'!\"&U$141&ROW())","v":0},{"$f":"INDIRECT(\"'Inspection - Energy and Water'!\"&W$141&$L144)&\": \"","v":": "},{"$f":"INDIRECT(\"'Inspection - Energy and Water'!\"&W$141&ROW())","v":0},{"$f":"INDIRECT(\"'Inspection - Energy and Water'!\"&Y$141&$L144)&\": \"","v":": "},{"$f":"INDIRECT(\"'Inspection - Energy and Water'!\"&Y$141&ROW())","v":0},{"$f":"INDIRECT(\"'Inspection - Energy and Water'!\"&AA$141&$L144)&\": \"","v":": "},{"$f":"INDIRECT(\"'Inspection - Energy and Water'!\"&AA$141&ROW())","v":0},{"$f":"INDIRECT(\"'Inspection - Energy and Water'!\"&AC$141&$L144)&\": \"","v":": "},{"$f":"INDIRECT(\"'Inspection - Energy and Water'!\"&AC$141&ROW())","v":"Storage Tank?"},{"$f":"INDIRECT(\"'Inspection - Energy and Water'!\"&AE$141&ROW($AE$142))&\": \"","v":": "},{"$f":"INDIRECT(\"'Inspection - Energy and Water'!\"&AE$141&ROW())","v":"Heating Element?"},{"$f":"INDIRECT(\"'Inspection - Energy and Water'!\"&AG$141&ROW($AE$142))&\": \"","v":": "},{"$f":"INDIRECT(\"'Inspection - Energy and Water'!\"&AG$141&ROW())","v":" Capacity"},{"$f":"INDIRECT(\"'Inspection - Energy and Water'!\"&AI$141&ROW($AE$142))&\": \"","v":": "},{"$f":"INDIRECT(\"'Inspection - Energy and Water'!\"&AI$141&ROW())","v":"Water Temp."},{"$f":"INDIRECT(\"'Inspection - Energy and Water'!\"&AK$141&ROW($AE$142))&\": \"","v":": "},{"$f":"INDIRECT(\"'Inspection - Energy and Water'!\"&AK$141&ROW())","v":"Insulated?"},{"$f":"INDIRECT(\"'Inspection - Energy and Water'!\"&AM$141&ROW($AE$142))&\": \"","v":": "},{"$f":"INDIRECT(\"'Inspection - Energy and Water'!\"&AM$141&ROW())","v":"Insulation Thickness"},{"$f":"INDIRECT(\"'Inspection - Energy and Water'!\"&AO$141&$L144)&\": \"","v":": "},{"$f":"INDIRECT(\"'Inspection - Energy and Water'!\"&AO$141&ROW())","v":0},{"$f":"INDIRECT(\"'Inspection - Energy and Water'!\"&AQ$141&$L144)&\": \"","v":": "},{"$f":"INDIRECT(\"'Inspection - Energy and Water'!\"&AQ$141&ROW())","v":0},{"$f":"INDIRECT(\"'Inspection - Energy and Water'!\"&AS$141&$L144)&\": \"","v":": "},{"$f":"INDIRECT(\"'Inspection - Energy and Water'!\"&AS$141&ROW())","v":0},{"$f":"INDIRECT(\"'Inspection - Energy and Water'!\"&AU$141&$L144)&\": \"","v":": "},{"$f":"INDIRECT(\"'Inspection - Energy and Water'!\"&AU$141&ROW())","v":0},{"$f":"INDIRECT(\"'Inspection - Energy and Water'!\"&AW$141&$L144)&\": \"","v":": "},{"$f":"INDIRECT(\"'Inspection - Energy and Water'!\"&AW$141&ROW())","v":0},{"$f":"INDIRECT(\"'Inspection - Energy and Water'!\"&AY$141&$L144)&\": \"","v":": "},{"$f":"INDIRECT(\"'Inspection - Energy and Water'!\"&AY$141&ROW())","v":0},{"$f":"INDIRECT(\"'Inspection - Energy and Water'!\"&BA$141&$L144)&\": \"","v":": "},{"$f":"INDIRECT(\"'Inspection - Energy and Water'!\"&BA$141&ROW())","v":0},{"$f":"INDIRECT(\"'Inspection - Energy and Water'!\"&BC$141&$L144)&\": \"","v":": "},{"$f":"INDIRECT(\"'Inspection - Energy and Water'!\"&BC$141&ROW())","v":0},{"$f":"INDIRECT(\"'Inspection - Energy and Water'!\"&BE$141&$L144)&\": \"","v":": "},{"$f":"INDIRECT(\"'Inspection - Energy and Water'!\"&BE$141&ROW())","v":0},{"$f":"INDIRECT(\"'Inspection - Energy and Water'!\"&BG$141&$L144)&\": \"","v":": "},{"$f":"INDIRECT(\"'Inspection - Energy and Water'!\"&BG$141&ROW())","v":0},{"$f":"INDIRECT(\"'Inspection - Energy and Water'!\"&BI$141&$L144)&\": \"","v":": "},{"$f":"INDIRECT(\"'Inspection - Energy and Water'!\"&BI$141&ROW())","v":0},{"$f":"INDIRECT(\"'Inspection - Energy and Water'!\"&BK$141&$L144)&\": \"","v":": "},{"$f":"INDIRECT(\"'Inspection - Energy and Water'!\"&BK$141&ROW())","v":0},{"$f":"INDIRECT(\"'Inspection - Energy and Water'!\"&BM$141&$L144)&\": \"","v":": "},{"$f":"INDIRECT(\"'Inspection - Energy and Water'!\"&BM$141&ROW())","v":"Draft"},{"$f":"INDIRECT(\"'Inspection - Energy and Water'!\"&BO$141&ROW($BO$142))&\": \"","v":": "},{"$f":"INDIRECT(\"'Inspection - Energy and Water'!\"&BO$141&ROW())","v":"Stack Temp."},{"$f":"INDIRECT(\"'Inspection - Energy and Water'!\"&BQ$141&ROW($BO$142))&\": \"","v":": "},{"$f":"INDIRECT(\"'Inspection - Energy and Water'!\"&BQ$141&ROW())","v":"% O2"},{"$f":"INDIRECT(\"'Inspection - Energy and Water'!\"&BS$141&ROW($BO$142))&\": \"","v":": "},{"$f":"INDIRECT(\"'Inspection - Energy and Water'!\"&BS$141&ROW())","v":"% CO2"},{"$f":"INDIRECT(\"'Inspection - Energy and Water'!\"&BU$141&ROW($BO$142))&\": \"","v":": "},{"$f":"INDIRECT(\"'Inspection - Energy and Water'!\"&BU$141&ROW())","v":"CO/CO air free"},{"$f":"INDIRECT(\"'Inspection - Energy and Water'!\"&BW$141&ROW($BO$142))&\": \"","v":": "},{"$f":"INDIRECT(\"'Inspection - Energy and Water'!\"&BW$141&ROW())","v":"Combustion Efficiency"},{"$f":"INDIRECT(\"'Inspection - Energy and Water'!\"&BY$141&$L144)&\": \"","v":": "},{"$f":"INDIRECT(\"'Inspection - Energy and Water'!\"&BY$141&ROW())","v":0},{"$f":"INDIRECT(\"'Inspection - Energy and Water'!\"&CA$141&$L144)&\": \"","v":": "},{"$f":"INDIRECT(\"'Inspection - Energy and Water'!\"&CA$141&ROW())","v":0},{"$f":"INDIRECT(\"'Inspection - Energy and Water'!\"&CC$141&$L144)&\": \"","v":": "},{"$f":"INDIRECT(\"'Inspection - Energy and Water'!\"&CC$141&ROW())","v":0},{"$f":"INDIRECT(\"'Inspection - Energy and Water'!\"&CE$141&$L144)&\": \"","v":": "},{"$f":"INDIRECT(\"'Inspection - Energy and Water'!\"&CE$141&ROW())","v":0}]
[null,null,"DHW Distribution ",null,null,null,null,null,null,null,null,"Row Header","D",null,"F",null,"G",null,"H"]
[null,null,"DHW System 1 Distribution",{"$f":"IF(N146>0,M146&N146,\"\")&IF(P146>0,CHAR(10)&O146&P146,\"\")&IF(R146>0,CHAR(10)&Q146&R146,\"\")&IF(T146>0,CHAR(10)&S146&T146,\"\")&IF(V146>0,CHAR(10)&U146&V146,\"\")&IF(X146>0,CHAR(10)&W146&X146,\"\")&IF(Z146>0,CHAR(10)&Y146&Z146,\"\")&IF(AB146>0,CHAR(10)&AA146&AB146,\"\")&IF(AD146>0,CHAR(10)&AC146&AD146,\"\")&IF(AF146>0,CHAR(10)&AE146&AF146,\"\")&IF(AH146>0,CHAR(10)&AG146&AH146,\"\")&IF(AJ146>0,CHAR(10)&AI146&AJ146,\"\")&IF(AL146>0,CHAR(10)&AK146&AL146,\"\")&IF(AN146>0,CHAR(10)&AM146&AN146,\"\")&IF(AP146>0,CHAR(10)&AO146&AP146,\"\")&IF(AR146>0,CHAR(10)&AQ146&AR146,\"\")&IF(AT146>0,CHAR(10)&AS146&AT146,\"\")&IF(AV146>0,CHAR(10)&AU146&AV146,\"\")&IF(AX146>0,CHAR(10)&AW146&AX146,\"\")&IF(AZ146>0,CHAR(10)&AY146&AZ146,\"\")&IF(BB146>0,CHAR(10)&BA146&BB146,\"\")&IF(BD146>0,CHAR(10)&BC146&BD146,\"\")&IF(BF146>0,CHAR(10)&BE146&BF146,\"\")&IF(BH146>0,CHAR(10)&BG146&BH146,\"\")&IF(BJ146>0,CHAR(10)&BI146&BJ146,\"\")&IF(BL146>0,CHAR(10)&BK146&BL146,\"\")&IF(BN146>0,CHAR(10)&BM146&BN146,\"\")&IF(BP146>0,CHAR(10)&BO146&BP146,\"\")&IF(BR146>0,CHAR(10)&BQ146&BR146,\"\")&IF(BT146>0,CHAR(10)&BS146&BT146,\"\")&IF(BV146>0,CHAR(10)&BU146&BV146,\"\")&IF(BX146>0,CHAR(10)&BW146&BX146,\"\")&IF(BZ146>0,CHAR(10)&BY146&BZ146,\"\")&IF(CB146>0,CHAR(10)&CA146&CB146,\"\")&IF(CD146>0,CHAR(10)&CC146&CD146,\"\")&IF(CF146>0,CHAR(10)&CE146&CF146,\"\")","v":""},null,null,null,null,null,null,null,{"$f":"ROW($L$145)","v":145},{"$f":"INDIRECT(\"'Inspection - Energy and Water'!\"&$M$145&$L146)&\": \"","v":": "},{"$f":"INDIRECT(\"'Inspection - Energy and Water'!\"&$M$145&ROW())","v":0},{"$f":"INDIRECT(\"'Inspection - Energy and Water'!\"&$O$145&$L146)&\": \"","v":": "},{"$f":"INDIRECT(\"'Inspection - Energy and Water'!\"&$O$145&ROW())","v":0},{"$f":"INDIRECT(\"'Inspection - Energy and Water'!\"&$Q$145&$L146)&\": \"","v":": "},{"$f":"INDIRECT(\"'Inspection - Energy and Water'!\"&$Q$145&ROW())","v":0},{"$f":"INDIRECT(\"'Inspection - Energy and Water'!\"&$S$145&$L146)&\": \"","v":": "},{"$f":"INDIRECT(\"'Inspection - Energy and Water'!\"&$S$145&ROW())","v":0}]
[null,null,"DHW System 2 Distribution",{"$f":"IF(N147>0,M147&N147,\"\")&IF(P147>0,CHAR(10)&O147&P147,\"\")&IF(R147>0,CHAR(10)&Q147&R147,\"\")&IF(T147>0,CHAR(10)&S147&T147,\"\")&IF(V147>0,CHAR(10)&U147&V147,\"\")&IF(X147>0,CHAR(10)&W147&X147,\"\")&IF(Z147>0,CHAR(10)&Y147&Z147,\"\")&IF(AB147>0,CHAR(10)&AA147&AB147,\"\")&IF(AD147>0,CHAR(10)&AC147&AD147,\"\")&IF(AF147>0,CHAR(10)&AE147&AF147,\"\")&IF(AH147>0,CHAR(10)&AG147&AH147,\"\")&IF(AJ147>0,CHAR(10)&AI147&AJ147,\"\")&IF(AL147>0,CHAR(10)&AK147&AL147,\"\")&IF(AN147>0,CHAR(10)&AM147&AN147,\"\")&IF(AP147>0,CHAR(10)&AO147&AP147,\"\")&IF(AR147>0,CHAR(10)&AQ147&AR147,\"\")&IF(AT147>0,CHAR(10)&AS147&AT147,\"\")&IF(AV147>0,CHAR(10)&AU147&AV147,\"\")&IF(AX147>0,CHAR(10)&AW147&AX147,\"\")&IF(AZ147>0,CHAR(10)&AY147&AZ147,\"\")&IF(BB147>0,CHAR(10)&BA147&BB147,\"\")&IF(BD147>0,CHAR(10)&BC147&BD147,\"\")&IF(BF147>0,CHAR(10)&BE147&BF147,\"\")&IF(BH147>0,CHAR(10)&BG147&BH147,\"\")&IF(BJ147>0,CHAR(10)&BI147&BJ147,\"\")&IF(BL147>0,CHAR(10)&BK147&BL147,\"\")&IF(BN147>0,CHAR(10)&BM147&BN147,\"\")&IF(BP147>0,CHAR(10)&BO147&BP147,\"\")&IF(BR147>0,CHAR(10)&BQ147&BR147,\"\")&IF(BT147>0,CHAR(10)&BS147&BT147,\"\")&IF(BV147>0,CHAR(10)&BU147&BV147,\"\")&IF(BX147>0,CHAR(10)&BW147&BX147,\"\")&IF(BZ147>0,CHAR(10)&BY147&BZ147,\"\")&IF(CB147>0,CHAR(10)&CA147&CB147,\"\")&IF(CD147>0,CHAR(10)&CC147&CD147,\"\")&IF(CF147>0,CHAR(10)&CE147&CF147,\"\")","v":": Insulation Material\n: Insulation Thickness\n: Linear ft. un-insulated\n: Additional Notes"},null,null,null,null,null,null,null,{"$f":"ROW($L$145)","v":145},{"$f":"INDIRECT(\"'Inspection - Energy and Water'!\"&$M$145&$L147)&\": \"","v":": "},{"$f":"INDIRECT(\"'Inspection - Energy and Water'!\"&$M$145&ROW())","v":"Insulation Material"},{"$f":"INDIRECT(\"'Inspection - Energy and Water'!\"&$O$145&$L147)&\": \"","v":": "},{"$f":"INDIRECT(\"'Inspection - Energy and Water'!\"&$O$145&ROW())","v":"Insulation Thickness"},{"$f":"INDIRECT(\"'Inspection - Energy and Water'!\"&$Q$145&$L147)&\": \"","v":": "},{"$f":"INDIRECT(\"'Inspection - Energy and Water'!\"&$Q$145&ROW())","v":"Linear ft. un-insulated"},{"$f":"INDIRECT(\"'Inspection - Energy and Water'!\"&$S$145&$L147)&\": \"","v":": "},{"$f":"INDIRECT(\"'Inspection - Energy and Water'!\"&$S$145&ROW())","v":"Additional Notes"}]
[null,null,"Gas",null,null,null,null,null,null,null,null,"Row Header","D",null,"G",null,"I",null,"O"]
[]
[null,null,"Meters",{"$f":"IF(N150>0,M150&N150,\"\")&IF(P150>0,CHAR(10)&O150&P150,\"\")&IF(R150>0,CHAR(10)&Q150&R150,\"\")&IF(T150>0,CHAR(10)&S150&T150,\"\")&IF(V150>0,CHAR(10)&U150&V150,\"\")&IF(X150>0,CHAR(10)&W150&X150,\"\")&IF(Z150>0,CHAR(10)&Y150&Z150,\"\")&IF(AB150>0,CHAR(10)&AA150&AB150,\"\")&IF(AD150>0,CHAR(10)&AC150&AD150,\"\")&IF(AF150>0,CHAR(10)&AE150&AF150,\"\")&IF(AH150>0,CHAR(10)&AG150&AH150,\"\")&IF(AJ150>0,CHAR(10)&AI150&AJ150,\"\")&IF(AL150>0,CHAR(10)&AK150&AL150,\"\")&IF(AN150>0,CHAR(10)&AM150&AN150,\"\")&IF(AP150>0,CHAR(10)&AO150&AP150,\"\")&IF(AR150>0,CHAR(10)&AQ150&AR150,\"\")&IF(AT150>0,CHAR(10)&AS150&AT150,\"\")&IF(AV150>0,CHAR(10)&AU150&AV150,\"\")&IF(AX150>0,CHAR(10)&AW150&AX150,\"\")&IF(AZ150>0,CHAR(10)&AY150&AZ150,\"\")&IF(BB150>0,CHAR(10)&BA150&BB150,\"\")&IF(BD150>0,CHAR(10)&BC150&BD150,\"\")&IF(BF150>0,CHAR(10)&BE150&BF150,\"\")&IF(BH150>0,CHAR(10)&BG150&BH150,\"\")&IF(BJ150>0,CHAR(10)&BI150&BJ150,\"\")&IF(BL150>0,CHAR(10)&BK150&BL150,\"\")&IF(BN150>0,CHAR(10)&BM150&BN150,\"\")&IF(BP150>0,CHAR(10)&BO150&BP150,\"\")&IF(BR150>0,CHAR(10)&BQ150&BR150,\"\")&IF(BT150>0,CHAR(10)&BS150&BT150,\"\")&IF(BV150>0,CHAR(10)&BU150&BV150,\"\")&IF(BX150>0,CHAR(10)&BW150&BX150,\"\")&IF(BZ150>0,CHAR(10)&BY150&BZ150,\"\")&IF(CB150>0,CHAR(10)&CA150&CB150,\"\")&IF(CD150>0,CHAR(10)&CC150&CD150,\"\")&IF(CF150>0,CHAR(10)&CE150&CF150,\"\")","v":": Description\n: Location\n: Condition\n: Additional Notes"},null,null,null,null,null,null,null,{"$f":"ROW($L$148)","v":148},{"$f":"INDIRECT(\"'Inspection - Energy and Water'!\"&$M$148&$L150)&\": \"","v":": "},{"$f":"INDIRECT(\"'Inspection - Energy and Water'!\"&$M$148&ROW())","v":"Description"},{"$f":"INDIRECT(\"'Inspection - Energy and Water'!\"&$O$148&$L150)&\": \"","v":": "},{"$f":"INDIRECT(\"'Inspection - Energy and Water'!\"&$O$148&ROW())","v":"Location"},{"$f":"INDIRECT(\"'Inspection - Energy and Water'!\"&$Q$148&$L150)&\": \"","v":": "},{"$f":"INDIRECT(\"'Inspection - Energy and Water'!\"&$Q$148&ROW())","v":"Condition"},{"$f":"INDIRECT(\"'Inspection - Energy and Water'!\"&$S$148&$L150)&\": \"","v":": "},{"$f":"INDIRECT(\"'Inspection - Energy and Water'!\"&$S$148&ROW())","v":"Additional Notes"}]
[null,null,"Piping",{"$f":"IF(N151>0,M151&N151,\"\")&IF(P151>0,CHAR(10)&O151&P151,\"\")&IF(R151>0,CHAR(10)&Q151&R151,\"\")&IF(T151>0,CHAR(10)&S151&T151,\"\")&IF(V151>0,CHAR(10)&U151&V151,\"\")&IF(X151>0,CHAR(10)&W151&X151,\"\")&IF(Z151>0,CHAR(10)&Y151&Z151,\"\")&IF(AB151>0,CHAR(10)&AA151&AB151,\"\")&IF(AD151>0,CHAR(10)&AC151&AD151,\"\")&IF(AF151>0,CHAR(10)&AE151&AF151,\"\")&IF(AH151>0,CHAR(10)&AG151&AH151,\"\")&IF(AJ151>0,CHAR(10)&AI151&AJ151,\"\")&IF(AL151>0,CHAR(10)&AK151&AL151,\"\")&IF(AN151>0,CHAR(10)&AM151&AN151,\"\")&IF(AP151>0,CHAR(10)&AO151&AP151,\"\")&IF(AR151>0,CHAR(10)&AQ151&AR151,\"\")&IF(AT151>0,CHAR(10)&AS151&AT151,\"\")&IF(AV151>0,CHAR(10)&AU151&AV151,\"\")&IF(AX151>0,CHAR(10)&AW151&AX151,\"\")&IF(AZ151>0,CHAR(10)&AY151&AZ151,\"\")&IF(BB151>0,CHAR(10)&BA151&BB151,\"\")&IF(BD151>0,CHAR(10)&BC151&BD151,\"\")&IF(BF151>0,CHAR(10)&BE151&BF151,\"\")&IF(BH151>0,CHAR(10)&BG151&BH151,\"\")&IF(BJ151>0,CHAR(10)&BI151&BJ151,\"\")&IF(BL151>0,CHAR(10)&BK151&BL151,\"\")&IF(BN151>0,CHAR(10)&BM151&BN151,\"\")&IF(BP151>0,CHAR(10)&BO151&BP151,\"\")&IF(BR151>0,CHAR(10)&BQ151&BR151,\"\")&IF(BT151>0,CHAR(10)&BS151&BT151,\"\")&IF(BV151>0,CHAR(10)&BU151&BV151,\"\")&IF(BX151>0,CHAR(10)&BW151&BX151,\"\")&IF(BZ151>0,CHAR(10)&BY151&BZ151,\"\")&IF(CB151>0,CHAR(10)&CA151&CB151,\"\")&IF(CD151>0,CHAR(10)&CC151&CD151,\"\")&IF(CF151>0,CHAR(10)&CE151&CF151,\"\")","v":""},null,null,null,null,null,null,null,{"$f":"ROW($L$148)","v":148},{"$f":"INDIRECT(\"'Inspection - Energy and Water'!\"&$M$148&$L151)&\": \"","v":": "},{"$f":"INDIRECT(\"'Inspection - Energy and Water'!\"&$M$148&ROW())","v":0},{"$f":"INDIRECT(\"'Inspection - Energy and Water'!\"&$O$148&$L151)&\": \"","v":": "},{"$f":"INDIRECT(\"'Inspection - Energy and Water'!\"&$O$148&ROW())","v":0},{"$f":"INDIRECT(\"'Inspection - Energy and Water'!\"&$Q$148&$L151)&\": \"","v":": "},{"$f":"INDIRECT(\"'Inspection - Energy and Water'!\"&$Q$148&ROW())","v":0},{"$f":"INDIRECT(\"'Inspection - Energy and Water'!\"&$S$148&$L151)&\": \"","v":": "},{"$f":"INDIRECT(\"'Inspection - Energy and Water'!\"&$S$148&ROW())","v":0}]
[null,null,"Gas Leaks",{"$f":"IF(N152>0,M152&N152,\"\")&IF(P152>0,CHAR(10)&O152&P152,\"\")&IF(R152>0,CHAR(10)&Q152&R152,\"\")&IF(T152>0,CHAR(10)&S152&T152,\"\")&IF(V152>0,CHAR(10)&U152&V152,\"\")&IF(X152>0,CHAR(10)&W152&X152,\"\")&IF(Z152>0,CHAR(10)&Y152&Z152,\"\")&IF(AB152>0,CHAR(10)&AA152&AB152,\"\")&IF(AD152>0,CHAR(10)&AC152&AD152,\"\")&IF(AF152>0,CHAR(10)&AE152&AF152,\"\")&IF(AH152>0,CHAR(10)&AG152&AH152,\"\")&IF(AJ152>0,CHAR(10)&AI152&AJ152,\"\")&IF(AL152>0,CHAR(10)&AK152&AL152,\"\")&IF(AN152>0,CHAR(10)&AM152&AN152,\"\")&IF(AP152>0,CHAR(10)&AO152&AP152,\"\")&IF(AR152>0,CHAR(10)&AQ152&AR152,\"\")&IF(AT152>0,CHAR(10)&AS152&AT152,\"\")&IF(AV152>0,CHAR(10)&AU152&AV152,\"\")&IF(AX152>0,CHAR(10)&AW152&AX152,\"\")&IF(AZ152>0,CHAR(10)&AY152&AZ152,\"\")&IF(BB152>0,CHAR(10)&BA152&BB152,\"\")&IF(BD152>0,CHAR(10)&BC152&BD152,\"\")&IF(BF152>0,CHAR(10)&BE152&BF152,\"\")&IF(BH152>0,CHAR(10)&BG152&BH152,\"\")&IF(BJ152>0,CHAR(10)&BI152&BJ152,\"\")&IF(BL152>0,CHAR(10)&BK152&BL152,\"\")&IF(BN152>0,CHAR(10)&BM152&BN152,\"\")&IF(BP152>0,CHAR(10)&BO152&BP152,\"\")&IF(BR152>0,CHAR(10)&BQ152&BR152,\"\")&IF(BT152>0,CHAR(10)&BS152&BT152,\"\")&IF(BV152>0,CHAR(10)&BU152&BV152,\"\")&IF(BX152>0,CHAR(10)&BW152&BX152,\"\")&IF(BZ152>0,CHAR(10)&BY152&BZ152,\"\")&IF(CB152>0,CHAR(10)&CA152&CB152,\"\")&IF(CD152>0,CHAR(10)&CC152&CD152,\"\")&IF(CF152>0,CHAR(10)&CE152&CF152,\"\")","v":""},null,null,null,null,null,null,null,{"$f":"ROW($L$148)","v":148},{"$f":"INDIRECT(\"'Inspection - Energy and Water'!\"&$M$148&$L152)&\": \"","v":": "},{"$f":"INDIRECT(\"'Inspection - Energy and Water'!\"&$M$148&ROW())","v":0},{"$f":"INDIRECT(\"'Inspection - Energy and Water'!\"&$O$148&$L152)&\": \"","v":": "},{"$f":"INDIRECT(\"'Inspection - Energy and Water'!\"&$O$148&ROW())","v":0},{"$f":"INDIRECT(\"'Inspection - Energy and Water'!\"&$Q$148&$L152)&\": \"","v":": "},{"$f":"INDIRECT(\"'Inspection - Energy and Water'!\"&$Q$148&ROW())","v":0},{"$f":"INDIRECT(\"'Inspection - Energy and Water'!\"&$S$148&$L152)&\": \"","v":": "},{"$f":"INDIRECT(\"'Inspection - Energy and Water'!\"&$S$148&ROW())","v":0}]
[]
[null,null,"Other/Advanced Systems"]
[null,null,"Name of System",null,null,null,null,null,null,null,null,"Row Header","D",null,"G",null,"I",null,"O"]
[]
[null,null,{"$f":"IF('Inspection - Energy and Water'!C159>0,'Inspection - Energy and Water'!C159,\"\")","v":""},{"$f":"IF(N157>0,M157&N157,\"\")&IF(P157>0,CHAR(10)&O157&P157,\"\")&IF(R157>0,CHAR(10)&Q157&R157,\"\")&IF(T157>0,CHAR(10)&S157&T157,\"\")&IF(V157>0,CHAR(10)&U157&V157,\"\")&IF(X157>0,CHAR(10)&W157&X157,\"\")&IF(Z157>0,CHAR(10)&Y157&Z157,\"\")&IF(AB157>0,CHAR(10)&AA157&AB157,\"\")&IF(AD157>0,CHAR(10)&AC157&AD157,\"\")&IF(AF157>0,CHAR(10)&AE157&AF157,\"\")&IF(AH157>0,CHAR(10)&AG157&AH157,\"\")&IF(AJ157>0,CHAR(10)&AI157&AJ157,\"\")&IF(AL157>0,CHAR(10)&AK157&AL157,\"\")&IF(AN157>0,CHAR(10)&AM157&AN157,\"\")&IF(AP157>0,CHAR(10)&AO157&AP157,\"\")&IF(AR157>0,CHAR(10)&AQ157&AR157,\"\")&IF(AT157>0,CHAR(10)&AS157&AT157,\"\")&IF(AV157>0,CHAR(10)&AU157&AV157,\"\")&IF(AX157>0,CHAR(10)&AW157&AX157,\"\")&IF(AZ157>0,CHAR(10)&AY157&AZ157,\"\")&IF(BB157>0,CHAR(10)&BA157&BB157,\"\")&IF(BD157>0,CHAR(10)&BC157&BD157,\"\")&IF(BF157>0,CHAR(10)&BE157&BF157,\"\")&IF(BH157>0,CHAR(10)&BG157&BH157,\"\")&IF(BJ157>0,CHAR(10)&BI157&BJ157,\"\")&IF(BL157>0,CHAR(10)&BK157&BL157,\"\")&IF(BN157>0,CHAR(10)&BM157&BN157,\"\")&IF(BP157>0,CHAR(10)&BO157&BP157,\"\")&IF(BR157>0,CHAR(10)&BQ157&BR157,\"\")&IF(BT157>0,CHAR(10)&BS157&BT157,\"\")&IF(BV157>0,CHAR(10)&BU157&BV157,\"\")&IF(BX157>0,CHAR(10)&BW157&BX157,\"\")&IF(BZ157>0,CHAR(10)&BY157&BZ157,\"\")&IF(CB157>0,CHAR(10)&CA157&CB157,\"\")&IF(CD157>0,CHAR(10)&CC157&CD157,\"\")&IF(CF157>0,CHAR(10)&CE157&CF157,\"\")","v":": Description\n: Location\n: Condition\n: Additional Notes"},null,null,null,null,null,null,null,{"$f":"ROW($L$155)","v":155},{"$f":"INDIRECT(\"'Inspection - Energy and Water'!\"&$M$155&$L157)&\": \"","v":": "},{"$f":"INDIRECT(\"'Inspection - Energy and Water'!\"&$M$155&ROW())","v":"Description"},{"$f":"INDIRECT(\"'Inspection - Energy and Water'!\"&$O$155&$L157)&\": \"","v":": "},{"$f":"INDIRECT(\"'Inspection - Energy and Water'!\"&$O$155&ROW())","v":"Location"},{"$f":"INDIRECT(\"'Inspection - Energy and Water'!\"&$Q$155&$L157)&\": \"","v":": "},{"$f":"INDIRECT(\"'Inspection - Energy and Water'!\"&$Q$155&ROW())","v":"Condition"},{"$f":"INDIRECT(\"'Inspection - Energy and Water'!\"&$S$155&$L157)&\": \"","v":": "},{"$f":"INDIRECT(\"'Inspection - Energy and Water'!\"&$S$155&ROW())","v":"Additional Notes"}]
[null,null,{"$f":"IF('Inspection - Energy and Water'!C160>0,'Inspection - Energy and Water'!C160,\"\")","v":""},{"$f":"IF(N158>0,M158&N158,\"\")&IF(P158>0,CHAR(10)&O158&P158,\"\")&IF(R158>0,CHAR(10)&Q158&R158,\"\")&IF(T158>0,CHAR(10)&S158&T158,\"\")&IF(V158>0,CHAR(10)&U158&V158,\"\")&IF(X158>0,CHAR(10)&W158&X158,\"\")&IF(Z158>0,CHAR(10)&Y158&Z158,\"\")&IF(AB158>0,CHAR(10)&AA158&AB158,\"\")&IF(AD158>0,CHAR(10)&AC158&AD158,\"\")&IF(AF158>0,CHAR(10)&AE158&AF158,\"\")&IF(AH158>0,CHAR(10)&AG158&AH158,\"\")&IF(AJ158>0,CHAR(10)&AI158&AJ158,\"\")&IF(AL158>0,CHAR(10)&AK158&AL158,\"\")&IF(AN158>0,CHAR(10)&AM158&AN158,\"\")&IF(AP158>0,CHAR(10)&AO158&AP158,\"\")&IF(AR158>0,CHAR(10)&AQ158&AR158,\"\")&IF(AT158>0,CHAR(10)&AS158&AT158,\"\")&IF(AV158>0,CHAR(10)&AU158&AV158,\"\")&IF(AX158>0,CHAR(10)&AW158&AX158,\"\")&IF(AZ158>0,CHAR(10)&AY158&AZ158,\"\")&IF(BB158>0,CHAR(10)&BA158&BB158,\"\")&IF(BD158>0,CHAR(10)&BC158&BD158,\"\")&IF(BF158>0,CHAR(10)&BE158&BF158,\"\")&IF(BH158>0,CHAR(10)&BG158&BH158,\"\")&IF(BJ158>0,CHAR(10)&BI158&BJ158,\"\")&IF(BL158>0,CHAR(10)&BK158&BL158,\"\")&IF(BN158>0,CHAR(10)&BM158&BN158,\"\")&IF(BP158>0,CHAR(10)&BO158&BP158,\"\")&IF(BR158>0,CHAR(10)&BQ158&BR158,\"\")&IF(BT158>0,CHAR(10)&BS158&BT158,\"\")&IF(BV158>0,CHAR(10)&BU158&BV158,\"\")&IF(BX158>0,CHAR(10)&BW158&BX158,\"\")&IF(BZ158>0,CHAR(10)&BY158&BZ158,\"\")&IF(CB158>0,CHAR(10)&CA158&CB158,\"\")&IF(CD158>0,CHAR(10)&CC158&CD158,\"\")&IF(CF158>0,CHAR(10)&CE158&CF158,\"\")","v":""},null,null,null,null,null,null,null,{"$f":"ROW($L$155)","v":155},{"$f":"INDIRECT(\"'Inspection - Energy and Water'!\"&$M$155&$L158)&\": \"","v":": "},{"$f":"INDIRECT(\"'Inspection - Energy and Water'!\"&$M$155&ROW())","v":0},{"$f":"INDIRECT(\"'Inspection - Energy and Water'!\"&$O$155&$L158)&\": \"","v":": "},{"$f":"INDIRECT(\"'Inspection - Energy and Water'!\"&$O$155&ROW())","v":0},{"$f":"INDIRECT(\"'Inspection - Energy and Water'!\"&$Q$155&$L158)&\": \"","v":": "},{"$f":"INDIRECT(\"'Inspection - Energy and Water'!\"&$Q$155&ROW())","v":0},{"$f":"INDIRECT(\"'Inspection - Energy and Water'!\"&$S$155&$L158)&\": \"","v":": "},{"$f":"INDIRECT(\"'Inspection - Energy and Water'!\"&$S$155&ROW())","v":0}]
[null,null,{"$f":"IF('Inspection - Energy and Water'!C161>0,'Inspection - Energy and Water'!C161,\"\")","v":""},{"$f":"IF(N159>0,M159&N159,\"\")&IF(P159>0,CHAR(10)&O159&P159,\"\")&IF(R159>0,CHAR(10)&Q159&R159,\"\")&IF(T159>0,CHAR(10)&S159&T159,\"\")&IF(V159>0,CHAR(10)&U159&V159,\"\")&IF(X159>0,CHAR(10)&W159&X159,\"\")&IF(Z159>0,CHAR(10)&Y159&Z159,\"\")&IF(AB159>0,CHAR(10)&AA159&AB159,\"\")&IF(AD159>0,CHAR(10)&AC159&AD159,\"\")&IF(AF159>0,CHAR(10)&AE159&AF159,\"\")&IF(AH159>0,CHAR(10)&AG159&AH159,\"\")&IF(AJ159>0,CHAR(10)&AI159&AJ159,\"\")&IF(AL159>0,CHAR(10)&AK159&AL159,\"\")&IF(AN159>0,CHAR(10)&AM159&AN159,\"\")&IF(AP159>0,CHAR(10)&AO159&AP159,\"\")&IF(AR159>0,CHAR(10)&AQ159&AR159,\"\")&IF(AT159>0,CHAR(10)&AS159&AT159,\"\")&IF(AV159>0,CHAR(10)&AU159&AV159,\"\")&IF(AX159>0,CHAR(10)&AW159&AX159,\"\")&IF(AZ159>0,CHAR(10)&AY159&AZ159,\"\")&IF(BB159>0,CHAR(10)&BA159&BB159,\"\")&IF(BD159>0,CHAR(10)&BC159&BD159,\"\")&IF(BF159>0,CHAR(10)&BE159&BF159,\"\")&IF(BH159>0,CHAR(10)&BG159&BH159,\"\")&IF(BJ159>0,CHAR(10)&BI159&BJ159,\"\")&IF(BL159>0,CHAR(10)&BK159&BL159,\"\")&IF(BN159>0,CHAR(10)&BM159&BN159,\"\")&IF(BP159>0,CHAR(10)&BO159&BP159,\"\")&IF(BR159>0,CHAR(10)&BQ159&BR159,\"\")&IF(BT159>0,CHAR(10)&BS159&BT159,\"\")&IF(BV159>0,CHAR(10)&BU159&BV159,\"\")&IF(BX159>0,CHAR(10)&BW159&BX159,\"\")&IF(BZ159>0,CHAR(10)&BY159&BZ159,\"\")&IF(CB159>0,CHAR(10)&CA159&CB159,\"\")&IF(CD159>0,CHAR(10)&CC159&CD159,\"\")&IF(CF159>0,CHAR(10)&CE159&CF159,\"\")","v":""},null,null,null,null,null,null,null,{"$f":"ROW($L$155)","v":155},{"$f":"INDIRECT(\"'Inspection - Energy and Water'!\"&$M$155&$L159)&\": \"","v":": "},{"$f":"INDIRECT(\"'Inspection - Energy and Water'!\"&$M$155&ROW())","v":0},{"$f":"INDIRECT(\"'Inspection - Energy and Water'!\"&$O$155&$L159)&\": \"","v":": "},{"$f":"INDIRECT(\"'Inspection - Energy and Water'!\"&$O$155&ROW())","v":0},{"$f":"INDIRECT(\"'Inspection - Energy and Water'!\"&$Q$155&$L159)&\": \"","v":": "},{"$f":"INDIRECT(\"'Inspection - Energy and Water'!\"&$Q$155&ROW())","v":0},{"$f":"INDIRECT(\"'Inspection - Energy and Water'!\"&$S$155&$L159)&\": \"","v":": "},{"$f":"INDIRECT(\"'Inspection - Energy and Water'!\"&$S$155&ROW())","v":0}]
[null,null,{"$f":"IF('Inspection - Energy and Water'!C162>0,'Inspection - Energy and Water'!C162,\"\")","v":""},{"$f":"IF(N160>0,M160&N160,\"\")&IF(P160>0,CHAR(10)&O160&P160,\"\")&IF(R160>0,CHAR(10)&Q160&R160,\"\")&IF(T160>0,CHAR(10)&S160&T160,\"\")&IF(V160>0,CHAR(10)&U160&V160,\"\")&IF(X160>0,CHAR(10)&W160&X160,\"\")&IF(Z160>0,CHAR(10)&Y160&Z160,\"\")&IF(AB160>0,CHAR(10)&AA160&AB160,\"\")&IF(AD160>0,CHAR(10)&AC160&AD160,\"\")&IF(AF160>0,CHAR(10)&AE160&AF160,\"\")&IF(AH160>0,CHAR(10)&AG160&AH160,\"\")&IF(AJ160>0,CHAR(10)&AI160&AJ160,\"\")&IF(AL160>0,CHAR(10)&AK160&AL160,\"\")&IF(AN160>0,CHAR(10)&AM160&AN160,\"\")&IF(AP160>0,CHAR(10)&AO160&AP160,\"\")&IF(AR160>0,CHAR(10)&AQ160&AR160,\"\")&IF(AT160>0,CHAR(10)&AS160&AT160,\"\")&IF(AV160>0,CHAR(10)&AU160&AV160,\"\")&IF(AX160>0,CHAR(10)&AW160&AX160,\"\")&IF(AZ160>0,CHAR(10)&AY160&AZ160,\"\")&IF(BB160>0,CHAR(10)&BA160&BB160,\"\")&IF(BD160>0,CHAR(10)&BC160&BD160,\"\")&IF(BF160>0,CHAR(10)&BE160&BF160,\"\")&IF(BH160>0,CHAR(10)&BG160&BH160,\"\")&IF(BJ160>0,CHAR(10)&BI160&BJ160,\"\")&IF(BL160>0,CHAR(10)&BK160&BL160,\"\")&IF(BN160>0,CHAR(10)&BM160&BN160,\"\")&IF(BP160>0,CHAR(10)&BO160&BP160,\"\")&IF(BR160>0,CHAR(10)&BQ160&BR160,\"\")&IF(BT160>0,CHAR(10)&BS160&BT160,\"\")&IF(BV160>0,CHAR(10)&BU160&BV160,\"\")&IF(BX160>0,CHAR(10)&BW160&BX160,\"\")&IF(BZ160>0,CHAR(10)&BY160&BZ160,\"\")&IF(CB160>0,CHAR(10)&CA160&CB160,\"\")&IF(CD160>0,CHAR(10)&CC160&CD160,\"\")&IF(CF160>0,CHAR(10)&CE160&CF160,\"\")","v":""},null,null,null,null,null,null,null,{"$f":"ROW($L$155)","v":155},{"$f":"INDIRECT(\"'Inspection - Energy and Water'!\"&$M$155&$L160)&\": \"","v":": "},{"$f":"INDIRECT(\"'Inspection - Energy and Water'!\"&$M$155&ROW())","v":0},{"$f":"INDIRECT(\"'Inspection - Energy and Water'!\"&$O$155&$L160)&\": \"","v":": "},{"$f":"INDIRECT(\"'Inspection - Energy and Water'!\"&$O$155&ROW())","v":0},{"$f":"INDIRECT(\"'Inspection - Energy and Water'!\"&$Q$155&$L160)&\": \"","v":": "},{"$f":"INDIRECT(\"'Inspection - Energy and Water'!\"&$Q$155&ROW())","v":0},{"$f":"INDIRECT(\"'Inspection - Energy and Water'!\"&$S$155&$L160)&\": \"","v":": "},{"$f":"INDIRECT(\"'Inspection - Energy and Water'!\"&$S$155&ROW())","v":0}]
[]
[null,null,"Building Lighting"]
[null,null,"Space",null,null,null,null,null,null,null,null,"Row Header","D",null,"E",null,"F",null,"G",null,"H",null,"I",null,"J",null,"K",null,"L",null,"M",null,"N",null,"O",null,"P",null,"Q"]
[null,null,"Common Area"]
[null,null,"Example:  Corridor",{"$f":"IF(N165>0,M165&N165,\"\")&IF(P165>0,CHAR(10)&O165&P165,\"\")&IF(R165>0,CHAR(10)&Q165&R165,\"\")&IF(T165>0,CHAR(10)&S165&T165,\"\")&IF(V165>0,CHAR(10)&U165&V165,\"\")&IF(X165>0,CHAR(10)&W165&X165,\"\")&IF(Z165>0,CHAR(10)&Y165&Z165,\"\")&IF(AB165>0,CHAR(10)&AA165&AB165,\"\")&IF(AD165>0,CHAR(10)&AC165&AD165,\"\")&IF(AF165>0,CHAR(10)&AE165&AF165,\"\")&IF(AH165>0,CHAR(10)&AG165&AH165,\"\")&IF(AJ165>0,CHAR(10)&AI165&AJ165,\"\")&IF(AL165>0,CHAR(10)&AK165&AL165,\"\")&IF(AN165>0,CHAR(10)&AM165&AN165,\"\")&IF(AP165>0,CHAR(10)&AO165&AP165,\"\")&IF(AR165>0,CHAR(10)&AQ165&AR165,\"\")&IF(AT165>0,CHAR(10)&AS165&AT165,\"\")&IF(AV165>0,CHAR(10)&AU165&AV165,\"\")&IF(AX165>0,CHAR(10)&AW165&AX165,\"\")&IF(AZ165>0,CHAR(10)&AY165&AZ165,\"\")&IF(BB165>0,CHAR(10)&BA165&BB165,\"\")&IF(BD165>0,CHAR(10)&BC165&BD165,\"\")&IF(BF165>0,CHAR(10)&BE165&BF165,\"\")&IF(BH165>0,CHAR(10)&BG165&BH165,\"\")&IF(BJ165>0,CHAR(10)&BI165&BJ165,\"\")&IF(BL165>0,CHAR(10)&BK165&BL165,\"\")&IF(BN165>0,CHAR(10)&BM165&BN165,\"\")&IF(BP165>0,CHAR(10)&BO165&BP165,\"\")&IF(BR165>0,CHAR(10)&BQ165&BR165,\"\")&IF(BT165>0,CHAR(10)&BS165&BT165,\"\")&IF(BV165>0,CHAR(10)&BU165&BV165,\"\")&IF(BX165>0,CHAR(10)&BW165&BX165,\"\")&IF(BZ165>0,CHAR(10)&BY165&BZ165,\"\")&IF(CB165>0,CHAR(10)&CA165&CB165,\"\")&IF(CD165>0,CHAR(10)&CC165&CD165,\"\")&IF(CF165>0,CHAR(10)&CE165&CF165,\"\")","v":": Lamp Watts\n: Lamps per Fixture\n: Watts per Fixture\n: Number of Fixtures\n: Floor Area (SF)\n: Lighting Power Density (LPD) (Divide total watts by floor area - w/SF)\n: Control\n: Hours per Year\n: Lamp Type\n: Ballast Type\n: Condition\n: Age (Years)\n: Back-up Battery?\n: Additional Notes"},null,null,null,null,null,null,null,{"$f":"ROW($L$163)","v":163},{"$f":"INDIRECT(\"'Inspection - Energy and Water'!\"&M$163&$L165)&\": \"","v":": "},{"$f":"INDIRECT(\"'Inspection - Energy and Water'!\"&M$163&ROW())","v":"Lamp Watts"},{"$f":"INDIRECT(\"'Inspection - Energy and Water'!\"&O$163&$L165)&\": \"","v":": "},{"$f":"INDIRECT(\"'Inspection - Energy and Water'!\"&O$163&ROW())","v":"Lamps per Fixture"},{"$f":"INDIRECT(\"'Inspection - Energy and Water'!\"&Q$163&$L165)&\": \"","v":": "},{"$f":"INDIRECT(\"'Inspection - Energy and Water'!\"&Q$163&ROW())","v":"Watts per Fixture"},{"$f":"INDIRECT(\"'Inspection - Energy and Water'!\"&S$163&$L165)&\": \"","v":": "},{"$f":"INDIRECT(\"'Inspection - Energy and Water'!\"&S$163&ROW())","v":"Number of Fixtures"},{"$f":"INDIRECT(\"'Inspection - Energy and Water'!\"&U$163&$L165)&\": \"","v":": "},{"$f":"INDIRECT(\"'Inspection - Energy and Water'!\"&U$163&ROW())","v":"Floor Area (SF)"},{"$f":"INDIRECT(\"'Inspection - Energy and Water'!\"&W$163&$L165)&\": \"","v":": "},{"$f":"INDIRECT(\"'Inspection - Energy and Water'!\"&W$163&ROW())","v":"Lighting Power Density (LPD) (Divide total watts by floor area - w/SF)"},{"$f":"INDIRECT(\"'Inspection - Energy and Water'!\"&Y$163&$L165)&\": \"","v":": "},{"$f":"INDIRECT(\"'Inspection - Energy and Water'!\"&Y$163&ROW())","v":"Control"},{"$f":"INDIRECT(\"'Inspection - Energy and Water'!\"&AA$163&$L165)&\": \"","v":": "},{"$f":"INDIRECT(\"'Inspection - Energy and Water'!\"&AA$163&ROW())","v":"Hours per Year"},{"$f":"INDIRECT(\"'Inspection - Energy and Water'!\"&AC$163&$L165)&\": \"","v":": "},{"$f":"INDIRECT(\"'Inspection - Energy and Water'!\"&AC$163&ROW())","v":"Lamp Type"},{"$f":"INDIRECT(\"'Inspection - Energy and Water'!\"&AE$163&$L165)&\": \"","v":": "},{"$f":"INDIRECT(\"'Inspection - Energy and Water'!\"&AE$163&ROW())","v":"Ballast Type"},{"$f":"INDIRECT(\"'Inspection - Energy and Water'!\"&AG$163&$L165)&\": \"","v":": "},{"$f":"INDIRECT(\"'Inspection - Energy and Water'!\"&AG$163&ROW())","v":"Condition"},{"$f":"INDIRECT(\"'Inspection - Energy and Water'!\"&AI$163&$L165)&\": \"","v":": "},{"$f":"INDIRECT(\"'Inspection - Energy and Water'!\"&AI$163&ROW())","v":"Age (Years)"},{"$f":"INDIRECT(\"'Inspection - Energy and Water'!\"&AK$163&$L165)&\": \"","v":": "},{"$f":"INDIRECT(\"'Inspection - Energy and Water'!\"&AK$163&ROW())","v":"Back-up Battery?"},{"$f":"INDIRECT(\"'Inspection - Energy and Water'!\"&AM$163&$L165)&\": \"","v":": "},{"$f":"INDIRECT(\"'Inspection - Energy and Water'!\"&AM$163&ROW())","v":"Additional Notes"}]
[null,null,"Basement Stairs","",null,null,null,null,null,null,null,163,{"$f":"INDIRECT(\"'Inspection - Energy and Water'!\"&M$163&$L166)&\": \"","v":": "},{"$f":"INDIRECT(\"'Inspection - Energy and Water'!\"&M$163&ROW())","v":0},{"$f":"INDIRECT(\"'Inspection - Energy and Water'!\"&O$163&$L166)&\": \"","v":": "},{"$f":"INDIRECT(\"'Inspection - Energy and Water'!\"&O$163&ROW())","v":0},{"$f":"INDIRECT(\"'Inspection - Energy and Water'!\"&Q$163&$L166)&\": \"","v":": "},{"$f":"INDIRECT(\"'Inspection - Energy and Water'!\"&Q$163&ROW())","v":0},{"$f":"INDIRECT(\"'Inspection - Energy and Water'!\"&S$163&$L166)&\": \"","v":": "},{"$f":"INDIRECT(\"'Inspection - Energy and Water'!\"&S$163&ROW())","v":0},{"$f":"INDIRECT(\"'Inspection - Energy and Water'!\"&U$163&$L166)&\": \"","v":": "},{"$f":"INDIRECT(\"'Inspection - Energy and Water'!\"&U$163&ROW())","v":0},{"$f":"INDIRECT(\"'Inspection - Energy and Water'!\"&W$163&$L166)&\": \"","v":": "},{"$f":"INDIRECT(\"'Inspection - Energy and Water'!\"&W$163&ROW())","v":0},{"$f":"INDIRECT(\"'Inspection - Energy and Water'!\"&Y$163&$L166)&\": \"","v":": "},{"$f":"INDIRECT(\"'Inspection - Energy and Water'!\"&Y$163&ROW())","v":0},{"$f":"INDIRECT(\"'Inspection - Energy and Water'!\"&AA$163&$L166)&\": \"","v":": "},{"$f":"INDIRECT(\"'Inspection - Energy and Water'!\"&AA$163&ROW())","v":0},{"$f":"INDIRECT(\"'Inspection - Energy and Water'!\"&AC$163&$L166)&\": \"","v":": "},{"$f":"INDIRECT(\"'Inspection - Energy and Water'!\"&AC$163&ROW())","v":0},{"$f":"INDIRECT(\"'Inspection - Energy and Water'!\"&AE$163&$L166)&\": \"","v":": "},{"$f":"INDIRECT(\"'Inspection - Energy and Water'!\"&AE$163&ROW())","v":0},{"$f":"INDIRECT(\"'Inspection - Energy and Water'!\"&AG$163&$L166)&\": \"","v":": "},{"$f":"INDIRECT(\"'Inspection - Energy and Water'!\"&AG$163&ROW())","v":0},{"$f":"INDIRECT(\"'Inspection - Energy and Water'!\"&AI$163&$L166)&\": \"","v":": "},{"$f":"INDIRECT(\"'Inspection - Energy and Water'!\"&AI$163&ROW())","v":0},{"$f":"INDIRECT(\"'Inspection - Energy and Water'!\"&AK$163&$L166)&\": \"","v":": "},{"$f":"INDIRECT(\"'Inspection - Energy and Water'!\"&AK$163&ROW())","v":0},{"$f":"INDIRECT(\"'Inspection - Energy and Water'!\"&AM$163&$L166)&\": \"","v":": "},{"$f":"INDIRECT(\"'Inspection - Energy and Water'!\"&AM$163&ROW())","v":0}]
[null,null,"Basement ","",null,null,null,null,null,null,null,163,": ",0,": ",0,": ",0,": ",0,": ",0,": ",0,": ",0,": ",0,": ",0,": ",0,": ",0,": ",0,": ",0,": ",0]
[null,null,"Basement ","",null,null,null,null,null,null,null,163,": ",0,": ",0,": ",0,": ",0,": ",0,": ",0,": ",0,": ",0,": ",0,": ",0,": ",0,": ",0,": ",0,": ",0]
[null,null,"Basement Supers Office","",null,null,null,null,null,null,null,163,": ",0,": ",0,": ",0,": ",0,": ",0,": ",0,": ",0,": ",0,": ",0,": ",0,": ",0,": ",0,": ",0,": ",0]
[null,null,"Basement Boiler Room","",null,null,null,null,null,null,null,163,": ",0,": ",0,": ",0,": ",0,": ",0,": ",0,": ",0,": ",0,": ",0,": ",0,": ",0,": ",0,": ",0,": ",0]
[null,null,"Basement Bath","",null,null,null,null,null,null,null,163,": ",0,": ",0,": ",0,": ",0,": ",0,": ",0,": ",0,": ",0,": ",0,": ",0,": ",0,": ",0,": ",0,": ",0]
[null,null,"1st Floor Entry Vest","",null,null,null,null,null,null,null,163,": ",0,": ",0,": ",0,": ",0,": ",0,": ",0,": ",0,": ",0,": ",0,": ",0,": ",0,": ",0,": ",0,": ",0]
[null,null,"1st Floor Lobby Hall","",null,null,null,null,null,null,null,163,": ",0,": ",0,": ",0,": ",0,": ",0,": ",0,": ",0,": ",0,": ",0,": ",0,": ",0,": ",0,": ",0,": ",0]
[null,null,"2nd Floor Hall","",null,null,null,null,null,null,null,163,": ",0,": ",0,": ",0,": ",0,": ",0,": ",0,": ",0,": ",0,": ",0,": ",0,": ",0,": ",0,": ",0,": ",0]
[null,null,"3rd Floor Hall","",null,null,null,null,null,null,null,163,": ",0,": ",0,": ",0,": ",0,": ",0,": ",0,": ",0,": ",0,": ",0,": ",0,": ",0,": ",0,": ",0,": ",0]
[null,null,"4th Floor Hall","",null,null,null,null,null,null,null,163,": ",0,": ",0,": ",0,": ",0,": ",0,": ",0,": ",0,": ",0,": ",0,": ",0,": ",0,": ",0,": ",0,": ",0]
[null,null,"Exterior ","",null,null,null,null,null,null,null,163,": ",0,": ",0,": ",0,": ",0,": ",0,": ",0,": ",0,": ",0,": ",0,": ",0,": ",0,": ",0,": ",0,": ",0]
[null,null,"Apartments"]
[null,null,"Example:  Apt5l Kitchen",{"$f":"IF(N179>0,M179&N179,\"\")&IF(P179>0,CHAR(10)&O179&P179,\"\")&IF(R179>0,CHAR(10)&Q179&R179,\"\")&IF(T179>0,CHAR(10)&S179&T179,\"\")&IF(V179>0,CHAR(10)&U179&V179,\"\")&IF(X179>0,CHAR(10)&W179&X179,\"\")&IF(Z179>0,CHAR(10)&Y179&Z179,\"\")&IF(AB179>0,CHAR(10)&AA179&AB179,\"\")&IF(AD179>0,CHAR(10)&AC179&AD179,\"\")&IF(AF179>0,CHAR(10)&AE179&AF179,\"\")&IF(AH179>0,CHAR(10)&AG179&AH179,\"\")&IF(AJ179>0,CHAR(10)&AI179&AJ179,\"\")&IF(AL179>0,CHAR(10)&AK179&AL179,\"\")&IF(AN179>0,CHAR(10)&AM179&AN179,\"\")&IF(AP179>0,CHAR(10)&AO179&AP179,\"\")&IF(AR179>0,CHAR(10)&AQ179&AR179,\"\")&IF(AT179>0,CHAR(10)&AS179&AT179,\"\")&IF(AV179>0,CHAR(10)&AU179&AV179,\"\")&IF(AX179>0,CHAR(10)&AW179&AX179,\"\")&IF(AZ179>0,CHAR(10)&AY179&AZ179,\"\")&IF(BB179>0,CHAR(10)&BA179&BB179,\"\")&IF(BD179>0,CHAR(10)&BC179&BD179,\"\")&IF(BF179>0,CHAR(10)&BE179&BF179,\"\")&IF(BH179>0,CHAR(10)&BG179&BH179,\"\")&IF(BJ179>0,CHAR(10)&BI179&BJ179,\"\")&IF(BL179>0,CHAR(10)&BK179&BL179,\"\")&IF(BN179>0,CHAR(10)&BM179&BN179,\"\")&IF(BP179>0,CHAR(10)&BO179&BP179,\"\")&IF(BR179>0,CHAR(10)&BQ179&BR179,\"\")&IF(BT179>0,CHAR(10)&BS179&BT179,\"\")&IF(BV179>0,CHAR(10)&BU179&BV179,\"\")&IF(BX179>0,CHAR(10)&BW179&BX179,\"\")&IF(BZ179>0,CHAR(10)&BY179&BZ179,\"\")&IF(CB179>0,CHAR(10)&CA179&CB179,\"\")&IF(CD179>0,CHAR(10)&CC179&CD179,\"\")&IF(CF179>0,CHAR(10)&CE179&CF179,\"\")","v":""},null,null,null,null,null,null,null,{"$f":"ROW($L$163)","v":163},": ",0,": ",0,": ",0,": ",0,": ",0,": ",0,": ",0,": ",0,": ",0,": ",0,": ",0,": ",0,": ",0,": ",0]
[null,null,"Lighting: Apartments",{"$f":"IF(N180>0,M180&N180,\"\")&IF(P180>0,CHAR(10)&O180&P180,\"\")&IF(R180>0,CHAR(10)&Q180&R180,\"\")&IF(T180>0,CHAR(10)&S180&T180,\"\")&IF(V180>0,CHAR(10)&U180&V180,\"\")&IF(X180>0,CHAR(10)&W180&X180,\"\")&IF(Z180>0,CHAR(10)&Y180&Z180,\"\")&IF(AB180>0,CHAR(10)&AA180&AB180,\"\")&IF(AD180>0,CHAR(10)&AC180&AD180,\"\")&IF(AF180>0,CHAR(10)&AE180&AF180,\"\")&IF(AH180>0,CHAR(10)&AG180&AH180,\"\")&IF(AJ180>0,CHAR(10)&AI180&AJ180,\"\")&IF(AL180>0,CHAR(10)&AK180&AL180,\"\")&IF(AN180>0,CHAR(10)&AM180&AN180,\"\")&IF(AP180>0,CHAR(10)&AO180&AP180,\"\")&IF(AR180>0,CHAR(10)&AQ180&AR180,\"\")&IF(AT180>0,CHAR(10)&AS180&AT180,\"\")&IF(AV180>0,CHAR(10)&AU180&AV180,\"\")&IF(AX180>0,CHAR(10)&AW180&AX180,\"\")&IF(AZ180>0,CHAR(10)&AY180&AZ180,\"\")&IF(BB180>0,CHAR(10)&BA180&BB180,\"\")&IF(BD180>0,CHAR(10)&BC180&BD180,\"\")&IF(BF180>0,CHAR(10)&BE180&BF180,\"\")&IF(BH180>0,CHAR(10)&BG180&BH180,\"\")&IF(BJ180>0,CHAR(10)&BI180&BJ180,\"\")&IF(BL180>0,CHAR(10)&BK180&BL180,\"\")&IF(BN180>0,CHAR(10)&BM180&BN180,\"\")&IF(BP180>0,CHAR(10)&BO180&BP180,\"\")&IF(BR180>0,CHAR(10)&BQ180&BR180,\"\")&IF(BT180>0,CHAR(10)&BS180&BT180,\"\")&IF(BV180>0,CHAR(10)&BU180&BV180,\"\")&IF(BX180>0,CHAR(10)&BW180&BX180,\"\")&IF(BZ180>0,CHAR(10)&BY180&BZ180,\"\")&IF(CB180>0,CHAR(10)&CA180&CB180,\"\")&IF(CD180>0,CHAR(10)&CC180&CD180,\"\")&IF(CF180>0,CHAR(10)&CE180&CF180,\"\")","v":""},null,null,null,null,null,null,null,{"$f":"ROW($L$163)","v":163},": ",0,": ",0,": ",0,": ",0,": ",0,": ",0,": ",0,": ",0,": ",0,": ",0,": ",0,": ",0,": ",0,": ",0]
[null,null,{"$f":"IF('Inspection - Energy and Water'!C183>0,'Inspection - Energy and Water'!C183,\"\")","v":"Lighting: Apartments"},{"$f":"IF(N181>0,M181&N181,\"\")&IF(P181>0,CHAR(10)&O181&P181,\"\")&IF(R181>0,CHAR(10)&Q181&R181,\"\")&IF(T181>0,CHAR(10)&S181&T181,\"\")&IF(V181>0,CHAR(10)&U181&V181,\"\")&IF(X181>0,CHAR(10)&W181&X181,\"\")&IF(Z181>0,CHAR(10)&Y181&Z181,\"\")&IF(AB181>0,CHAR(10)&AA181&AB181,\"\")&IF(AD181>0,CHAR(10)&AC181&AD181,\"\")&IF(AF181>0,CHAR(10)&AE181&AF181,\"\")&IF(AH181>0,CHAR(10)&AG181&AH181,\"\")&IF(AJ181>0,CHAR(10)&AI181&AJ181,\"\")&IF(AL181>0,CHAR(10)&AK181&AL181,\"\")&IF(AN181>0,CHAR(10)&AM181&AN181,\"\")&IF(AP181>0,CHAR(10)&AO181&AP181,\"\")&IF(AR181>0,CHAR(10)&AQ181&AR181,\"\")&IF(AT181>0,CHAR(10)&AS181&AT181,\"\")&IF(AV181>0,CHAR(10)&AU181&AV181,\"\")&IF(AX181>0,CHAR(10)&AW181&AX181,\"\")&IF(AZ181>0,CHAR(10)&AY181&AZ181,\"\")&IF(BB181>0,CHAR(10)&BA181&BB181,\"\")&IF(BD181>0,CHAR(10)&BC181&BD181,\"\")&IF(BF181>0,CHAR(10)&BE181&BF181,\"\")&IF(BH181>0,CHAR(10)&BG181&BH181,\"\")&IF(BJ181>0,CHAR(10)&BI181&BJ181,\"\")&IF(BL181>0,CHAR(10)&BK181&BL181,\"\")&IF(BN181>0,CHAR(10)&BM181&BN181,\"\")&IF(BP181>0,CHAR(10)&BO181&BP181,\"\")&IF(BR181>0,CHAR(10)&BQ181&BR181,\"\")&IF(BT181>0,CHAR(10)&BS181&BT181,\"\")&IF(BV181>0,CHAR(10)&BU181&BV181,\"\")&IF(BX181>0,CHAR(10)&BW181&BX181,\"\")&IF(BZ181>0,CHAR(10)&BY181&BZ181,\"\")&IF(CB181>0,CHAR(10)&CA181&CB181,\"\")&IF(CD181>0,CHAR(10)&CC181&CD181,\"\")&IF(CF181>0,CHAR(10)&CE181&CF181,\"\")","v":""},null,null,null,null,null,null,null,{"$f":"ROW($L$163)","v":163},": ",0,": ",0,": ",0,": ",0,": ",0,": ",0,": ",0,": ",0,": ",0,": ",0,": ",0,": ",0,": ",0,": ",0]
[null,null,{"$f":"IF('Inspection - Energy and Water'!C184>0,'Inspection - Energy and Water'!C184,\"\")","v":"Lighting: Apartments"},{"$f":"IF(N182>0,M182&N182,\"\")&IF(P182>0,CHAR(10)&O182&P182,\"\")&IF(R182>0,CHAR(10)&Q182&R182,\"\")&IF(T182>0,CHAR(10)&S182&T182,\"\")&IF(V182>0,CHAR(10)&U182&V182,\"\")&IF(X182>0,CHAR(10)&W182&X182,\"\")&IF(Z182>0,CHAR(10)&Y182&Z182,\"\")&IF(AB182>0,CHAR(10)&AA182&AB182,\"\")&IF(AD182>0,CHAR(10)&AC182&AD182,\"\")&IF(AF182>0,CHAR(10)&AE182&AF182,\"\")&IF(AH182>0,CHAR(10)&AG182&AH182,\"\")&IF(AJ182>0,CHAR(10)&AI182&AJ182,\"\")&IF(AL182>0,CHAR(10)&AK182&AL182,\"\")&IF(AN182>0,CHAR(10)&AM182&AN182,\"\")&IF(AP182>0,CHAR(10)&AO182&AP182,\"\")&IF(AR182>0,CHAR(10)&AQ182&AR182,\"\")&IF(AT182>0,CHAR(10)&AS182&AT182,\"\")&IF(AV182>0,CHAR(10)&AU182&AV182,\"\")&IF(AX182>0,CHAR(10)&AW182&AX182,\"\")&IF(AZ182>0,CHAR(10)&AY182&AZ182,\"\")&IF(BB182>0,CHAR(10)&BA182&BB182,\"\")&IF(BD182>0,CHAR(10)&BC182&BD182,\"\")&IF(BF182>0,CHAR(10)&BE182&BF182,\"\")&IF(BH182>0,CHAR(10)&BG182&BH182,\"\")&IF(BJ182>0,CHAR(10)&BI182&BJ182,\"\")&IF(BL182>0,CHAR(10)&BK182&BL182,\"\")&IF(BN182>0,CHAR(10)&BM182&BN182,\"\")&IF(BP182>0,CHAR(10)&BO182&BP182,\"\")&IF(BR182>0,CHAR(10)&BQ182&BR182,\"\")&IF(BT182>0,CHAR(10)&BS182&BT182,\"\")&IF(BV182>0,CHAR(10)&BU182&BV182,\"\")&IF(BX182>0,CHAR(10)&BW182&BX182,\"\")&IF(BZ182>0,CHAR(10)&BY182&BZ182,\"\")&IF(CB182>0,CHAR(10)&CA182&CB182,\"\")&IF(CD182>0,CHAR(10)&CC182&CD182,\"\")&IF(CF182>0,CHAR(10)&CE182&CF182,\"\")","v":""},null,null,null,null,null,null,null,{"$f":"ROW($L$163)","v":163},": ",0,": ",0,": ",0,": ",0,": ",0,": ",0,": ",0,": ",0,": ",0,": ",0,": ",0,": ",0,": ",0,": ",0]
[null,null,{"$f":"IF('Inspection - Energy and Water'!C185>0,'Inspection - Energy and Water'!C185,\"\")","v":""},{"$f":"IF(N183>0,M183&N183,\"\")&IF(P183>0,CHAR(10)&O183&P183,\"\")&IF(R183>0,CHAR(10)&Q183&R183,\"\")&IF(T183>0,CHAR(10)&S183&T183,\"\")&IF(V183>0,CHAR(10)&U183&V183,\"\")&IF(X183>0,CHAR(10)&W183&X183,\"\")&IF(Z183>0,CHAR(10)&Y183&Z183,\"\")&IF(AB183>0,CHAR(10)&AA183&AB183,\"\")&IF(AD183>0,CHAR(10)&AC183&AD183,\"\")&IF(AF183>0,CHAR(10)&AE183&AF183,\"\")&IF(AH183>0,CHAR(10)&AG183&AH183,\"\")&IF(AJ183>0,CHAR(10)&AI183&AJ183,\"\")&IF(AL183>0,CHAR(10)&AK183&AL183,\"\")&IF(AN183>0,CHAR(10)&AM183&AN183,\"\")&IF(AP183>0,CHAR(10)&AO183&AP183,\"\")&IF(AR183>0,CHAR(10)&AQ183&AR183,\"\")&IF(AT183>0,CHAR(10)&AS183&AT183,\"\")&IF(AV183>0,CHAR(10)&AU183&AV183,\"\")&IF(AX183>0,CHAR(10)&AW183&AX183,\"\")&IF(AZ183>0,CHAR(10)&AY183&AZ183,\"\")&IF(BB183>0,CHAR(10)&BA183&BB183,\"\")&IF(BD183>0,CHAR(10)&BC183&BD183,\"\")&IF(BF183>0,CHAR(10)&BE183&BF183,\"\")&IF(BH183>0,CHAR(10)&BG183&BH183,\"\")&IF(BJ183>0,CHAR(10)&BI183&BJ183,\"\")&IF(BL183>0,CHAR(10)&BK183&BL183,\"\")&IF(BN183>0,CHAR(10)&BM183&BN183,\"\")&IF(BP183>0,CHAR(10)&BO183&BP183,\"\")&IF(BR183>0,CHAR(10)&BQ183&BR183,\"\")&IF(BT183>0,CHAR(10)&BS183&BT183,\"\")&IF(BV183>0,CHAR(10)&BU183&BV183,\"\")&IF(BX183>0,CHAR(10)&BW183&BX183,\"\")&IF(BZ183>0,CHAR(10)&BY183&BZ183,\"\")&IF(CB183>0,CHAR(10)&CA183&CB183,\"\")&IF(CD183>0,CHAR(10)&CC183&CD183,\"\")&IF(CF183>0,CHAR(10)&CE183&CF183,\"\")","v":""},null,null,null,null,null,null,null,{"$f":"ROW($L$163)","v":163},": ",0,": ",0,": ",0,": ",0,": ",0,": ",0,": ",0,": ",0,": ",0,": ",0,": ",0,": ",0,": ",0,": ",0]
[]
[null,null,"Diagnostic Testing Results"]
[null,null,"Carbon Monoxide Testing",null,null,null,null,null,null,null,null,"Row Header","D",null,"E",null,"F"]
[null,null,"CO Test 1",{"$f":"IF(N187>0,M187&N187,\"\")&IF(P187>0,CHAR(10)&O187&P187,\"\")&IF(R187>0,CHAR(10)&Q187&R187,\"\")&IF(T187>0,CHAR(10)&S187&T187,\"\")&IF(V187>0,CHAR(10)&U187&V187,\"\")&IF(X187>0,CHAR(10)&W187&X187,\"\")&IF(Z187>0,CHAR(10)&Y187&Z187,\"\")&IF(AB187>0,CHAR(10)&AA187&AB187,\"\")&IF(AD187>0,CHAR(10)&AC187&AD187,\"\")&IF(AF187>0,CHAR(10)&AE187&AF187,\"\")&IF(AH187>0,CHAR(10)&AG187&AH187,\"\")&IF(AJ187>0,CHAR(10)&AI187&AJ187,\"\")&IF(AL187>0,CHAR(10)&AK187&AL187,\"\")&IF(AN187>0,CHAR(10)&AM187&AN187,\"\")&IF(AP187>0,CHAR(10)&AO187&AP187,\"\")&IF(AR187>0,CHAR(10)&AQ187&AR187,\"\")&IF(AT187>0,CHAR(10)&AS187&AT187,\"\")&IF(AV187>0,CHAR(10)&AU187&AV187,\"\")&IF(AX187>0,CHAR(10)&AW187&AX187,\"\")&IF(AZ187>0,CHAR(10)&AY187&AZ187,\"\")&IF(BB187>0,CHAR(10)&BA187&BB187,\"\")&IF(BD187>0,CHAR(10)&BC187&BD187,\"\")&IF(BF187>0,CHAR(10)&BE187&BF187,\"\")&IF(BH187>0,CHAR(10)&BG187&BH187,\"\")&IF(BJ187>0,CHAR(10)&BI187&BJ187,\"\")&IF(BL187>0,CHAR(10)&BK187&BL187,\"\")&IF(BN187>0,CHAR(10)&BM187&BN187,\"\")&IF(BP187>0,CHAR(10)&BO187&BP187,\"\")&IF(BR187>0,CHAR(10)&BQ187&BR187,\"\")&IF(BT187>0,CHAR(10)&BS187&BT187,\"\")&IF(BV187>0,CHAR(10)&BU187&BV187,\"\")&IF(BX187>0,CHAR(10)&BW187&BX187,\"\")&IF(BZ187>0,CHAR(10)&BY187&BZ187,\"\")&IF(CB187>0,CHAR(10)&CA187&CB187,\"\")&IF(CD187>0,CHAR(10)&CC187&CD187,\"\")&IF(CF187>0,CHAR(10)&CE187&CF187,\"\")","v":""},null,null,null,null,null,null,null,{"$f":"ROW($L$186)","v":186},{"$f":"INDIRECT(\"'Inspection - Energy and Water'!\"&$M$186&$L187)&\": \"","v":": "},{"$f":"INDIRECT(\"'Inspection - Energy and Water'!\"&$M$186&ROW())","v":0},{"$f":"INDIRECT(\"'Inspection - Energy and Water'!\"&$O$186&$L187)&\": \"","v":": "},{"$f":"INDIRECT(\"'Inspection - Energy and Water'!\"&$O$186&ROW())","v":0},{"$f":"INDIRECT(\"'Inspection - Energy and Water'!\"&$Q$186&$L187)&\": \"","v":": "},{"$f":"INDIRECT(\"'Inspection - Energy and Water'!\"&$Q$186&ROW())","v":0}]
[null,null,"CO Test 2",{"$f":"IF(N188>0,M188&N188,\"\")&IF(P188>0,CHAR(10)&O188&P188,\"\")&IF(R188>0,CHAR(10)&Q188&R188,\"\")&IF(T188>0,CHAR(10)&S188&T188,\"\")&IF(V188>0,CHAR(10)&U188&V188,\"\")&IF(X188>0,CHAR(10)&W188&X188,\"\")&IF(Z188>0,CHAR(10)&Y188&Z188,\"\")&IF(AB188>0,CHAR(10)&AA188&AB188,\"\")&IF(AD188>0,CHAR(10)&AC188&AD188,\"\")&IF(AF188>0,CHAR(10)&AE188&AF188,\"\")&IF(AH188>0,CHAR(10)&AG188&AH188,\"\")&IF(AJ188>0,CHAR(10)&AI188&AJ188,\"\")&IF(AL188>0,CHAR(10)&AK188&AL188,\"\")&IF(AN188>0,CHAR(10)&AM188&AN188,\"\")&IF(AP188>0,CHAR(10)&AO188&AP188,\"\")&IF(AR188>0,CHAR(10)&AQ188&AR188,\"\")&IF(AT188>0,CHAR(10)&AS188&AT188,\"\")&IF(AV188>0,CHAR(10)&AU188&AV188,\"\")&IF(AX188>0,CHAR(10)&AW188&AX188,\"\")&IF(AZ188>0,CHAR(10)&AY188&AZ188,\"\")&IF(BB188>0,CHAR(10)&BA188&BB188,\"\")&IF(BD188>0,CHAR(10)&BC188&BD188,\"\")&IF(BF188>0,CHAR(10)&BE188&BF188,\"\")&IF(BH188>0,CHAR(10)&BG188&BH188,\"\")&IF(BJ188>0,CHAR(10)&BI188&BJ188,\"\")&IF(BL188>0,CHAR(10)&BK188&BL188,\"\")&IF(BN188>0,CHAR(10)&BM188&BN188,\"\")&IF(BP188>0,CHAR(10)&BO188&BP188,\"\")&IF(BR188>0,CHAR(10)&BQ188&BR188,\"\")&IF(BT188>0,CHAR(10)&BS188&BT188,\"\")&IF(BV188>0,CHAR(10)&BU188&BV188,\"\")&IF(BX188>0,CHAR(10)&BW188&BX188,\"\")&IF(BZ188>0,CHAR(10)&BY188&BZ188,\"\")&IF(CB188>0,CHAR(10)&CA188&CB188,\"\")&IF(CD188>0,CHAR(10)&CC188&CD188,\"\")&IF(CF188>0,CHAR(10)&CE188&CF188,\"\")","v":": Appliance\n: Location\n: CO Concentration (ppm)"},null,null,null,null,null,null,null,{"$f":"ROW($L$186)","v":186},{"$f":"INDIRECT(\"'Inspection - Energy and Water'!\"&$M$186&$L188)&\": \"","v":": "},{"$f":"INDIRECT(\"'Inspection - Energy and Water'!\"&$M$186&ROW())","v":"Appliance"},{"$f":"INDIRECT(\"'Inspection - Energy and Water'!\"&$O$186&$L188)&\": \"","v":": "},{"$f":"INDIRECT(\"'Inspection - Energy and Water'!\"&$O$186&ROW())","v":"Location"},{"$f":"INDIRECT(\"'Inspection - Energy and Water'!\"&$Q$186&$L188)&\": \"","v":": "},{"$f":"INDIRECT(\"'Inspection - Energy and Water'!\"&$Q$186&ROW())","v":"CO Concentration (ppm)"}]
[null,null,"CO Test 3",{"$f":"IF(N189>0,M189&N189,\"\")&IF(P189>0,CHAR(10)&O189&P189,\"\")&IF(R189>0,CHAR(10)&Q189&R189,\"\")&IF(T189>0,CHAR(10)&S189&T189,\"\")&IF(V189>0,CHAR(10)&U189&V189,\"\")&IF(X189>0,CHAR(10)&W189&X189,\"\")&IF(Z189>0,CHAR(10)&Y189&Z189,\"\")&IF(AB189>0,CHAR(10)&AA189&AB189,\"\")&IF(AD189>0,CHAR(10)&AC189&AD189,\"\")&IF(AF189>0,CHAR(10)&AE189&AF189,\"\")&IF(AH189>0,CHAR(10)&AG189&AH189,\"\")&IF(AJ189>0,CHAR(10)&AI189&AJ189,\"\")&IF(AL189>0,CHAR(10)&AK189&AL189,\"\")&IF(AN189>0,CHAR(10)&AM189&AN189,\"\")&IF(AP189>0,CHAR(10)&AO189&AP189,\"\")&IF(AR189>0,CHAR(10)&AQ189&AR189,\"\")&IF(AT189>0,CHAR(10)&AS189&AT189,\"\")&IF(AV189>0,CHAR(10)&AU189&AV189,\"\")&IF(AX189>0,CHAR(10)&AW189&AX189,\"\")&IF(AZ189>0,CHAR(10)&AY189&AZ189,\"\")&IF(BB189>0,CHAR(10)&BA189&BB189,\"\")&IF(BD189>0,CHAR(10)&BC189&BD189,\"\")&IF(BF189>0,CHAR(10)&BE189&BF189,\"\")&IF(BH189>0,CHAR(10)&BG189&BH189,\"\")&IF(BJ189>0,CHAR(10)&BI189&BJ189,\"\")&IF(BL189>0,CHAR(10)&BK189&BL189,\"\")&IF(BN189>0,CHAR(10)&BM189&BN189,\"\")&IF(BP189>0,CHAR(10)&BO189&BP189,\"\")&IF(BR189>0,CHAR(10)&BQ189&BR189,\"\")&IF(BT189>0,CHAR(10)&BS189&BT189,\"\")&IF(BV189>0,CHAR(10)&BU189&BV189,\"\")&IF(BX189>0,CHAR(10)&BW189&BX189,\"\")&IF(BZ189>0,CHAR(10)&BY189&BZ189,\"\")&IF(CB189>0,CHAR(10)&CA189&CB189,\"\")&IF(CD189>0,CHAR(10)&CC189&CD189,\"\")&IF(CF189>0,CHAR(10)&CE189&CF189,\"\")","v":""},null,null,null,null,null,null,null,{"$f":"ROW($L$186)","v":186},{"$f":"INDIRECT(\"'Inspection - Energy and Water'!\"&$M$186&$L189)&\": \"","v":": "},{"$f":"INDIRECT(\"'Inspection - Energy and Water'!\"&$M$186&ROW())","v":0},{"$f":"INDIRECT(\"'Inspection - Energy and Water'!\"&$O$186&$L189)&\": \"","v":": "},{"$f":"INDIRECT(\"'Inspection - Energy and Water'!\"&$O$186&ROW())","v":0},{"$f":"INDIRECT(\"'Inspection - Energy and Water'!\"&$Q$186&$L189)&\": \"","v":": "},{"$f":"INDIRECT(\"'Inspection - Energy and Water'!\"&$Q$186&ROW())","v":0}]
[null,null,"Natural Gas Leaks",null,null,null,null,null,null,null,null,"Row Header","F"]
[null,null,"Tested for leaks with a gas detector a long the length of visible gas pipes in all common areas?",{"$f":"IF(N191>0,M191&N191,\"\")&IF(P191>0,CHAR(10)&O191&P191,\"\")&IF(R191>0,CHAR(10)&Q191&R191,\"\")&IF(T191>0,CHAR(10)&S191&T191,\"\")&IF(V191>0,CHAR(10)&U191&V191,\"\")&IF(X191>0,CHAR(10)&W191&X191,\"\")&IF(Z191>0,CHAR(10)&Y191&Z191,\"\")&IF(AB191>0,CHAR(10)&AA191&AB191,\"\")&IF(AD191>0,CHAR(10)&AC191&AD191,\"\")&IF(AF191>0,CHAR(10)&AE191&AF191,\"\")&IF(AH191>0,CHAR(10)&AG191&AH191,\"\")&IF(AJ191>0,CHAR(10)&AI191&AJ191,\"\")&IF(AL191>0,CHAR(10)&AK191&AL191,\"\")&IF(AN191>0,CHAR(10)&AM191&AN191,\"\")&IF(AP191>0,CHAR(10)&AO191&AP191,\"\")&IF(AR191>0,CHAR(10)&AQ191&AR191,\"\")&IF(AT191>0,CHAR(10)&AS191&AT191,\"\")&IF(AV191>0,CHAR(10)&AU191&AV191,\"\")&IF(AX191>0,CHAR(10)&AW191&AX191,\"\")&IF(AZ191>0,CHAR(10)&AY191&AZ191,\"\")&IF(BB191>0,CHAR(10)&BA191&BB191,\"\")&IF(BD191>0,CHAR(10)&BC191&BD191,\"\")&IF(BF191>0,CHAR(10)&BE191&BF191,\"\")&IF(BH191>0,CHAR(10)&BG191&BH191,\"\")&IF(BJ191>0,CHAR(10)&BI191&BJ191,\"\")&IF(BL191>0,CHAR(10)&BK191&BL191,\"\")&IF(BN191>0,CHAR(10)&BM191&BN191,\"\")&IF(BP191>0,CHAR(10)&BO191&BP191,\"\")&IF(BR191>0,CHAR(10)&BQ191&BR191,\"\")&IF(BT191>0,CHAR(10)&BS191&BT191,\"\")&IF(BV191>0,CHAR(10)&BU191&BV191,\"\")&IF(BX191>0,CHAR(10)&BW191&BX191,\"\")&IF(BZ191>0,CHAR(10)&BY191&BZ191,\"\")&IF(CB191>0,CHAR(10)&CA191&CB191,\"\")&IF(CD191>0,CHAR(10)&CC191&CD191,\"\")&IF(CF191>0,CHAR(10)&CE191&CF191,\"\")","v":""},null,null,null,null,null,null,null,{"$f":"ROW($L$190)","v":190},null,{"$f":"INDIRECT(\"'Inspection - Energy and Water'!\"&$M$190&ROW())","v":0}]
[null,null,"Tested for leaks with a gas detector along the length of visible gas pipes in a sample of apartments, if apartments have gas appliances (minimum three apartments)?",{"$f":"IF(N192>0,M192&N192,\"\")&IF(P192>0,CHAR(10)&O192&P192,\"\")&IF(R192>0,CHAR(10)&Q192&R192,\"\")&IF(T192>0,CHAR(10)&S192&T192,\"\")&IF(V192>0,CHAR(10)&U192&V192,\"\")&IF(X192>0,CHAR(10)&W192&X192,\"\")&IF(Z192>0,CHAR(10)&Y192&Z192,\"\")&IF(AB192>0,CHAR(10)&AA192&AB192,\"\")&IF(AD192>0,CHAR(10)&AC192&AD192,\"\")&IF(AF192>0,CHAR(10)&AE192&AF192,\"\")&IF(AH192>0,CHAR(10)&AG192&AH192,\"\")&IF(AJ192>0,CHAR(10)&AI192&AJ192,\"\")&IF(AL192>0,CHAR(10)&AK192&AL192,\"\")&IF(AN192>0,CHAR(10)&AM192&AN192,\"\")&IF(AP192>0,CHAR(10)&AO192&AP192,\"\")&IF(AR192>0,CHAR(10)&AQ192&AR192,\"\")&IF(AT192>0,CHAR(10)&AS192&AT192,\"\")&IF(AV192>0,CHAR(10)&AU192&AV192,\"\")&IF(AX192>0,CHAR(10)&AW192&AX192,\"\")&IF(AZ192>0,CHAR(10)&AY192&AZ192,\"\")&IF(BB192>0,CHAR(10)&BA192&BB192,\"\")&IF(BD192>0,CHAR(10)&BC192&BD192,\"\")&IF(BF192>0,CHAR(10)&BE192&BF192,\"\")&IF(BH192>0,CHAR(10)&BG192&BH192,\"\")&IF(BJ192>0,CHAR(10)&BI192&BJ192,\"\")&IF(BL192>0,CHAR(10)&BK192&BL192,\"\")&IF(BN192>0,CHAR(10)&BM192&BN192,\"\")&IF(BP192>0,CHAR(10)&BO192&BP192,\"\")&IF(BR192>0,CHAR(10)&BQ192&BR192,\"\")&IF(BT192>0,CHAR(10)&BS192&BT192,\"\")&IF(BV192>0,CHAR(10)&BU192&BV192,\"\")&IF(BX192>0,CHAR(10)&BW192&BX192,\"\")&IF(BZ192>0,CHAR(10)&BY192&BZ192,\"\")&IF(CB192>0,CHAR(10)&CA192&CB192,\"\")&IF(CD192>0,CHAR(10)&CC192&CD192,\"\")&IF(CF192>0,CHAR(10)&CE192&CF192,\"\")","v":""},null,null,null,null,null,null,null,{"$f":"ROW($L$190)","v":190},null,{"$f":"INDIRECT(\"'Inspection - Energy and Water'!\"&$M$190&ROW())","v":0}]
[null,null,"Leaks were detected?",{"$f":"IF(N193>0,M193&N193,\"\")&IF(P193>0,CHAR(10)&O193&P193,\"\")&IF(R193>0,CHAR(10)&Q193&R193,\"\")&IF(T193>0,CHAR(10)&S193&T193,\"\")&IF(V193>0,CHAR(10)&U193&V193,\"\")&IF(X193>0,CHAR(10)&W193&X193,\"\")&IF(Z193>0,CHAR(10)&Y193&Z193,\"\")&IF(AB193>0,CHAR(10)&AA193&AB193,\"\")&IF(AD193>0,CHAR(10)&AC193&AD193,\"\")&IF(AF193>0,CHAR(10)&AE193&AF193,\"\")&IF(AH193>0,CHAR(10)&AG193&AH193,\"\")&IF(AJ193>0,CHAR(10)&AI193&AJ193,\"\")&IF(AL193>0,CHAR(10)&AK193&AL193,\"\")&IF(AN193>0,CHAR(10)&AM193&AN193,\"\")&IF(AP193>0,CHAR(10)&AO193&AP193,\"\")&IF(AR193>0,CHAR(10)&AQ193&AR193,\"\")&IF(AT193>0,CHAR(10)&AS193&AT193,\"\")&IF(AV193>0,CHAR(10)&AU193&AV193,\"\")&IF(AX193>0,CHAR(10)&AW193&AX193,\"\")&IF(AZ193>0,CHAR(10)&AY193&AZ193,\"\")&IF(BB193>0,CHAR(10)&BA193&BB193,\"\")&IF(BD193>0,CHAR(10)&BC193&BD193,\"\")&IF(BF193>0,CHAR(10)&BE193&BF193,\"\")&IF(BH193>0,CHAR(10)&BG193&BH193,\"\")&IF(BJ193>0,CHAR(10)&BI193&BJ193,\"\")&IF(BL193>0,CHAR(10)&BK193&BL193,\"\")&IF(BN193>0,CHAR(10)&BM193&BN193,\"\")&IF(BP193>0,CHAR(10)&BO193&BP193,\"\")&IF(BR193>0,CHAR(10)&BQ193&BR193,\"\")&IF(BT193>0,CHAR(10)&BS193&BT193,\"\")&IF(BV193>0,CHAR(10)&BU193&BV193,\"\")&IF(BX193>0,CHAR(10)&BW193&BX193,\"\")&IF(BZ193>0,CHAR(10)&BY193&BZ193,\"\")&IF(CB193>0,CHAR(10)&CA193&CB193,\"\")&IF(CD193>0,CHAR(10)&CC193&CD193,\"\")&IF(CF193>0,CHAR(10)&CE193&CF193,\"\")","v":""},null,null,null,null,null,null,null,{"$f":"ROW($L$190)","v":190},null,{"$f":"INDIRECT(\"'Inspection - Energy and Water'!\"&$M$190&ROW())","v":0}]
[null,null,"If Yes, the building owner was notified in writing?",{"$f":"IF(N194>0,M194&N194,\"\")&IF(P194>0,CHAR(10)&O194&P194,\"\")&IF(R194>0,CHAR(10)&Q194&R194,\"\")&IF(T194>0,CHAR(10)&S194&T194,\"\")&IF(V194>0,CHAR(10)&U194&V194,\"\")&IF(X194>0,CHAR(10)&W194&X194,\"\")&IF(Z194>0,CHAR(10)&Y194&Z194,\"\")&IF(AB194>0,CHAR(10)&AA194&AB194,\"\")&IF(AD194>0,CHAR(10)&AC194&AD194,\"\")&IF(AF194>0,CHAR(10)&AE194&AF194,\"\")&IF(AH194>0,CHAR(10)&AG194&AH194,\"\")&IF(AJ194>0,CHAR(10)&AI194&AJ194,\"\")&IF(AL194>0,CHAR(10)&AK194&AL194,\"\")&IF(AN194>0,CHAR(10)&AM194&AN194,\"\")&IF(AP194>0,CHAR(10)&AO194&AP194,\"\")&IF(AR194>0,CHAR(10)&AQ194&AR194,\"\")&IF(AT194>0,CHAR(10)&AS194&AT194,\"\")&IF(AV194>0,CHAR(10)&AU194&AV194,\"\")&IF(AX194>0,CHAR(10)&AW194&AX194,\"\")&IF(AZ194>0,CHAR(10)&AY194&AZ194,\"\")&IF(BB194>0,CHAR(10)&BA194&BB194,\"\")&IF(BD194>0,CHAR(10)&BC194&BD194,\"\")&IF(BF194>0,CHAR(10)&BE194&BF194,\"\")&IF(BH194>0,CHAR(10)&BG194&BH194,\"\")&IF(BJ194>0,CHAR(10)&BI194&BJ194,\"\")&IF(BL194>0,CHAR(10)&BK194&BL194,\"\")&IF(BN194>0,CHAR(10)&BM194&BN194,\"\")&IF(BP194>0,CHAR(10)&BO194&BP194,\"\")&IF(BR194>0,CHAR(10)&BQ194&BR194,\"\")&IF(BT194>0,CHAR(10)&BS194&BT194,\"\")&IF(BV194>0,CHAR(10)&BU194&BV194,\"\")&IF(BX194>0,CHAR(10)&BW194&BX194,\"\")&IF(BZ194>0,CHAR(10)&BY194&BZ194,\"\")&IF(CB194>0,CHAR(10)&CA194&CB194,\"\")&IF(CD194>0,CHAR(10)&CC194&CD194,\"\")&IF(CF194>0,CHAR(10)&CE194&CF194,\"\")","v":""},null,null,null,null,null,null,null,{"$f":"ROW($L$190)","v":190},null,{"$f":"INDIRECT(\"'Inspection - Energy and Water'!\"&$M$190&ROW())","v":0}]
[]
[null,null,"Fans (OPTIONAL SECTION - only required if there is a recommended upgrade)"]
[null,null,"System/Equipment Type",null,null,null,null,null,null,null,null,"Row Header","D",null,"F",null,"H",null,"I",null,"K",null,"L",null,"N",null,"O",null,"P",null,"Q",null,"R",null,"S",null,"T",null,"U",null,"V",null,"W",null,"X",null,"Y",null,"Z",null,"AA",null,"AB"]
[null,null,{"$f":"IF('Inspection - Energy and Water'!C200>0,'Inspection - Energy and Water'!C200,\"\")","v":""},{"$f":"IF(N198>0,M198&N198,\"\")&IF(P198>0,CHAR(10)&O198&P198,\"\")&IF(R198>0,CHAR(10)&Q198&R198,\"\")&IF(T198>0,CHAR(10)&S198&T198,\"\")&IF(V198>0,CHAR(10)&U198&V198,\"\")&IF(X198>0,CHAR(10)&W198&X198,\"\")&IF(Z198>0,CHAR(10)&Y198&Z198,\"\")&IF(AB198>0,CHAR(10)&AA198&AB198,\"\")&IF(AD198>0,CHAR(10)&AC198&AD198,\"\")&IF(AF198>0,CHAR(10)&AE198&AF198,\"\")&IF(AH198>0,CHAR(10)&AG198&AH198,\"\")&IF(AJ198>0,CHAR(10)&AI198&AJ198,\"\")&IF(AL198>0,CHAR(10)&AK198&AL198,\"\")&IF(AN198>0,CHAR(10)&AM198&AN198,\"\")&IF(AP198>0,CHAR(10)&AO198&AP198,\"\")&IF(AR198>0,CHAR(10)&AQ198&AR198,\"\")&IF(AT198>0,CHAR(10)&AS198&AT198,\"\")&IF(AV198>0,CHAR(10)&AU198&AV198,\"\")&IF(AX198>0,CHAR(10)&AW198&AX198,\"\")&IF(AZ198>0,CHAR(10)&AY198&AZ198,\"\")&IF(BB198>0,CHAR(10)&BA198&BB198,\"\")&IF(BD198>0,CHAR(10)&BC198&BD198,\"\")&IF(BF198>0,CHAR(10)&BE198&BF198,\"\")&IF(BH198>0,CHAR(10)&BG198&BH198,\"\")&IF(BJ198>0,CHAR(10)&BI198&BJ198,\"\")&IF(BL198>0,CHAR(10)&BK198&BL198,\"\")&IF(BN198>0,CHAR(10)&BM198&BN198,\"\")&IF(BP198>0,CHAR(10)&BO198&BP198,\"\")&IF(BR198>0,CHAR(10)&BQ198&BR198,\"\")&IF(BT198>0,CHAR(10)&BS198&BT198,\"\")&IF(BV198>0,CHAR(10)&BU198&BV198,\"\")&IF(BX198>0,CHAR(10)&BW198&BX198,\"\")&IF(BZ198>0,CHAR(10)&BY198&BZ198,\"\")&IF(CB198>0,CHAR(10)&CA198&CB198,\"\")&IF(CD198>0,CHAR(10)&CC198&CD198,\"\")&IF(CF198>0,CHAR(10)&CE198&CF198,\"\")","v":""},null,null,null,null,null,null,null,{"$f":"ROW($L$197)","v":197},{"$f":"INDIRECT(\"'Inspection - Energy and Water'!\"&$M$197&$L198)&\": \"","v":": "},{"$f":"INDIRECT(\"'Inspection - Energy and Water'!\"&M$197&ROW())","v":0},{"$f":"INDIRECT(\"'Inspection - Energy and Water'!\"&O$197&$L198)&\": \"","v":": "},{"$f":"INDIRECT(\"'Inspection - Energy and Water'!\"&O$197&ROW())","v":0},{"$f":"INDIRECT(\"'Inspection - Energy and Water'!\"&Q$197&$L198)&\": \"","v":": "},{"$f":"INDIRECT(\"'Inspection - Energy and Water'!\"&Q$197&ROW())","v":0},{"$f":"INDIRECT(\"'Inspection - Energy and Water'!\"&S$197&$L198)&\": \"","v":": "},{"$f":"INDIRECT(\"'Inspection - Energy and Water'!\"&S$197&ROW())","v":0},{"$f":"INDIRECT(\"'Inspection - Energy and Water'!\"&U$197&$L198)&\": \"","v":": "},{"$f":"INDIRECT(\"'Inspection - Energy and Water'!\"&U$197&ROW())","v":0},{"$f":"INDIRECT(\"'Inspection - Energy and Water'!\"&W$197&$L198)&\": \"","v":": "},{"$f":"INDIRECT(\"'Inspection - Energy and Water'!\"&W$197&ROW())","v":0},{"$f":"INDIRECT(\"'Inspection - Energy and Water'!\"&Y$197&$L198)&\": \"","v":": "},{"$f":"INDIRECT(\"'Inspection - Energy and Water'!\"&Y$197&ROW())","v":0},{"$f":"INDIRECT(\"'Inspection - Energy and Water'!\"&AA$197&$L198)&\": \"","v":": "},{"$f":"INDIRECT(\"'Inspection - Energy and Water'!\"&AA$197&ROW())","v":0},{"$f":"INDIRECT(\"'Inspection - Energy and Water'!\"&AC$197&$L198)&\": \"","v":": "},{"$f":"INDIRECT(\"'Inspection - Energy and Water'!\"&AC$197&ROW())","v":0},{"$f":"INDIRECT(\"'Inspection - Energy and Water'!\"&AE$197&$L198)&\": \"","v":": "},{"$f":"INDIRECT(\"'Inspection - Energy and Water'!\"&AE$197&ROW())","v":0},{"$f":"INDIRECT(\"'Inspection - Energy and Water'!\"&AG$197&$L198)&\": \"","v":": "},{"$f":"INDIRECT(\"'Inspection - Energy and Water'!\"&AG$197&ROW())","v":0},{"$f":"INDIRECT(\"'Inspection - Energy and Water'!\"&AI$197&$L198)&\": \"","v":": "},{"$f":"INDIRECT(\"'Inspection - Energy and Water'!\"&AI$197&ROW())","v":0},{"$f":"INDIRECT(\"'Inspection - Energy and Water'!\"&AK$197&$L198)&\": \"","v":": "},{"$f":"INDIRECT(\"'Inspection - Energy and Water'!\"&AK$197&ROW())","v":0},{"$f":"INDIRECT(\"'Inspection - Energy and Water'!\"&AM$197&$L198)&\": \"","v":": "},{"$f":"INDIRECT(\"'Inspection - Energy and Water'!\"&AM$197&ROW())","v":0},{"$f":"INDIRECT(\"'Inspection - Energy and Water'!\"&AO$197&$L198)&\": \"","v":": "},{"$f":"INDIRECT(\"'Inspection - Energy and Water'!\"&AO$197&ROW())","v":0},{"$f":"INDIRECT(\"'Inspection - Energy and Water'!\"&AQ$197&$L198)&\": \"","v":": "},{"$f":"INDIRECT(\"'Inspection - Energy and Water'!\"&AQ$197&ROW())","v":0},{"$f":"INDIRECT(\"'Inspection - Energy and Water'!\"&AS$197&$L198)&\": \"","v":": "},{"$f":"INDIRECT(\"'Inspection - Energy and Water'!\"&AS$197&ROW())","v":0},{"$f":"INDIRECT(\"'Inspection - Energy and Water'!\"&AU$197&$L198)&\": \"","v":": "},{"$f":"INDIRECT(\"'Inspection - Energy and Water'!\"&AU$197&ROW())","v":0},{"$f":"INDIRECT(\"'Inspection - Energy and Water'!\"&AW$197&$L198)&\": \"","v":": "},{"$f":"INDIRECT(\"'Inspection - Energy and Water'!\"&AW$197&ROW())","v":0},{"$f":"INDIRECT(\"'Inspection - Energy and Water'!\"&AY$197&$L198)&\": \"","v":": "},{"$f":"INDIRECT(\"'Inspection - Energy and Water'!\"&AY$197&ROW())","v":0},{"$f":"INDIRECT(\"'Inspection - Energy and Water'!\"&BA$197&$L198)&\": \"","v":": "},{"$f":"INDIRECT(\"'Inspection - Energy and Water'!\"&BA$197&ROW())","v":0}]
[null,null,{"$f":"IF('Inspection - Energy and Water'!C201>0,'Inspection - Energy and Water'!C201,\"\")","v":""},": Motor Type\n: Spaces/Systems Served\n: Qty\n: Location\n: Annual Hours\n: Controls\n: Setpoints\n: Condition of Fans\n: Condition of Ducts\n: Type of Ductwork\n: Motor HP\n: Phase\n: CFM at Fan\n: CFM Data Source\n: CFM at Registers\n: CFM Data Source\n: CAR Dampers?\n: Motor Efficiency\n: NEMA Premium?\n: Annual kWh\n: Additional Notes",null,null,null,null,null,null,null,{"$f":"ROW($L$197)","v":197},{"$f":"INDIRECT(\"'Inspection - Energy and Water'!\"&$M$197&$L199)&\": \"","v":": "},{"$f":"INDIRECT(\"'Inspection - Energy and Water'!\"&M$197&ROW())","v":"Motor Type"},{"$f":"INDIRECT(\"'Inspection - Energy and Water'!\"&O$197&$L199)&\": \"","v":": "},{"$f":"INDIRECT(\"'Inspection - Energy and Water'!\"&O$197&ROW())","v":"Spaces/Systems Served"},{"$f":"INDIRECT(\"'Inspection - Energy and Water'!\"&Q$197&$L199)&\": \"","v":": "},{"$f":"INDIRECT(\"'Inspection - Energy and Water'!\"&Q$197&ROW())","v":"Qty"},{"$f":"INDIRECT(\"'Inspection - Energy and Water'!\"&S$197&$L199)&\": \"","v":": "},{"$f":"INDIRECT(\"'Inspection - Energy and Water'!\"&S$197&ROW())","v":"Location"},{"$f":"INDIRECT(\"'Inspection - Energy and Water'!\"&U$197&$L199)&\": \"","v":": "},{"$f":"INDIRECT(\"'Inspection - Energy and Water'!\"&U$197&ROW())","v":"Annual Hours"},{"$f":"INDIRECT(\"'Inspection - Energy and Water'!\"&W$197&$L199)&\": \"","v":": "},{"$f":"INDIRECT(\"'Inspection - Energy and Water'!\"&W$197&ROW())","v":"Controls"},{"$f":"INDIRECT(\"'Inspection - Energy and Water'!\"&Y$197&$L199)&\": \"","v":": "},{"$f":"INDIRECT(\"'Inspection - Energy and Water'!\"&Y$197&ROW())","v":"Setpoints"},{"$f":"INDIRECT(\"'Inspection - Energy and Water'!\"&AA$197&$L199)&\": \"","v":": "},{"$f":"INDIRECT(\"'Inspection - Energy and Water'!\"&AA$197&ROW())","v":"Condition of Fans"},{"$f":"INDIRECT(\"'Inspection - Energy and Water'!\"&AC$197&$L199)&\": \"","v":": "},{"$f":"INDIRECT(\"'Inspection - Energy and Water'!\"&AC$197&ROW())","v":"Condition of Ducts"},{"$f":"INDIRECT(\"'Inspection - Energy and Water'!\"&AE$197&$L199)&\": \"","v":": "},{"$f":"INDIRECT(\"'Inspection - Energy and Water'!\"&AE$197&ROW())","v":"Type of Ductwork"},{"$f":"INDIRECT(\"'Inspection - Energy and Water'!\"&AG$197&$L199)&\": \"","v":": "},{"$f":"INDIRECT(\"'Inspection - Energy and Water'!\"&AG$197&ROW())","v":"Motor HP"},{"$f":"INDIRECT(\"'Inspection - Energy and Water'!\"&AI$197&$L199)&\": \"","v":": "},{"$f":"INDIRECT(\"'Inspection - Energy and Water'!\"&AI$197&ROW())","v":"Phase"},{"$f":"INDIRECT(\"'Inspection - Energy and Water'!\"&AK$197&$L199)&\": \"","v":": "},{"$f":"INDIRECT(\"'Inspection - Energy and Water'!\"&AK$197&ROW())","v":"CFM at Fan"},{"$f":"INDIRECT(\"'Inspection - Energy and Water'!\"&AM$197&$L199)&\": \"","v":": "},{"$f":"INDIRECT(\"'Inspection - Energy and Water'!\"&AM$197&ROW())","v":"CFM Data Source"},{"$f":"INDIRECT(\"'Inspection - Energy and Water'!\"&AO$197&$L199)&\": \"","v":": "},{"$f":"INDIRECT(\"'Inspection - Energy and Water'!\"&AO$197&ROW())","v":"CFM at Registers"},{"$f":"INDIRECT(\"'Inspection - Energy and Water'!\"&AQ$197&$L199)&\": \"","v":": "},{"$f":"INDIRECT(\"'Inspection - Energy and Water'!\"&AQ$197&ROW())","v":"CFM Data Source"},{"$f":"INDIRECT(\"'Inspection - Energy and Water'!\"&AS$197&$L199)&\": \"","v":": "},{"$f":"INDIRECT(\"'Inspection - Energy and Water'!\"&AS$197&ROW())","v":"CAR Dampers?"},{"$f":"INDIRECT(\"'Inspection - Energy and Water'!\"&AU$197&$L199)&\": \"","v":": "},{"$f":"INDIRECT(\"'Inspection - Energy and Water'!\"&AU$197&ROW())","v":"Motor Efficiency"},{"$f":"INDIRECT(\"'Inspection - Energy and Water'!\"&AW$197&$L199)&\": \"","v":": "},{"$f":"INDIRECT(\"'Inspection - Energy and Water'!\"&AW$197&ROW())","v":"NEMA Premium?"},{"$f":"INDIRECT(\"'Inspection - Energy and Water'!\"&AY$197&$L199)&\": \"","v":": "},{"$f":"INDIRECT(\"'Inspection - Energy and Water'!\"&AY$197&ROW())","v":"Annual kWh"},{"$f":"INDIRECT(\"'Inspection - Energy and Water'!\"&BA$197&$L199)&\": \"","v":": "},{"$f":"INDIRECT(\"'Inspection - Energy and Water'!\"&BA$197&ROW())","v":"Additional Notes"}]
[null,null,{"$f":"IF('Inspection - Energy and Water'!C202>0,'Inspection - Energy and Water'!C202,\"\")","v":""},"",null,null,null,null,null,null,null,197,": ",0,": ",0,": ",0,": ",0,": ",0,": ",0,": ",0,": ",0,": ",0,": ",0,": ",0,": ",0,": ",0,": ",0,": ",0,": ",0,": ",0,": ",0,": ",0,": ",0,": ",0]
[null,null,{"$f":"IF('Inspection - Energy and Water'!C203>0,'Inspection - Energy and Water'!C203,\"\")","v":""},"",null,null,null,null,null,null,null,197,": ",0,": ",0,": ",0,": ",0,": ",0,": ",0,": ",0,": ",0,": ",0,": ",0,": ",0,": ",0,": ",0,": ",0,": ",0,": ",0,": ",0,": ",0,": ",0,": ",0,": ",0]
[null,null,{"$f":"IF('Inspection - Energy and Water'!C204>0,'Inspection - Energy and Water'!C204,\"\")","v":""},"",null,null,null,null,null,null,null,197,": ",0,": ",0,": ",0,": ",0,": ",0,": ",0,": ",0,": ",0,": ",0,": ",0,": ",0,": ",0,": ",0,": ",0,": ",0,": ",0,": ",0,": ",0,": ",0,": ",0,": ",0]
[null,null,{"$f":"IF('Inspection - Energy and Water'!C205>0,'Inspection - Energy and Water'!C205,\"\")","v":""},"",null,null,null,null,null,null,null,197,": ",0,": ",0,": ",0,": ",0,": ",0,": ",0,": ",0,": ",0,": ",0,": ",0,": ",0,": ",0,": ",0,": ",0,": ",0,": ",0,": ",0,": ",0,": ",0,": ",0,": ",0]
[null,null,{"$f":"IF('Inspection - Energy and Water'!C206>0,'Inspection - Energy and Water'!C206,\"\")","v":""},"",null,null,null,null,null,null,null,197,": ",0,": ",0,": ",0,": ",0,": ",0,": ",0,": ",0,": ",0,": ",0,": ",0,": ",0,": ",0,": ",0,": ",0,": ",0,": ",0,": ",0,": ",0,": ",0,": ",0,": ",0]
[null,null,{"$f":"IF('Inspection - Energy and Water'!C207>0,'Inspection - Energy and Water'!C207,\"\")","v":""},"",null,null,null,null,null,null,null,197,": ",0,": ",0,": ",0,": ",0,": ",0,": ",0,": ",0,": ",0,": ",0,": ",0,": ",0,": ",0,": ",0,": ",0,": ",0,": ",0,": ",0,": ",0,": ",0,": ",0,": ",0]
[null,null,{"$f":"IF('Inspection - Energy and Water'!C208>0,'Inspection - Energy and Water'!C208,\"\")","v":""},"",null,null,null,null,null,null,null,197,": ",0,": ",0,": ",0,": ",0,": ",0,": ",0,": ",0,": ",0,": ",0,": ",0,": ",0,": ",0,": ",0,": ",0,": ",0,": ",0,": ",0,": ",0,": ",0,": ",0,": ",0]
[null,null,{"$f":"IF('Inspection - Energy and Water'!C209>0,'Inspection - Energy and Water'!C209,\"\")","v":""},"",null,null,null,null,null,null,null,197,": ",0,": ",0,": ",0,": ",0,": ",0,": ",0,": ",0,": ",0,": ",0,": ",0,": ",0,": ",0,": ",0,": ",0,": ",0,": ",0,": ",0,": ",0,": ",0,": ",0,": ",0]
[null,null,{"$f":"IF('Inspection - Energy and Water'!C210>0,'Inspection - Energy and Water'!C210,\"\")","v":""},"",null,null,null,null,null,null,null,197,": ",0,": ",0,": ",0,": ",0,": ",0,": ",0,": ",0,": ",0,": ",0,": ",0,": ",0,": ",0,": ",0,": ",0,": ",0,": ",0,": ",0,": ",0,": ",0,": ",0,": ",0]
[null,null,{"$f":"IF('Inspection - Energy and Water'!C211>0,'Inspection - Energy and Water'!C211,\"\")","v":""},"",null,null,null,null,null,null,null,197,": ",0,": ",0,": ",0,": ",0,": ",0,": ",0,": ",0,": ",0,": ",0,": ",0,": ",0,": ",0,": ",0,": ",0,": ",0,": ",0,": ",0,": ",0,": ",0,": ",0,": ",0]
[null,null,{"$f":"IF('Inspection - Energy and Water'!C212>0,'Inspection - Energy and Water'!C212,\"\")","v":""},"",null,null,null,null,null,null,null,197,": ",0,": ",0,": ",0,": ",0,": ",0,": ",0,": ",0,": ",0,": ",0,": ",0,": ",0,": ",0,": ",0,": ",0,": ",0,": ",0,": ",0,": ",0,": ",0,": ",0,": ",0]
[null,null,{"$f":"IF('Inspection - Energy and Water'!C213>0,'Inspection - Energy and Water'!C213,\"\")","v":""},"",null,null,null,null,null,null,null,197,": ",0,": ",0,": ",0,": ",0,": ",0,": ",0,": ",0,": ",0,": ",0,": ",0,": ",0,": ",0,": ",0,": ",0,": ",0,": ",0,": ",0,": ",0,": ",0,": ",0,": ",0]
[null,null,{"$f":"IF('Inspection - Energy and Water'!C214>0,'Inspection - Energy and Water'!C214,\"\")","v":""},"",null,null,null,null,null,null,null,197,": ",0,": ",0,": ",0,": ",0,": ",0,": ",0,": ",0,": ",0,": ",0,": ",0,": ",0,": ",0,": ",0,": ",0,": ",0,": ",0,": ",0,": ",0,": ",0,": ",0,": ",0]
[]
[null,null,"Pumps (OPTIONAL SECTION - only required if there is a recommended upgrade)"]
[null,null,"System/Equipment Type",null,null,null,null,null,null,null,null,"Row Header","D",null,"F",null,"H",null,"I",null,"K",null,"L",null,"N",null,"O",null,"P",null,"Q",null,"R",null,"S",null,"T",null,"U",null,"V"]
[null,null,{"$f":"IF('Inspection - Energy and Water'!C218>0,'Inspection - Energy and Water'!C218,\"\")","v":""},{"$f":"IF(N216>0,M216&N216,\"\")&IF(P216>0,CHAR(10)&O216&P216,\"\")&IF(R216>0,CHAR(10)&Q216&R216,\"\")&IF(T216>0,CHAR(10)&S216&T216,\"\")&IF(V216>0,CHAR(10)&U216&V216,\"\")&IF(X216>0,CHAR(10)&W216&X216,\"\")&IF(Z216>0,CHAR(10)&Y216&Z216,\"\")&IF(AB216>0,CHAR(10)&AA216&AB216,\"\")&IF(AD216>0,CHAR(10)&AC216&AD216,\"\")&IF(AF216>0,CHAR(10)&AE216&AF216,\"\")&IF(AH216>0,CHAR(10)&AG216&AH216,\"\")&IF(AJ216>0,CHAR(10)&AI216&AJ216,\"\")&IF(AL216>0,CHAR(10)&AK216&AL216,\"\")&IF(AN216>0,CHAR(10)&AM216&AN216,\"\")&IF(AP216>0,CHAR(10)&AO216&AP216,\"\")&IF(AR216>0,CHAR(10)&AQ216&AR216,\"\")&IF(AT216>0,CHAR(10)&AS216&AT216,\"\")&IF(AV216>0,CHAR(10)&AU216&AV216,\"\")&IF(AX216>0,CHAR(10)&AW216&AX216,\"\")&IF(AZ216>0,CHAR(10)&AY216&AZ216,\"\")&IF(BB216>0,CHAR(10)&BA216&BB216,\"\")&IF(BD216>0,CHAR(10)&BC216&BD216,\"\")&IF(BF216>0,CHAR(10)&BE216&BF216,\"\")&IF(BH216>0,CHAR(10)&BG216&BH216,\"\")&IF(BJ216>0,CHAR(10)&BI216&BJ216,\"\")&IF(BL216>0,CHAR(10)&BK216&BL216,\"\")&IF(BN216>0,CHAR(10)&BM216&BN216,\"\")&IF(BP216>0,CHAR(10)&BO216&BP216,\"\")&IF(BR216>0,CHAR(10)&BQ216&BR216,\"\")&IF(BT216>0,CHAR(10)&BS216&BT216,\"\")&IF(BV216>0,CHAR(10)&BU216&BV216,\"\")&IF(BX216>0,CHAR(10)&BW216&BX216,\"\")&IF(BZ216>0,CHAR(10)&BY216&BZ216,\"\")&IF(CB216>0,CHAR(10)&CA216&CB216,\"\")&IF(CD216>0,CHAR(10)&CC216&CD216,\"\")&IF(CF216>0,CHAR(10)&CE216&CF216,\"\")","v":""},null,null,null,null,null,null,null,{"$f":"ROW($L$215)","v":215},{"$f":"INDIRECT(\"'Inspection - Energy and Water'!\"&$M$215&$L216)&\": \"","v":": "},{"$f":"INDIRECT(\"'Inspection - Energy and Water'!\"&$M$215&ROW())","v":0},{"$f":"INDIRECT(\"'Inspection - Energy and Water'!\"&$O$215&$L216)&\": \"","v":": "},{"$f":"INDIRECT(\"'Inspection - Energy and Water'!\"&$O$215&ROW())","v":0},{"$f":"INDIRECT(\"'Inspection - Energy and Water'!\"&$Q$215&$L216)&\": \"","v":": "},{"$f":"INDIRECT(\"'Inspection - Energy and Water'!\"&$Q$215&ROW())","v":0},{"$f":"INDIRECT(\"'Inspection - Energy and Water'!\"&$S$215&$L216)&\": \"","v":": "},{"$f":"INDIRECT(\"'Inspection - Energy and Water'!\"&$S$215&ROW())","v":0},{"$f":"INDIRECT(\"'Inspection - Energy and Water'!\"&$U$215&$L216)&\": \"","v":": "},{"$f":"INDIRECT(\"'Inspection - Energy and Water'!\"&$U$215&ROW())","v":0},{"$f":"INDIRECT(\"'Inspection - Energy and Water'!\"&$W$215&$L216)&\": \"","v":": "},{"$f":"INDIRECT(\"'Inspection - Energy and Water'!\"&$W$215&ROW())","v":0},{"$f":"INDIRECT(\"'Inspection - Energy and Water'!\"&$Y$215&$L216)&\": \"","v":": "},{"$f":"INDIRECT(\"'Inspection - Energy and Water'!\"&$Y$215&ROW())","v":0},{"$f":"INDIRECT(\"'Inspection - Energy and Water'!\"&$AA$215&$L216)&\": \"","v":": "},{"$f":"INDIRECT(\"'Inspection - Energy and Water'!\"&$AA$215&ROW())","v":0},{"$f":"INDIRECT(\"'Inspection - Energy and Water'!\"&$AC$215&$L216)&\": \"","v":": "},{"$f":"INDIRECT(\"'Inspection - Energy and Water'!\"&$AC$215&ROW())","v":0},{"$f":"INDIRECT(\"'Inspection - Energy and Water'!\"&$AE$215&$L216)&\": \"","v":": "},{"$f":"INDIRECT(\"'Inspection - Energy and Water'!\"&$AE$215&ROW())","v":0},{"$f":"INDIRECT(\"'Inspection - Energy and Water'!\"&$AG$215&$L216)&\": \"","v":": "},{"$f":"INDIRECT(\"'Inspection - Energy and Water'!\"&$AG$215&ROW())","v":0},{"$f":"INDIRECT(\"'Inspection - Energy and Water'!\"&$AI$215&$L216)&\": \"","v":": "},{"$f":"INDIRECT(\"'Inspection - Energy and Water'!\"&$AI$215&ROW())","v":0},{"$f":"INDIRECT(\"'Inspection - Energy and Water'!\"&$AK$215&$L216)&\": \"","v":": "},{"$f":"INDIRECT(\"'Inspection - Energy and Water'!\"&$AK$215&ROW())","v":0},{"$f":"INDIRECT(\"'Inspection - Energy and Water'!\"&$AM$215&$L216)&\": \"","v":": "},{"$f":"INDIRECT(\"'Inspection - Energy and Water'!\"&$AM$215&ROW())","v":0},{"$f":"INDIRECT(\"'Inspection - Energy and Water'!\"&$AO$215&$L216)&\": \"","v":": "},{"$f":"INDIRECT(\"'Inspection - Energy and Water'!\"&$AO$215&ROW())","v":0}]
[null,null,{"$f":"IF('Inspection - Energy and Water'!C219>0,'Inspection - Energy and Water'!C219,\"\")","v":""},": Motor Type\n: Spaces/Systems Served\n: Qty\n: Location\n: Annual Hours\n: Controls\n: Setpoints\n: Motor HP\n: Phase\n: GPM at Pump\n: GPM Data Source\n: Motor Efficiency\n: NEMA Premium?\n: Annual kWh\n: Additional Notes",null,null,null,null,null,null,null,{"$f":"ROW($L$215)","v":215},{"$f":"INDIRECT(\"'Inspection - Energy and Water'!\"&$M$215&$L217)&\": \"","v":": "},{"$f":"INDIRECT(\"'Inspection - Energy and Water'!\"&$M$215&ROW())","v":"Motor Type"},{"$f":"INDIRECT(\"'Inspection - Energy and Water'!\"&$O$215&$L217)&\": \"","v":": "},{"$f":"INDIRECT(\"'Inspection - Energy and Water'!\"&$O$215&ROW())","v":"Spaces/Systems Served"},{"$f":"INDIRECT(\"'Inspection - Energy and Water'!\"&$Q$215&$L217)&\": \"","v":": "},{"$f":"INDIRECT(\"'Inspection - Energy and Water'!\"&$Q$215&ROW())","v":"Qty"},{"$f":"INDIRECT(\"'Inspection - Energy and Water'!\"&$S$215&$L217)&\": \"","v":": "},{"$f":"INDIRECT(\"'Inspection - Energy and Water'!\"&$S$215&ROW())","v":"Location"},{"$f":"INDIRECT(\"'Inspection - Energy and Water'!\"&$U$215&$L217)&\": \"","v":": "},{"$f":"INDIRECT(\"'Inspection - Energy and Water'!\"&$U$215&ROW())","v":"Annual Hours"},{"$f":"INDIRECT(\"'Inspection - Energy and Water'!\"&$W$215&$L217)&\": \"","v":": "},{"$f":"INDIRECT(\"'Inspection - Energy and Water'!\"&$W$215&ROW())","v":"Controls"},{"$f":"INDIRECT(\"'Inspection - Energy and Water'!\"&$Y$215&$L217)&\": \"","v":": "},{"$f":"INDIRECT(\"'Inspection - Energy and Water'!\"&$Y$215&ROW())","v":"Setpoints"},{"$f":"INDIRECT(\"'Inspection - Energy and Water'!\"&$AA$215&$L217)&\": \"","v":": "},{"$f":"INDIRECT(\"'Inspection - Energy and Water'!\"&$AA$215&ROW())","v":"Motor HP"},{"$f":"INDIRECT(\"'Inspection - Energy and Water'!\"&$AC$215&$L217)&\": \"","v":": "},{"$f":"INDIRECT(\"'Inspection - Energy and Water'!\"&$AC$215&ROW())","v":"Phase"},{"$f":"INDIRECT(\"'Inspection - Energy and Water'!\"&$AE$215&$L217)&\": \"","v":": "},{"$f":"INDIRECT(\"'Inspection - Energy and Water'!\"&$AE$215&ROW())","v":"GPM at Pump"},{"$f":"INDIRECT(\"'Inspection - Energy and Water'!\"&$AG$215&$L217)&\": \"","v":": "},{"$f":"INDIRECT(\"'Inspection - Energy and Water'!\"&$AG$215&ROW())","v":"GPM Data Source"},{"$f":"INDIRECT(\"'Inspection - Energy and Water'!\"&$AI$215&$L217)&\": \"","v":": "},{"$f":"INDIRECT(\"'Inspection - Energy and Water'!\"&$AI$215&ROW())","v":"Motor Efficiency"},{"$f":"INDIRECT(\"'Inspection - Energy and Water'!\"&$AK$215&$L217)&\": \"","v":": "},{"$f":"INDIRECT(\"'Inspection - Energy and Water'!\"&$AK$215&ROW())","v":"NEMA Premium?"},{"$f":"INDIRECT(\"'Inspection - Energy and Water'!\"&$AM$215&$L217)&\": \"","v":": "},{"$f":"INDIRECT(\"'Inspection - Energy and Water'!\"&$AM$215&ROW())","v":"Annual kWh"},{"$f":"INDIRECT(\"'Inspection - Energy and Water'!\"&$AO$215&$L217)&\": \"","v":": "},{"$f":"INDIRECT(\"'Inspection - Energy and Water'!\"&$AO$215&ROW())","v":"Additional Notes"}]
[null,null,{"$f":"IF('Inspection - Energy and Water'!C220>0,'Inspection - Energy and Water'!C220,\"\")","v":""},"",null,null,null,null,null,null,null,215,": ",0,": ",0,": ",0,": ",0,": ",0,": ",0,": ",0,": ",0,": ",0,": ",0,": ",0,": ",0,": ",0,": ",0,": ",0]
[null,null,{"$f":"IF('Inspection - Energy and Water'!C221>0,'Inspection - Energy and Water'!C221,\"\")","v":""},"",null,null,null,null,null,null,null,215,": ",0,": ",0,": ",0,": ",0,": ",0,": ",0,": ",0,": ",0,": ",0,": ",0,": ",0,": ",0,": ",0,": ",0,": ",0]
[null,null,{"$f":"IF('Inspection - Energy and Water'!C222>0,'Inspection - Energy and Water'!C222,\"\")","v":""},"",null,null,null,null,null,null,null,215,": ",0,": ",0,": ",0,": ",0,": ",0,": ",0,": ",0,": ",0,": ",0,": ",0,": ",0,": ",0,": ",0,": ",0,": ",0]
[null,null,{"$f":"IF('Inspection - Energy and Water'!C223>0,'Inspection - Energy and Water'!C223,\"\")","v":""},"",null,null,null,null,null,null,null,215,": ",0,": ",0,": ",0,": ",0,": ",0,": ",0,": ",0,": ",0,": ",0,": ",0,": ",0,": ",0,": ",0,": ",0,": ",0]
[null,null,{"$f":"IF('Inspection - Energy and Water'!C224>0,'Inspection - Energy and Water'!C224,\"\")","v":""},"",null,null,null,null,null,null,null,215,": ",0,": ",0,": ",0,": ",0,": ",0,": ",0,": ",0,": ",0,": ",0,": ",0,": ",0,": ",0,": ",0,": ",0,": ",0]
[null,null,{"$f":"IF('Inspection - Energy and Water'!C225>0,'Inspection - Energy and Water'!C225,\"\")","v":""},"",null,null,null,null,null,null,null,215,": ",0,": ",0,": ",0,": ",0,": ",0,": ",0,": ",0,": ",0,": ",0,": ",0,": ",0,": ",0,": ",0,": ",0,": ",0]
[null,null,{"$f":"IF('Inspection - Energy and Water'!C226>0,'Inspection - Energy and Water'!C226,\"\")","v":""},"",null,null,null,null,null,null,null,215,": ",0,": ",0,": ",0,": ",0,": ",0,": ",0,": ",0,": ",0,": ",0,": ",0,": ",0,": ",0,": ",0,": ",0,": ",0]
[null,null,{"$f":"IF('Inspection - Energy and Water'!C227>0,'Inspection - Energy and Water'!C227,\"\")","v":""},"",null,null,null,null,null,null,null,215,": ",0,": ",0,": ",0,": ",0,": ",0,": ",0,": ",0,": ",0,": ",0,": ",0,": ",0,": ",0,": ",0,": ",0,": ",0]
[]
[null,null,"Other Motors (OPTIONAL SECTION - only required if there is a recommended upgrade)"]
[null,null,"System/Equipment Type",null,null,null,null,null,null,null,null,"Row Header","D",null,"F",null,"H",null,"I",null,"K",null,"L",null,"N",null,"O",null,"P",null,"Q",null,"R",null,"S",null,"T"]
[null,null,{"$f":"IF('Inspection - Energy and Water'!C231>0,'Inspection - Energy and Water'!C231,\"\")","v":""},{"$f":"IF(N229>0,M229&N229,\"\")&IF(P229>0,CHAR(10)&O229&P229,\"\")&IF(R229>0,CHAR(10)&Q229&R229,\"\")&IF(T229>0,CHAR(10)&S229&T229,\"\")&IF(V229>0,CHAR(10)&U229&V229,\"\")&IF(X229>0,CHAR(10)&W229&X229,\"\")&IF(Z229>0,CHAR(10)&Y229&Z229,\"\")&IF(AB229>0,CHAR(10)&AA229&AB229,\"\")&IF(AD229>0,CHAR(10)&AC229&AD229,\"\")&IF(AF229>0,CHAR(10)&AE229&AF229,\"\")&IF(AH229>0,CHAR(10)&AG229&AH229,\"\")&IF(AJ229>0,CHAR(10)&AI229&AJ229,\"\")&IF(AL229>0,CHAR(10)&AK229&AL229,\"\")&IF(AN229>0,CHAR(10)&AM229&AN229,\"\")&IF(AP229>0,CHAR(10)&AO229&AP229,\"\")&IF(AR229>0,CHAR(10)&AQ229&AR229,\"\")&IF(AT229>0,CHAR(10)&AS229&AT229,\"\")&IF(AV229>0,CHAR(10)&AU229&AV229,\"\")&IF(AX229>0,CHAR(10)&AW229&AX229,\"\")&IF(AZ229>0,CHAR(10)&AY229&AZ229,\"\")&IF(BB229>0,CHAR(10)&BA229&BB229,\"\")&IF(BD229>0,CHAR(10)&BC229&BD229,\"\")&IF(BF229>0,CHAR(10)&BE229&BF229,\"\")&IF(BH229>0,CHAR(10)&BG229&BH229,\"\")&IF(BJ229>0,CHAR(10)&BI229&BJ229,\"\")&IF(BL229>0,CHAR(10)&BK229&BL229,\"\")&IF(BN229>0,CHAR(10)&BM229&BN229,\"\")&IF(BP229>0,CHAR(10)&BO229&BP229,\"\")&IF(BR229>0,CHAR(10)&BQ229&BR229,\"\")&IF(BT229>0,CHAR(10)&BS229&BT229,\"\")&IF(BV229>0,CHAR(10)&BU229&BV229,\"\")&IF(BX229>0,CHAR(10)&BW229&BX229,\"\")&IF(BZ229>0,CHAR(10)&BY229&BZ229,\"\")&IF(CB229>0,CHAR(10)&CA229&CB229,\"\")&IF(CD229>0,CHAR(10)&CC229&CD229,\"\")&IF(CF229>0,CHAR(10)&CE229&CF229,\"\")","v":""},null,null,null,null,null,null,null,{"$f":"ROW($L$228)","v":228},{"$f":"INDIRECT(\"'Inspection - Energy and Water'!\"&$M$228&$L229)&\": \"","v":": "},{"$f":"INDIRECT(\"'Inspection - Energy and Water'!\"&$M$228&ROW())","v":0},{"$f":"INDIRECT(\"'Inspection - Energy and Water'!\"&$O$228&$L229)&\": \"","v":": "},{"$f":"INDIRECT(\"'Inspection - Energy and Water'!\"&$O$228&ROW())","v":0},{"$f":"INDIRECT(\"'Inspection - Energy and Water'!\"&$Q$228&$L229)&\": \"","v":": "},{"$f":"INDIRECT(\"'Inspection - Energy and Water'!\"&$Q$228&ROW())","v":0},{"$f":"INDIRECT(\"'Inspection - Energy and Water'!\"&$S$228&$L229)&\": \"","v":": "},{"$f":"INDIRECT(\"'Inspection - Energy and Water'!\"&$S$228&ROW())","v":0},{"$f":"INDIRECT(\"'Inspection - Energy and Water'!\"&$U$228&$L229)&\": \"","v":": "},{"$f":"INDIRECT(\"'Inspection - Energy and Water'!\"&$U$228&ROW())","v":0},{"$f":"INDIRECT(\"'Inspection - Energy and Water'!\"&$W$228&$L229)&\": \"","v":": "},{"$f":"INDIRECT(\"'Inspection - Energy and Water'!\"&$W$228&ROW())","v":0},{"$f":"INDIRECT(\"'Inspection - Energy and Water'!\"&$Y$228&$L229)&\": \"","v":": "},{"$f":"INDIRECT(\"'Inspection - Energy and Water'!\"&$Y$228&ROW())","v":0},{"$f":"INDIRECT(\"'Inspection - Energy and Water'!\"&$AA$228&$L229)&\": \"","v":": "},{"$f":"INDIRECT(\"'Inspection - Energy and Water'!\"&$AA$228&ROW())","v":0},{"$f":"INDIRECT(\"'Inspection - Energy and Water'!\"&$AC$228&$L229)&\": \"","v":": "},{"$f":"INDIRECT(\"'Inspection - Energy and Water'!\"&$AC$228&ROW())","v":0},{"$f":"INDIRECT(\"'Inspection - Energy and Water'!\"&$AE$228&$L229)&\": \"","v":": "},{"$f":"INDIRECT(\"'Inspection - Energy and Water'!\"&$AE$228&ROW())","v":0},{"$f":"INDIRECT(\"'Inspection - Energy and Water'!\"&$AG$228&$L229)&\": \"","v":": "},{"$f":"INDIRECT(\"'Inspection - Energy and Water'!\"&$AG$228&ROW())","v":0},{"$f":"INDIRECT(\"'Inspection - Energy and Water'!\"&$AI$228&$L229)&\": \"","v":": "},{"$f":"INDIRECT(\"'Inspection - Energy and Water'!\"&$AI$228&ROW())","v":0},{"$f":"INDIRECT(\"'Inspection - Energy and Water'!\"&$AK$228&$L229)&\": \"","v":": "},{"$f":"INDIRECT(\"'Inspection - Energy and Water'!\"&$AK$228&ROW())","v":0}]
[null,null,{"$f":"IF('Inspection - Energy and Water'!C232>0,'Inspection - Energy and Water'!C232,\"\")","v":""},": Motor Type\n: Spaces/Systems Served\n: Qty\n: Location\n: Annual Hours\n: Controls\n: Setpoints\n: Motor HP\n: Phase\n: Motor Efficiency\n: NEMA Premium?\n: Annual kWh\n: Additional Notes",null,null,null,null,null,null,null,{"$f":"ROW($L$228)","v":228},{"$f":"INDIRECT(\"'Inspection - Energy and Water'!\"&$M$228&$L230)&\": \"","v":": "},{"$f":"INDIRECT(\"'Inspection - Energy and Water'!\"&$M$228&ROW())","v":"Motor Type"},{"$f":"INDIRECT(\"'Inspection - Energy and Water'!\"&$O$228&$L230)&\": \"","v":": "},{"$f":"INDIRECT(\"'Inspection - Energy and Water'!\"&$O$228&ROW())","v":"Spaces/Systems Served"},{"$f":"INDIRECT(\"'Inspection - Energy and Water'!\"&$Q$228&$L230)&\": \"","v":": "},{"$f":"INDIRECT(\"'Inspection - Energy and Water'!\"&$Q$228&ROW())","v":"Qty"},{"$f":"INDIRECT(\"'Inspection - Energy and Water'!\"&$S$228&$L230)&\": \"","v":": "},{"$f":"INDIRECT(\"'Inspection - Energy and Water'!\"&$S$228&ROW())","v":"Location"},{"$f":"INDIRECT(\"'Inspection - Energy and Water'!\"&$U$228&$L230)&\": \"","v":": "},{"$f":"INDIRECT(\"'Inspection - Energy and Water'!\"&$U$228&ROW())","v":"Annual Hours"},{"$f":"INDIRECT(\"'Inspection - Energy and Water'!\"&$W$228&$L230)&\": \"","v":": "},{"$f":"INDIRECT(\"'Inspection - Energy and Water'!\"&$W$228&ROW())","v":"Controls"},{"$f":"INDIRECT(\"'Inspection - Energy and Water'!\"&$Y$228&$L230)&\": \"","v":": "},{"$f":"INDIRECT(\"'Inspection - Energy and Water'!\"&$Y$228&ROW())","v":"Setpoints"},{"$f":"INDIRECT(\"'Inspection - Energy and Water'!\"&$AA$228&$L230)&\": \"","v":": "},{"$f":"INDIRECT(\"'Inspection - Energy and Water'!\"&$AA$228&ROW())","v":"Motor HP"},{"$f":"INDIRECT(\"'Inspection - Energy and Water'!\"&$AC$228&$L230)&\": \"","v":": "},{"$f":"INDIRECT(\"'Inspection - Energy and Water'!\"&$AC$228&ROW())","v":"Phase"},{"$f":"INDIRECT(\"'Inspection - Energy and Water'!\"&$AE$228&$L230)&\": \"","v":": "},{"$f":"INDIRECT(\"'Inspection - Energy and Water'!\"&$AE$228&ROW())","v":"Motor Efficiency"},{"$f":"INDIRECT(\"'Inspection - Energy and Water'!\"&$AG$228&$L230)&\": \"","v":": "},{"$f":"INDIRECT(\"'Inspection - Energy and Water'!\"&$AG$228&ROW())","v":"NEMA Premium?"},{"$f":"INDIRECT(\"'Inspection - Energy and Water'!\"&$AI$228&$L230)&\": \"","v":": "},{"$f":"INDIRECT(\"'Inspection - Energy and Water'!\"&$AI$228&ROW())","v":"Annual kWh"},{"$f":"INDIRECT(\"'Inspection - Energy and Water'!\"&$AK$228&$L230)&\": \"","v":": "},{"$f":"INDIRECT(\"'Inspection - Energy and Water'!\"&$AK$228&ROW())","v":"Additional Notes"}]
[null,null,{"$f":"IF('Inspection - Energy and Water'!C233>0,'Inspection - Energy and Water'!C233,\"\")","v":""},"",null,null,null,null,null,null,null,228,": ",0,": ",0,": ",0,": ",0,": ",0,": ",0,": ",0,": ",0,": ",0,": ",0,": ",0,": ",0,": ",0]
[null,null,{"$f":"IF('Inspection - Energy and Water'!C234>0,'Inspection - Energy and Water'!C234,\"\")","v":""},"",null,null,null,null,null,null,null,228,": ",0,": ",0,": ",0,": ",0,": ",0,": ",0,": ",0,": ",0,": ",0,": ",0,": ",0,": ",0,": ",0]
[null,null,{"$f":"IF('Inspection - Energy and Water'!C235>0,'Inspection - Energy and Water'!C235,\"\")","v":""},"",null,null,null,null,null,null,null,228,": ",0,": ",0,": ",0,": ",0,": ",0,": ",0,": ",0,": ",0,": ",0,": ",0,": ",0,": ",0,": ",0]
[null,null,{"$f":"IF('Inspection - Energy and Water'!C236>0,'Inspection - Energy and Water'!C236,\"\")","v":""},"",null,null,null,null,null,null,null,228,": ",0,": ",0,": ",0,": ",0,": ",0,": ",0,": ",0,": ",0,": ",0,": ",0,": ",0,": ",0,": ",0]
[null,null,{"$f":"IF('Inspection - Energy and Water'!C237>0,'Inspection - Energy and Water'!C237,\"\")","v":""},"",null,null,null,null,null,null,null,228,": ",0,": ",0,": ",0,": ",0,": ",0,": ",0,": ",0,": ",0,": ",0,": ",0,": ",0,": ",0,": ",0]
[null,null,{"$f":"IF('Inspection - Energy and Water'!C238>0,'Inspection - Energy and Water'!C238,\"\")","v":""},"",null,null,null,null,null,null,null,228,": ",0,": ",0,": ",0,": ",0,": ",0,": ",0,": ",0,": ",0,": ",0,": ",0,": ",0,": ",0,": ",0]
[null,null,{"$f":"IF('Inspection - Energy and Water'!C239>0,'Inspection - Energy and Water'!C239,\"\")","v":""},"",null,null,null,null,null,null,null,228,": ",0,": ",0,": ",0,": ",0,": ",0,": ",0,": ",0,": ",0,": ",0,": ",0,": ",0,": ",0,": ",0]
[null,null,{"$f":"IF('Inspection - Energy and Water'!C240>0,'Inspection - Energy and Water'!C240,\"\")","v":""},"",null,null,null,null,null,null,null,228,": ",0,": ",0,": ",0,": ",0,": ",0,": ",0,": ",0,": ",0,": ",0,": ",0,": ",0,": ",0,": ",0]
[]
[null,null,"Measurement Testing",null,null,null,null,null,null,null,null,"Row Header","D",null,"E",null,"F",null,"G",null,"H",null,"I",null,"J",null,"K",null,"L",null,"M",null,"N",null,"O",null,"P",null,"Q",null,"R",null,"S",null,"T",null,"U",null,"V",null,"W",null,"X"]
[null,null,"Moisture Testing"]
[null,null,"Location / Apartment Number",{"$f":"IF(N242>0,M242&N242,\"\")&IF(P242>0,CHAR(10)&O242&P242,\"\")&IF(R242>0,CHAR(10)&Q242&R242,\"\")&IF(T242>0,CHAR(10)&S242&T242,\"\")&IF(V242>0,CHAR(10)&U242&V242,\"\")&IF(X242>0,CHAR(10)&W242&X242,\"\")&IF(Z242>0,CHAR(10)&Y242&Z242,\"\")&IF(AB242>0,CHAR(10)&AA242&AB242,\"\")&IF(AD242>0,CHAR(10)&AC242&AD242,\"\")&IF(AF242>0,CHAR(10)&AE242&AF242,\"\")&IF(AH242>0,CHAR(10)&AG242&AH242,\"\")&IF(AJ242>0,CHAR(10)&AI242&AJ242,\"\")&IF(AL242>0,CHAR(10)&AK242&AL242,\"\")&IF(AN242>0,CHAR(10)&AM242&AN242,\"\")&IF(AP242>0,CHAR(10)&AO242&AP242,\"\")&IF(AR242>0,CHAR(10)&AQ242&AR242,\"\")&IF(AT242>0,CHAR(10)&AS242&AT242,\"\")&IF(AV242>0,CHAR(10)&AU242&AV242,\"\")&IF(AX242>0,CHAR(10)&AW242&AX242,\"\")&IF(AZ242>0,CHAR(10)&AY242&AZ242,\"\")&IF(BB242>0,CHAR(10)&BA242&BB242,\"\")&IF(BD242>0,CHAR(10)&BC242&BD242,\"\")&IF(BF242>0,CHAR(10)&BE242&BF242,\"\")&IF(BH242>0,CHAR(10)&BG242&BH242,\"\")&IF(BJ242>0,CHAR(10)&BI242&BJ242,\"\")&IF(BL242>0,CHAR(10)&BK242&BL242,\"\")&IF(BN242>0,CHAR(10)&BM242&BN242,\"\")&IF(BP242>0,CHAR(10)&BO242&BP242,\"\")&IF(BR242>0,CHAR(10)&BQ242&BR242,\"\")&IF(BT242>0,CHAR(10)&BS242&BT242,\"\")&IF(BV242>0,CHAR(10)&BU242&BV242,\"\")&IF(BX242>0,CHAR(10)&BW242&BX242,\"\")&IF(BZ242>0,CHAR(10)&BY242&BZ242,\"\")&IF(CB242>0,CHAR(10)&CA242&CB242,\"\")&IF(CD242>0,CHAR(10)&CC242&CD242,\"\")&IF(CF242>0,CHAR(10)&CE242&CF242,\"\")","v":"\n: Measurement 1\n: Measurement 2\n: Measurement 3\n: Measurement 4\n: Measurement 5\n: Measurement 6\n: Measurement 7\n: Measurement 8\n: Measurement 9\n: Measurement 10\n: Measurement 11\n: Measurement 12\n: Measurement 13\n: Measurement 14\n: Measurement 15\n: Measurement 16\n: Measurement 17\n: Measurement 18\n: Measurement 19\n: Measurement 20"},null,null,null,null,null,null,null,{"$f":"ROW($L$240)","v":240},{"$f":"INDIRECT(\"'Inspection - Energy and Water'!\"&$M$240&$L242)&\": \"","v":": "},{"$f":"INDIRECT(\"'Inspection - Energy and Water'!\"&$M$240&ROW())","v":0},{"$f":"INDIRECT(\"'Inspection - Energy and Water'!\"&$O$240&$L242)&\": \"","v":": "},{"$f":"INDIRECT(\"'Inspection - Energy and Water'!\"&$O$240&ROW())","v":"Measurement 1"},{"$f":"INDIRECT(\"'Inspection - Energy and Water'!\"&$Q$240&$L242)&\": \"","v":": "},{"$f":"INDIRECT(\"'Inspection - Energy and Water'!\"&$Q$240&ROW())","v":"Measurement 2"},{"$f":"INDIRECT(\"'Inspection - Energy and Water'!\"&$S$240&$L242)&\": \"","v":": "},{"$f":"INDIRECT(\"'Inspection - Energy and Water'!\"&$S$240&ROW())","v":"Measurement 3"},{"$f":"INDIRECT(\"'Inspection - Energy and Water'!\"&$U$240&$L242)&\": \"","v":": "},{"$f":"INDIRECT(\"'Inspection - Energy and Water'!\"&$U$240&ROW())","v":"Measurement 4"},{"$f":"INDIRECT(\"'Inspection - Energy and Water'!\"&$W$240&$L242)&\": \"","v":": "},{"$f":"INDIRECT(\"'Inspection - Energy and Water'!\"&$W$240&ROW())","v":"Measurement 5"},{"$f":"INDIRECT(\"'Inspection - Energy and Water'!\"&$Y$240&$L242)&\": \"","v":": "},{"$f":"INDIRECT(\"'Inspection - Energy and Water'!\"&$Y$240&ROW())","v":"Measurement 6"},{"$f":"INDIRECT(\"'Inspection - Energy and Water'!\"&$AA$240&$L242)&\": \"","v":": "},{"$f":"INDIRECT(\"'Inspection - Energy and Water'!\"&$AA$240&ROW())","v":"Measurement 7"},{"$f":"INDIRECT(\"'Inspection - Energy and Water'!\"&$AC$240&$L242)&\": \"","v":": "},{"$f":"INDIRECT(\"'Inspection - Energy and Water'!\"&$AC$240&ROW())","v":"Measurement 8"},{"$f":"INDIRECT(\"'Inspection - Energy and Water'!\"&$AE$240&$L242)&\": \"","v":": "},{"$f":"INDIRECT(\"'Inspection - Energy and Water'!\"&$AE$240&ROW())","v":"Measurement 9"},{"$f":"INDIRECT(\"'Inspection - Energy and Water'!\"&$AG$240&$L242)&\": \"","v":": "},{"$f":"INDIRECT(\"'Inspection - Energy and Water'!\"&$AG$240&ROW())","v":"Measurement 10"},{"$f":"INDIRECT(\"'Inspection - Energy and Water'!\"&$AI$240&$L242)&\": \"","v":": "},{"$f":"INDIRECT(\"'Inspection - Energy and Water'!\"&$AI$240&ROW())","v":"Measurement 11"},{"$f":"INDIRECT(\"'Inspection - Energy and Water'!\"&$AK$240&$L242)&\": \"","v":": "},{"$f":"INDIRECT(\"'Inspection - Energy and Water'!\"&$AK$240&ROW())","v":"Measurement 12"},{"$f":"INDIRECT(\"'Inspection - Energy and Water'!\"&$AM$240&$L242)&\": \"","v":": "},{"$f":"INDIRECT(\"'Inspection - Energy and Water'!\"&$AM$240&ROW())","v":"Measurement 13"},{"$f":"INDIRECT(\"'Inspection - Energy and Water'!\"&$AO$240&$L242)&\": \"","v":": "},{"$f":"INDIRECT(\"'Inspection - Energy and Water'!\"&$AO$240&ROW())","v":"Measurement 14"},{"$f":"INDIRECT(\"'Inspection - Energy and Water'!\"&$AQ$240&$L242)&\": \"","v":": "},{"$f":"INDIRECT(\"'Inspection - Energy and Water'!\"&$AQ$240&ROW())","v":"Measurement 15"},{"$f":"INDIRECT(\"'Inspection - Energy and Water'!\"&$AS$240&$L242)&\": \"","v":": "},{"$f":"INDIRECT(\"'Inspection - Energy and Water'!\"&$AS$240&ROW())","v":"Measurement 16"},{"$f":"INDIRECT(\"'Inspection - Energy and Water'!\"&$AU$240&$L242)&\": \"","v":": "},{"$f":"INDIRECT(\"'Inspection - Energy and Water'!\"&$AU$240&ROW())","v":"Measurement 17"},{"$f":"INDIRECT(\"'Inspection - Energy and Water'!\"&$AW$240&$L242)&\": \"","v":": "},{"$f":"INDIRECT(\"'Inspection - Energy and Water'!\"&$AW$240&ROW())","v":"Measurement 18"},{"$f":"INDIRECT(\"'Inspection - Energy and Water'!\"&$AY$240&$L242)&\": \"","v":": "},{"$f":"INDIRECT(\"'Inspection - Energy and Water'!\"&$AY$240&ROW())","v":"Measurement 19"},{"$f":"INDIRECT(\"'Inspection - Energy and Water'!\"&$BA$240&$L242)&\": \"","v":": "},{"$f":"INDIRECT(\"'Inspection - Energy and Water'!\"&$BA$240&ROW())","v":"Measurement 20"}]
[null,null,"Relative Humidity",{"$f":"IF(N243>0,M243&N243,\"\")&IF(P243>0,CHAR(10)&O243&P243,\"\")&IF(R243>0,CHAR(10)&Q243&R243,\"\")&IF(T243>0,CHAR(10)&S243&T243,\"\")&IF(V243>0,CHAR(10)&U243&V243,\"\")&IF(X243>0,CHAR(10)&W243&X243,\"\")&IF(Z243>0,CHAR(10)&Y243&Z243,\"\")&IF(AB243>0,CHAR(10)&AA243&AB243,\"\")&IF(AD243>0,CHAR(10)&AC243&AD243,\"\")&IF(AF243>0,CHAR(10)&AE243&AF243,\"\")&IF(AH243>0,CHAR(10)&AG243&AH243,\"\")&IF(AJ243>0,CHAR(10)&AI243&AJ243,\"\")&IF(AL243>0,CHAR(10)&AK243&AL243,\"\")&IF(AN243>0,CHAR(10)&AM243&AN243,\"\")&IF(AP243>0,CHAR(10)&AO243&AP243,\"\")&IF(AR243>0,CHAR(10)&AQ243&AR243,\"\")&IF(AT243>0,CHAR(10)&AS243&AT243,\"\")&IF(AV243>0,CHAR(10)&AU243&AV243,\"\")&IF(AX243>0,CHAR(10)&AW243&AX243,\"\")&IF(AZ243>0,CHAR(10)&AY243&AZ243,\"\")&IF(BB243>0,CHAR(10)&BA243&BB243,\"\")&IF(BD243>0,CHAR(10)&BC243&BD243,\"\")&IF(BF243>0,CHAR(10)&BE243&BF243,\"\")&IF(BH243>0,CHAR(10)&BG243&BH243,\"\")&IF(BJ243>0,CHAR(10)&BI243&BJ243,\"\")&IF(BL243>0,CHAR(10)&BK243&BL243,\"\")&IF(BN243>0,CHAR(10)&BM243&BN243,\"\")&IF(BP243>0,CHAR(10)&BO243&BP243,\"\")&IF(BR243>0,CHAR(10)&BQ243&BR243,\"\")&IF(BT243>0,CHAR(10)&BS243&BT243,\"\")&IF(BV243>0,CHAR(10)&BU243&BV243,\"\")&IF(BX243>0,CHAR(10)&BW243&BX243,\"\")&IF(BZ243>0,CHAR(10)&BY243&BZ243,\"\")&IF(CB243>0,CHAR(10)&CA243&CB243,\"\")&IF(CD243>0,CHAR(10)&CC243&CD243,\"\")&IF(CF243>0,CHAR(10)&CE243&CF243,\"\")","v":""},null,null,null,null,null,null,null,{"$f":"ROW($L$240)","v":240},{"$f":"INDIRECT(\"'Inspection - Energy and Water'!\"&$M$240&$L243)&\": \"","v":": "},{"$f":"INDIRECT(\"'Inspection - Energy and Water'!\"&$M$240&ROW())","v":0},{"$f":"INDIRECT(\"'Inspection - Energy and Water'!\"&$O$240&$L243)&\": \"","v":": "},{"$f":"INDIRECT(\"'Inspection - Energy and Water'!\"&$O$240&ROW())","v":0},{"$f":"INDIRECT(\"'Inspection - Energy and Water'!\"&$Q$240&$L243)&\": \"","v":": "},{"$f":"INDIRECT(\"'Inspection - Energy and Water'!\"&$Q$240&ROW())","v":0},{"$f":"INDIRECT(\"'Inspection - Energy and Water'!\"&$S$240&$L243)&\": \"","v":": "},{"$f":"INDIRECT(\"'Inspection - Energy and Water'!\"&$S$240&ROW())","v":0},{"$f":"INDIRECT(\"'Inspection - Energy and Water'!\"&$U$240&$L243)&\": \"","v":": "},{"$f":"INDIRECT(\"'Inspection - Energy and Water'!\"&$U$240&ROW())","v":0},{"$f":"INDIRECT(\"'Inspection - Energy and Water'!\"&$W$240&$L243)&\": \"","v":": "},{"$f":"INDIRECT(\"'Inspection - Energy and Water'!\"&$W$240&ROW())","v":0},{"$f":"INDIRECT(\"'Inspection - Energy and Water'!\"&$Y$240&$L243)&\": \"","v":": "},{"$f":"INDIRECT(\"'Inspection - Energy and Water'!\"&$Y$240&ROW())","v":0},{"$f":"INDIRECT(\"'Inspection - Energy and Water'!\"&$AA$240&$L243)&\": \"","v":": "},{"$f":"INDIRECT(\"'Inspection - Energy and Water'!\"&$AA$240&ROW())","v":0},{"$f":"INDIRECT(\"'Inspection - Energy and Water'!\"&$AC$240&$L243)&\": \"","v":": "},{"$f":"INDIRECT(\"'Inspection - Energy and Water'!\"&$AC$240&ROW())","v":0},{"$f":"INDIRECT(\"'Inspection - Energy and Water'!\"&$AE$240&$L243)&\": \"","v":": "},{"$f":"INDIRECT(\"'Inspection - Energy and Water'!\"&$AE$240&ROW())","v":0},{"$f":"INDIRECT(\"'Inspection - Energy and Water'!\"&$AG$240&$L243)&\": \"","v":": "},{"$f":"INDIRECT(\"'Inspection - Energy and Water'!\"&$AG$240&ROW())","v":0},{"$f":"INDIRECT(\"'Inspection - Energy and Water'!\"&$AI$240&$L243)&\": \"","v":": "},{"$f":"INDIRECT(\"'Inspection - Energy and Water'!\"&$AI$240&ROW())","v":0},{"$f":"INDIRECT(\"'Inspection - Energy and Water'!\"&$AK$240&$L243)&\": \"","v":": "},{"$f":"INDIRECT(\"'Inspection - Energy and Water'!\"&$AK$240&ROW())","v":0},{"$f":"INDIRECT(\"'Inspection - Energy and Water'!\"&$AM$240&$L243)&\": \"","v":": "},{"$f":"INDIRECT(\"'Inspection - Energy and Water'!\"&$AM$240&ROW())","v":0},{"$f":"INDIRECT(\"'Inspection - Energy and Water'!\"&$AO$240&$L243)&\": \"","v":": "},{"$f":"INDIRECT(\"'Inspection - Energy and Water'!\"&$AO$240&ROW())","v":0},{"$f":"INDIRECT(\"'Inspection - Energy and Water'!\"&$AQ$240&$L243)&\": \"","v":": "},{"$f":"INDIRECT(\"'Inspection - Energy and Water'!\"&$AQ$240&ROW())","v":0},{"$f":"INDIRECT(\"'Inspection - Energy and Water'!\"&$AS$240&$L243)&\": \"","v":": "},{"$f":"INDIRECT(\"'Inspection - Energy and Water'!\"&$AS$240&ROW())","v":0},{"$f":"INDIRECT(\"'Inspection - Energy and Water'!\"&$AU$240&$L243)&\": \"","v":": "},{"$f":"INDIRECT(\"'Inspection - Energy and Water'!\"&$AU$240&ROW())","v":0},{"$f":"INDIRECT(\"'Inspection - Energy and Water'!\"&$AW$240&$L243)&\": \"","v":": "},{"$f":"INDIRECT(\"'Inspection - Energy and Water'!\"&$AW$240&ROW())","v":0},{"$f":"INDIRECT(\"'Inspection - Energy and Water'!\"&$AY$240&$L243)&\": \"","v":": "},{"$f":"INDIRECT(\"'Inspection - Energy and Water'!\"&$AY$240&ROW())","v":0},{"$f":"INDIRECT(\"'Inspection - Energy and Water'!\"&$BA$240&$L243)&\": \"","v":": "},{"$f":"INDIRECT(\"'Inspection - Energy and Water'!\"&$BA$240&ROW())","v":0}]
[null,null,"Note standing water, water damage, mold, etc.",{"$f":"IF(N244>0,M244&N244,\"\")&IF(P244>0,CHAR(10)&O244&P244,\"\")&IF(R244>0,CHAR(10)&Q244&R244,\"\")&IF(T244>0,CHAR(10)&S244&T244,\"\")&IF(V244>0,CHAR(10)&U244&V244,\"\")&IF(X244>0,CHAR(10)&W244&X244,\"\")&IF(Z244>0,CHAR(10)&Y244&Z244,\"\")&IF(AB244>0,CHAR(10)&AA244&AB244,\"\")&IF(AD244>0,CHAR(10)&AC244&AD244,\"\")&IF(AF244>0,CHAR(10)&AE244&AF244,\"\")&IF(AH244>0,CHAR(10)&AG244&AH244,\"\")&IF(AJ244>0,CHAR(10)&AI244&AJ244,\"\")&IF(AL244>0,CHAR(10)&AK244&AL244,\"\")&IF(AN244>0,CHAR(10)&AM244&AN244,\"\")&IF(AP244>0,CHAR(10)&AO244&AP244,\"\")&IF(AR244>0,CHAR(10)&AQ244&AR244,\"\")&IF(AT244>0,CHAR(10)&AS244&AT244,\"\")&IF(AV244>0,CHAR(10)&AU244&AV244,\"\")&IF(AX244>0,CHAR(10)&AW244&AX244,\"\")&IF(AZ244>0,CHAR(10)&AY244&AZ244,\"\")&IF(BB244>0,CHAR(10)&BA244&BB244,\"\")&IF(BD244>0,CHAR(10)&BC244&BD244,\"\")&IF(BF244>0,CHAR(10)&BE244&BF244,\"\")&IF(BH244>0,CHAR(10)&BG244&BH244,\"\")&IF(BJ244>0,CHAR(10)&BI244&BJ244,\"\")&IF(BL244>0,CHAR(10)&BK244&BL244,\"\")&IF(BN244>0,CHAR(10)&BM244&BN244,\"\")&IF(BP244>0,CHAR(10)&BO244&BP244,\"\")&IF(BR244>0,CHAR(10)&BQ244&BR244,\"\")&IF(BT244>0,CHAR(10)&BS244&BT244,\"\")&IF(BV244>0,CHAR(10)&BU244&BV244,\"\")&IF(BX244>0,CHAR(10)&BW244&BX244,\"\")&IF(BZ244>0,CHAR(10)&BY244&BZ244,\"\")&IF(CB244>0,CHAR(10)&CA244&CB244,\"\")&IF(CD244>0,CHAR(10)&CC244&CD244,\"\")&IF(CF244>0,CHAR(10)&CE244&CF244,\"\")","v":""},null,null,null,null,null,null,null,{"$f":"ROW($L$240)","v":240},{"$f":"INDIRECT(\"'Inspection - Energy and Water'!\"&$M$240&$L244)&\": \"","v":": "},{"$f":"INDIRECT(\"'Inspection - Energy and Water'!\"&$M$240&ROW())","v":0},{"$f":"INDIRECT(\"'Inspection - Energy and Water'!\"&$O$240&$L244)&\": \"","v":": "},{"$f":"INDIRECT(\"'Inspection - Energy and Water'!\"&$O$240&ROW())","v":0},{"$f":"INDIRECT(\"'Inspection - Energy and Water'!\"&$Q$240&$L244)&\": \"","v":": "},{"$f":"INDIRECT(\"'Inspection - Energy and Water'!\"&$Q$240&ROW())","v":0},{"$f":"INDIRECT(\"'Inspection - Energy and Water'!\"&$S$240&$L244)&\": \"","v":": "},{"$f":"INDIRECT(\"'Inspection - Energy and Water'!\"&$S$240&ROW())","v":0},{"$f":"INDIRECT(\"'Inspection - Energy and Water'!\"&$U$240&$L244)&\": \"","v":": "},{"$f":"INDIRECT(\"'Inspection - Energy and Water'!\"&$U$240&ROW())","v":0},{"$f":"INDIRECT(\"'Inspection - Energy and Water'!\"&$W$240&$L244)&\": \"","v":": "},{"$f":"INDIRECT(\"'Inspection - Energy and Water'!\"&$W$240&ROW())","v":0},{"$f":"INDIRECT(\"'Inspection - Energy and Water'!\"&$Y$240&$L244)&\": \"","v":": "},{"$f":"INDIRECT(\"'Inspection - Energy and Water'!\"&$Y$240&ROW())","v":0},{"$f":"INDIRECT(\"'Inspection - Energy and Water'!\"&$AA$240&$L244)&\": \"","v":": "},{"$f":"INDIRECT(\"'Inspection - Energy and Water'!\"&$AA$240&ROW())","v":0},{"$f":"INDIRECT(\"'Inspection - Energy and Water'!\"&$AC$240&$L244)&\": \"","v":": "},{"$f":"INDIRECT(\"'Inspection - Energy and Water'!\"&$AC$240&ROW())","v":0},{"$f":"INDIRECT(\"'Inspection - Energy and Water'!\"&$AE$240&$L244)&\": \"","v":": "},{"$f":"INDIRECT(\"'Inspection - Energy and Water'!\"&$AE$240&ROW())","v":0},{"$f":"INDIRECT(\"'Inspection - Energy and Water'!\"&$AG$240&$L244)&\": \"","v":": "},{"$f":"INDIRECT(\"'Inspection - Energy and Water'!\"&$AG$240&ROW())","v":0},{"$f":"INDIRECT(\"'Inspection - Energy and Water'!\"&$AI$240&$L244)&\": \"","v":": "},{"$f":"INDIRECT(\"'Inspection - Energy and Water'!\"&$AI$240&ROW())","v":0},{"$f":"INDIRECT(\"'Inspection - Energy and Water'!\"&$AK$240&$L244)&\": \"","v":": "},{"$f":"INDIRECT(\"'Inspection - Energy and Water'!\"&$AK$240&ROW())","v":0},{"$f":"INDIRECT(\"'Inspection - Energy and Water'!\"&$AM$240&$L244)&\": \"","v":": "},{"$f":"INDIRECT(\"'Inspection - Energy and Water'!\"&$AM$240&ROW())","v":0},{"$f":"INDIRECT(\"'Inspection - Energy and Water'!\"&$AO$240&$L244)&\": \"","v":": "},{"$f":"INDIRECT(\"'Inspection - Energy and Water'!\"&$AO$240&ROW())","v":0},{"$f":"INDIRECT(\"'Inspection - Energy and Water'!\"&$AQ$240&$L244)&\": \"","v":": "},{"$f":"INDIRECT(\"'Inspection - Energy and Water'!\"&$AQ$240&ROW())","v":0},{"$f":"INDIRECT(\"'Inspection - Energy and Water'!\"&$AS$240&$L244)&\": \"","v":": "},{"$f":"INDIRECT(\"'Inspection - Energy and Water'!\"&$AS$240&ROW())","v":0},{"$f":"INDIRECT(\"'Inspection - Energy and Water'!\"&$AU$240&$L244)&\": \"","v":": "},{"$f":"INDIRECT(\"'Inspection - Energy and Water'!\"&$AU$240&ROW())","v":0},{"$f":"INDIRECT(\"'Inspection - Energy and Water'!\"&$AW$240&$L244)&\": \"","v":": "},{"$f":"INDIRECT(\"'Inspection - Energy and Water'!\"&$AW$240&ROW())","v":0},{"$f":"INDIRECT(\"'Inspection - Energy and Water'!\"&$AY$240&$L244)&\": \"","v":": "},{"$f":"INDIRECT(\"'Inspection - Energy and Water'!\"&$AY$240&ROW())","v":0},{"$f":"INDIRECT(\"'Inspection - Energy and Water'!\"&$BA$240&$L244)&\": \"","v":": "},{"$f":"INDIRECT(\"'Inspection - Energy and Water'!\"&$BA$240&ROW())","v":0}]
[null,null,"Interior Temperatures",null,null,null,null,null,null,null,null,"Row Header"]
[null,null,"Location / Apartment Number",{"$f":"IF(N246>0,M246&N246,\"\")&IF(P246>0,CHAR(10)&O246&P246,\"\")&IF(R246>0,CHAR(10)&Q246&R246,\"\")&IF(T246>0,CHAR(10)&S246&T246,\"\")&IF(V246>0,CHAR(10)&U246&V246,\"\")&IF(X246>0,CHAR(10)&W246&X246,\"\")&IF(Z246>0,CHAR(10)&Y246&Z246,\"\")&IF(AB246>0,CHAR(10)&AA246&AB246,\"\")&IF(AD246>0,CHAR(10)&AC246&AD246,\"\")&IF(AF246>0,CHAR(10)&AE246&AF246,\"\")&IF(AH246>0,CHAR(10)&AG246&AH246,\"\")&IF(AJ246>0,CHAR(10)&AI246&AJ246,\"\")&IF(AL246>0,CHAR(10)&AK246&AL246,\"\")&IF(AN246>0,CHAR(10)&AM246&AN246,\"\")&IF(AP246>0,CHAR(10)&AO246&AP246,\"\")&IF(AR246>0,CHAR(10)&AQ246&AR246,\"\")&IF(AT246>0,CHAR(10)&AS246&AT246,\"\")&IF(AV246>0,CHAR(10)&AU246&AV246,\"\")&IF(AX246>0,CHAR(10)&AW246&AX246,\"\")&IF(AZ246>0,CHAR(10)&AY246&AZ246,\"\")&IF(BB246>0,CHAR(10)&BA246&BB246,\"\")&IF(BD246>0,CHAR(10)&BC246&BD246,\"\")&IF(BF246>0,CHAR(10)&BE246&BF246,\"\")&IF(BH246>0,CHAR(10)&BG246&BH246,\"\")&IF(BJ246>0,CHAR(10)&BI246&BJ246,\"\")&IF(BL246>0,CHAR(10)&BK246&BL246,\"\")&IF(BN246>0,CHAR(10)&BM246&BN246,\"\")&IF(BP246>0,CHAR(10)&BO246&BP246,\"\")&IF(BR246>0,CHAR(10)&BQ246&BR246,\"\")&IF(BT246>0,CHAR(10)&BS246&BT246,\"\")&IF(BV246>0,CHAR(10)&BU246&BV246,\"\")&IF(BX246>0,CHAR(10)&BW246&BX246,\"\")&IF(BZ246>0,CHAR(10)&BY246&BZ246,\"\")&IF(CB246>0,CHAR(10)&CA246&CB246,\"\")&IF(CD246>0,CHAR(10)&CC246&CD246,\"\")&IF(CF246>0,CHAR(10)&CE246&CF246,\"\")","v":""},null,null,null,null,null,null,null,{"$f":"ROW($L$240)","v":240},{"$f":"INDIRECT(\"'Inspection - Energy and Water'!\"&$M$240&$L246)&\": \"","v":": "},{"$f":"INDIRECT(\"'Inspection - Energy and Water'!\"&$M$240&ROW())","v":0},{"$f":"INDIRECT(\"'Inspection - Energy and Water'!\"&$O$240&$L246)&\": \"","v":": "},{"$f":"INDIRECT(\"'Inspection - Energy and Water'!\"&$O$240&ROW())","v":0},{"$f":"INDIRECT(\"'Inspection - Energy and Water'!\"&$Q$240&$L246)&\": \"","v":": "},{"$f":"INDIRECT(\"'Inspection - Energy and Water'!\"&$Q$240&ROW())","v":0},{"$f":"INDIRECT(\"'Inspection - Energy and Water'!\"&$S$240&$L246)&\": \"","v":": "},{"$f":"INDIRECT(\"'Inspection - Energy and Water'!\"&$S$240&ROW())","v":0},{"$f":"INDIRECT(\"'Inspection - Energy and Water'!\"&$U$240&$L246)&\": \"","v":": "},{"$f":"INDIRECT(\"'Inspection - Energy and Water'!\"&$U$240&ROW())","v":0},{"$f":"INDIRECT(\"'Inspection - Energy and Water'!\"&$W$240&$L246)&\": \"","v":": "},{"$f":"INDIRECT(\"'Inspection - Energy and Water'!\"&$W$240&ROW())","v":0},{"$f":"INDIRECT(\"'Inspection - Energy and Water'!\"&$Y$240&$L246)&\": \"","v":": "},{"$f":"INDIRECT(\"'Inspection - Energy and Water'!\"&$Y$240&ROW())","v":0},{"$f":"INDIRECT(\"'Inspection - Energy and Water'!\"&$AA$240&$L246)&\": \"","v":": "},{"$f":"INDIRECT(\"'Inspection - Energy and Water'!\"&$AA$240&ROW())","v":0},{"$f":"INDIRECT(\"'Inspection - Energy and Water'!\"&$AC$240&$L246)&\": \"","v":": "},{"$f":"INDIRECT(\"'Inspection - Energy and Water'!\"&$AC$240&ROW())","v":0},{"$f":"INDIRECT(\"'Inspection - Energy and Water'!\"&$AE$240&$L246)&\": \"","v":": "},{"$f":"INDIRECT(\"'Inspection - Energy and Water'!\"&$AE$240&ROW())","v":0},{"$f":"INDIRECT(\"'Inspection - Energy and Water'!\"&$AG$240&$L246)&\": \"","v":": "},{"$f":"INDIRECT(\"'Inspection - Energy and Water'!\"&$AG$240&ROW())","v":0},{"$f":"INDIRECT(\"'Inspection - Energy and Water'!\"&$AI$240&$L246)&\": \"","v":": "},{"$f":"INDIRECT(\"'Inspection - Energy and Water'!\"&$AI$240&ROW())","v":0},{"$f":"INDIRECT(\"'Inspection - Energy and Water'!\"&$AK$240&$L246)&\": \"","v":": "},{"$f":"INDIRECT(\"'Inspection - Energy and Water'!\"&$AK$240&ROW())","v":0},{"$f":"INDIRECT(\"'Inspection - Energy and Water'!\"&$AM$240&$L246)&\": \"","v":": "},{"$f":"INDIRECT(\"'Inspection - Energy and Water'!\"&$AM$240&ROW())","v":0},{"$f":"INDIRECT(\"'Inspection - Energy and Water'!\"&$AO$240&$L246)&\": \"","v":": "},{"$f":"INDIRECT(\"'Inspection - Energy and Water'!\"&$AO$240&ROW())","v":0},{"$f":"INDIRECT(\"'Inspection - Energy and Water'!\"&$AQ$240&$L246)&\": \"","v":": "},{"$f":"INDIRECT(\"'Inspection - Energy and Water'!\"&$AQ$240&ROW())","v":0},{"$f":"INDIRECT(\"'Inspection - Energy and Water'!\"&$AS$240&$L246)&\": \"","v":": "},{"$f":"INDIRECT(\"'Inspection - Energy and Water'!\"&$AS$240&ROW())","v":0},{"$f":"INDIRECT(\"'Inspection - Energy and Water'!\"&$AU$240&$L246)&\": \"","v":": "},{"$f":"INDIRECT(\"'Inspection - Energy and Water'!\"&$AU$240&ROW())","v":0},{"$f":"INDIRECT(\"'Inspection - Energy and Water'!\"&$AW$240&$L246)&\": \"","v":": "},{"$f":"INDIRECT(\"'Inspection - Energy and Water'!\"&$AW$240&ROW())","v":0},{"$f":"INDIRECT(\"'Inspection - Energy and Water'!\"&$AY$240&$L246)&\": \"","v":": "},{"$f":"INDIRECT(\"'Inspection - Energy and Water'!\"&$AY$240&ROW())","v":0},{"$f":"INDIRECT(\"'Inspection - Energy and Water'!\"&$BA$240&$L246)&\": \"","v":": "},{"$f":"INDIRECT(\"'Inspection - Energy and Water'!\"&$BA$240&ROW())","v":0}]
[null,null,"Measured Room Temperature ","",null,null,null,null,null,null,null,240,": ",0,": ",0,": ",0,": ",0,": ",0,": ",0,": ",0,": ",0,": ",0,": ",0,": ",0,": ",0,": ",0,": ",0,": ",0,": ",0,": ",0,": ",0,": ",0,": ",0,": ",0]
[null,null,"Overheating Observations","",null,null,null,null,null,null,null,240,": ",0,": ",0,": ",0,": ",0,": ",0,": ",0,": ",0,": ",0,": ",0,": ",0,": ",0,": ",0,": ",0,": ",0,": ",0,": ",0,": ",0,": ",0,": ",0,": ",0,": ",0]
[null,null,"Outdoor Temp. at Time of Measurements","",null,null,null,null,null,null,null,240,": ",0,": ",0,": ",0,": ",0,": ",0,": ",0,": ",0,": ",0,": ",0,": ",0,": ",0,": ",0,": ",0,": ",0,": ",0,": ",0,": ",0,": ",0,": ",0,": ",0,": ",0]
[null,null,"Was heating/cooling system in operation at time of measurements?","",null,null,null,null,null,null,null,240,": ",0,": ",0,": ",0,": ",0,": ",0,": ",0,": ",0,": ",0,": ",0,": ",0,": ",0,": ",0,": ",0,": ",0,": ",0,": ",0,": ",0,": ",0,": ",0,": ",0,": ",0]
[null,null,"Avg. Indoor Temp. in Heating Season","",null,null,null,null,null,null,null,240,": ",0,": ",0,": ",0,": ",0,": ",0,": ",0,": ",0,": ",0,": ",0,": ",0,": ",0,": ",0,": ",0,": ",0,": ",0,": ",0,": ",0,": ",0,": ",0,": ",0,": ",0]
[null,null,"DHW Temperatures/ Fixture Flow Rates",null,null,null,null,null,null,null,null,"Row Header","D",null,"E",null,"F",null,"G",null,"H",null,"I",null,"J",null,"K",null,"L",null,"M",null,"N",null,"O",null,"P",null,"Q",null,"R",null,"S",null,"T",null,"U",null,"V",null,"W",null,"X"]
[null,null,"Location / Apartment Number",{"$f":"IF(N253>0,M253&N253,\"\")&IF(P253>0,CHAR(10)&O253&P253,\"\")&IF(R253>0,CHAR(10)&Q253&R253,\"\")&IF(T253>0,CHAR(10)&S253&T253,\"\")&IF(V253>0,CHAR(10)&U253&V253,\"\")&IF(X253>0,CHAR(10)&W253&X253,\"\")&IF(Z253>0,CHAR(10)&Y253&Z253,\"\")&IF(AB253>0,CHAR(10)&AA253&AB253,\"\")&IF(AD253>0,CHAR(10)&AC253&AD253,\"\")&IF(AF253>0,CHAR(10)&AE253&AF253,\"\")&IF(AH253>0,CHAR(10)&AG253&AH253,\"\")&IF(AJ253>0,CHAR(10)&AI253&AJ253,\"\")&IF(AL253>0,CHAR(10)&AK253&AL253,\"\")&IF(AN253>0,CHAR(10)&AM253&AN253,\"\")&IF(AP253>0,CHAR(10)&AO253&AP253,\"\")&IF(AR253>0,CHAR(10)&AQ253&AR253,\"\")&IF(AT253>0,CHAR(10)&AS253&AT253,\"\")&IF(AV253>0,CHAR(10)&AU253&AV253,\"\")&IF(AX253>0,CHAR(10)&AW253&AX253,\"\")&IF(AZ253>0,CHAR(10)&AY253&AZ253,\"\")&IF(BB253>0,CHAR(10)&BA253&BB253,\"\")&IF(BD253>0,CHAR(10)&BC253&BD253,\"\")&IF(BF253>0,CHAR(10)&BE253&BF253,\"\")&IF(BH253>0,CHAR(10)&BG253&BH253,\"\")&IF(BJ253>0,CHAR(10)&BI253&BJ253,\"\")&IF(BL253>0,CHAR(10)&BK253&BL253,\"\")&IF(BN253>0,CHAR(10)&BM253&BN253,\"\")&IF(BP253>0,CHAR(10)&BO253&BP253,\"\")&IF(BR253>0,CHAR(10)&BQ253&BR253,\"\")&IF(BT253>0,CHAR(10)&BS253&BT253,\"\")&IF(BV253>0,CHAR(10)&BU253&BV253,\"\")&IF(BX253>0,CHAR(10)&BW253&BX253,\"\")&IF(BZ253>0,CHAR(10)&BY253&BZ253,\"\")&IF(CB253>0,CHAR(10)&CA253&CB253,\"\")&IF(CD253>0,CHAR(10)&CC253&CD253,\"\")&IF(CF253>0,CHAR(10)&CE253&CF253,\"\")","v":""},null,null,null,null,null,null,null,{"$f":"ROW($L$252)","v":252},{"$f":"INDIRECT(\"'Inspection - Energy and Water'!\"&$M$252&$L253)&\": \"","v":": "},{"$f":"INDIRECT(\"'Inspection - Energy and Water'!\"&$M$252&ROW())","v":0},{"$f":"INDIRECT(\"'Inspection - Energy and Water'!\"&$O$252&$L253)&\": \"","v":": "},{"$f":"INDIRECT(\"'Inspection - Energy and Water'!\"&$O$252&ROW())","v":0},{"$f":"INDIRECT(\"'Inspection - Energy and Water'!\"&$Q$252&$L253)&\": \"","v":": "},{"$f":"INDIRECT(\"'Inspection - Energy and Water'!\"&$Q$252&ROW())","v":0},{"$f":"INDIRECT(\"'Inspection - Energy and Water'!\"&$S$252&$L253)&\": \"","v":": "},{"$f":"INDIRECT(\"'Inspection - Energy and Water'!\"&$S$252&ROW())","v":0},{"$f":"INDIRECT(\"'Inspection - Energy and Water'!\"&$U$252&$L253)&\": \"","v":": "},{"$f":"INDIRECT(\"'Inspection - Energy and Water'!\"&$U$252&ROW())","v":0},{"$f":"INDIRECT(\"'Inspection - Energy and Water'!\"&$W$252&$L253)&\": \"","v":": "},{"$f":"INDIRECT(\"'Inspection - Energy and Water'!\"&$W$252&ROW())","v":0},{"$f":"INDIRECT(\"'Inspection - Energy and Water'!\"&$Y$252&$L253)&\": \"","v":": "},{"$f":"INDIRECT(\"'Inspection - Energy and Water'!\"&$Y$252&ROW())","v":0},{"$f":"INDIRECT(\"'Inspection - Energy and Water'!\"&$AA$252&$L253)&\": \"","v":": "},{"$f":"INDIRECT(\"'Inspection - Energy and Water'!\"&$AA$252&ROW())","v":0},{"$f":"INDIRECT(\"'Inspection - Energy and Water'!\"&$AC$252&$L253)&\": \"","v":": "},{"$f":"INDIRECT(\"'Inspection - Energy and Water'!\"&$AC$252&ROW())","v":0},{"$f":"INDIRECT(\"'Inspection - Energy and Water'!\"&$AE$252&$L253)&\": \"","v":": "},{"$f":"INDIRECT(\"'Inspection - Energy and Water'!\"&$AE$252&ROW())","v":0},{"$f":"INDIRECT(\"'Inspection - Energy and Water'!\"&$AG$252&$L253)&\": \"","v":": "},{"$f":"INDIRECT(\"'Inspection - Energy and Water'!\"&$AG$252&ROW())","v":0},{"$f":"INDIRECT(\"'Inspection - Energy and Water'!\"&$AI$252&$L253)&\": \"","v":": "},{"$f":"INDIRECT(\"'Inspection - Energy and Water'!\"&$AI$252&ROW())","v":0},{"$f":"INDIRECT(\"'Inspection - Energy and Water'!\"&$AK$252&$L253)&\": \"","v":": "},{"$f":"INDIRECT(\"'Inspection - Energy and Water'!\"&$AK$252&ROW())","v":0},{"$f":"INDIRECT(\"'Inspection - Energy and Water'!\"&$AM$252&$L253)&\": \"","v":": "},{"$f":"INDIRECT(\"'Inspection - Energy and Water'!\"&$AM$252&ROW())","v":0},{"$f":"INDIRECT(\"'Inspection - Energy and Water'!\"&$AO$252&$L253)&\": \"","v":": "},{"$f":"INDIRECT(\"'Inspection - Energy and Water'!\"&$AO$252&ROW())","v":0},{"$f":"INDIRECT(\"'Inspection - Energy and Water'!\"&$AQ$252&$L253)&\": \"","v":": "},{"$f":"INDIRECT(\"'Inspection - Energy and Water'!\"&$AQ$252&ROW())","v":0},{"$f":"INDIRECT(\"'Inspection - Energy and Water'!\"&$AS$252&$L253)&\": \"","v":": "},{"$f":"INDIRECT(\"'Inspection - Energy and Water'!\"&$AS$252&ROW())","v":0},{"$f":"INDIRECT(\"'Inspection - Energy and Water'!\"&$AU$252&$L253)&\": \"","v":": "},{"$f":"INDIRECT(\"'Inspection - Energy and Water'!\"&$AU$252&ROW())","v":0},{"$f":"INDIRECT(\"'Inspection - Energy and Water'!\"&$AW$252&$L253)&\": \"","v":": "},{"$f":"INDIRECT(\"'Inspection - Energy and Water'!\"&$AW$252&ROW())","v":0},{"$f":"INDIRECT(\"'Inspection - Energy and Water'!\"&$AY$252&$L253)&\": \"","v":": "},{"$f":"INDIRECT(\"'Inspection - Energy and Water'!\"&$AY$252&ROW())","v":0},{"$f":"INDIRECT(\"'Inspection - Energy and Water'!\"&$BA$252&$L253)&\": \"","v":": "},{"$f":"INDIRECT(\"'Inspection - Energy and Water'!\"&$BA$252&ROW())","v":0}]
[null,null,"Measured Tap Temperature ",": Measurement 1\n: Measurement 2\n: Measurement 3\n: Measurement 4\n: Measurement 5\n: Measurement 6\n: Measurement 7\n: Measurement 8\n: Measurement 9\n: Measurement 10\n: Measurement 11\n: Measurement 12\n: Measurement 13\n: Measurement 14\n: Measurement 15\n: Measurement 16\n: Measurement 17\n: Measurement 18\n: Measurement 19\n: Measurement 20",null,null,null,null,null,null,null,{"$f":"ROW($L$252)","v":252},{"$f":"INDIRECT(\"'Inspection - Energy and Water'!\"&$M$252&$L254)&\": \"","v":": "},{"$f":"INDIRECT(\"'Inspection - Energy and Water'!\"&$M$252&ROW())","v":"Measurement 1"},{"$f":"INDIRECT(\"'Inspection - Energy and Water'!\"&$O$252&$L254)&\": \"","v":": "},{"$f":"INDIRECT(\"'Inspection - Energy and Water'!\"&$O$252&ROW())","v":"Measurement 2"},{"$f":"INDIRECT(\"'Inspection - Energy and Water'!\"&$Q$252&$L254)&\": \"","v":": "},{"$f":"INDIRECT(\"'Inspection - Energy and Water'!\"&$Q$252&ROW())","v":"Measurement 3"},{"$f":"INDIRECT(\"'Inspection - Energy and Water'!\"&$S$252&$L254)&\": \"","v":": "},{"$f":"INDIRECT(\"'Inspection - Energy and Water'!\"&$S$252&ROW())","v":"Measurement 4"},{"$f":"INDIRECT(\"'Inspection - Energy and Water'!\"&$U$252&$L254)&\": \"","v":": "},{"$f":"INDIRECT(\"'Inspection - Energy and Water'!\"&$U$252&ROW())","v":"Measurement 5"},{"$f":"INDIRECT(\"'Inspection - Energy and Water'!\"&$W$252&$L254)&\": \"","v":": "},{"$f":"INDIRECT(\"'Inspection - Energy and Water'!\"&$W$252&ROW())","v":"Measurement 6"},{"$f":"INDIRECT(\"'Inspection - Energy and Water'!\"&$Y$252&$L254)&\": \"","v":": "},{"$f":"INDIRECT(\"'Inspection - Energy and Water'!\"&$Y$252&ROW())","v":"Measurement 7"},{"$f":"INDIRECT(\"'Inspection - Energy and Water'!\"&$AA$252&$L254)&\": \"","v":": "},{"$f":"INDIRECT(\"'Inspection - Energy and Water'!\"&$AA$252&ROW())","v":"Measurement 8"},{"$f":"INDIRECT(\"'Inspection - Energy and Water'!\"&$AC$252&$L254)&\": \"","v":": "},{"$f":"INDIRECT(\"'Inspection - Energy and Water'!\"&$AC$252&ROW())","v":"Measurement 9"},{"$f":"INDIRECT(\"'Inspection - Energy and Water'!\"&$AE$252&$L254)&\": \"","v":": "},{"$f":"INDIRECT(\"'Inspection - Energy and Water'!\"&$AE$252&ROW())","v":"Measurement 10"},{"$f":"INDIRECT(\"'Inspection - Energy and Water'!\"&$AG$252&$L254)&\": \"","v":": "},{"$f":"INDIRECT(\"'Inspection - Energy and Water'!\"&$AG$252&ROW())","v":"Measurement 11"},{"$f":"INDIRECT(\"'Inspection - Energy and Water'!\"&$AI$252&$L254)&\": \"","v":": "},{"$f":"INDIRECT(\"'Inspection - Energy and Water'!\"&$AI$252&ROW())","v":"Measurement 12"},{"$f":"INDIRECT(\"'Inspection - Energy and Water'!\"&$AK$252&$L254)&\": \"","v":": "},{"$f":"INDIRECT(\"'Inspection - Energy and Water'!\"&$AK$252&ROW())","v":"Measurement 13"},{"$f":"INDIRECT(\"'Inspection - Energy and Water'!\"&$AM$252&$L254)&\": \"","v":": "},{"$f":"INDIRECT(\"'Inspection - Energy and Water'!\"&$AM$252&ROW())","v":"Measurement 14"},{"$f":"INDIRECT(\"'Inspection - Energy and Water'!\"&$AO$252&$L254)&\": \"","v":": "},{"$f":"INDIRECT(\"'Inspection - Energy and Water'!\"&$AO$252&ROW())","v":"Measurement 15"},{"$f":"INDIRECT(\"'Inspection - Energy and Water'!\"&$AQ$252&$L254)&\": \"","v":": "},{"$f":"INDIRECT(\"'Inspection - Energy and Water'!\"&$AQ$252&ROW())","v":"Measurement 16"},{"$f":"INDIRECT(\"'Inspection - Energy and Water'!\"&$AS$252&$L254)&\": \"","v":": "},{"$f":"INDIRECT(\"'Inspection - Energy and Water'!\"&$AS$252&ROW())","v":"Measurement 17"},{"$f":"INDIRECT(\"'Inspection - Energy and Water'!\"&$AU$252&$L254)&\": \"","v":": "},{"$f":"INDIRECT(\"'Inspection - Energy and Water'!\"&$AU$252&ROW())","v":"Measurement 18"},{"$f":"INDIRECT(\"'Inspection - Energy and Water'!\"&$AW$252&$L254)&\": \"","v":": "},{"$f":"INDIRECT(\"'Inspection - Energy and Water'!\"&$AW$252&ROW())","v":"Measurement 19"},{"$f":"INDIRECT(\"'Inspection - Energy and Water'!\"&$AY$252&$L254)&\": \"","v":": "},{"$f":"INDIRECT(\"'Inspection - Energy and Water'!\"&$AY$252&ROW())","v":"Measurement 20"},{"$f":"INDIRECT(\"'Inspection - Energy and Water'!\"&$BA$252&$L254)&\": \"","v":": "},{"$f":"INDIRECT(\"'Inspection - Energy and Water'!\"&$BA$252&ROW())","v":0}]
[null,null,"Toilets (rated GPF)","",null,null,null,null,null,null,null,252,": ",0,": ",0,": ",0,": ",0,": ",0,": ",0,": ",0,": ",0,": ",0,": ",0,": ",0,": ",0,": ",0,": ",0,": ",0,": ",0,": ",0,": ",0,": ",0,": ",0,": ",0]
[null,null,"Showerhead Flow Rate (GPM)","",null,null,null,null,null,null,null,252,": ",0,": ",0,": ",0,": ",0,": ",0,": ",0,": ",0,": ",0,": ",0,": ",0,": ",0,": ",0,": ",0,": ",0,": ",0,": ",0,": ",0,": ",0,": ",0,": ",0,": ",0]
[null,null,"Kitchen Faucet Flow Rate (GPM)","",null,null,null,null,null,null,null,252,": ",0,": ",0,": ",0,": ",0,": ",0,": ",0,": ",0,": ",0,": ",0,": ",0,": ",0,": ",0,": ",0,": ",0,": ",0,": ",0,": ",0,": ",0,": ",0,": ",0,": ",0]
[null,null,"Bathroom Faucet Flow Rate (GPM)","",null,null,null,null,null,null,null,252,": ",0,": ",0,": ",0,": ",0,": ",0,": ",0,": ",0,": ",0,": ",0,": ",0,": ",0,": ",0,": ",0,": ",0,": ",0,": ",0,": ",0,": ",0,": ",0,": ",0,": ",0]
[null,null,"Additional Notes","",null,null,null,null,null,null,null,252,": ",0,": ",0,": ",0,": ",0,": ",0,": ",0,": ",0,": ",0,": ",0,": ",0,": ",0,": ",0,": ",0,": ",0,": ",0,": ",0,": ",0,": ",0,": ",0,": ",0,": ",0]
[null,null,"DHW Summary",null,null,null,null,null,null,null,null,"Row Header","D",null,"F",null,"G",null,"H",null,"I"]
[]
[null,null,"Toilets",{"$f":"IF(N262>0,M262&N262,\"\")&IF(P262>0,CHAR(10)&O262&P262,\"\")&IF(R262>0,CHAR(10)&Q262&R262,\"\")&IF(T262>0,CHAR(10)&S262&T262,\"\")&IF(V262>0,CHAR(10)&U262&V262,\"\")&IF(X262>0,CHAR(10)&W262&X262,\"\")&IF(Z262>0,CHAR(10)&Y262&Z262,\"\")&IF(AB262>0,CHAR(10)&AA262&AB262,\"\")&IF(AD262>0,CHAR(10)&AC262&AD262,\"\")&IF(AF262>0,CHAR(10)&AE262&AF262,\"\")&IF(AH262>0,CHAR(10)&AG262&AH262,\"\")&IF(AJ262>0,CHAR(10)&AI262&AJ262,\"\")&IF(AL262>0,CHAR(10)&AK262&AL262,\"\")&IF(AN262>0,CHAR(10)&AM262&AN262,\"\")&IF(AP262>0,CHAR(10)&AO262&AP262,\"\")&IF(AR262>0,CHAR(10)&AQ262&AR262,\"\")&IF(AT262>0,CHAR(10)&AS262&AT262,\"\")&IF(AV262>0,CHAR(10)&AU262&AV262,\"\")&IF(AX262>0,CHAR(10)&AW262&AX262,\"\")&IF(AZ262>0,CHAR(10)&AY262&AZ262,\"\")&IF(BB262>0,CHAR(10)&BA262&BB262,\"\")&IF(BD262>0,CHAR(10)&BC262&BD262,\"\")&IF(BF262>0,CHAR(10)&BE262&BF262,\"\")&IF(BH262>0,CHAR(10)&BG262&BH262,\"\")&IF(BJ262>0,CHAR(10)&BI262&BJ262,\"\")&IF(BL262>0,CHAR(10)&BK262&BL262,\"\")&IF(BN262>0,CHAR(10)&BM262&BN262,\"\")&IF(BP262>0,CHAR(10)&BO262&BP262,\"\")&IF(BR262>0,CHAR(10)&BQ262&BR262,\"\")&IF(BT262>0,CHAR(10)&BS262&BT262,\"\")&IF(BV262>0,CHAR(10)&BU262&BV262,\"\")&IF(BX262>0,CHAR(10)&BW262&BX262,\"\")&IF(BZ262>0,CHAR(10)&BY262&BZ262,\"\")&IF(CB262>0,CHAR(10)&CA262&CB262,\"\")&IF(CD262>0,CHAR(10)&CC262&CD262,\"\")&IF(CF262>0,CHAR(10)&CE262&CF262,\"\")","v":": Number of Fixtures\n: Average Flow (gpf, gpm)\n: Toilets: Average flushes per day\nShower/Faucets: Average minutes per day\n: Savings (gallons/year)"},null,null,null,null,null,null,null,{"$f":"ROW($L$260)","v":260},{"$f":"INDIRECT(\"'Inspection - Energy and Water'!\"&$M$260&$L262)&\": \"","v":": "},{"$f":"INDIRECT(\"'Inspection - Energy and Water'!\"&$M$260&ROW())","v":"Number of Fixtures"},{"$f":"INDIRECT(\"'Inspection - Energy and Water'!\"&$O$260&ROW($O$261))&\": \"","v":": "},{"$f":"INDIRECT(\"'Inspection - Energy and Water'!\"&$O$260&ROW())","v":"Average Flow (gpf, gpm)"},{"$f":"INDIRECT(\"'Inspection - Energy and Water'!\"&$Q$260&ROW($Q$261))&\": \"","v":": "},{"$f":"INDIRECT(\"'Inspection - Energy and Water'!\"&$Q$260&ROW())","v":0},{"$f":"INDIRECT(\"'Inspection - Energy and Water'!\"&$S$260&$L262)&\": \"","v":": "},{"$f":"INDIRECT(\"'Inspection - Energy and Water'!\"&$S$260&ROW())","v":"Toilets: Average flushes per day\nShower/Faucets: Average minutes per day"},{"$f":"INDIRECT(\"'Inspection - Energy and Water'!\"&$U$260&$L262)&\": \"","v":": "},{"$f":"INDIRECT(\"'Inspection - Energy and Water'!\"&$U$260&ROW())","v":"Savings (gallons/year)"}]
[null,null,"Showers",{"$f":"IF(N263>0,M263&N263,\"\")&IF(P263>0,CHAR(10)&O263&P263,\"\")&IF(R263>0,CHAR(10)&Q263&R263,\"\")&IF(T263>0,CHAR(10)&S263&T263,\"\")&IF(V263>0,CHAR(10)&U263&V263,\"\")&IF(X263>0,CHAR(10)&W263&X263,\"\")&IF(Z263>0,CHAR(10)&Y263&Z263,\"\")&IF(AB263>0,CHAR(10)&AA263&AB263,\"\")&IF(AD263>0,CHAR(10)&AC263&AD263,\"\")&IF(AF263>0,CHAR(10)&AE263&AF263,\"\")&IF(AH263>0,CHAR(10)&AG263&AH263,\"\")&IF(AJ263>0,CHAR(10)&AI263&AJ263,\"\")&IF(AL263>0,CHAR(10)&AK263&AL263,\"\")&IF(AN263>0,CHAR(10)&AM263&AN263,\"\")&IF(AP263>0,CHAR(10)&AO263&AP263,\"\")&IF(AR263>0,CHAR(10)&AQ263&AR263,\"\")&IF(AT263>0,CHAR(10)&AS263&AT263,\"\")&IF(AV263>0,CHAR(10)&AU263&AV263,\"\")&IF(AX263>0,CHAR(10)&AW263&AX263,\"\")&IF(AZ263>0,CHAR(10)&AY263&AZ263,\"\")&IF(BB263>0,CHAR(10)&BA263&BB263,\"\")&IF(BD263>0,CHAR(10)&BC263&BD263,\"\")&IF(BF263>0,CHAR(10)&BE263&BF263,\"\")&IF(BH263>0,CHAR(10)&BG263&BH263,\"\")&IF(BJ263>0,CHAR(10)&BI263&BJ263,\"\")&IF(BL263>0,CHAR(10)&BK263&BL263,\"\")&IF(BN263>0,CHAR(10)&BM263&BN263,\"\")&IF(BP263>0,CHAR(10)&BO263&BP263,\"\")&IF(BR263>0,CHAR(10)&BQ263&BR263,\"\")&IF(BT263>0,CHAR(10)&BS263&BT263,\"\")&IF(BV263>0,CHAR(10)&BU263&BV263,\"\")&IF(BX263>0,CHAR(10)&BW263&BX263,\"\")&IF(BZ263>0,CHAR(10)&BY263&BZ263,\"\")&IF(CB263>0,CHAR(10)&CA263&CB263,\"\")&IF(CD263>0,CHAR(10)&CC263&CD263,\"\")&IF(CF263>0,CHAR(10)&CE263&CF263,\"\")","v":"\n: Existing\n: Proposed"},null,null,null,null,null,null,null,{"$f":"ROW($L$260)","v":260},{"$f":"INDIRECT(\"'Inspection - Energy and Water'!\"&$M$260&$L263)&\": \"","v":": "},{"$f":"INDIRECT(\"'Inspection - Energy and Water'!\"&$M$260&ROW())","v":0},{"$f":"INDIRECT(\"'Inspection - Energy and Water'!\"&$O$260&ROW($O$261))&\": \"","v":": "},{"$f":"INDIRECT(\"'Inspection - Energy and Water'!\"&$O$260&ROW())","v":"Existing"},{"$f":"INDIRECT(\"'Inspection - Energy and Water'!\"&$Q$260&ROW($Q$261))&\": \"","v":": "},{"$f":"INDIRECT(\"'Inspection - Energy and Water'!\"&$Q$260&ROW())","v":"Proposed"},{"$f":"INDIRECT(\"'Inspection - Energy and Water'!\"&$S$260&$L263)&\": \"","v":": "},{"$f":"INDIRECT(\"'Inspection - Energy and Water'!\"&$S$260&ROW())","v":0},{"$f":"INDIRECT(\"'Inspection - Energy and Water'!\"&$U$260&$L263)&\": \"","v":": "},{"$f":"INDIRECT(\"'Inspection - Energy and Water'!\"&$U$260&ROW())","v":0}]
[null,null,"Kitchen Faucets",{"$f":"IF(N264>0,M264&N264,\"\")&IF(P264>0,CHAR(10)&O264&P264,\"\")&IF(R264>0,CHAR(10)&Q264&R264,\"\")&IF(T264>0,CHAR(10)&S264&T264,\"\")&IF(V264>0,CHAR(10)&U264&V264,\"\")&IF(X264>0,CHAR(10)&W264&X264,\"\")&IF(Z264>0,CHAR(10)&Y264&Z264,\"\")&IF(AB264>0,CHAR(10)&AA264&AB264,\"\")&IF(AD264>0,CHAR(10)&AC264&AD264,\"\")&IF(AF264>0,CHAR(10)&AE264&AF264,\"\")&IF(AH264>0,CHAR(10)&AG264&AH264,\"\")&IF(AJ264>0,CHAR(10)&AI264&AJ264,\"\")&IF(AL264>0,CHAR(10)&AK264&AL264,\"\")&IF(AN264>0,CHAR(10)&AM264&AN264,\"\")&IF(AP264>0,CHAR(10)&AO264&AP264,\"\")&IF(AR264>0,CHAR(10)&AQ264&AR264,\"\")&IF(AT264>0,CHAR(10)&AS264&AT264,\"\")&IF(AV264>0,CHAR(10)&AU264&AV264,\"\")&IF(AX264>0,CHAR(10)&AW264&AX264,\"\")&IF(AZ264>0,CHAR(10)&AY264&AZ264,\"\")&IF(BB264>0,CHAR(10)&BA264&BB264,\"\")&IF(BD264>0,CHAR(10)&BC264&BD264,\"\")&IF(BF264>0,CHAR(10)&BE264&BF264,\"\")&IF(BH264>0,CHAR(10)&BG264&BH264,\"\")&IF(BJ264>0,CHAR(10)&BI264&BJ264,\"\")&IF(BL264>0,CHAR(10)&BK264&BL264,\"\")&IF(BN264>0,CHAR(10)&BM264&BN264,\"\")&IF(BP264>0,CHAR(10)&BO264&BP264,\"\")&IF(BR264>0,CHAR(10)&BQ264&BR264,\"\")&IF(BT264>0,CHAR(10)&BS264&BT264,\"\")&IF(BV264>0,CHAR(10)&BU264&BV264,\"\")&IF(BX264>0,CHAR(10)&BW264&BX264,\"\")&IF(BZ264>0,CHAR(10)&BY264&BZ264,\"\")&IF(CB264>0,CHAR(10)&CA264&CB264,\"\")&IF(CD264>0,CHAR(10)&CC264&CD264,\"\")&IF(CF264>0,CHAR(10)&CE264&CF264,\"\")","v":"\n: 2"},null,null,null,null,null,null,null,{"$f":"ROW($L$260)","v":260},{"$f":"INDIRECT(\"'Inspection - Energy and Water'!\"&$M$260&$L264)&\": \"","v":": "},{"$f":"INDIRECT(\"'Inspection - Energy and Water'!\"&$M$260&ROW())","v":0},{"$f":"INDIRECT(\"'Inspection - Energy and Water'!\"&$O$260&ROW($O$261))&\": \"","v":": "},{"$f":"INDIRECT(\"'Inspection - Energy and Water'!\"&$O$260&ROW())","v":0},{"$f":"INDIRECT(\"'Inspection - Energy and Water'!\"&$Q$260&ROW($Q$261))&\": \"","v":": "},{"$f":"INDIRECT(\"'Inspection - Energy and Water'!\"&$Q$260&ROW())","v":0},{"$f":"INDIRECT(\"'Inspection - Energy and Water'!\"&$S$260&$L264)&\": \"","v":": "},{"$f":"INDIRECT(\"'Inspection - Energy and Water'!\"&$S$260&ROW())","v":2},{"$f":"INDIRECT(\"'Inspection - Energy and Water'!\"&$U$260&$L264)&\": \"","v":": "},{"$f":"INDIRECT(\"'Inspection - Energy and Water'!\"&$U$260&ROW())","v":0}]
[null,null,"Bathroom Faucets",{"$f":"IF(N265>0,M265&N265,\"\")&IF(P265>0,CHAR(10)&O265&P265,\"\")&IF(R265>0,CHAR(10)&Q265&R265,\"\")&IF(T265>0,CHAR(10)&S265&T265,\"\")&IF(V265>0,CHAR(10)&U265&V265,\"\")&IF(X265>0,CHAR(10)&W265&X265,\"\")&IF(Z265>0,CHAR(10)&Y265&Z265,\"\")&IF(AB265>0,CHAR(10)&AA265&AB265,\"\")&IF(AD265>0,CHAR(10)&AC265&AD265,\"\")&IF(AF265>0,CHAR(10)&AE265&AF265,\"\")&IF(AH265>0,CHAR(10)&AG265&AH265,\"\")&IF(AJ265>0,CHAR(10)&AI265&AJ265,\"\")&IF(AL265>0,CHAR(10)&AK265&AL265,\"\")&IF(AN265>0,CHAR(10)&AM265&AN265,\"\")&IF(AP265>0,CHAR(10)&AO265&AP265,\"\")&IF(AR265>0,CHAR(10)&AQ265&AR265,\"\")&IF(AT265>0,CHAR(10)&AS265&AT265,\"\")&IF(AV265>0,CHAR(10)&AU265&AV265,\"\")&IF(AX265>0,CHAR(10)&AW265&AX265,\"\")&IF(AZ265>0,CHAR(10)&AY265&AZ265,\"\")&IF(BB265>0,CHAR(10)&BA265&BB265,\"\")&IF(BD265>0,CHAR(10)&BC265&BD265,\"\")&IF(BF265>0,CHAR(10)&BE265&BF265,\"\")&IF(BH265>0,CHAR(10)&BG265&BH265,\"\")&IF(BJ265>0,CHAR(10)&BI265&BJ265,\"\")&IF(BL265>0,CHAR(10)&BK265&BL265,\"\")&IF(BN265>0,CHAR(10)&BM265&BN265,\"\")&IF(BP265>0,CHAR(10)&BO265&BP265,\"\")&IF(BR265>0,CHAR(10)&BQ265&BR265,\"\")&IF(BT265>0,CHAR(10)&BS265&BT265,\"\")&IF(BV265>0,CHAR(10)&BU265&BV265,\"\")&IF(BX265>0,CHAR(10)&BW265&BX265,\"\")&IF(BZ265>0,CHAR(10)&BY265&BZ265,\"\")&IF(CB265>0,CHAR(10)&CA265&CB265,\"\")&IF(CD265>0,CHAR(10)&CC265&CD265,\"\")&IF(CF265>0,CHAR(10)&CE265&CF265,\"\")","v":"\n: 2"},null,null,null,null,null,null,null,{"$f":"ROW($L$260)","v":260},{"$f":"INDIRECT(\"'Inspection - Energy and Water'!\"&$M$260&$L265)&\": \"","v":": "},{"$f":"INDIRECT(\"'Inspection - Energy and Water'!\"&$M$260&ROW())","v":0},{"$f":"INDIRECT(\"'Inspection - Energy and Water'!\"&$O$260&ROW($O$261))&\": \"","v":": "},{"$f":"INDIRECT(\"'Inspection - Energy and Water'!\"&$O$260&ROW())","v":0},{"$f":"INDIRECT(\"'Inspection - Energy and Water'!\"&$Q$260&ROW($Q$261))&\": \"","v":": "},{"$f":"INDIRECT(\"'Inspection - Energy and Water'!\"&$Q$260&ROW())","v":0},{"$f":"INDIRECT(\"'Inspection - Energy and Water'!\"&$S$260&$L265)&\": \"","v":": "},{"$f":"INDIRECT(\"'Inspection - Energy and Water'!\"&$S$260&ROW())","v":2},{"$f":"INDIRECT(\"'Inspection - Energy and Water'!\"&$U$260&$L265)&\": \"","v":": "},{"$f":"INDIRECT(\"'Inspection - Energy and Water'!\"&$U$260&ROW())","v":0}]
[null,null,"Total Savings per year (gallons)",{"$f":"IF(N266>0,M266&N266,\"\")&IF(P266>0,CHAR(10)&O266&P266,\"\")&IF(R266>0,CHAR(10)&Q266&R266,\"\")&IF(T266>0,CHAR(10)&S266&T266,\"\")&IF(V266>0,CHAR(10)&U266&V266,\"\")&IF(X266>0,CHAR(10)&W266&X266,\"\")&IF(Z266>0,CHAR(10)&Y266&Z266,\"\")&IF(AB266>0,CHAR(10)&AA266&AB266,\"\")&IF(AD266>0,CHAR(10)&AC266&AD266,\"\")&IF(AF266>0,CHAR(10)&AE266&AF266,\"\")&IF(AH266>0,CHAR(10)&AG266&AH266,\"\")&IF(AJ266>0,CHAR(10)&AI266&AJ266,\"\")&IF(AL266>0,CHAR(10)&AK266&AL266,\"\")&IF(AN266>0,CHAR(10)&AM266&AN266,\"\")&IF(AP266>0,CHAR(10)&AO266&AP266,\"\")&IF(AR266>0,CHAR(10)&AQ266&AR266,\"\")&IF(AT266>0,CHAR(10)&AS266&AT266,\"\")&IF(AV266>0,CHAR(10)&AU266&AV266,\"\")&IF(AX266>0,CHAR(10)&AW266&AX266,\"\")&IF(AZ266>0,CHAR(10)&AY266&AZ266,\"\")&IF(BB266>0,CHAR(10)&BA266&BB266,\"\")&IF(BD266>0,CHAR(10)&BC266&BD266,\"\")&IF(BF266>0,CHAR(10)&BE266&BF266,\"\")&IF(BH266>0,CHAR(10)&BG266&BH266,\"\")&IF(BJ266>0,CHAR(10)&BI266&BJ266,\"\")&IF(BL266>0,CHAR(10)&BK266&BL266,\"\")&IF(BN266>0,CHAR(10)&BM266&BN266,\"\")&IF(BP266>0,CHAR(10)&BO266&BP266,\"\")&IF(BR266>0,CHAR(10)&BQ266&BR266,\"\")&IF(BT266>0,CHAR(10)&BS266&BT266,\"\")&IF(BV266>0,CHAR(10)&BU266&BV266,\"\")&IF(BX266>0,CHAR(10)&BW266&BX266,\"\")&IF(BZ266>0,CHAR(10)&BY266&BZ266,\"\")&IF(CB266>0,CHAR(10)&CA266&CB266,\"\")&IF(CD266>0,CHAR(10)&CC266&CD266,\"\")&IF(CF266>0,CHAR(10)&CE266&CF266,\"\")","v":"\n: 2"},null,null,null,null,null,null,null,{"$f":"ROW($L$260)","v":260},{"$f":"INDIRECT(\"'Inspection - Energy and Water'!\"&$M$260&$L266)&\": \"","v":": "},{"$f":"INDIRECT(\"'Inspection - Energy and Water'!\"&$M$260&ROW())","v":0},{"$f":"INDIRECT(\"'Inspection - Energy and Water'!\"&$O$260&ROW($O$261))&\": \"","v":": "},{"$f":"INDIRECT(\"'Inspection - Energy and Water'!\"&$O$260&ROW())","v":0},{"$f":"INDIRECT(\"'Inspection - Energy and Water'!\"&$Q$260&ROW($Q$261))&\": \"","v":": "},{"$f":"INDIRECT(\"'Inspection - Energy and Water'!\"&$Q$260&ROW())","v":0},{"$f":"INDIRECT(\"'Inspection - Energy and Water'!\"&$S$260&$L266)&\": \"","v":": "},{"$f":"INDIRECT(\"'Inspection - Energy and Water'!\"&$S$260&ROW())","v":2},{"$f":"INDIRECT(\"'Inspection - Energy and Water'!\"&$U$260&$L266)&\": \"","v":": "},{"$f":"INDIRECT(\"'Inspection - Energy and Water'!\"&$U$260&ROW())","v":0}]
[null,null,"Guidelines"]
[null,null,"Fixture",null,null,null,null,null,null,null,null,"Row Header","D",null,"F",null,"H"]
[null,null,"Toilet",{"$f":"IF(N269>0,M269&N269,\"\")&IF(P269>0,CHAR(10)&O269&P269,\"\")&IF(R269>0,CHAR(10)&Q269&R269,\"\")&IF(T269>0,CHAR(10)&S269&T269,\"\")","v":""},null,null,null,null,null,null,null,{"$f":"ROW($L$268)","v":268},{"$f":"INDIRECT(\"'Inspection - Energy and Water'!\"&$M$268&$L269)&\": \"","v":": "},{"$f":"INDIRECT(\"'Inspection - Energy and Water'!\"&$M$268&ROW())","v":0},{"$f":"INDIRECT(\"'Inspection - Energy and Water'!\"&$O$268&$L269)&\": \"","v":": "},{"$f":"INDIRECT(\"'Inspection - Energy and Water'!\"&$O$268&ROW())","v":0},{"$f":"INDIRECT(\"'Inspection - Energy and Water'!\"&$Q$268&$L269)&\": \"","v":": "},{"$f":"INDIRECT(\"'Inspection - Energy and Water'!\"&$Q$268&ROW())","v":0}]
[null,null,"Shower",{"$f":"IF(N270>0,M270&N270,\"\")&IF(P270>0,CHAR(10)&O270&P270,\"\")&IF(R270>0,CHAR(10)&Q270&R270,\"\")&IF(T270>0,CHAR(10)&S270&T270,\"\")","v":": NYC Multifamily Conservation Program (MCP)\n: EPA WaterSense\n: Better Practice"},null,null,null,null,null,null,null,{"$f":"ROW($L$268)","v":268},{"$f":"INDIRECT(\"'Inspection - Energy and Water'!\"&$M$268&$L270)&\": \"","v":": "},{"$f":"INDIRECT(\"'Inspection - Energy and Water'!\"&$M$268&ROW())","v":"NYC Multifamily Conservation Program (MCP)"},{"$f":"INDIRECT(\"'Inspection - Energy and Water'!\"&$O$268&$L270)&\": \"","v":": "},{"$f":"INDIRECT(\"'Inspection - Energy and Water'!\"&$O$268&ROW())","v":"EPA WaterSense"},{"$f":"INDIRECT(\"'Inspection - Energy and Water'!\"&$Q$268&$L270)&\": \"","v":": "},{"$f":"INDIRECT(\"'Inspection - Energy and Water'!\"&$Q$268&ROW())","v":"Better Practice"}]
[null,null,"Kitchen Faucet",{"$f":"IF(N271>0,M271&N271,\"\")&IF(P271>0,CHAR(10)&O271&P271,\"\")&IF(R271>0,CHAR(10)&Q271&R271,\"\")&IF(T271>0,CHAR(10)&S271&T271,\"\")","v":": 1.6 gpf\n: 1.28 gpf\n: 0.8/1.6 gpf (dual flush)"},null,null,null,null,null,null,null,{"$f":"ROW($L$268)","v":268},{"$f":"INDIRECT(\"'Inspection - Energy and Water'!\"&$M$268&$L271)&\": \"","v":": "},{"$f":"INDIRECT(\"'Inspection - Energy and Water'!\"&$M$268&ROW())","v":"1.6 gpf"},{"$f":"INDIRECT(\"'Inspection - Energy and Water'!\"&$O$268&$L271)&\": \"","v":": "},{"$f":"INDIRECT(\"'Inspection - Energy and Water'!\"&$O$268&ROW())","v":"1.28 gpf"},{"$f":"INDIRECT(\"'Inspection - Energy and Water'!\"&$Q$268&$L271)&\": \"","v":": "},{"$f":"INDIRECT(\"'Inspection - Energy and Water'!\"&$Q$268&ROW())","v":"0.8/1.6 gpf (dual flush)"}]
[null,null,"Bathroom Faucet",{"$f":"IF(N272>0,M272&N272,\"\")&IF(P272>0,CHAR(10)&O272&P272,\"\")&IF(R272>0,CHAR(10)&Q272&R272,\"\")&IF(T272>0,CHAR(10)&S272&T272,\"\")","v":": 2.5 gpm\n: 2.0 gpm\n: 1.5 gpm"},null,null,null,null,null,null,null,{"$f":"ROW($L$268)","v":268},{"$f":"INDIRECT(\"'Inspection - Energy and Water'!\"&$M$268&$L272)&\": \"","v":": "},{"$f":"INDIRECT(\"'Inspection - Energy and Water'!\"&$M$268&ROW())","v":"2.5 gpm"},{"$f":"INDIRECT(\"'Inspection - Energy and Water'!\"&$O$268&$L272)&\": \"","v":": "},{"$f":"INDIRECT(\"'Inspection - Energy and Water'!\"&$O$268&ROW())","v":"2.0 gpm"},{"$f":"INDIRECT(\"'Inspection - Energy and Water'!\"&$Q$268&$L272)&\": \"","v":": "},{"$f":"INDIRECT(\"'Inspection - Energy and Water'!\"&$Q$268&ROW())","v":"1.5 gpm"}]

{"sheet":"Scope and Prelim. PRINT","index":26,"n_rows":128,"n_cols":40,"rows_kept":128,"cut":false,"hidden":false,"merged":[[9,3,9,5],[10,3,10,5],[11,3,11,5],[13,37,13,39],[127,27,127,36]]}
[]
[]
[]
[]
[]
[null,"SCOPE AND PRELIMINARY COST ESTIMATES"]
[]
[null,"Measure Data"]
[null,"If one of the following measures is in your workscope, you must provide the following:"]
[null,"Gas Furnace AFUE",null,{"$f":"IF('Scope and Prelim. Cost Est.'!D20<>\"\",'Scope and Prelim. Cost Est.'!D20,\"\")","v":""}]
[null,"Chiller Type/Capacity",null,{"$f":"IF('Scope and Prelim. Cost Est.'!D21<>\"\",'Scope and Prelim. Cost Est.'!D21,\"\")","v":""}]
[null,"Central AC/HP SEER",null,{"$f":"IF('Scope and Prelim. Cost Est.'!D22<>\"\",'Scope and Prelim. Cost Est.'!D22,\"\")","v":""}]
[]
[null,null,null,null,null,null,null,null,null,null,null,null,null,null,null,null,null,null,null,null,null,null,null,null,null,null,null,null,null,null,null,null,null,null,null,null,null,"Incentives Available"]
[null,"Measure Name","Measure Description","Important Assumptions","Scope Area","Energy Efficiency Measure?","Measure Category","Measure Classification","Urgency","Measure Type","Unit Type\n{Default}","Unit Type {user entry}","Unit Type","Qty","Cost Per Unit","Cost Source (e.g. 2017 R.S. Means, contractor quote, etc.)","Total Cost ",null,null,"Measure Name","Measure Description","Projected Annual Electricity Savings\n (kWh/yr)\nCooling","Projected Annual Electricity Savings\n (kWh/yr)\nNon-Cooling","Project Annual Fuel Savings (MMBtu/yr)\n Heating","Project Annual Fuel Savings (MMBtu/yr)\nNon-Heating","Affected Fuel (for MMBtu Savings)","Projected Annual Cost Savings \n($/yr)","SIR","Simple Payback","Savings Accrue to Tenants?","Measure Life (years)\n{Default}","Measure Life \n(years) \n{user entry}","Measure Life","Full or Incremental Savings","Existing Equipment Year of Manufacture","Projected Annual Water Savings (gal/yr)","Potential Health Benefit Impact ","Incentive #1","Incentive #2","Incentive # 3"]
[null,{"$f":"IF('Scope and Prelim. Cost Est.'!B26<>\"\",'Scope and Prelim. Cost Est.'!B26,\"\")","v":""},{"$f":"IF('Scope and Prelim. Cost Est.'!C26<>\"\",'Scope and Prelim. Cost Est.'!C26,\"\")","v":""},{"$f":"IF('Scope and Prelim. Cost Est.'!D26<>\"\",'Scope and Prelim. Cost Est.'!D26,\"\")","v":""},{"$f":"IF('Scope and Prelim. Cost Est.'!E26<>\"\",'Scope and Prelim. Cost Est.'!E26,\"\")","v":""},{"$f":"IF('Scope and Prelim. Cost Est.'!F26<>\"\",'Scope and Prelim. Cost Est.'!F26,\"\")","v":""},{"$f":"IF('Scope and Prelim. Cost Est.'!G26<>\"\",'Scope and Prelim. Cost Est.'!G26,\"\")","v":""},{"$f":"IF('Scope and Prelim. Cost Est.'!H26<>\"\",'Scope and Prelim. Cost Est.'!H26,\"\")","v":""},{"$f":"IF('Scope and Prelim. Cost Est.'!I26<>\"\",'Scope and Prelim. Cost Est.'!I26,\"\")","v":""},{"$f":"IF('Scope and Prelim. Cost Est.'!J26<>\"\",'Scope and Prelim. Cost Est.'!J26,\"\")","v":""},{"$f":"IF('Scope and Prelim. Cost Est.'!K26<>\"\",'Scope and Prelim. Cost Est.'!K26,\"\")","v":""},{"$f":"IF('Scope and Prelim. Cost Est.'!L26<>\"\",'Scope and Prelim. Cost Est.'!L26,\"\")","v":""},{"$f":"IF(K16<>\"\",K16,L16)","v":""},{"$f":"IF('Scope and Prelim. Cost Est.'!M26<>\"\",'Scope and Prelim. Cost Est.'!M26,\"\")","v":""},{"$f":"IF('Scope and Prelim. Cost Est.'!N26<>\"\",'Scope and Prelim. Cost Est.'!N26,\"\")","v":""},{"$f":"IF('Scope and Prelim. Cost Est.'!O26<>\"\",'Scope and Prelim. Cost Est.'!O26,\"\")","v":""},{"$f":"IF('Scope and Prelim. Cost Est.'!P26<>\"\",'Scope and Prelim. Cost Est.'!P26,\"\")","v":0},null,null,{"$f":"IF('Scope and Prelim. Cost Est.'!B26<>\"\",'Scope and Prelim. Cost Est.'!B26,\"\")","v":""},{"$f":"IF('Scope and Prelim. Cost Est.'!C26<>\"\",'Scope and Prelim. Cost Est.'!C26,\"\")","v":""},{"$f":"IF('Scope and Prelim. Cost Est.'!Q26<>\"\",'Scope and Prelim. Cost Est.'!Q26,\"\")","v":""},{"$f":"IF('Scope and Prelim. Cost Est.'!R26<>\"\",'Scope and Prelim. Cost Est.'!R26,\"\")","v":""},{"$f":"IF('Scope and Prelim. Cost Est.'!S26<>\"\",'Scope and Prelim. Cost Est.'!S26,\"\")","v":""},{"$f":"IF('Scope and Prelim. Cost Est.'!T26<>\"\",'Scope and Prelim. Cost Est.'!T26,\"\")","v":""},{"$f":"IF('Scope and Prelim. Cost Est.'!U26<>\"\",'Scope and Prelim. Cost Est.'!U26,\"\")","v":""},{"$f":"IF('Scope and Prelim. Cost Est.'!V26<>\"\",'Scope and Prelim. Cost Est.'!V26,\"\")","v":""},{"$f":"IF('Scope and Prelim. Cost Est.'!W26<>\"\",'Scope and Prelim. Cost Est.'!W26,\"\")","v":""},{"$f":"IF('Scope and Prelim. Cost Est.'!X26<>\"\",'Scope and Prelim. Cost Est.'!X26,\"\")","v":""},{"$f":"IF('Scope and Prelim. Cost Est.'!Y26<>\"\",'Scope and Prelim. Cost Est.'!Y26,\"\")","v":""},{"$f":"IF('Scope and Prelim. Cost Est.'!Z26<>\"\",'Scope and Prelim. Cost Est.'!Z26,\"\")","v":""},{"$f":"IF('Scope and Prelim. Cost Est.'!AA26<>\"\",'Scope and Prelim. Cost Est.'!AA26,\"\")","v":""},{"$f":"IF(AF16<>\"\",AF16,AE16)","v":""},{"$f":"IF('Scope and Prelim. Cost Est.'!AB26<>\"\",'Scope and Prelim. Cost Est.'!AB26,\"\")","v":""},{"$f":"IF('Scope and Prelim. Cost Est.'!AC26<>\"\",'Scope and Prelim. Cost Est.'!AC26,\"\")","v":""},{"$f":"IF('Scope and Prelim. Cost Est.'!AD26<>\"\",'Scope and Prelim. Cost Est.'!AD26,\"\")","v":""},{"$f":"IF('Scope and Prelim. Cost Est.'!AE26<>\"\",'Scope and Prelim. Cost Est.'!AE26,\"\")","v":""},{"$f":"IF('Scope and Prelim. Cost Est.'!AF26<>\"\",'Scope and Prelim. Cost Est.'!AF26,\"\")","v":""},{"$f":"IF('Scope and Prelim. Cost Est.'!AG26<>\"\",'Scope and Prelim. Cost Est.'!AG26,\"\")","v":""},{"$f":"IF('Scope and Prelim. Cost Est.'!AH26<>\"\",'Scope and Prelim. Cost Est.'!AH26,\"\")","v":""}]
[null,{"$f":"IF('Scope and Prelim. Cost Est.'!B27<>\"\",'Scope and Prelim. Cost Est.'!B27,\"\")","v":""},{"$f":"IF('Scope and Prelim. Cost Est.'!C27<>\"\",'Scope and Prelim. Cost Est.'!C27,\"\")","v":""},{"$f":"IF('Scope and Prelim. Cost Est.'!D27<>\"\",'Scope and Prelim. Cost Est.'!D27,\"\")","v":""},{"$f":"IF('Scope and Prelim. Cost Est.'!E27<>\"\",'Scope and Prelim. Cost Est.'!E27,\"\")","v":""},{"$f":"IF('Scope and Prelim. Cost Est.'!F27<>\"\",'Scope and Prelim. Cost Est.'!F27,\"\")","v":""},{"$f":"IF('Scope and Prelim. Cost Est.'!G27<>\"\",'Scope and Prelim. Cost Est.'!G27,\"\")","v":""},{"$f":"IF('Scope and Prelim. Cost Est.'!H27<>\"\",'Scope and Prelim. Cost Est.'!H27,\"\")","v":""},{"$f":"IF('Scope and Prelim. Cost Est.'!I27<>\"\",'Scope and Prelim. Cost Est.'!I27,\"\")","v":""},{"$f":"IF('Scope and Prelim. Cost Est.'!J27<>\"\",'Scope and Prelim. Cost Est.'!J27,\"\")","v":""},{"$f":"IF('Scope and Prelim. Cost Est.'!K27<>\"\",'Scope and Prelim. Cost Est.'!K27,\"\")","v":""},{"$f":"IF('Scope and Prelim. Cost Est.'!L27<>\"\",'Scope and Prelim. Cost Est.'!L27,\"\")","v":""},{"$f":"IF(K17<>\"\",K17,L17)","v":""},{"$f":"IF('Scope and Prelim. Cost Est.'!M27<>\"\",'Scope and Prelim. Cost Est.'!M27,\"\")","v":""},{"$f":"IF('Scope and Prelim. Cost Est.'!N27<>\"\",'Scope and Prelim. Cost Est.'!N27,\"\")","v":""},{"$f":"IF('Scope and Prelim. Cost Est.'!O27<>\"\",'Scope and Prelim. Cost Est.'!O27,\"\")","v":""},{"$f":"IF('Scope and Prelim. Cost Est.'!P27<>\"\",'Scope and Prelim. Cost Est.'!P27,\"\")","v":0},null,null,{"$f":"IF('Scope and Prelim. Cost Est.'!B27<>\"\",'Scope and Prelim. Cost Est.'!B27,\"\")","v":""},{"$f":"IF('Scope and Prelim. Cost Est.'!C27<>\"\",'Scope and Prelim. Cost Est.'!C27,\"\")","v":""},{"$f":"IF('Scope and Prelim. Cost Est.'!Q27<>\"\",'Scope and Prelim. Cost Est.'!Q27,\"\")","v":""},{"$f":"IF('Scope and Prelim. Cost Est.'!R27<>\"\",'Scope and Prelim. Cost Est.'!R27,\"\")","v":""},{"$f":"IF('Scope and Prelim. Cost Est.'!S27<>\"\",'Scope and Prelim. Cost Est.'!S27,\"\")","v":""},{"$f":"IF('Scope and Prelim. Cost Est.'!T27<>\"\",'Scope and Prelim. Cost Est.'!T27,\"\")","v":""},{"$f":"IF('Scope and Prelim. Cost Est.'!U27<>\"\",'Scope and Prelim. Cost Est.'!U27,\"\")","v":""},{"$f":"IF('Scope and Prelim. Cost Est.'!V27<>\"\",'Scope and Prelim. Cost Est.'!V27,\"\")","v":""},{"$f":"IF('Scope and Prelim. Cost Est.'!W27<>\"\",'Scope and Prelim. Cost Est.'!W27,\"\")","v":""},{"$f":"IF('Scope and Prelim. Cost Est.'!X27<>\"\",'Scope and Prelim. Cost Est.'!X27,\"\")","v":""},{"$f":"IF('Scope and Prelim. Cost Est.'!Y27<>\"\",'Scope and Prelim. Cost Est.'!Y27,\"\")","v":""},{"$f":"IF('Scope and Prelim. Cost Est.'!Z27<>\"\",'Scope and Prelim. Cost Est.'!Z27,\"\")","v":""},{"$f":"IF('Scope and Prelim. Cost Est.'!AA27<>\"\",'Scope and Prelim. Cost Est.'!AA27,\"\")","v":""},{"$f":"IF(AF17<>\"\",AF17,AE17)","v":""},{"$f":"IF('Scope and Prelim. Cost Est.'!AB27<>\"\",'Scope and Prelim. Cost Est.'!AB27,\"\")","v":""},{"$f":"IF('Scope and Prelim. Cost Est.'!AC27<>\"\",'Scope and Prelim. Cost Est.'!AC27,\"\")","v":""},{"$f":"IF('Scope and Prelim. Cost Est.'!AD27<>\"\",'Scope and Prelim. Cost Est.'!AD27,\"\")","v":""},{"$f":"IF('Scope and Prelim. Cost Est.'!AE27<>\"\",'Scope and Prelim. Cost Est.'!AE27,\"\")","v":""},{"$f":"IF('Scope and Prelim. Cost Est.'!AF27<>\"\",'Scope and Prelim. Cost Est.'!AF27,\"\")","v":""},{"$f":"IF('Scope and Prelim. Cost Est.'!AG27<>\"\",'Scope and Prelim. Cost Est.'!AG27,\"\")","v":""},{"$f":"IF('Scope and Prelim. Cost Est.'!AH27<>\"\",'Scope and Prelim. Cost Est.'!AH27,\"\")","v":""}]
[null,{"$f":"IF('Scope and Prelim. Cost Est.'!B28<>\"\",'Scope and Prelim. Cost Est.'!B28,\"\")","v":""},{"$f":"IF('Scope and Prelim. Cost Est.'!C28<>\"\",'Scope and Prelim. Cost Est.'!C28,\"\")","v":""},{"$f":"IF('Scope and Prelim. Cost Est.'!D28<>\"\",'Scope and Prelim. Cost Est.'!D28,\"\")","v":""},{"$f":"IF('Scope and Prelim. Cost Est.'!E28<>\"\",'Scope and Prelim. Cost Est.'!E28,\"\")","v":""},{"$f":"IF('Scope and Prelim. Cost Est.'!F28<>\"\",'Scope and Prelim. Cost Est.'!F28,\"\")","v":""},{"$f":"IF('Scope and Prelim. Cost Est.'!G28<>\"\",'Scope and Prelim. Cost Est.'!G28,\"\")","v":""},{"$f":"IF('Scope and Prelim. Cost Est.'!H28<>\"\",'Scope and Prelim. Cost Est.'!H28,\"\")","v":""},{"$f":"IF('Scope and Prelim. Cost Est.'!I28<>\"\",'Scope and Prelim. Cost Est.'!I28,\"\")","v":""},{"$f":"IF('Scope and Prelim. Cost Est.'!J28<>\"\",'Scope and Prelim. Cost Est.'!J28,\"\")","v":""},{"$f":"IF('Scope and Prelim. Cost Est.'!K28<>\"\",'Scope and Prelim. Cost Est.'!K28,\"\")","v":""},{"$f":"IF('Scope and Prelim. Cost Est.'!L28<>\"\",'Scope and Prelim. Cost Est.'!L28,\"\")","v":""},"",{"$f":"IF('Scope and Prelim. Cost Est.'!M28<>\"\",'Scope and Prelim. Cost Est.'!M28,\"\")","v":""},{"$f":"IF('Scope and Prelim. Cost Est.'!N28<>\"\",'Scope and Prelim. Cost Est.'!N28,\"\")","v":""},{"$f":"IF('Scope and Prelim. Cost Est.'!O28<>\"\",'Scope and Prelim. Cost Est.'!O28,\"\")","v":""},{"$f":"IF('Scope and Prelim. Cost Est.'!P28<>\"\",'Scope and Prelim. Cost Est.'!P28,\"\")","v":0},null,null,{"$f":"IF('Scope and Prelim. Cost Est.'!B28<>\"\",'Scope and Prelim. Cost Est.'!B28,\"\")","v":""},{"$f":"IF('Scope and Prelim. Cost Est.'!C28<>\"\",'Scope and Prelim. Cost Est.'!C28,\"\")","v":""},{"$f":"IF('Scope and Prelim. Cost Est.'!Q28<>\"\",'Scope and Prelim. Cost Est.'!Q28,\"\")","v":""},{"$f":"IF('Scope and Prelim. Cost Est.'!R28<>\"\",'Scope and Prelim. Cost Est.'!R28,\"\")","v":""},{"$f":"IF('Scope and Prelim. Cost Est.'!S28<>\"\",'Scope and Prelim. Cost Est.'!S28,\"\")","v":""},{"$f":"IF('Scope and Prelim. Cost Est.'!T28<>\"\",'Scope and Prelim. Cost Est.'!T28,\"\")","v":""},{"$f":"IF('Scope and Prelim. Cost Est.'!U28<>\"\",'Scope and Prelim. Cost Est.'!U28,\"\")","v":""},{"$f":"IF('Scope and Prelim. Cost Est.'!V28<>\"\",'Scope and Prelim. Cost Est.'!V28,\"\")","v":""},{"$f":"IF('Scope and Prelim. Cost Est.'!W28<>\"\",'Scope and Prelim. Cost Est.'!W28,\"\")","v":""},{"$f":"IF('Scope and Prelim. Cost Est.'!X28<>\"\",'Scope and Prelim. Cost Est.'!X28,\"\")","v":""},{"$f":"IF('Scope and Prelim. Cost Est.'!Y28<>\"\",'Scope and Prelim. Cost Est.'!Y28,\"\")","v":""},{"$f":"IF('Scope and Prelim. Cost Est.'!Z28<>\"\",'Scope and Prelim. Cost Est.'!Z28,\"\")","v":""},{"$f":"IF('Scope and Prelim. Cost Est.'!AA28<>\"\",'Scope and Prelim. Cost Est.'!AA28,\"\")","v":""},"",{"$f":"IF('Scope and Prelim. Cost Est.'!AB28<>\"\",'Scope and Prelim. Cost Est.'!AB28,\"\")","v":""},{"$f":"IF('Scope and Prelim. Cost Est.'!AC28<>\"\",'Scope and Prelim. Cost Est.'!AC28,\"\")","v":""},{"$f":"IF('Scope and Prelim. Cost Est.'!AD28<>\"\",'Scope and Prelim. Cost Est.'!AD28,\"\")","v":""},{"$f":"IF('Scope and Prelim. Cost Est.'!AE28<>\"\",'Scope and Prelim. Cost Est.'!AE28,\"\")","v":""},{"$f":"IF('Scope and Prelim. Cost Est.'!AF28<>\"\",'Scope and Prelim. Cost Est.'!AF28,\"\")","v":""},{"$f":"IF('Scope and Prelim. Cost Est.'!AG28<>\"\",'Scope and Prelim. Cost Est.'!AG28,\"\")","v":""},{"$f":"IF('Scope and Prelim. Cost Est.'!AH28<>\"\",'Scope and Prelim. Cost Est.'!AH28,\"\")","v":""}]
[null,{"$f":"IF('Scope and Prelim. Cost Est.'!B29<>\"\",'Scope and Prelim. Cost Est.'!B29,\"\")","v":""},{"$f":"IF('Scope and Prelim. Cost Est.'!C29<>\"\",'Scope and Prelim. Cost Est.'!C29,\"\")","v":""},{"$f":"IF('Scope and Prelim. Cost Est.'!D29<>\"\",'Scope and Prelim. Cost Est.'!D29,\"\")","v":""},{"$f":"IF('Scope and Prelim. Cost Est.'!E29<>\"\",'Scope and Prelim. Cost Est.'!E29,\"\")","v":""},{"$f":"IF('Scope and Prelim. Cost Est.'!F29<>\"\",'Scope and Prelim. Cost Est.'!F29,\"\")","v":""},{"$f":"IF('Scope and Prelim. Cost Est.'!G29<>\"\",'Scope and Prelim. Cost Est.'!G29,\"\")","v":""},{"$f":"IF('Scope and Prelim. Cost Est.'!H29<>\"\",'Scope and Prelim. Cost Est.'!H29,\"\")","v":""},{"$f":"IF('Scope and Prelim. Cost Est.'!I29<>\"\",'Scope and Prelim. Cost Est.'!I29,\"\")","v":""},{"$f":"IF('Scope and Prelim. Cost Est.'!J29<>\"\",'Scope and Prelim. Cost Est.'!J29,\"\")","v":""},{"$f":"IF('Scope and Prelim. Cost Est.'!K29<>\"\",'Scope and Prelim. Cost Est.'!K29,\"\")","v":""},{"$f":"IF('Scope and Prelim. Cost Est.'!L29<>\"\",'Scope and Prelim. Cost Est.'!L29,\"\")","v":""},"",{"$f":"IF('Scope and Prelim. Cost Est.'!M29<>\"\",'Scope and Prelim. Cost Est.'!M29,\"\")","v":""},{"$f":"IF('Scope and Prelim. Cost Est.'!N29<>\"\",'Scope and Prelim. Cost Est.'!N29,\"\")","v":""},{"$f":"IF('Scope and Prelim. Cost Est.'!O29<>\"\",'Scope and Prelim. Cost Est.'!O29,\"\")","v":""},{"$f":"IF('Scope and Prelim. Cost Est.'!P29<>\"\",'Scope and Prelim. Cost Est.'!P29,\"\")","v":0},null,null,{"$f":"IF('Scope and Prelim. Cost Est.'!B29<>\"\",'Scope and Prelim. Cost Est.'!B29,\"\")","v":""},{"$f":"IF('Scope and Prelim. Cost Est.'!C29<>\"\",'Scope and Prelim. Cost Est.'!C29,\"\")","v":""},{"$f":"IF('Scope and Prelim. Cost Est.'!Q29<>\"\",'Scope and Prelim. Cost Est.'!Q29,\"\")","v":""},{"$f":"IF('Scope and Prelim. Cost Est.'!R29<>\"\",'Scope and Prelim. Cost Est.'!R29,\"\")","v":""},{"$f":"IF('Scope and Prelim. Cost Est.'!S29<>\"\",'Scope and Prelim. Cost Est.'!S29,\"\")","v":""},{"$f":"IF('Scope and Prelim. Cost Est.'!T29<>\"\",'Scope and Prelim. Cost Est.'!T29,\"\")","v":""},{"$f":"IF('Scope and Prelim. Cost Est.'!U29<>\"\",'Scope and Prelim. Cost Est.'!U29,\"\")","v":""},{"$f":"IF('Scope and Prelim. Cost Est.'!V29<>\"\",'Scope and Prelim. Cost Est.'!V29,\"\")","v":""},{"$f":"IF('Scope and Prelim. Cost Est.'!W29<>\"\",'Scope and Prelim. Cost Est.'!W29,\"\")","v":""},{"$f":"IF('Scope and Prelim. Cost Est.'!X29<>\"\",'Scope and Prelim. Cost Est.'!X29,\"\")","v":""},{"$f":"IF('Scope and Prelim. Cost Est.'!Y29<>\"\",'Scope and Prelim. Cost Est.'!Y29,\"\")","v":""},{"$f":"IF('Scope and Prelim. Cost Est.'!Z29<>\"\",'Scope and Prelim. Cost Est.'!Z29,\"\")","v":""},{"$f":"IF('Scope and Prelim. Cost Est.'!AA29<>\"\",'Scope and Prelim. Cost Est.'!AA29,\"\")","v":""},"",{"$f":"IF('Scope and Prelim. Cost Est.'!AB29<>\"\",'Scope and Prelim. Cost Est.'!AB29,\"\")","v":""},{"$f":"IF('Scope and Prelim. Cost Est.'!AC29<>\"\",'Scope and Prelim. Cost Est.'!AC29,\"\")","v":""},{"$f":"IF('Scope and Prelim. Cost Est.'!AD29<>\"\",'Scope and Prelim. Cost Est.'!AD29,\"\")","v":""},{"$f":"IF('Scope and Prelim. Cost Est.'!AE29<>\"\",'Scope and Prelim. Cost Est.'!AE29,\"\")","v":""},{"$f":"IF('Scope and Prelim. Cost Est.'!AF29<>\"\",'Scope and Prelim. Cost Est.'!AF29,\"\")","v":""},{"$f":"IF('Scope and Prelim. Cost Est.'!AG29<>\"\",'Scope and Prelim. Cost Est.'!AG29,\"\")","v":""},{"$f":"IF('Scope and Prelim. Cost Est.'!AH29<>\"\",'Scope and Prelim. Cost Est.'!AH29,\"\")","v":""}]
[null,{"$f":"IF('Scope and Prelim. Cost Est.'!B30<>\"\",'Scope and Prelim. Cost Est.'!B30,\"\")","v":""},{"$f":"IF('Scope and Prelim. Cost Est.'!C30<>\"\",'Scope and Prelim. Cost Est.'!C30,\"\")","v":""},{"$f":"IF('Scope and Prelim. Cost Est.'!D30<>\"\",'Scope and Prelim. Cost Est.'!D30,\"\")","v":""},{"$f":"IF('Scope and Prelim. Cost Est.'!E30<>\"\",'Scope and Prelim. Cost Est.'!E30,\"\")","v":""},{"$f":"IF('Scope and Prelim. Cost Est.'!F30<>\"\",'Scope and Prelim. Cost Est.'!F30,\"\")","v":""},{"$f":"IF('Scope and Prelim. Cost Est.'!G30<>\"\",'Scope and Prelim. Cost Est.'!G30,\"\")","v":""},{"$f":"IF('Scope and Prelim. Cost Est.'!H30<>\"\",'Scope and Prelim. Cost Est.'!H30,\"\")","v":""},{"$f":"IF('Scope and Prelim. Cost Est.'!I30<>\"\",'Scope and Prelim. Cost Est.'!I30,\"\")","v":""},{"$f":"IF('Scope and Prelim. Cost Est.'!J30<>\"\",'Scope and Prelim. Cost Est.'!J30,\"\")","v":""},{"$f":"IF('Scope and Prelim. Cost Est.'!K30<>\"\",'Scope and Prelim. Cost Est.'!K30,\"\")","v":""},{"$f":"IF('Scope and Prelim. Cost Est.'!L30<>\"\",'Scope and Prelim. Cost Est.'!L30,\"\")","v":""},"",{"$f":"IF('Scope and Prelim. Cost Est.'!M30<>\"\",'Scope and Prelim. Cost Est.'!M30,\"\")","v":""},{"$f":"IF('Scope and Prelim. Cost Est.'!N30<>\"\",'Scope and Prelim. Cost Est.'!N30,\"\")","v":""},{"$f":"IF('Scope and Prelim. Cost Est.'!O30<>\"\",'Scope and Prelim. Cost Est.'!O30,\"\")","v":""},{"$f":"IF('Scope and Prelim. Cost Est.'!P30<>\"\",'Scope and Prelim. Cost Est.'!P30,\"\")","v":0},null,null,{"$f":"IF('Scope and Prelim. Cost Est.'!B30<>\"\",'Scope and Prelim. Cost Est.'!B30,\"\")","v":""},{"$f":"IF('Scope and Prelim. Cost Est.'!C30<>\"\",'Scope and Prelim. Cost Est.'!C30,\"\")","v":""},{"$f":"IF('Scope and Prelim. Cost Est.'!Q30<>\"\",'Scope and Prelim. Cost Est.'!Q30,\"\")","v":""},{"$f":"IF('Scope and Prelim. Cost Est.'!R30<>\"\",'Scope and Prelim. Cost Est.'!R30,\"\")","v":""},{"$f":"IF('Scope and Prelim. Cost Est.'!S30<>\"\",'Scope and Prelim. Cost Est.'!S30,\"\")","v":""},{"$f":"IF('Scope and Prelim. Cost Est.'!T30<>\"\",'Scope and Prelim. Cost Est.'!T30,\"\")","v":""},{"$f":"IF('Scope and Prelim. Cost Est.'!U30<>\"\",'Scope and Prelim. Cost Est.'!U30,\"\")","v":""},{"$f":"IF('Scope and Prelim. Cost Est.'!V30<>\"\",'Scope and Prelim. Cost Est.'!V30,\"\")","v":""},{"$f":"IF('Scope and Prelim. Cost Est.'!W30<>\"\",'Scope and Prelim. Cost Est.'!W30,\"\")","v":""},{"$f":"IF('Scope and Prelim. Cost Est.'!X30<>\"\",'Scope and Prelim. Cost Est.'!X30,\"\")","v":""},{"$f":"IF('Scope and Prelim. Cost Est.'!Y30<>\"\",'Scope and Prelim. Cost Est.'!Y30,\"\")","v":""},{"$f":"IF('Scope and Prelim. Cost Est.'!Z30<>\"\",'Scope and Prelim. Cost Est.'!Z30,\"\")","v":""},{"$f":"IF('Scope and Prelim. Cost Est.'!AA30<>\"\",'Scope and Prelim. Cost Est.'!AA30,\"\")","v":""},"",{"$f":"IF('Scope and Prelim. Cost Est.'!AB30<>\"\",'Scope and Prelim. Cost Est.'!AB30,\"\")","v":""},{"$f":"IF('Scope and Prelim. Cost Est.'!AC30<>\"\",'Scope and Prelim. Cost Est.'!AC30,\"\")","v":""},{"$f":"IF('Scope and Prelim. Cost Est.'!AD30<>\"\",'Scope and Prelim. Cost Est.'!AD30,\"\")","v":""},{"$f":"IF('Scope and Prelim. Cost Est.'!AE30<>\"\",'Scope and Prelim. Cost Est.'!AE30,\"\")","v":""},{"$f":"IF('Scope and Prelim. Cost Est.'!AF30<>\"\",'Scope and Prelim. Cost Est.'!AF30,\"\")","v":""},{"$f":"IF('Scope and Prelim. Cost Est.'!AG30<>\"\",'Scope and Prelim. Cost Est.'!AG30,\"\")","v":""},{"$f":"IF('Scope and Prelim. Cost Est.'!AH30<>\"\",'Scope and Prelim. Cost Est.'!AH30,\"\")","v":""}]
[null,{"$f":"IF('Scope and Prelim. Cost Est.'!B31<>\"\",'Scope and Prelim. Cost Est.'!B31,\"\")","v":""},{"$f":"IF('Scope and Prelim. Cost Est.'!C31<>\"\",'Scope and Prelim. Cost Est.'!C31,\"\")","v":""},{"$f":"IF('Scope and Prelim. Cost Est.'!D31<>\"\",'Scope and Prelim. Cost Est.'!D31,\"\")","v":""},{"$f":"IF('Scope and Prelim. Cost Est.'!E31<>\"\",'Scope and Prelim. Cost Est.'!E31,\"\")","v":""},{"$f":"IF('Scope and Prelim. Cost Est.'!F31<>\"\",'Scope and Prelim. Cost Est.'!F31,\"\")","v":""},{"$f":"IF('Scope and Prelim. Cost Est.'!G31<>\"\",'Scope and Prelim. Cost Est.'!G31,\"\")","v":""},{"$f":"IF('Scope and Prelim. Cost Est.'!H31<>\"\",'Scope and Prelim. Cost Est.'!H31,\"\")","v":""},{"$f":"IF('Scope and Prelim. Cost Est.'!I31<>\"\",'Scope and Prelim. Cost Est.'!I31,\"\")","v":""},{"$f":"IF('Scope and Prelim. Cost Est.'!J31<>\"\",'Scope and Prelim. Cost Est.'!J31,\"\")","v":""},{"$f":"IF('Scope and Prelim. Cost Est.'!K31<>\"\",'Scope and Prelim. Cost Est.'!K31,\"\")","v":""},{"$f":"IF('Scope and Prelim. Cost Est.'!L31<>\"\",'Scope and Prelim. Cost Est.'!L31,\"\")","v":""},"",{"$f":"IF('Scope and Prelim. Cost Est.'!M31<>\"\",'Scope and Prelim. Cost Est.'!M31,\"\")","v":""},{"$f":"IF('Scope and Prelim. Cost Est.'!N31<>\"\",'Scope and Prelim. Cost Est.'!N31,\"\")","v":""},{"$f":"IF('Scope and Prelim. Cost Est.'!O31<>\"\",'Scope and Prelim. Cost Est.'!O31,\"\")","v":""},{"$f":"IF('Scope and Prelim. Cost Est.'!P31<>\"\",'Scope and Prelim. Cost Est.'!P31,\"\")","v":0},null,null,{"$f":"IF('Scope and Prelim. Cost Est.'!B31<>\"\",'Scope and Prelim. Cost Est.'!B31,\"\")","v":""},{"$f":"IF('Scope and Prelim. Cost Est.'!C31<>\"\",'Scope and Prelim. Cost Est.'!C31,\"\")","v":""},{"$f":"IF('Scope and Prelim. Cost Est.'!Q31<>\"\",'Scope and Prelim. Cost Est.'!Q31,\"\")","v":""},{"$f":"IF('Scope and Prelim. Cost Est.'!R31<>\"\",'Scope and Prelim. Cost Est.'!R31,\"\")","v":""},{"$f":"IF('Scope and Prelim. Cost Est.'!S31<>\"\",'Scope and Prelim. Cost Est.'!S31,\"\")","v":""},{"$f":"IF('Scope and Prelim. Cost Est.'!T31<>\"\",'Scope and Prelim. Cost Est.'!T31,\"\")","v":""},{"$f":"IF('Scope and Prelim. Cost Est.'!U31<>\"\",'Scope and Prelim. Cost Est.'!U31,\"\")","v":""},{"$f":"IF('Scope and Prelim. Cost Est.'!V31<>\"\",'Scope and Prelim. Cost Est.'!V31,\"\")","v":""},{"$f":"IF('Scope and Prelim. Cost Est.'!W31<>\"\",'Scope and Prelim. Cost Est.'!W31,\"\")","v":""},{"$f":"IF('Scope and Prelim. Cost Est.'!X31<>\"\",'Scope and Prelim. Cost Est.'!X31,\"\")","v":""},{"$f":"IF('Scope and Prelim. Cost Est.'!Y31<>\"\",'Scope and Prelim. Cost Est.'!Y31,\"\")","v":""},{"$f":"IF('Scope and Prelim. Cost Est.'!Z31<>\"\",'Scope and Prelim. Cost Est.'!Z31,\"\")","v":""},{"$f":"IF('Scope and Prelim. Cost Est.'!AA31<>\"\",'Scope and Prelim. Cost Est.'!AA31,\"\")","v":""},"",{"$f":"IF('Scope and Prelim. Cost Est.'!AB31<>\"\",'Scope and Prelim. Cost Est.'!AB31,\"\")","v":""},{"$f":"IF('Scope and Prelim. Cost Est.'!AC31<>\"\",'Scope and Prelim. Cost Est.'!AC31,\"\")","v":""},{"$f":"IF('Scope and Prelim. Cost Est.'!AD31<>\"\",'Scope and Prelim. Cost Est.'!AD31,\"\")","v":""},{"$f":"IF('Scope and Prelim. Cost Est.'!AE31<>\"\",'Scope and Prelim. Cost Est.'!AE31,\"\")","v":""},{"$f":"IF('Scope and Prelim. Cost Est.'!AF31<>\"\",'Scope and Prelim. Cost Est.'!AF31,\"\")","v":""},{"$f":"IF('Scope and Prelim. Cost Est.'!AG31<>\"\",'Scope and Prelim. Cost Est.'!AG31,\"\")","v":""},{"$f":"IF('Scope and Prelim. Cost Est.'!AH31<>\"\",'Scope and Prelim. Cost Est.'!AH31,\"\")","v":""}]
[null,{"$f":"IF('Scope and Prelim. Cost Est.'!B32<>\"\",'Scope and Prelim. Cost Est.'!B32,\"\")","v":""},{"$f":"IF('Scope and Prelim. Cost Est.'!C32<>\"\",'Scope and Prelim. Cost Est.'!C32,\"\")","v":""},{"$f":"IF('Scope and Prelim. Cost Est.'!D32<>\"\",'Scope and Prelim. Cost Est.'!D32,\"\")","v":""},{"$f":"IF('Scope and Prelim. Cost Est.'!E32<>\"\",'Scope and Prelim. Cost Est.'!E32,\"\")","v":""},{"$f":"IF('Scope and Prelim. Cost Est.'!F32<>\"\",'Scope and Prelim. Cost Est.'!F32,\"\")","v":""},{"$f":"IF('Scope and Prelim. Cost Est.'!G32<>\"\",'Scope and Prelim. Cost Est.'!G32,\"\")","v":""},{"$f":"IF('Scope and Prelim. Cost Est.'!H32<>\"\",'Scope and Prelim. Cost Est.'!H32,\"\")","v":""},{"$f":"IF('Scope and Prelim. Cost Est.'!I32<>\"\",'Scope and Prelim. Cost Est.'!I32,\"\")","v":""},{"$f":"IF('Scope and Prelim. Cost Est.'!J32<>\"\",'Scope and Prelim. Cost Est.'!J32,\"\")","v":""},{"$f":"IF('Scope and Prelim. Cost Est.'!K32<>\"\",'Scope and Prelim. Cost Est.'!K32,\"\")","v":""},{"$f":"IF('Scope and Prelim. Cost Est.'!L32<>\"\",'Scope and Prelim. Cost Est.'!L32,\"\")","v":""},"",{"$f":"IF('Scope and Prelim. Cost Est.'!M32<>\"\",'Scope and Prelim. Cost Est.'!M32,\"\")","v":""},{"$f":"IF('Scope and Prelim. Cost Est.'!N32<>\"\",'Scope and Prelim. Cost Est.'!N32,\"\")","v":""},{"$f":"IF('Scope and Prelim. Cost Est.'!O32<>\"\",'Scope and Prelim. Cost Est.'!O32,\"\")","v":""},{"$f":"IF('Scope and Prelim. Cost Est.'!P32<>\"\",'Scope and Prelim. Cost Est.'!P32,\"\")","v":0},null,null,{"$f":"IF('Scope and Prelim. Cost Est.'!B32<>\"\",'Scope and Prelim. Cost Est.'!B32,\"\")","v":""},{"$f":"IF('Scope and Prelim. Cost Est.'!C32<>\"\",'Scope and Prelim. Cost Est.'!C32,\"\")","v":""},{"$f":"IF('Scope and Prelim. Cost Est.'!Q32<>\"\",'Scope and Prelim. Cost Est.'!Q32,\"\")","v":""},{"$f":"IF('Scope and Prelim. Cost Est.'!R32<>\"\",'Scope and Prelim. Cost Est.'!R32,\"\")","v":""},{"$f":"IF('Scope and Prelim. Cost Est.'!S32<>\"\",'Scope and Prelim. Cost Est.'!S32,\"\")","v":""},{"$f":"IF('Scope and Prelim. Cost Est.'!T32<>\"\",'Scope and Prelim. Cost Est.'!T32,\"\")","v":""},{"$f":"IF('Scope and Prelim. Cost Est.'!U32<>\"\",'Scope and Prelim. Cost Est.'!U32,\"\")","v":""},{"$f":"IF('Scope and Prelim. Cost Est.'!V32<>\"\",'Scope and Prelim. Cost Est.'!V32,\"\")","v":""},{"$f":"IF('Scope and Prelim. Cost Est.'!W32<>\"\",'Scope and Prelim. Cost Est.'!W32,\"\")","v":""},{"$f":"IF('Scope and Prelim. Cost Est.'!X32<>\"\",'Scope and Prelim. Cost Est.'!X32,\"\")","v":""},{"$f":"IF('Scope and Prelim. Cost Est.'!Y32<>\"\",'Scope and Prelim. Cost Est.'!Y32,\"\")","v":""},{"$f":"IF('Scope and Prelim. Cost Est.'!Z32<>\"\",'Scope and Prelim. Cost Est.'!Z32,\"\")","v":""},{"$f":"IF('Scope and Prelim. Cost Est.'!AA32<>\"\",'Scope and Prelim. Cost Est.'!AA32,\"\")","v":""},"",{"$f":"IF('Scope and Prelim. Cost Est.'!AB32<>\"\",'Scope and Prelim. Cost Est.'!AB32,\"\")","v":""},{"$f":"IF('Scope and Prelim. Cost Est.'!AC32<>\"\",'Scope and Prelim. Cost Est.'!AC32,\"\")","v":""},{"$f":"IF('Scope and Prelim. Cost Est.'!AD32<>\"\",'Scope and Prelim. Cost Est.'!AD32,\"\")","v":""},{"$f":"IF('Scope and Prelim. Cost Est.'!AE32<>\"\",'Scope and Prelim. Cost Est.'!AE32,\"\")","v":""},{"$f":"IF('Scope and Prelim. Cost Est.'!AF32<>\"\",'Scope and Prelim. Cost Est.'!AF32,\"\")","v":""},{"$f":"IF('Scope and Prelim. Cost Est.'!AG32<>\"\",'Scope and Prelim. Cost Est.'!AG32,\"\")","v":""},{"$f":"IF('Scope and Prelim. Cost Est.'!AH32<>\"\",'Scope and Prelim. Cost Est.'!AH32,\"\")","v":""}]
[null,{"$f":"IF('Scope and Prelim. Cost Est.'!B33<>\"\",'Scope and Prelim. Cost Est.'!B33,\"\")","v":""},{"$f":"IF('Scope and Prelim. Cost Est.'!C33<>\"\",'Scope and Prelim. Cost Est.'!C33,\"\")","v":""},{"$f":"IF('Scope and Prelim. Cost Est.'!D33<>\"\",'Scope and Prelim. Cost Est.'!D33,\"\")","v":""},{"$f":"IF('Scope and Prelim. Cost Est.'!E33<>\"\",'Scope and Prelim. Cost Est.'!E33,\"\")","v":""},{"$f":"IF('Scope and Prelim. Cost Est.'!F33<>\"\",'Scope and Prelim. Cost Est.'!F33,\"\")","v":""},{"$f":"IF('Scope and Prelim. Cost Est.'!G33<>\"\",'Scope and Prelim. Cost Est.'!G33,\"\")","v":""},{"$f":"IF('Scope and Prelim. Cost Est.'!H33<>\"\",'Scope and Prelim. Cost Est.'!H33,\"\")","v":""},{"$f":"IF('Scope and Prelim. Cost Est.'!I33<>\"\",'Scope and Prelim. Cost Est.'!I33,\"\")","v":""},{"$f":"IF('Scope and Prelim. Cost Est.'!J33<>\"\",'Scope and Prelim. Cost Est.'!J33,\"\")","v":""},{"$f":"IF('Scope and Prelim. Cost Est.'!K33<>\"\",'Scope and Prelim. Cost Est.'!K33,\"\")","v":""},{"$f":"IF('Scope and Prelim. Cost Est.'!L33<>\"\",'Scope and Prelim. Cost Est.'!L33,\"\")","v":""},"",{"$f":"IF('Scope and Prelim. Cost Est.'!M33<>\"\",'Scope and Prelim. Cost Est.'!M33,\"\")","v":""},{"$f":"IF('Scope and Prelim. Cost Est.'!N33<>\"\",'Scope and Prelim. Cost Est.'!N33,\"\")","v":""},{"$f":"IF('Scope and Prelim. Cost Est.'!O33<>\"\",'Scope and Prelim. Cost Est.'!O33,\"\")","v":""},{"$f":"IF('Scope and Prelim. Cost Est.'!P33<>\"\",'Scope and Prelim. Cost Est.'!P33,\"\")","v":0},null,null,{"$f":"IF('Scope and Prelim. Cost Est.'!B33<>\"\",'Scope and Prelim. Cost Est.'!B33,\"\")","v":""},{"$f":"IF('Scope and Prelim. Cost Est.'!C33<>\"\",'Scope and Prelim. Cost Est.'!C33,\"\")","v":""},{"$f":"IF('Scope and Prelim. Cost Est.'!Q33<>\"\",'Scope and Prelim. Cost Est.'!Q33,\"\")","v":""},{"$f":"IF('Scope and Prelim. Cost Est.'!R33<>\"\",'Scope and Prelim. Cost Est.'!R33,\"\")","v":""},{"$f":"IF('Scope and Prelim. Cost Est.'!S33<>\"\",'Scope and Prelim. Cost Est.'!S33,\"\")","v":""},{"$f":"IF('Scope and Prelim. Cost Est.'!T33<>\"\",'Scope and Prelim. Cost Est.'!T33,\"\")","v":""},{"$f":"IF('Scope and Prelim. Cost Est.'!U33<>\"\",'Scope and Prelim. Cost Est.'!U33,\"\")","v":""},{"$f":"IF('Scope and Prelim. Cost Est.'!V33<>\"\",'Scope and Prelim. Cost Est.'!V33,\"\")","v":""},{"$f":"IF('Scope and Prelim. Cost Est.'!W33<>\"\",'Scope and Prelim. Cost Est.'!W33,\"\")","v":""},{"$f":"IF('Scope and Prelim. Cost Est.'!X33<>\"\",'Scope and Prelim. Cost Est.'!X33,\"\")","v":""},{"$f":"IF('Scope and Prelim. Cost Est.'!Y33<>\"\",'Scope and Prelim. Cost Est.'!Y33,\"\")","v":""},{"$f":"IF('Scope and Prelim. Cost Est.'!Z33<>\"\",'Scope and Prelim. Cost Est.'!Z33,\"\")","v":""},{"$f":"IF('Scope and Prelim. Cost Est.'!AA33<>\"\",'Scope and Prelim. Cost Est.'!AA33,\"\")","v":""},"",{"$f":"IF('Scope and Prelim. Cost Est.'!AB33<>\"\",'Scope and Prelim. Cost Est.'!AB33,\"\")","v":""},{"$f":"IF('Scope and Prelim. Cost Est.'!AC33<>\"\",'Scope and Prelim. Cost Est.'!AC33,\"\")","v":""},{"$f":"IF('Scope and Prelim. Cost Est.'!AD33<>\"\",'Scope and Prelim. Cost Est.'!AD33,\"\")","v":""},{"$f":"IF('Scope and Prelim. Cost Est.'!AE33<>\"\",'Scope and Prelim. Cost Est.'!AE33,\"\")","v":""},{"$f":"IF('Scope and Prelim. Cost Est.'!AF33<>\"\",'Scope and Prelim. Cost Est.'!AF33,\"\")","v":""},{"$f":"IF('Scope and Prelim. Cost Est.'!AG33<>\"\",'Scope and Prelim. Cost Est.'!AG33,\"\")","v":""},{"$f":"IF('Scope and Prelim. Cost Est.'!AH33<>\"\",'Scope and Prelim. Cost Est.'!AH33,\"\")","v":""}]
[null,{"$f":"IF('Scope and Prelim. Cost Est.'!B34<>\"\",'Scope and Prelim. Cost Est.'!B34,\"\")","v":""},{"$f":"IF('Scope and Prelim. Cost Est.'!C34<>\"\",'Scope and Prelim. Cost Est.'!C34,\"\")","v":""},{"$f":"IF('Scope and Prelim. Cost Est.'!D34<>\"\",'Scope and Prelim. Cost Est.'!D34,\"\")","v":""},{"$f":"IF('Scope and Prelim. Cost Est.'!E34<>\"\",'Scope and Prelim. Cost Est.'!E34,\"\")","v":""},{"$f":"IF('Scope and Prelim. Cost Est.'!F34<>\"\",'Scope and Prelim. Cost Est.'!F34,\"\")","v":""},{"$f":"IF('Scope and Prelim. Cost Est.'!G34<>\"\",'Scope and Prelim. Cost Est.'!G34,\"\")","v":""},{"$f":"IF('Scope and Prelim. Cost Est.'!H34<>\"\",'Scope and Prelim. Cost Est.'!H34,\"\")","v":""},{"$f":"IF('Scope and Prelim. Cost Est.'!I34<>\"\",'Scope and Prelim. Cost Est.'!I34,\"\")","v":""},{"$f":"IF('Scope and Prelim. Cost Est.'!J34<>\"\",'Scope and Prelim. Cost Est.'!J34,\"\")","v":""},{"$f":"IF('Scope and Prelim. Cost Est.'!K34<>\"\",'Scope and Prelim. Cost Est.'!K34,\"\")","v":""},{"$f":"IF('Scope and Prelim. Cost Est.'!L34<>\"\",'Scope and Prelim. Cost Est.'!L34,\"\")","v":""},"",{"$f":"IF('Scope and Prelim. Cost Est.'!M34<>\"\",'Scope and Prelim. Cost Est.'!M34,\"\")","v":""},{"$f":"IF('Scope and Prelim. Cost Est.'!N34<>\"\",'Scope and Prelim. Cost Est.'!N34,\"\")","v":""},{"$f":"IF('Scope and Prelim. Cost Est.'!O34<>\"\",'Scope and Prelim. Cost Est.'!O34,\"\")","v":""},{"$f":"IF('Scope and Prelim. Cost Est.'!P34<>\"\",'Scope and Prelim. Cost Est.'!P34,\"\")","v":0},null,null,{"$f":"IF('Scope and Prelim. Cost Est.'!B34<>\"\",'Scope and Prelim. Cost Est.'!B34,\"\")","v":""},{"$f":"IF('Scope and Prelim. Cost Est.'!C34<>\"\",'Scope and Prelim. Cost Est.'!C34,\"\")","v":""},{"$f":"IF('Scope and Prelim. Cost Est.'!Q34<>\"\",'Scope and Prelim. Cost Est.'!Q34,\"\")","v":""},{"$f":"IF('Scope and Prelim. Cost Est.'!R34<>\"\",'Scope and Prelim. Cost Est.'!R34,\"\")","v":""},{"$f":"IF('Scope and Prelim. Cost Est.'!S34<>\"\",'Scope and Prelim. Cost Est.'!S34,\"\")","v":""},{"$f":"IF('Scope and Prelim. Cost Est.'!T34<>\"\",'Scope and Prelim. Cost Est.'!T34,\"\")","v":""},{"$f":"IF('Scope and Prelim. Cost Est.'!U34<>\"\",'Scope and Prelim. Cost Est.'!U34,\"\")","v":""},{"$f":"IF('Scope and Prelim. Cost Est.'!V34<>\"\",'Scope and Prelim. Cost Est.'!V34,\"\")","v":""},{"$f":"IF('Scope and Prelim. Cost Est.'!W34<>\"\",'Scope and Prelim. Cost Est.'!W34,\"\")","v":""},{"$f":"IF('Scope and Prelim. Cost Est.'!X34<>\"\",'Scope and Prelim. Cost Est.'!X34,\"\")","v":""},{"$f":"IF('Scope and Prelim. Cost Est.'!Y34<>\"\",'Scope and Prelim. Cost Est.'!Y34,\"\")","v":""},{"$f":"IF('Scope and Prelim. Cost Est.'!Z34<>\"\",'Scope and Prelim. Cost Est.'!Z34,\"\")","v":""},{"$f":"IF('Scope and Prelim. Cost Est.'!AA34<>\"\",'Scope and Prelim. Cost Est.'!AA34,\"\")","v":""},"",{"$f":"IF('Scope and Prelim. Cost Est.'!AB34<>\"\",'Scope and Prelim. Cost Est.'!AB34,\"\")","v":""},{"$f":"IF('Scope and Prelim. Cost Est.'!AC34<>\"\",'Scope and Prelim. Cost Est.'!AC34,\"\")","v":""},{"$f":"IF('Scope and Prelim. Cost Est.'!AD34<>\"\",'Scope and Prelim. Cost Est.'!AD34,\"\")","v":""},{"$f":"IF('Scope and Prelim. Cost Est.'!AE34<>\"\",'Scope and Prelim. Cost Est.'!AE34,\"\")","v":""},{"$f":"IF('Scope and Prelim. Cost Est.'!AF34<>\"\",'Scope and Prelim. Cost Est.'!AF34,\"\")","v":""},{"$f":"IF('Scope and Prelim. Cost Est.'!AG34<>\"\",'Scope and Prelim. Cost Est.'!AG34,\"\")","v":""},{"$f":"IF('Scope and Prelim. Cost Est.'!AH34<>\"\",'Scope and Prelim. Cost Est.'!AH34,\"\")","v":""}]
[null,{"$f":"IF('Scope and Prelim. Cost Est.'!B35<>\"\",'Scope and Prelim. Cost Est.'!B35,\"\")","v":""},{"$f":"IF('Scope and Prelim. Cost Est.'!C35<>\"\",'Scope and Prelim. Cost Est.'!C35,\"\")","v":""},{"$f":"IF('Scope and Prelim. Cost Est.'!D35<>\"\",'Scope and Prelim. Cost Est.'!D35,\"\")","v":""},{"$f":"IF('Scope and Prelim. Cost Est.'!E35<>\"\",'Scope and Prelim. Cost Est.'!E35,\"\")","v":""},{"$f":"IF('Scope and Prelim. Cost Est.'!F35<>\"\",'Scope and Prelim. Cost Est.'!F35,\"\")","v":""},{"$f":"IF('Scope and Prelim. Cost Est.'!G35<>\"\",'Scope and Prelim. Cost Est.'!G35,\"\")","v":""},{"$f":"IF('Scope and Prelim. Cost Est.'!H35<>\"\",'Scope and Prelim. Cost Est.'!H35,\"\")","v":""},{"$f":"IF('Scope and Prelim. Cost Est.'!I35<>\"\",'Scope and Prelim. Cost Est.'!I35,\"\")","v":""},{"$f":"IF('Scope and Prelim. Cost Est.'!J35<>\"\",'Scope and Prelim. Cost Est.'!J35,\"\")","v":""},{"$f":"IF('Scope and Prelim. Cost Est.'!K35<>\"\",'Scope and Prelim. Cost Est.'!K35,\"\")","v":""},{"$f":"IF('Scope and Prelim. Cost Est.'!L35<>\"\",'Scope and Prelim. Cost Est.'!L35,\"\")","v":""},"",{"$f":"IF('Scope and Prelim. Cost Est.'!M35<>\"\",'Scope and Prelim. Cost Est.'!M35,\"\")","v":""},{"$f":"IF('Scope and Prelim. Cost Est.'!N35<>\"\",'Scope and Prelim. Cost Est.'!N35,\"\")","v":""},{"$f":"IF('Scope and Prelim. Cost Est.'!O35<>\"\",'Scope and Prelim. Cost Est.'!O35,\"\")","v":""},{"$f":"IF('Scope and Prelim. Cost Est.'!P35<>\"\",'Scope and Prelim. Cost Est.'!P35,\"\")","v":0},null,null,{"$f":"IF('Scope and Prelim. Cost Est.'!B35<>\"\",'Scope and Prelim. Cost Est.'!B35,\"\")","v":""},{"$f":"IF('Scope and Prelim. Cost Est.'!C35<>\"\",'Scope and Prelim. Cost Est.'!C35,\"\")","v":""},{"$f":"IF('Scope and Prelim. Cost Est.'!Q35<>\"\",'Scope and Prelim. Cost Est.'!Q35,\"\")","v":""},{"$f":"IF('Scope and Prelim. Cost Est.'!R35<>\"\",'Scope and Prelim. Cost Est.'!R35,\"\")","v":""},{"$f":"IF('Scope and Prelim. Cost Est.'!S35<>\"\",'Scope and Prelim. Cost Est.'!S35,\"\")","v":""},{"$f":"IF('Scope and Prelim. Cost Est.'!T35<>\"\",'Scope and Prelim. Cost Est.'!T35,\"\")","v":""},{"$f":"IF('Scope and Prelim. Cost Est.'!U35<>\"\",'Scope and Prelim. Cost Est.'!U35,\"\")","v":""},{"$f":"IF('Scope and Prelim. Cost Est.'!V35<>\"\",'Scope and Prelim. Cost Est.'!V35,\"\")","v":""},{"$f":"IF('Scope and Prelim. Cost Est.'!W35<>\"\",'Scope and Prelim. Cost Est.'!W35,\"\")","v":""},{"$f":"IF('Scope and Prelim. Cost Est.'!X35<>\"\",'Scope and Prelim. Cost Est.'!X35,\"\")","v":""},{"$f":"IF('Scope and Prelim. Cost Est.'!Y35<>\"\",'Scope and Prelim. Cost Est.'!Y35,\"\")","v":""},{"$f":"IF('Scope and Prelim. Cost Est.'!Z35<>\"\",'Scope and Prelim. Cost Est.'!Z35,\"\")","v":""},{"$f":"IF('Scope and Prelim. Cost Est.'!AA35<>\"\",'Scope and Prelim. Cost Est.'!AA35,\"\")","v":""},"",{"$f":"IF('Scope and Prelim. Cost Est.'!AB35<>\"\",'Scope and Prelim. Cost Est.'!AB35,\"\")","v":""},{"$f":"IF('Scope and Prelim. Cost Est.'!AC35<>\"\",'Scope and Prelim. Cost Est.'!AC35,\"\")","v":""},{"$f":"IF('Scope and Prelim. Cost Est.'!AD35<>\"\",'Scope and Prelim. Cost Est.'!AD35,\"\")","v":""},{"$f":"IF('Scope and Prelim. Cost Est.'!AE35<>\"\",'Scope and Prelim. Cost Est.'!AE35,\"\")","v":""},{"$f":"IF('Scope and Prelim. Cost Est.'!AF35<>\"\",'Scope and Prelim. Cost Est.'!AF35,\"\")","v":""},{"$f":"IF('Scope and Prelim. Cost Est.'!AG35<>\"\",'Scope and Prelim. Cost Est.'!AG35,\"\")","v":""},{"$f":"IF('Scope and Prelim. Cost Est.'!AH35<>\"\",'Scope and Prelim. Cost Est.'!AH35,\"\")","v":""}]
[]
[null,"Measure Name","Measure Description","Important Assumptions (cont.)","Scope Area\n(cont.)","Energy Efficiency Measure?\n(cont.)","Measure Category\n(cont.)","Measure Classification\n(cont.)","Urgency\n(cont.)","Measure Type\n(cont.)","Unit Type\n{Default}","Unit Type {user entry}","Unit Type\n(cont.)","Qty\n(cont.)","Cost Per Unit\n(cont.)","Cost Source (e.g. 2017 R.S. Means, contractor quote, etc.)\n(cont.)","Total Cost \n(cont.)",null,null,"Measure Name\n(cont.)","Measure Description\n(cont.)","Projected Annual Electricity Savings\n (kWh/yr)\nCooling","Projected Annual Electricity Savings\n (kWh/yr)\nNon-Cooling","Project Annual Fuel Savings (MMBtu/yr)\n Heating","Project Annual Fuel Savings (MMBtu/yr)\nNon-Heating","Affected Fuel (for MMBtu Savings)","Projected Annual Cost Savings \n($/yr)","SIR","Simple Payback","Savings Accrue to Tenants?","Measure Life (years)\n{Default}","Measure Life \n(years) \n{user entry}","Measure Life","Full or Incremental Savings","Existing Equipment Year of Manufacture","Projected Annual Water Savings (gal/yr)","Potential Health Benefit Impact ","Incentive #1","Incentive #2","Incentive # 3"]
[null,{"$f":"IF('Scope and Prelim. Cost Est.'!B36<>\"\",'Scope and Prelim. Cost Est.'!B36,\"\")","v":""},{"$f":"IF('Scope and Prelim. Cost Est.'!C36<>\"\",'Scope and Prelim. Cost Est.'!C36,\"\")","v":""},{"$f":"IF('Scope and Prelim. Cost Est.'!D36<>\"\",'Scope and Prelim. Cost Est.'!D36,\"\")","v":""},{"$f":"IF('Scope and Prelim. Cost Est.'!E36<>\"\",'Scope and Prelim. Cost Est.'!E36,\"\")","v":""},{"$f":"IF('Scope and Prelim. Cost Est.'!F36<>\"\",'Scope and Prelim. Cost Est.'!F36,\"\")","v":""},{"$f":"IF('Scope and Prelim. Cost Est.'!G36<>\"\",'Scope and Prelim. Cost Est.'!G36,\"\")","v":""},{"$f":"IF('Scope and Prelim. Cost Est.'!H36<>\"\",'Scope and Prelim. Cost Est.'!H36,\"\")","v":""},{"$f":"IF('Scope and Prelim. Cost Est.'!I36<>\"\",'Scope and Prelim. Cost Est.'!I36,\"\")","v":""},{"$f":"IF('Scope and Prelim. Cost Est.'!J36<>\"\",'Scope and Prelim. Cost Est.'!J36,\"\")","v":""},{"$f":"IF('Scope and Prelim. Cost Est.'!K36<>\"\",'Scope and Prelim. Cost Est.'!K36,\"\")","v":""},{"$f":"IF('Scope and Prelim. Cost Est.'!L36<>\"\",'Scope and Prelim. Cost Est.'!L36,\"\")","v":""},"",{"$f":"IF('Scope and Prelim. Cost Est.'!M36<>\"\",'Scope and Prelim. Cost Est.'!M36,\"\")","v":""},{"$f":"IF('Scope and Prelim. Cost Est.'!N36<>\"\",'Scope and Prelim. Cost Est.'!N36,\"\")","v":""},{"$f":"IF('Scope and Prelim. Cost Est.'!O36<>\"\",'Scope and Prelim. Cost Est.'!O36,\"\")","v":""},{"$f":"IF('Scope and Prelim. Cost Est.'!P36<>\"\",'Scope and Prelim. Cost Est.'!P36,\"\")","v":0},null,null,{"$f":"IF('Scope and Prelim. Cost Est.'!B36<>\"\",'Scope and Prelim. Cost Est.'!B36,\"\")","v":""},{"$f":"IF('Scope and Prelim. Cost Est.'!C36<>\"\",'Scope and Prelim. Cost Est.'!C36,\"\")","v":""},{"$f":"IF('Scope and Prelim. Cost Est.'!Q36<>\"\",'Scope and Prelim. Cost Est.'!Q36,\"\")","v":""},{"$f":"IF('Scope and Prelim. Cost Est.'!R36<>\"\",'Scope and Prelim. Cost Est.'!R36,\"\")","v":""},{"$f":"IF('Scope and Prelim. Cost Est.'!S36<>\"\",'Scope and Prelim. Cost Est.'!S36,\"\")","v":""},{"$f":"IF('Scope and Prelim. Cost Est.'!T36<>\"\",'Scope and Prelim. Cost Est.'!T36,\"\")","v":""},{"$f":"IF('Scope and Prelim. Cost Est.'!U36<>\"\",'Scope and Prelim. Cost Est.'!U36,\"\")","v":""},{"$f":"IF('Scope and Prelim. Cost Est.'!V36<>\"\",'Scope and Prelim. Cost Est.'!V36,\"\")","v":""},{"$f":"IF('Scope and Prelim. Cost Est.'!W36<>\"\",'Scope and Prelim. Cost Est.'!W36,\"\")","v":""},{"$f":"IF('Scope and Prelim. Cost Est.'!X36<>\"\",'Scope and Prelim. Cost Est.'!X36,\"\")","v":""},{"$f":"IF('Scope and Prelim. Cost Est.'!Y36<>\"\",'Scope and Prelim. Cost Est.'!Y36,\"\")","v":""},{"$f":"IF('Scope and Prelim. Cost Est.'!Z36<>\"\",'Scope and Prelim. Cost Est.'!Z36,\"\")","v":""},{"$f":"IF('Scope and Prelim. Cost Est.'!AA36<>\"\",'Scope and Prelim. Cost Est.'!AA36,\"\")","v":""},"",{"$f":"IF('Scope and Prelim. Cost Est.'!AB36<>\"\",'Scope and Prelim. Cost Est.'!AB36,\"\")","v":""},{"$f":"IF('Scope and Prelim. Cost Est.'!AC36<>\"\",'Scope and Prelim. Cost Est.'!AC36,\"\")","v":""},{"$f":"IF('Scope and Prelim. Cost Est.'!AD36<>\"\",'Scope and Prelim. Cost Est.'!AD36,\"\")","v":""},{"$f":"IF('Scope and Prelim. Cost Est.'!AE36<>\"\",'Scope and Prelim. Cost Est.'!AE36,\"\")","v":""},{"$f":"IF('Scope and Prelim. Cost Est.'!AF36<>\"\",'Scope and Prelim. Cost Est.'!AF36,\"\")","v":""},{"$f":"IF('Scope and Prelim. Cost Est.'!AG36<>\"\",'Scope and Prelim. Cost Est.'!AG36,\"\")","v":""},{"$f":"IF('Scope and Prelim. Cost Est.'!AH36<>\"\",'Scope and Prelim. Cost Est.'!AH36,\"\")","v":""}]
[null,{"$f":"IF('Scope and Prelim. Cost Est.'!B37<>\"\",'Scope and Prelim. Cost Est.'!B37,\"\")","v":""},{"$f":"IF('Scope and Prelim. Cost Est.'!C37<>\"\",'Scope and Prelim. Cost Est.'!C37,\"\")","v":""},{"$f":"IF('Scope and Prelim. Cost Est.'!D37<>\"\",'Scope and Prelim. Cost Est.'!D37,\"\")","v":""},{"$f":"IF('Scope and Prelim. Cost Est.'!E37<>\"\",'Scope and Prelim. Cost Est.'!E37,\"\")","v":""},{"$f":"IF('Scope and Prelim. Cost Est.'!F37<>\"\",'Scope and Prelim. Cost Est.'!F37,\"\")","v":""},{"$f":"IF('Scope and Prelim. Cost Est.'!G37<>\"\",'Scope and Prelim. Cost Est.'!G37,\"\")","v":""},{"$f":"IF('Scope and Prelim. Cost Est.'!H37<>\"\",'Scope and Prelim. Cost Est.'!H37,\"\")","v":""},{"$f":"IF('Scope and Prelim. Cost Est.'!I37<>\"\",'Scope and Prelim. Cost Est.'!I37,\"\")","v":""},{"$f":"IF('Scope and Prelim. Cost Est.'!J37<>\"\",'Scope and Prelim. Cost Est.'!J37,\"\")","v":""},{"$f":"IF('Scope and Prelim. Cost Est.'!K37<>\"\",'Scope and Prelim. Cost Est.'!K37,\"\")","v":""},{"$f":"IF('Scope and Prelim. Cost Est.'!L37<>\"\",'Scope and Prelim. Cost Est.'!L37,\"\")","v":""},"",{"$f":"IF('Scope and Prelim. Cost Est.'!M37<>\"\",'Scope and Prelim. Cost Est.'!M37,\"\")","v":""},{"$f":"IF('Scope and Prelim. Cost Est.'!N37<>\"\",'Scope and Prelim. Cost Est.'!N37,\"\")","v":""},{"$f":"IF('Scope and Prelim. Cost Est.'!O37<>\"\",'Scope and Prelim. Cost Est.'!O37,\"\")","v":""},{"$f":"IF('Scope and Prelim. Cost Est.'!P37<>\"\",'Scope and Prelim. Cost Est.'!P37,\"\")","v":0},null,null,{"$f":"IF('Scope and Prelim. Cost Est.'!B37<>\"\",'Scope and Prelim. Cost Est.'!B37,\"\")","v":""},{"$f":"IF('Scope and Prelim. Cost Est.'!C37<>\"\",'Scope and Prelim. Cost Est.'!C37,\"\")","v":""},{"$f":"IF('Scope and Prelim. Cost Est.'!Q37<>\"\",'Scope and Prelim. Cost Est.'!Q37,\"\")","v":""},{"$f":"IF('Scope and Prelim. Cost Est.'!R37<>\"\",'Scope and Prelim. Cost Est.'!R37,\"\")","v":""},{"$f":"IF('Scope and Prelim. Cost Est.'!S37<>\"\",'Scope and Prelim. Cost Est.'!S37,\"\")","v":""},{"$f":"IF('Scope and Prelim. Cost Est.'!T37<>\"\",'Scope and Prelim. Cost Est.'!T37,\"\")","v":""},{"$f":"IF('Scope and Prelim. Cost Est.'!U37<>\"\",'Scope and Prelim. Cost Est.'!U37,\"\")","v":""},{"$f":"IF('Scope and Prelim. Cost Est.'!V37<>\"\",'Scope and Prelim. Cost Est.'!V37,\"\")","v":""},{"$f":"IF('Scope and Prelim. Cost Est.'!W37<>\"\",'Scope and Prelim. Cost Est.'!W37,\"\")","v":""},{"$f":"IF('Scope and Prelim. Cost Est.'!X37<>\"\",'Scope and Prelim. Cost Est.'!X37,\"\")","v":""},{"$f":"IF('Scope and Prelim. Cost Est.'!Y37<>\"\",'Scope and Prelim. Cost Est.'!Y37,\"\")","v":""},{"$f":"IF('Scope and Prelim. Cost Est.'!Z37<>\"\",'Scope and Prelim. Cost Est.'!Z37,\"\")","v":""},{"$f":"IF('Scope and Prelim. Cost Est.'!AA37<>\"\",'Scope and Prelim. Cost Est.'!AA37,\"\")","v":""},"",{"$f":"IF('Scope and Prelim. Cost Est.'!AB37<>\"\",'Scope and Prelim. Cost Est.'!AB37,\"\")","v":""},{"$f":"IF('Scope and Prelim. Cost Est.'!AC37<>\"\",'Scope and Prelim. Cost Est.'!AC37,\"\")","v":""},{"$f":"IF('Scope and Prelim. Cost Est.'!AD37<>\"\",'Scope and Prelim. Cost Est.'!AD37,\"\")","v":""},{"$f":"IF('Scope and Prelim. Cost Est.'!AE37<>\"\",'Scope and Prelim. Cost Est.'!AE37,\"\")","v":""},{"$f":"IF('Scope and Prelim. Cost Est.'!AF37<>\"\",'Scope and Prelim. Cost Est.'!AF37,\"\")","v":""},{"$f":"IF('Scope and Prelim. Cost Est.'!AG37<>\"\",'Scope and Prelim. Cost Est.'!AG37,\"\")","v":""},{"$f":"IF('Scope and Prelim. Cost Est.'!AH37<>\"\",'Scope and Prelim. Cost Est.'!AH37,\"\")","v":""}]
[null,{"$f":"IF('Scope and Prelim. Cost Est.'!B38<>\"\",'Scope and Prelim. Cost Est.'!B38,\"\")","v":""},{"$f":"IF('Scope and Prelim. Cost Est.'!C38<>\"\",'Scope and Prelim. Cost Est.'!C38,\"\")","v":""},{"$f":"IF('Scope and Prelim. Cost Est.'!D38<>\"\",'Scope and Prelim. Cost Est.'!D38,\"\")","v":""},{"$f":"IF('Scope and Prelim. Cost Est.'!E38<>\"\",'Scope and Prelim. Cost Est.'!E38,\"\")","v":""},{"$f":"IF('Scope and Prelim. Cost Est.'!F38<>\"\",'Scope and Prelim. Cost Est.'!F38,\"\")","v":""},{"$f":"IF('Scope and Prelim. Cost Est.'!G38<>\"\",'Scope and Prelim. Cost Est.'!G38,\"\")","v":""},{"$f":"IF('Scope and Prelim. Cost Est.'!H38<>\"\",'Scope and Prelim. Cost Est.'!H38,\"\")","v":""},{"$f":"IF('Scope and Prelim. Cost Est.'!I38<>\"\",'Scope and Prelim. Cost Est.'!I38,\"\")","v":""},{"$f":"IF('Scope and Prelim. Cost Est.'!J38<>\"\",'Scope and Prelim. Cost Est.'!J38,\"\")","v":""},{"$f":"IF('Scope and Prelim. Cost Est.'!K38<>\"\",'Scope and Prelim. Cost Est.'!K38,\"\")","v":""},{"$f":"IF('Scope and Prelim. Cost Est.'!L38<>\"\",'Scope and Prelim. Cost Est.'!L38,\"\")","v":""},"",{"$f":"IF('Scope and Prelim. Cost Est.'!M38<>\"\",'Scope and Prelim. Cost Est.'!M38,\"\")","v":""},{"$f":"IF('Scope and Prelim. Cost Est.'!N38<>\"\",'Scope and Prelim. Cost Est.'!N38,\"\")","v":""},{"$f":"IF('Scope and Prelim. Cost Est.'!O38<>\"\",'Scope and Prelim. Cost Est.'!O38,\"\")","v":""},{"$f":"IF('Scope and Prelim. Cost Est.'!P38<>\"\",'Scope and Prelim. Cost Est.'!P38,\"\")","v":0},null,null,{"$f":"IF('Scope and Prelim. Cost Est.'!B38<>\"\",'Scope and Prelim. Cost Est.'!B38,\"\")","v":""},{"$f":"IF('Scope and Prelim. Cost Est.'!C38<>\"\",'Scope and Prelim. Cost Est.'!C38,\"\")","v":""},{"$f":"IF('Scope and Prelim. Cost Est.'!Q38<>\"\",'Scope and Prelim. Cost Est.'!Q38,\"\")","v":""},{"$f":"IF('Scope and Prelim. Cost Est.'!R38<>\"\",'Scope and Prelim. Cost Est.'!R38,\"\")","v":""},{"$f":"IF('Scope and Prelim. Cost Est.'!S38<>\"\",'Scope and Prelim. Cost Est.'!S38,\"\")","v":""},{"$f":"IF('Scope and Prelim. Cost Est.'!T38<>\"\",'Scope and Prelim. Cost Est.'!T38,\"\")","v":""},{"$f":"IF('Scope and Prelim. Cost Est.'!U38<>\"\",'Scope and Prelim. Cost Est.'!U38,\"\")","v":""},{"$f":"IF('Scope and Prelim. Cost Est.'!V38<>\"\",'Scope and Prelim. Cost Est.'!V38,\"\")","v":""},{"$f":"IF('Scope and Prelim. Cost Est.'!W38<>\"\",'Scope and Prelim. Cost Est.'!W38,\"\")","v":""},{"$f":"IF('Scope and Prelim. Cost Est.'!X38<>\"\",'Scope and Prelim. Cost Est.'!X38,\"\")","v":""},{"$f":"IF('Scope and Prelim. Cost Est.'!Y38<>\"\",'Scope and Prelim. Cost Est.'!Y38,\"\")","v":""},{"$f":"IF('Scope and Prelim. Cost Est.'!Z38<>\"\",'Scope and Prelim. Cost Est.'!Z38,\"\")","v":""},{"$f":"IF('Scope and Prelim. Cost Est.'!AA38<>\"\",'Scope and Prelim. Cost Est.'!AA38,\"\")","v":""},"",{"$f":"IF('Scope and Prelim. Cost Est.'!AB38<>\"\",'Scope and Prelim. Cost Est.'!AB38,\"\")","v":""},{"$f":"IF('Scope and Prelim. Cost Est.'!AC38<>\"\",'Scope and Prelim. Cost Est.'!AC38,\"\")","v":""},{"$f":"IF('Scope and Prelim. Cost Est.'!AD38<>\"\",'Scope and Prelim. Cost Est.'!AD38,\"\")","v":""},{"$f":"IF('Scope and Prelim. Cost Est.'!AE38<>\"\",'Scope and Prelim. Cost Est.'!AE38,\"\")","v":""},{"$f":"IF('Scope and Prelim. Cost Est.'!AF38<>\"\",'Scope and Prelim. Cost Est.'!AF38,\"\")","v":""},{"$f":"IF('Scope and Prelim. Cost Est.'!AG38<>\"\",'Scope and Prelim. Cost Est.'!AG38,\"\")","v":""},{"$f":"IF('Scope and Prelim. Cost Est.'!AH38<>\"\",'Scope and Prelim. Cost Est.'!AH38,\"\")","v":""}]
[null,{"$f":"IF('Scope and Prelim. Cost Est.'!B39<>\"\",'Scope and Prelim. Cost Est.'!B39,\"\")","v":""},{"$f":"IF('Scope and Prelim. Cost Est.'!C39<>\"\",'Scope and Prelim. Cost Est.'!C39,\"\")","v":""},{"$f":"IF('Scope and Prelim. Cost Est.'!D39<>\"\",'Scope and Prelim. Cost Est.'!D39,\"\")","v":""},{"$f":"IF('Scope and Prelim. Cost Est.'!E39<>\"\",'Scope and Prelim. Cost Est.'!E39,\"\")","v":""},{"$f":"IF('Scope and Prelim. Cost Est.'!F39<>\"\",'Scope and Prelim. Cost Est.'!F39,\"\")","v":""},{"$f":"IF('Scope and Prelim. Cost Est.'!G39<>\"\",'Scope and Prelim. Cost Est.'!G39,\"\")","v":""},{"$f":"IF('Scope and Prelim. Cost Est.'!H39<>\"\",'Scope and Prelim. Cost Est.'!H39,\"\")","v":""},{"$f":"IF('Scope and Prelim. Cost Est.'!I39<>\"\",'Scope and Prelim. Cost Est.'!I39,\"\")","v":""},{"$f":"IF('Scope and Prelim. Cost Est.'!J39<>\"\",'Scope and Prelim. Cost Est.'!J39,\"\")","v":""},{"$f":"IF('Scope and Prelim. Cost Est.'!K39<>\"\",'Scope and Prelim. Cost Est.'!K39,\"\")","v":""},{"$f":"IF('Scope and Prelim. Cost Est.'!L39<>\"\",'Scope and Prelim. Cost Est.'!L39,\"\")","v":""},"",{"$f":"IF('Scope and Prelim. Cost Est.'!M39<>\"\",'Scope and Prelim. Cost Est.'!M39,\"\")","v":""},{"$f":"IF('Scope and Prelim. Cost Est.'!N39<>\"\",'Scope and Prelim. Cost Est.'!N39,\"\")","v":""},{"$f":"IF('Scope and Prelim. Cost Est.'!O39<>\"\",'Scope and Prelim. Cost Est.'!O39,\"\")","v":""},{"$f":"IF('Scope and Prelim. Cost Est.'!P39<>\"\",'Scope and Prelim. Cost Est.'!P39,\"\")","v":0},null,null,{"$f":"IF('Scope and Prelim. Cost Est.'!B39<>\"\",'Scope and Prelim. Cost Est.'!B39,\"\")","v":""},{"$f":"IF('Scope and Prelim. Cost Est.'!C39<>\"\",'Scope and Prelim. Cost Est.'!C39,\"\")","v":""},{"$f":"IF('Scope and Prelim. Cost Est.'!Q39<>\"\",'Scope and Prelim. Cost Est.'!Q39,\"\")","v":""},{"$f":"IF('Scope and Prelim. Cost Est.'!R39<>\"\",'Scope and Prelim. Cost Est.'!R39,\"\")","v":""},{"$f":"IF('Scope and Prelim. Cost Est.'!S39<>\"\",'Scope and Prelim. Cost Est.'!S39,\"\")","v":""},{"$f":"IF('Scope and Prelim. Cost Est.'!T39<>\"\",'Scope and Prelim. Cost Est.'!T39,\"\")","v":""},{"$f":"IF('Scope and Prelim. Cost Est.'!U39<>\"\",'Scope and Prelim. Cost Est.'!U39,\"\")","v":""},{"$f":"IF('Scope and Prelim. Cost Est.'!V39<>\"\",'Scope and Prelim. Cost Est.'!V39,\"\")","v":""},{"$f":"IF('Scope and Prelim. Cost Est.'!W39<>\"\",'Scope and Prelim. Cost Est.'!W39,\"\")","v":""},{"$f":"IF('Scope and Prelim. Cost Est.'!X39<>\"\",'Scope and Prelim. Cost Est.'!X39,\"\")","v":""},{"$f":"IF('Scope and Prelim. Cost Est.'!Y39<>\"\",'Scope and Prelim. Cost Est.'!Y39,\"\")","v":""},{"$f":"IF('Scope and Prelim. Cost Est.'!Z39<>\"\",'Scope and Prelim. Cost Est.'!Z39,\"\")","v":""},{"$f":"IF('Scope and Prelim. Cost Est.'!AA39<>\"\",'Scope and Prelim. Cost Est.'!AA39,\"\")","v":""},"",{"$f":"IF('Scope and Prelim. Cost Est.'!AB39<>\"\",'Scope and Prelim. Cost Est.'!AB39,\"\")","v":""},{"$f":"IF('Scope and Prelim. Cost Est.'!AC39<>\"\",'Scope and Prelim. Cost Est.'!AC39,\"\")","v":""},{"$f":"IF('Scope and Prelim. Cost Est.'!AD39<>\"\",'Scope and Prelim. Cost Est.'!AD39,\"\")","v":""},{"$f":"IF('Scope and Prelim. Cost Est.'!AE39<>\"\",'Scope and Prelim. Cost Est.'!AE39,\"\")","v":""},{"$f":"IF('Scope and Prelim. Cost Est.'!AF39<>\"\",'Scope and Prelim. Cost Est.'!AF39,\"\")","v":""},{"$f":"IF('Scope and Prelim. Cost Est.'!AG39<>\"\",'Scope and Prelim. Cost Est.'!AG39,\"\")","v":""},{"$f":"IF('Scope and Prelim. Cost Est.'!AH39<>\"\",'Scope and Prelim. Cost Est.'!AH39,\"\")","v":""}]
[null,{"$f":"IF('Scope and Prelim. Cost Est.'!B40<>\"\",'Scope and Prelim. Cost Est.'!B40,\"\")","v":""},{"$f":"IF('Scope and Prelim. Cost Est.'!C40<>\"\",'Scope and Prelim. Cost Est.'!C40,\"\")","v":""},{"$f":"IF('Scope and Prelim. Cost Est.'!D40<>\"\",'Scope and Prelim. Cost Est.'!D40,\"\")","v":""},{"$f":"IF('Scope and Prelim. Cost Est.'!E40<>\"\",'Scope and Prelim. Cost Est.'!E40,\"\")","v":""},{"$f":"IF('Scope and Prelim. Cost Est.'!F40<>\"\",'Scope and Prelim. Cost Est.'!F40,\"\")","v":""},{"$f":"IF('Scope and Prelim. Cost Est.'!G40<>\"\",'Scope and Prelim. Cost Est.'!G40,\"\")","v":""},{"$f":"IF('Scope and Prelim. Cost Est.'!H40<>\"\",'Scope and Prelim. Cost Est.'!H40,\"\")","v":""},{"$f":"IF('Scope and Prelim. Cost Est.'!I40<>\"\",'Scope and Prelim. Cost Est.'!I40,\"\")","v":""},{"$f":"IF('Scope and Prelim. Cost Est.'!J40<>\"\",'Scope and Prelim. Cost Est.'!J40,\"\")","v":""},{"$f":"IF('Scope and Prelim. Cost Est.'!K40<>\"\",'Scope and Prelim. Cost Est.'!K40,\"\")","v":""},{"$f":"IF('Scope and Prelim. Cost Est.'!L40<>\"\",'Scope and Prelim. Cost Est.'!L40,\"\")","v":""},"",{"$f":"IF('Scope and Prelim. Cost Est.'!M40<>\"\",'Scope and Prelim. Cost Est.'!M40,\"\")","v":""},{"$f":"IF('Scope and Prelim. Cost Est.'!N40<>\"\",'Scope and Prelim. Cost Est.'!N40,\"\")","v":""},{"$f":"IF('Scope and Prelim. Cost Est.'!O40<>\"\",'Scope and Prelim. Cost Est.'!O40,\"\")","v":""},{"$f":"IF('Scope and Prelim. Cost Est.'!P40<>\"\",'Scope and Prelim. Cost Est.'!P40,\"\")","v":0},null,null,{"$f":"IF('Scope and Prelim. Cost Est.'!B40<>\"\",'Scope and Prelim. Cost Est.'!B40,\"\")","v":""},{"$f":"IF('Scope and Prelim. Cost Est.'!C40<>\"\",'Scope and Prelim. Cost Est.'!C40,\"\")","v":""},{"$f":"IF('Scope and Prelim. Cost Est.'!Q40<>\"\",'Scope and Prelim. Cost Est.'!Q40,\"\")","v":""},{"$f":"IF('Scope and Prelim. Cost Est.'!R40<>\"\",'Scope and Prelim. Cost Est.'!R40,\"\")","v":""},{"$f":"IF('Scope and Prelim. Cost Est.'!S40<>\"\",'Scope and Prelim. Cost Est.'!S40,\"\")","v":""},{"$f":"IF('Scope and Prelim. Cost Est.'!T40<>\"\",'Scope and Prelim. Cost Est.'!T40,\"\")","v":""},{"$f":"IF('Scope and Prelim. Cost Est.'!U40<>\"\",'Scope and Prelim. Cost Est.'!U40,\"\")","v":""},{"$f":"IF('Scope and Prelim. Cost Est.'!V40<>\"\",'Scope and Prelim. Cost Est.'!V40,\"\")","v":""},{"$f":"IF('Scope and Prelim. Cost Est.'!W40<>\"\",'Scope and Prelim. Cost Est.'!W40,\"\")","v":""},{"$f":"IF('Scope and Prelim. Cost Est.'!X40<>\"\",'Scope and Prelim. Cost Est.'!X40,\"\")","v":""},{"$f":"IF('Scope and Prelim. Cost Est.'!Y40<>\"\",'Scope and Prelim. Cost Est.'!Y40,\"\")","v":""},{"$f":"IF('Scope and Prelim. Cost Est.'!Z40<>\"\",'Scope and Prelim. Cost Est.'!Z40,\"\")","v":""},{"$f":"IF('Scope and Prelim. Cost Est.'!AA40<>\"\",'Scope and Prelim. Cost Est.'!AA40,\"\")","v":""},"",{"$f":"IF('Scope and Prelim. Cost Est.'!AB40<>\"\",'Scope and Prelim. Cost Est.'!AB40,\"\")","v":""},{"$f":"IF('Scope and Prelim. Cost Est.'!AC40<>\"\",'Scope and Prelim. Cost Est.'!AC40,\"\")","v":""},{"$f":"IF('Scope and Prelim. Cost Est.'!AD40<>\"\",'Scope and Prelim. Cost Est.'!AD40,\"\")","v":""},{"$f":"IF('Scope and Prelim. Cost Est.'!AE40<>\"\",'Scope and Prelim. Cost Est.'!AE40,\"\")","v":""},{"$f":"IF('Scope and Prelim. Cost Est.'!AF40<>\"\",'Scope and Prelim. Cost Est.'!AF40,\"\")","v":""},{"$f":"IF('Scope and Prelim. Cost Est.'!AG40<>\"\",'Scope and Prelim. Cost Est.'!AG40,\"\")","v":""},{"$f":"IF('Scope and Prelim. Cost Est.'!AH40<>\"\",'Scope and Prelim. Cost Est.'!AH40,\"\")","v":""}]
[null,{"$f":"IF('Scope and Prelim. Cost Est.'!B41<>\"\",'Scope and Prelim. Cost Est.'!B41,\"\")","v":""},{"$f":"IF('Scope and Prelim. Cost Est.'!C41<>\"\",'Scope and Prelim. Cost Est.'!C41,\"\")","v":""},{"$f":"IF('Scope and Prelim. Cost Est.'!D41<>\"\",'Scope and Prelim. Cost Est.'!D41,\"\")","v":""},{"$f":"IF('Scope and Prelim. Cost Est.'!E41<>\"\",'Scope and Prelim. Cost Est.'!E41,\"\")","v":""},{"$f":"IF('Scope and Prelim. Cost Est.'!F41<>\"\",'Scope and Prelim. Cost Est.'!F41,\"\")","v":""},{"$f":"IF('Scope and Prelim. Cost Est.'!G41<>\"\",'Scope and Prelim. Cost Est.'!G41,\"\")","v":""},{"$f":"IF('Scope and Prelim. Cost Est.'!H41<>\"\",'Scope and Prelim. Cost Est.'!H41,\"\")","v":""},{"$f":"IF('Scope and Prelim. Cost Est.'!I41<>\"\",'Scope and Prelim. Cost Est.'!I41,\"\")","v":""},{"$f":"IF('Scope and Prelim. Cost Est.'!J41<>\"\",'Scope and Prelim. Cost Est.'!J41,\"\")","v":""},{"$f":"IF('Scope and Prelim. Cost Est.'!K41<>\"\",'Scope and Prelim. Cost Est.'!K41,\"\")","v":""},{"$f":"IF('Scope and Prelim. Cost Est.'!L41<>\"\",'Scope and Prelim. Cost Est.'!L41,\"\")","v":""},"",{"$f":"IF('Scope and Prelim. Cost Est.'!M41<>\"\",'Scope and Prelim. Cost Est.'!M41,\"\")","v":""},{"$f":"IF('Scope and Prelim. Cost Est.'!N41<>\"\",'Scope and Prelim. Cost Est.'!N41,\"\")","v":""},{"$f":"IF('Scope and Prelim. Cost Est.'!O41<>\"\",'Scope and Prelim. Cost Est.'!O41,\"\")","v":""},{"$f":"IF('Scope and Prelim. Cost Est.'!P41<>\"\",'Scope and Prelim. Cost Est.'!P41,\"\")","v":0},null,null,{"$f":"IF('Scope and Prelim. Cost Est.'!B41<>\"\",'Scope and Prelim. Cost Est.'!B41,\"\")","v":""},{"$f":"IF('Scope and Prelim. Cost Est.'!C41<>\"\",'Scope and Prelim. Cost Est.'!C41,\"\")","v":""},{"$f":"IF('Scope and Prelim. Cost Est.'!Q41<>\"\",'Scope and Prelim. Cost Est.'!Q41,\"\")","v":""},{"$f":"IF('Scope and Prelim. Cost Est.'!R41<>\"\",'Scope and Prelim. Cost Est.'!R41,\"\")","v":""},{"$f":"IF('Scope and Prelim. Cost Est.'!S41<>\"\",'Scope and Prelim. Cost Est.'!S41,\"\")","v":""},{"$f":"IF('Scope and Prelim. Cost Est.'!T41<>\"\",'Scope and Prelim. Cost Est.'!T41,\"\")","v":""},{"$f":"IF('Scope and Prelim. Cost Est.'!U41<>\"\",'Scope and Prelim. Cost Est.'!U41,\"\")","v":""},{"$f":"IF('Scope and Prelim. Cost Est.'!V41<>\"\",'Scope and Prelim. Cost Est.'!V41,\"\")","v":""},{"$f":"IF('Scope and Prelim. Cost Est.'!W41<>\"\",'Scope and Prelim. Cost Est.'!W41,\"\")","v":""},{"$f":"IF('Scope and Prelim. Cost Est.'!X41<>\"\",'Scope and Prelim. Cost Est.'!X41,\"\")","v":""},{"$f":"IF('Scope and Prelim. Cost Est.'!Y41<>\"\",'Scope and Prelim. Cost Est.'!Y41,\"\")","v":""},{"$f":"IF('Scope and Prelim. Cost Est.'!Z41<>\"\",'Scope and Prelim. Cost Est.'!Z41,\"\")","v":""},{"$f":"IF('Scope and Prelim. Cost Est.'!AA41<>\"\",'Scope and Prelim. Cost Est.'!AA41,\"\")","v":""},"",{"$f":"IF('Scope and Prelim. Cost Est.'!AB41<>\"\",'Scope and Prelim. Cost Est.'!AB41,\"\")","v":""},{"$f":"IF('Scope and Prelim. Cost Est.'!AC41<>\"\",'Scope and Prelim. Cost Est.'!AC41,\"\")","v":""},{"$f":"IF('Scope and Prelim. Cost Est.'!AD41<>\"\",'Scope and Prelim. Cost Est.'!AD41,\"\")","v":""},{"$f":"IF('Scope and Prelim. Cost Est.'!AE41<>\"\",'Scope and Prelim. Cost Est.'!AE41,\"\")","v":""},{"$f":"IF('Scope and Prelim. Cost Est.'!AF41<>\"\",'Scope and Prelim. Cost Est.'!AF41,\"\")","v":""},{"$f":"IF('Scope and Prelim. Cost Est.'!AG41<>\"\",'Scope and Prelim. Cost Est.'!AG41,\"\")","v":""},{"$f":"IF('Scope and Prelim. Cost Est.'!AH41<>\"\",'Scope and Prelim. Cost Est.'!AH41,\"\")","v":""}]
[null,{"$f":"IF('Scope and Prelim. Cost Est.'!B42<>\"\",'Scope and Prelim. Cost Est.'!B42,\"\")","v":""},{"$f":"IF('Scope and Prelim. Cost Est.'!C42<>\"\",'Scope and Prelim. Cost Est.'!C42,\"\")","v":""},{"$f":"IF('Scope and Prelim. Cost Est.'!D42<>\"\",'Scope and Prelim. Cost Est.'!D42,\"\")","v":""},{"$f":"IF('Scope and Prelim. Cost Est.'!E42<>\"\",'Scope and Prelim. Cost Est.'!E42,\"\")","v":""},{"$f":"IF('Scope and Prelim. Cost Est.'!F42<>\"\",'Scope and Prelim. Cost Est.'!F42,\"\")","v":""},{"$f":"IF('Scope and Prelim. Cost Est.'!G42<>\"\",'Scope and Prelim. Cost Est.'!G42,\"\")","v":""},{"$f":"IF('Scope and Prelim. Cost Est.'!H42<>\"\",'Scope and Prelim. Cost Est.'!H42,\"\")","v":""},{"$f":"IF('Scope and Prelim. Cost Est.'!I42<>\"\",'Scope and Prelim. Cost Est.'!I42,\"\")","v":""},{"$f":"IF('Scope and Prelim. Cost Est.'!J42<>\"\",'Scope and Prelim. Cost Est.'!J42,\"\")","v":""},{"$f":"IF('Scope and Prelim. Cost Est.'!K42<>\"\",'Scope and Prelim. Cost Est.'!K42,\"\")","v":""},{"$f":"IF('Scope and Prelim. Cost Est.'!L42<>\"\",'Scope and Prelim. Cost Est.'!L42,\"\")","v":""},"",{"$f":"IF('Scope and Prelim. Cost Est.'!M42<>\"\",'Scope and Prelim. Cost Est.'!M42,\"\")","v":""},{"$f":"IF('Scope and Prelim. Cost Est.'!N42<>\"\",'Scope and Prelim. Cost Est.'!N42,\"\")","v":""},{"$f":"IF('Scope and Prelim. Cost Est.'!O42<>\"\",'Scope and Prelim. Cost Est.'!O42,\"\")","v":""},{"$f":"IF('Scope and Prelim. Cost Est.'!P42<>\"\",'Scope and Prelim. Cost Est.'!P42,\"\")","v":0},null,null,{"$f":"IF('Scope and Prelim. Cost Est.'!B42<>\"\",'Scope and Prelim. Cost Est.'!B42,\"\")","v":""},{"$f":"IF('Scope and Prelim. Cost Est.'!C42<>\"\",'Scope and Prelim. Cost Est.'!C42,\"\")","v":""},{"$f":"IF('Scope and Prelim. Cost Est.'!Q42<>\"\",'Scope and Prelim. Cost Est.'!Q42,\"\")","v":""},{"$f":"IF('Scope and Prelim. Cost Est.'!R42<>\"\",'Scope and Prelim. Cost Est.'!R42,\"\")","v":""},{"$f":"IF('Scope and Prelim. Cost Est.'!S42<>\"\",'Scope and Prelim. Cost Est.'!S42,\"\")","v":""},{"$f":"IF('Scope and Prelim. Cost Est.'!T42<>\"\",'Scope and Prelim. Cost Est.'!T42,\"\")","v":""},{"$f":"IF('Scope and Prelim. Cost Est.'!U42<>\"\",'Scope and Prelim. Cost Est.'!U42,\"\")","v":""},{"$f":"IF('Scope and Prelim. Cost Est.'!V42<>\"\",'Scope and Prelim. Cost Est.'!V42,\"\")","v":""},{"$f":"IF('Scope and Prelim. Cost Est.'!W42<>\"\",'Scope and Prelim. Cost Est.'!W42,\"\")","v":""},{"$f":"IF('Scope and Prelim. Cost Est.'!X42<>\"\",'Scope and Prelim. Cost Est.'!X42,\"\")","v":""},{"$f":"IF('Scope and Prelim. Cost Est.'!Y42<>\"\",'Scope and Prelim. Cost Est.'!Y42,\"\")","v":""},{"$f":"IF('Scope and Prelim. Cost Est.'!Z42<>\"\",'Scope and Prelim. Cost Est.'!Z42,\"\")","v":""},{"$f":"IF('Scope and Prelim. Cost Est.'!AA42<>\"\",'Scope and Prelim. Cost Est.'!AA42,\"\")","v":""},"",{"$f":"IF('Scope and Prelim. Cost Est.'!AB42<>\"\",'Scope and Prelim. Cost Est.'!AB42,\"\")","v":""},{"$f":"IF('Scope and Prelim. Cost Est.'!AC42<>\"\",'Scope and Prelim. Cost Est.'!AC42,\"\")","v":""},{"$f":"IF('Scope and Prelim. Cost Est.'!AD42<>\"\",'Scope and Prelim. Cost Est.'!AD42,\"\")","v":""},{"$f":"IF('Scope and Prelim. Cost Est.'!AE42<>\"\",'Scope and Prelim. Cost Est.'!AE42,\"\")","v":""},{"$f":"IF('Scope and Prelim. Cost Est.'!AF42<>\"\",'Scope and Prelim. Cost Est.'!AF42,\"\")","v":""},{"$f":"IF('Scope and Prelim. Cost Est.'!AG42<>\"\",'Scope and Prelim. Cost Est.'!AG42,\"\")","v":""},{"$f":"IF('Scope and Prelim. Cost Est.'!AH42<>\"\",'Scope and Prelim. Cost Est.'!AH42,\"\")","v":""}]
[null,{"$f":"IF('Scope and Prelim. Cost Est.'!B43<>\"\",'Scope and Prelim. Cost Est.'!B43,\"\")","v":""},{"$f":"IF('Scope and Prelim. Cost Est.'!C43<>\"\",'Scope and Prelim. Cost Est.'!C43,\"\")","v":""},{"$f":"IF('Scope and Prelim. Cost Est.'!D43<>\"\",'Scope and Prelim. Cost Est.'!D43,\"\")","v":""},{"$f":"IF('Scope and Prelim. Cost Est.'!E43<>\"\",'Scope and Prelim. Cost Est.'!E43,\"\")","v":""},{"$f":"IF('Scope and Prelim. Cost Est.'!F43<>\"\",'Scope and Prelim. Cost Est.'!F43,\"\")","v":""},{"$f":"IF('Scope and Prelim. Cost Est.'!G43<>\"\",'Scope and Prelim. Cost Est.'!G43,\"\")","v":""},{"$f":"IF('Scope and Prelim. Cost Est.'!H43<>\"\",'Scope and Prelim. Cost Est.'!H43,\"\")","v":""},{"$f":"IF('Scope and Prelim. Cost Est.'!I43<>\"\",'Scope and Prelim. Cost Est.'!I43,\"\")","v":""},{"$f":"IF('Scope and Prelim. Cost Est.'!J43<>\"\",'Scope and Prelim. Cost Est.'!J43,\"\")","v":""},{"$f":"IF('Scope and Prelim. Cost Est.'!K43<>\"\",'Scope and Prelim. Cost Est.'!K43,\"\")","v":""},{"$f":"IF('Scope and Prelim. Cost Est.'!L43<>\"\",'Scope and Prelim. Cost Est.'!L43,\"\")","v":""},"",{"$f":"IF('Scope and Prelim. Cost Est.'!M43<>\"\",'Scope and Prelim. Cost Est.'!M43,\"\")","v":""},{"$f":"IF('Scope and Prelim. Cost Est.'!N43<>\"\",'Scope and Prelim. Cost Est.'!N43,\"\")","v":""},{"$f":"IF('Scope and Prelim. Cost Est.'!O43<>\"\",'Scope and Prelim. Cost Est.'!O43,\"\")","v":""},{"$f":"IF('Scope and Prelim. Cost Est.'!P43<>\"\",'Scope and Prelim. Cost Est.'!P43,\"\")","v":0},null,null,{"$f":"IF('Scope and Prelim. Cost Est.'!B43<>\"\",'Scope and Prelim. Cost Est.'!B43,\"\")","v":""},{"$f":"IF('Scope and Prelim. Cost Est.'!C43<>\"\",'Scope and Prelim. Cost Est.'!C43,\"\")","v":""},{"$f":"IF('Scope and Prelim. Cost Est.'!Q43<>\"\",'Scope and Prelim. Cost Est.'!Q43,\"\")","v":""},{"$f":"IF('Scope and Prelim. Cost Est.'!R43<>\"\",'Scope and Prelim. Cost Est.'!R43,\"\")","v":""},{"$f":"IF('Scope and Prelim. Cost Est.'!S43<>\"\",'Scope and Prelim. Cost Est.'!S43,\"\")","v":""},{"$f":"IF('Scope and Prelim. Cost Est.'!T43<>\"\",'Scope and Prelim. Cost Est.'!T43,\"\")","v":""},{"$f":"IF('Scope and Prelim. Cost Est.'!U43<>\"\",'Scope and Prelim. Cost Est.'!U43,\"\")","v":""},{"$f":"IF('Scope and Prelim. Cost Est.'!V43<>\"\",'Scope and Prelim. Cost Est.'!V43,\"\")","v":""},{"$f":"IF('Scope and Prelim. Cost Est.'!W43<>\"\",'Scope and Prelim. Cost Est.'!W43,\"\")","v":""},{"$f":"IF('Scope and Prelim. Cost Est.'!X43<>\"\",'Scope and Prelim. Cost Est.'!X43,\"\")","v":""},{"$f":"IF('Scope and Prelim. Cost Est.'!Y43<>\"\",'Scope and Prelim. Cost Est.'!Y43,\"\")","v":""},{"$f":"IF('Scope and Prelim. Cost Est.'!Z43<>\"\",'Scope and Prelim. Cost Est.'!Z43,\"\")","v":""},{"$f":"IF('Scope and Prelim. Cost Est.'!AA43<>\"\",'Scope and Prelim. Cost Est.'!AA43,\"\")","v":""},"",{"$f":"IF('Scope and Prelim. Cost Est.'!AB43<>\"\",'Scope and Prelim. Cost Est.'!AB43,\"\")","v":""},{"$f":"IF('Scope and Prelim. Cost Est.'!AC43<>\"\",'Scope and Prelim. Cost Est.'!AC43,\"\")","v":""},{"$f":"IF('Scope and Prelim. Cost Est.'!AD43<>\"\",'Scope and Prelim. Cost Est.'!AD43,\"\")","v":""},{"$f":"IF('Scope and Prelim. Cost Est.'!AE43<>\"\",'Scope and Prelim. Cost Est.'!AE43,\"\")","v":""},{"$f":"IF('Scope and Prelim. Cost Est.'!AF43<>\"\",'Scope and Prelim. Cost Est.'!AF43,\"\")","v":""},{"$f":"IF('Scope and Prelim. Cost Est.'!AG43<>\"\",'Scope and Prelim. Cost Est.'!AG43,\"\")","v":""},{"$f":"IF('Scope and Prelim. Cost Est.'!AH43<>\"\",'Scope and Prelim. Cost Est.'!AH43,\"\")","v":""}]
[null,{"$f":"IF('Scope and Prelim. Cost Est.'!B44<>\"\",'Scope and Prelim. Cost Est.'!B44,\"\")","v":""},{"$f":"IF('Scope and Prelim. Cost Est.'!C44<>\"\",'Scope and Prelim. Cost Est.'!C44,\"\")","v":""},{"$f":"IF('Scope and Prelim. Cost Est.'!D44<>\"\",'Scope and Prelim. Cost Est.'!D44,\"\")","v":""},{"$f":"IF('Scope and Prelim. Cost Est.'!E44<>\"\",'Scope and Prelim. Cost Est.'!E44,\"\")","v":""},{"$f":"IF('Scope and Prelim. Cost Est.'!F44<>\"\",'Scope and Prelim. Cost Est.'!F44,\"\")","v":""},{"$f":"IF('Scope and Prelim. Cost Est.'!G44<>\"\",'Scope and Prelim. Cost Est.'!G44,\"\")","v":""},{"$f":"IF('Scope and Prelim. Cost Est.'!H44<>\"\",'Scope and Prelim. Cost Est.'!H44,\"\")","v":""},{"$f":"IF('Scope and Prelim. Cost Est.'!I44<>\"\",'Scope and Prelim. Cost Est.'!I44,\"\")","v":""},{"$f":"IF('Scope and Prelim. Cost Est.'!J44<>\"\",'Scope and Prelim. Cost Est.'!J44,\"\")","v":""},{"$f":"IF('Scope and Prelim. Cost Est.'!K44<>\"\",'Scope and Prelim. Cost Est.'!K44,\"\")","v":""},{"$f":"IF('Scope and Prelim. Cost Est.'!L44<>\"\",'Scope and Prelim. Cost Est.'!L44,\"\")","v":""},"",{"$f":"IF('Scope and Prelim. Cost Est.'!M44<>\"\",'Scope and Prelim. Cost Est.'!M44,\"\")","v":""},{"$f":"IF('Scope and Prelim. Cost Est.'!N44<>\"\",'Scope and Prelim. Cost Est.'!N44,\"\")","v":""},{"$f":"IF('Scope and Prelim. Cost Est.'!O44<>\"\",'Scope and Prelim. Cost Est.'!O44,\"\")","v":""},{"$f":"IF('Scope and Prelim. Cost Est.'!P44<>\"\",'Scope and Prelim. Cost Est.'!P44,\"\")","v":0},null,null,{"$f":"IF('Scope and Prelim. Cost Est.'!B44<>\"\",'Scope and Prelim. Cost Est.'!B44,\"\")","v":""},{"$f":"IF('Scope and Prelim. Cost Est.'!C44<>\"\",'Scope and Prelim. Cost Est.'!C44,\"\")","v":""},{"$f":"IF('Scope and Prelim. Cost Est.'!Q44<>\"\",'Scope and Prelim. Cost Est.'!Q44,\"\")","v":""},{"$f":"IF('Scope and Prelim. Cost Est.'!R44<>\"\",'Scope and Prelim. Cost Est.'!R44,\"\")","v":""},{"$f":"IF('Scope and Prelim. Cost Est.'!S44<>\"\",'Scope and Prelim. Cost Est.'!S44,\"\")","v":""},{"$f":"IF('Scope and Prelim. Cost Est.'!T44<>\"\",'Scope and Prelim. Cost Est.'!T44,\"\")","v":""},{"$f":"IF('Scope and Prelim. Cost Est.'!U44<>\"\",'Scope and Prelim. Cost Est.'!U44,\"\")","v":""},{"$f":"IF('Scope and Prelim. Cost Est.'!V44<>\"\",'Scope and Prelim. Cost Est.'!V44,\"\")","v":""},{"$f":"IF('Scope and Prelim. Cost Est.'!W44<>\"\",'Scope and Prelim. Cost Est.'!W44,\"\")","v":""},{"$f":"IF('Scope and Prelim. Cost Est.'!X44<>\"\",'Scope and Prelim. Cost Est.'!X44,\"\")","v":""},{"$f":"IF('Scope and Prelim. Cost Est.'!Y44<>\"\",'Scope and Prelim. Cost Est.'!Y44,\"\")","v":""},{"$f":"IF('Scope and Prelim. Cost Est.'!Z44<>\"\",'Scope and Prelim. Cost Est.'!Z44,\"\")","v":""},{"$f":"IF('Scope and Prelim. Cost Est.'!AA44<>\"\",'Scope and Prelim. Cost Est.'!AA44,\"\")","v":""},"",{"$f":"IF('Scope and Prelim. Cost Est.'!AB44<>\"\",'Scope and Prelim. Cost Est.'!AB44,\"\")","v":""},{"$f":"IF('Scope and Prelim. Cost Est.'!AC44<>\"\",'Scope and Prelim. Cost Est.'!AC44,\"\")","v":""},{"$f":"IF('Scope and Prelim. Cost Est.'!AD44<>\"\",'Scope and Prelim. Cost Est.'!AD44,\"\")","v":""},{"$f":"IF('Scope and Prelim. Cost Est.'!AE44<>\"\",'Scope and Prelim. Cost Est.'!AE44,\"\")","v":""},{"$f":"IF('Scope and Prelim. Cost Est.'!AF44<>\"\",'Scope and Prelim. Cost Est.'!AF44,\"\")","v":""},{"$f":"IF('Scope and Prelim. Cost Est.'!AG44<>\"\",'Scope and Prelim. Cost Est.'!AG44,\"\")","v":""},{"$f":"IF('Scope and Prelim. Cost Est.'!AH44<>\"\",'Scope and Prelim. Cost Est.'!AH44,\"\")","v":""}]
[null,{"$f":"IF('Scope and Prelim. Cost Est.'!B45<>\"\",'Scope and Prelim. Cost Est.'!B45,\"\")","v":""},{"$f":"IF('Scope and Prelim. Cost Est.'!C45<>\"\",'Scope and Prelim. Cost Est.'!C45,\"\")","v":""},{"$f":"IF('Scope and Prelim. Cost Est.'!D45<>\"\",'Scope and Prelim. Cost Est.'!D45,\"\")","v":""},{"$f":"IF('Scope and Prelim. Cost Est.'!E45<>\"\",'Scope and Prelim. Cost Est.'!E45,\"\")","v":""},{"$f":"IF('Scope and Prelim. Cost Est.'!F45<>\"\",'Scope and Prelim. Cost Est.'!F45,\"\")","v":""},{"$f":"IF('Scope and Prelim. Cost Est.'!G45<>\"\",'Scope and Prelim. Cost Est.'!G45,\"\")","v":""},{"$f":"IF('Scope and Prelim. Cost Est.'!H45<>\"\",'Scope and Prelim. Cost Est.'!H45,\"\")","v":""},{"$f":"IF('Scope and Prelim. Cost Est.'!I45<>\"\",'Scope and Prelim. Cost Est.'!I45,\"\")","v":""},{"$f":"IF('Scope and Prelim. Cost Est.'!J45<>\"\",'Scope and Prelim. Cost Est.'!J45,\"\")","v":""},{"$f":"IF('Scope and Prelim. Cost Est.'!K45<>\"\",'Scope and Prelim. Cost Est.'!K45,\"\")","v":""},{"$f":"IF('Scope and Prelim. Cost Est.'!L45<>\"\",'Scope and Prelim. Cost Est.'!L45,\"\")","v":""},"",{"$f":"IF('Scope and Prelim. Cost Est.'!M45<>\"\",'Scope and Prelim. Cost Est.'!M45,\"\")","v":""},{"$f":"IF('Scope and Prelim. Cost Est.'!N45<>\"\",'Scope and Prelim. Cost Est.'!N45,\"\")","v":""},{"$f":"IF('Scope and Prelim. Cost Est.'!O45<>\"\",'Scope and Prelim. Cost Est.'!O45,\"\")","v":""},{"$f":"IF('Scope and Prelim. Cost Est.'!P45<>\"\",'Scope and Prelim. Cost Est.'!P45,\"\")","v":0},null,null,{"$f":"IF('Scope and Prelim. Cost Est.'!B45<>\"\",'Scope and Prelim. Cost Est.'!B45,\"\")","v":""},{"$f":"IF('Scope and Prelim. Cost Est.'!C45<>\"\",'Scope and Prelim. Cost Est.'!C45,\"\")","v":""},{"$f":"IF('Scope and Prelim. Cost Est.'!Q45<>\"\",'Scope and Prelim. Cost Est.'!Q45,\"\")","v":""},{"$f":"IF('Scope and Prelim. Cost Est.'!R45<>\"\",'Scope and Prelim. Cost Est.'!R45,\"\")","v":""},{"$f":"IF('Scope and Prelim. Cost Est.'!S45<>\"\",'Scope and Prelim. Cost Est.'!S45,\"\")","v":""},{"$f":"IF('Scope and Prelim. Cost Est.'!T45<>\"\",'Scope and Prelim. Cost Est.'!T45,\"\")","v":""},{"$f":"IF('Scope and Prelim. Cost Est.'!U45<>\"\",'Scope and Prelim. Cost Est.'!U45,\"\")","v":""},{"$f":"IF('Scope and Prelim. Cost Est.'!V45<>\"\",'Scope and Prelim. Cost Est.'!V45,\"\")","v":""},{"$f":"IF('Scope and Prelim. Cost Est.'!W45<>\"\",'Scope and Prelim. Cost Est.'!W45,\"\")","v":""},{"$f":"IF('Scope and Prelim. Cost Est.'!X45<>\"\",'Scope and Prelim. Cost Est.'!X45,\"\")","v":""},{"$f":"IF('Scope and Prelim. Cost Est.'!Y45<>\"\",'Scope and Prelim. Cost Est.'!Y45,\"\")","v":""},{"$f":"IF('Scope and Prelim. Cost Est.'!Z45<>\"\",'Scope and Prelim. Cost Est.'!Z45,\"\")","v":""},{"$f":"IF('Scope and Prelim. Cost Est.'!AA45<>\"\",'Scope and Prelim. Cost Est.'!AA45,\"\")","v":""},"",{"$f":"IF('Scope and Prelim. Cost Est.'!AB45<>\"\",'Scope and Prelim. Cost Est.'!AB45,\"\")","v":""},{"$f":"IF('Scope and Prelim. Cost Est.'!AC45<>\"\",'Scope and Prelim. Cost Est.'!AC45,\"\")","v":""},{"$f":"IF('Scope and Prelim. Cost Est.'!AD45<>\"\",'Scope and Prelim. Cost Est.'!AD45,\"\")","v":""},{"$f":"IF('Scope and Prelim. Cost Est.'!AE45<>\"\",'Scope and Prelim. Cost Est.'!AE45,\"\")","v":""},{"$f":"IF('Scope and Prelim. Cost Est.'!AF45<>\"\",'Scope and Prelim. Cost Est.'!AF45,\"\")","v":""},{"$f":"IF('Scope and Prelim. Cost Est.'!AG45<>\"\",'Scope and Prelim. Cost Est.'!AG45,\"\")","v":""},{"$f":"IF('Scope and Prelim. Cost Est.'!AH45<>\"\",'Scope and Prelim. Cost Est.'!AH45,\"\")","v":""}]
[null,{"$f":"IF('Scope and Prelim. Cost Est.'!B46<>\"\",'Scope and Prelim. Cost Est.'!B46,\"\")","v":""},{"$f":"IF('Scope and Prelim. Cost Est.'!C46<>\"\",'Scope and Prelim. Cost Est.'!C46,\"\")","v":""},{"$f":"IF('Scope and Prelim. Cost Est.'!D46<>\"\",'Scope and Prelim. Cost Est.'!D46,\"\")","v":""},{"$f":"IF('Scope and Prelim. Cost Est.'!E46<>\"\",'Scope and Prelim. Cost Est.'!E46,\"\")","v":""},{"$f":"IF('Scope and Prelim. Cost Est.'!F46<>\"\",'Scope and Prelim. Cost Est.'!F46,\"\")","v":""},{"$f":"IF('Scope and Prelim. Cost Est.'!G46<>\"\",'Scope and Prelim. Cost Est.'!G46,\"\")","v":""},{"$f":"IF('Scope and Prelim. Cost Est.'!H46<>\"\",'Scope and Prelim. Cost Est.'!H46,\"\")","v":""},{"$f":"IF('Scope and Prelim. Cost Est.'!I46<>\"\",'Scope and Prelim. Cost Est.'!I46,\"\")","v":""},{"$f":"IF('Scope and Prelim. Cost Est.'!J46<>\"\",'Scope and Prelim. Cost Est.'!J46,\"\")","v":""},{"$f":"IF('Scope and Prelim. Cost Est.'!K46<>\"\",'Scope and Prelim. Cost Est.'!K46,\"\")","v":""},{"$f":"IF('Scope and Prelim. Cost Est.'!L46<>\"\",'Scope and Prelim. Cost Est.'!L46,\"\")","v":""},"",{"$f":"IF('Scope and Prelim. Cost Est.'!M46<>\"\",'Scope and Prelim. Cost Est.'!M46,\"\")","v":""},{"$f":"IF('Scope and Prelim. Cost Est.'!N46<>\"\",'Scope and Prelim. Cost Est.'!N46,\"\")","v":""},{"$f":"IF('Scope and Prelim. Cost Est.'!O46<>\"\",'Scope and Prelim. Cost Est.'!O46,\"\")","v":""},{"$f":"IF('Scope and Prelim. Cost Est.'!P46<>\"\",'Scope and Prelim. Cost Est.'!P46,\"\")","v":0},null,null,{"$f":"IF('Scope and Prelim. Cost Est.'!B46<>\"\",'Scope and Prelim. Cost Est.'!B46,\"\")","v":""},{"$f":"IF('Scope and Prelim. Cost Est.'!C46<>\"\",'Scope and Prelim. Cost Est.'!C46,\"\")","v":""},{"$f":"IF('Scope and Prelim. Cost Est.'!Q46<>\"\",'Scope and Prelim. Cost Est.'!Q46,\"\")","v":""},{"$f":"IF('Scope and Prelim. Cost Est.'!R46<>\"\",'Scope and Prelim. Cost Est.'!R46,\"\")","v":""},{"$f":"IF('Scope and Prelim. Cost Est.'!S46<>\"\",'Scope and Prelim. Cost Est.'!S46,\"\")","v":""},{"$f":"IF('Scope and Prelim. Cost Est.'!T46<>\"\",'Scope and Prelim. Cost Est.'!T46,\"\")","v":""},{"$f":"IF('Scope and Prelim. Cost Est.'!U46<>\"\",'Scope and Prelim. Cost Est.'!U46,\"\")","v":""},{"$f":"IF('Scope and Prelim. Cost Est.'!V46<>\"\",'Scope and Prelim. Cost Est.'!V46,\"\")","v":""},{"$f":"IF('Scope and Prelim. Cost Est.'!W46<>\"\",'Scope and Prelim. Cost Est.'!W46,\"\")","v":""},{"$f":"IF('Scope and Prelim. Cost Est.'!X46<>\"\",'Scope and Prelim. Cost Est.'!X46,\"\")","v":""},{"$f":"IF('Scope and Prelim. Cost Est.'!Y46<>\"\",'Scope and Prelim. Cost Est.'!Y46,\"\")","v":""},{"$f":"IF('Scope and Prelim. Cost Est.'!Z46<>\"\",'Scope and Prelim. Cost Est.'!Z46,\"\")","v":""},{"$f":"IF('Scope and Prelim. Cost Est.'!AA46<>\"\",'Scope and Prelim. Cost Est.'!AA46,\"\")","v":""},"",{"$f":"IF('Scope and Prelim. Cost Est.'!AB46<>\"\",'Scope and Prelim. Cost Est.'!AB46,\"\")","v":""},{"$f":"IF('Scope and Prelim. Cost Est.'!AC46<>\"\",'Scope and Prelim. Cost Est.'!AC46,\"\")","v":""},{"$f":"IF('Scope and Prelim. Cost Est.'!AD46<>\"\",'Scope and Prelim. Cost Est.'!AD46,\"\")","v":""},{"$f":"IF('Scope and Prelim. Cost Est.'!AE46<>\"\",'Scope and Prelim. Cost Est.'!AE46,\"\")","v":""},{"$f":"IF('Scope and Prelim. Cost Est.'!AF46<>\"\",'Scope and Prelim. Cost Est.'!AF46,\"\")","v":""},{"$f":"IF('Scope and Prelim. Cost Est.'!AG46<>\"\",'Scope and Prelim. Cost Est.'!AG46,\"\")","v":""},{"$f":"IF('Scope and Prelim. Cost Est.'!AH46<>\"\",'Scope and Prelim. Cost Est.'!AH46,\"\")","v":""}]
[null,{"$f":"IF('Scope and Prelim. Cost Est.'!B47<>\"\",'Scope and Prelim. Cost Est.'!B47,\"\")","v":""},{"$f":"IF('Scope and Prelim. Cost Est.'!C47<>\"\",'Scope and Prelim. Cost Est.'!C47,\"\")","v":""},{"$f":"IF('Scope and Prelim. Cost Est.'!D47<>\"\",'Scope and Prelim. Cost Est.'!D47,\"\")","v":""},{"$f":"IF('Scope and Prelim. Cost Est.'!E47<>\"\",'Scope and Prelim. Cost Est.'!E47,\"\")","v":""},{"$f":"IF('Scope and Prelim. Cost Est.'!F47<>\"\",'Scope and Prelim. Cost Est.'!F47,\"\")","v":""},{"$f":"IF('Scope and Prelim. Cost Est.'!G47<>\"\",'Scope and Prelim. Cost Est.'!G47,\"\")","v":""},{"$f":"IF('Scope and Prelim. Cost Est.'!H47<>\"\",'Scope and Prelim. Cost Est.'!H47,\"\")","v":""},{"$f":"IF('Scope and Prelim. Cost Est.'!I47<>\"\",'Scope and Prelim. Cost Est.'!I47,\"\")","v":""},{"$f":"IF('Scope and Prelim. Cost Est.'!J47<>\"\",'Scope and Prelim. Cost Est.'!J47,\"\")","v":""},{"$f":"IF('Scope and Prelim. Cost Est.'!K47<>\"\",'Scope and Prelim. Cost Est.'!K47,\"\")","v":""},{"$f":"IF('Scope and Prelim. Cost Est.'!L47<>\"\",'Scope and Prelim. Cost Est.'!L47,\"\")","v":""},{"$f":"IF(K39<>\"\",K39,L39)","v":""},{"$f":"IF('Scope and Prelim. Cost Est.'!M47<>\"\",'Scope and Prelim. Cost Est.'!M47,\"\")","v":""},{"$f":"IF('Scope and Prelim. Cost Est.'!N47<>\"\",'Scope and Prelim. Cost Est.'!N47,\"\")","v":""},{"$f":"IF('Scope and Prelim. Cost Est.'!O47<>\"\",'Scope and Prelim. Cost Est.'!O47,\"\")","v":""},{"$f":"IF('Scope and Prelim. Cost Est.'!P47<>\"\",'Scope and Prelim. Cost Est.'!P47,\"\")","v":0},null,null,{"$f":"IF('Scope and Prelim. Cost Est.'!B47<>\"\",'Scope and Prelim. Cost Est.'!B47,\"\")","v":""},{"$f":"IF('Scope and Prelim. Cost Est.'!C47<>\"\",'Scope and Prelim. Cost Est.'!C47,\"\")","v":""},{"$f":"IF('Scope and Prelim. Cost Est.'!Q47<>\"\",'Scope and Prelim. Cost Est.'!Q47,\"\")","v":""},{"$f":"IF('Scope and Prelim. Cost Est.'!R47<>\"\",'Scope and Prelim. Cost Est.'!R47,\"\")","v":""},{"$f":"IF('Scope and Prelim. Cost Est.'!S47<>\"\",'Scope and Prelim. Cost Est.'!S47,\"\")","v":""},{"$f":"IF('Scope and Prelim. Cost Est.'!T47<>\"\",'Scope and Prelim. Cost Est.'!T47,\"\")","v":""},{"$f":"IF('Scope and Prelim. Cost Est.'!U47<>\"\",'Scope and Prelim. Cost Est.'!U47,\"\")","v":""},{"$f":"IF('Scope and Prelim. Cost Est.'!V47<>\"\",'Scope and Prelim. Cost Est.'!V47,\"\")","v":""},{"$f":"IF('Scope and Prelim. Cost Est.'!W47<>\"\",'Scope and Prelim. Cost Est.'!W47,\"\")","v":""},{"$f":"IF('Scope and Prelim. Cost Est.'!X47<>\"\",'Scope and Prelim. Cost Est.'!X47,\"\")","v":""},{"$f":"IF('Scope and Prelim. Cost Est.'!Y47<>\"\",'Scope and Prelim. Cost Est.'!Y47,\"\")","v":""},{"$f":"IF('Scope and Prelim. Cost Est.'!Z47<>\"\",'Scope and Prelim. Cost Est.'!Z47,\"\")","v":""},{"$f":"IF('Scope and Prelim. Cost Est.'!AA47<>\"\",'Scope and Prelim. Cost Est.'!AA47,\"\")","v":""},"",{"$f":"IF('Scope and Prelim. Cost Est.'!AB47<>\"\",'Scope and Prelim. Cost Est.'!AB47,\"\")","v":""},{"$f":"IF('Scope and Prelim. Cost Est.'!AC47<>\"\",'Scope and Prelim. Cost Est.'!AC47,\"\")","v":""},{"$f":"IF('Scope and Prelim. Cost Est.'!AD47<>\"\",'Scope and Prelim. Cost Est.'!AD47,\"\")","v":""},{"$f":"IF('Scope and Prelim. Cost Est.'!AE47<>\"\",'Scope and Prelim. Cost Est.'!AE47,\"\")","v":""},{"$f":"IF('Scope and Prelim. Cost Est.'!AF47<>\"\",'Scope and Prelim. Cost Est.'!AF47,\"\")","v":""},{"$f":"IF('Scope and Prelim. Cost Est.'!AG47<>\"\",'Scope and Prelim. Cost Est.'!AG47,\"\")","v":""},{"$f":"IF('Scope and Prelim. Cost Est.'!AH47<>\"\",'Scope and Prelim. Cost Est.'!AH47,\"\")","v":""}]
[null,{"$f":"IF('Scope and Prelim. Cost Est.'!B48<>\"\",'Scope and Prelim. Cost Est.'!B48,\"\")","v":""},{"$f":"IF('Scope and Prelim. Cost Est.'!C48<>\"\",'Scope and Prelim. Cost Est.'!C48,\"\")","v":""},{"$f":"IF('Scope and Prelim. Cost Est.'!D48<>\"\",'Scope and Prelim. Cost Est.'!D48,\"\")","v":""},{"$f":"IF('Scope and Prelim. Cost Est.'!E48<>\"\",'Scope and Prelim. Cost Est.'!E48,\"\")","v":""},{"$f":"IF('Scope and Prelim. Cost Est.'!F48<>\"\",'Scope and Prelim. Cost Est.'!F48,\"\")","v":""},{"$f":"IF('Scope and Prelim. Cost Est.'!G48<>\"\",'Scope and Prelim. Cost Est.'!G48,\"\")","v":""},{"$f":"IF('Scope and Prelim. Cost Est.'!H48<>\"\",'Scope and Prelim. Cost Est.'!H48,\"\")","v":""},{"$f":"IF('Scope and Prelim. Cost Est.'!I48<>\"\",'Scope and Prelim. Cost Est.'!I48,\"\")","v":""},{"$f":"IF('Scope and Prelim. Cost Est.'!J48<>\"\",'Scope and Prelim. Cost Est.'!J48,\"\")","v":""},{"$f":"IF('Scope and Prelim. Cost Est.'!K48<>\"\",'Scope and Prelim. Cost Est.'!K48,\"\")","v":""},{"$f":"IF('Scope and Prelim. Cost Est.'!L48<>\"\",'Scope and Prelim. Cost Est.'!L48,\"\")","v":""},"",{"$f":"IF('Scope and Prelim. Cost Est.'!M48<>\"\",'Scope and Prelim. Cost Est.'!M48,\"\")","v":""},{"$f":"IF('Scope and Prelim. Cost Est.'!N48<>\"\",'Scope and Prelim. Cost Est.'!N48,\"\")","v":""},{"$f":"IF('Scope and Prelim. Cost Est.'!O48<>\"\",'Scope and Prelim. Cost Est.'!O48,\"\")","v":""},{"$f":"IF('Scope and Prelim. Cost Est.'!P48<>\"\",'Scope and Prelim. Cost Est.'!P48,\"\")","v":0},null,null,{"$f":"IF('Scope and Prelim. Cost Est.'!B48<>\"\",'Scope and Prelim. Cost Est.'!B48,\"\")","v":""},{"$f":"IF('Scope and Prelim. Cost Est.'!C48<>\"\",'Scope and Prelim. Cost Est.'!C48,\"\")","v":""},{"$f":"IF('Scope and Prelim. Cost Est.'!Q48<>\"\",'Scope and Prelim. Cost Est.'!Q48,\"\")","v":""},{"$f":"IF('Scope and Prelim. Cost Est.'!R48<>\"\",'Scope and Prelim. Cost Est.'!R48,\"\")","v":""},{"$f":"IF('Scope and Prelim. Cost Est.'!S48<>\"\",'Scope and Prelim. Cost Est.'!S48,\"\")","v":""},{"$f":"IF('Scope and Prelim. Cost Est.'!T48<>\"\",'Scope and Prelim. Cost Est.'!T48,\"\")","v":""},{"$f":"IF('Scope and Prelim. Cost Est.'!U48<>\"\",'Scope and Prelim. Cost Est.'!U48,\"\")","v":""},{"$f":"IF('Scope and Prelim. Cost Est.'!V48<>\"\",'Scope and Prelim. Cost Est.'!V48,\"\")","v":""},{"$f":"IF('Scope and Prelim. Cost Est.'!W48<>\"\",'Scope and Prelim. Cost Est.'!W48,\"\")","v":""},{"$f":"IF('Scope and Prelim. Cost Est.'!X48<>\"\",'Scope and Prelim. Cost Est.'!X48,\"\")","v":""},{"$f":"IF('Scope and Prelim. Cost Est.'!Y48<>\"\",'Scope and Prelim. Cost Est.'!Y48,\"\")","v":""},{"$f":"IF('Scope and Prelim. Cost Est.'!Z48<>\"\",'Scope and Prelim. Cost Est.'!Z48,\"\")","v":""},{"$f":"IF('Scope and Prelim. Cost Est.'!AA48<>\"\",'Scope and Prelim. Cost Est.'!AA48,\"\")","v":""},"",{"$f":"IF('Scope and Prelim. Cost Est.'!AB48<>\"\",'Scope and Prelim. Cost Est.'!AB48,\"\")","v":""},{"$f":"IF('Scope and Prelim. Cost Est.'!AC48<>\"\",'Scope and Prelim. Cost Est.'!AC48,\"\")","v":""},{"$f":"IF('Scope and Prelim. Cost Est.'!AD48<>\"\",'Scope and Prelim. Cost Est.'!AD48,\"\")","v":""},{"$f":"IF('Scope and Prelim. Cost Est.'!AE48<>\"\",'Scope and Prelim. Cost Est.'!AE48,\"\")","v":""},{"$f":"IF('Scope and Prelim. Cost Est.'!AF48<>\"\",'Scope and Prelim. Cost Est.'!AF48,\"\")","v":""},{"$f":"IF('Scope and Prelim. Cost Est.'!AG48<>\"\",'Scope and Prelim. Cost Est.'!AG48,\"\")","v":""},{"$f":"IF('Scope and Prelim. Cost Est.'!AH48<>\"\",'Scope and Prelim. Cost Est.'!AH48,\"\")","v":""}]
[null,{"$f":"IF('Scope and Prelim. Cost Est.'!B49<>\"\",'Scope and Prelim. Cost Est.'!B49,\"\")","v":""},{"$f":"IF('Scope and Prelim. Cost Est.'!C49<>\"\",'Scope and Prelim. Cost Est.'!C49,\"\")","v":""},{"$f":"IF('Scope and Prelim. Cost Est.'!D49<>\"\",'Scope and Prelim. Cost Est.'!D49,\"\")","v":""},{"$f":"IF('Scope and Prelim. Cost Est.'!E49<>\"\",'Scope and Prelim. Cost Est.'!E49,\"\")","v":""},{"$f":"IF('Scope and Prelim. Cost Est.'!F49<>\"\",'Scope and Prelim. Cost Est.'!F49,\"\")","v":""},{"$f":"IF('Scope and Prelim. Cost Est.'!G49<>\"\",'Scope and Prelim. Cost Est.'!G49,\"\")","v":""},{"$f":"IF('Scope and Prelim. Cost Est.'!H49<>\"\",'Scope and Prelim. Cost Est.'!H49,\"\")","v":""},{"$f":"IF('Scope and Prelim. Cost Est.'!I49<>\"\",'Scope and Prelim. Cost Est.'!I49,\"\")","v":""},{"$f":"IF('Scope and Prelim. Cost Est.'!J49<>\"\",'Scope and Prelim. Cost Est.'!J49,\"\")","v":""},{"$f":"IF('Scope and Prelim. Cost Est.'!K49<>\"\",'Scope and Prelim. Cost Est.'!K49,\"\")","v":""},{"$f":"IF('Scope and Prelim. Cost Est.'!L49<>\"\",'Scope and Prelim. Cost Est.'!L49,\"\")","v":""},"",{"$f":"IF('Scope and Prelim. Cost Est.'!M49<>\"\",'Scope and Prelim. Cost Est.'!M49,\"\")","v":""},{"$f":"IF('Scope and Prelim. Cost Est.'!N49<>\"\",'Scope and Prelim. Cost Est.'!N49,\"\")","v":""},{"$f":"IF('Scope and Prelim. Cost Est.'!O49<>\"\",'Scope and Prelim. Cost Est.'!O49,\"\")","v":""},{"$f":"IF('Scope and Prelim. Cost Est.'!P49<>\"\",'Scope and Prelim. Cost Est.'!P49,\"\")","v":0},null,null,{"$f":"IF('Scope and Prelim. Cost Est.'!B49<>\"\",'Scope and Prelim. Cost Est.'!B49,\"\")","v":""},{"$f":"IF('Scope and Prelim. Cost Est.'!C49<>\"\",'Scope and Prelim. Cost Est.'!C49,\"\")","v":""},{"$f":"IF('Scope and Prelim. Cost Est.'!Q49<>\"\",'Scope and Prelim. Cost Est.'!Q49,\"\")","v":""},{"$f":"IF('Scope and Prelim. Cost Est.'!R49<>\"\",'Scope and Prelim. Cost Est.'!R49,\"\")","v":""},{"$f":"IF('Scope and Prelim. Cost Est.'!S49<>\"\",'Scope and Prelim. Cost Est.'!S49,\"\")","v":""},{"$f":"IF('Scope and Prelim. Cost Est.'!T49<>\"\",'Scope and Prelim. Cost Est.'!T49,\"\")","v":""},{"$f":"IF('Scope and Prelim. Cost Est.'!U49<>\"\",'Scope and Prelim. Cost Est.'!U49,\"\")","v":""},{"$f":"IF('Scope and Prelim. Cost Est.'!V49<>\"\",'Scope and Prelim. Cost Est.'!V49,\"\")","v":""},{"$f":"IF('Scope and Prelim. Cost Est.'!W49<>\"\",'Scope and Prelim. Cost Est.'!W49,\"\")","v":""},{"$f":"IF('Scope and Prelim. Cost Est.'!X49<>\"\",'Scope and Prelim. Cost Est.'!X49,\"\")","v":""},{"$f":"IF('Scope and Prelim. Cost Est.'!Y49<>\"\",'Scope and Prelim. Cost Est.'!Y49,\"\")","v":""},{"$f":"IF('Scope and Prelim. Cost Est.'!Z49<>\"\",'Scope and Prelim. Cost Est.'!Z49,\"\")","v":""},{"$f":"IF('Scope and Prelim. Cost Est.'!AA49<>\"\",'Scope and Prelim. Cost Est.'!AA49,\"\")","v":""},"",{"$f":"IF('Scope and Prelim. Cost Est.'!AB49<>\"\",'Scope and Prelim. Cost Est.'!AB49,\"\")","v":""},{"$f":"IF('Scope and Prelim. Cost Est.'!AC49<>\"\",'Scope and Prelim. Cost Est.'!AC49,\"\")","v":""},{"$f":"IF('Scope and Prelim. Cost Est.'!AD49<>\"\",'Scope and Prelim. Cost Est.'!AD49,\"\")","v":""},{"$f":"IF('Scope and Prelim. Cost Est.'!AE49<>\"\",'Scope and Prelim. Cost Est.'!AE49,\"\")","v":""},{"$f":"IF('Scope and Prelim. Cost Est.'!AF49<>\"\",'Scope and Prelim. Cost Est.'!AF49,\"\")","v":""},{"$f":"IF('Scope and Prelim. Cost Est.'!AG49<>\"\",'Scope and Prelim. Cost Est.'!AG49,\"\")","v":""},{"$f":"IF('Scope and Prelim. Cost Est.'!AH49<>\"\",'Scope and Prelim. Cost Est.'!AH49,\"\")","v":""}]
[null,{"$f":"IF('Scope and Prelim. Cost Est.'!B50<>\"\",'Scope and Prelim. Cost Est.'!B50,\"\")","v":""},{"$f":"IF('Scope and Prelim. Cost Est.'!C50<>\"\",'Scope and Prelim. Cost Est.'!C50,\"\")","v":""},{"$f":"IF('Scope and Prelim. Cost Est.'!D50<>\"\",'Scope and Prelim. Cost Est.'!D50,\"\")","v":""},{"$f":"IF('Scope and Prelim. Cost Est.'!E50<>\"\",'Scope and Prelim. Cost Est.'!E50,\"\")","v":""},{"$f":"IF('Scope and Prelim. Cost Est.'!F50<>\"\",'Scope and Prelim. Cost Est.'!F50,\"\")","v":""},{"$f":"IF('Scope and Prelim. Cost Est.'!G50<>\"\",'Scope and Prelim. Cost Est.'!G50,\"\")","v":""},{"$f":"IF('Scope and Prelim. Cost Est.'!H50<>\"\",'Scope and Prelim. Cost Est.'!H50,\"\")","v":""},{"$f":"IF('Scope and Prelim. Cost Est.'!I50<>\"\",'Scope and Prelim. Cost Est.'!I50,\"\")","v":""},{"$f":"IF('Scope and Prelim. Cost Est.'!J50<>\"\",'Scope and Prelim. Cost Est.'!J50,\"\")","v":""},{"$f":"IF('Scope and Prelim. Cost Est.'!K50<>\"\",'Scope and Prelim. Cost Est.'!K50,\"\")","v":""},{"$f":"IF('Scope and Prelim. Cost Est.'!L50<>\"\",'Scope and Prelim. Cost Est.'!L50,\"\")","v":""},"",{"$f":"IF('Scope and Prelim. Cost Est.'!M50<>\"\",'Scope and Prelim. Cost Est.'!M50,\"\")","v":""},{"$f":"IF('Scope and Prelim. Cost Est.'!N50<>\"\",'Scope and Prelim. Cost Est.'!N50,\"\")","v":""},{"$f":"IF('Scope and Prelim. Cost Est.'!O50<>\"\",'Scope and Prelim. Cost Est.'!O50,\"\")","v":""},{"$f":"IF('Scope and Prelim. Cost Est.'!P50<>\"\",'Scope and Prelim. Cost Est.'!P50,\"\")","v":0},null,null,{"$f":"IF('Scope and Prelim. Cost Est.'!B50<>\"\",'Scope and Prelim. Cost Est.'!B50,\"\")","v":""},{"$f":"IF('Scope and Prelim. Cost Est.'!C50<>\"\",'Scope and Prelim. Cost Est.'!C50,\"\")","v":""},{"$f":"IF('Scope and Prelim. Cost Est.'!Q50<>\"\",'Scope and Prelim. Cost Est.'!Q50,\"\")","v":""},{"$f":"IF('Scope and Prelim. Cost Est.'!R50<>\"\",'Scope and Prelim. Cost Est.'!R50,\"\")","v":""},{"$f":"IF('Scope and Prelim. Cost Est.'!S50<>\"\",'Scope and Prelim. Cost Est.'!S50,\"\")","v":""},{"$f":"IF('Scope and Prelim. Cost Est.'!T50<>\"\",'Scope and Prelim. Cost Est.'!T50,\"\")","v":""},{"$f":"IF('Scope and Prelim. Cost Est.'!U50<>\"\",'Scope and Prelim. Cost Est.'!U50,\"\")","v":""},{"$f":"IF('Scope and Prelim. Cost Est.'!V50<>\"\",'Scope and Prelim. Cost Est.'!V50,\"\")","v":""},{"$f":"IF('Scope and Prelim. Cost Est.'!W50<>\"\",'Scope and Prelim. Cost Est.'!W50,\"\")","v":""},{"$f":"IF('Scope and Prelim. Cost Est.'!X50<>\"\",'Scope and Prelim. Cost Est.'!X50,\"\")","v":""},{"$f":"IF('Scope and Prelim. Cost Est.'!Y50<>\"\",'Scope and Prelim. Cost Est.'!Y50,\"\")","v":""},{"$f":"IF('Scope and Prelim. Cost Est.'!Z50<>\"\",'Scope and Prelim. Cost Est.'!Z50,\"\")","v":""},{"$f":"IF('Scope and Prelim. Cost Est.'!AA50<>\"\",'Scope and Prelim. Cost Est.'!AA50,\"\")","v":""},"",{"$f":"IF('Scope and Prelim. Cost Est.'!AB50<>\"\",'Scope and Prelim. Cost Est.'!AB50,\"\")","v":""},{"$f":"IF('Scope and Prelim. Cost Est.'!AC50<>\"\",'Scope and Prelim. Cost Est.'!AC50,\"\")","v":""},{"$f":"IF('Scope and Prelim. Cost Est.'!AD50<>\"\",'Scope and Prelim. Cost Est.'!AD50,\"\")","v":""},{"$f":"IF('Scope and Prelim. Cost Est.'!AE50<>\"\",'Scope and Prelim. Cost Est.'!AE50,\"\")","v":""},{"$f":"IF('Scope and Prelim. Cost Est.'!AF50<>\"\",'Scope and Prelim. Cost Est.'!AF50,\"\")","v":""},{"$f":"IF('Scope and Prelim. Cost Est.'!AG50<>\"\",'Scope and Prelim. Cost Est.'!AG50,\"\")","v":""},{"$f":"IF('Scope and Prelim. Cost Est.'!AH50<>\"\",'Scope and Prelim. Cost Est.'!AH50,\"\")","v":""}]
[]
[null,"Measure Name","Measure Description","Important Assumptions (cont.)","Scope Area\n(cont.)","Energy Efficiency Measure?\n(cont.)","Measure Category\n(cont.)","Measure Classification\n(cont.)","Urgency\n(cont.)","Measure Type\n(cont.)","Unit Type\n{Default}","Unit Type {user entry}","Unit Type\n(cont.)","Qty\n(cont.)","Cost Per Unit\n(cont.)","Cost Source (e.g. 2017 R.S. Means, contractor quote, etc.)\n(cont.)","Total Cost \n(cont.)",null,null,"Measure Name\n(cont.)","Measure Description\n(cont.)","Projected Annual Electricity Savings\n (kWh/yr)\nCooling","Projected Annual Electricity Savings\n (kWh/yr)\nNon-Cooling","Project Annual Fuel Savings (MMBtu/yr)\n Heating","Project Annual Fuel Savings (MMBtu/yr)\nNon-Heating","Affected Fuel (for MMBtu Savings)","Projected Annual Cost Savings \n($/yr)","SIR","Simple Payback","Savings Accrue to Tenants?","Measure Life (years)\n{Default}","Measure Life \n(years) \n{user entry}","Measure Life","Full or Incremental Savings","Existing Equipment Year of Manufacture","Projected Annual Water Savings (gal/yr)","Potential Health Benefit Impact ","Incentive #1","Incentive #2","Incentive # 3"]
[null,{"$f":"IF('Scope and Prelim. Cost Est.'!B51<>\"\",'Scope and Prelim. Cost Est.'!B51,\"\")","v":""},{"$f":"IF('Scope and Prelim. Cost Est.'!C51<>\"\",'Scope and Prelim. Cost Est.'!C51,\"\")","v":""},{"$f":"IF('Scope and Prelim. Cost Est.'!D51<>\"\",'Scope and Prelim. Cost Est.'!D51,\"\")","v":""},{"$f":"IF('Scope and Prelim. Cost Est.'!E51<>\"\",'Scope and Prelim. Cost Est.'!E51,\"\")","v":""},{"$f":"IF('Scope and Prelim. Cost Est.'!F51<>\"\",'Scope and Prelim. Cost Est.'!F51,\"\")","v":""},{"$f":"IF('Scope and Prelim. Cost Est.'!G51<>\"\",'Scope and Prelim. Cost Est.'!G51,\"\")","v":""},{"$f":"IF('Scope and Prelim. Cost Est.'!H51<>\"\",'Scope and Prelim. Cost Est.'!H51,\"\")","v":""},{"$f":"IF('Scope and Prelim. Cost Est.'!I51<>\"\",'Scope and Prelim. Cost Est.'!I51,\"\")","v":""},{"$f":"IF('Scope and Prelim. Cost Est.'!J51<>\"\",'Scope and Prelim. Cost Est.'!J51,\"\")","v":""},{"$f":"IF('Scope and Prelim. Cost Est.'!K51<>\"\",'Scope and Prelim. Cost Est.'!K51,\"\")","v":""},{"$f":"IF('Scope and Prelim. Cost Est.'!L51<>\"\",'Scope and Prelim. Cost Est.'!L51,\"\")","v":""},"",{"$f":"IF('Scope and Prelim. Cost Est.'!M51<>\"\",'Scope and Prelim. Cost Est.'!M51,\"\")","v":""},{"$f":"IF('Scope and Prelim. Cost Est.'!N51<>\"\",'Scope and Prelim. Cost Est.'!N51,\"\")","v":""},{"$f":"IF('Scope and Prelim. Cost Est.'!O51<>\"\",'Scope and Prelim. Cost Est.'!O51,\"\")","v":""},{"$f":"IF('Scope and Prelim. Cost Est.'!P51<>\"\",'Scope and Prelim. Cost Est.'!P51,\"\")","v":0},null,null,{"$f":"IF('Scope and Prelim. Cost Est.'!B51<>\"\",'Scope and Prelim. Cost Est.'!B51,\"\")","v":""},{"$f":"IF('Scope and Prelim. Cost Est.'!C51<>\"\",'Scope and Prelim. Cost Est.'!C51,\"\")","v":""},{"$f":"IF('Scope and Prelim. Cost Est.'!Q51<>\"\",'Scope and Prelim. Cost Est.'!Q51,\"\")","v":""},{"$f":"IF('Scope and Prelim. Cost Est.'!R51<>\"\",'Scope and Prelim. Cost Est.'!R51,\"\")","v":""},{"$f":"IF('Scope and Prelim. Cost Est.'!S51<>\"\",'Scope and Prelim. Cost Est.'!S51,\"\")","v":""},{"$f":"IF('Scope and Prelim. Cost Est.'!T51<>\"\",'Scope and Prelim. Cost Est.'!T51,\"\")","v":""},{"$f":"IF('Scope and Prelim. Cost Est.'!U51<>\"\",'Scope and Prelim. Cost Est.'!U51,\"\")","v":""},{"$f":"IF('Scope and Prelim. Cost Est.'!V51<>\"\",'Scope and Prelim. Cost Est.'!V51,\"\")","v":""},{"$f":"IF('Scope and Prelim. Cost Est.'!W51<>\"\",'Scope and Prelim. Cost Est.'!W51,\"\")","v":""},{"$f":"IF('Scope and Prelim. Cost Est.'!X51<>\"\",'Scope and Prelim. Cost Est.'!X51,\"\")","v":""},{"$f":"IF('Scope and Prelim. Cost Est.'!Y51<>\"\",'Scope and Prelim. Cost Est.'!Y51,\"\")","v":""},{"$f":"IF('Scope and Prelim. Cost Est.'!Z51<>\"\",'Scope and Prelim. Cost Est.'!Z51,\"\")","v":""},{"$f":"IF('Scope and Prelim. Cost Est.'!AA51<>\"\",'Scope and Prelim. Cost Est.'!AA51,\"\")","v":""},"",{"$f":"IF('Scope and Prelim. Cost Est.'!AB51<>\"\",'Scope and Prelim. Cost Est.'!AB51,\"\")","v":""},{"$f":"IF('Scope and Prelim. Cost Est.'!AC51<>\"\",'Scope and Prelim. Cost Est.'!AC51,\"\")","v":""},{"$f":"IF('Scope and Prelim. Cost Est.'!AD51<>\"\",'Scope and Prelim. Cost Est.'!AD51,\"\")","v":""},{"$f":"IF('Scope and Prelim. Cost Est.'!AE51<>\"\",'Scope and Prelim. Cost Est.'!AE51,\"\")","v":""},{"$f":"IF('Scope and Prelim. Cost Est.'!AF51<>\"\",'Scope and Prelim. Cost Est.'!AF51,\"\")","v":""},{"$f":"IF('Scope and Prelim. Cost Est.'!AG51<>\"\",'Scope and Prelim. Cost Est.'!AG51,\"\")","v":""},{"$f":"IF('Scope and Prelim. Cost Est.'!AH51<>\"\",'Scope and Prelim. Cost Est.'!AH51,\"\")","v":""}]
[null,{"$f":"IF('Scope and Prelim. Cost Est.'!B52<>\"\",'Scope and Prelim. Cost Est.'!B52,\"\")","v":""},{"$f":"IF('Scope and Prelim. Cost Est.'!C52<>\"\",'Scope and Prelim. Cost Est.'!C52,\"\")","v":""},{"$f":"IF('Scope and Prelim. Cost Est.'!D52<>\"\",'Scope and Prelim. Cost Est.'!D52,\"\")","v":""},{"$f":"IF('Scope and Prelim. Cost Est.'!E52<>\"\",'Scope and Prelim. Cost Est.'!E52,\"\")","v":""},{"$f":"IF('Scope and Prelim. Cost Est.'!F52<>\"\",'Scope and Prelim. Cost Est.'!F52,\"\")","v":""},{"$f":"IF('Scope and Prelim. Cost Est.'!G52<>\"\",'Scope and Prelim. Cost Est.'!G52,\"\")","v":""},{"$f":"IF('Scope and Prelim. Cost Est.'!H52<>\"\",'Scope and Prelim. Cost Est.'!H52,\"\")","v":""},{"$f":"IF('Scope and Prelim. Cost Est.'!I52<>\"\",'Scope and Prelim. Cost Est.'!I52,\"\")","v":""},{"$f":"IF('Scope and Prelim. Cost Est.'!J52<>\"\",'Scope and Prelim. Cost Est.'!J52,\"\")","v":""},{"$f":"IF('Scope and Prelim. Cost Est.'!K52<>\"\",'Scope and Prelim. Cost Est.'!K52,\"\")","v":""},{"$f":"IF('Scope and Prelim. Cost Est.'!L52<>\"\",'Scope and Prelim. Cost Est.'!L52,\"\")","v":""},"",{"$f":"IF('Scope and Prelim. Cost Est.'!M52<>\"\",'Scope and Prelim. Cost Est.'!M52,\"\")","v":""},{"$f":"IF('Scope and Prelim. Cost Est.'!N52<>\"\",'Scope and Prelim. Cost Est.'!N52,\"\")","v":""},{"$f":"IF('Scope and Prelim. Cost Est.'!O52<>\"\",'Scope and Prelim. Cost Est.'!O52,\"\")","v":""},{"$f":"IF('Scope and Prelim. Cost Est.'!P52<>\"\",'Scope and Prelim. Cost Est.'!P52,\"\")","v":0},null,null,{"$f":"IF('Scope and Prelim. Cost Est.'!B52<>\"\",'Scope and Prelim. Cost Est.'!B52,\"\")","v":""},{"$f":"IF('Scope and Prelim. Cost Est.'!C52<>\"\",'Scope and Prelim. Cost Est.'!C52,\"\")","v":""},{"$f":"IF('Scope and Prelim. Cost Est.'!Q52<>\"\",'Scope and Prelim. Cost Est.'!Q52,\"\")","v":""},{"$f":"IF('Scope and Prelim. Cost Est.'!R52<>\"\",'Scope and Prelim. Cost Est.'!R52,\"\")","v":""},{"$f":"IF('Scope and Prelim. Cost Est.'!S52<>\"\",'Scope and Prelim. Cost Est.'!S52,\"\")","v":""},{"$f":"IF('Scope and Prelim. Cost Est.'!T52<>\"\",'Scope and Prelim. Cost Est.'!T52,\"\")","v":""},{"$f":"IF('Scope and Prelim. Cost Est.'!U52<>\"\",'Scope and Prelim. Cost Est.'!U52,\"\")","v":""},{"$f":"IF('Scope and Prelim. Cost Est.'!V52<>\"\",'Scope and Prelim. Cost Est.'!V52,\"\")","v":""},{"$f":"IF('Scope and Prelim. Cost Est.'!W52<>\"\",'Scope and Prelim. Cost Est.'!W52,\"\")","v":""},{"$f":"IF('Scope and Prelim. Cost Est.'!X52<>\"\",'Scope and Prelim. Cost Est.'!X52,\"\")","v":""},{"$f":"IF('Scope and Prelim. Cost Est.'!Y52<>\"\",'Scope and Prelim. Cost Est.'!Y52,\"\")","v":""},{"$f":"IF('Scope and Prelim. Cost Est.'!Z52<>\"\",'Scope and Prelim. Cost Est.'!Z52,\"\")","v":""},{"$f":"IF('Scope and Prelim. Cost Est.'!AA52<>\"\",'Scope and Prelim. Cost Est.'!AA52,\"\")","v":""},"",{"$f":"IF('Scope and Prelim. Cost Est.'!AB52<>\"\",'Scope and Prelim. Cost Est.'!AB52,\"\")","v":""},{"$f":"IF('Scope and Prelim. Cost Est.'!AC52<>\"\",'Scope and Prelim. Cost Est.'!AC52,\"\")","v":""},{"$f":"IF('Scope and Prelim. Cost Est.'!AD52<>\"\",'Scope and Prelim. Cost Est.'!AD52,\"\")","v":""},{"$f":"IF('Scope and Prelim. Cost Est.'!AE52<>\"\",'Scope and Prelim. Cost Est.'!AE52,\"\")","v":""},{"$f":"IF('Scope and Prelim. Cost Est.'!AF52<>\"\",'Scope and Prelim. Cost Est.'!AF52,\"\")","v":""},{"$f":"IF('Scope and Prelim. Cost Est.'!AG52<>\"\",'Scope and Prelim. Cost Est.'!AG52,\"\")","v":""},{"$f":"IF('Scope and Prelim. Cost Est.'!AH52<>\"\",'Scope and Prelim. Cost Est.'!AH52,\"\")","v":""}]
[null,{"$f":"IF('Scope and Prelim. Cost Est.'!B53<>\"\",'Scope and Prelim. Cost Est.'!B53,\"\")","v":""},{"$f":"IF('Scope and Prelim. Cost Est.'!C53<>\"\",'Scope and Prelim. Cost Est.'!C53,\"\")","v":""},{"$f":"IF('Scope and Prelim. Cost Est.'!D53<>\"\",'Scope and Prelim. Cost Est.'!D53,\"\")","v":""},{"$f":"IF('Scope and Prelim. Cost Est.'!E53<>\"\",'Scope and Prelim. Cost Est.'!E53,\"\")","v":""},{"$f":"IF('Scope and Prelim. Cost Est.'!F53<>\"\",'Scope and Prelim. Cost Est.'!F53,\"\")","v":""},{"$f":"IF('Scope and Prelim. Cost Est.'!G53<>\"\",'Scope and Prelim. Cost Est.'!G53,\"\")","v":""},{"$f":"IF('Scope and Prelim. Cost Est.'!H53<>\"\",'Scope and Prelim. Cost Est.'!H53,\"\")","v":""},{"$f":"IF('Scope and Prelim. Cost Est.'!I53<>\"\",'Scope and Prelim. Cost Est.'!I53,\"\")","v":""},{"$f":"IF('Scope and Prelim. Cost Est.'!J53<>\"\",'Scope and Prelim. Cost Est.'!J53,\"\")","v":""},{"$f":"IF('Scope and Prelim. Cost Est.'!K53<>\"\",'Scope and Prelim. Cost Est.'!K53,\"\")","v":""},{"$f":"IF('Scope and Prelim. Cost Est.'!L53<>\"\",'Scope and Prelim. Cost Est.'!L53,\"\")","v":""},"",{"$f":"IF('Scope and Prelim. Cost Est.'!M53<>\"\",'Scope and Prelim. Cost Est.'!M53,\"\")","v":""},{"$f":"IF('Scope and Prelim. Cost Est.'!N53<>\"\",'Scope and Prelim. Cost Est.'!N53,\"\")","v":""},{"$f":"IF('Scope and Prelim. Cost Est.'!O53<>\"\",'Scope and Prelim. Cost Est.'!O53,\"\")","v":""},{"$f":"IF('Scope and Prelim. Cost Est.'!P53<>\"\",'Scope and Prelim. Cost Est.'!P53,\"\")","v":0},null,null,{"$f":"IF('Scope and Prelim. Cost Est.'!B53<>\"\",'Scope and Prelim. Cost Est.'!B53,\"\")","v":""},{"$f":"IF('Scope and Prelim. Cost Est.'!C53<>\"\",'Scope and Prelim. Cost Est.'!C53,\"\")","v":""},{"$f":"IF('Scope and Prelim. Cost Est.'!Q53<>\"\",'Scope and Prelim. Cost Est.'!Q53,\"\")","v":""},{"$f":"IF('Scope and Prelim. Cost Est.'!R53<>\"\",'Scope and Prelim. Cost Est.'!R53,\"\")","v":""},{"$f":"IF('Scope and Prelim. Cost Est.'!S53<>\"\",'Scope and Prelim. Cost Est.'!S53,\"\")","v":""},{"$f":"IF('Scope and Prelim. Cost Est.'!T53<>\"\",'Scope and Prelim. Cost Est.'!T53,\"\")","v":""},{"$f":"IF('Scope and Prelim. Cost Est.'!U53<>\"\",'Scope and Prelim. Cost Est.'!U53,\"\")","v":""},{"$f":"IF('Scope and Prelim. Cost Est.'!V53<>\"\",'Scope and Prelim. Cost Est.'!V53,\"\")","v":""},{"$f":"IF('Scope and Prelim. Cost Est.'!W53<>\"\",'Scope and Prelim. Cost Est.'!W53,\"\")","v":""},{"$f":"IF('Scope and Prelim. Cost Est.'!X53<>\"\",'Scope and Prelim. Cost Est.'!X53,\"\")","v":""},{"$f":"IF('Scope and Prelim. Cost Est.'!Y53<>\"\",'Scope and Prelim. Cost Est.'!Y53,\"\")","v":""},{"$f":"IF('Scope and Prelim. Cost Est.'!Z53<>\"\",'Scope and Prelim. Cost Est.'!Z53,\"\")","v":""},{"$f":"IF('Scope and Prelim. Cost Est.'!AA53<>\"\",'Scope and Prelim. Cost Est.'!AA53,\"\")","v":""},"",{"$f":"IF('Scope and Prelim. Cost Est.'!AB53<>\"\",'Scope and Prelim. Cost Est.'!AB53,\"\")","v":""},{"$f":"IF('Scope and Prelim. Cost Est.'!AC53<>\"\",'Scope and Prelim. Cost Est.'!AC53,\"\")","v":""},{"$f":"IF('Scope and Prelim. Cost Est.'!AD53<>\"\",'Scope and Prelim. Cost Est.'!AD53,\"\")","v":""},{"$f":"IF('Scope and Prelim. Cost Est.'!AE53<>\"\",'Scope and Prelim. Cost Est.'!AE53,\"\")","v":""},{"$f":"IF('Scope and Prelim. Cost Est.'!AF53<>\"\",'Scope and Prelim. Cost Est.'!AF53,\"\")","v":""},{"$f":"IF('Scope and Prelim. Cost Est.'!AG53<>\"\",'Scope and Prelim. Cost Est.'!AG53,\"\")","v":""},{"$f":"IF('Scope and Prelim. Cost Est.'!AH53<>\"\",'Scope and Prelim. Cost Est.'!AH53,\"\")","v":""}]
[null,{"$f":"IF('Scope and Prelim. Cost Est.'!B54<>\"\",'Scope and Prelim. Cost Est.'!B54,\"\")","v":""},{"$f":"IF('Scope and Prelim. Cost Est.'!C54<>\"\",'Scope and Prelim. Cost Est.'!C54,\"\")","v":""},{"$f":"IF('Scope and Prelim. Cost Est.'!D54<>\"\",'Scope and Prelim. Cost Est.'!D54,\"\")","v":""},{"$f":"IF('Scope and Prelim. Cost Est.'!E54<>\"\",'Scope and Prelim. Cost Est.'!E54,\"\")","v":""},{"$f":"IF('Scope and Prelim. Cost Est.'!F54<>\"\",'Scope and Prelim. Cost Est.'!F54,\"\")","v":""},{"$f":"IF('Scope and Prelim. Cost Est.'!G54<>\"\",'Scope and Prelim. Cost Est.'!G54,\"\")","v":""},{"$f":"IF('Scope and Prelim. Cost Est.'!H54<>\"\",'Scope and Prelim. Cost Est.'!H54,\"\")","v":""},{"$f":"IF('Scope and Prelim. Cost Est.'!I54<>\"\",'Scope and Prelim. Cost Est.'!I54,\"\")","v":""},{"$f":"IF('Scope and Prelim. Cost Est.'!J54<>\"\",'Scope and Prelim. Cost Est.'!J54,\"\")","v":""},{"$f":"IF('Scope and Prelim. Cost Est.'!K54<>\"\",'Scope and Prelim. Cost Est.'!K54,\"\")","v":""},{"$f":"IF('Scope and Prelim. Cost Est.'!L54<>\"\",'Scope and Prelim. Cost Est.'!L54,\"\")","v":""},"",{"$f":"IF('Scope and Prelim. Cost Est.'!M54<>\"\",'Scope and Prelim. Cost Est.'!M54,\"\")","v":""},{"$f":"IF('Scope and Prelim. Cost Est.'!N54<>\"\",'Scope and Prelim. Cost Est.'!N54,\"\")","v":""},{"$f":"IF('Scope and Prelim. Cost Est.'!O54<>\"\",'Scope and Prelim. Cost Est.'!O54,\"\")","v":""},{"$f":"IF('Scope and Prelim. Cost Est.'!P54<>\"\",'Scope and Prelim. Cost Est.'!P54,\"\")","v":0},null,null,{"$f":"IF('Scope and Prelim. Cost Est.'!B54<>\"\",'Scope and Prelim. Cost Est.'!B54,\"\")","v":""},{"$f":"IF('Scope and Prelim. Cost Est.'!C54<>\"\",'Scope and Prelim. Cost Est.'!C54,\"\")","v":""},{"$f":"IF('Scope and Prelim. Cost Est.'!Q54<>\"\",'Scope and Prelim. Cost Est.'!Q54,\"\")","v":""},{"$f":"IF('Scope and Prelim. Cost Est.'!R54<>\"\",'Scope and Prelim. Cost Est.'!R54,\"\")","v":""},{"$f":"IF('Scope and Prelim. Cost Est.'!S54<>\"\",'Scope and Prelim. Cost Est.'!S54,\"\")","v":""},{"$f":"IF('Scope and Prelim. Cost Est.'!T54<>\"\",'Scope and Prelim. Cost Est.'!T54,\"\")","v":""},{"$f":"IF('Scope and Prelim. Cost Est.'!U54<>\"\",'Scope and Prelim. Cost Est.'!U54,\"\")","v":""},{"$f":"IF('Scope and Prelim. Cost Est.'!V54<>\"\",'Scope and Prelim. Cost Est.'!V54,\"\")","v":""},{"$f":"IF('Scope and Prelim. Cost Est.'!W54<>\"\",'Scope and Prelim. Cost Est.'!W54,\"\")","v":""},{"$f":"IF('Scope and Prelim. Cost Est.'!X54<>\"\",'Scope and Prelim. Cost Est.'!X54,\"\")","v":""},{"$f":"IF('Scope and Prelim. Cost Est.'!Y54<>\"\",'Scope and Prelim. Cost Est.'!Y54,\"\")","v":""},{"$f":"IF('Scope and Prelim. Cost Est.'!Z54<>\"\",'Scope and Prelim. Cost Est.'!Z54,\"\")","v":""},{"$f":"IF('Scope and Prelim. Cost Est.'!AA54<>\"\",'Scope and Prelim. Cost Est.'!AA54,\"\")","v":""},"",{"$f":"IF('Scope and Prelim. Cost Est.'!AB54<>\"\",'Scope and Prelim. Cost Est.'!AB54,\"\")","v":""},{"$f":"IF('Scope and Prelim. Cost Est.'!AC54<>\"\",'Scope and Prelim. Cost Est.'!AC54,\"\")","v":""},{"$f":"IF('Scope and Prelim. Cost Est.'!AD54<>\"\",'Scope and Prelim. Cost Est.'!AD54,\"\")","v":""},{"$f":"IF('Scope and Prelim. Cost Est.'!AE54<>\"\",'Scope and Prelim. Cost Est.'!AE54,\"\")","v":""},{"$f":"IF('Scope and Prelim. Cost Est.'!AF54<>\"\",'Scope and Prelim. Cost Est.'!AF54,\"\")","v":""},{"$f":"IF('Scope and Prelim. Cost Est.'!AG54<>\"\",'Scope and Prelim. Cost Est.'!AG54,\"\")","v":""},{"$f":"IF('Scope and Prelim. Cost Est.'!AH54<>\"\",'Scope and Prelim. Cost Est.'!AH54,\"\")","v":""}]
[null,{"$f":"IF('Scope and Prelim. Cost Est.'!B55<>\"\",'Scope and Prelim. Cost Est.'!B55,\"\")","v":""},{"$f":"IF('Scope and Prelim. Cost Est.'!C55<>\"\",'Scope and Prelim. Cost Est.'!C55,\"\")","v":""},{"$f":"IF('Scope and Prelim. Cost Est.'!D55<>\"\",'Scope and Prelim. Cost Est.'!D55,\"\")","v":""},{"$f":"IF('Scope and Prelim. Cost Est.'!E55<>\"\",'Scope and Prelim. Cost Est.'!E55,\"\")","v":""},{"$f":"IF('Scope and Prelim. Cost Est.'!F55<>\"\",'Scope and Prelim. Cost Est.'!F55,\"\")","v":""},{"$f":"IF('Scope and Prelim. Cost Est.'!G55<>\"\",'Scope and Prelim. Cost Est.'!G55,\"\")","v":""},{"$f":"IF('Scope and Prelim. Cost Est.'!H55<>\"\",'Scope and Prelim. Cost Est.'!H55,\"\")","v":""},{"$f":"IF('Scope and Prelim. Cost Est.'!I55<>\"\",'Scope and Prelim. Cost Est.'!I55,\"\")","v":""},{"$f":"IF('Scope and Prelim. Cost Est.'!J55<>\"\",'Scope and Prelim. Cost Est.'!J55,\"\")","v":""},{"$f":"IF('Scope and Prelim. Cost Est.'!K55<>\"\",'Scope and Prelim. Cost Est.'!K55,\"\")","v":""},{"$f":"IF('Scope and Prelim. Cost Est.'!L55<>\"\",'Scope and Prelim. Cost Est.'!L55,\"\")","v":""},"",{"$f":"IF('Scope and Prelim. Cost Est.'!M55<>\"\",'Scope and Prelim. Cost Est.'!M55,\"\")","v":""},{"$f":"IF('Scope and Prelim. Cost Est.'!N55<>\"\",'Scope and Prelim. Cost Est.'!N55,\"\")","v":""},{"$f":"IF('Scope and Prelim. Cost Est.'!O55<>\"\",'Scope and Prelim. Cost Est.'!O55,\"\")","v":""},{"$f":"IF('Scope and Prelim. Cost Est.'!P55<>\"\",'Scope and Prelim. Cost Est.'!P55,\"\")","v":0},null,null,{"$f":"IF('Scope and Prelim. Cost Est.'!B55<>\"\",'Scope and Prelim. Cost Est.'!B55,\"\")","v":""},{"$f":"IF('Scope and Prelim. Cost Est.'!C55<>\"\",'Scope and Prelim. Cost Est.'!C55,\"\")","v":""},{"$f":"IF('Scope and Prelim. Cost Est.'!Q55<>\"\",'Scope and Prelim. Cost Est.'!Q55,\"\")","v":""},{"$f":"IF('Scope and Prelim. Cost Est.'!R55<>\"\",'Scope and Prelim. Cost Est.'!R55,\"\")","v":""},{"$f":"IF('Scope and Prelim. Cost Est.'!S55<>\"\",'Scope and Prelim. Cost Est.'!S55,\"\")","v":""},{"$f":"IF('Scope and Prelim. Cost Est.'!T55<>\"\",'Scope and Prelim. Cost Est.'!T55,\"\")","v":""},{"$f":"IF('Scope and Prelim. Cost Est.'!U55<>\"\",'Scope and Prelim. Cost Est.'!U55,\"\")","v":""},{"$f":"IF('Scope and Prelim. Cost Est.'!V55<>\"\",'Scope and Prelim. Cost Est.'!V55,\"\")","v":""},{"$f":"IF('Scope and Prelim. Cost Est.'!W55<>\"\",'Scope and Prelim. Cost Est.'!W55,\"\")","v":""},{"$f":"IF('Scope and Prelim. Cost Est.'!X55<>\"\",'Scope and Prelim. Cost Est.'!X55,\"\")","v":""},{"$f":"IF('Scope and Prelim. Cost Est.'!Y55<>\"\",'Scope and Prelim. Cost Est.'!Y55,\"\")","v":""},{"$f":"IF('Scope and Prelim. Cost Est.'!Z55<>\"\",'Scope and Prelim. Cost Est.'!Z55,\"\")","v":""},{"$f":"IF('Scope and Prelim. Cost Est.'!AA55<>\"\",'Scope and Prelim. Cost Est.'!AA55,\"\")","v":""},"",{"$f":"IF('Scope and Prelim. Cost Est.'!AB55<>\"\",'Scope and Prelim. Cost Est.'!AB55,\"\")","v":""},{"$f":"IF('Scope and Prelim. Cost Est.'!AC55<>\"\",'Scope and Prelim. Cost Est.'!AC55,\"\")","v":""},{"$f":"IF('Scope and Prelim. Cost Est.'!AD55<>\"\",'Scope and Prelim. Cost Est.'!AD55,\"\")","v":""},{"$f":"IF('Scope and Prelim. Cost Est.'!AE55<>\"\",'Scope and Prelim. Cost Est.'!AE55,\"\")","v":""},{"$f":"IF('Scope and Prelim. Cost Est.'!AF55<>\"\",'Scope and Prelim. Cost Est.'!AF55,\"\")","v":""},{"$f":"IF('Scope and Prelim. Cost Est.'!AG55<>\"\",'Scope and Prelim. Cost Est.'!AG55,\"\")","v":""},{"$f":"IF('Scope and Prelim. Cost Est.'!AH55<>\"\",'Scope and Prelim. Cost Est.'!AH55,\"\")","v":""}]
[null,{"$f":"IF('Scope and Prelim. Cost Est.'!B56<>\"\",'Scope and Prelim. Cost Est.'!B56,\"\")","v":""},{"$f":"IF('Scope and Prelim. Cost Est.'!C56<>\"\",'Scope and Prelim. Cost Est.'!C56,\"\")","v":""},{"$f":"IF('Scope and Prelim. Cost Est.'!D56<>\"\",'Scope and Prelim. Cost Est.'!D56,\"\")","v":""},{"$f":"IF('Scope and Prelim. Cost Est.'!E56<>\"\",'Scope and Prelim. Cost Est.'!E56,\"\")","v":""},{"$f":"IF('Scope and Prelim. Cost Est.'!F56<>\"\",'Scope and Prelim. Cost Est.'!F56,\"\")","v":""},{"$f":"IF('Scope and Prelim. Cost Est.'!G56<>\"\",'Scope and Prelim. Cost Est.'!G56,\"\")","v":""},{"$f":"IF('Scope and Prelim. Cost Est.'!H56<>\"\",'Scope and Prelim. Cost Est.'!H56,\"\")","v":""},{"$f":"IF('Scope and Prelim. Cost Est.'!I56<>\"\",'Scope and Prelim. Cost Est.'!I56,\"\")","v":""},{"$f":"IF('Scope and Prelim. Cost Est.'!J56<>\"\",'Scope and Prelim. Cost Est.'!J56,\"\")","v":""},{"$f":"IF('Scope and Prelim. Cost Est.'!K56<>\"\",'Scope and Prelim. Cost Est.'!K56,\"\")","v":""},{"$f":"IF('Scope and Prelim. Cost Est.'!L56<>\"\",'Scope and Prelim. Cost Est.'!L56,\"\")","v":""},"",{"$f":"IF('Scope and Prelim. Cost Est.'!M56<>\"\",'Scope and Prelim. Cost Est.'!M56,\"\")","v":""},{"$f":"IF('Scope and Prelim. Cost Est.'!N56<>\"\",'Scope and Prelim. Cost Est.'!N56,\"\")","v":""},{"$f":"IF('Scope and Prelim. Cost Est.'!O56<>\"\",'Scope and Prelim. Cost Est.'!O56,\"\")","v":""},{"$f":"IF('Scope and Prelim. Cost Est.'!P56<>\"\",'Scope and Prelim. Cost Est.'!P56,\"\")","v":0},null,null,{"$f":"IF('Scope and Prelim. Cost Est.'!B56<>\"\",'Scope and Prelim. Cost Est.'!B56,\"\")","v":""},{"$f":"IF('Scope and Prelim. Cost Est.'!C56<>\"\",'Scope and Prelim. Cost Est.'!C56,\"\")","v":""},{"$f":"IF('Scope and Prelim. Cost Est.'!Q56<>\"\",'Scope and Prelim. Cost Est.'!Q56,\"\")","v":""},{"$f":"IF('Scope and Prelim. Cost Est.'!R56<>\"\",'Scope and Prelim. Cost Est.'!R56,\"\")","v":""},{"$f":"IF('Scope and Prelim. Cost Est.'!S56<>\"\",'Scope and Prelim. Cost Est.'!S56,\"\")","v":""},{"$f":"IF('Scope and Prelim. Cost Est.'!T56<>\"\",'Scope and Prelim. Cost Est.'!T56,\"\")","v":""},{"$f":"IF('Scope and Prelim. Cost Est.'!U56<>\"\",'Scope and Prelim. Cost Est.'!U56,\"\")","v":""},{"$f":"IF('Scope and Prelim. Cost Est.'!V56<>\"\",'Scope and Prelim. Cost Est.'!V56,\"\")","v":""},{"$f":"IF('Scope and Prelim. Cost Est.'!W56<>\"\",'Scope and Prelim. Cost Est.'!W56,\"\")","v":""},{"$f":"IF('Scope and Prelim. Cost Est.'!X56<>\"\",'Scope and Prelim. Cost Est.'!X56,\"\")","v":""},{"$f":"IF('Scope and Prelim. Cost Est.'!Y56<>\"\",'Scope and Prelim. Cost Est.'!Y56,\"\")","v":""},{"$f":"IF('Scope and Prelim. Cost Est.'!Z56<>\"\",'Scope and Prelim. Cost Est.'!Z56,\"\")","v":""},{"$f":"IF('Scope and Prelim. Cost Est.'!AA56<>\"\",'Scope and Prelim. Cost Est.'!AA56,\"\")","v":""},"",{"$f":"IF('Scope and Prelim. Cost Est.'!AB56<>\"\",'Scope and Prelim. Cost Est.'!AB56,\"\")","v":""},{"$f":"IF('Scope and Prelim. Cost Est.'!AC56<>\"\",'Scope and Prelim. Cost Est.'!AC56,\"\")","v":""},{"$f":"IF('Scope and Prelim. Cost Est.'!AD56<>\"\",'Scope and Prelim. Cost Est.'!AD56,\"\")","v":""},{"$f":"IF('Scope and Prelim. Cost Est.'!AE56<>\"\",'Scope and Prelim. Cost Est.'!AE56,\"\")","v":""},{"$f":"IF('Scope and Prelim. Cost Est.'!AF56<>\"\",'Scope and Prelim. Cost Est.'!AF56,\"\")","v":""},{"$f":"IF('Scope and Prelim. Cost Est.'!AG56<>\"\",'Scope and Prelim. Cost Est.'!AG56,\"\")","v":""},{"$f":"IF('Scope and Prelim. Cost Est.'!AH56<>\"\",'Scope and Prelim. Cost Est.'!AH56,\"\")","v":""}]
[null,{"$f":"IF('Scope and Prelim. Cost Est.'!B57<>\"\",'Scope and Prelim. Cost Est.'!B57,\"\")","v":""},{"$f":"IF('Scope and Prelim. Cost Est.'!C57<>\"\",'Scope and Prelim. Cost Est.'!C57,\"\")","v":""},{"$f":"IF('Scope and Prelim. Cost Est.'!D57<>\"\",'Scope and Prelim. Cost Est.'!D57,\"\")","v":""},{"$f":"IF('Scope and Prelim. Cost Est.'!E57<>\"\",'Scope and Prelim. Cost Est.'!E57,\"\")","v":""},{"$f":"IF('Scope and Prelim. Cost Est.'!F57<>\"\",'Scope and Prelim. Cost Est.'!F57,\"\")","v":""},{"$f":"IF('Scope and Prelim. Cost Est.'!G57<>\"\",'Scope and Prelim. Cost Est.'!G57,\"\")","v":""},{"$f":"IF('Scope and Prelim. Cost Est.'!H57<>\"\",'Scope and Prelim. Cost Est.'!H57,\"\")","v":""},{"$f":"IF('Scope and Prelim. Cost Est.'!I57<>\"\",'Scope and Prelim. Cost Est.'!I57,\"\")","v":""},{"$f":"IF('Scope and Prelim. Cost Est.'!J57<>\"\",'Scope and Prelim. Cost Est.'!J57,\"\")","v":""},{"$f":"IF('Scope and Prelim. Cost Est.'!K57<>\"\",'Scope and Prelim. Cost Est.'!K57,\"\")","v":""},{"$f":"IF('Scope and Prelim. Cost Est.'!L57<>\"\",'Scope and Prelim. Cost Est.'!L57,\"\")","v":""},"",{"$f":"IF('Scope and Prelim. Cost Est.'!M57<>\"\",'Scope and Prelim. Cost Est.'!M57,\"\")","v":""},{"$f":"IF('Scope and Prelim. Cost Est.'!N57<>\"\",'Scope and Prelim. Cost Est.'!N57,\"\")","v":""},{"$f":"IF('Scope and Prelim. Cost Est.'!O57<>\"\",'Scope and Prelim. Cost Est.'!O57,\"\")","v":""},{"$f":"IF('Scope and Prelim. Cost Est.'!P57<>\"\",'Scope and Prelim. Cost Est.'!P57,\"\")","v":0},null,null,{"$f":"IF('Scope and Prelim. Cost Est.'!B57<>\"\",'Scope and Prelim. Cost Est.'!B57,\"\")","v":""},{"$f":"IF('Scope and Prelim. Cost Est.'!C57<>\"\",'Scope and Prelim. Cost Est.'!C57,\"\")","v":""},{"$f":"IF('Scope and Prelim. Cost Est.'!Q57<>\"\",'Scope and Prelim. Cost Est.'!Q57,\"\")","v":""},{"$f":"IF('Scope and Prelim. Cost Est.'!R57<>\"\",'Scope and Prelim. Cost Est.'!R57,\"\")","v":""},{"$f":"IF('Scope and Prelim. Cost Est.'!S57<>\"\",'Scope and Prelim. Cost Est.'!S57,\"\")","v":""},{"$f":"IF('Scope and Prelim. Cost Est.'!T57<>\"\",'Scope and Prelim. Cost Est.'!T57,\"\")","v":""},{"$f":"IF('Scope and Prelim. Cost Est.'!U57<>\"\",'Scope and Prelim. Cost Est.'!U57,\"\")","v":""},{"$f":"IF('Scope and Prelim. Cost Est.'!V57<>\"\",'Scope and Prelim. Cost Est.'!V57,\"\")","v":""},{"$f":"IF('Scope and Prelim. Cost Est.'!W57<>\"\",'Scope and Prelim. Cost Est.'!W57,\"\")","v":""},{"$f":"IF('Scope and Prelim. Cost Est.'!X57<>\"\",'Scope and Prelim. Cost Est.'!X57,\"\")","v":""},{"$f":"IF('Scope and Prelim. Cost Est.'!Y57<>\"\",'Scope and Prelim. Cost Est.'!Y57,\"\")","v":""},{"$f":"IF('Scope and Prelim. Cost Est.'!Z57<>\"\",'Scope and Prelim. Cost Est.'!Z57,\"\")","v":""},{"$f":"IF('Scope and Prelim. Cost Est.'!AA57<>\"\",'Scope and Prelim. Cost Est.'!AA57,\"\")","v":""},"",{"$f":"IF('Scope and Prelim. Cost Est.'!AB57<>\"\",'Scope and Prelim. Cost Est.'!AB57,\"\")","v":""},{"$f":"IF('Scope and Prelim. Cost Est.'!AC57<>\"\",'Scope and Prelim. Cost Est.'!AC57,\"\")","v":""},{"$f":"IF('Scope and Prelim. Cost Est.'!AD57<>\"\",'Scope and Prelim. Cost Est.'!AD57,\"\")","v":""},{"$f":"IF('Scope and Prelim. Cost Est.'!AE57<>\"\",'Scope and Prelim. Cost Est.'!AE57,\"\")","v":""},{"$f":"IF('Scope and Prelim. Cost Est.'!AF57<>\"\",'Scope and Prelim. Cost Est.'!AF57,\"\")","v":""},{"$f":"IF('Scope and Prelim. Cost Est.'!AG57<>\"\",'Scope and Prelim. Cost Est.'!AG57,\"\")","v":""},{"$f":"IF('Scope and Prelim. Cost Est.'!AH57<>\"\",'Scope and Prelim. Cost Est.'!AH57,\"\")","v":""}]
[null,{"$f":"IF('Scope and Prelim. Cost Est.'!B58<>\"\",'Scope and Prelim. Cost Est.'!B58,\"\")","v":""},{"$f":"IF('Scope and Prelim. Cost Est.'!C58<>\"\",'Scope and Prelim. Cost Est.'!C58,\"\")","v":""},{"$f":"IF('Scope and Prelim. Cost Est.'!D58<>\"\",'Scope and Prelim. Cost Est.'!D58,\"\")","v":""},{"$f":"IF('Scope and Prelim. Cost Est.'!E58<>\"\",'Scope and Prelim. Cost Est.'!E58,\"\")","v":""},{"$f":"IF('Scope and Prelim. Cost Est.'!F58<>\"\",'Scope and Prelim. Cost Est.'!F58,\"\")","v":""},{"$f":"IF('Scope and Prelim. Cost Est.'!G58<>\"\",'Scope and Prelim. Cost Est.'!G58,\"\")","v":""},{"$f":"IF('Scope and Prelim. Cost Est.'!H58<>\"\",'Scope and Prelim. Cost Est.'!H58,\"\")","v":""},{"$f":"IF('Scope and Prelim. Cost Est.'!I58<>\"\",'Scope and Prelim. Cost Est.'!I58,\"\")","v":""},{"$f":"IF('Scope and Prelim. Cost Est.'!J58<>\"\",'Scope and Prelim. Cost Est.'!J58,\"\")","v":""},{"$f":"IF('Scope and Prelim. Cost Est.'!K58<>\"\",'Scope and Prelim. Cost Est.'!K58,\"\")","v":""},{"$f":"IF('Scope and Prelim. Cost Est.'!L58<>\"\",'Scope and Prelim. Cost Est.'!L58,\"\")","v":""},"",{"$f":"IF('Scope and Prelim. Cost Est.'!M58<>\"\",'Scope and Prelim. Cost Est.'!M58,\"\")","v":""},{"$f":"IF('Scope and Prelim. Cost Est.'!N58<>\"\",'Scope and Prelim. Cost Est.'!N58,\"\")","v":""},{"$f":"IF('Scope and Prelim. Cost Est.'!O58<>\"\",'Scope and Prelim. Cost Est.'!O58,\"\")","v":""},{"$f":"IF('Scope and Prelim. Cost Est.'!P58<>\"\",'Scope and Prelim. Cost Est.'!P58,\"\")","v":0},null,null,{"$f":"IF('Scope and Prelim. Cost Est.'!B58<>\"\",'Scope and Prelim. Cost Est.'!B58,\"\")","v":""},{"$f":"IF('Scope and Prelim. Cost Est.'!C58<>\"\",'Scope and Prelim. Cost Est.'!C58,\"\")","v":""},{"$f":"IF('Scope and Prelim. Cost Est.'!Q58<>\"\",'Scope and Prelim. Cost Est.'!Q58,\"\")","v":""},{"$f":"IF('Scope and Prelim. Cost Est.'!R58<>\"\",'Scope and Prelim. Cost Est.'!R58,\"\")","v":""},{"$f":"IF('Scope and Prelim. Cost Est.'!S58<>\"\",'Scope and Prelim. Cost Est.'!S58,\"\")","v":""},{"$f":"IF('Scope and Prelim. Cost Est.'!T58<>\"\",'Scope and Prelim. Cost Est.'!T58,\"\")","v":""},{"$f":"IF('Scope and Prelim. Cost Est.'!U58<>\"\",'Scope and Prelim. Cost Est.'!U58,\"\")","v":""},{"$f":"IF('Scope and Prelim. Cost Est.'!V58<>\"\",'Scope and Prelim. Cost Est.'!V58,\"\")","v":""},{"$f":"IF('Scope and Prelim. Cost Est.'!W58<>\"\",'Scope and Prelim. Cost Est.'!W58,\"\")","v":""},{"$f":"IF('Scope and Prelim. Cost Est.'!X58<>\"\",'Scope and Prelim. Cost Est.'!X58,\"\")","v":""},{"$f":"IF('Scope and Prelim. Cost Est.'!Y58<>\"\",'Scope and Prelim. Cost Est.'!Y58,\"\")","v":""},{"$f":"IF('Scope and Prelim. Cost Est.'!Z58<>\"\",'Scope and Prelim. Cost Est.'!Z58,\"\")","v":""},{"$f":"IF('Scope and Prelim. Cost Est.'!AA58<>\"\",'Scope and Prelim. Cost Est.'!AA58,\"\")","v":""},"",{"$f":"IF('Scope and Prelim. Cost Est.'!AB58<>\"\",'Scope and Prelim. Cost Est.'!AB58,\"\")","v":""},{"$f":"IF('Scope and Prelim. Cost Est.'!AC58<>\"\",'Scope and Prelim. Cost Est.'!AC58,\"\")","v":""},{"$f":"IF('Scope and Prelim. Cost Est.'!AD58<>\"\",'Scope and Prelim. Cost Est.'!AD58,\"\")","v":""},{"$f":"IF('Scope and Prelim. Cost Est.'!AE58<>\"\",'Scope and Prelim. Cost Est.'!AE58,\"\")","v":""},{"$f":"IF('Scope and Prelim. Cost Est.'!AF58<>\"\",'Scope and Prelim. Cost Est.'!AF58,\"\")","v":""},{"$f":"IF('Scope and Prelim. Cost Est.'!AG58<>\"\",'Scope and Prelim. Cost Est.'!AG58,\"\")","v":""},{"$f":"IF('Scope and Prelim. Cost Est.'!AH58<>\"\",'Scope and Prelim. Cost Est.'!AH58,\"\")","v":""}]
[null,{"$f":"IF('Scope and Prelim. Cost Est.'!B59<>\"\",'Scope and Prelim. Cost Est.'!B59,\"\")","v":""},{"$f":"IF('Scope and Prelim. Cost Est.'!C59<>\"\",'Scope and Prelim. Cost Est.'!C59,\"\")","v":""},{"$f":"IF('Scope and Prelim. Cost Est.'!D59<>\"\",'Scope and Prelim. Cost Est.'!D59,\"\")","v":""},{"$f":"IF('Scope and Prelim. Cost Est.'!E59<>\"\",'Scope and Prelim. Cost Est.'!E59,\"\")","v":""},{"$f":"IF('Scope and Prelim. Cost Est.'!F59<>\"\",'Scope and Prelim. Cost Est.'!F59,\"\")","v":""},{"$f":"IF('Scope and Prelim. Cost Est.'!G59<>\"\",'Scope and Prelim. Cost Est.'!G59,\"\")","v":""},{"$f":"IF('Scope and Prelim. Cost Est.'!H59<>\"\",'Scope and Prelim. Cost Est.'!H59,\"\")","v":""},{"$f":"IF('Scope and Prelim. Cost Est.'!I59<>\"\",'Scope and Prelim. Cost Est.'!I59,\"\")","v":""},{"$f":"IF('Scope and Prelim. Cost Est.'!J59<>\"\",'Scope and Prelim. Cost Est.'!J59,\"\")","v":""},{"$f":"IF('Scope and Prelim. Cost Est.'!K59<>\"\",'Scope and Prelim. Cost Est.'!K59,\"\")","v":""},{"$f":"IF('Scope and Prelim. Cost Est.'!L59<>\"\",'Scope and Prelim. Cost Est.'!L59,\"\")","v":""},"",{"$f":"IF('Scope and Prelim. Cost Est.'!M59<>\"\",'Scope and Prelim. Cost Est.'!M59,\"\")","v":""},{"$f":"IF('Scope and Prelim. Cost Est.'!N59<>\"\",'Scope and Prelim. Cost Est.'!N59,\"\")","v":""},{"$f":"IF('Scope and Prelim. Cost Est.'!O59<>\"\",'Scope and Prelim. Cost Est.'!O59,\"\")","v":""},{"$f":"IF('Scope and Prelim. Cost Est.'!P59<>\"\",'Scope and Prelim. Cost Est.'!P59,\"\")","v":0},null,null,{"$f":"IF('Scope and Prelim. Cost Est.'!B59<>\"\",'Scope and Prelim. Cost Est.'!B59,\"\")","v":""},{"$f":"IF('Scope and Prelim. Cost Est.'!C59<>\"\",'Scope and Prelim. Cost Est.'!C59,\"\")","v":""},{"$f":"IF('Scope and Prelim. Cost Est.'!Q59<>\"\",'Scope and Prelim. Cost Est.'!Q59,\"\")","v":""},{"$f":"IF('Scope and Prelim. Cost Est.'!R59<>\"\",'Scope and Prelim. Cost Est.'!R59,\"\")","v":""},{"$f":"IF('Scope and Prelim. Cost Est.'!S59<>\"\",'Scope and Prelim. Cost Est.'!S59,\"\")","v":""},{"$f":"IF('Scope and Prelim. Cost Est.'!T59<>\"\",'Scope and Prelim. Cost Est.'!T59,\"\")","v":""},{"$f":"IF('Scope and Prelim. Cost Est.'!U59<>\"\",'Scope and Prelim. Cost Est.'!U59,\"\")","v":""},{"$f":"IF('Scope and Prelim. Cost Est.'!V59<>\"\",'Scope and Prelim. Cost Est.'!V59,\"\")","v":""},{"$f":"IF('Scope and Prelim. Cost Est.'!W59<>\"\",'Scope and Prelim. Cost Est.'!W59,\"\")","v":""},{"$f":"IF('Scope and Prelim. Cost Est.'!X59<>\"\",'Scope and Prelim. Cost Est.'!X59,\"\")","v":""},{"$f":"IF('Scope and Prelim. Cost Est.'!Y59<>\"\",'Scope and Prelim. Cost Est.'!Y59,\"\")","v":""},{"$f":"IF('Scope and Prelim. Cost Est.'!Z59<>\"\",'Scope and Prelim. Cost Est.'!Z59,\"\")","v":""},{"$f":"IF('Scope and Prelim. Cost Est.'!AA59<>\"\",'Scope and Prelim. Cost Est.'!AA59,\"\")","v":""},"",{"$f":"IF('Scope and Prelim. Cost Est.'!AB59<>\"\",'Scope and Prelim. Cost Est.'!AB59,\"\")","v":""},{"$f":"IF('Scope and Prelim. Cost Est.'!AC59<>\"\",'Scope and Prelim. Cost Est.'!AC59,\"\")","v":""},{"$f":"IF('Scope and Prelim. Cost Est.'!AD59<>\"\",'Scope and Prelim. Cost Est.'!AD59,\"\")","v":""},{"$f":"IF('Scope and Prelim. Cost Est.'!AE59<>\"\",'Scope and Prelim. Cost Est.'!AE59,\"\")","v":""},{"$f":"IF('Scope and Prelim. Cost Est.'!AF59<>\"\",'Scope and Prelim. Cost Est.'!AF59,\"\")","v":""},{"$f":"IF('Scope and Prelim. Cost Est.'!AG59<>\"\",'Scope and Prelim. Cost Est.'!AG59,\"\")","v":""},{"$f":"IF('Scope and Prelim. Cost Est.'!AH59<>\"\",'Scope and Prelim. Cost Est.'!AH59,\"\")","v":""}]
[null,{"$f":"IF('Scope and Prelim. Cost Est.'!B60<>\"\",'Scope and Prelim. Cost Est.'!B60,\"\")","v":""},{"$f":"IF('Scope and Prelim. Cost Est.'!C60<>\"\",'Scope and Prelim. Cost Est.'!C60,\"\")","v":""},{"$f":"IF('Scope and Prelim. Cost Est.'!D60<>\"\",'Scope and Prelim. Cost Est.'!D60,\"\")","v":""},{"$f":"IF('Scope and Prelim. Cost Est.'!E60<>\"\",'Scope and Prelim. Cost Est.'!E60,\"\")","v":""},{"$f":"IF('Scope and Prelim. Cost Est.'!F60<>\"\",'Scope and Prelim. Cost Est.'!F60,\"\")","v":""},{"$f":"IF('Scope and Prelim. Cost Est.'!G60<>\"\",'Scope and Prelim. Cost Est.'!G60,\"\")","v":""},{"$f":"IF('Scope and Prelim. Cost Est.'!H60<>\"\",'Scope and Prelim. Cost Est.'!H60,\"\")","v":""},{"$f":"IF('Scope and Prelim. Cost Est.'!I60<>\"\",'Scope and Prelim. Cost Est.'!I60,\"\")","v":""},{"$f":"IF('Scope and Prelim. Cost Est.'!J60<>\"\",'Scope and Prelim. Cost Est.'!J60,\"\")","v":""},{"$f":"IF('Scope and Prelim. Cost Est.'!K60<>\"\",'Scope and Prelim. Cost Est.'!K60,\"\")","v":""},{"$f":"IF('Scope and Prelim. Cost Est.'!L60<>\"\",'Scope and Prelim. Cost Est.'!L60,\"\")","v":""},"",{"$f":"IF('Scope and Prelim. Cost Est.'!M60<>\"\",'Scope and Prelim. Cost Est.'!M60,\"\")","v":""},{"$f":"IF('Scope and Prelim. Cost Est.'!N60<>\"\",'Scope and Prelim. Cost Est.'!N60,\"\")","v":""},{"$f":"IF('Scope and Prelim. Cost Est.'!O60<>\"\",'Scope and Prelim. Cost Est.'!O60,\"\")","v":""},{"$f":"IF('Scope and Prelim. Cost Est.'!P60<>\"\",'Scope and Prelim. Cost Est.'!P60,\"\")","v":0},null,null,{"$f":"IF('Scope and Prelim. Cost Est.'!B60<>\"\",'Scope and Prelim. Cost Est.'!B60,\"\")","v":""},{"$f":"IF('Scope and Prelim. Cost Est.'!C60<>\"\",'Scope and Prelim. Cost Est.'!C60,\"\")","v":""},{"$f":"IF('Scope and Prelim. Cost Est.'!Q60<>\"\",'Scope and Prelim. Cost Est.'!Q60,\"\")","v":""},{"$f":"IF('Scope and Prelim. Cost Est.'!R60<>\"\",'Scope and Prelim. Cost Est.'!R60,\"\")","v":""},{"$f":"IF('Scope and Prelim. Cost Est.'!S60<>\"\",'Scope and Prelim. Cost Est.'!S60,\"\")","v":""},{"$f":"IF('Scope and Prelim. Cost Est.'!T60<>\"\",'Scope and Prelim. Cost Est.'!T60,\"\")","v":""},{"$f":"IF('Scope and Prelim. Cost Est.'!U60<>\"\",'Scope and Prelim. Cost Est.'!U60,\"\")","v":""},{"$f":"IF('Scope and Prelim. Cost Est.'!V60<>\"\",'Scope and Prelim. Cost Est.'!V60,\"\")","v":""},{"$f":"IF('Scope and Prelim. Cost Est.'!W60<>\"\",'Scope and Prelim. Cost Est.'!W60,\"\")","v":""},{"$f":"IF('Scope and Prelim. Cost Est.'!X60<>\"\",'Scope and Prelim. Cost Est.'!X60,\"\")","v":""},{"$f":"IF('Scope and Prelim. Cost Est.'!Y60<>\"\",'Scope and Prelim. Cost Est.'!Y60,\"\")","v":""},{"$f":"IF('Scope and Prelim. Cost Est.'!Z60<>\"\",'Scope and Prelim. Cost Est.'!Z60,\"\")","v":""},{"$f":"IF('Scope and Prelim. Cost Est.'!AA60<>\"\",'Scope and Prelim. Cost Est.'!AA60,\"\")","v":""},"",{"$f":"IF('Scope and Prelim. Cost Est.'!AB60<>\"\",'Scope and Prelim. Cost Est.'!AB60,\"\")","v":""},{"$f":"IF('Scope and Prelim. Cost Est.'!AC60<>\"\",'Scope and Prelim. Cost Est.'!AC60,\"\")","v":""},{"$f":"IF('Scope and Prelim. Cost Est.'!AD60<>\"\",'Scope and Prelim. Cost Est.'!AD60,\"\")","v":""},{"$f":"IF('Scope and Prelim. Cost Est.'!AE60<>\"\",'Scope and Prelim. Cost Est.'!AE60,\"\")","v":""},{"$f":"IF('Scope and Prelim. Cost Est.'!AF60<>\"\",'Scope and Prelim. Cost Est.'!AF60,\"\")","v":""},{"$f":"IF('Scope and Prelim. Cost Est.'!AG60<>\"\",'Scope and Prelim. Cost Est.'!AG60,\"\")","v":""},{"$f":"IF('Scope and Prelim. Cost Est.'!AH60<>\"\",'Scope and Prelim. Cost Est.'!AH60,\"\")","v":""}]
[null,{"$f":"IF('Scope and Prelim. Cost Est.'!B61<>\"\",'Scope and Prelim. Cost Est.'!B61,\"\")","v":""},{"$f":"IF('Scope and Prelim. Cost Est.'!C61<>\"\",'Scope and Prelim. Cost Est.'!C61,\"\")","v":""},{"$f":"IF('Scope and Prelim. Cost Est.'!D61<>\"\",'Scope and Prelim. Cost Est.'!D61,\"\")","v":""},{"$f":"IF('Scope and Prelim. Cost Est.'!E61<>\"\",'Scope and Prelim. Cost Est.'!E61,\"\")","v":""},{"$f":"IF('Scope and Prelim. Cost Est.'!F61<>\"\",'Scope and Prelim. Cost Est.'!F61,\"\")","v":""},{"$f":"IF('Scope and Prelim. Cost Est.'!G61<>\"\",'Scope and Prelim. Cost Est.'!G61,\"\")","v":""},{"$f":"IF('Scope and Prelim. Cost Est.'!H61<>\"\",'Scope and Prelim. Cost Est.'!H61,\"\")","v":""},{"$f":"IF('Scope and Prelim. Cost Est.'!I61<>\"\",'Scope and Prelim. Cost Est.'!I61,\"\")","v":""},{"$f":"IF('Scope and Prelim. Cost Est.'!J61<>\"\",'Scope and Prelim. Cost Est.'!J61,\"\")","v":""},{"$f":"IF('Scope and Prelim. Cost Est.'!K61<>\"\",'Scope and Prelim. Cost Est.'!K61,\"\")","v":""},{"$f":"IF('Scope and Prelim. Cost Est.'!L61<>\"\",'Scope and Prelim. Cost Est.'!L61,\"\")","v":""},"",{"$f":"IF('Scope and Prelim. Cost Est.'!M61<>\"\",'Scope and Prelim. Cost Est.'!M61,\"\")","v":""},{"$f":"IF('Scope and Prelim. Cost Est.'!N61<>\"\",'Scope and Prelim. Cost Est.'!N61,\"\")","v":""},{"$f":"IF('Scope and Prelim. Cost Est.'!O61<>\"\",'Scope and Prelim. Cost Est.'!O61,\"\")","v":""},{"$f":"IF('Scope and Prelim. Cost Est.'!P61<>\"\",'Scope and Prelim. Cost Est.'!P61,\"\")","v":0},null,null,{"$f":"IF('Scope and Prelim. Cost Est.'!B61<>\"\",'Scope and Prelim. Cost Est.'!B61,\"\")","v":""},{"$f":"IF('Scope and Prelim. Cost Est.'!C61<>\"\",'Scope and Prelim. Cost Est.'!C61,\"\")","v":""},{"$f":"IF('Scope and Prelim. Cost Est.'!Q61<>\"\",'Scope and Prelim. Cost Est.'!Q61,\"\")","v":""},{"$f":"IF('Scope and Prelim. Cost Est.'!R61<>\"\",'Scope and Prelim. Cost Est.'!R61,\"\")","v":""},{"$f":"IF('Scope and Prelim. Cost Est.'!S61<>\"\",'Scope and Prelim. Cost Est.'!S61,\"\")","v":""},{"$f":"IF('Scope and Prelim. Cost Est.'!T61<>\"\",'Scope and Prelim. Cost Est.'!T61,\"\")","v":""},{"$f":"IF('Scope and Prelim. Cost Est.'!U61<>\"\",'Scope and Prelim. Cost Est.'!U61,\"\")","v":""},{"$f":"IF('Scope and Prelim. Cost Est.'!V61<>\"\",'Scope and Prelim. Cost Est.'!V61,\"\")","v":""},{"$f":"IF('Scope and Prelim. Cost Est.'!W61<>\"\",'Scope and Prelim. Cost Est.'!W61,\"\")","v":""},{"$f":"IF('Scope and Prelim. Cost Est.'!X61<>\"\",'Scope and Prelim. Cost Est.'!X61,\"\")","v":""},{"$f":"IF('Scope and Prelim. Cost Est.'!Y61<>\"\",'Scope and Prelim. Cost Est.'!Y61,\"\")","v":""},{"$f":"IF('Scope and Prelim. Cost Est.'!Z61<>\"\",'Scope and Prelim. Cost Est.'!Z61,\"\")","v":""},{"$f":"IF('Scope and Prelim. Cost Est.'!AA61<>\"\",'Scope and Prelim. Cost Est.'!AA61,\"\")","v":""},"",{"$f":"IF('Scope and Prelim. Cost Est.'!AB61<>\"\",'Scope and Prelim. Cost Est.'!AB61,\"\")","v":""},{"$f":"IF('Scope and Prelim. Cost Est.'!AC61<>\"\",'Scope and Prelim. Cost Est.'!AC61,\"\")","v":""},{"$f":"IF('Scope and Prelim. Cost Est.'!AD61<>\"\",'Scope and Prelim. Cost Est.'!AD61,\"\")","v":""},{"$f":"IF('Scope and Prelim. Cost Est.'!AE61<>\"\",'Scope and Prelim. Cost Est.'!AE61,\"\")","v":""},{"$f":"IF('Scope and Prelim. Cost Est.'!AF61<>\"\",'Scope and Prelim. Cost Est.'!AF61,\"\")","v":""},{"$f":"IF('Scope and Prelim. Cost Est.'!AG61<>\"\",'Scope and Prelim. Cost Est.'!AG61,\"\")","v":""},{"$f":"IF('Scope and Prelim. Cost Est.'!AH61<>\"\",'Scope and Prelim. Cost Est.'!AH61,\"\")","v":""}]
[null,{"$f":"IF('Scope and Prelim. Cost Est.'!B62<>\"\",'Scope and Prelim. Cost Est.'!B62,\"\")","v":""},{"$f":"IF('Scope and Prelim. Cost Est.'!C62<>\"\",'Scope and Prelim. Cost Est.'!C62,\"\")","v":""},{"$f":"IF('Scope and Prelim. Cost Est.'!D62<>\"\",'Scope and Prelim. Cost Est.'!D62,\"\")","v":""},{"$f":"IF('Scope and Prelim. Cost Est.'!E62<>\"\",'Scope and Prelim. Cost Est.'!E62,\"\")","v":""},{"$f":"IF('Scope and Prelim. Cost Est.'!F62<>\"\",'Scope and Prelim. Cost Est.'!F62,\"\")","v":""},{"$f":"IF('Scope and Prelim. Cost Est.'!G62<>\"\",'Scope and Prelim. Cost Est.'!G62,\"\")","v":""},{"$f":"IF('Scope and Prelim. Cost Est.'!H62<>\"\",'Scope and Prelim. Cost Est.'!H62,\"\")","v":""},{"$f":"IF('Scope and Prelim. Cost Est.'!I62<>\"\",'Scope and Prelim. Cost Est.'!I62,\"\")","v":""},{"$f":"IF('Scope and Prelim. Cost Est.'!J62<>\"\",'Scope and Prelim. Cost Est.'!J62,\"\")","v":""},{"$f":"IF('Scope and Prelim. Cost Est.'!K62<>\"\",'Scope and Prelim. Cost Est.'!K62,\"\")","v":""},{"$f":"IF('Scope and Prelim. Cost Est.'!L62<>\"\",'Scope and Prelim. Cost Est.'!L62,\"\")","v":""},"",{"$f":"IF('Scope and Prelim. Cost Est.'!M62<>\"\",'Scope and Prelim. Cost Est.'!M62,\"\")","v":""},{"$f":"IF('Scope and Prelim. Cost Est.'!N62<>\"\",'Scope and Prelim. Cost Est.'!N62,\"\")","v":""},{"$f":"IF('Scope and Prelim. Cost Est.'!O62<>\"\",'Scope and Prelim. Cost Est.'!O62,\"\")","v":""},{"$f":"IF('Scope and Prelim. Cost Est.'!P62<>\"\",'Scope and Prelim. Cost Est.'!P62,\"\")","v":0},null,null,{"$f":"IF('Scope and Prelim. Cost Est.'!B62<>\"\",'Scope and Prelim. Cost Est.'!B62,\"\")","v":""},{"$f":"IF('Scope and Prelim. Cost Est.'!C62<>\"\",'Scope and Prelim. Cost Est.'!C62,\"\")","v":""},{"$f":"IF('Scope and Prelim. Cost Est.'!Q62<>\"\",'Scope and Prelim. Cost Est.'!Q62,\"\")","v":""},{"$f":"IF('Scope and Prelim. Cost Est.'!R62<>\"\",'Scope and Prelim. Cost Est.'!R62,\"\")","v":""},{"$f":"IF('Scope and Prelim. Cost Est.'!S62<>\"\",'Scope and Prelim. Cost Est.'!S62,\"\")","v":""},{"$f":"IF('Scope and Prelim. Cost Est.'!T62<>\"\",'Scope and Prelim. Cost Est.'!T62,\"\")","v":""},{"$f":"IF('Scope and Prelim. Cost Est.'!U62<>\"\",'Scope and Prelim. Cost Est.'!U62,\"\")","v":""},{"$f":"IF('Scope and Prelim. Cost Est.'!V62<>\"\",'Scope and Prelim. Cost Est.'!V62,\"\")","v":""},{"$f":"IF('Scope and Prelim. Cost Est.'!W62<>\"\",'Scope and Prelim. Cost Est.'!W62,\"\")","v":""},{"$f":"IF('Scope and Prelim. Cost Est.'!X62<>\"\",'Scope and Prelim. Cost Est.'!X62,\"\")","v":""},{"$f":"IF('Scope and Prelim. Cost Est.'!Y62<>\"\",'Scope and Prelim. Cost Est.'!Y62,\"\")","v":""},{"$f":"IF('Scope and Prelim. Cost Est.'!Z62<>\"\",'Scope and Prelim. Cost Est.'!Z62,\"\")","v":""},{"$f":"IF('Scope and Prelim. Cost Est.'!AA62<>\"\",'Scope and Prelim. Cost Est.'!AA62,\"\")","v":""},"",{"$f":"IF('Scope and Prelim. Cost Est.'!AB62<>\"\",'Scope and Prelim. Cost Est.'!AB62,\"\")","v":""},{"$f":"IF('Scope and Prelim. Cost Est.'!AC62<>\"\",'Scope and Prelim. Cost Est.'!AC62,\"\")","v":""},{"$f":"IF('Scope and Prelim. Cost Est.'!AD62<>\"\",'Scope and Prelim. Cost Est.'!AD62,\"\")","v":""},{"$f":"IF('Scope and Prelim. Cost Est.'!AE62<>\"\",'Scope and Prelim. Cost Est.'!AE62,\"\")","v":""},{"$f":"IF('Scope and Prelim. Cost Est.'!AF62<>\"\",'Scope and Prelim. Cost Est.'!AF62,\"\")","v":""},{"$f":"IF('Scope and Prelim. Cost Est.'!AG62<>\"\",'Scope and Prelim. Cost Est.'!AG62,\"\")","v":""},{"$f":"IF('Scope and Prelim. Cost Est.'!AH62<>\"\",'Scope and Prelim. Cost Est.'!AH62,\"\")","v":""}]
[null,{"$f":"IF('Scope and Prelim. Cost Est.'!B63<>\"\",'Scope and Prelim. Cost Est.'!B63,\"\")","v":""},{"$f":"IF('Scope and Prelim. Cost Est.'!C63<>\"\",'Scope and Prelim. Cost Est.'!C63,\"\")","v":""},{"$f":"IF('Scope and Prelim. Cost Est.'!D63<>\"\",'Scope and Prelim. Cost Est.'!D63,\"\")","v":""},{"$f":"IF('Scope and Prelim. Cost Est.'!E63<>\"\",'Scope and Prelim. Cost Est.'!E63,\"\")","v":""},{"$f":"IF('Scope and Prelim. Cost Est.'!F63<>\"\",'Scope and Prelim. Cost Est.'!F63,\"\")","v":""},{"$f":"IF('Scope and Prelim. Cost Est.'!G63<>\"\",'Scope and Prelim. Cost Est.'!G63,\"\")","v":""},{"$f":"IF('Scope and Prelim. Cost Est.'!H63<>\"\",'Scope and Prelim. Cost Est.'!H63,\"\")","v":""},{"$f":"IF('Scope and Prelim. Cost Est.'!I63<>\"\",'Scope and Prelim. Cost Est.'!I63,\"\")","v":""},{"$f":"IF('Scope and Prelim. Cost Est.'!J63<>\"\",'Scope and Prelim. Cost Est.'!J63,\"\")","v":""},{"$f":"IF('Scope and Prelim. Cost Est.'!K63<>\"\",'Scope and Prelim. Cost Est.'!K63,\"\")","v":""},{"$f":"IF('Scope and Prelim. Cost Est.'!L63<>\"\",'Scope and Prelim. Cost Est.'!L63,\"\")","v":""},"",{"$f":"IF('Scope and Prelim. Cost Est.'!M63<>\"\",'Scope and Prelim. Cost Est.'!M63,\"\")","v":""},{"$f":"IF('Scope and Prelim. Cost Est.'!N63<>\"\",'Scope and Prelim. Cost Est.'!N63,\"\")","v":""},{"$f":"IF('Scope and Prelim. Cost Est.'!O63<>\"\",'Scope and Prelim. Cost Est.'!O63,\"\")","v":""},{"$f":"IF('Scope and Prelim. Cost Est.'!P63<>\"\",'Scope and Prelim. Cost Est.'!P63,\"\")","v":0},null,null,{"$f":"IF('Scope and Prelim. Cost Est.'!B63<>\"\",'Scope and Prelim. Cost Est.'!B63,\"\")","v":""},{"$f":"IF('Scope and Prelim. Cost Est.'!C63<>\"\",'Scope and Prelim. Cost Est.'!C63,\"\")","v":""},{"$f":"IF('Scope and Prelim. Cost Est.'!Q63<>\"\",'Scope and Prelim. Cost Est.'!Q63,\"\")","v":""},{"$f":"IF('Scope and Prelim. Cost Est.'!R63<>\"\",'Scope and Prelim. Cost Est.'!R63,\"\")","v":""},{"$f":"IF('Scope and Prelim. Cost Est.'!S63<>\"\",'Scope and Prelim. Cost Est.'!S63,\"\")","v":""},{"$f":"IF('Scope and Prelim. Cost Est.'!T63<>\"\",'Scope and Prelim. Cost Est.'!T63,\"\")","v":""},{"$f":"IF('Scope and Prelim. Cost Est.'!U63<>\"\",'Scope and Prelim. Cost Est.'!U63,\"\")","v":""},{"$f":"IF('Scope and Prelim. Cost Est.'!V63<>\"\",'Scope and Prelim. Cost Est.'!V63,\"\")","v":""},{"$f":"IF('Scope and Prelim. Cost Est.'!W63<>\"\",'Scope and Prelim. Cost Est.'!W63,\"\")","v":""},{"$f":"IF('Scope and Prelim. Cost Est.'!X63<>\"\",'Scope and Prelim. Cost Est.'!X63,\"\")","v":""},{"$f":"IF('Scope and Prelim. Cost Est.'!Y63<>\"\",'Scope and Prelim. Cost Est.'!Y63,\"\")","v":""},{"$f":"IF('Scope and Prelim. Cost Est.'!Z63<>\"\",'Scope and Prelim. Cost Est.'!Z63,\"\")","v":""},{"$f":"IF('Scope and Prelim. Cost Est.'!AA63<>\"\",'Scope and Prelim. Cost Est.'!AA63,\"\")","v":""},"",{"$f":"IF('Scope and Prelim. Cost Est.'!AB63<>\"\",'Scope and Prelim. Cost Est.'!AB63,\"\")","v":""},{"$f":"IF('Scope and Prelim. Cost Est.'!AC63<>\"\",'Scope and Prelim. Cost Est.'!AC63,\"\")","v":""},{"$f":"IF('Scope and Prelim. Cost Est.'!AD63<>\"\",'Scope and Prelim. Cost Est.'!AD63,\"\")","v":""},{"$f":"IF('Scope and Prelim. Cost Est.'!AE63<>\"\",'Scope and Prelim. Cost Est.'!AE63,\"\")","v":""},{"$f":"IF('Scope and Prelim. Cost Est.'!AF63<>\"\",'Scope and Prelim. Cost Est.'!AF63,\"\")","v":""},{"$f":"IF('Scope and Prelim. Cost Est.'!AG63<>\"\",'Scope and Prelim. Cost Est.'!AG63,\"\")","v":""},{"$f":"IF('Scope and Prelim. Cost Est.'!AH63<>\"\",'Scope and Prelim. Cost Est.'!AH63,\"\")","v":""}]
[null,{"$f":"IF('Scope and Prelim. Cost Est.'!B64<>\"\",'Scope and Prelim. Cost Est.'!B64,\"\")","v":""},{"$f":"IF('Scope and Prelim. Cost Est.'!C64<>\"\",'Scope and Prelim. Cost Est.'!C64,\"\")","v":""},{"$f":"IF('Scope and Prelim. Cost Est.'!D64<>\"\",'Scope and Prelim. Cost Est.'!D64,\"\")","v":""},{"$f":"IF('Scope and Prelim. Cost Est.'!E64<>\"\",'Scope and Prelim. Cost Est.'!E64,\"\")","v":""},{"$f":"IF('Scope and Prelim. Cost Est.'!F64<>\"\",'Scope and Prelim. Cost Est.'!F64,\"\")","v":""},{"$f":"IF('Scope and Prelim. Cost Est.'!G64<>\"\",'Scope and Prelim. Cost Est.'!G64,\"\")","v":""},{"$f":"IF('Scope and Prelim. Cost Est.'!H64<>\"\",'Scope and Prelim. Cost Est.'!H64,\"\")","v":""},{"$f":"IF('Scope and Prelim. Cost Est.'!I64<>\"\",'Scope and Prelim. Cost Est.'!I64,\"\")","v":""},{"$f":"IF('Scope and Prelim. Cost Est.'!J64<>\"\",'Scope and Prelim. Cost Est.'!J64,\"\")","v":""},{"$f":"IF('Scope and Prelim. Cost Est.'!K64<>\"\",'Scope and Prelim. Cost Est.'!K64,\"\")","v":""},{"$f":"IF('Scope and Prelim. Cost Est.'!L64<>\"\",'Scope and Prelim. Cost Est.'!L64,\"\")","v":""},"",{"$f":"IF('Scope and Prelim. Cost Est.'!M64<>\"\",'Scope and Prelim. Cost Est.'!M64,\"\")","v":""},{"$f":"IF('Scope and Prelim. Cost Est.'!N64<>\"\",'Scope and Prelim. Cost Est.'!N64,\"\")","v":""},{"$f":"IF('Scope and Prelim. Cost Est.'!O64<>\"\",'Scope and Prelim. Cost Est.'!O64,\"\")","v":""},{"$f":"IF('Scope and Prelim. Cost Est.'!P64<>\"\",'Scope and Prelim. Cost Est.'!P64,\"\")","v":0},null,null,{"$f":"IF('Scope and Prelim. Cost Est.'!B64<>\"\",'Scope and Prelim. Cost Est.'!B64,\"\")","v":""},{"$f":"IF('Scope and Prelim. Cost Est.'!C64<>\"\",'Scope and Prelim. Cost Est.'!C64,\"\")","v":""},{"$f":"IF('Scope and Prelim. Cost Est.'!Q64<>\"\",'Scope and Prelim. Cost Est.'!Q64,\"\")","v":""},{"$f":"IF('Scope and Prelim. Cost Est.'!R64<>\"\",'Scope and Prelim. Cost Est.'!R64,\"\")","v":""},{"$f":"IF('Scope and Prelim. Cost Est.'!S64<>\"\",'Scope and Prelim. Cost Est.'!S64,\"\")","v":""},{"$f":"IF('Scope and Prelim. Cost Est.'!T64<>\"\",'Scope and Prelim. Cost Est.'!T64,\"\")","v":""},{"$f":"IF('Scope and Prelim. Cost Est.'!U64<>\"\",'Scope and Prelim. Cost Est.'!U64,\"\")","v":""},{"$f":"IF('Scope and Prelim. Cost Est.'!V64<>\"\",'Scope and Prelim. Cost Est.'!V64,\"\")","v":""},{"$f":"IF('Scope and Prelim. Cost Est.'!W64<>\"\",'Scope and Prelim. Cost Est.'!W64,\"\")","v":""},{"$f":"IF('Scope and Prelim. Cost Est.'!X64<>\"\",'Scope and Prelim. Cost Est.'!X64,\"\")","v":""},{"$f":"IF('Scope and Prelim. Cost Est.'!Y64<>\"\",'Scope and Prelim. Cost Est.'!Y64,\"\")","v":""},{"$f":"IF('Scope and Prelim. Cost Est.'!Z64<>\"\",'Scope and Prelim. Cost Est.'!Z64,\"\")","v":""},{"$f":"IF('Scope and Prelim. Cost Est.'!AA64<>\"\",'Scope and Prelim. Cost Est.'!AA64,\"\")","v":""},"",{"$f":"IF('Scope and Prelim. Cost Est.'!AB64<>\"\",'Scope and Prelim. Cost Est.'!AB64,\"\")","v":""},{"$f":"IF('Scope and Prelim. Cost Est.'!AC64<>\"\",'Scope and Prelim. Cost Est.'!AC64,\"\")","v":""},{"$f":"IF('Scope and Prelim. Cost Est.'!AD64<>\"\",'Scope and Prelim. Cost Est.'!AD64,\"\")","v":""},{"$f":"IF('Scope and Prelim. Cost Est.'!AE64<>\"\",'Scope and Prelim. Cost Est.'!AE64,\"\")","v":""},{"$f":"IF('Scope and Prelim. Cost Est.'!AF64<>\"\",'Scope and Prelim. Cost Est.'!AF64,\"\")","v":""},{"$f":"IF('Scope and Prelim. Cost Est.'!AG64<>\"\",'Scope and Prelim. Cost Est.'!AG64,\"\")","v":""},{"$f":"IF('Scope and Prelim. Cost Est.'!AH64<>\"\",'Scope and Prelim. Cost Est.'!AH64,\"\")","v":""}]
[null,{"$f":"IF('Scope and Prelim. Cost Est.'!B65<>\"\",'Scope and Prelim. Cost Est.'!B65,\"\")","v":""},{"$f":"IF('Scope and Prelim. Cost Est.'!C65<>\"\",'Scope and Prelim. Cost Est.'!C65,\"\")","v":""},{"$f":"IF('Scope and Prelim. Cost Est.'!D65<>\"\",'Scope and Prelim. Cost Est.'!D65,\"\")","v":""},{"$f":"IF('Scope and Prelim. Cost Est.'!E65<>\"\",'Scope and Prelim. Cost Est.'!E65,\"\")","v":""},{"$f":"IF('Scope and Prelim. Cost Est.'!F65<>\"\",'Scope and Prelim. Cost Est.'!F65,\"\")","v":""},{"$f":"IF('Scope and Prelim. Cost Est.'!G65<>\"\",'Scope and Prelim. Cost Est.'!G65,\"\")","v":""},{"$f":"IF('Scope and Prelim. Cost Est.'!H65<>\"\",'Scope and Prelim. Cost Est.'!H65,\"\")","v":""},{"$f":"IF('Scope and Prelim. Cost Est.'!I65<>\"\",'Scope and Prelim. Cost Est.'!I65,\"\")","v":""},{"$f":"IF('Scope and Prelim. Cost Est.'!J65<>\"\",'Scope and Prelim. Cost Est.'!J65,\"\")","v":""},{"$f":"IF('Scope and Prelim. Cost Est.'!K65<>\"\",'Scope and Prelim. Cost Est.'!K65,\"\")","v":""},{"$f":"IF('Scope and Prelim. Cost Est.'!L65<>\"\",'Scope and Prelim. Cost Est.'!L65,\"\")","v":""},"",{"$f":"IF('Scope and Prelim. Cost Est.'!M65<>\"\",'Scope and Prelim. Cost Est.'!M65,\"\")","v":""},{"$f":"IF('Scope and Prelim. Cost Est.'!N65<>\"\",'Scope and Prelim. Cost Est.'!N65,\"\")","v":""},{"$f":"IF('Scope and Prelim. Cost Est.'!O65<>\"\",'Scope and Prelim. Cost Est.'!O65,\"\")","v":""},{"$f":"IF('Scope and Prelim. Cost Est.'!P65<>\"\",'Scope and Prelim. Cost Est.'!P65,\"\")","v":0},null,null,{"$f":"IF('Scope and Prelim. Cost Est.'!B65<>\"\",'Scope and Prelim. Cost Est.'!B65,\"\")","v":""},{"$f":"IF('Scope and Prelim. Cost Est.'!C65<>\"\",'Scope and Prelim. Cost Est.'!C65,\"\")","v":""},{"$f":"IF('Scope and Prelim. Cost Est.'!Q65<>\"\",'Scope and Prelim. Cost Est.'!Q65,\"\")","v":""},{"$f":"IF('Scope and Prelim. Cost Est.'!R65<>\"\",'Scope and Prelim. Cost Est.'!R65,\"\")","v":""},{"$f":"IF('Scope and Prelim. Cost Est.'!S65<>\"\",'Scope and Prelim. Cost Est.'!S65,\"\")","v":""},{"$f":"IF('Scope and Prelim. Cost Est.'!T65<>\"\",'Scope and Prelim. Cost Est.'!T65,\"\")","v":""},{"$f":"IF('Scope and Prelim. Cost Est.'!U65<>\"\",'Scope and Prelim. Cost Est.'!U65,\"\")","v":""},{"$f":"IF('Scope and Prelim. Cost Est.'!V65<>\"\",'Scope and Prelim. Cost Est.'!V65,\"\")","v":""},{"$f":"IF('Scope and Prelim. Cost Est.'!W65<>\"\",'Scope and Prelim. Cost Est.'!W65,\"\")","v":""},{"$f":"IF('Scope and Prelim. Cost Est.'!X65<>\"\",'Scope and Prelim. Cost Est.'!X65,\"\")","v":""},{"$f":"IF('Scope and Prelim. Cost Est.'!Y65<>\"\",'Scope and Prelim. Cost Est.'!Y65,\"\")","v":""},{"$f":"IF('Scope and Prelim. Cost Est.'!Z65<>\"\",'Scope and Prelim. Cost Est.'!Z65,\"\")","v":""},{"$f":"IF('Scope and Prelim. Cost Est.'!AA65<>\"\",'Scope and Prelim. Cost Est.'!AA65,\"\")","v":""},"",{"$f":"IF('Scope and Prelim. Cost Est.'!AB65<>\"\",'Scope and Prelim. Cost Est.'!AB65,\"\")","v":""},{"$f":"IF('Scope and Prelim. Cost Est.'!AC65<>\"\",'Scope and Prelim. Cost Est.'!AC65,\"\")","v":""},{"$f":"IF('Scope and Prelim. Cost Est.'!AD65<>\"\",'Scope and Prelim. Cost Est.'!AD65,\"\")","v":""},{"$f":"IF('Scope and Prelim. Cost Est.'!AE65<>\"\",'Scope and Prelim. Cost Est.'!AE65,\"\")","v":""},{"$f":"IF('Scope and Prelim. Cost Est.'!AF65<>\"\",'Scope and Prelim. Cost Est.'!AF65,\"\")","v":""},{"$f":"IF('Scope and Prelim. Cost Est.'!AG65<>\"\",'Scope and Prelim. Cost Est.'!AG65,\"\")","v":""},{"$f":"IF('Scope and Prelim. Cost Est.'!AH65<>\"\",'Scope and Prelim. Cost Est.'!AH65,\"\")","v":""}]
[]
[null,"Measure Name","Measure Description","Important Assumptions (cont.)","Scope Area\n(cont.)","Energy Efficiency Measure?\n(cont.)","Measure Category\n(cont.)","Measure Classification\n(cont.)","Urgency\n(cont.)","Measure Type\n(cont.)","Unit Type\n{Default}","Unit Type {user entry}","Unit Type\n(cont.)","Qty\n(cont.)","Cost Per Unit\n(cont.)","Cost Source (e.g. 2017 R.S. Means, contractor quote, etc.)\n(cont.)","Total Cost \n(cont.)",null,null,"Measure Name\n(cont.)","Measure Description\n(cont.)","Projected Annual Electricity Savings\n (kWh/yr)\nCooling","Projected Annual Electricity Savings\n (kWh/yr)\nNon-Cooling","Project Annual Fuel Savings (MMBtu/yr)\n Heating","Project Annual Fuel Savings (MMBtu/yr)\nNon-Heating","Affected Fuel (for MMBtu Savings)","Projected Annual Cost Savings \n($/yr)","SIR","Simple Payback","Savings Accrue to Tenants?","Measure Life (years)\n{Default}","Measure Life \n(years) \n{user entry}","Measure Life","Full or Incremental Savings","Existing Equipment Year of Manufacture","Projected Annual Water Savings (gal/yr)","Potential Health Benefit Impact ","Incentive #1","Incentive #2","Incentive # 3"]
[null,{"$f":"IF('Scope and Prelim. Cost Est.'!B66<>\"\",'Scope and Prelim. Cost Est.'!B66,\"\")","v":""},{"$f":"IF('Scope and Prelim. Cost Est.'!C66<>\"\",'Scope and Prelim. Cost Est.'!C66,\"\")","v":""},{"$f":"IF('Scope and Prelim. Cost Est.'!D66<>\"\",'Scope and Prelim. Cost Est.'!D66,\"\")","v":""},{"$f":"IF('Scope and Prelim. Cost Est.'!E66<>\"\",'Scope and Prelim. Cost Est.'!E66,\"\")","v":""},{"$f":"IF('Scope and Prelim. Cost Est.'!F66<>\"\",'Scope and Prelim. Cost Est.'!F66,\"\")","v":""},{"$f":"IF('Scope and Prelim. Cost Est.'!G66<>\"\",'Scope and Prelim. Cost Est.'!G66,\"\")","v":""},{"$f":"IF('Scope and Prelim. Cost Est.'!H66<>\"\",'Scope and Prelim. Cost Est.'!H66,\"\")","v":""},{"$f":"IF('Scope and Prelim. Cost Est.'!I66<>\"\",'Scope and Prelim. Cost Est.'!I66,\"\")","v":""},{"$f":"IF('Scope and Prelim. Cost Est.'!J66<>\"\",'Scope and Prelim. Cost Est.'!J66,\"\")","v":""},{"$f":"IF('Scope and Prelim. Cost Est.'!K66<>\"\",'Scope and Prelim. Cost Est.'!K66,\"\")","v":""},{"$f":"IF('Scope and Prelim. Cost Est.'!L66<>\"\",'Scope and Prelim. Cost Est.'!L66,\"\")","v":""},"",{"$f":"IF('Scope and Prelim. Cost Est.'!M66<>\"\",'Scope and Prelim. Cost Est.'!M66,\"\")","v":""},{"$f":"IF('Scope and Prelim. Cost Est.'!N66<>\"\",'Scope and Prelim. Cost Est.'!N66,\"\")","v":""},{"$f":"IF('Scope and Prelim. Cost Est.'!O66<>\"\",'Scope and Prelim. Cost Est.'!O66,\"\")","v":""},{"$f":"IF('Scope and Prelim. Cost Est.'!P66<>\"\",'Scope and Prelim. Cost Est.'!P66,\"\")","v":0},null,null,{"$f":"IF('Scope and Prelim. Cost Est.'!B66<>\"\",'Scope and Prelim. Cost Est.'!B66,\"\")","v":""},{"$f":"IF('Scope and Prelim. Cost Est.'!C66<>\"\",'Scope and Prelim. Cost Est.'!C66,\"\")","v":""},{"$f":"IF('Scope and Prelim. Cost Est.'!Q66<>\"\",'Scope and Prelim. Cost Est.'!Q66,\"\")","v":""},{"$f":"IF('Scope and Prelim. Cost Est.'!R66<>\"\",'Scope and Prelim. Cost Est.'!R66,\"\")","v":""},{"$f":"IF('Scope and Prelim. Cost Est.'!S66<>\"\",'Scope and Prelim. Cost Est.'!S66,\"\")","v":""},{"$f":"IF('Scope and Prelim. Cost Est.'!T66<>\"\",'Scope and Prelim. Cost Est.'!T66,\"\")","v":""},{"$f":"IF('Scope and Prelim. Cost Est.'!U66<>\"\",'Scope and Prelim. Cost Est.'!U66,\"\")","v":""},{"$f":"IF('Scope and Prelim. Cost Est.'!V66<>\"\",'Scope and Prelim. Cost Est.'!V66,\"\")","v":""},{"$f":"IF('Scope and Prelim. Cost Est.'!W66<>\"\",'Scope and Prelim. Cost Est.'!W66,\"\")","v":""},{"$f":"IF('Scope and Prelim. Cost Est.'!X66<>\"\",'Scope and Prelim. Cost Est.'!X66,\"\")","v":""},{"$f":"IF('Scope and Prelim. Cost Est.'!Y66<>\"\",'Scope and Prelim. Cost Est.'!Y66,\"\")","v":""},{"$f":"IF('Scope and Prelim. Cost Est.'!Z66<>\"\",'Scope and Prelim. Cost Est.'!Z66,\"\")","v":""},{"$f":"IF('Scope and Prelim. Cost Est.'!AA66<>\"\",'Scope and Prelim. Cost Est.'!AA66,\"\")","v":""},"",{"$f":"IF('Scope and Prelim. Cost Est.'!AB66<>\"\",'Scope and Prelim. Cost Est.'!AB66,\"\")","v":""},{"$f":"IF('Scope and Prelim. Cost Est.'!AC66<>\"\",'Scope and Prelim. Cost Est.'!AC66,\"\")","v":""},{"$f":"IF('Scope and Prelim. Cost Est.'!AD66<>\"\",'Scope and Prelim. Cost Est.'!AD66,\"\")","v":""},{"$f":"IF('Scope and Prelim. Cost Est.'!AE66<>\"\",'Scope and Prelim. Cost Est.'!AE66,\"\")","v":""},{"$f":"IF('Scope and Prelim. Cost Est.'!AF66<>\"\",'Scope and Prelim. Cost Est.'!AF66,\"\")","v":""},{"$f":"IF('Scope and Prelim. Cost Est.'!AG66<>\"\",'Scope and Prelim. Cost Est.'!AG66,\"\")","v":""},{"$f":"IF('Scope and Prelim. Cost Est.'!AH66<>\"\",'Scope and Prelim. Cost Est.'!AH66,\"\")","v":""}]
[null,{"$f":"IF('Scope and Prelim. Cost Est.'!B67<>\"\",'Scope and Prelim. Cost Est.'!B67,\"\")","v":""},{"$f":"IF('Scope and Prelim. Cost Est.'!C67<>\"\",'Scope and Prelim. Cost Est.'!C67,\"\")","v":""},{"$f":"IF('Scope and Prelim. Cost Est.'!D67<>\"\",'Scope and Prelim. Cost Est.'!D67,\"\")","v":""},{"$f":"IF('Scope and Prelim. Cost Est.'!E67<>\"\",'Scope and Prelim. Cost Est.'!E67,\"\")","v":""},{"$f":"IF('Scope and Prelim. Cost Est.'!F67<>\"\",'Scope and Prelim. Cost Est.'!F67,\"\")","v":""},{"$f":"IF('Scope and Prelim. Cost Est.'!G67<>\"\",'Scope and Prelim. Cost Est.'!G67,\"\")","v":""},{"$f":"IF('Scope and Prelim. Cost Est.'!H67<>\"\",'Scope and Prelim. Cost Est.'!H67,\"\")","v":""},{"$f":"IF('Scope and Prelim. Cost Est.'!I67<>\"\",'Scope and Prelim. Cost Est.'!I67,\"\")","v":""},{"$f":"IF('Scope and Prelim. Cost Est.'!J67<>\"\",'Scope and Prelim. Cost Est.'!J67,\"\")","v":""},{"$f":"IF('Scope and Prelim. Cost Est.'!K67<>\"\",'Scope and Prelim. Cost Est.'!K67,\"\")","v":""},{"$f":"IF('Scope and Prelim. Cost Est.'!L67<>\"\",'Scope and Prelim. Cost Est.'!L67,\"\")","v":""},"",{"$f":"IF('Scope and Prelim. Cost Est.'!M67<>\"\",'Scope and Prelim. Cost Est.'!M67,\"\")","v":""},{"$f":"IF('Scope and Prelim. Cost Est.'!N67<>\"\",'Scope and Prelim. Cost Est.'!N67,\"\")","v":""},{"$f":"IF('Scope and Prelim. Cost Est.'!O67<>\"\",'Scope and Prelim. Cost Est.'!O67,\"\")","v":""},{"$f":"IF('Scope and Prelim. Cost Est.'!P67<>\"\",'Scope and Prelim. Cost Est.'!P67,\"\")","v":0},null,null,{"$f":"IF('Scope and Prelim. Cost Est.'!B67<>\"\",'Scope and Prelim. Cost Est.'!B67,\"\")","v":""},{"$f":"IF('Scope and Prelim. Cost Est.'!C67<>\"\",'Scope and Prelim. Cost Est.'!C67,\"\")","v":""},{"$f":"IF('Scope and Prelim. Cost Est.'!Q67<>\"\",'Scope and Prelim. Cost Est.'!Q67,\"\")","v":""},{"$f":"IF('Scope and Prelim. Cost Est.'!R67<>\"\",'Scope and Prelim. Cost Est.'!R67,\"\")","v":""},{"$f":"IF('Scope and Prelim. Cost Est.'!S67<>\"\",'Scope and Prelim. Cost Est.'!S67,\"\")","v":""},{"$f":"IF('Scope and Prelim. Cost Est.'!T67<>\"\",'Scope and Prelim. Cost Est.'!T67,\"\")","v":""},{"$f":"IF('Scope and Prelim. Cost Est.'!U67<>\"\",'Scope and Prelim. Cost Est.'!U67,\"\")","v":""},{"$f":"IF('Scope and Prelim. Cost Est.'!V67<>\"\",'Scope and Prelim. Cost Est.'!V67,\"\")","v":""},{"$f":"IF('Scope and Prelim. Cost Est.'!W67<>\"\",'Scope and Prelim. Cost Est.'!W67,\"\")","v":""},{"$f":"IF('Scope and Prelim. Cost Est.'!X67<>\"\",'Scope and Prelim. Cost Est.'!X67,\"\")","v":""},{"$f":"IF('Scope and Prelim. Cost Est.'!Y67<>\"\",'Scope and Prelim. Cost Est.'!Y67,\"\")","v":""},{"$f":"IF('Scope and Prelim. Cost Est.'!Z67<>\"\",'Scope and Prelim. Cost Est.'!Z67,\"\")","v":""},{"$f":"IF('Scope and Prelim. Cost Est.'!AA67<>\"\",'Scope and Prelim. Cost Est.'!AA67,\"\")","v":""},"",{"$f":"IF('Scope and Prelim. Cost Est.'!AB67<>\"\",'Scope and Prelim. Cost Est.'!AB67,\"\")","v":""},{"$f":"IF('Scope and Prelim. Cost Est.'!AC67<>\"\",'Scope and Prelim. Cost Est.'!AC67,\"\")","v":""},{"$f":"IF('Scope and Prelim. Cost Est.'!AD67<>\"\",'Scope and Prelim. Cost Est.'!AD67,\"\")","v":""},{"$f":"IF('Scope and Prelim. Cost Est.'!AE67<>\"\",'Scope and Prelim. Cost Est.'!AE67,\"\")","v":""},{"$f":"IF('Scope and Prelim. Cost Est.'!AF67<>\"\",'Scope and Prelim. Cost Est.'!AF67,\"\")","v":""},{"$f":"IF('Scope and Prelim. Cost Est.'!AG67<>\"\",'Scope and Prelim. Cost Est.'!AG67,\"\")","v":""},{"$f":"IF('Scope and Prelim. Cost Est.'!AH67<>\"\",'Scope and Prelim. Cost Est.'!AH67,\"\")","v":""}]
[null,{"$f":"IF('Scope and Prelim. Cost Est.'!B68<>\"\",'Scope and Prelim. Cost Est.'!B68,\"\")","v":""},{"$f":"IF('Scope and Prelim. Cost Est.'!C68<>\"\",'Scope and Prelim. Cost Est.'!C68,\"\")","v":""},{"$f":"IF('Scope and Prelim. Cost Est.'!D68<>\"\",'Scope and Prelim. Cost Est.'!D68,\"\")","v":""},{"$f":"IF('Scope and Prelim. Cost Est.'!E68<>\"\",'Scope and Prelim. Cost Est.'!E68,\"\")","v":""},{"$f":"IF('Scope and Prelim. Cost Est.'!F68<>\"\",'Scope and Prelim. Cost Est.'!F68,\"\")","v":""},{"$f":"IF('Scope and Prelim. Cost Est.'!G68<>\"\",'Scope and Prelim. Cost Est.'!G68,\"\")","v":""},{"$f":"IF('Scope and Prelim. Cost Est.'!H68<>\"\",'Scope and Prelim. Cost Est.'!H68,\"\")","v":""},{"$f":"IF('Scope and Prelim. Cost Est.'!I68<>\"\",'Scope and Prelim. Cost Est.'!I68,\"\")","v":""},{"$f":"IF('Scope and Prelim. Cost Est.'!J68<>\"\",'Scope and Prelim. Cost Est.'!J68,\"\")","v":""},{"$f":"IF('Scope and Prelim. Cost Est.'!K68<>\"\",'Scope and Prelim. Cost Est.'!K68,\"\")","v":""},{"$f":"IF('Scope and Prelim. Cost Est.'!L68<>\"\",'Scope and Prelim. Cost Est.'!L68,\"\")","v":""},"",{"$f":"IF('Scope and Prelim. Cost Est.'!M68<>\"\",'Scope and Prelim. Cost Est.'!M68,\"\")","v":""},{"$f":"IF('Scope and Prelim. Cost Est.'!N68<>\"\",'Scope and Prelim. Cost Est.'!N68,\"\")","v":""},{"$f":"IF('Scope and Prelim. Cost Est.'!O68<>\"\",'Scope and Prelim. Cost Est.'!O68,\"\")","v":""},{"$f":"IF('Scope and Prelim. Cost Est.'!P68<>\"\",'Scope and Prelim. Cost Est.'!P68,\"\")","v":0},null,null,{"$f":"IF('Scope and Prelim. Cost Est.'!B68<>\"\",'Scope and Prelim. Cost Est.'!B68,\"\")","v":""},{"$f":"IF('Scope and Prelim. Cost Est.'!C68<>\"\",'Scope and Prelim. Cost Est.'!C68,\"\")","v":""},{"$f":"IF('Scope and Prelim. Cost Est.'!Q68<>\"\",'Scope and Prelim. Cost Est.'!Q68,\"\")","v":""},{"$f":"IF('Scope and Prelim. Cost Est.'!R68<>\"\",'Scope and Prelim. Cost Est.'!R68,\"\")","v":""},{"$f":"IF('Scope and Prelim. Cost Est.'!S68<>\"\",'Scope and Prelim. Cost Est.'!S68,\"\")","v":""},{"$f":"IF('Scope and Prelim. Cost Est.'!T68<>\"\",'Scope and Prelim. Cost Est.'!T68,\"\")","v":""},{"$f":"IF('Scope and Prelim. Cost Est.'!U68<>\"\",'Scope and Prelim. Cost Est.'!U68,\"\")","v":""},{"$f":"IF('Scope and Prelim. Cost Est.'!V68<>\"\",'Scope and Prelim. Cost Est.'!V68,\"\")","v":""},{"$f":"IF('Scope and Prelim. Cost Est.'!W68<>\"\",'Scope and Prelim. Cost Est.'!W68,\"\")","v":""},{"$f":"IF('Scope and Prelim. Cost Est.'!X68<>\"\",'Scope and Prelim. Cost Est.'!X68,\"\")","v":""},{"$f":"IF('Scope and Prelim. Cost Est.'!Y68<>\"\",'Scope and Prelim. Cost Est.'!Y68,\"\")","v":""},{"$f":"IF('Scope and Prelim. Cost Est.'!Z68<>\"\",'Scope and Prelim. Cost Est.'!Z68,\"\")","v":""},{"$f":"IF('Scope and Prelim. Cost Est.'!AA68<>\"\",'Scope and Prelim. Cost Est.'!AA68,\"\")","v":""},"",{"$f":"IF('Scope and Prelim. Cost Est.'!AB68<>\"\",'Scope and Prelim. Cost Est.'!AB68,\"\")","v":""},{"$f":"IF('Scope and Prelim. Cost Est.'!AC68<>\"\",'Scope and Prelim. Cost Est.'!AC68,\"\")","v":""},{"$f":"IF('Scope and Prelim. Cost Est.'!AD68<>\"\",'Scope and Prelim. Cost Est.'!AD68,\"\")","v":""},{"$f":"IF('Scope and Prelim. Cost Est.'!AE68<>\"\",'Scope and Prelim. Cost Est.'!AE68,\"\")","v":""},{"$f":"IF('Scope and Prelim. Cost Est.'!AF68<>\"\",'Scope and Prelim. Cost Est.'!AF68,\"\")","v":""},{"$f":"IF('Scope and Prelim. Cost Est.'!AG68<>\"\",'Scope and Prelim. Cost Est.'!AG68,\"\")","v":""},{"$f":"IF('Scope and Prelim. Cost Est.'!AH68<>\"\",'Scope and Prelim. Cost Est.'!AH68,\"\")","v":""}]
[null,{"$f":"IF('Scope and Prelim. Cost Est.'!B69<>\"\",'Scope and Prelim. Cost Est.'!B69,\"\")","v":""},{"$f":"IF('Scope and Prelim. Cost Est.'!C69<>\"\",'Scope and Prelim. Cost Est.'!C69,\"\")","v":""},{"$f":"IF('Scope and Prelim. Cost Est.'!D69<>\"\",'Scope and Prelim. Cost Est.'!D69,\"\")","v":""},{"$f":"IF('Scope and Prelim. Cost Est.'!E69<>\"\",'Scope and Prelim. Cost Est.'!E69,\"\")","v":""},{"$f":"IF('Scope and Prelim. Cost Est.'!F69<>\"\",'Scope and Prelim. Cost Est.'!F69,\"\")","v":""},{"$f":"IF('Scope and Prelim. Cost Est.'!G69<>\"\",'Scope and Prelim. Cost Est.'!G69,\"\")","v":""},{"$f":"IF('Scope and Prelim. Cost Est.'!H69<>\"\",'Scope and Prelim. Cost Est.'!H69,\"\")","v":""},{"$f":"IF('Scope and Prelim. Cost Est.'!I69<>\"\",'Scope and Prelim. Cost Est.'!I69,\"\")","v":""},{"$f":"IF('Scope and Prelim. Cost Est.'!J69<>\"\",'Scope and Prelim. Cost Est.'!J69,\"\")","v":""},{"$f":"IF('Scope and Prelim. Cost Est.'!K69<>\"\",'Scope and Prelim. Cost Est.'!K69,\"\")","v":""},{"$f":"IF('Scope and Prelim. Cost Est.'!L69<>\"\",'Scope and Prelim. Cost Est.'!L69,\"\")","v":""},"",{"$f":"IF('Scope and Prelim. Cost Est.'!M69<>\"\",'Scope and Prelim. Cost Est.'!M69,\"\")","v":""},{"$f":"IF('Scope and Prelim. Cost Est.'!N69<>\"\",'Scope and Prelim. Cost Est.'!N69,\"\")","v":""},{"$f":"IF('Scope and Prelim. Cost Est.'!O69<>\"\",'Scope and Prelim. Cost Est.'!O69,\"\")","v":""},{"$f":"IF('Scope and Prelim. Cost Est.'!P69<>\"\",'Scope and Prelim. Cost Est.'!P69,\"\")","v":0},null,null,{"$f":"IF('Scope and Prelim. Cost Est.'!B69<>\"\",'Scope and Prelim. Cost Est.'!B69,\"\")","v":""},{"$f":"IF('Scope and Prelim. Cost Est.'!C69<>\"\",'Scope and Prelim. Cost Est.'!C69,\"\")","v":""},{"$f":"IF('Scope and Prelim. Cost Est.'!Q69<>\"\",'Scope and Prelim. Cost Est.'!Q69,\"\")","v":""},{"$f":"IF('Scope and Prelim. Cost Est.'!R69<>\"\",'Scope and Prelim. Cost Est.'!R69,\"\")","v":""},{"$f":"IF('Scope and Prelim. Cost Est.'!S69<>\"\",'Scope and Prelim. Cost Est.'!S69,\"\")","v":""},{"$f":"IF('Scope and Prelim. Cost Est.'!T69<>\"\",'Scope and Prelim. Cost Est.'!T69,\"\")","v":""},{"$f":"IF('Scope and Prelim. Cost Est.'!U69<>\"\",'Scope and Prelim. Cost Est.'!U69,\"\")","v":""},{"$f":"IF('Scope and Prelim. Cost Est.'!V69<>\"\",'Scope and Prelim. Cost Est.'!V69,\"\")","v":""},{"$f":"IF('Scope and Prelim. Cost Est.'!W69<>\"\",'Scope and Prelim. Cost Est.'!W69,\"\")","v":""},{"$f":"IF('Scope and Prelim. Cost Est.'!X69<>\"\",'Scope and Prelim. Cost Est.'!X69,\"\")","v":""},{"$f":"IF('Scope and Prelim. Cost Est.'!Y69<>\"\",'Scope and Prelim. Cost Est.'!Y69,\"\")","v":""},{"$f":"IF('Scope and Prelim. Cost Est.'!Z69<>\"\",'Scope and Prelim. Cost Est.'!Z69,\"\")","v":""},{"$f":"IF('Scope and Prelim. Cost Est.'!AA69<>\"\",'Scope and Prelim. Cost Est.'!AA69,\"\")","v":""},"",{"$f":"IF('Scope and Prelim. Cost Est.'!AB69<>\"\",'Scope and Prelim. Cost Est.'!AB69,\"\")","v":""},{"$f":"IF('Scope and Prelim. Cost Est.'!AC69<>\"\",'Scope and Prelim. Cost Est.'!AC69,\"\")","v":""},{"$f":"IF('Scope and Prelim. Cost Est.'!AD69<>\"\",'Scope and Prelim. Cost Est.'!AD69,\"\")","v":""},{"$f":"IF('Scope and Prelim. Cost Est.'!AE69<>\"\",'Scope and Prelim. Cost Est.'!AE69,\"\")","v":""},{"$f":"IF('Scope and Prelim. Cost Est.'!AF69<>\"\",'Scope and Prelim. Cost Est.'!AF69,\"\")","v":""},{"$f":"IF('Scope and Prelim. Cost Est.'!AG69<>\"\",'Scope and Prelim. Cost Est.'!AG69,\"\")","v":""},{"$f":"IF('Scope and Prelim. Cost Est.'!AH69<>\"\",'Scope and Prelim. Cost Est.'!AH69,\"\")","v":""}]
[null,{"$f":"IF('Scope and Prelim. Cost Est.'!B70<>\"\",'Scope and Prelim. Cost Est.'!B70,\"\")","v":""},{"$f":"IF('Scope and Prelim. Cost Est.'!C70<>\"\",'Scope and Prelim. Cost Est.'!C70,\"\")","v":""},{"$f":"IF('Scope and Prelim. Cost Est.'!D70<>\"\",'Scope and Prelim. Cost Est.'!D70,\"\")","v":""},{"$f":"IF('Scope and Prelim. Cost Est.'!E70<>\"\",'Scope and Prelim. Cost Est.'!E70,\"\")","v":""},{"$f":"IF('Scope and Prelim. Cost Est.'!F70<>\"\",'Scope and Prelim. Cost Est.'!F70,\"\")","v":""},{"$f":"IF('Scope and Prelim. Cost Est.'!G70<>\"\",'Scope and Prelim. Cost Est.'!G70,\"\")","v":""},{"$f":"IF('Scope and Prelim. Cost Est.'!H70<>\"\",'Scope and Prelim. Cost Est.'!H70,\"\")","v":""},{"$f":"IF('Scope and Prelim. Cost Est.'!I70<>\"\",'Scope and Prelim. Cost Est.'!I70,\"\")","v":""},{"$f":"IF('Scope and Prelim. Cost Est.'!J70<>\"\",'Scope and Prelim. Cost Est.'!J70,\"\")","v":""},{"$f":"IF('Scope and Prelim. Cost Est.'!K70<>\"\",'Scope and Prelim. Cost Est.'!K70,\"\")","v":""},{"$f":"IF('Scope and Prelim. Cost Est.'!L70<>\"\",'Scope and Prelim. Cost Est.'!L70,\"\")","v":""},"",{"$f":"IF('Scope and Prelim. Cost Est.'!M70<>\"\",'Scope and Prelim. Cost Est.'!M70,\"\")","v":""},{"$f":"IF('Scope and Prelim. Cost Est.'!N70<>\"\",'Scope and Prelim. Cost Est.'!N70,\"\")","v":""},{"$f":"IF('Scope and Prelim. Cost Est.'!O70<>\"\",'Scope and Prelim. Cost Est.'!O70,\"\")","v":""},{"$f":"IF('Scope and Prelim. Cost Est.'!P70<>\"\",'Scope and Prelim. Cost Est.'!P70,\"\")","v":0},null,null,{"$f":"IF('Scope and Prelim. Cost Est.'!B70<>\"\",'Scope and Prelim. Cost Est.'!B70,\"\")","v":""},{"$f":"IF('Scope and Prelim. Cost Est.'!C70<>\"\",'Scope and Prelim. Cost Est.'!C70,\"\")","v":""},{"$f":"IF('Scope and Prelim. Cost Est.'!Q70<>\"\",'Scope and Prelim. Cost Est.'!Q70,\"\")","v":""},{"$f":"IF('Scope and Prelim. Cost Est.'!R70<>\"\",'Scope and Prelim. Cost Est.'!R70,\"\")","v":""},{"$f":"IF('Scope and Prelim. Cost Est.'!S70<>\"\",'Scope and Prelim. Cost Est.'!S70,\"\")","v":""},{"$f":"IF('Scope and Prelim. Cost Est.'!T70<>\"\",'Scope and Prelim. Cost Est.'!T70,\"\")","v":""},{"$f":"IF('Scope and Prelim. Cost Est.'!U70<>\"\",'Scope and Prelim. Cost Est.'!U70,\"\")","v":""},{"$f":"IF('Scope and Prelim. Cost Est.'!V70<>\"\",'Scope and Prelim. Cost Est.'!V70,\"\")","v":""},{"$f":"IF('Scope and Prelim. Cost Est.'!W70<>\"\",'Scope and Prelim. Cost Est.'!W70,\"\")","v":""},{"$f":"IF('Scope and Prelim. Cost Est.'!X70<>\"\",'Scope and Prelim. Cost Est.'!X70,\"\")","v":""},{"$f":"IF('Scope and Prelim. Cost Est.'!Y70<>\"\",'Scope and Prelim. Cost Est.'!Y70,\"\")","v":""},{"$f":"IF('Scope and Prelim. Cost Est.'!Z70<>\"\",'Scope and Prelim. Cost Est.'!Z70,\"\")","v":""},{"$f":"IF('Scope and Prelim. Cost Est.'!AA70<>\"\",'Scope and Prelim. Cost Est.'!AA70,\"\")","v":""},"",{"$f":"IF('Scope and Prelim. Cost Est.'!AB70<>\"\",'Scope and Prelim. Cost Est.'!AB70,\"\")","v":""},{"$f":"IF('Scope and Prelim. Cost Est.'!AC70<>\"\",'Scope and Prelim. Cost Est.'!AC70,\"\")","v":""},{"$f":"IF('Scope and Prelim. Cost Est.'!AD70<>\"\",'Scope and Prelim. Cost Est.'!AD70,\"\")","v":""},{"$f":"IF('Scope and Prelim. Cost Est.'!AE70<>\"\",'Scope and Prelim. Cost Est.'!AE70,\"\")","v":""},{"$f":"IF('Scope and Prelim. Cost Est.'!AF70<>\"\",'Scope and Prelim. Cost Est.'!AF70,\"\")","v":""},{"$f":"IF('Scope and Prelim. Cost Est.'!AG70<>\"\",'Scope and Prelim. Cost Est.'!AG70,\"\")","v":""},{"$f":"IF('Scope and Prelim. Cost Est.'!AH70<>\"\",'Scope and Prelim. Cost Est.'!AH70,\"\")","v":""}]
[null,{"$f":"IF('Scope and Prelim. Cost Est.'!B71<>\"\",'Scope and Prelim. Cost Est.'!B71,\"\")","v":""},{"$f":"IF('Scope and Prelim. Cost Est.'!C71<>\"\",'Scope and Prelim. Cost Est.'!C71,\"\")","v":""},{"$f":"IF('Scope and Prelim. Cost Est.'!D71<>\"\",'Scope and Prelim. Cost Est.'!D71,\"\")","v":""},{"$f":"IF('Scope and Prelim. Cost Est.'!E71<>\"\",'Scope and Prelim. Cost Est.'!E71,\"\")","v":""},{"$f":"IF('Scope and Prelim. Cost Est.'!F71<>\"\",'Scope and Prelim. Cost Est.'!F71,\"\")","v":""},{"$f":"IF('Scope and Prelim. Cost Est.'!G71<>\"\",'Scope and Prelim. Cost Est.'!G71,\"\")","v":""},{"$f":"IF('Scope and Prelim. Cost Est.'!H71<>\"\",'Scope and Prelim. Cost Est.'!H71,\"\")","v":""},{"$f":"IF('Scope and Prelim. Cost Est.'!I71<>\"\",'Scope and Prelim. Cost Est.'!I71,\"\")","v":""},{"$f":"IF('Scope and Prelim. Cost Est.'!J71<>\"\",'Scope and Prelim. Cost Est.'!J71,\"\")","v":""},{"$f":"IF('Scope and Prelim. Cost Est.'!K71<>\"\",'Scope and Prelim. Cost Est.'!K71,\"\")","v":""},{"$f":"IF('Scope and Prelim. Cost Est.'!L71<>\"\",'Scope and Prelim. Cost Est.'!L71,\"\")","v":""},"",{"$f":"IF('Scope and Prelim. Cost Est.'!M71<>\"\",'Scope and Prelim. Cost Est.'!M71,\"\")","v":""},{"$f":"IF('Scope and Prelim. Cost Est.'!N71<>\"\",'Scope and Prelim. Cost Est.'!N71,\"\")","v":""},{"$f":"IF('Scope and Prelim. Cost Est.'!O71<>\"\",'Scope and Prelim. Cost Est.'!O71,\"\")","v":""},{"$f":"IF('Scope and Prelim. Cost Est.'!P71<>\"\",'Scope and Prelim. Cost Est.'!P71,\"\")","v":0},null,null,{"$f":"IF('Scope and Prelim. Cost Est.'!B71<>\"\",'Scope and Prelim. Cost Est.'!B71,\"\")","v":""},{"$f":"IF('Scope and Prelim. Cost Est.'!C71<>\"\",'Scope and Prelim. Cost Est.'!C71,\"\")","v":""},{"$f":"IF('Scope and Prelim. Cost Est.'!Q71<>\"\",'Scope and Prelim. Cost Est.'!Q71,\"\")","v":""},{"$f":"IF('Scope and Prelim. Cost Est.'!R71<>\"\",'Scope and Prelim. Cost Est.'!R71,\"\")","v":""},{"$f":"IF('Scope and Prelim. Cost Est.'!S71<>\"\",'Scope and Prelim. Cost Est.'!S71,\"\")","v":""},{"$f":"IF('Scope and Prelim. Cost Est.'!T71<>\"\",'Scope and Prelim. Cost Est.'!T71,\"\")","v":""},{"$f":"IF('Scope and Prelim. Cost Est.'!U71<>\"\",'Scope and Prelim. Cost Est.'!U71,\"\")","v":""},{"$f":"IF('Scope and Prelim. Cost Est.'!V71<>\"\",'Scope and Prelim. Cost Est.'!V71,\"\")","v":""},{"$f":"IF('Scope and Prelim. Cost Est.'!W71<>\"\",'Scope and Prelim. Cost Est.'!W71,\"\")","v":""},{"$f":"IF('Scope and Prelim. Cost Est.'!X71<>\"\",'Scope and Prelim. Cost Est.'!X71,\"\")","v":""},{"$f":"IF('Scope and Prelim. Cost Est.'!Y71<>\"\",'Scope and Prelim. Cost Est.'!Y71,\"\")","v":""},{"$f":"IF('Scope and Prelim. Cost Est.'!Z71<>\"\",'Scope and Prelim. Cost Est.'!Z71,\"\")","v":""},{"$f":"IF('Scope and Prelim. Cost Est.'!AA71<>\"\",'Scope and Prelim. Cost Est.'!AA71,\"\")","v":""},"",{"$f":"IF('Scope and Prelim. Cost Est.'!AB71<>\"\",'Scope and Prelim. Cost Est.'!AB71,\"\")","v":""},{"$f":"IF('Scope and Prelim. Cost Est.'!AC71<>\"\",'Scope and Prelim. Cost Est.'!AC71,\"\")","v":""},{"$f":"IF('Scope and Prelim. Cost Est.'!AD71<>\"\",'Scope and Prelim. Cost Est.'!AD71,\"\")","v":""},{"$f":"IF('Scope and Prelim. Cost Est.'!AE71<>\"\",'Scope and Prelim. Cost Est.'!AE71,\"\")","v":""},{"$f":"IF('Scope and Prelim. Cost Est.'!AF71<>\"\",'Scope and Prelim. Cost Est.'!AF71,\"\")","v":""},{"$f":"IF('Scope and Prelim. Cost Est.'!AG71<>\"\",'Scope and Prelim. Cost Est.'!AG71,\"\")","v":""},{"$f":"IF('Scope and Prelim. Cost Est.'!AH71<>\"\",'Scope and Prelim. Cost Est.'!AH71,\"\")","v":""}]
[null,{"$f":"IF('Scope and Prelim. Cost Est.'!B72<>\"\",'Scope and Prelim. Cost Est.'!B72,\"\")","v":""},{"$f":"IF('Scope and Prelim. Cost Est.'!C72<>\"\",'Scope and Prelim. Cost Est.'!C72,\"\")","v":""},{"$f":"IF('Scope and Prelim. Cost Est.'!D72<>\"\",'Scope and Prelim. Cost Est.'!D72,\"\")","v":""},{"$f":"IF('Scope and Prelim. Cost Est.'!E72<>\"\",'Scope and Prelim. Cost Est.'!E72,\"\")","v":""},{"$f":"IF('Scope and Prelim. Cost Est.'!F72<>\"\",'Scope and Prelim. Cost Est.'!F72,\"\")","v":""},{"$f":"IF('Scope and Prelim. Cost Est.'!G72<>\"\",'Scope and Prelim. Cost Est.'!G72,\"\")","v":""},{"$f":"IF('Scope and Prelim. Cost Est.'!H72<>\"\",'Scope and Prelim. Cost Est.'!H72,\"\")","v":""},{"$f":"IF('Scope and Prelim. Cost Est.'!I72<>\"\",'Scope and Prelim. Cost Est.'!I72,\"\")","v":""},{"$f":"IF('Scope and Prelim. Cost Est.'!J72<>\"\",'Scope and Prelim. Cost Est.'!J72,\"\")","v":""},{"$f":"IF('Scope and Prelim. Cost Est.'!K72<>\"\",'Scope and Prelim. Cost Est.'!K72,\"\")","v":""},{"$f":"IF('Scope and Prelim. Cost Est.'!L72<>\"\",'Scope and Prelim. Cost Est.'!L72,\"\")","v":""},"",{"$f":"IF('Scope and Prelim. Cost Est.'!M72<>\"\",'Scope and Prelim. Cost Est.'!M72,\"\")","v":""},{"$f":"IF('Scope and Prelim. Cost Est.'!N72<>\"\",'Scope and Prelim. Cost Est.'!N72,\"\")","v":""},{"$f":"IF('Scope and Prelim. Cost Est.'!O72<>\"\",'Scope and Prelim. Cost Est.'!O72,\"\")","v":""},{"$f":"IF('Scope and Prelim. Cost Est.'!P72<>\"\",'Scope and Prelim. Cost Est.'!P72,\"\")","v":0},null,null,{"$f":"IF('Scope and Prelim. Cost Est.'!B72<>\"\",'Scope and Prelim. Cost Est.'!B72,\"\")","v":""},{"$f":"IF('Scope and Prelim. Cost Est.'!C72<>\"\",'Scope and Prelim. Cost Est.'!C72,\"\")","v":""},{"$f":"IF('Scope and Prelim. Cost Est.'!Q72<>\"\",'Scope and Prelim. Cost Est.'!Q72,\"\")","v":""},{"$f":"IF('Scope and Prelim. Cost Est.'!R72<>\"\",'Scope and Prelim. Cost Est.'!R72,\"\")","v":""},{"$f":"IF('Scope and Prelim. Cost Est.'!S72<>\"\",'Scope and Prelim. Cost Est.'!S72,\"\")","v":""},{"$f":"IF('Scope and Prelim. Cost Est.'!T72<>\"\",'Scope and Prelim. Cost Est.'!T72,\"\")","v":""},{"$f":"IF('Scope and Prelim. Cost Est.'!U72<>\"\",'Scope and Prelim. Cost Est.'!U72,\"\")","v":""},{"$f":"IF('Scope and Prelim. Cost Est.'!V72<>\"\",'Scope and Prelim. Cost Est.'!V72,\"\")","v":""},{"$f":"IF('Scope and Prelim. Cost Est.'!W72<>\"\",'Scope and Prelim. Cost Est.'!W72,\"\")","v":""},{"$f":"IF('Scope and Prelim. Cost Est.'!X72<>\"\",'Scope and Prelim. Cost Est.'!X72,\"\")","v":""},{"$f":"IF('Scope and Prelim. Cost Est.'!Y72<>\"\",'Scope and Prelim. Cost Est.'!Y72,\"\")","v":""},{"$f":"IF('Scope and Prelim. Cost Est.'!Z72<>\"\",'Scope and Prelim. Cost Est.'!Z72,\"\")","v":""},{"$f":"IF('Scope and Prelim. Cost Est.'!AA72<>\"\",'Scope and Prelim. Cost Est.'!AA72,\"\")","v":""},"",{"$f":"IF('Scope and Prelim. Cost Est.'!AB72<>\"\",'Scope and Prelim. Cost Est.'!AB72,\"\")","v":""},{"$f":"IF('Scope and Prelim. Cost Est.'!AC72<>\"\",'Scope and Prelim. Cost Est.'!AC72,\"\")","v":""},{"$f":"IF('Scope and Prelim. Cost Est.'!AD72<>\"\",'Scope and Prelim. Cost Est.'!AD72,\"\")","v":""},{"$f":"IF('Scope and Prelim. Cost Est.'!AE72<>\"\",'Scope and Prelim. Cost Est.'!AE72,\"\")","v":""},{"$f":"IF('Scope and Prelim. Cost Est.'!AF72<>\"\",'Scope and Prelim. Cost Est.'!AF72,\"\")","v":""},{"$f":"IF('Scope and Prelim. Cost Est.'!AG72<>\"\",'Scope and Prelim. Cost Est.'!AG72,\"\")","v":""},{"$f":"IF('Scope and Prelim. Cost Est.'!AH72<>\"\",'Scope and Prelim. Cost Est.'!AH72,\"\")","v":""}]
[null,{"$f":"IF('Scope and Prelim. Cost Est.'!B73<>\"\",'Scope and Prelim. Cost Est.'!B73,\"\")","v":""},{"$f":"IF('Scope and Prelim. Cost Est.'!C73<>\"\",'Scope and Prelim. Cost Est.'!C73,\"\")","v":""},{"$f":"IF('Scope and Prelim. Cost Est.'!D73<>\"\",'Scope and Prelim. Cost Est.'!D73,\"\")","v":""},{"$f":"IF('Scope and Prelim. Cost Est.'!E73<>\"\",'Scope and Prelim. Cost Est.'!E73,\"\")","v":""},{"$f":"IF('Scope and Prelim. Cost Est.'!F73<>\"\",'Scope and Prelim. Cost Est.'!F73,\"\")","v":""},{"$f":"IF('Scope and Prelim. Cost Est.'!G73<>\"\",'Scope and Prelim. Cost Est.'!G73,\"\")","v":""},{"$f":"IF('Scope and Prelim. Cost Est.'!H73<>\"\",'Scope and Prelim. Cost Est.'!H73,\"\")","v":""},{"$f":"IF('Scope and Prelim. Cost Est.'!I73<>\"\",'Scope and Prelim. Cost Est.'!I73,\"\")","v":""},{"$f":"IF('Scope and Prelim. Cost Est.'!J73<>\"\",'Scope and Prelim. Cost Est.'!J73,\"\")","v":""},{"$f":"IF('Scope and Prelim. Cost Est.'!K73<>\"\",'Scope and Prelim. Cost Est.'!K73,\"\")","v":""},{"$f":"IF('Scope and Prelim. Cost Est.'!L73<>\"\",'Scope and Prelim. Cost Est.'!L73,\"\")","v":""},"",{"$f":"IF('Scope and Prelim. Cost Est.'!M73<>\"\",'Scope and Prelim. Cost Est.'!M73,\"\")","v":""},{"$f":"IF('Scope and Prelim. Cost Est.'!N73<>\"\",'Scope and Prelim. Cost Est.'!N73,\"\")","v":""},{"$f":"IF('Scope and Prelim. Cost Est.'!O73<>\"\",'Scope and Prelim. Cost Est.'!O73,\"\")","v":""},{"$f":"IF('Scope and Prelim. Cost Est.'!P73<>\"\",'Scope and Prelim. Cost Est.'!P73,\"\")","v":0},null,null,{"$f":"IF('Scope and Prelim. Cost Est.'!B73<>\"\",'Scope and Prelim. Cost Est.'!B73,\"\")","v":""},{"$f":"IF('Scope and Prelim. Cost Est.'!C73<>\"\",'Scope and Prelim. Cost Est.'!C73,\"\")","v":""},{"$f":"IF('Scope and Prelim. Cost Est.'!Q73<>\"\",'Scope and Prelim. Cost Est.'!Q73,\"\")","v":""},{"$f":"IF('Scope and Prelim. Cost Est.'!R73<>\"\",'Scope and Prelim. Cost Est.'!R73,\"\")","v":""},{"$f":"IF('Scope and Prelim. Cost Est.'!S73<>\"\",'Scope and Prelim. Cost Est.'!S73,\"\")","v":""},{"$f":"IF('Scope and Prelim. Cost Est.'!T73<>\"\",'Scope and Prelim. Cost Est.'!T73,\"\")","v":""},{"$f":"IF('Scope and Prelim. Cost Est.'!U73<>\"\",'Scope and Prelim. Cost Est.'!U73,\"\")","v":""},{"$f":"IF('Scope and Prelim. Cost Est.'!V73<>\"\",'Scope and Prelim. Cost Est.'!V73,\"\")","v":""},{"$f":"IF('Scope and Prelim. Cost Est.'!W73<>\"\",'Scope and Prelim. Cost Est.'!W73,\"\")","v":""},{"$f":"IF('Scope and Prelim. Cost Est.'!X73<>\"\",'Scope and Prelim. Cost Est.'!X73,\"\")","v":""},{"$f":"IF('Scope and Prelim. Cost Est.'!Y73<>\"\",'Scope and Prelim. Cost Est.'!Y73,\"\")","v":""},{"$f":"IF('Scope and Prelim. Cost Est.'!Z73<>\"\",'Scope and Prelim. Cost Est.'!Z73,\"\")","v":""},{"$f":"IF('Scope and Prelim. Cost Est.'!AA73<>\"\",'Scope and Prelim. Cost Est.'!AA73,\"\")","v":""},"",{"$f":"IF('Scope and Prelim. Cost Est.'!AB73<>\"\",'Scope and Prelim. Cost Est.'!AB73,\"\")","v":""},{"$f":"IF('Scope and Prelim. Cost Est.'!AC73<>\"\",'Scope and Prelim. Cost Est.'!AC73,\"\")","v":""},{"$f":"IF('Scope and Prelim. Cost Est.'!AD73<>\"\",'Scope and Prelim. Cost Est.'!AD73,\"\")","v":""},{"$f":"IF('Scope and Prelim. Cost Est.'!AE73<>\"\",'Scope and Prelim. Cost Est.'!AE73,\"\")","v":""},{"$f":"IF('Scope and Prelim. Cost Est.'!AF73<>\"\",'Scope and Prelim. Cost Est.'!AF73,\"\")","v":""},{"$f":"IF('Scope and Prelim. Cost Est.'!AG73<>\"\",'Scope and Prelim. Cost Est.'!AG73,\"\")","v":""},{"$f":"IF('Scope and Prelim. Cost Est.'!AH73<>\"\",'Scope and Prelim. Cost Est.'!AH73,\"\")","v":""}]
[null,{"$f":"IF('Scope and Prelim. Cost Est.'!B74<>\"\",'Scope and Prelim. Cost Est.'!B74,\"\")","v":""},{"$f":"IF('Scope and Prelim. Cost Est.'!C74<>\"\",'Scope and Prelim. Cost Est.'!C74,\"\")","v":""},{"$f":"IF('Scope and Prelim. Cost Est.'!D74<>\"\",'Scope and Prelim. Cost Est.'!D74,\"\")","v":""},{"$f":"IF('Scope and Prelim. Cost Est.'!E74<>\"\",'Scope and Prelim. Cost Est.'!E74,\"\")","v":""},{"$f":"IF('Scope and Prelim. Cost Est.'!F74<>\"\",'Scope and Prelim. Cost Est.'!F74,\"\")","v":""},{"$f":"IF('Scope and Prelim. Cost Est.'!G74<>\"\",'Scope and Prelim. Cost Est.'!G74,\"\")","v":""},{"$f":"IF('Scope and Prelim. Cost Est.'!H74<>\"\",'Scope and Prelim. Cost Est.'!H74,\"\")","v":""},{"$f":"IF('Scope and Prelim. Cost Est.'!I74<>\"\",'Scope and Prelim. Cost Est.'!I74,\"\")","v":""},{"$f":"IF('Scope and Prelim. Cost Est.'!J74<>\"\",'Scope and Prelim. Cost Est.'!J74,\"\")","v":""},{"$f":"IF('Scope and Prelim. Cost Est.'!K74<>\"\",'Scope and Prelim. Cost Est.'!K74,\"\")","v":""},{"$f":"IF('Scope and Prelim. Cost Est.'!L74<>\"\",'Scope and Prelim. Cost Est.'!L74,\"\")","v":""},{"$f":"IF(K70<>\"\",K70,L70)","v":""},{"$f":"IF('Scope and Prelim. Cost Est.'!M74<>\"\",'Scope and Prelim. Cost Est.'!M74,\"\")","v":""},{"$f":"IF('Scope and Prelim. Cost Est.'!N74<>\"\",'Scope and Prelim. Cost Est.'!N74,\"\")","v":""},{"$f":"IF('Scope and Prelim. Cost Est.'!O74<>\"\",'Scope and Prelim. Cost Est.'!O74,\"\")","v":""},{"$f":"IF('Scope and Prelim. Cost Est.'!P74<>\"\",'Scope and Prelim. Cost Est.'!P74,\"\")","v":0},null,null,{"$f":"IF('Scope and Prelim. Cost Est.'!B74<>\"\",'Scope and Prelim. Cost Est.'!B74,\"\")","v":""},{"$f":"IF('Scope and Prelim. Cost Est.'!C74<>\"\",'Scope and Prelim. Cost Est.'!C74,\"\")","v":""},{"$f":"IF('Scope and Prelim. Cost Est.'!Q74<>\"\",'Scope and Prelim. Cost Est.'!Q74,\"\")","v":""},{"$f":"IF('Scope and Prelim. Cost Est.'!R74<>\"\",'Scope and Prelim. Cost Est.'!R74,\"\")","v":""},{"$f":"IF('Scope and Prelim. Cost Est.'!S74<>\"\",'Scope and Prelim. Cost Est.'!S74,\"\")","v":""},{"$f":"IF('Scope and Prelim. Cost Est.'!T74<>\"\",'Scope and Prelim. Cost Est.'!T74,\"\")","v":""},{"$f":"IF('Scope and Prelim. Cost Est.'!U74<>\"\",'Scope and Prelim. Cost Est.'!U74,\"\")","v":""},{"$f":"IF('Scope and Prelim. Cost Est.'!V74<>\"\",'Scope and Prelim. Cost Est.'!V74,\"\")","v":""},{"$f":"IF('Scope and Prelim. Cost Est.'!W74<>\"\",'Scope and Prelim. Cost Est.'!W74,\"\")","v":""},{"$f":"IF('Scope and Prelim. Cost Est.'!X74<>\"\",'Scope and Prelim. Cost Est.'!X74,\"\")","v":""},{"$f":"IF('Scope and Prelim. Cost Est.'!Y74<>\"\",'Scope and Prelim. Cost Est.'!Y74,\"\")","v":""},{"$f":"IF('Scope and Prelim. Cost Est.'!Z74<>\"\",'Scope and Prelim. Cost Est.'!Z74,\"\")","v":""},{"$f":"IF('Scope and Prelim. Cost Est.'!AA74<>\"\",'Scope and Prelim. Cost Est.'!AA74,\"\")","v":""},{"$f":"IF(AF70<>\"\",AF70,AE70)","v":""},{"$f":"IF('Scope and Prelim. Cost Est.'!AB74<>\"\",'Scope and Prelim. Cost Est.'!AB74,\"\")","v":""},{"$f":"IF('Scope and Prelim. Cost Est.'!AC74<>\"\",'Scope and Prelim. Cost Est.'!AC74,\"\")","v":""},{"$f":"IF('Scope and Prelim. Cost Est.'!AD74<>\"\",'Scope and Prelim. Cost Est.'!AD74,\"\")","v":""},{"$f":"IF('Scope and Prelim. Cost Est.'!AE74<>\"\",'Scope and Prelim. Cost Est.'!AE74,\"\")","v":""},{"$f":"IF('Scope and Prelim. Cost Est.'!AF74<>\"\",'Scope and Prelim. Cost Est.'!AF74,\"\")","v":""},{"$f":"IF('Scope and Prelim. Cost Est.'!AG74<>\"\",'Scope and Prelim. Cost Est.'!AG74,\"\")","v":""},{"$f":"IF('Scope and Prelim. Cost Est.'!AH74<>\"\",'Scope and Prelim. Cost Est.'!AH74,\"\")","v":""}]
[null,{"$f":"IF('Scope and Prelim. Cost Est.'!B75<>\"\",'Scope and Prelim. Cost Est.'!B75,\"\")","v":""},{"$f":"IF('Scope and Prelim. Cost Est.'!C75<>\"\",'Scope and Prelim. Cost Est.'!C75,\"\")","v":""},{"$f":"IF('Scope and Prelim. Cost Est.'!D75<>\"\",'Scope and Prelim. Cost Est.'!D75,\"\")","v":""},{"$f":"IF('Scope and Prelim. Cost Est.'!E75<>\"\",'Scope and Prelim. Cost Est.'!E75,\"\")","v":""},{"$f":"IF('Scope and Prelim. Cost Est.'!F75<>\"\",'Scope and Prelim. Cost Est.'!F75,\"\")","v":""},{"$f":"IF('Scope and Prelim. Cost Est.'!G75<>\"\",'Scope and Prelim. Cost Est.'!G75,\"\")","v":""},{"$f":"IF('Scope and Prelim. Cost Est.'!H75<>\"\",'Scope and Prelim. Cost Est.'!H75,\"\")","v":""},{"$f":"IF('Scope and Prelim. Cost Est.'!I75<>\"\",'Scope and Prelim. Cost Est.'!I75,\"\")","v":""},{"$f":"IF('Scope and Prelim. Cost Est.'!J75<>\"\",'Scope and Prelim. Cost Est.'!J75,\"\")","v":""},{"$f":"IF('Scope and Prelim. Cost Est.'!K75<>\"\",'Scope and Prelim. Cost Est.'!K75,\"\")","v":""},{"$f":"IF('Scope and Prelim. Cost Est.'!L75<>\"\",'Scope and Prelim. Cost Est.'!L75,\"\")","v":""},"",{"$f":"IF('Scope and Prelim. Cost Est.'!M75<>\"\",'Scope and Prelim. Cost Est.'!M75,\"\")","v":""},{"$f":"IF('Scope and Prelim. Cost Est.'!N75<>\"\",'Scope and Prelim. Cost Est.'!N75,\"\")","v":""},{"$f":"IF('Scope and Prelim. Cost Est.'!O75<>\"\",'Scope and Prelim. Cost Est.'!O75,\"\")","v":""},{"$f":"IF('Scope and Prelim. Cost Est.'!P75<>\"\",'Scope and Prelim. Cost Est.'!P75,\"\")","v":0},null,null,{"$f":"IF('Scope and Prelim. Cost Est.'!B75<>\"\",'Scope and Prelim. Cost Est.'!B75,\"\")","v":""},{"$f":"IF('Scope and Prelim. Cost Est.'!C75<>\"\",'Scope and Prelim. Cost Est.'!C75,\"\")","v":""},{"$f":"IF('Scope and Prelim. Cost Est.'!Q75<>\"\",'Scope and Prelim. Cost Est.'!Q75,\"\")","v":""},{"$f":"IF('Scope and Prelim. Cost Est.'!R75<>\"\",'Scope and Prelim. Cost Est.'!R75,\"\")","v":""},{"$f":"IF('Scope and Prelim. Cost Est.'!S75<>\"\",'Scope and Prelim. Cost Est.'!S75,\"\")","v":""},{"$f":"IF('Scope and Prelim. Cost Est.'!T75<>\"\",'Scope and Prelim. Cost Est.'!T75,\"\")","v":""},{"$f":"IF('Scope and Prelim. Cost Est.'!U75<>\"\",'Scope and Prelim. Cost Est.'!U75,\"\")","v":""},{"$f":"IF('Scope and Prelim. Cost Est.'!V75<>\"\",'Scope and Prelim. Cost Est.'!V75,\"\")","v":""},{"$f":"IF('Scope and Prelim. Cost Est.'!W75<>\"\",'Scope and Prelim. Cost Est.'!W75,\"\")","v":""},{"$f":"IF('Scope and Prelim. Cost Est.'!X75<>\"\",'Scope and Prelim. Cost Est.'!X75,\"\")","v":""},{"$f":"IF('Scope and Prelim. Cost Est.'!Y75<>\"\",'Scope and Prelim. Cost Est.'!Y75,\"\")","v":""},{"$f":"IF('Scope and Prelim. Cost Est.'!Z75<>\"\",'Scope and Prelim. Cost Est.'!Z75,\"\")","v":""},{"$f":"IF('Scope and Prelim. Cost Est.'!AA75<>\"\",'Scope and Prelim. Cost Est.'!AA75,\"\")","v":""},"",{"$f":"IF('Scope and Prelim. Cost Est.'!AB75<>\"\",'Scope and Prelim. Cost Est.'!AB75,\"\")","v":""},{"$f":"IF('Scope and Prelim. Cost Est.'!AC75<>\"\",'Scope and Prelim. Cost Est.'!AC75,\"\")","v":""},{"$f":"IF('Scope and Prelim. Cost Est.'!AD75<>\"\",'Scope and Prelim. Cost Est.'!AD75,\"\")","v":""},{"$f":"IF('Scope and Prelim. Cost Est.'!AE75<>\"\",'Scope and Prelim. Cost Est.'!AE75,\"\")","v":""},{"$f":"IF('Scope and Prelim. Cost Est.'!AF75<>\"\",'Scope and Prelim. Cost Est.'!AF75,\"\")","v":""},{"$f":"IF('Scope and Prelim. Cost Est.'!AG75<>\"\",'Scope and Prelim. Cost Est.'!AG75,\"\")","v":""},{"$f":"IF('Scope and Prelim. Cost Est.'!AH75<>\"\",'Scope and Prelim. Cost Est.'!AH75,\"\")","v":""}]
[null,{"$f":"IF('Scope and Prelim. Cost Est.'!B76<>\"\",'Scope and Prelim. Cost Est.'!B76,\"\")","v":""},{"$f":"IF('Scope and Prelim. Cost Est.'!C76<>\"\",'Scope and Prelim. Cost Est.'!C76,\"\")","v":""},{"$f":"IF('Scope and Prelim. Cost Est.'!D76<>\"\",'Scope and Prelim. Cost Est.'!D76,\"\")","v":""},{"$f":"IF('Scope and Prelim. Cost Est.'!E76<>\"\",'Scope and Prelim. Cost Est.'!E76,\"\")","v":""},{"$f":"IF('Scope and Prelim. Cost Est.'!F76<>\"\",'Scope and Prelim. Cost Est.'!F76,\"\")","v":""},{"$f":"IF('Scope and Prelim. Cost Est.'!G76<>\"\",'Scope and Prelim. Cost Est.'!G76,\"\")","v":""},{"$f":"IF('Scope and Prelim. Cost Est.'!H76<>\"\",'Scope and Prelim. Cost Est.'!H76,\"\")","v":""},{"$f":"IF('Scope and Prelim. Cost Est.'!I76<>\"\",'Scope and Prelim. Cost Est.'!I76,\"\")","v":""},{"$f":"IF('Scope and Prelim. Cost Est.'!J76<>\"\",'Scope and Prelim. Cost Est.'!J76,\"\")","v":""},{"$f":"IF('Scope and Prelim. Cost Est.'!K76<>\"\",'Scope and Prelim. Cost Est.'!K76,\"\")","v":""},{"$f":"IF('Scope and Prelim. Cost Est.'!L76<>\"\",'Scope and Prelim. Cost Est.'!L76,\"\")","v":""},"",{"$f":"IF('Scope and Prelim. Cost Est.'!M76<>\"\",'Scope and Prelim. Cost Est.'!M76,\"\")","v":""},{"$f":"IF('Scope and Prelim. Cost Est.'!N76<>\"\",'Scope and Prelim. Cost Est.'!N76,\"\")","v":""},{"$f":"IF('Scope and Prelim. Cost Est.'!O76<>\"\",'Scope and Prelim. Cost Est.'!O76,\"\")","v":""},{"$f":"IF('Scope and Prelim. Cost Est.'!P76<>\"\",'Scope and Prelim. Cost Est.'!P76,\"\")","v":0},null,null,{"$f":"IF('Scope and Prelim. Cost Est.'!B76<>\"\",'Scope and Prelim. Cost Est.'!B76,\"\")","v":""},{"$f":"IF('Scope and Prelim. Cost Est.'!C76<>\"\",'Scope and Prelim. Cost Est.'!C76,\"\")","v":""},{"$f":"IF('Scope and Prelim. Cost Est.'!Q76<>\"\",'Scope and Prelim. Cost Est.'!Q76,\"\")","v":""},{"$f":"IF('Scope and Prelim. Cost Est.'!R76<>\"\",'Scope and Prelim. Cost Est.'!R76,\"\")","v":""},{"$f":"IF('Scope and Prelim. Cost Est.'!S76<>\"\",'Scope and Prelim. Cost Est.'!S76,\"\")","v":""},{"$f":"IF('Scope and Prelim. Cost Est.'!T76<>\"\",'Scope and Prelim. Cost Est.'!T76,\"\")","v":""},{"$f":"IF('Scope and Prelim. Cost Est.'!U76<>\"\",'Scope and Prelim. Cost Est.'!U76,\"\")","v":""},{"$f":"IF('Scope and Prelim. Cost Est.'!V76<>\"\",'Scope and Prelim. Cost Est.'!V76,\"\")","v":""},{"$f":"IF('Scope and Prelim. Cost Est.'!W76<>\"\",'Scope and Prelim. Cost Est.'!W76,\"\")","v":""},{"$f":"IF('Scope and Prelim. Cost Est.'!X76<>\"\",'Scope and Prelim. Cost Est.'!X76,\"\")","v":""},{"$f":"IF('Scope and Prelim. Cost Est.'!Y76<>\"\",'Scope and Prelim. Cost Est.'!Y76,\"\")","v":""},{"$f":"IF('Scope and Prelim. Cost Est.'!Z76<>\"\",'Scope and Prelim. Cost Est.'!Z76,\"\")","v":""},{"$f":"IF('Scope and Prelim. Cost Est.'!AA76<>\"\",'Scope and Prelim. Cost Est.'!AA76,\"\")","v":""},"",{"$f":"IF('Scope and Prelim. Cost Est.'!AB76<>\"\",'Scope and Prelim. Cost Est.'!AB76,\"\")","v":""},{"$f":"IF('Scope and Prelim. Cost Est.'!AC76<>\"\",'Scope and Prelim. Cost Est.'!AC76,\"\")","v":""},{"$f":"IF('Scope and Prelim. Cost Est.'!AD76<>\"\",'Scope and Prelim. Cost Est.'!AD76,\"\")","v":""},{"$f":"IF('Scope and Prelim. Cost Est.'!AE76<>\"\",'Scope and Prelim. Cost Est.'!AE76,\"\")","v":""},{"$f":"IF('Scope and Prelim. Cost Est.'!AF76<>\"\",'Scope and Prelim. Cost Est.'!AF76,\"\")","v":""},{"$f":"IF('Scope and Prelim. Cost Est.'!AG76<>\"\",'Scope and Prelim. Cost Est.'!AG76,\"\")","v":""},{"$f":"IF('Scope and Prelim. Cost Est.'!AH76<>\"\",'Scope and Prelim. Cost Est.'!AH76,\"\")","v":""}]
[null,{"$f":"IF('Scope and Prelim. Cost Est.'!B77<>\"\",'Scope and Prelim. Cost Est.'!B77,\"\")","v":""},{"$f":"IF('Scope and Prelim. Cost Est.'!C77<>\"\",'Scope and Prelim. Cost Est.'!C77,\"\")","v":""},{"$f":"IF('Scope and Prelim. Cost Est.'!D77<>\"\",'Scope and Prelim. Cost Est.'!D77,\"\")","v":""},{"$f":"IF('Scope and Prelim. Cost Est.'!E77<>\"\",'Scope and Prelim. Cost Est.'!E77,\"\")","v":""},{"$f":"IF('Scope and Prelim. Cost Est.'!F77<>\"\",'Scope and Prelim. Cost Est.'!F77,\"\")","v":""},{"$f":"IF('Scope and Prelim. Cost Est.'!G77<>\"\",'Scope and Prelim. Cost Est.'!G77,\"\")","v":""},{"$f":"IF('Scope and Prelim. Cost Est.'!H77<>\"\",'Scope and Prelim. Cost Est.'!H77,\"\")","v":""},{"$f":"IF('Scope and Prelim. Cost Est.'!I77<>\"\",'Scope and Prelim. Cost Est.'!I77,\"\")","v":""},{"$f":"IF('Scope and Prelim. Cost Est.'!J77<>\"\",'Scope and Prelim. Cost Est.'!J77,\"\")","v":""},{"$f":"IF('Scope and Prelim. Cost Est.'!K77<>\"\",'Scope and Prelim. Cost Est.'!K77,\"\")","v":""},{"$f":"IF('Scope and Prelim. Cost Est.'!L77<>\"\",'Scope and Prelim. Cost Est.'!L77,\"\")","v":""},"",{"$f":"IF('Scope and Prelim. Cost Est.'!M77<>\"\",'Scope and Prelim. Cost Est.'!M77,\"\")","v":""},{"$f":"IF('Scope and Prelim. Cost Est.'!N77<>\"\",'Scope and Prelim. Cost Est.'!N77,\"\")","v":""},{"$f":"IF('Scope and Prelim. Cost Est.'!O77<>\"\",'Scope and Prelim. Cost Est.'!O77,\"\")","v":""},{"$f":"IF('Scope and Prelim. Cost Est.'!P77<>\"\",'Scope and Prelim. Cost Est.'!P77,\"\")","v":0},null,null,{"$f":"IF('Scope and Prelim. Cost Est.'!B77<>\"\",'Scope and Prelim. Cost Est.'!B77,\"\")","v":""},{"$f":"IF('Scope and Prelim. Cost Est.'!C77<>\"\",'Scope and Prelim. Cost Est.'!C77,\"\")","v":""},{"$f":"IF('Scope and Prelim. Cost Est.'!Q77<>\"\",'Scope and Prelim. Cost Est.'!Q77,\"\")","v":""},{"$f":"IF('Scope and Prelim. Cost Est.'!R77<>\"\",'Scope and Prelim. Cost Est.'!R77,\"\")","v":""},{"$f":"IF('Scope and Prelim. Cost Est.'!S77<>\"\",'Scope and Prelim. Cost Est.'!S77,\"\")","v":""},{"$f":"IF('Scope and Prelim. Cost Est.'!T77<>\"\",'Scope and Prelim. Cost Est.'!T77,\"\")","v":""},{"$f":"IF('Scope and Prelim. Cost Est.'!U77<>\"\",'Scope and Prelim. Cost Est.'!U77,\"\")","v":""},{"$f":"IF('Scope and Prelim. Cost Est.'!V77<>\"\",'Scope and Prelim. Cost Est.'!V77,\"\")","v":""},{"$f":"IF('Scope and Prelim. Cost Est.'!W77<>\"\",'Scope and Prelim. Cost Est.'!W77,\"\")","v":""},{"$f":"IF('Scope and Prelim. Cost Est.'!X77<>\"\",'Scope and Prelim. Cost Est.'!X77,\"\")","v":""},{"$f":"IF('Scope and Prelim. Cost Est.'!Y77<>\"\",'Scope and Prelim. Cost Est.'!Y77,\"\")","v":""},{"$f":"IF('Scope and Prelim. Cost Est.'!Z77<>\"\",'Scope and Prelim. Cost Est.'!Z77,\"\")","v":""},{"$f":"IF('Scope and Prelim. Cost Est.'!AA77<>\"\",'Scope and Prelim. Cost Est.'!AA77,\"\")","v":""},"",{"$f":"IF('Scope and Prelim. Cost Est.'!AB77<>\"\",'Scope and Prelim. Cost Est.'!AB77,\"\")","v":""},{"$f":"IF('Scope and Prelim. Cost Est.'!AC77<>\"\",'Scope and Prelim. Cost Est.'!AC77,\"\")","v":""},{"$f":"IF('Scope and Prelim. Cost Est.'!AD77<>\"\",'Scope and Prelim. Cost Est.'!AD77,\"\")","v":""},{"$f":"IF('Scope and Prelim. Cost Est.'!AE77<>\"\",'Scope and Prelim. Cost Est.'!AE77,\"\")","v":""},{"$f":"IF('Scope and Prelim. Cost Est.'!AF77<>\"\",'Scope and Prelim. Cost Est.'!AF77,\"\")","v":""},{"$f":"IF('Scope and Prelim. Cost Est.'!AG77<>\"\",'Scope and Prelim. Cost Est.'!AG77,\"\")","v":""},{"$f":"IF('Scope and Prelim. Cost Est.'!AH77<>\"\",'Scope and Prelim. Cost Est.'!AH77,\"\")","v":""}]
[null,{"$f":"IF('Scope and Prelim. Cost Est.'!B78<>\"\",'Scope and Prelim. Cost Est.'!B78,\"\")","v":""},{"$f":"IF('Scope and Prelim. Cost Est.'!C78<>\"\",'Scope and Prelim. Cost Est.'!C78,\"\")","v":""},{"$f":"IF('Scope and Prelim. Cost Est.'!D78<>\"\",'Scope and Prelim. Cost Est.'!D78,\"\")","v":""},{"$f":"IF('Scope and Prelim. Cost Est.'!E78<>\"\",'Scope and Prelim. Cost Est.'!E78,\"\")","v":""},{"$f":"IF('Scope and Prelim. Cost Est.'!F78<>\"\",'Scope and Prelim. Cost Est.'!F78,\"\")","v":""},{"$f":"IF('Scope and Prelim. Cost Est.'!G78<>\"\",'Scope and Prelim. Cost Est.'!G78,\"\")","v":""},{"$f":"IF('Scope and Prelim. Cost Est.'!H78<>\"\",'Scope and Prelim. Cost Est.'!H78,\"\")","v":""},{"$f":"IF('Scope and Prelim. Cost Est.'!I78<>\"\",'Scope and Prelim. Cost Est.'!I78,\"\")","v":""},{"$f":"IF('Scope and Prelim. Cost Est.'!J78<>\"\",'Scope and Prelim. Cost Est.'!J78,\"\")","v":""},{"$f":"IF('Scope and Prelim. Cost Est.'!K78<>\"\",'Scope and Prelim. Cost Est.'!K78,\"\")","v":""},{"$f":"IF('Scope and Prelim. Cost Est.'!L78<>\"\",'Scope and Prelim. Cost Est.'!L78,\"\")","v":""},"",{"$f":"IF('Scope and Prelim. Cost Est.'!M78<>\"\",'Scope and Prelim. Cost Est.'!M78,\"\")","v":""},{"$f":"IF('Scope and Prelim. Cost Est.'!N78<>\"\",'Scope and Prelim. Cost Est.'!N78,\"\")","v":""},{"$f":"IF('Scope and Prelim. Cost Est.'!O78<>\"\",'Scope and Prelim. Cost Est.'!O78,\"\")","v":""},{"$f":"IF('Scope and Prelim. Cost Est.'!P78<>\"\",'Scope and Prelim. Cost Est.'!P78,\"\")","v":0},null,null,{"$f":"IF('Scope and Prelim. Cost Est.'!B78<>\"\",'Scope and Prelim. Cost Est.'!B78,\"\")","v":""},{"$f":"IF('Scope and Prelim. Cost Est.'!C78<>\"\",'Scope and Prelim. Cost Est.'!C78,\"\")","v":""},{"$f":"IF('Scope and Prelim. Cost Est.'!Q78<>\"\",'Scope and Prelim. Cost Est.'!Q78,\"\")","v":""},{"$f":"IF('Scope and Prelim. Cost Est.'!R78<>\"\",'Scope and Prelim. Cost Est.'!R78,\"\")","v":""},{"$f":"IF('Scope and Prelim. Cost Est.'!S78<>\"\",'Scope and Prelim. Cost Est.'!S78,\"\")","v":""},{"$f":"IF('Scope and Prelim. Cost Est.'!T78<>\"\",'Scope and Prelim. Cost Est.'!T78,\"\")","v":""},{"$f":"IF('Scope and Prelim. Cost Est.'!U78<>\"\",'Scope and Prelim. Cost Est.'!U78,\"\")","v":""},{"$f":"IF('Scope and Prelim. Cost Est.'!V78<>\"\",'Scope and Prelim. Cost Est.'!V78,\"\")","v":""},{"$f":"IF('Scope and Prelim. Cost Est.'!W78<>\"\",'Scope and Prelim. Cost Est.'!W78,\"\")","v":""},{"$f":"IF('Scope and Prelim. Cost Est.'!X78<>\"\",'Scope and Prelim. Cost Est.'!X78,\"\")","v":""},{"$f":"IF('Scope and Prelim. Cost Est.'!Y78<>\"\",'Scope and Prelim. Cost Est.'!Y78,\"\")","v":""},{"$f":"IF('Scope and Prelim. Cost Est.'!Z78<>\"\",'Scope and Prelim. Cost Est.'!Z78,\"\")","v":""},{"$f":"IF('Scope and Prelim. Cost Est.'!AA78<>\"\",'Scope and Prelim. Cost Est.'!AA78,\"\")","v":""},"",{"$f":"IF('Scope and Prelim. Cost Est.'!AB78<>\"\",'Scope and Prelim. Cost Est.'!AB78,\"\")","v":""},{"$f":"IF('Scope and Prelim. Cost Est.'!AC78<>\"\",'Scope and Prelim. Cost Est.'!AC78,\"\")","v":""},{"$f":"IF('Scope and Prelim. Cost Est.'!AD78<>\"\",'Scope and Prelim. Cost Est.'!AD78,\"\")","v":""},{"$f":"IF('Scope and Prelim. Cost Est.'!AE78<>\"\",'Scope and Prelim. Cost Est.'!AE78,\"\")","v":""},{"$f":"IF('Scope and Prelim. Cost Est.'!AF78<>\"\",'Scope and Prelim. Cost Est.'!AF78,\"\")","v":""},{"$f":"IF('Scope and Prelim. Cost Est.'!AG78<>\"\",'Scope and Prelim. Cost Est.'!AG78,\"\")","v":""},{"$f":"IF('Scope and Prelim. Cost Est.'!AH78<>\"\",'Scope and Prelim. Cost Est.'!AH78,\"\")","v":""}]
[null,{"$f":"IF('Scope and Prelim. Cost Est.'!B79<>\"\",'Scope and Prelim. Cost Est.'!B79,\"\")","v":""},{"$f":"IF('Scope and Prelim. Cost Est.'!C79<>\"\",'Scope and Prelim. Cost Est.'!C79,\"\")","v":""},{"$f":"IF('Scope and Prelim. Cost Est.'!D79<>\"\",'Scope and Prelim. Cost Est.'!D79,\"\")","v":""},{"$f":"IF('Scope and Prelim. Cost Est.'!E79<>\"\",'Scope and Prelim. Cost Est.'!E79,\"\")","v":""},{"$f":"IF('Scope and Prelim. Cost Est.'!F79<>\"\",'Scope and Prelim. Cost Est.'!F79,\"\")","v":""},{"$f":"IF('Scope and Prelim. Cost Est.'!G79<>\"\",'Scope and Prelim. Cost Est.'!G79,\"\")","v":""},{"$f":"IF('Scope and Prelim. Cost Est.'!H79<>\"\",'Scope and Prelim. Cost Est.'!H79,\"\")","v":""},{"$f":"IF('Scope and Prelim. Cost Est.'!I79<>\"\",'Scope and Prelim. Cost Est.'!I79,\"\")","v":""},{"$f":"IF('Scope and Prelim. Cost Est.'!J79<>\"\",'Scope and Prelim. Cost Est.'!J79,\"\")","v":""},{"$f":"IF('Scope and Prelim. Cost Est.'!K79<>\"\",'Scope and Prelim. Cost Est.'!K79,\"\")","v":""},{"$f":"IF('Scope and Prelim. Cost Est.'!L79<>\"\",'Scope and Prelim. Cost Est.'!L79,\"\")","v":""},"",{"$f":"IF('Scope and Prelim. Cost Est.'!M79<>\"\",'Scope and Prelim. Cost Est.'!M79,\"\")","v":""},{"$f":"IF('Scope and Prelim. Cost Est.'!N79<>\"\",'Scope and Prelim. Cost Est.'!N79,\"\")","v":""},{"$f":"IF('Scope and Prelim. Cost Est.'!O79<>\"\",'Scope and Prelim. Cost Est.'!O79,\"\")","v":""},{"$f":"IF('Scope and Prelim. Cost Est.'!P79<>\"\",'Scope and Prelim. Cost Est.'!P79,\"\")","v":0},null,null,{"$f":"IF('Scope and Prelim. Cost Est.'!B79<>\"\",'Scope and Prelim. Cost Est.'!B79,\"\")","v":""},{"$f":"IF('Scope and Prelim. Cost Est.'!C79<>\"\",'Scope and Prelim. Cost Est.'!C79,\"\")","v":""},{"$f":"IF('Scope and Prelim. Cost Est.'!Q79<>\"\",'Scope and Prelim. Cost Est.'!Q79,\"\")","v":""},{"$f":"IF('Scope and Prelim. Cost Est.'!R79<>\"\",'Scope and Prelim. Cost Est.'!R79,\"\")","v":""},{"$f":"IF('Scope and Prelim. Cost Est.'!S79<>\"\",'Scope and Prelim. Cost Est.'!S79,\"\")","v":""},{"$f":"IF('Scope and Prelim. Cost Est.'!T79<>\"\",'Scope and Prelim. Cost Est.'!T79,\"\")","v":""},{"$f":"IF('Scope and Prelim. Cost Est.'!U79<>\"\",'Scope and Prelim. Cost Est.'!U79,\"\")","v":""},{"$f":"IF('Scope and Prelim. Cost Est.'!V79<>\"\",'Scope and Prelim. Cost Est.'!V79,\"\")","v":""},{"$f":"IF('Scope and Prelim. Cost Est.'!W79<>\"\",'Scope and Prelim. Cost Est.'!W79,\"\")","v":""},{"$f":"IF('Scope and Prelim. Cost Est.'!X79<>\"\",'Scope and Prelim. Cost Est.'!X79,\"\")","v":""},{"$f":"IF('Scope and Prelim. Cost Est.'!Y79<>\"\",'Scope and Prelim. Cost Est.'!Y79,\"\")","v":""},{"$f":"IF('Scope and Prelim. Cost Est.'!Z79<>\"\",'Scope and Prelim. Cost Est.'!Z79,\"\")","v":""},{"$f":"IF('Scope and Prelim. Cost Est.'!AA79<>\"\",'Scope and Prelim. Cost Est.'!AA79,\"\")","v":""},"",{"$f":"IF('Scope and Prelim. Cost Est.'!AB79<>\"\",'Scope and Prelim. Cost Est.'!AB79,\"\")","v":""},{"$f":"IF('Scope and Prelim. Cost Est.'!AC79<>\"\",'Scope and Prelim. Cost Est.'!AC79,\"\")","v":""},{"$f":"IF('Scope and Prelim. Cost Est.'!AD79<>\"\",'Scope and Prelim. Cost Est.'!AD79,\"\")","v":""},{"$f":"IF('Scope and Prelim. Cost Est.'!AE79<>\"\",'Scope and Prelim. Cost Est.'!AE79,\"\")","v":""},{"$f":"IF('Scope and Prelim. Cost Est.'!AF79<>\"\",'Scope and Prelim. Cost Est.'!AF79,\"\")","v":""},{"$f":"IF('Scope and Prelim. Cost Est.'!AG79<>\"\",'Scope and Prelim. Cost Est.'!AG79,\"\")","v":""},{"$f":"IF('Scope and Prelim. Cost Est.'!AH79<>\"\",'Scope and Prelim. Cost Est.'!AH79,\"\")","v":""}]
[null,{"$f":"IF('Scope and Prelim. Cost Est.'!B80<>\"\",'Scope and Prelim. Cost Est.'!B80,\"\")","v":""},{"$f":"IF('Scope and Prelim. Cost Est.'!C80<>\"\",'Scope and Prelim. Cost Est.'!C80,\"\")","v":""},{"$f":"IF('Scope and Prelim. Cost Est.'!D80<>\"\",'Scope and Prelim. Cost Est.'!D80,\"\")","v":""},{"$f":"IF('Scope and Prelim. Cost Est.'!E80<>\"\",'Scope and Prelim. Cost Est.'!E80,\"\")","v":""},{"$f":"IF('Scope and Prelim. Cost Est.'!F80<>\"\",'Scope and Prelim. Cost Est.'!F80,\"\")","v":""},{"$f":"IF('Scope and Prelim. Cost Est.'!G80<>\"\",'Scope and Prelim. Cost Est.'!G80,\"\")","v":""},{"$f":"IF('Scope and Prelim. Cost Est.'!H80<>\"\",'Scope and Prelim. Cost Est.'!H80,\"\")","v":""},{"$f":"IF('Scope and Prelim. Cost Est.'!I80<>\"\",'Scope and Prelim. Cost Est.'!I80,\"\")","v":""},{"$f":"IF('Scope and Prelim. Cost Est.'!J80<>\"\",'Scope and Prelim. Cost Est.'!J80,\"\")","v":""},{"$f":"IF('Scope and Prelim. Cost Est.'!K80<>\"\",'Scope and Prelim. Cost Est.'!K80,\"\")","v":""},{"$f":"IF('Scope and Prelim. Cost Est.'!L80<>\"\",'Scope and Prelim. Cost Est.'!L80,\"\")","v":""},"",{"$f":"IF('Scope and Prelim. Cost Est.'!M80<>\"\",'Scope and Prelim. Cost Est.'!M80,\"\")","v":""},{"$f":"IF('Scope and Prelim. Cost Est.'!N80<>\"\",'Scope and Prelim. Cost Est.'!N80,\"\")","v":""},{"$f":"IF('Scope and Prelim. Cost Est.'!O80<>\"\",'Scope and Prelim. Cost Est.'!O80,\"\")","v":""},{"$f":"IF('Scope and Prelim. Cost Est.'!P80<>\"\",'Scope and Prelim. Cost Est.'!P80,\"\")","v":0},null,null,{"$f":"IF('Scope and Prelim. Cost Est.'!B80<>\"\",'Scope and Prelim. Cost Est.'!B80,\"\")","v":""},{"$f":"IF('Scope and Prelim. Cost Est.'!C80<>\"\",'Scope and Prelim. Cost Est.'!C80,\"\")","v":""},{"$f":"IF('Scope and Prelim. Cost Est.'!Q80<>\"\",'Scope and Prelim. Cost Est.'!Q80,\"\")","v":""},{"$f":"IF('Scope and Prelim. Cost Est.'!R80<>\"\",'Scope and Prelim. Cost Est.'!R80,\"\")","v":""},{"$f":"IF('Scope and Prelim. Cost Est.'!S80<>\"\",'Scope and Prelim. Cost Est.'!S80,\"\")","v":""},{"$f":"IF('Scope and Prelim. Cost Est.'!T80<>\"\",'Scope and Prelim. Cost Est.'!T80,\"\")","v":""},{"$f":"IF('Scope and Prelim. Cost Est.'!U80<>\"\",'Scope and Prelim. Cost Est.'!U80,\"\")","v":""},{"$f":"IF('Scope and Prelim. Cost Est.'!V80<>\"\",'Scope and Prelim. Cost Est.'!V80,\"\")","v":""},{"$f":"IF('Scope and Prelim. Cost Est.'!W80<>\"\",'Scope and Prelim. Cost Est.'!W80,\"\")","v":""},{"$f":"IF('Scope and Prelim. Cost Est.'!X80<>\"\",'Scope and Prelim. Cost Est.'!X80,\"\")","v":""},{"$f":"IF('Scope and Prelim. Cost Est.'!Y80<>\"\",'Scope and Prelim. Cost Est.'!Y80,\"\")","v":""},{"$f":"IF('Scope and Prelim. Cost Est.'!Z80<>\"\",'Scope and Prelim. Cost Est.'!Z80,\"\")","v":""},{"$f":"IF('Scope and Prelim. Cost Est.'!AA80<>\"\",'Scope and Prelim. Cost Est.'!AA80,\"\")","v":""},"",{"$f":"IF('Scope and Prelim. Cost Est.'!AB80<>\"\",'Scope and Prelim. Cost Est.'!AB80,\"\")","v":""},{"$f":"IF('Scope and Prelim. Cost Est.'!AC80<>\"\",'Scope and Prelim. Cost Est.'!AC80,\"\")","v":""},{"$f":"IF('Scope and Prelim. Cost Est.'!AD80<>\"\",'Scope and Prelim. Cost Est.'!AD80,\"\")","v":""},{"$f":"IF('Scope and Prelim. Cost Est.'!AE80<>\"\",'Scope and Prelim. Cost Est.'!AE80,\"\")","v":""},{"$f":"IF('Scope and Prelim. Cost Est.'!AF80<>\"\",'Scope and Prelim. Cost Est.'!AF80,\"\")","v":""},{"$f":"IF('Scope and Prelim. Cost Est.'!AG80<>\"\",'Scope and Prelim. Cost Est.'!AG80,\"\")","v":""},{"$f":"IF('Scope and Prelim. Cost Est.'!AH80<>\"\",'Scope and Prelim. Cost Est.'!AH80,\"\")","v":""}]
[]
[null,"Measure Name","Measure Description","Important Assumptions (cont.)","Scope Area\n(cont.)","Energy Efficiency Measure?\n(cont.)","Measure Category\n(cont.)","Measure Classification\n(cont.)","Urgency\n(cont.)","Measure Type\n(cont.)","Unit Type\n{Default}","Unit Type {user entry}","Unit Type\n(cont.)","Qty\n(cont.)","Cost Per Unit\n(cont.)","Cost Source (e.g. 2017 R.S. Means, contractor quote, etc.)\n(cont.)","Total Cost \n(cont.)",null,null,"Measure Name\n(cont.)","Measure Description\n(cont.)","Projected Annual Electricity Savings\n (kWh/yr)\nCooling","Projected Annual Electricity Savings\n (kWh/yr)\nNon-Cooling","Project Annual Fuel Savings (MMBtu/yr)\n Heating","Project Annual Fuel Savings (MMBtu/yr)\nNon-Heating","Affected Fuel (for MMBtu Savings)","Projected Annual Cost Savings \n($/yr)","SIR","Simple Payback","Savings Accrue to Tenants?","Measure Life (years)\n{Default}","Measure Life \n(years) \n{user entry}","Measure Life","Full or Incremental Savings","Existing Equipment Year of Manufacture","Projected Annual Water Savings (gal/yr)","Potential Health Benefit Impact ","Incentive #1","Incentive #2","Incentive # 3"]
[null,{"$f":"IF('Scope and Prelim. Cost Est.'!B81<>\"\",'Scope and Prelim. Cost Est.'!B81,\"\")","v":""},{"$f":"IF('Scope and Prelim. Cost Est.'!C81<>\"\",'Scope and Prelim. Cost Est.'!C81,\"\")","v":""},{"$f":"IF('Scope and Prelim. Cost Est.'!D81<>\"\",'Scope and Prelim. Cost Est.'!D81,\"\")","v":""},{"$f":"IF('Scope and Prelim. Cost Est.'!E81<>\"\",'Scope and Prelim. Cost Est.'!E81,\"\")","v":""},{"$f":"IF('Scope and Prelim. Cost Est.'!F81<>\"\",'Scope and Prelim. Cost Est.'!F81,\"\")","v":""},{"$f":"IF('Scope and Prelim. Cost Est.'!G81<>\"\",'Scope and Prelim. Cost Est.'!G81,\"\")","v":""},{"$f":"IF('Scope and Prelim. Cost Est.'!H81<>\"\",'Scope and Prelim. Cost Est.'!H81,\"\")","v":""},{"$f":"IF('Scope and Prelim. Cost Est.'!I81<>\"\",'Scope and Prelim. Cost Est.'!I81,\"\")","v":""},{"$f":"IF('Scope and Prelim. Cost Est.'!J81<>\"\",'Scope and Prelim. Cost Est.'!J81,\"\")","v":""},{"$f":"IF('Scope and Prelim. Cost Est.'!K81<>\"\",'Scope and Prelim. Cost Est.'!K81,\"\")","v":""},{"$f":"IF('Scope and Prelim. Cost Est.'!L81<>\"\",'Scope and Prelim. Cost Est.'!L81,\"\")","v":""},"",{"$f":"IF('Scope and Prelim. Cost Est.'!M81<>\"\",'Scope and Prelim. Cost Est.'!M81,\"\")","v":""},{"$f":"IF('Scope and Prelim. Cost Est.'!N81<>\"\",'Scope and Prelim. Cost Est.'!N81,\"\")","v":""},{"$f":"IF('Scope and Prelim. Cost Est.'!O81<>\"\",'Scope and Prelim. Cost Est.'!O81,\"\")","v":""},{"$f":"IF('Scope and Prelim. Cost Est.'!P81<>\"\",'Scope and Prelim. Cost Est.'!P81,\"\")","v":0},null,null,{"$f":"IF('Scope and Prelim. Cost Est.'!B81<>\"\",'Scope and Prelim. Cost Est.'!B81,\"\")","v":""},{"$f":"IF('Scope and Prelim. Cost Est.'!C81<>\"\",'Scope and Prelim. Cost Est.'!C81,\"\")","v":""},{"$f":"IF('Scope and Prelim. Cost Est.'!Q81<>\"\",'Scope and Prelim. Cost Est.'!Q81,\"\")","v":""},{"$f":"IF('Scope and Prelim. Cost Est.'!R81<>\"\",'Scope and Prelim. Cost Est.'!R81,\"\")","v":""},{"$f":"IF('Scope and Prelim. Cost Est.'!S81<>\"\",'Scope and Prelim. Cost Est.'!S81,\"\")","v":""},{"$f":"IF('Scope and Prelim. Cost Est.'!T81<>\"\",'Scope and Prelim. Cost Est.'!T81,\"\")","v":""},{"$f":"IF('Scope and Prelim. Cost Est.'!U81<>\"\",'Scope and Prelim. Cost Est.'!U81,\"\")","v":""},{"$f":"IF('Scope and Prelim. Cost Est.'!V81<>\"\",'Scope and Prelim. Cost Est.'!V81,\"\")","v":""},{"$f":"IF('Scope and Prelim. Cost Est.'!W81<>\"\",'Scope and Prelim. Cost Est.'!W81,\"\")","v":""},{"$f":"IF('Scope and Prelim. Cost Est.'!X81<>\"\",'Scope and Prelim. Cost Est.'!X81,\"\")","v":""},{"$f":"IF('Scope and Prelim. Cost Est.'!Y81<>\"\",'Scope and Prelim. Cost Est.'!Y81,\"\")","v":""},{"$f":"IF('Scope and Prelim. Cost Est.'!Z81<>\"\",'Scope and Prelim. Cost Est.'!Z81,\"\")","v":""},{"$f":"IF('Scope and Prelim. Cost Est.'!AA81<>\"\",'Scope and Prelim. Cost Est.'!AA81,\"\")","v":""},"",{"$f":"IF('Scope and Prelim. Cost Est.'!AB81<>\"\",'Scope and Prelim. Cost Est.'!AB81,\"\")","v":""},{"$f":"IF('Scope and Prelim. Cost Est.'!AC81<>\"\",'Scope and Prelim. Cost Est.'!AC81,\"\")","v":""},{"$f":"IF('Scope and Prelim. Cost Est.'!AD81<>\"\",'Scope and Prelim. Cost Est.'!AD81,\"\")","v":""},{"$f":"IF('Scope and Prelim. Cost Est.'!AE81<>\"\",'Scope and Prelim. Cost Est.'!AE81,\"\")","v":""},{"$f":"IF('Scope and Prelim. Cost Est.'!AF81<>\"\",'Scope and Prelim. Cost Est.'!AF81,\"\")","v":""},{"$f":"IF('Scope and Prelim. Cost Est.'!AG81<>\"\",'Scope and Prelim. Cost Est.'!AG81,\"\")","v":""},{"$f":"IF('Scope and Prelim. Cost Est.'!AH81<>\"\",'Scope and Prelim. Cost Est.'!AH81,\"\")","v":""}]
[null,{"$f":"IF('Scope and Prelim. Cost Est.'!B82<>\"\",'Scope and Prelim. Cost Est.'!B82,\"\")","v":""},{"$f":"IF('Scope and Prelim. Cost Est.'!C82<>\"\",'Scope and Prelim. Cost Est.'!C82,\"\")","v":""},{"$f":"IF('Scope and Prelim. Cost Est.'!D82<>\"\",'Scope and Prelim. Cost Est.'!D82,\"\")","v":""},{"$f":"IF('Scope and Prelim. Cost Est.'!E82<>\"\",'Scope and Prelim. Cost Est.'!E82,\"\")","v":""},{"$f":"IF('Scope and Prelim. Cost Est.'!F82<>\"\",'Scope and Prelim. Cost Est.'!F82,\"\")","v":""},{"$f":"IF('Scope and Prelim. Cost Est.'!G82<>\"\",'Scope and Prelim. Cost Est.'!G82,\"\")","v":""},{"$f":"IF('Scope and Prelim. Cost Est.'!H82<>\"\",'Scope and Prelim. Cost Est.'!H82,\"\")","v":""},{"$f":"IF('Scope and Prelim. Cost Est.'!I82<>\"\",'Scope and Prelim. Cost Est.'!I82,\"\")","v":""},{"$f":"IF('Scope and Prelim. Cost Est.'!J82<>\"\",'Scope and Prelim. Cost Est.'!J82,\"\")","v":""},{"$f":"IF('Scope and Prelim. Cost Est.'!K82<>\"\",'Scope and Prelim. Cost Est.'!K82,\"\")","v":""},{"$f":"IF('Scope and Prelim. Cost Est.'!L82<>\"\",'Scope and Prelim. Cost Est.'!L82,\"\")","v":""},"",{"$f":"IF('Scope and Prelim. Cost Est.'!M82<>\"\",'Scope and Prelim. Cost Est.'!M82,\"\")","v":""},{"$f":"IF('Scope and Prelim. Cost Est.'!N82<>\"\",'Scope and Prelim. Cost Est.'!N82,\"\")","v":""},{"$f":"IF('Scope and Prelim. Cost Est.'!O82<>\"\",'Scope and Prelim. Cost Est.'!O82,\"\")","v":""},{"$f":"IF('Scope and Prelim. Cost Est.'!P82<>\"\",'Scope and Prelim. Cost Est.'!P82,\"\")","v":0},null,null,{"$f":"IF('Scope and Prelim. Cost Est.'!B82<>\"\",'Scope and Prelim. Cost Est.'!B82,\"\")","v":""},{"$f":"IF('Scope and Prelim. Cost Est.'!C82<>\"\",'Scope and Prelim. Cost Est.'!C82,\"\")","v":""},{"$f":"IF('Scope and Prelim. Cost Est.'!Q82<>\"\",'Scope and Prelim. Cost Est.'!Q82,\"\")","v":""},{"$f":"IF('Scope and Prelim. Cost Est.'!R82<>\"\",'Scope and Prelim. Cost Est.'!R82,\"\")","v":""},{"$f":"IF('Scope and Prelim. Cost Est.'!S82<>\"\",'Scope and Prelim. Cost Est.'!S82,\"\")","v":""},{"$f":"IF('Scope and Prelim. Cost Est.'!T82<>\"\",'Scope and Prelim. Cost Est.'!T82,\"\")","v":""},{"$f":"IF('Scope and Prelim. Cost Est.'!U82<>\"\",'Scope and Prelim. Cost Est.'!U82,\"\")","v":""},{"$f":"IF('Scope and Prelim. Cost Est.'!V82<>\"\",'Scope and Prelim. Cost Est.'!V82,\"\")","v":""},{"$f":"IF('Scope and Prelim. Cost Est.'!W82<>\"\",'Scope and Prelim. Cost Est.'!W82,\"\")","v":""},{"$f":"IF('Scope and Prelim. Cost Est.'!X82<>\"\",'Scope and Prelim. Cost Est.'!X82,\"\")","v":""},{"$f":"IF('Scope and Prelim. Cost Est.'!Y82<>\"\",'Scope and Prelim. Cost Est.'!Y82,\"\")","v":""},{"$f":"IF('Scope and Prelim. Cost Est.'!Z82<>\"\",'Scope and Prelim. Cost Est.'!Z82,\"\")","v":""},{"$f":"IF('Scope and Prelim. Cost Est.'!AA82<>\"\",'Scope and Prelim. Cost Est.'!AA82,\"\")","v":""},"",{"$f":"IF('Scope and Prelim. Cost Est.'!AB82<>\"\",'Scope and Prelim. Cost Est.'!AB82,\"\")","v":""},{"$f":"IF('Scope and Prelim. Cost Est.'!AC82<>\"\",'Scope and Prelim. Cost Est.'!AC82,\"\")","v":""},{"$f":"IF('Scope and Prelim. Cost Est.'!AD82<>\"\",'Scope and Prelim. Cost Est.'!AD82,\"\")","v":""},{"$f":"IF('Scope and Prelim. Cost Est.'!AE82<>\"\",'Scope and Prelim. Cost Est.'!AE82,\"\")","v":""},{"$f":"IF('Scope and Prelim. Cost Est.'!AF82<>\"\",'Scope and Prelim. Cost Est.'!AF82,\"\")","v":""},{"$f":"IF('Scope and Prelim. Cost Est.'!AG82<>\"\",'Scope and Prelim. Cost Est.'!AG82,\"\")","v":""},{"$f":"IF('Scope and Prelim. Cost Est.'!AH82<>\"\",'Scope and Prelim. Cost Est.'!AH82,\"\")","v":""}]
[null,{"$f":"IF('Scope and Prelim. Cost Est.'!B83<>\"\",'Scope and Prelim. Cost Est.'!B83,\"\")","v":""},{"$f":"IF('Scope and Prelim. Cost Est.'!C83<>\"\",'Scope and Prelim. Cost Est.'!C83,\"\")","v":""},{"$f":"IF('Scope and Prelim. Cost Est.'!D83<>\"\",'Scope and Prelim. Cost Est.'!D83,\"\")","v":""},{"$f":"IF('Scope and Prelim. Cost Est.'!E83<>\"\",'Scope and Prelim. Cost Est.'!E83,\"\")","v":""},{"$f":"IF('Scope and Prelim. Cost Est.'!F83<>\"\",'Scope and Prelim. Cost Est.'!F83,\"\")","v":""},{"$f":"IF('Scope and Prelim. Cost Est.'!G83<>\"\",'Scope and Prelim. Cost Est.'!G83,\"\")","v":""},{"$f":"IF('Scope and Prelim. Cost Est.'!H83<>\"\",'Scope and Prelim. Cost Est.'!H83,\"\")","v":""},{"$f":"IF('Scope and Prelim. Cost Est.'!I83<>\"\",'Scope and Prelim. Cost Est.'!I83,\"\")","v":""},{"$f":"IF('Scope and Prelim. Cost Est.'!J83<>\"\",'Scope and Prelim. Cost Est.'!J83,\"\")","v":""},{"$f":"IF('Scope and Prelim. Cost Est.'!K83<>\"\",'Scope and Prelim. Cost Est.'!K83,\"\")","v":""},{"$f":"IF('Scope and Prelim. Cost Est.'!L83<>\"\",'Scope and Prelim. Cost Est.'!L83,\"\")","v":""},"",{"$f":"IF('Scope and Prelim. Cost Est.'!M83<>\"\",'Scope and Prelim. Cost Est.'!M83,\"\")","v":""},{"$f":"IF('Scope and Prelim. Cost Est.'!N83<>\"\",'Scope and Prelim. Cost Est.'!N83,\"\")","v":""},{"$f":"IF('Scope and Prelim. Cost Est.'!O83<>\"\",'Scope and Prelim. Cost Est.'!O83,\"\")","v":""},{"$f":"IF('Scope and Prelim. Cost Est.'!P83<>\"\",'Scope and Prelim. Cost Est.'!P83,\"\")","v":0},null,null,{"$f":"IF('Scope and Prelim. Cost Est.'!B83<>\"\",'Scope and Prelim. Cost Est.'!B83,\"\")","v":""},{"$f":"IF('Scope and Prelim. Cost Est.'!C83<>\"\",'Scope and Prelim. Cost Est.'!C83,\"\")","v":""},{"$f":"IF('Scope and Prelim. Cost Est.'!Q83<>\"\",'Scope and Prelim. Cost Est.'!Q83,\"\")","v":""},{"$f":"IF('Scope and Prelim. Cost Est.'!R83<>\"\",'Scope and Prelim. Cost Est.'!R83,\"\")","v":""},{"$f":"IF('Scope and Prelim. Cost Est.'!S83<>\"\",'Scope and Prelim. Cost Est.'!S83,\"\")","v":""},{"$f":"IF('Scope and Prelim. Cost Est.'!T83<>\"\",'Scope and Prelim. Cost Est.'!T83,\"\")","v":""},{"$f":"IF('Scope and Prelim. Cost Est.'!U83<>\"\",'Scope and Prelim. Cost Est.'!U83,\"\")","v":""},{"$f":"IF('Scope and Prelim. Cost Est.'!V83<>\"\",'Scope and Prelim. Cost Est.'!V83,\"\")","v":""},{"$f":"IF('Scope and Prelim. Cost Est.'!W83<>\"\",'Scope and Prelim. Cost Est.'!W83,\"\")","v":""},{"$f":"IF('Scope and Prelim. Cost Est.'!X83<>\"\",'Scope and Prelim. Cost Est.'!X83,\"\")","v":""},{"$f":"IF('Scope and Prelim. Cost Est.'!Y83<>\"\",'Scope and Prelim. Cost Est.'!Y83,\"\")","v":""},{"$f":"IF('Scope and Prelim. Cost Est.'!Z83<>\"\",'Scope and Prelim. Cost Est.'!Z83,\"\")","v":""},{"$f":"IF('Scope and Prelim. Cost Est.'!AA83<>\"\",'Scope and Prelim. Cost Est.'!AA83,\"\")","v":""},"",{"$f":"IF('Scope and Prelim. Cost Est.'!AB83<>\"\",'Scope and Prelim. Cost Est.'!AB83,\"\")","v":""},{"$f":"IF('Scope and Prelim. Cost Est.'!AC83<>\"\",'Scope and Prelim. Cost Est.'!AC83,\"\")","v":""},{"$f":"IF('Scope and Prelim. Cost Est.'!AD83<>\"\",'Scope and Prelim. Cost Est.'!AD83,\"\")","v":""},{"$f":"IF('Scope and Prelim. Cost Est.'!AE83<>\"\",'Scope and Prelim. Cost Est.'!AE83,\"\")","v":""},{"$f":"IF('Scope and Prelim. Cost Est.'!AF83<>\"\",'Scope and Prelim. Cost Est.'!AF83,\"\")","v":""},{"$f":"IF('Scope and Prelim. Cost Est.'!AG83<>\"\",'Scope and Prelim. Cost Est.'!AG83,\"\")","v":""},{"$f":"IF('Scope and Prelim. Cost Est.'!AH83<>\"\",'Scope and Prelim. Cost Est.'!AH83,\"\")","v":""}]
[null,{"$f":"IF('Scope and Prelim. Cost Est.'!B84<>\"\",'Scope and Prelim. Cost Est.'!B84,\"\")","v":""},{"$f":"IF('Scope and Prelim. Cost Est.'!C84<>\"\",'Scope and Prelim. Cost Est.'!C84,\"\")","v":""},{"$f":"IF('Scope and Prelim. Cost Est.'!D84<>\"\",'Scope and Prelim. Cost Est.'!D84,\"\")","v":""},{"$f":"IF('Scope and Prelim. Cost Est.'!E84<>\"\",'Scope and Prelim. Cost Est.'!E84,\"\")","v":""},{"$f":"IF('Scope and Prelim. Cost Est.'!F84<>\"\",'Scope and Prelim. Cost Est.'!F84,\"\")","v":""},{"$f":"IF('Scope and Prelim. Cost Est.'!G84<>\"\",'Scope and Prelim. Cost Est.'!G84,\"\")","v":""},{"$f":"IF('Scope and Prelim. Cost Est.'!H84<>\"\",'Scope and Prelim. Cost Est.'!H84,\"\")","v":""},{"$f":"IF('Scope and Prelim. Cost Est.'!I84<>\"\",'Scope and Prelim. Cost Est.'!I84,\"\")","v":""},{"$f":"IF('Scope and Prelim. Cost Est.'!J84<>\"\",'Scope and Prelim. Cost Est.'!J84,\"\")","v":""},{"$f":"IF('Scope and Prelim. Cost Est.'!K84<>\"\",'Scope and Prelim. Cost Est.'!K84,\"\")","v":""},{"$f":"IF('Scope and Prelim. Cost Est.'!L84<>\"\",'Scope and Prelim. Cost Est.'!L84,\"\")","v":""},"",{"$f":"IF('Scope and Prelim. Cost Est.'!M84<>\"\",'Scope and Prelim. Cost Est.'!M84,\"\")","v":""},{"$f":"IF('Scope and Prelim. Cost Est.'!N84<>\"\",'Scope and Prelim. Cost Est.'!N84,\"\")","v":""},{"$f":"IF('Scope and Prelim. Cost Est.'!O84<>\"\",'Scope and Prelim. Cost Est.'!O84,\"\")","v":""},{"$f":"IF('Scope and Prelim. Cost Est.'!P84<>\"\",'Scope and Prelim. Cost Est.'!P84,\"\")","v":0},null,null,{"$f":"IF('Scope and Prelim. Cost Est.'!B84<>\"\",'Scope and Prelim. Cost Est.'!B84,\"\")","v":""},{"$f":"IF('Scope and Prelim. Cost Est.'!C84<>\"\",'Scope and Prelim. Cost Est.'!C84,\"\")","v":""},{"$f":"IF('Scope and Prelim. Cost Est.'!Q84<>\"\",'Scope and Prelim. Cost Est.'!Q84,\"\")","v":""},{"$f":"IF('Scope and Prelim. Cost Est.'!R84<>\"\",'Scope and Prelim. Cost Est.'!R84,\"\")","v":""},{"$f":"IF('Scope and Prelim. Cost Est.'!S84<>\"\",'Scope and Prelim. Cost Est.'!S84,\"\")","v":""},{"$f":"IF('Scope and Prelim. Cost Est.'!T84<>\"\",'Scope and Prelim. Cost Est.'!T84,\"\")","v":""},{"$f":"IF('Scope and Prelim. Cost Est.'!U84<>\"\",'Scope and Prelim. Cost Est.'!U84,\"\")","v":""},{"$f":"IF('Scope and Prelim. Cost Est.'!V84<>\"\",'Scope and Prelim. Cost Est.'!V84,\"\")","v":""},{"$f":"IF('Scope and Prelim. Cost Est.'!W84<>\"\",'Scope and Prelim. Cost Est.'!W84,\"\")","v":""},{"$f":"IF('Scope and Prelim. Cost Est.'!X84<>\"\",'Scope and Prelim. Cost Est.'!X84,\"\")","v":""},{"$f":"IF('Scope and Prelim. Cost Est.'!Y84<>\"\",'Scope and Prelim. Cost Est.'!Y84,\"\")","v":""},{"$f":"IF('Scope and Prelim. Cost Est.'!Z84<>\"\",'Scope and Prelim. Cost Est.'!Z84,\"\")","v":""},{"$f":"IF('Scope and Prelim. Cost Est.'!AA84<>\"\",'Scope and Prelim. Cost Est.'!AA84,\"\")","v":""},"",{"$f":"IF('Scope and Prelim. Cost Est.'!AB84<>\"\",'Scope and Prelim. Cost Est.'!AB84,\"\")","v":""},{"$f":"IF('Scope and Prelim. Cost Est.'!AC84<>\"\",'Scope and Prelim. Cost Est.'!AC84,\"\")","v":""},{"$f":"IF('Scope and Prelim. Cost Est.'!AD84<>\"\",'Scope and Prelim. Cost Est.'!AD84,\"\")","v":""},{"$f":"IF('Scope and Prelim. Cost Est.'!AE84<>\"\",'Scope and Prelim. Cost Est.'!AE84,\"\")","v":""},{"$f":"IF('Scope and Prelim. Cost Est.'!AF84<>\"\",'Scope and Prelim. Cost Est.'!AF84,\"\")","v":""},{"$f":"IF('Scope and Prelim. Cost Est.'!AG84<>\"\",'Scope and Prelim. Cost Est.'!AG84,\"\")","v":""},{"$f":"IF('Scope and Prelim. Cost Est.'!AH84<>\"\",'Scope and Prelim. Cost Est.'!AH84,\"\")","v":""}]
[null,{"$f":"IF('Scope and Prelim. Cost Est.'!B85<>\"\",'Scope and Prelim. Cost Est.'!B85,\"\")","v":""},{"$f":"IF('Scope and Prelim. Cost Est.'!C85<>\"\",'Scope and Prelim. Cost Est.'!C85,\"\")","v":""},{"$f":"IF('Scope and Prelim. Cost Est.'!D85<>\"\",'Scope and Prelim. Cost Est.'!D85,\"\")","v":""},{"$f":"IF('Scope and Prelim. Cost Est.'!E85<>\"\",'Scope and Prelim. Cost Est.'!E85,\"\")","v":""},{"$f":"IF('Scope and Prelim. Cost Est.'!F85<>\"\",'Scope and Prelim. Cost Est.'!F85,\"\")","v":""},{"$f":"IF('Scope and Prelim. Cost Est.'!G85<>\"\",'Scope and Prelim. Cost Est.'!G85,\"\")","v":""},{"$f":"IF('Scope and Prelim. Cost Est.'!H85<>\"\",'Scope and Prelim. Cost Est.'!H85,\"\")","v":""},{"$f":"IF('Scope and Prelim. Cost Est.'!I85<>\"\",'Scope and Prelim. Cost Est.'!I85,\"\")","v":""},{"$f":"IF('Scope and Prelim. Cost Est.'!J85<>\"\",'Scope and Prelim. Cost Est.'!J85,\"\")","v":""},{"$f":"IF('Scope and Prelim. Cost Est.'!K85<>\"\",'Scope and Prelim. Cost Est.'!K85,\"\")","v":""},{"$f":"IF('Scope and Prelim. Cost Est.'!L85<>\"\",'Scope and Prelim. Cost Est.'!L85,\"\")","v":""},"",{"$f":"IF('Scope and Prelim. Cost Est.'!M85<>\"\",'Scope and Prelim. Cost Est.'!M85,\"\")","v":""},{"$f":"IF('Scope and Prelim. Cost Est.'!N85<>\"\",'Scope and Prelim. Cost Est.'!N85,\"\")","v":""},{"$f":"IF('Scope and Prelim. Cost Est.'!O85<>\"\",'Scope and Prelim. Cost Est.'!O85,\"\")","v":""},{"$f":"IF('Scope and Prelim. Cost Est.'!P85<>\"\",'Scope and Prelim. Cost Est.'!P85,\"\")","v":0},null,null,{"$f":"IF('Scope and Prelim. Cost Est.'!B85<>\"\",'Scope and Prelim. Cost Est.'!B85,\"\")","v":""},{"$f":"IF('Scope and Prelim. Cost Est.'!C85<>\"\",'Scope and Prelim. Cost Est.'!C85,\"\")","v":""},{"$f":"IF('Scope and Prelim. Cost Est.'!Q85<>\"\",'Scope and Prelim. Cost Est.'!Q85,\"\")","v":""},{"$f":"IF('Scope and Prelim. Cost Est.'!R85<>\"\",'Scope and Prelim. Cost Est.'!R85,\"\")","v":""},{"$f":"IF('Scope and Prelim. Cost Est.'!S85<>\"\",'Scope and Prelim. Cost Est.'!S85,\"\")","v":""},{"$f":"IF('Scope and Prelim. Cost Est.'!T85<>\"\",'Scope and Prelim. Cost Est.'!T85,\"\")","v":""},{"$f":"IF('Scope and Prelim. Cost Est.'!U85<>\"\",'Scope and Prelim. Cost Est.'!U85,\"\")","v":""},{"$f":"IF('Scope and Prelim. Cost Est.'!V85<>\"\",'Scope and Prelim. Cost Est.'!V85,\"\")","v":""},{"$f":"IF('Scope and Prelim. Cost Est.'!W85<>\"\",'Scope and Prelim. Cost Est.'!W85,\"\")","v":""},{"$f":"IF('Scope and Prelim. Cost Est.'!X85<>\"\",'Scope and Prelim. Cost Est.'!X85,\"\")","v":""},{"$f":"IF('Scope and Prelim. Cost Est.'!Y85<>\"\",'Scope and Prelim. Cost Est.'!Y85,\"\")","v":""},{"$f":"IF('Scope and Prelim. Cost Est.'!Z85<>\"\",'Scope and Prelim. Cost Est.'!Z85,\"\")","v":""},{"$f":"IF('Scope and Prelim. Cost Est.'!AA85<>\"\",'Scope and Prelim. Cost Est.'!AA85,\"\")","v":""},"",{"$f":"IF('Scope and Prelim. Cost Est.'!AB85<>\"\",'Scope and Prelim. Cost Est.'!AB85,\"\")","v":""},{"$f":"IF('Scope and Prelim. Cost Est.'!AC85<>\"\",'Scope and Prelim. Cost Est.'!AC85,\"\")","v":""},{"$f":"IF('Scope and Prelim. Cost Est.'!AD85<>\"\",'Scope and Prelim. Cost Est.'!AD85,\"\")","v":""},{"$f":"IF('Scope and Prelim. Cost Est.'!AE85<>\"\",'Scope and Prelim. Cost Est.'!AE85,\"\")","v":""},{"$f":"IF('Scope and Prelim. Cost Est.'!AF85<>\"\",'Scope and Prelim. Cost Est.'!AF85,\"\")","v":""},{"$f":"IF('Scope and Prelim. Cost Est.'!AG85<>\"\",'Scope and Prelim. Cost Est.'!AG85,\"\")","v":""},{"$f":"IF('Scope and Prelim. Cost Est.'!AH85<>\"\",'Scope and Prelim. Cost Est.'!AH85,\"\")","v":""}]
[null,{"$f":"IF('Scope and Prelim. Cost Est.'!B86<>\"\",'Scope and Prelim. Cost Est.'!B86,\"\")","v":""},{"$f":"IF('Scope and Prelim. Cost Est.'!C86<>\"\",'Scope and Prelim. Cost Est.'!C86,\"\")","v":""},{"$f":"IF('Scope and Prelim. Cost Est.'!D86<>\"\",'Scope and Prelim. Cost Est.'!D86,\"\")","v":""},{"$f":"IF('Scope and Prelim. Cost Est.'!E86<>\"\",'Scope and Prelim. Cost Est.'!E86,\"\")","v":""},{"$f":"IF('Scope and Prelim. Cost Est.'!F86<>\"\",'Scope and Prelim. Cost Est.'!F86,\"\")","v":""},{"$f":"IF('Scope and Prelim. Cost Est.'!G86<>\"\",'Scope and Prelim. Cost Est.'!G86,\"\")","v":""},{"$f":"IF('Scope and Prelim. Cost Est.'!H86<>\"\",'Scope and Prelim. Cost Est.'!H86,\"\")","v":""},{"$f":"IF('Scope and Prelim. Cost Est.'!I86<>\"\",'Scope and Prelim. Cost Est.'!I86,\"\")","v":""},{"$f":"IF('Scope and Prelim. Cost Est.'!J86<>\"\",'Scope and Prelim. Cost Est.'!J86,\"\")","v":""},{"$f":"IF('Scope and Prelim. Cost Est.'!K86<>\"\",'Scope and Prelim. Cost Est.'!K86,\"\")","v":""},{"$f":"IF('Scope and Prelim. Cost Est.'!L86<>\"\",'Scope and Prelim. Cost Est.'!L86,\"\")","v":""},"",{"$f":"IF('Scope and Prelim. Cost Est.'!M86<>\"\",'Scope and Prelim. Cost Est.'!M86,\"\")","v":""},{"$f":"IF('Scope and Prelim. Cost Est.'!N86<>\"\",'Scope and Prelim. Cost Est.'!N86,\"\")","v":""},{"$f":"IF('Scope and Prelim. Cost Est.'!O86<>\"\",'Scope and Prelim. Cost Est.'!O86,\"\")","v":""},{"$f":"IF('Scope and Prelim. Cost Est.'!P86<>\"\",'Scope and Prelim. Cost Est.'!P86,\"\")","v":0},null,null,{"$f":"IF('Scope and Prelim. Cost Est.'!B86<>\"\",'Scope and Prelim. Cost Est.'!B86,\"\")","v":""},{"$f":"IF('Scope and Prelim. Cost Est.'!C86<>\"\",'Scope and Prelim. Cost Est.'!C86,\"\")","v":""},{"$f":"IF('Scope and Prelim. Cost Est.'!Q86<>\"\",'Scope and Prelim. Cost Est.'!Q86,\"\")","v":""},{"$f":"IF('Scope and Prelim. Cost Est.'!R86<>\"\",'Scope and Prelim. Cost Est.'!R86,\"\")","v":""},{"$f":"IF('Scope and Prelim. Cost Est.'!S86<>\"\",'Scope and Prelim. Cost Est.'!S86,\"\")","v":""},{"$f":"IF('Scope and Prelim. Cost Est.'!T86<>\"\",'Scope and Prelim. Cost Est.'!T86,\"\")","v":""},{"$f":"IF('Scope and Prelim. Cost Est.'!U86<>\"\",'Scope and Prelim. Cost Est.'!U86,\"\")","v":""},{"$f":"IF('Scope and Prelim. Cost Est.'!V86<>\"\",'Scope and Prelim. Cost Est.'!V86,\"\")","v":""},{"$f":"IF('Scope and Prelim. Cost Est.'!W86<>\"\",'Scope and Prelim. Cost Est.'!W86,\"\")","v":""},{"$f":"IF('Scope and Prelim. Cost Est.'!X86<>\"\",'Scope and Prelim. Cost Est.'!X86,\"\")","v":""},{"$f":"IF('Scope and Prelim. Cost Est.'!Y86<>\"\",'Scope and Prelim. Cost Est.'!Y86,\"\")","v":""},{"$f":"IF('Scope and Prelim. Cost Est.'!Z86<>\"\",'Scope and Prelim. Cost Est.'!Z86,\"\")","v":""},{"$f":"IF('Scope and Prelim. Cost Est.'!AA86<>\"\",'Scope and Prelim. Cost Est.'!AA86,\"\")","v":""},"",{"$f":"IF('Scope and Prelim. Cost Est.'!AB86<>\"\",'Scope and Prelim. Cost Est.'!AB86,\"\")","v":""},{"$f":"IF('Scope and Prelim. Cost Est.'!AC86<>\"\",'Scope and Prelim. Cost Est.'!AC86,\"\")","v":""},{"$f":"IF('Scope and Prelim. Cost Est.'!AD86<>\"\",'Scope and Prelim. Cost Est.'!AD86,\"\")","v":""},{"$f":"IF('Scope and Prelim. Cost Est.'!AE86<>\"\",'Scope and Prelim. Cost Est.'!AE86,\"\")","v":""},{"$f":"IF('Scope and Prelim. Cost Est.'!AF86<>\"\",'Scope and Prelim. Cost Est.'!AF86,\"\")","v":""},{"$f":"IF('Scope and Prelim. Cost Est.'!AG86<>\"\",'Scope and Prelim. Cost Est.'!AG86,\"\")","v":""},{"$f":"IF('Scope and Prelim. Cost Est.'!AH86<>\"\",'Scope and Prelim. Cost Est.'!AH86,\"\")","v":""}]
[null,{"$f":"IF('Scope and Prelim. Cost Est.'!B87<>\"\",'Scope and Prelim. Cost Est.'!B87,\"\")","v":""},{"$f":"IF('Scope and Prelim. Cost Est.'!C87<>\"\",'Scope and Prelim. Cost Est.'!C87,\"\")","v":""},{"$f":"IF('Scope and Prelim. Cost Est.'!D87<>\"\",'Scope and Prelim. Cost Est.'!D87,\"\")","v":""},{"$f":"IF('Scope and Prelim. Cost Est.'!E87<>\"\",'Scope and Prelim. Cost Est.'!E87,\"\")","v":""},{"$f":"IF('Scope and Prelim. Cost Est.'!F87<>\"\",'Scope and Prelim. Cost Est.'!F87,\"\")","v":""},{"$f":"IF('Scope and Prelim. Cost Est.'!G87<>\"\",'Scope and Prelim. Cost Est.'!G87,\"\")","v":""},{"$f":"IF('Scope and Prelim. Cost Est.'!H87<>\"\",'Scope and Prelim. Cost Est.'!H87,\"\")","v":""},{"$f":"IF('Scope and Prelim. Cost Est.'!I87<>\"\",'Scope and Prelim. Cost Est.'!I87,\"\")","v":""},{"$f":"IF('Scope and Prelim. Cost Est.'!J87<>\"\",'Scope and Prelim. Cost Est.'!J87,\"\")","v":""},{"$f":"IF('Scope and Prelim. Cost Est.'!K87<>\"\",'Scope and Prelim. Cost Est.'!K87,\"\")","v":""},{"$f":"IF('Scope and Prelim. Cost Est.'!L87<>\"\",'Scope and Prelim. Cost Est.'!L87,\"\")","v":""},"",{"$f":"IF('Scope and Prelim. Cost Est.'!M87<>\"\",'Scope and Prelim. Cost Est.'!M87,\"\")","v":""},{"$f":"IF('Scope and Prelim. Cost Est.'!N87<>\"\",'Scope and Prelim. Cost Est.'!N87,\"\")","v":""},{"$f":"IF('Scope and Prelim. Cost Est.'!O87<>\"\",'Scope and Prelim. Cost Est.'!O87,\"\")","v":""},{"$f":"IF('Scope and Prelim. Cost Est.'!P87<>\"\",'Scope and Prelim. Cost Est.'!P87,\"\")","v":0},null,null,{"$f":"IF('Scope and Prelim. Cost Est.'!B87<>\"\",'Scope and Prelim. Cost Est.'!B87,\"\")","v":""},{"$f":"IF('Scope and Prelim. Cost Est.'!C87<>\"\",'Scope and Prelim. Cost Est.'!C87,\"\")","v":""},{"$f":"IF('Scope and Prelim. Cost Est.'!Q87<>\"\",'Scope and Prelim. Cost Est.'!Q87,\"\")","v":""},{"$f":"IF('Scope and Prelim. Cost Est.'!R87<>\"\",'Scope and Prelim. Cost Est.'!R87,\"\")","v":""},{"$f":"IF('Scope and Prelim. Cost Est.'!S87<>\"\",'Scope and Prelim. Cost Est.'!S87,\"\")","v":""},{"$f":"IF('Scope and Prelim. Cost Est.'!T87<>\"\",'Scope and Prelim. Cost Est.'!T87,\"\")","v":""},{"$f":"IF('Scope and Prelim. Cost Est.'!U87<>\"\",'Scope and Prelim. Cost Est.'!U87,\"\")","v":""},{"$f":"IF('Scope and Prelim. Cost Est.'!V87<>\"\",'Scope and Prelim. Cost Est.'!V87,\"\")","v":""},{"$f":"IF('Scope and Prelim. Cost Est.'!W87<>\"\",'Scope and Prelim. Cost Est.'!W87,\"\")","v":""},{"$f":"IF('Scope and Prelim. Cost Est.'!X87<>\"\",'Scope and Prelim. Cost Est.'!X87,\"\")","v":""},{"$f":"IF('Scope and Prelim. Cost Est.'!Y87<>\"\",'Scope and Prelim. Cost Est.'!Y87,\"\")","v":""},{"$f":"IF('Scope and Prelim. Cost Est.'!Z87<>\"\",'Scope and Prelim. Cost Est.'!Z87,\"\")","v":""},{"$f":"IF('Scope and Prelim. Cost Est.'!AA87<>\"\",'Scope and Prelim. Cost Est.'!AA87,\"\")","v":""},"",{"$f":"IF('Scope and Prelim. Cost Est.'!AB87<>\"\",'Scope and Prelim. Cost Est.'!AB87,\"\")","v":""},{"$f":"IF('Scope and Prelim. Cost Est.'!AC87<>\"\",'Scope and Prelim. Cost Est.'!AC87,\"\")","v":""},{"$f":"IF('Scope and Prelim. Cost Est.'!AD87<>\"\",'Scope and Prelim. Cost Est.'!AD87,\"\")","v":""},{"$f":"IF('Scope and Prelim. Cost Est.'!AE87<>\"\",'Scope and Prelim. Cost Est.'!AE87,\"\")","v":""},{"$f":"IF('Scope and Prelim. Cost Est.'!AF87<>\"\",'Scope and Prelim. Cost Est.'!AF87,\"\")","v":""},{"$f":"IF('Scope and Prelim. Cost Est.'!AG87<>\"\",'Scope and Prelim. Cost Est.'!AG87,\"\")","v":""},{"$f":"IF('Scope and Prelim. Cost Est.'!AH87<>\"\",'Scope and Prelim. Cost Est.'!AH87,\"\")","v":""}]
[null,{"$f":"IF('Scope and Prelim. Cost Est.'!B88<>\"\",'Scope and Prelim. Cost Est.'!B88,\"\")","v":""},{"$f":"IF('Scope and Prelim. Cost Est.'!C88<>\"\",'Scope and Prelim. Cost Est.'!C88,\"\")","v":""},{"$f":"IF('Scope and Prelim. Cost Est.'!D88<>\"\",'Scope and Prelim. Cost Est.'!D88,\"\")","v":""},{"$f":"IF('Scope and Prelim. Cost Est.'!E88<>\"\",'Scope and Prelim. Cost Est.'!E88,\"\")","v":""},{"$f":"IF('Scope and Prelim. Cost Est.'!F88<>\"\",'Scope and Prelim. Cost Est.'!F88,\"\")","v":""},{"$f":"IF('Scope and Prelim. Cost Est.'!G88<>\"\",'Scope and Prelim. Cost Est.'!G88,\"\")","v":""},{"$f":"IF('Scope and Prelim. Cost Est.'!H88<>\"\",'Scope and Prelim. Cost Est.'!H88,\"\")","v":""},{"$f":"IF('Scope and Prelim. Cost Est.'!I88<>\"\",'Scope and Prelim. Cost Est.'!I88,\"\")","v":""},{"$f":"IF('Scope and Prelim. Cost Est.'!J88<>\"\",'Scope and Prelim. Cost Est.'!J88,\"\")","v":""},{"$f":"IF('Scope and Prelim. Cost Est.'!K88<>\"\",'Scope and Prelim. Cost Est.'!K88,\"\")","v":""},{"$f":"IF('Scope and Prelim. Cost Est.'!L88<>\"\",'Scope and Prelim. Cost Est.'!L88,\"\")","v":""},"",{"$f":"IF('Scope and Prelim. Cost Est.'!M88<>\"\",'Scope and Prelim. Cost Est.'!M88,\"\")","v":""},{"$f":"IF('Scope and Prelim. Cost Est.'!N88<>\"\",'Scope and Prelim. Cost Est.'!N88,\"\")","v":""},{"$f":"IF('Scope and Prelim. Cost Est.'!O88<>\"\",'Scope and Prelim. Cost Est.'!O88,\"\")","v":""},{"$f":"IF('Scope and Prelim. Cost Est.'!P88<>\"\",'Scope and Prelim. Cost Est.'!P88,\"\")","v":0},null,null,{"$f":"IF('Scope and Prelim. Cost Est.'!B88<>\"\",'Scope and Prelim. Cost Est.'!B88,\"\")","v":""},{"$f":"IF('Scope and Prelim. Cost Est.'!C88<>\"\",'Scope and Prelim. Cost Est.'!C88,\"\")","v":""},{"$f":"IF('Scope and Prelim. Cost Est.'!Q88<>\"\",'Scope and Prelim. Cost Est.'!Q88,\"\")","v":""},{"$f":"IF('Scope and Prelim. Cost Est.'!R88<>\"\",'Scope and Prelim. Cost Est.'!R88,\"\")","v":""},{"$f":"IF('Scope and Prelim. Cost Est.'!S88<>\"\",'Scope and Prelim. Cost Est.'!S88,\"\")","v":""},{"$f":"IF('Scope and Prelim. Cost Est.'!T88<>\"\",'Scope and Prelim. Cost Est.'!T88,\"\")","v":""},{"$f":"IF('Scope and Prelim. Cost Est.'!U88<>\"\",'Scope and Prelim. Cost Est.'!U88,\"\")","v":""},{"$f":"IF('Scope and Prelim. Cost Est.'!V88<>\"\",'Scope and Prelim. Cost Est.'!V88,\"\")","v":""},{"$f":"IF('Scope and Prelim. Cost Est.'!W88<>\"\",'Scope and Prelim. Cost Est.'!W88,\"\")","v":""},{"$f":"IF('Scope and Prelim. Cost Est.'!X88<>\"\",'Scope and Prelim. Cost Est.'!X88,\"\")","v":""},{"$f":"IF('Scope and Prelim. Cost Est.'!Y88<>\"\",'Scope and Prelim. Cost Est.'!Y88,\"\")","v":""},{"$f":"IF('Scope and Prelim. Cost Est.'!Z88<>\"\",'Scope and Prelim. Cost Est.'!Z88,\"\")","v":""},{"$f":"IF('Scope and Prelim. Cost Est.'!AA88<>\"\",'Scope and Prelim. Cost Est.'!AA88,\"\")","v":""},"",{"$f":"IF('Scope and Prelim. Cost Est.'!AB88<>\"\",'Scope and Prelim. Cost Est.'!AB88,\"\")","v":""},{"$f":"IF('Scope and Prelim. Cost Est.'!AC88<>\"\",'Scope and Prelim. Cost Est.'!AC88,\"\")","v":""},{"$f":"IF('Scope and Prelim. Cost Est.'!AD88<>\"\",'Scope and Prelim. Cost Est.'!AD88,\"\")","v":""},{"$f":"IF('Scope and Prelim. Cost Est.'!AE88<>\"\",'Scope and Prelim. Cost Est.'!AE88,\"\")","v":""},{"$f":"IF('Scope and Prelim. Cost Est.'!AF88<>\"\",'Scope and Prelim. Cost Est.'!AF88,\"\")","v":""},{"$f":"IF('Scope and Prelim. Cost Est.'!AG88<>\"\",'Scope and Prelim. Cost Est.'!AG88,\"\")","v":""},{"$f":"IF('Scope and Prelim. Cost Est.'!AH88<>\"\",'Scope and Prelim. Cost Est.'!AH88,\"\")","v":""}]
[null,{"$f":"IF('Scope and Prelim. Cost Est.'!B89<>\"\",'Scope and Prelim. Cost Est.'!B89,\"\")","v":""},{"$f":"IF('Scope and Prelim. Cost Est.'!C89<>\"\",'Scope and Prelim. Cost Est.'!C89,\"\")","v":""},{"$f":"IF('Scope and Prelim. Cost Est.'!D89<>\"\",'Scope and Prelim. Cost Est.'!D89,\"\")","v":""},{"$f":"IF('Scope and Prelim. Cost Est.'!E89<>\"\",'Scope and Prelim. Cost Est.'!E89,\"\")","v":""},{"$f":"IF('Scope and Prelim. Cost Est.'!F89<>\"\",'Scope and Prelim. Cost Est.'!F89,\"\")","v":""},{"$f":"IF('Scope and Prelim. Cost Est.'!G89<>\"\",'Scope and Prelim. Cost Est.'!G89,\"\")","v":""},{"$f":"IF('Scope and Prelim. Cost Est.'!H89<>\"\",'Scope and Prelim. Cost Est.'!H89,\"\")","v":""},{"$f":"IF('Scope and Prelim. Cost Est.'!I89<>\"\",'Scope and Prelim. Cost Est.'!I89,\"\")","v":""},{"$f":"IF('Scope and Prelim. Cost Est.'!J89<>\"\",'Scope and Prelim. Cost Est.'!J89,\"\")","v":""},{"$f":"IF('Scope and Prelim. Cost Est.'!K89<>\"\",'Scope and Prelim. Cost Est.'!K89,\"\")","v":""},{"$f":"IF('Scope and Prelim. Cost Est.'!L89<>\"\",'Scope and Prelim. Cost Est.'!L89,\"\")","v":""},"",{"$f":"IF('Scope and Prelim. Cost Est.'!M89<>\"\",'Scope and Prelim. Cost Est.'!M89,\"\")","v":""},{"$f":"IF('Scope and Prelim. Cost Est.'!N89<>\"\",'Scope and Prelim. Cost Est.'!N89,\"\")","v":""},{"$f":"IF('Scope and Prelim. Cost Est.'!O89<>\"\",'Scope and Prelim. Cost Est.'!O89,\"\")","v":""},{"$f":"IF('Scope and Prelim. Cost Est.'!P89<>\"\",'Scope and Prelim. Cost Est.'!P89,\"\")","v":0},null,null,{"$f":"IF('Scope and Prelim. Cost Est.'!B89<>\"\",'Scope and Prelim. Cost Est.'!B89,\"\")","v":""},{"$f":"IF('Scope and Prelim. Cost Est.'!C89<>\"\",'Scope and Prelim. Cost Est.'!C89,\"\")","v":""},{"$f":"IF('Scope and Prelim. Cost Est.'!Q89<>\"\",'Scope and Prelim. Cost Est.'!Q89,\"\")","v":""},{"$f":"IF('Scope and Prelim. Cost Est.'!R89<>\"\",'Scope and Prelim. Cost Est.'!R89,\"\")","v":""},{"$f":"IF('Scope and Prelim. Cost Est.'!S89<>\"\",'Scope and Prelim. Cost Est.'!S89,\"\")","v":""},{"$f":"IF('Scope and Prelim. Cost Est.'!T89<>\"\",'Scope and Prelim. Cost Est.'!T89,\"\")","v":""},{"$f":"IF('Scope and Prelim. Cost Est.'!U89<>\"\",'Scope and Prelim. Cost Est.'!U89,\"\")","v":""},{"$f":"IF('Scope and Prelim. Cost Est.'!V89<>\"\",'Scope and Prelim. Cost Est.'!V89,\"\")","v":""},{"$f":"IF('Scope and Prelim. Cost Est.'!W89<>\"\",'Scope and Prelim. Cost Est.'!W89,\"\")","v":""},{"$f":"IF('Scope and Prelim. Cost Est.'!X89<>\"\",'Scope and Prelim. Cost Est.'!X89,\"\")","v":""},{"$f":"IF('Scope and Prelim. Cost Est.'!Y89<>\"\",'Scope and Prelim. Cost Est.'!Y89,\"\")","v":""},{"$f":"IF('Scope and Prelim. Cost Est.'!Z89<>\"\",'Scope and Prelim. Cost Est.'!Z89,\"\")","v":""},{"$f":"IF('Scope and Prelim. Cost Est.'!AA89<>\"\",'Scope and Prelim. Cost Est.'!AA89,\"\")","v":""},"",{"$f":"IF('Scope and Prelim. Cost Est.'!AB89<>\"\",'Scope and Prelim. Cost Est.'!AB89,\"\")","v":""},{"$f":"IF('Scope and Prelim. Cost Est.'!AC89<>\"\",'Scope and Prelim. Cost Est.'!AC89,\"\")","v":""},{"$f":"IF('Scope and Prelim. Cost Est.'!AD89<>\"\",'Scope and Prelim. Cost Est.'!AD89,\"\")","v":""},{"$f":"IF('Scope and Prelim. Cost Est.'!AE89<>\"\",'Scope and Prelim. Cost Est.'!AE89,\"\")","v":""},{"$f":"IF('Scope and Prelim. Cost Est.'!AF89<>\"\",'Scope and Prelim. Cost Est.'!AF89,\"\")","v":""},{"$f":"IF('Scope and Prelim. Cost Est.'!AG89<>\"\",'Scope and Prelim. Cost Est.'!AG89,\"\")","v":""},{"$f":"IF('Scope and Prelim. Cost Est.'!AH89<>\"\",'Scope and Prelim. Cost Est.'!AH89,\"\")","v":""}]
[null,{"$f":"IF('Scope and Prelim. Cost Est.'!B90<>\"\",'Scope and Prelim. Cost Est.'!B90,\"\")","v":""},{"$f":"IF('Scope and Prelim. Cost Est.'!C90<>\"\",'Scope and Prelim. Cost Est.'!C90,\"\")","v":""},{"$f":"IF('Scope and Prelim. Cost Est.'!D90<>\"\",'Scope and Prelim. Cost Est.'!D90,\"\")","v":""},{"$f":"IF('Scope and Prelim. Cost Est.'!E90<>\"\",'Scope and Prelim. Cost Est.'!E90,\"\")","v":""},{"$f":"IF('Scope and Prelim. Cost Est.'!F90<>\"\",'Scope and Prelim. Cost Est.'!F90,\"\")","v":""},{"$f":"IF('Scope and Prelim. Cost Est.'!G90<>\"\",'Scope and Prelim. Cost Est.'!G90,\"\")","v":""},{"$f":"IF('Scope and Prelim. Cost Est.'!H90<>\"\",'Scope and Prelim. Cost Est.'!H90,\"\")","v":""},{"$f":"IF('Scope and Prelim. Cost Est.'!I90<>\"\",'Scope and Prelim. Cost Est.'!I90,\"\")","v":""},{"$f":"IF('Scope and Prelim. Cost Est.'!J90<>\"\",'Scope and Prelim. Cost Est.'!J90,\"\")","v":""},{"$f":"IF('Scope and Prelim. Cost Est.'!K90<>\"\",'Scope and Prelim. Cost Est.'!K90,\"\")","v":""},{"$f":"IF('Scope and Prelim. Cost Est.'!L90<>\"\",'Scope and Prelim. Cost Est.'!L90,\"\")","v":""},"",{"$f":"IF('Scope and Prelim. Cost Est.'!M90<>\"\",'Scope and Prelim. Cost Est.'!M90,\"\")","v":""},{"$f":"IF('Scope and Prelim. Cost Est.'!N90<>\"\",'Scope and Prelim. Cost Est.'!N90,\"\")","v":""},{"$f":"IF('Scope and Prelim. Cost Est.'!O90<>\"\",'Scope and Prelim. Cost Est.'!O90,\"\")","v":""},{"$f":"IF('Scope and Prelim. Cost Est.'!P90<>\"\",'Scope and Prelim. Cost Est.'!P90,\"\")","v":0},null,null,{"$f":"IF('Scope and Prelim. Cost Est.'!B90<>\"\",'Scope and Prelim. Cost Est.'!B90,\"\")","v":""},{"$f":"IF('Scope and Prelim. Cost Est.'!C90<>\"\",'Scope and Prelim. Cost Est.'!C90,\"\")","v":""},{"$f":"IF('Scope and Prelim. Cost Est.'!Q90<>\"\",'Scope and Prelim. Cost Est.'!Q90,\"\")","v":""},{"$f":"IF('Scope and Prelim. Cost Est.'!R90<>\"\",'Scope and Prelim. Cost Est.'!R90,\"\")","v":""},{"$f":"IF('Scope and Prelim. Cost Est.'!S90<>\"\",'Scope and Prelim. Cost Est.'!S90,\"\")","v":""},{"$f":"IF('Scope and Prelim. Cost Est.'!T90<>\"\",'Scope and Prelim. Cost Est.'!T90,\"\")","v":""},{"$f":"IF('Scope and Prelim. Cost Est.'!U90<>\"\",'Scope and Prelim. Cost Est.'!U90,\"\")","v":""},{"$f":"IF('Scope and Prelim. Cost Est.'!V90<>\"\",'Scope and Prelim. Cost Est.'!V90,\"\")","v":""},{"$f":"IF('Scope and Prelim. Cost Est.'!W90<>\"\",'Scope and Prelim. Cost Est.'!W90,\"\")","v":""},{"$f":"IF('Scope and Prelim. Cost Est.'!X90<>\"\",'Scope and Prelim. Cost Est.'!X90,\"\")","v":""},{"$f":"IF('Scope and Prelim. Cost Est.'!Y90<>\"\",'Scope and Prelim. Cost Est.'!Y90,\"\")","v":""},{"$f":"IF('Scope and Prelim. Cost Est.'!Z90<>\"\",'Scope and Prelim. Cost Est.'!Z90,\"\")","v":""},{"$f":"IF('Scope and Prelim. Cost Est.'!AA90<>\"\",'Scope and Prelim. Cost Est.'!AA90,\"\")","v":""},"",{"$f":"IF('Scope and Prelim. Cost Est.'!AB90<>\"\",'Scope and Prelim. Cost Est.'!AB90,\"\")","v":""},{"$f":"IF('Scope and Prelim. Cost Est.'!AC90<>\"\",'Scope and Prelim. Cost Est.'!AC90,\"\")","v":""},{"$f":"IF('Scope and Prelim. Cost Est.'!AD90<>\"\",'Scope and Prelim. Cost Est.'!AD90,\"\")","v":""},{"$f":"IF('Scope and Prelim. Cost Est.'!AE90<>\"\",'Scope and Prelim. Cost Est.'!AE90,\"\")","v":""},{"$f":"IF('Scope and Prelim. Cost Est.'!AF90<>\"\",'Scope and Prelim. Cost Est.'!AF90,\"\")","v":""},{"$f":"IF('Scope and Prelim. Cost Est.'!AG90<>\"\",'Scope and Prelim. Cost Est.'!AG90,\"\")","v":""},{"$f":"IF('Scope and Prelim. Cost Est.'!AH90<>\"\",'Scope and Prelim. Cost Est.'!AH90,\"\")","v":""}]
[null,{"$f":"IF('Scope and Prelim. Cost Est.'!B91<>\"\",'Scope and Prelim. Cost Est.'!B91,\"\")","v":""},{"$f":"IF('Scope and Prelim. Cost Est.'!C91<>\"\",'Scope and Prelim. Cost Est.'!C91,\"\")","v":""},{"$f":"IF('Scope and Prelim. Cost Est.'!D91<>\"\",'Scope and Prelim. Cost Est.'!D91,\"\")","v":""},{"$f":"IF('Scope and Prelim. Cost Est.'!E91<>\"\",'Scope and Prelim. Cost Est.'!E91,\"\")","v":""},{"$f":"IF('Scope and Prelim. Cost Est.'!F91<>\"\",'Scope and Prelim. Cost Est.'!F91,\"\")","v":""},{"$f":"IF('Scope and Prelim. Cost Est.'!G91<>\"\",'Scope and Prelim. Cost Est.'!G91,\"\")","v":""},{"$f":"IF('Scope and Prelim. Cost Est.'!H91<>\"\",'Scope and Prelim. Cost Est.'!H91,\"\")","v":""},{"$f":"IF('Scope and Prelim. Cost Est.'!I91<>\"\",'Scope and Prelim. Cost Est.'!I91,\"\")","v":""},{"$f":"IF('Scope and Prelim. Cost Est.'!J91<>\"\",'Scope and Prelim. Cost Est.'!J91,\"\")","v":""},{"$f":"IF('Scope and Prelim. Cost Est.'!K91<>\"\",'Scope and Prelim. Cost Est.'!K91,\"\")","v":""},{"$f":"IF('Scope and Prelim. Cost Est.'!L91<>\"\",'Scope and Prelim. Cost Est.'!L91,\"\")","v":""},"",{"$f":"IF('Scope and Prelim. Cost Est.'!M91<>\"\",'Scope and Prelim. Cost Est.'!M91,\"\")","v":""},{"$f":"IF('Scope and Prelim. Cost Est.'!N91<>\"\",'Scope and Prelim. Cost Est.'!N91,\"\")","v":""},{"$f":"IF('Scope and Prelim. Cost Est.'!O91<>\"\",'Scope and Prelim. Cost Est.'!O91,\"\")","v":""},{"$f":"IF('Scope and Prelim. Cost Est.'!P91<>\"\",'Scope and Prelim. Cost Est.'!P91,\"\")","v":0},null,null,{"$f":"IF('Scope and Prelim. Cost Est.'!B91<>\"\",'Scope and Prelim. Cost Est.'!B91,\"\")","v":""},{"$f":"IF('Scope and Prelim. Cost Est.'!C91<>\"\",'Scope and Prelim. Cost Est.'!C91,\"\")","v":""},{"$f":"IF('Scope and Prelim. Cost Est.'!Q91<>\"\",'Scope and Prelim. Cost Est.'!Q91,\"\")","v":""},{"$f":"IF('Scope and Prelim. Cost Est.'!R91<>\"\",'Scope and Prelim. Cost Est.'!R91,\"\")","v":""},{"$f":"IF('Scope and Prelim. Cost Est.'!S91<>\"\",'Scope and Prelim. Cost Est.'!S91,\"\")","v":""},{"$f":"IF('Scope and Prelim. Cost Est.'!T91<>\"\",'Scope and Prelim. Cost Est.'!T91,\"\")","v":""},{"$f":"IF('Scope and Prelim. Cost Est.'!U91<>\"\",'Scope and Prelim. Cost Est.'!U91,\"\")","v":""},{"$f":"IF('Scope and Prelim. Cost Est.'!V91<>\"\",'Scope and Prelim. Cost Est.'!V91,\"\")","v":""},{"$f":"IF('Scope and Prelim. Cost Est.'!W91<>\"\",'Scope and Prelim. Cost Est.'!W91,\"\")","v":""},{"$f":"IF('Scope and Prelim. Cost Est.'!X91<>\"\",'Scope and Prelim. Cost Est.'!X91,\"\")","v":""},{"$f":"IF('Scope and Prelim. Cost Est.'!Y91<>\"\",'Scope and Prelim. Cost Est.'!Y91,\"\")","v":""},{"$f":"IF('Scope and Prelim. Cost Est.'!Z91<>\"\",'Scope and Prelim. Cost Est.'!Z91,\"\")","v":""},{"$f":"IF('Scope and Prelim. Cost Est.'!AA91<>\"\",'Scope and Prelim. Cost Est.'!AA91,\"\")","v":""},"",{"$f":"IF('Scope and Prelim. Cost Est.'!AB91<>\"\",'Scope and Prelim. Cost Est.'!AB91,\"\")","v":""},{"$f":"IF('Scope and Prelim. Cost Est.'!AC91<>\"\",'Scope and Prelim. Cost Est.'!AC91,\"\")","v":""},{"$f":"IF('Scope and Prelim. Cost Est.'!AD91<>\"\",'Scope and Prelim. Cost Est.'!AD91,\"\")","v":""},{"$f":"IF('Scope and Prelim. Cost Est.'!AE91<>\"\",'Scope and Prelim. Cost Est.'!AE91,\"\")","v":""},{"$f":"IF('Scope and Prelim. Cost Est.'!AF91<>\"\",'Scope and Prelim. Cost Est.'!AF91,\"\")","v":""},{"$f":"IF('Scope and Prelim. Cost Est.'!AG91<>\"\",'Scope and Prelim. Cost Est.'!AG91,\"\")","v":""},{"$f":"IF('Scope and Prelim. Cost Est.'!AH91<>\"\",'Scope and Prelim. Cost Est.'!AH91,\"\")","v":""}]
[null,{"$f":"IF('Scope and Prelim. Cost Est.'!B92<>\"\",'Scope and Prelim. Cost Est.'!B92,\"\")","v":""},{"$f":"IF('Scope and Prelim. Cost Est.'!C92<>\"\",'Scope and Prelim. Cost Est.'!C92,\"\")","v":""},{"$f":"IF('Scope and Prelim. Cost Est.'!D92<>\"\",'Scope and Prelim. Cost Est.'!D92,\"\")","v":""},{"$f":"IF('Scope and Prelim. Cost Est.'!E92<>\"\",'Scope and Prelim. Cost Est.'!E92,\"\")","v":""},{"$f":"IF('Scope and Prelim. Cost Est.'!F92<>\"\",'Scope and Prelim. Cost Est.'!F92,\"\")","v":""},{"$f":"IF('Scope and Prelim. Cost Est.'!G92<>\"\",'Scope and Prelim. Cost Est.'!G92,\"\")","v":""},{"$f":"IF('Scope and Prelim. Cost Est.'!H92<>\"\",'Scope and Prelim. Cost Est.'!H92,\"\")","v":""},{"$f":"IF('Scope and Prelim. Cost Est.'!I92<>\"\",'Scope and Prelim. Cost Est.'!I92,\"\")","v":""},{"$f":"IF('Scope and Prelim. Cost Est.'!J92<>\"\",'Scope and Prelim. Cost Est.'!J92,\"\")","v":""},{"$f":"IF('Scope and Prelim. Cost Est.'!K92<>\"\",'Scope and Prelim. Cost Est.'!K92,\"\")","v":""},{"$f":"IF('Scope and Prelim. Cost Est.'!L92<>\"\",'Scope and Prelim. Cost Est.'!L92,\"\")","v":""},"",{"$f":"IF('Scope and Prelim. Cost Est.'!M92<>\"\",'Scope and Prelim. Cost Est.'!M92,\"\")","v":""},{"$f":"IF('Scope and Prelim. Cost Est.'!N92<>\"\",'Scope and Prelim. Cost Est.'!N92,\"\")","v":""},{"$f":"IF('Scope and Prelim. Cost Est.'!O92<>\"\",'Scope and Prelim. Cost Est.'!O92,\"\")","v":""},{"$f":"IF('Scope and Prelim. Cost Est.'!P92<>\"\",'Scope and Prelim. Cost Est.'!P92,\"\")","v":0},null,null,{"$f":"IF('Scope and Prelim. Cost Est.'!B92<>\"\",'Scope and Prelim. Cost Est.'!B92,\"\")","v":""},{"$f":"IF('Scope and Prelim. Cost Est.'!C92<>\"\",'Scope and Prelim. Cost Est.'!C92,\"\")","v":""},{"$f":"IF('Scope and Prelim. Cost Est.'!Q92<>\"\",'Scope and Prelim. Cost Est.'!Q92,\"\")","v":""},{"$f":"IF('Scope and Prelim. Cost Est.'!R92<>\"\",'Scope and Prelim. Cost Est.'!R92,\"\")","v":""},{"$f":"IF('Scope and Prelim. Cost Est.'!S92<>\"\",'Scope and Prelim. Cost Est.'!S92,\"\")","v":""},{"$f":"IF('Scope and Prelim. Cost Est.'!T92<>\"\",'Scope and Prelim. Cost Est.'!T92,\"\")","v":""},{"$f":"IF('Scope and Prelim. Cost Est.'!U92<>\"\",'Scope and Prelim. Cost Est.'!U92,\"\")","v":""},{"$f":"IF('Scope and Prelim. Cost Est.'!V92<>\"\",'Scope and Prelim. Cost Est.'!V92,\"\")","v":""},{"$f":"IF('Scope and Prelim. Cost Est.'!W92<>\"\",'Scope and Prelim. Cost Est.'!W92,\"\")","v":""},{"$f":"IF('Scope and Prelim. Cost Est.'!X92<>\"\",'Scope and Prelim. Cost Est.'!X92,\"\")","v":""},{"$f":"IF('Scope and Prelim. Cost Est.'!Y92<>\"\",'Scope and Prelim. Cost Est.'!Y92,\"\")","v":""},{"$f":"IF('Scope and Prelim. Cost Est.'!Z92<>\"\",'Scope and Prelim. Cost Est.'!Z92,\"\")","v":""},{"$f":"IF('Scope and Prelim. Cost Est.'!AA92<>\"\",'Scope and Prelim. Cost Est.'!AA92,\"\")","v":""},"",{"$f":"IF('Scope and Prelim. Cost Est.'!AB92<>\"\",'Scope and Prelim. Cost Est.'!AB92,\"\")","v":""},{"$f":"IF('Scope and Prelim. Cost Est.'!AC92<>\"\",'Scope and Prelim. Cost Est.'!AC92,\"\")","v":""},{"$f":"IF('Scope and Prelim. Cost Est.'!AD92<>\"\",'Scope and Prelim. Cost Est.'!AD92,\"\")","v":""},{"$f":"IF('Scope and Prelim. Cost Est.'!AE92<>\"\",'Scope and Prelim. Cost Est.'!AE92,\"\")","v":""},{"$f":"IF('Scope and Prelim. Cost Est.'!AF92<>\"\",'Scope and Prelim. Cost Est.'!AF92,\"\")","v":""},{"$f":"IF('Scope and Prelim. Cost Est.'!AG92<>\"\",'Scope and Prelim. Cost Est.'!AG92,\"\")","v":""},{"$f":"IF('Scope and Prelim. Cost Est.'!AH92<>\"\",'Scope and Prelim. Cost Est.'!AH92,\"\")","v":""}]
[null,{"$f":"IF('Scope and Prelim. Cost Est.'!B93<>\"\",'Scope and Prelim. Cost Est.'!B93,\"\")","v":""},{"$f":"IF('Scope and Prelim. Cost Est.'!C93<>\"\",'Scope and Prelim. Cost Est.'!C93,\"\")","v":""},{"$f":"IF('Scope and Prelim. Cost Est.'!D93<>\"\",'Scope and Prelim. Cost Est.'!D93,\"\")","v":""},{"$f":"IF('Scope and Prelim. Cost Est.'!E93<>\"\",'Scope and Prelim. Cost Est.'!E93,\"\")","v":""},{"$f":"IF('Scope and Prelim. Cost Est.'!F93<>\"\",'Scope and Prelim. Cost Est.'!F93,\"\")","v":""},{"$f":"IF('Scope and Prelim. Cost Est.'!G93<>\"\",'Scope and Prelim. Cost Est.'!G93,\"\")","v":""},{"$f":"IF('Scope and Prelim. Cost Est.'!H93<>\"\",'Scope and Prelim. Cost Est.'!H93,\"\")","v":""},{"$f":"IF('Scope and Prelim. Cost Est.'!I93<>\"\",'Scope and Prelim. Cost Est.'!I93,\"\")","v":""},{"$f":"IF('Scope and Prelim. Cost Est.'!J93<>\"\",'Scope and Prelim. Cost Est.'!J93,\"\")","v":""},{"$f":"IF('Scope and Prelim. Cost Est.'!K93<>\"\",'Scope and Prelim. Cost Est.'!K93,\"\")","v":""},{"$f":"IF('Scope and Prelim. Cost Est.'!L93<>\"\",'Scope and Prelim. Cost Est.'!L93,\"\")","v":""},"",{"$f":"IF('Scope and Prelim. Cost Est.'!M93<>\"\",'Scope and Prelim. Cost Est.'!M93,\"\")","v":""},{"$f":"IF('Scope and Prelim. Cost Est.'!N93<>\"\",'Scope and Prelim. Cost Est.'!N93,\"\")","v":""},{"$f":"IF('Scope and Prelim. Cost Est.'!O93<>\"\",'Scope and Prelim. Cost Est.'!O93,\"\")","v":""},{"$f":"IF('Scope and Prelim. Cost Est.'!P93<>\"\",'Scope and Prelim. Cost Est.'!P93,\"\")","v":0},null,null,{"$f":"IF('Scope and Prelim. Cost Est.'!B93<>\"\",'Scope and Prelim. Cost Est.'!B93,\"\")","v":""},{"$f":"IF('Scope and Prelim. Cost Est.'!C93<>\"\",'Scope and Prelim. Cost Est.'!C93,\"\")","v":""},{"$f":"IF('Scope and Prelim. Cost Est.'!Q93<>\"\",'Scope and Prelim. Cost Est.'!Q93,\"\")","v":""},{"$f":"IF('Scope and Prelim. Cost Est.'!R93<>\"\",'Scope and Prelim. Cost Est.'!R93,\"\")","v":""},{"$f":"IF('Scope and Prelim. Cost Est.'!S93<>\"\",'Scope and Prelim. Cost Est.'!S93,\"\")","v":""},{"$f":"IF('Scope and Prelim. Cost Est.'!T93<>\"\",'Scope and Prelim. Cost Est.'!T93,\"\")","v":""},{"$f":"IF('Scope and Prelim. Cost Est.'!U93<>\"\",'Scope and Prelim. Cost Est.'!U93,\"\")","v":""},{"$f":"IF('Scope and Prelim. Cost Est.'!V93<>\"\",'Scope and Prelim. Cost Est.'!V93,\"\")","v":""},{"$f":"IF('Scope and Prelim. Cost Est.'!W93<>\"\",'Scope and Prelim. Cost Est.'!W93,\"\")","v":""},{"$f":"IF('Scope and Prelim. Cost Est.'!X93<>\"\",'Scope and Prelim. Cost Est.'!X93,\"\")","v":""},{"$f":"IF('Scope and Prelim. Cost Est.'!Y93<>\"\",'Scope and Prelim. Cost Est.'!Y93,\"\")","v":""},{"$f":"IF('Scope and Prelim. Cost Est.'!Z93<>\"\",'Scope and Prelim. Cost Est.'!Z93,\"\")","v":""},{"$f":"IF('Scope and Prelim. Cost Est.'!AA93<>\"\",'Scope and Prelim. Cost Est.'!AA93,\"\")","v":""},"",{"$f":"IF('Scope and Prelim. Cost Est.'!AB93<>\"\",'Scope and Prelim. Cost Est.'!AB93,\"\")","v":""},{"$f":"IF('Scope and Prelim. Cost Est.'!AC93<>\"\",'Scope and Prelim. Cost Est.'!AC93,\"\")","v":""},{"$f":"IF('Scope and Prelim. Cost Est.'!AD93<>\"\",'Scope and Prelim. Cost Est.'!AD93,\"\")","v":""},{"$f":"IF('Scope and Prelim. Cost Est.'!AE93<>\"\",'Scope and Prelim. Cost Est.'!AE93,\"\")","v":""},{"$f":"IF('Scope and Prelim. Cost Est.'!AF93<>\"\",'Scope and Prelim. Cost Est.'!AF93,\"\")","v":""},{"$f":"IF('Scope and Prelim. Cost Est.'!AG93<>\"\",'Scope and Prelim. Cost Est.'!AG93,\"\")","v":""},{"$f":"IF('Scope and Prelim. Cost Est.'!AH93<>\"\",'Scope and Prelim. Cost Est.'!AH93,\"\")","v":""}]
[null,{"$f":"IF('Scope and Prelim. Cost Est.'!B94<>\"\",'Scope and Prelim. Cost Est.'!B94,\"\")","v":""},{"$f":"IF('Scope and Prelim. Cost Est.'!C94<>\"\",'Scope and Prelim. Cost Est.'!C94,\"\")","v":""},{"$f":"IF('Scope and Prelim. Cost Est.'!D94<>\"\",'Scope and Prelim. Cost Est.'!D94,\"\")","v":""},{"$f":"IF('Scope and Prelim. Cost Est.'!E94<>\"\",'Scope and Prelim. Cost Est.'!E94,\"\")","v":""},{"$f":"IF('Scope and Prelim. Cost Est.'!F94<>\"\",'Scope and Prelim. Cost Est.'!F94,\"\")","v":""},{"$f":"IF('Scope and Prelim. Cost Est.'!G94<>\"\",'Scope and Prelim. Cost Est.'!G94,\"\")","v":""},{"$f":"IF('Scope and Prelim. Cost Est.'!H94<>\"\",'Scope and Prelim. Cost Est.'!H94,\"\")","v":""},{"$f":"IF('Scope and Prelim. Cost Est.'!I94<>\"\",'Scope and Prelim. Cost Est.'!I94,\"\")","v":""},{"$f":"IF('Scope and Prelim. Cost Est.'!J94<>\"\",'Scope and Prelim. Cost Est.'!J94,\"\")","v":""},{"$f":"IF('Scope and Prelim. Cost Est.'!K94<>\"\",'Scope and Prelim. Cost Est.'!K94,\"\")","v":""},{"$f":"IF('Scope and Prelim. Cost Est.'!L94<>\"\",'Scope and Prelim. Cost Est.'!L94,\"\")","v":""},"",{"$f":"IF('Scope and Prelim. Cost Est.'!M94<>\"\",'Scope and Prelim. Cost Est.'!M94,\"\")","v":""},{"$f":"IF('Scope and Prelim. Cost Est.'!N94<>\"\",'Scope and Prelim. Cost Est.'!N94,\"\")","v":""},{"$f":"IF('Scope and Prelim. Cost Est.'!O94<>\"\",'Scope and Prelim. Cost Est.'!O94,\"\")","v":""},{"$f":"IF('Scope and Prelim. Cost Est.'!P94<>\"\",'Scope and Prelim. Cost Est.'!P94,\"\")","v":0},null,null,{"$f":"IF('Scope and Prelim. Cost Est.'!B94<>\"\",'Scope and Prelim. Cost Est.'!B94,\"\")","v":""},{"$f":"IF('Scope and Prelim. Cost Est.'!C94<>\"\",'Scope and Prelim. Cost Est.'!C94,\"\")","v":""},{"$f":"IF('Scope and Prelim. Cost Est.'!Q94<>\"\",'Scope and Prelim. Cost Est.'!Q94,\"\")","v":""},{"$f":"IF('Scope and Prelim. Cost Est.'!R94<>\"\",'Scope and Prelim. Cost Est.'!R94,\"\")","v":""},{"$f":"IF('Scope and Prelim. Cost Est.'!S94<>\"\",'Scope and Prelim. Cost Est.'!S94,\"\")","v":""},{"$f":"IF('Scope and Prelim. Cost Est.'!T94<>\"\",'Scope and Prelim. Cost Est.'!T94,\"\")","v":""},{"$f":"IF('Scope and Prelim. Cost Est.'!U94<>\"\",'Scope and Prelim. Cost Est.'!U94,\"\")","v":""},{"$f":"IF('Scope and Prelim. Cost Est.'!V94<>\"\",'Scope and Prelim. Cost Est.'!V94,\"\")","v":""},{"$f":"IF('Scope and Prelim. Cost Est.'!W94<>\"\",'Scope and Prelim. Cost Est.'!W94,\"\")","v":""},{"$f":"IF('Scope and Prelim. Cost Est.'!X94<>\"\",'Scope and Prelim. Cost Est.'!X94,\"\")","v":""},{"$f":"IF('Scope and Prelim. Cost Est.'!Y94<>\"\",'Scope and Prelim. Cost Est.'!Y94,\"\")","v":""},{"$f":"IF('Scope and Prelim. Cost Est.'!Z94<>\"\",'Scope and Prelim. Cost Est.'!Z94,\"\")","v":""},{"$f":"IF('Scope and Prelim. Cost Est.'!AA94<>\"\",'Scope and Prelim. Cost Est.'!AA94,\"\")","v":""},"",{"$f":"IF('Scope and Prelim. Cost Est.'!AB94<>\"\",'Scope and Prelim. Cost Est.'!AB94,\"\")","v":""},{"$f":"IF('Scope and Prelim. Cost Est.'!AC94<>\"\",'Scope and Prelim. Cost Est.'!AC94,\"\")","v":""},{"$f":"IF('Scope and Prelim. Cost Est.'!AD94<>\"\",'Scope and Prelim. Cost Est.'!AD94,\"\")","v":""},{"$f":"IF('Scope and Prelim. Cost Est.'!AE94<>\"\",'Scope and Prelim. Cost Est.'!AE94,\"\")","v":""},{"$f":"IF('Scope and Prelim. Cost Est.'!AF94<>\"\",'Scope and Prelim. Cost Est.'!AF94,\"\")","v":""},{"$f":"IF('Scope and Prelim. Cost Est.'!AG94<>\"\",'Scope and Prelim. Cost Est.'!AG94,\"\")","v":""},{"$f":"IF('Scope and Prelim. Cost Est.'!AH94<>\"\",'Scope and Prelim. Cost Est.'!AH94,\"\")","v":""}]
[null,{"$f":"IF('Scope and Prelim. Cost Est.'!B95<>\"\",'Scope and Prelim. Cost Est.'!B95,\"\")","v":""},{"$f":"IF('Scope and Prelim. Cost Est.'!C95<>\"\",'Scope and Prelim. Cost Est.'!C95,\"\")","v":""},{"$f":"IF('Scope and Prelim. Cost Est.'!D95<>\"\",'Scope and Prelim. Cost Est.'!D95,\"\")","v":""},{"$f":"IF('Scope and Prelim. Cost Est.'!E95<>\"\",'Scope and Prelim. Cost Est.'!E95,\"\")","v":""},{"$f":"IF('Scope and Prelim. Cost Est.'!F95<>\"\",'Scope and Prelim. Cost Est.'!F95,\"\")","v":""},{"$f":"IF('Scope and Prelim. Cost Est.'!G95<>\"\",'Scope and Prelim. Cost Est.'!G95,\"\")","v":""},{"$f":"IF('Scope and Prelim. Cost Est.'!H95<>\"\",'Scope and Prelim. Cost Est.'!H95,\"\")","v":""},{"$f":"IF('Scope and Prelim. Cost Est.'!I95<>\"\",'Scope and Prelim. Cost Est.'!I95,\"\")","v":""},{"$f":"IF('Scope and Prelim. Cost Est.'!J95<>\"\",'Scope and Prelim. Cost Est.'!J95,\"\")","v":""},{"$f":"IF('Scope and Prelim. Cost Est.'!K95<>\"\",'Scope and Prelim. Cost Est.'!K95,\"\")","v":""},{"$f":"IF('Scope and Prelim. Cost Est.'!L95<>\"\",'Scope and Prelim. Cost Est.'!L95,\"\")","v":""},"",{"$f":"IF('Scope and Prelim. Cost Est.'!M95<>\"\",'Scope and Prelim. Cost Est.'!M95,\"\")","v":""},{"$f":"IF('Scope and Prelim. Cost Est.'!N95<>\"\",'Scope and Prelim. Cost Est.'!N95,\"\")","v":""},{"$f":"IF('Scope and Prelim. Cost Est.'!O95<>\"\",'Scope and Prelim. Cost Est.'!O95,\"\")","v":""},{"$f":"IF('Scope and Prelim. Cost Est.'!P95<>\"\",'Scope and Prelim. Cost Est.'!P95,\"\")","v":0},null,null,{"$f":"IF('Scope and Prelim. Cost Est.'!B95<>\"\",'Scope and Prelim. Cost Est.'!B95,\"\")","v":""},{"$f":"IF('Scope and Prelim. Cost Est.'!C95<>\"\",'Scope and Prelim. Cost Est.'!C95,\"\")","v":""},{"$f":"IF('Scope and Prelim. Cost Est.'!Q95<>\"\",'Scope and Prelim. Cost Est.'!Q95,\"\")","v":""},{"$f":"IF('Scope and Prelim. Cost Est.'!R95<>\"\",'Scope and Prelim. Cost Est.'!R95,\"\")","v":""},{"$f":"IF('Scope and Prelim. Cost Est.'!S95<>\"\",'Scope and Prelim. Cost Est.'!S95,\"\")","v":""},{"$f":"IF('Scope and Prelim. Cost Est.'!T95<>\"\",'Scope and Prelim. Cost Est.'!T95,\"\")","v":""},{"$f":"IF('Scope and Prelim. Cost Est.'!U95<>\"\",'Scope and Prelim. Cost Est.'!U95,\"\")","v":""},{"$f":"IF('Scope and Prelim. Cost Est.'!V95<>\"\",'Scope and Prelim. Cost Est.'!V95,\"\")","v":""},{"$f":"IF('Scope and Prelim. Cost Est.'!W95<>\"\",'Scope and Prelim. Cost Est.'!W95,\"\")","v":""},{"$f":"IF('Scope and Prelim. Cost Est.'!X95<>\"\",'Scope and Prelim. Cost Est.'!X95,\"\")","v":""},{"$f":"IF('Scope and Prelim. Cost Est.'!Y95<>\"\",'Scope and Prelim. Cost Est.'!Y95,\"\")","v":""},{"$f":"IF('Scope and Prelim. Cost Est.'!Z95<>\"\",'Scope and Prelim. Cost Est.'!Z95,\"\")","v":""},{"$f":"IF('Scope and Prelim. Cost Est.'!AA95<>\"\",'Scope and Prelim. Cost Est.'!AA95,\"\")","v":""},"",{"$f":"IF('Scope and Prelim. Cost Est.'!AB95<>\"\",'Scope and Prelim. Cost Est.'!AB95,\"\")","v":""},{"$f":"IF('Scope and Prelim. Cost Est.'!AC95<>\"\",'Scope and Prelim. Cost Est.'!AC95,\"\")","v":""},{"$f":"IF('Scope and Prelim. Cost Est.'!AD95<>\"\",'Scope and Prelim. Cost Est.'!AD95,\"\")","v":""},{"$f":"IF('Scope and Prelim. Cost Est.'!AE95<>\"\",'Scope and Prelim. Cost Est.'!AE95,\"\")","v":""},{"$f":"IF('Scope and Prelim. Cost Est.'!AF95<>\"\",'Scope and Prelim. Cost Est.'!AF95,\"\")","v":""},{"$f":"IF('Scope and Prelim. Cost Est.'!AG95<>\"\",'Scope and Prelim. Cost Est.'!AG95,\"\")","v":""},{"$f":"IF('Scope and Prelim. Cost Est.'!AH95<>\"\",'Scope and Prelim. Cost Est.'!AH95,\"\")","v":""}]
[]
[null,"Measure Name","Measure Description","Important Assumptions (cont.)","Scope Area\n(cont.)","Energy Efficiency Measure?\n(cont.)","Measure Category\n(cont.)","Measure Classification\n(cont.)","Urgency\n(cont.)","Measure Type\n(cont.)","Unit Type\n{Default}","Unit Type {user entry}","Unit Type\n(cont.)","Qty\n(cont.)","Cost Per Unit\n(cont.)","Cost Source (e.g. 2017 R.S. Means, contractor quote, etc.)\n(cont.)","Total Cost \n(cont.)",null,null,"Measure Name\n(cont.)","Measure Description\n(cont.)","Projected Annual Electricity Savings\n (kWh/yr)\nCooling","Projected Annual Electricity Savings\n (kWh/yr)\nNon-Cooling","Project Annual Fuel Savings (MMBtu/yr)\n Heating","Project Annual Fuel Savings (MMBtu/yr)\nNon-Heating","Affected Fuel (for MMBtu Savings)","Projected Annual Cost Savings \n($/yr)","SIR","Simple Payback","Savings Accrue to Tenants?","Measure Life (years)\n{Default}","Measure Life \n(years) \n{user entry}","Measure Life","Full or Incremental Savings","Existing Equipment Year of Manufacture","Projected Annual Water Savings (gal/yr)","Potential Health Benefit Impact ","Incentive #1","Incentive #2","Incentive # 3"]
[null,{"$f":"IF('Scope and Prelim. Cost Est.'!B96<>\"\",'Scope and Prelim. Cost Est.'!B96,\"\")","v":""},{"$f":"IF('Scope and Prelim. Cost Est.'!C96<>\"\",'Scope and Prelim. Cost Est.'!C96,\"\")","v":""},{"$f":"IF('Scope and Prelim. Cost Est.'!D96<>\"\",'Scope and Prelim. Cost Est.'!D96,\"\")","v":""},{"$f":"IF('Scope and Prelim. Cost Est.'!E96<>\"\",'Scope and Prelim. Cost Est.'!E96,\"\")","v":""},{"$f":"IF('Scope and Prelim. Cost Est.'!F96<>\"\",'Scope and Prelim. Cost Est.'!F96,\"\")","v":""},{"$f":"IF('Scope and Prelim. Cost Est.'!G96<>\"\",'Scope and Prelim. Cost Est.'!G96,\"\")","v":""},{"$f":"IF('Scope and Prelim. Cost Est.'!H96<>\"\",'Scope and Prelim. Cost Est.'!H96,\"\")","v":""},{"$f":"IF('Scope and Prelim. Cost Est.'!I96<>\"\",'Scope and Prelim. Cost Est.'!I96,\"\")","v":""},{"$f":"IF('Scope and Prelim. Cost Est.'!J96<>\"\",'Scope and Prelim. Cost Est.'!J96,\"\")","v":""},{"$f":"IF('Scope and Prelim. Cost Est.'!K96<>\"\",'Scope and Prelim. Cost Est.'!K96,\"\")","v":""},{"$f":"IF('Scope and Prelim. Cost Est.'!L96<>\"\",'Scope and Prelim. Cost Est.'!L96,\"\")","v":""},"",{"$f":"IF('Scope and Prelim. Cost Est.'!M96<>\"\",'Scope and Prelim. Cost Est.'!M96,\"\")","v":""},{"$f":"IF('Scope and Prelim. Cost Est.'!N96<>\"\",'Scope and Prelim. Cost Est.'!N96,\"\")","v":""},{"$f":"IF('Scope and Prelim. Cost Est.'!O96<>\"\",'Scope and Prelim. Cost Est.'!O96,\"\")","v":""},{"$f":"IF('Scope and Prelim. Cost Est.'!P96<>\"\",'Scope and Prelim. Cost Est.'!P96,\"\")","v":0},null,null,{"$f":"IF('Scope and Prelim. Cost Est.'!B96<>\"\",'Scope and Prelim. Cost Est.'!B96,\"\")","v":""},{"$f":"IF('Scope and Prelim. Cost Est.'!C96<>\"\",'Scope and Prelim. Cost Est.'!C96,\"\")","v":""},{"$f":"IF('Scope and Prelim. Cost Est.'!Q96<>\"\",'Scope and Prelim. Cost Est.'!Q96,\"\")","v":""},{"$f":"IF('Scope and Prelim. Cost Est.'!R96<>\"\",'Scope and Prelim. Cost Est.'!R96,\"\")","v":""},{"$f":"IF('Scope and Prelim. Cost Est.'!S96<>\"\",'Scope and Prelim. Cost Est.'!S96,\"\")","v":""},{"$f":"IF('Scope and Prelim. Cost Est.'!T96<>\"\",'Scope and Prelim. Cost Est.'!T96,\"\")","v":""},{"$f":"IF('Scope and Prelim. Cost Est.'!U96<>\"\",'Scope and Prelim. Cost Est.'!U96,\"\")","v":""},{"$f":"IF('Scope and Prelim. Cost Est.'!V96<>\"\",'Scope and Prelim. Cost Est.'!V96,\"\")","v":""},{"$f":"IF('Scope and Prelim. Cost Est.'!W96<>\"\",'Scope and Prelim. Cost Est.'!W96,\"\")","v":""},{"$f":"IF('Scope and Prelim. Cost Est.'!X96<>\"\",'Scope and Prelim. Cost Est.'!X96,\"\")","v":""},{"$f":"IF('Scope and Prelim. Cost Est.'!Y96<>\"\",'Scope and Prelim. Cost Est.'!Y96,\"\")","v":""},{"$f":"IF('Scope and Prelim. Cost Est.'!Z96<>\"\",'Scope and Prelim. Cost Est.'!Z96,\"\")","v":""},{"$f":"IF('Scope and Prelim. Cost Est.'!AA96<>\"\",'Scope and Prelim. Cost Est.'!AA96,\"\")","v":""},"",{"$f":"IF('Scope and Prelim. Cost Est.'!AB96<>\"\",'Scope and Prelim. Cost Est.'!AB96,\"\")","v":""},{"$f":"IF('Scope and Prelim. Cost Est.'!AC96<>\"\",'Scope and Prelim. Cost Est.'!AC96,\"\")","v":""},{"$f":"IF('Scope and Prelim. Cost Est.'!AD96<>\"\",'Scope and Prelim. Cost Est.'!AD96,\"\")","v":""},{"$f":"IF('Scope and Prelim. Cost Est.'!AE96<>\"\",'Scope and Prelim. Cost Est.'!AE96,\"\")","v":""},{"$f":"IF('Scope and Prelim. Cost Est.'!AF96<>\"\",'Scope and Prelim. Cost Est.'!AF96,\"\")","v":""},{"$f":"IF('Scope and Prelim. Cost Est.'!AG96<>\"\",'Scope and Prelim. Cost Est.'!AG96,\"\")","v":""},{"$f":"IF('Scope and Prelim. Cost Est.'!AH96<>\"\",'Scope and Prelim. Cost Est.'!AH96,\"\")","v":""}]
[null,{"$f":"IF('Scope and Prelim. Cost Est.'!B97<>\"\",'Scope and Prelim. Cost Est.'!B97,\"\")","v":""},{"$f":"IF('Scope and Prelim. Cost Est.'!C97<>\"\",'Scope and Prelim. Cost Est.'!C97,\"\")","v":""},{"$f":"IF('Scope and Prelim. Cost Est.'!D97<>\"\",'Scope and Prelim. Cost Est.'!D97,\"\")","v":""},{"$f":"IF('Scope and Prelim. Cost Est.'!E97<>\"\",'Scope and Prelim. Cost Est.'!E97,\"\")","v":""},{"$f":"IF('Scope and Prelim. Cost Est.'!F97<>\"\",'Scope and Prelim. Cost Est.'!F97,\"\")","v":""},{"$f":"IF('Scope and Prelim. Cost Est.'!G97<>\"\",'Scope and Prelim. Cost Est.'!G97,\"\")","v":""},{"$f":"IF('Scope and Prelim. Cost Est.'!H97<>\"\",'Scope and Prelim. Cost Est.'!H97,\"\")","v":""},{"$f":"IF('Scope and Prelim. Cost Est.'!I97<>\"\",'Scope and Prelim. Cost Est.'!I97,\"\")","v":""},{"$f":"IF('Scope and Prelim. Cost Est.'!J97<>\"\",'Scope and Prelim. Cost Est.'!J97,\"\")","v":""},{"$f":"IF('Scope and Prelim. Cost Est.'!K97<>\"\",'Scope and Prelim. Cost Est.'!K97,\"\")","v":""},{"$f":"IF('Scope and Prelim. Cost Est.'!L97<>\"\",'Scope and Prelim. Cost Est.'!L97,\"\")","v":""},"",{"$f":"IF('Scope and Prelim. Cost Est.'!M97<>\"\",'Scope and Prelim. Cost Est.'!M97,\"\")","v":""},{"$f":"IF('Scope and Prelim. Cost Est.'!N97<>\"\",'Scope and Prelim. Cost Est.'!N97,\"\")","v":""},{"$f":"IF('Scope and Prelim. Cost Est.'!O97<>\"\",'Scope and Prelim. Cost Est.'!O97,\"\")","v":""},{"$f":"IF('Scope and Prelim. Cost Est.'!P97<>\"\",'Scope and Prelim. Cost Est.'!P97,\"\")","v":0},null,null,{"$f":"IF('Scope and Prelim. Cost Est.'!B97<>\"\",'Scope and Prelim. Cost Est.'!B97,\"\")","v":""},{"$f":"IF('Scope and Prelim. Cost Est.'!C97<>\"\",'Scope and Prelim. Cost Est.'!C97,\"\")","v":""},{"$f":"IF('Scope and Prelim. Cost Est.'!Q97<>\"\",'Scope and Prelim. Cost Est.'!Q97,\"\")","v":""},{"$f":"IF('Scope and Prelim. Cost Est.'!R97<>\"\",'Scope and Prelim. Cost Est.'!R97,\"\")","v":""},{"$f":"IF('Scope and Prelim. Cost Est.'!S97<>\"\",'Scope and Prelim. Cost Est.'!S97,\"\")","v":""},{"$f":"IF('Scope and Prelim. Cost Est.'!T97<>\"\",'Scope and Prelim. Cost Est.'!T97,\"\")","v":""},{"$f":"IF('Scope and Prelim. Cost Est.'!U97<>\"\",'Scope and Prelim. Cost Est.'!U97,\"\")","v":""},{"$f":"IF('Scope and Prelim. Cost Est.'!V97<>\"\",'Scope and Prelim. Cost Est.'!V97,\"\")","v":""},{"$f":"IF('Scope and Prelim. Cost Est.'!W97<>\"\",'Scope and Prelim. Cost Est.'!W97,\"\")","v":""},{"$f":"IF('Scope and Prelim. Cost Est.'!X97<>\"\",'Scope and Prelim. Cost Est.'!X97,\"\")","v":""},{"$f":"IF('Scope and Prelim. Cost Est.'!Y97<>\"\",'Scope and Prelim. Cost Est.'!Y97,\"\")","v":""},{"$f":"IF('Scope and Prelim. Cost Est.'!Z97<>\"\",'Scope and Prelim. Cost Est.'!Z97,\"\")","v":""},{"$f":"IF('Scope and Prelim. Cost Est.'!AA97<>\"\",'Scope and Prelim. Cost Est.'!AA97,\"\")","v":""},"",{"$f":"IF('Scope and Prelim. Cost Est.'!AB97<>\"\",'Scope and Prelim. Cost Est.'!AB97,\"\")","v":""},{"$f":"IF('Scope and Prelim. Cost Est.'!AC97<>\"\",'Scope and Prelim. Cost Est.'!AC97,\"\")","v":""},{"$f":"IF('Scope and Prelim. Cost Est.'!AD97<>\"\",'Scope and Prelim. Cost Est.'!AD97,\"\")","v":""},{"$f":"IF('Scope and Prelim. Cost Est.'!AE97<>\"\",'Scope and Prelim. Cost Est.'!AE97,\"\")","v":""},{"$f":"IF('Scope and Prelim. Cost Est.'!AF97<>\"\",'Scope and Prelim. Cost Est.'!AF97,\"\")","v":""},{"$f":"IF('Scope and Prelim. Cost Est.'!AG97<>\"\",'Scope and Prelim. Cost Est.'!AG97,\"\")","v":""},{"$f":"IF('Scope and Prelim. Cost Est.'!AH97<>\"\",'Scope and Prelim. Cost Est.'!AH97,\"\")","v":""}]
[null,{"$f":"IF('Scope and Prelim. Cost Est.'!B98<>\"\",'Scope and Prelim. Cost Est.'!B98,\"\")","v":""},{"$f":"IF('Scope and Prelim. Cost Est.'!C98<>\"\",'Scope and Prelim. Cost Est.'!C98,\"\")","v":""},{"$f":"IF('Scope and Prelim. Cost Est.'!D98<>\"\",'Scope and Prelim. Cost Est.'!D98,\"\")","v":""},{"$f":"IF('Scope and Prelim. Cost Est.'!E98<>\"\",'Scope and Prelim. Cost Est.'!E98,\"\")","v":""},{"$f":"IF('Scope and Prelim. Cost Est.'!F98<>\"\",'Scope and Prelim. Cost Est.'!F98,\"\")","v":""},{"$f":"IF('Scope and Prelim. Cost Est.'!G98<>\"\",'Scope and Prelim. Cost Est.'!G98,\"\")","v":""},{"$f":"IF('Scope and Prelim. Cost Est.'!H98<>\"\",'Scope and Prelim. Cost Est.'!H98,\"\")","v":""},{"$f":"IF('Scope and Prelim. Cost Est.'!I98<>\"\",'Scope and Prelim. Cost Est.'!I98,\"\")","v":""},{"$f":"IF('Scope and Prelim. Cost Est.'!J98<>\"\",'Scope and Prelim. Cost Est.'!J98,\"\")","v":""},{"$f":"IF('Scope and Prelim. Cost Est.'!K98<>\"\",'Scope and Prelim. Cost Est.'!K98,\"\")","v":""},{"$f":"IF('Scope and Prelim. Cost Est.'!L98<>\"\",'Scope and Prelim. Cost Est.'!L98,\"\")","v":""},"",{"$f":"IF('Scope and Prelim. Cost Est.'!M98<>\"\",'Scope and Prelim. Cost Est.'!M98,\"\")","v":""},{"$f":"IF('Scope and Prelim. Cost Est.'!N98<>\"\",'Scope and Prelim. Cost Est.'!N98,\"\")","v":""},{"$f":"IF('Scope and Prelim. Cost Est.'!O98<>\"\",'Scope and Prelim. Cost Est.'!O98,\"\")","v":""},{"$f":"IF('Scope and Prelim. Cost Est.'!P98<>\"\",'Scope and Prelim. Cost Est.'!P98,\"\")","v":0},null,null,{"$f":"IF('Scope and Prelim. Cost Est.'!B98<>\"\",'Scope and Prelim. Cost Est.'!B98,\"\")","v":""},{"$f":"IF('Scope and Prelim. Cost Est.'!C98<>\"\",'Scope and Prelim. Cost Est.'!C98,\"\")","v":""},{"$f":"IF('Scope and Prelim. Cost Est.'!Q98<>\"\",'Scope and Prelim. Cost Est.'!Q98,\"\")","v":""},{"$f":"IF('Scope and Prelim. Cost Est.'!R98<>\"\",'Scope and Prelim. Cost Est.'!R98,\"\")","v":""},{"$f":"IF('Scope and Prelim. Cost Est.'!S98<>\"\",'Scope and Prelim. Cost Est.'!S98,\"\")","v":""},{"$f":"IF('Scope and Prelim. Cost Est.'!T98<>\"\",'Scope and Prelim. Cost Est.'!T98,\"\")","v":""},{"$f":"IF('Scope and Prelim. Cost Est.'!U98<>\"\",'Scope and Prelim. Cost Est.'!U98,\"\")","v":""},{"$f":"IF('Scope and Prelim. Cost Est.'!V98<>\"\",'Scope and Prelim. Cost Est.'!V98,\"\")","v":""},{"$f":"IF('Scope and Prelim. Cost Est.'!W98<>\"\",'Scope and Prelim. Cost Est.'!W98,\"\")","v":""},{"$f":"IF('Scope and Prelim. Cost Est.'!X98<>\"\",'Scope and Prelim. Cost Est.'!X98,\"\")","v":""},{"$f":"IF('Scope and Prelim. Cost Est.'!Y98<>\"\",'Scope and Prelim. Cost Est.'!Y98,\"\")","v":""},{"$f":"IF('Scope and Prelim. Cost Est.'!Z98<>\"\",'Scope and Prelim. Cost Est.'!Z98,\"\")","v":""},{"$f":"IF('Scope and Prelim. Cost Est.'!AA98<>\"\",'Scope and Prelim. Cost Est.'!AA98,\"\")","v":""},"",{"$f":"IF('Scope and Prelim. Cost Est.'!AB98<>\"\",'Scope and Prelim. Cost Est.'!AB98,\"\")","v":""},{"$f":"IF('Scope and Prelim. Cost Est.'!AC98<>\"\",'Scope and Prelim. Cost Est.'!AC98,\"\")","v":""},{"$f":"IF('Scope and Prelim. Cost Est.'!AD98<>\"\",'Scope and Prelim. Cost Est.'!AD98,\"\")","v":""},{"$f":"IF('Scope and Prelim. Cost Est.'!AE98<>\"\",'Scope and Prelim. Cost Est.'!AE98,\"\")","v":""},{"$f":"IF('Scope and Prelim. Cost Est.'!AF98<>\"\",'Scope and Prelim. Cost Est.'!AF98,\"\")","v":""},{"$f":"IF('Scope and Prelim. Cost Est.'!AG98<>\"\",'Scope and Prelim. Cost Est.'!AG98,\"\")","v":""},{"$f":"IF('Scope and Prelim. Cost Est.'!AH98<>\"\",'Scope and Prelim. Cost Est.'!AH98,\"\")","v":""}]
[null,{"$f":"IF('Scope and Prelim. Cost Est.'!B99<>\"\",'Scope and Prelim. Cost Est.'!B99,\"\")","v":""},{"$f":"IF('Scope and Prelim. Cost Est.'!C99<>\"\",'Scope and Prelim. Cost Est.'!C99,\"\")","v":""},{"$f":"IF('Scope and Prelim. Cost Est.'!D99<>\"\",'Scope and Prelim. Cost Est.'!D99,\"\")","v":""},{"$f":"IF('Scope and Prelim. Cost Est.'!E99<>\"\",'Scope and Prelim. Cost Est.'!E99,\"\")","v":""},{"$f":"IF('Scope and Prelim. Cost Est.'!F99<>\"\",'Scope and Prelim. Cost Est.'!F99,\"\")","v":""},{"$f":"IF('Scope and Prelim. Cost Est.'!G99<>\"\",'Scope and Prelim. Cost Est.'!G99,\"\")","v":""},{"$f":"IF('Scope and Prelim. Cost Est.'!H99<>\"\",'Scope and Prelim. Cost Est.'!H99,\"\")","v":""},{"$f":"IF('Scope and Prelim. Cost Est.'!I99<>\"\",'Scope and Prelim. Cost Est.'!I99,\"\")","v":""},{"$f":"IF('Scope and Prelim. Cost Est.'!J99<>\"\",'Scope and Prelim. Cost Est.'!J99,\"\")","v":""},{"$f":"IF('Scope and Prelim. Cost Est.'!K99<>\"\",'Scope and Prelim. Cost Est.'!K99,\"\")","v":""},{"$f":"IF('Scope and Prelim. Cost Est.'!L99<>\"\",'Scope and Prelim. Cost Est.'!L99,\"\")","v":""},"",{"$f":"IF('Scope and Prelim. Cost Est.'!M99<>\"\",'Scope and Prelim. Cost Est.'!M99,\"\")","v":""},{"$f":"IF('Scope and Prelim. Cost Est.'!N99<>\"\",'Scope and Prelim. Cost Est.'!N99,\"\")","v":""},{"$f":"IF('Scope and Prelim. Cost Est.'!O99<>\"\",'Scope and Prelim. Cost Est.'!O99,\"\")","v":""},{"$f":"IF('Scope and Prelim. Cost Est.'!P99<>\"\",'Scope and Prelim. Cost Est.'!P99,\"\")","v":0},null,null,{"$f":"IF('Scope and Prelim. Cost Est.'!B99<>\"\",'Scope and Prelim. Cost Est.'!B99,\"\")","v":""},{"$f":"IF('Scope and Prelim. Cost Est.'!C99<>\"\",'Scope and Prelim. Cost Est.'!C99,\"\")","v":""},{"$f":"IF('Scope and Prelim. Cost Est.'!Q99<>\"\",'Scope and Prelim. Cost Est.'!Q99,\"\")","v":""},{"$f":"IF('Scope and Prelim. Cost Est.'!R99<>\"\",'Scope and Prelim. Cost Est.'!R99,\"\")","v":""},{"$f":"IF('Scope and Prelim. Cost Est.'!S99<>\"\",'Scope and Prelim. Cost Est.'!S99,\"\")","v":""},{"$f":"IF('Scope and Prelim. Cost Est.'!T99<>\"\",'Scope and Prelim. Cost Est.'!T99,\"\")","v":""},{"$f":"IF('Scope and Prelim. Cost Est.'!U99<>\"\",'Scope and Prelim. Cost Est.'!U99,\"\")","v":""},{"$f":"IF('Scope and Prelim. Cost Est.'!V99<>\"\",'Scope and Prelim. Cost Est.'!V99,\"\")","v":""},{"$f":"IF('Scope and Prelim. Cost Est.'!W99<>\"\",'Scope and Prelim. Cost Est.'!W99,\"\")","v":""},{"$f":"IF('Scope and Prelim. Cost Est.'!X99<>\"\",'Scope and Prelim. Cost Est.'!X99,\"\")","v":""},{"$f":"IF('Scope and Prelim. Cost Est.'!Y99<>\"\",'Scope and Prelim. Cost Est.'!Y99,\"\")","v":""},{"$f":"IF('Scope and Prelim. Cost Est.'!Z99<>\"\",'Scope and Prelim. Cost Est.'!Z99,\"\")","v":""},{"$f":"IF('Scope and Prelim. Cost Est.'!AA99<>\"\",'Scope and Prelim. Cost Est.'!AA99,\"\")","v":""},"",{"$f":"IF('Scope and Prelim. Cost Est.'!AB99<>\"\",'Scope and Prelim. Cost Est.'!AB99,\"\")","v":""},{"$f":"IF('Scope and Prelim. Cost Est.'!AC99<>\"\",'Scope and Prelim. Cost Est.'!AC99,\"\")","v":""},{"$f":"IF('Scope and Prelim. Cost Est.'!AD99<>\"\",'Scope and Prelim. Cost Est.'!AD99,\"\")","v":""},{"$f":"IF('Scope and Prelim. Cost Est.'!AE99<>\"\",'Scope and Prelim. Cost Est.'!AE99,\"\")","v":""},{"$f":"IF('Scope and Prelim. Cost Est.'!AF99<>\"\",'Scope and Prelim. Cost Est.'!AF99,\"\")","v":""},{"$f":"IF('Scope and Prelim. Cost Est.'!AG99<>\"\",'Scope and Prelim. Cost Est.'!AG99,\"\")","v":""},{"$f":"IF('Scope and Prelim. Cost Est.'!AH99<>\"\",'Scope and Prelim. Cost Est.'!AH99,\"\")","v":""}]
[null,{"$f":"IF('Scope and Prelim. Cost Est.'!B100<>\"\",'Scope and Prelim. Cost Est.'!B100,\"\")","v":""},{"$f":"IF('Scope and Prelim. Cost Est.'!C100<>\"\",'Scope and Prelim. Cost Est.'!C100,\"\")","v":""},{"$f":"IF('Scope and Prelim. Cost Est.'!D100<>\"\",'Scope and Prelim. Cost Est.'!D100,\"\")","v":""},{"$f":"IF('Scope and Prelim. Cost Est.'!E100<>\"\",'Scope and Prelim. Cost Est.'!E100,\"\")","v":""},{"$f":"IF('Scope and Prelim. Cost Est.'!F100<>\"\",'Scope and Prelim. Cost Est.'!F100,\"\")","v":""},{"$f":"IF('Scope and Prelim. Cost Est.'!G100<>\"\",'Scope and Prelim. Cost Est.'!G100,\"\")","v":""},{"$f":"IF('Scope and Prelim. Cost Est.'!H100<>\"\",'Scope and Prelim. Cost Est.'!H100,\"\")","v":""},{"$f":"IF('Scope and Prelim. Cost Est.'!I100<>\"\",'Scope and Prelim. Cost Est.'!I100,\"\")","v":""},{"$f":"IF('Scope and Prelim. Cost Est.'!J100<>\"\",'Scope and Prelim. Cost Est.'!J100,\"\")","v":""},{"$f":"IF('Scope and Prelim. Cost Est.'!K100<>\"\",'Scope and Prelim. Cost Est.'!K100,\"\")","v":""},{"$f":"IF('Scope and Prelim. Cost Est.'!L100<>\"\",'Scope and Prelim. Cost Est.'!L100,\"\")","v":""},"",{"$f":"IF('Scope and Prelim. Cost Est.'!M100<>\"\",'Scope and Prelim. Cost Est.'!M100,\"\")","v":""},{"$f":"IF('Scope and Prelim. Cost Est.'!N100<>\"\",'Scope and Prelim. Cost Est.'!N100,\"\")","v":""},{"$f":"IF('Scope and Prelim. Cost Est.'!O100<>\"\",'Scope and Prelim. Cost Est.'!O100,\"\")","v":""},{"$f":"IF('Scope and Prelim. Cost Est.'!P100<>\"\",'Scope and Prelim. Cost Est.'!P100,\"\")","v":0},null,null,{"$f":"IF('Scope and Prelim. Cost Est.'!B100<>\"\",'Scope and Prelim. Cost Est.'!B100,\"\")","v":""},{"$f":"IF('Scope and Prelim. Cost Est.'!C100<>\"\",'Scope and Prelim. Cost Est.'!C100,\"\")","v":""},{"$f":"IF('Scope and Prelim. Cost Est.'!Q100<>\"\",'Scope and Prelim. Cost Est.'!Q100,\"\")","v":""},{"$f":"IF('Scope and Prelim. Cost Est.'!R100<>\"\",'Scope and Prelim. Cost Est.'!R100,\"\")","v":""},{"$f":"IF('Scope and Prelim. Cost Est.'!S100<>\"\",'Scope and Prelim. Cost Est.'!S100,\"\")","v":""},{"$f":"IF('Scope and Prelim. Cost Est.'!T100<>\"\",'Scope and Prelim. Cost Est.'!T100,\"\")","v":""},{"$f":"IF('Scope and Prelim. Cost Est.'!U100<>\"\",'Scope and Prelim. Cost Est.'!U100,\"\")","v":""},{"$f":"IF('Scope and Prelim. Cost Est.'!V100<>\"\",'Scope and Prelim. Cost Est.'!V100,\"\")","v":""},{"$f":"IF('Scope and Prelim. Cost Est.'!W100<>\"\",'Scope and Prelim. Cost Est.'!W100,\"\")","v":""},{"$f":"IF('Scope and Prelim. Cost Est.'!X100<>\"\",'Scope and Prelim. Cost Est.'!X100,\"\")","v":""},{"$f":"IF('Scope and Prelim. Cost Est.'!Y100<>\"\",'Scope and Prelim. Cost Est.'!Y100,\"\")","v":""},{"$f":"IF('Scope and Prelim. Cost Est.'!Z100<>\"\",'Scope and Prelim. Cost Est.'!Z100,\"\")","v":""},{"$f":"IF('Scope and Prelim. Cost Est.'!AA100<>\"\",'Scope and Prelim. Cost Est.'!AA100,\"\")","v":""},"",{"$f":"IF('Scope and Prelim. Cost Est.'!AB100<>\"\",'Scope and Prelim. Cost Est.'!AB100,\"\")","v":""},{"$f":"IF('Scope and Prelim. Cost Est.'!AC100<>\"\",'Scope and Prelim. Cost Est.'!AC100,\"\")","v":""},{"$f":"IF('Scope and Prelim. Cost Est.'!AD100<>\"\",'Scope and Prelim. Cost Est.'!AD100,\"\")","v":""},{"$f":"IF('Scope and Prelim. Cost Est.'!AE100<>\"\",'Scope and Prelim. Cost Est.'!AE100,\"\")","v":""},{"$f":"IF('Scope and Prelim. Cost Est.'!AF100<>\"\",'Scope and Prelim. Cost Est.'!AF100,\"\")","v":""},{"$f":"IF('Scope and Prelim. Cost Est.'!AG100<>\"\",'Scope and Prelim. Cost Est.'!AG100,\"\")","v":""},{"$f":"IF('Scope and Prelim. Cost Est.'!AH100<>\"\",'Scope and Prelim. Cost Est.'!AH100,\"\")","v":""}]
[null,{"$f":"IF('Scope and Prelim. Cost Est.'!B101<>\"\",'Scope and Prelim. Cost Est.'!B101,\"\")","v":""},{"$f":"IF('Scope and Prelim. Cost Est.'!C101<>\"\",'Scope and Prelim. Cost Est.'!C101,\"\")","v":""},{"$f":"IF('Scope and Prelim. Cost Est.'!D101<>\"\",'Scope and Prelim. Cost Est.'!D101,\"\")","v":""},{"$f":"IF('Scope and Prelim. Cost Est.'!E101<>\"\",'Scope and Prelim. Cost Est.'!E101,\"\")","v":""},{"$f":"IF('Scope and Prelim. Cost Est.'!F101<>\"\",'Scope and Prelim. Cost Est.'!F101,\"\")","v":""},{"$f":"IF('Scope and Prelim. Cost Est.'!G101<>\"\",'Scope and Prelim. Cost Est.'!G101,\"\")","v":""},{"$f":"IF('Scope and Prelim. Cost Est.'!H101<>\"\",'Scope and Prelim. Cost Est.'!H101,\"\")","v":""},{"$f":"IF('Scope and Prelim. Cost Est.'!I101<>\"\",'Scope and Prelim. Cost Est.'!I101,\"\")","v":""},{"$f":"IF('Scope and Prelim. Cost Est.'!J101<>\"\",'Scope and Prelim. Cost Est.'!J101,\"\")","v":""},{"$f":"IF('Scope and Prelim. Cost Est.'!K101<>\"\",'Scope and Prelim. Cost Est.'!K101,\"\")","v":""},{"$f":"IF('Scope and Prelim. Cost Est.'!L101<>\"\",'Scope and Prelim. Cost Est.'!L101,\"\")","v":""},"",{"$f":"IF('Scope and Prelim. Cost Est.'!M101<>\"\",'Scope and Prelim. Cost Est.'!M101,\"\")","v":""},{"$f":"IF('Scope and Prelim. Cost Est.'!N101<>\"\",'Scope and Prelim. Cost Est.'!N101,\"\")","v":""},{"$f":"IF('Scope and Prelim. Cost Est.'!O101<>\"\",'Scope and Prelim. Cost Est.'!O101,\"\")","v":""},{"$f":"IF('Scope and Prelim. Cost Est.'!P101<>\"\",'Scope and Prelim. Cost Est.'!P101,\"\")","v":0},null,null,{"$f":"IF('Scope and Prelim. Cost Est.'!B101<>\"\",'Scope and Prelim. Cost Est.'!B101,\"\")","v":""},{"$f":"IF('Scope and Prelim. Cost Est.'!C101<>\"\",'Scope and Prelim. Cost Est.'!C101,\"\")","v":""},{"$f":"IF('Scope and Prelim. Cost Est.'!Q101<>\"\",'Scope and Prelim. Cost Est.'!Q101,\"\")","v":""},{"$f":"IF('Scope and Prelim. Cost Est.'!R101<>\"\",'Scope and Prelim. Cost Est.'!R101,\"\")","v":""},{"$f":"IF('Scope and Prelim. Cost Est.'!S101<>\"\",'Scope and Prelim. Cost Est.'!S101,\"\")","v":""},{"$f":"IF('Scope and Prelim. Cost Est.'!T101<>\"\",'Scope and Prelim. Cost Est.'!T101,\"\")","v":""},{"$f":"IF('Scope and Prelim. Cost Est.'!U101<>\"\",'Scope and Prelim. Cost Est.'!U101,\"\")","v":""},{"$f":"IF('Scope and Prelim. Cost Est.'!V101<>\"\",'Scope and Prelim. Cost Est.'!V101,\"\")","v":""},{"$f":"IF('Scope and Prelim. Cost Est.'!W101<>\"\",'Scope and Prelim. Cost Est.'!W101,\"\")","v":""},{"$f":"IF('Scope and Prelim. Cost Est.'!X101<>\"\",'Scope and Prelim. Cost Est.'!X101,\"\")","v":""},{"$f":"IF('Scope and Prelim. Cost Est.'!Y101<>\"\",'Scope and Prelim. Cost Est.'!Y101,\"\")","v":""},{"$f":"IF('Scope and Prelim. Cost Est.'!Z101<>\"\",'Scope and Prelim. Cost Est.'!Z101,\"\")","v":""},{"$f":"IF('Scope and Prelim. Cost Est.'!AA101<>\"\",'Scope and Prelim. Cost Est.'!AA101,\"\")","v":""},"",{"$f":"IF('Scope and Prelim. Cost Est.'!AB101<>\"\",'Scope and Prelim. Cost Est.'!AB101,\"\")","v":""},{"$f":"IF('Scope and Prelim. Cost Est.'!AC101<>\"\",'Scope and Prelim. Cost Est.'!AC101,\"\")","v":""},{"$f":"IF('Scope and Prelim. Cost Est.'!AD101<>\"\",'Scope and Prelim. Cost Est.'!AD101,\"\")","v":""},{"$f":"IF('Scope and Prelim. Cost Est.'!AE101<>\"\",'Scope and Prelim. Cost Est.'!AE101,\"\")","v":""},{"$f":"IF('Scope and Prelim. Cost Est.'!AF101<>\"\",'Scope and Prelim. Cost Est.'!AF101,\"\")","v":""},{"$f":"IF('Scope and Prelim. Cost Est.'!AG101<>\"\",'Scope and Prelim. Cost Est.'!AG101,\"\")","v":""},{"$f":"IF('Scope and Prelim. Cost Est.'!AH101<>\"\",'Scope and Prelim. Cost Est.'!AH101,\"\")","v":""}]
[null,{"$f":"IF('Scope and Prelim. Cost Est.'!B102<>\"\",'Scope and Prelim. Cost Est.'!B102,\"\")","v":""},{"$f":"IF('Scope and Prelim. Cost Est.'!C102<>\"\",'Scope and Prelim. Cost Est.'!C102,\"\")","v":""},{"$f":"IF('Scope and Prelim. Cost Est.'!D102<>\"\",'Scope and Prelim. Cost Est.'!D102,\"\")","v":""},{"$f":"IF('Scope and Prelim. Cost Est.'!E102<>\"\",'Scope and Prelim. Cost Est.'!E102,\"\")","v":""},{"$f":"IF('Scope and Prelim. Cost Est.'!F102<>\"\",'Scope and Prelim. Cost Est.'!F102,\"\")","v":""},{"$f":"IF('Scope and Prelim. Cost Est.'!G102<>\"\",'Scope and Prelim. Cost Est.'!G102,\"\")","v":""},{"$f":"IF('Scope and Prelim. Cost Est.'!H102<>\"\",'Scope and Prelim. Cost Est.'!H102,\"\")","v":""},{"$f":"IF('Scope and Prelim. Cost Est.'!I102<>\"\",'Scope and Prelim. Cost Est.'!I102,\"\")","v":""},{"$f":"IF('Scope and Prelim. Cost Est.'!J102<>\"\",'Scope and Prelim. Cost Est.'!J102,\"\")","v":""},{"$f":"IF('Scope and Prelim. Cost Est.'!K102<>\"\",'Scope and Prelim. Cost Est.'!K102,\"\")","v":""},{"$f":"IF('Scope and Prelim. Cost Est.'!L102<>\"\",'Scope and Prelim. Cost Est.'!L102,\"\")","v":""},"",{"$f":"IF('Scope and Prelim. Cost Est.'!M102<>\"\",'Scope and Prelim. Cost Est.'!M102,\"\")","v":""},{"$f":"IF('Scope and Prelim. Cost Est.'!N102<>\"\",'Scope and Prelim. Cost Est.'!N102,\"\")","v":""},{"$f":"IF('Scope and Prelim. Cost Est.'!O102<>\"\",'Scope and Prelim. Cost Est.'!O102,\"\")","v":""},{"$f":"IF('Scope and Prelim. Cost Est.'!P102<>\"\",'Scope and Prelim. Cost Est.'!P102,\"\")","v":0},null,null,{"$f":"IF('Scope and Prelim. Cost Est.'!B102<>\"\",'Scope and Prelim. Cost Est.'!B102,\"\")","v":""},{"$f":"IF('Scope and Prelim. Cost Est.'!C102<>\"\",'Scope and Prelim. Cost Est.'!C102,\"\")","v":""},{"$f":"IF('Scope and Prelim. Cost Est.'!Q102<>\"\",'Scope and Prelim. Cost Est.'!Q102,\"\")","v":""},{"$f":"IF('Scope and Prelim. Cost Est.'!R102<>\"\",'Scope and Prelim. Cost Est.'!R102,\"\")","v":""},{"$f":"IF('Scope and Prelim. Cost Est.'!S102<>\"\",'Scope and Prelim. Cost Est.'!S102,\"\")","v":""},{"$f":"IF('Scope and Prelim. Cost Est.'!T102<>\"\",'Scope and Prelim. Cost Est.'!T102,\"\")","v":""},{"$f":"IF('Scope and Prelim. Cost Est.'!U102<>\"\",'Scope and Prelim. Cost Est.'!U102,\"\")","v":""},{"$f":"IF('Scope and Prelim. Cost Est.'!V102<>\"\",'Scope and Prelim. Cost Est.'!V102,\"\")","v":""},{"$f":"IF('Scope and Prelim. Cost Est.'!W102<>\"\",'Scope and Prelim. Cost Est.'!W102,\"\")","v":""},{"$f":"IF('Scope and Prelim. Cost Est.'!X102<>\"\",'Scope and Prelim. Cost Est.'!X102,\"\")","v":""},{"$f":"IF('Scope and Prelim. Cost Est.'!Y102<>\"\",'Scope and Prelim. Cost Est.'!Y102,\"\")","v":""},{"$f":"IF('Scope and Prelim. Cost Est.'!Z102<>\"\",'Scope and Prelim. Cost Est.'!Z102,\"\")","v":""},{"$f":"IF('Scope and Prelim. Cost Est.'!AA102<>\"\",'Scope and Prelim. Cost Est.'!AA102,\"\")","v":""},"",{"$f":"IF('Scope and Prelim. Cost Est.'!AB102<>\"\",'Scope and Prelim. Cost Est.'!AB102,\"\")","v":""},{"$f":"IF('Scope and Prelim. Cost Est.'!AC102<>\"\",'Scope and Prelim. Cost Est.'!AC102,\"\")","v":""},{"$f":"IF('Scope and Prelim. Cost Est.'!AD102<>\"\",'Scope and Prelim. Cost Est.'!AD102,\"\")","v":""},{"$f":"IF('Scope and Prelim. Cost Est.'!AE102<>\"\",'Scope and Prelim. Cost Est.'!AE102,\"\")","v":""},{"$f":"IF('Scope and Prelim. Cost Est.'!AF102<>\"\",'Scope and Prelim. Cost Est.'!AF102,\"\")","v":""},{"$f":"IF('Scope and Prelim. Cost Est.'!AG102<>\"\",'Scope and Prelim. Cost Est.'!AG102,\"\")","v":""},{"$f":"IF('Scope and Prelim. Cost Est.'!AH102<>\"\",'Scope and Prelim. Cost Est.'!AH102,\"\")","v":""}]
[null,{"$f":"IF('Scope and Prelim. Cost Est.'!B103<>\"\",'Scope and Prelim. Cost Est.'!B103,\"\")","v":""},{"$f":"IF('Scope and Prelim. Cost Est.'!C103<>\"\",'Scope and Prelim. Cost Est.'!C103,\"\")","v":""},{"$f":"IF('Scope and Prelim. Cost Est.'!D103<>\"\",'Scope and Prelim. Cost Est.'!D103,\"\")","v":""},{"$f":"IF('Scope and Prelim. Cost Est.'!E103<>\"\",'Scope and Prelim. Cost Est.'!E103,\"\")","v":""},{"$f":"IF('Scope and Prelim. Cost Est.'!F103<>\"\",'Scope and Prelim. Cost Est.'!F103,\"\")","v":""},{"$f":"IF('Scope and Prelim. Cost Est.'!G103<>\"\",'Scope and Prelim. Cost Est.'!G103,\"\")","v":""},{"$f":"IF('Scope and Prelim. Cost Est.'!H103<>\"\",'Scope and Prelim. Cost Est.'!H103,\"\")","v":""},{"$f":"IF('Scope and Prelim. Cost Est.'!I103<>\"\",'Scope and Prelim. Cost Est.'!I103,\"\")","v":""},{"$f":"IF('Scope and Prelim. Cost Est.'!J103<>\"\",'Scope and Prelim. Cost Est.'!J103,\"\")","v":""},{"$f":"IF('Scope and Prelim. Cost Est.'!K103<>\"\",'Scope and Prelim. Cost Est.'!K103,\"\")","v":""},{"$f":"IF('Scope and Prelim. Cost Est.'!L103<>\"\",'Scope and Prelim. Cost Est.'!L103,\"\")","v":""},"",{"$f":"IF('Scope and Prelim. Cost Est.'!M103<>\"\",'Scope and Prelim. Cost Est.'!M103,\"\")","v":""},{"$f":"IF('Scope and Prelim. Cost Est.'!N103<>\"\",'Scope and Prelim. Cost Est.'!N103,\"\")","v":""},{"$f":"IF('Scope and Prelim. Cost Est.'!O103<>\"\",'Scope and Prelim. Cost Est.'!O103,\"\")","v":""},{"$f":"IF('Scope and Prelim. Cost Est.'!P103<>\"\",'Scope and Prelim. Cost Est.'!P103,\"\")","v":0},null,null,{"$f":"IF('Scope and Prelim. Cost Est.'!B103<>\"\",'Scope and Prelim. Cost Est.'!B103,\"\")","v":""},{"$f":"IF('Scope and Prelim. Cost Est.'!C103<>\"\",'Scope and Prelim. Cost Est.'!C103,\"\")","v":""},{"$f":"IF('Scope and Prelim. Cost Est.'!Q103<>\"\",'Scope and Prelim. Cost Est.'!Q103,\"\")","v":""},{"$f":"IF('Scope and Prelim. Cost Est.'!R103<>\"\",'Scope and Prelim. Cost Est.'!R103,\"\")","v":""},{"$f":"IF('Scope and Prelim. Cost Est.'!S103<>\"\",'Scope and Prelim. Cost Est.'!S103,\"\")","v":""},{"$f":"IF('Scope and Prelim. Cost Est.'!T103<>\"\",'Scope and Prelim. Cost Est.'!T103,\"\")","v":""},{"$f":"IF('Scope and Prelim. Cost Est.'!U103<>\"\",'Scope and Prelim. Cost Est.'!U103,\"\")","v":""},{"$f":"IF('Scope and Prelim. Cost Est.'!V103<>\"\",'Scope and Prelim. Cost Est.'!V103,\"\")","v":""},{"$f":"IF('Scope and Prelim. Cost Est.'!W103<>\"\",'Scope and Prelim. Cost Est.'!W103,\"\")","v":""},{"$f":"IF('Scope and Prelim. Cost Est.'!X103<>\"\",'Scope and Prelim. Cost Est.'!X103,\"\")","v":""},{"$f":"IF('Scope and Prelim. Cost Est.'!Y103<>\"\",'Scope and Prelim. Cost Est.'!Y103,\"\")","v":""},{"$f":"IF('Scope and Prelim. Cost Est.'!Z103<>\"\",'Scope and Prelim. Cost Est.'!Z103,\"\")","v":""},{"$f":"IF('Scope and Prelim. Cost Est.'!AA103<>\"\",'Scope and Prelim. Cost Est.'!AA103,\"\")","v":""},"",{"$f":"IF('Scope and Prelim. Cost Est.'!AB103<>\"\",'Scope and Prelim. Cost Est.'!AB103,\"\")","v":""},{"$f":"IF('Scope and Prelim. Cost Est.'!AC103<>\"\",'Scope and Prelim. Cost Est.'!AC103,\"\")","v":""},{"$f":"IF('Scope and Prelim. Cost Est.'!AD103<>\"\",'Scope and Prelim. Cost Est.'!AD103,\"\")","v":""},{"$f":"IF('Scope and Prelim. Cost Est.'!AE103<>\"\",'Scope and Prelim. Cost Est.'!AE103,\"\")","v":""},{"$f":"IF('Scope and Prelim. Cost Est.'!AF103<>\"\",'Scope and Prelim. Cost Est.'!AF103,\"\")","v":""},{"$f":"IF('Scope and Prelim. Cost Est.'!AG103<>\"\",'Scope and Prelim. Cost Est.'!AG103,\"\")","v":""},{"$f":"IF('Scope and Prelim. Cost Est.'!AH103<>\"\",'Scope and Prelim. Cost Est.'!AH103,\"\")","v":""}]
[null,{"$f":"IF('Scope and Prelim. Cost Est.'!B104<>\"\",'Scope and Prelim. Cost Est.'!B104,\"\")","v":""},{"$f":"IF('Scope and Prelim. Cost Est.'!C104<>\"\",'Scope and Prelim. Cost Est.'!C104,\"\")","v":""},{"$f":"IF('Scope and Prelim. Cost Est.'!D104<>\"\",'Scope and Prelim. Cost Est.'!D104,\"\")","v":""},{"$f":"IF('Scope and Prelim. Cost Est.'!E104<>\"\",'Scope and Prelim. Cost Est.'!E104,\"\")","v":""},{"$f":"IF('Scope and Prelim. Cost Est.'!F104<>\"\",'Scope and Prelim. Cost Est.'!F104,\"\")","v":""},{"$f":"IF('Scope and Prelim. Cost Est.'!G104<>\"\",'Scope and Prelim. Cost Est.'!G104,\"\")","v":""},{"$f":"IF('Scope and Prelim. Cost Est.'!H104<>\"\",'Scope and Prelim. Cost Est.'!H104,\"\")","v":""},{"$f":"IF('Scope and Prelim. Cost Est.'!I104<>\"\",'Scope and Prelim. Cost Est.'!I104,\"\")","v":""},{"$f":"IF('Scope and Prelim. Cost Est.'!J104<>\"\",'Scope and Prelim. Cost Est.'!J104,\"\")","v":""},{"$f":"IF('Scope and Prelim. Cost Est.'!K104<>\"\",'Scope and Prelim. Cost Est.'!K104,\"\")","v":""},{"$f":"IF('Scope and Prelim. Cost Est.'!L104<>\"\",'Scope and Prelim. Cost Est.'!L104,\"\")","v":""},"",{"$f":"IF('Scope and Prelim. Cost Est.'!M104<>\"\",'Scope and Prelim. Cost Est.'!M104,\"\")","v":""},{"$f":"IF('Scope and Prelim. Cost Est.'!N104<>\"\",'Scope and Prelim. Cost Est.'!N104,\"\")","v":""},{"$f":"IF('Scope and Prelim. Cost Est.'!O104<>\"\",'Scope and Prelim. Cost Est.'!O104,\"\")","v":""},{"$f":"IF('Scope and Prelim. Cost Est.'!P104<>\"\",'Scope and Prelim. Cost Est.'!P104,\"\")","v":0},null,null,{"$f":"IF('Scope and Prelim. Cost Est.'!B104<>\"\",'Scope and Prelim. Cost Est.'!B104,\"\")","v":""},{"$f":"IF('Scope and Prelim. Cost Est.'!C104<>\"\",'Scope and Prelim. Cost Est.'!C104,\"\")","v":""},{"$f":"IF('Scope and Prelim. Cost Est.'!Q104<>\"\",'Scope and Prelim. Cost Est.'!Q104,\"\")","v":""},{"$f":"IF('Scope and Prelim. Cost Est.'!R104<>\"\",'Scope and Prelim. Cost Est.'!R104,\"\")","v":""},{"$f":"IF('Scope and Prelim. Cost Est.'!S104<>\"\",'Scope and Prelim. Cost Est.'!S104,\"\")","v":""},{"$f":"IF('Scope and Prelim. Cost Est.'!T104<>\"\",'Scope and Prelim. Cost Est.'!T104,\"\")","v":""},{"$f":"IF('Scope and Prelim. Cost Est.'!U104<>\"\",'Scope and Prelim. Cost Est.'!U104,\"\")","v":""},{"$f":"IF('Scope and Prelim. Cost Est.'!V104<>\"\",'Scope and Prelim. Cost Est.'!V104,\"\")","v":""},{"$f":"IF('Scope and Prelim. Cost Est.'!W104<>\"\",'Scope and Prelim. Cost Est.'!W104,\"\")","v":""},{"$f":"IF('Scope and Prelim. Cost Est.'!X104<>\"\",'Scope and Prelim. Cost Est.'!X104,\"\")","v":""},{"$f":"IF('Scope and Prelim. Cost Est.'!Y104<>\"\",'Scope and Prelim. Cost Est.'!Y104,\"\")","v":""},{"$f":"IF('Scope and Prelim. Cost Est.'!Z104<>\"\",'Scope and Prelim. Cost Est.'!Z104,\"\")","v":""},{"$f":"IF('Scope and Prelim. Cost Est.'!AA104<>\"\",'Scope and Prelim. Cost Est.'!AA104,\"\")","v":""},"",{"$f":"IF('Scope and Prelim. Cost Est.'!AB104<>\"\",'Scope and Prelim. Cost Est.'!AB104,\"\")","v":""},{"$f":"IF('Scope and Prelim. Cost Est.'!AC104<>\"\",'Scope and Prelim. Cost Est.'!AC104,\"\")","v":""},{"$f":"IF('Scope and Prelim. Cost Est.'!AD104<>\"\",'Scope and Prelim. Cost Est.'!AD104,\"\")","v":""},{"$f":"IF('Scope and Prelim. Cost Est.'!AE104<>\"\",'Scope and Prelim. Cost Est.'!AE104,\"\")","v":""},{"$f":"IF('Scope and Prelim. Cost Est.'!AF104<>\"\",'Scope and Prelim. Cost Est.'!AF104,\"\")","v":""},{"$f":"IF('Scope and Prelim. Cost Est.'!AG104<>\"\",'Scope and Prelim. Cost Est.'!AG104,\"\")","v":""},{"$f":"IF('Scope and Prelim. Cost Est.'!AH104<>\"\",'Scope and Prelim. Cost Est.'!AH104,\"\")","v":""}]
[null,{"$f":"IF('Scope and Prelim. Cost Est.'!B105<>\"\",'Scope and Prelim. Cost Est.'!B105,\"\")","v":""},{"$f":"IF('Scope and Prelim. Cost Est.'!C105<>\"\",'Scope and Prelim. Cost Est.'!C105,\"\")","v":""},{"$f":"IF('Scope and Prelim. Cost Est.'!D105<>\"\",'Scope and Prelim. Cost Est.'!D105,\"\")","v":""},{"$f":"IF('Scope and Prelim. Cost Est.'!E105<>\"\",'Scope and Prelim. Cost Est.'!E105,\"\")","v":""},{"$f":"IF('Scope and Prelim. Cost Est.'!F105<>\"\",'Scope and Prelim. Cost Est.'!F105,\"\")","v":""},{"$f":"IF('Scope and Prelim. Cost Est.'!G105<>\"\",'Scope and Prelim. Cost Est.'!G105,\"\")","v":""},{"$f":"IF('Scope and Prelim. Cost Est.'!H105<>\"\",'Scope and Prelim. Cost Est.'!H105,\"\")","v":""},{"$f":"IF('Scope and Prelim. Cost Est.'!I105<>\"\",'Scope and Prelim. Cost Est.'!I105,\"\")","v":""},{"$f":"IF('Scope and Prelim. Cost Est.'!J105<>\"\",'Scope and Prelim. Cost Est.'!J105,\"\")","v":""},{"$f":"IF('Scope and Prelim. Cost Est.'!K105<>\"\",'Scope and Prelim. Cost Est.'!K105,\"\")","v":""},{"$f":"IF('Scope and Prelim. Cost Est.'!L105<>\"\",'Scope and Prelim. Cost Est.'!L105,\"\")","v":""},"",{"$f":"IF('Scope and Prelim. Cost Est.'!M105<>\"\",'Scope and Prelim. Cost Est.'!M105,\"\")","v":""},{"$f":"IF('Scope and Prelim. Cost Est.'!N105<>\"\",'Scope and Prelim. Cost Est.'!N105,\"\")","v":""},{"$f":"IF('Scope and Prelim. Cost Est.'!O105<>\"\",'Scope and Prelim. Cost Est.'!O105,\"\")","v":""},{"$f":"IF('Scope and Prelim. Cost Est.'!P105<>\"\",'Scope and Prelim. Cost Est.'!P105,\"\")","v":0},null,null,{"$f":"IF('Scope and Prelim. Cost Est.'!B105<>\"\",'Scope and Prelim. Cost Est.'!B105,\"\")","v":""},{"$f":"IF('Scope and Prelim. Cost Est.'!C105<>\"\",'Scope and Prelim. Cost Est.'!C105,\"\")","v":""},{"$f":"IF('Scope and Prelim. Cost Est.'!Q105<>\"\",'Scope and Prelim. Cost Est.'!Q105,\"\")","v":""},{"$f":"IF('Scope and Prelim. Cost Est.'!R105<>\"\",'Scope and Prelim. Cost Est.'!R105,\"\")","v":""},{"$f":"IF('Scope and Prelim. Cost Est.'!S105<>\"\",'Scope and Prelim. Cost Est.'!S105,\"\")","v":""},{"$f":"IF('Scope and Prelim. Cost Est.'!T105<>\"\",'Scope and Prelim. Cost Est.'!T105,\"\")","v":""},{"$f":"IF('Scope and Prelim. Cost Est.'!U105<>\"\",'Scope and Prelim. Cost Est.'!U105,\"\")","v":""},{"$f":"IF('Scope and Prelim. Cost Est.'!V105<>\"\",'Scope and Prelim. Cost Est.'!V105,\"\")","v":""},{"$f":"IF('Scope and Prelim. Cost Est.'!W105<>\"\",'Scope and Prelim. Cost Est.'!W105,\"\")","v":""},{"$f":"IF('Scope and Prelim. Cost Est.'!X105<>\"\",'Scope and Prelim. Cost Est.'!X105,\"\")","v":""},{"$f":"IF('Scope and Prelim. Cost Est.'!Y105<>\"\",'Scope and Prelim. Cost Est.'!Y105,\"\")","v":""},{"$f":"IF('Scope and Prelim. Cost Est.'!Z105<>\"\",'Scope and Prelim. Cost Est.'!Z105,\"\")","v":""},{"$f":"IF('Scope and Prelim. Cost Est.'!AA105<>\"\",'Scope and Prelim. Cost Est.'!AA105,\"\")","v":""},"",{"$f":"IF('Scope and Prelim. Cost Est.'!AB105<>\"\",'Scope and Prelim. Cost Est.'!AB105,\"\")","v":""},{"$f":"IF('Scope and Prelim. Cost Est.'!AC105<>\"\",'Scope and Prelim. Cost Est.'!AC105,\"\")","v":""},{"$f":"IF('Scope and Prelim. Cost Est.'!AD105<>\"\",'Scope and Prelim. Cost Est.'!AD105,\"\")","v":""},{"$f":"IF('Scope and Prelim. Cost Est.'!AE105<>\"\",'Scope and Prelim. Cost Est.'!AE105,\"\")","v":""},{"$f":"IF('Scope and Prelim. Cost Est.'!AF105<>\"\",'Scope and Prelim. Cost Est.'!AF105,\"\")","v":""},{"$f":"IF('Scope and Prelim. Cost Est.'!AG105<>\"\",'Scope and Prelim. Cost Est.'!AG105,\"\")","v":""},{"$f":"IF('Scope and Prelim. Cost Est.'!AH105<>\"\",'Scope and Prelim. Cost Est.'!AH105,\"\")","v":""}]
[null,{"$f":"IF('Scope and Prelim. Cost Est.'!B106<>\"\",'Scope and Prelim. Cost Est.'!B106,\"\")","v":""},{"$f":"IF('Scope and Prelim. Cost Est.'!C106<>\"\",'Scope and Prelim. Cost Est.'!C106,\"\")","v":""},{"$f":"IF('Scope and Prelim. Cost Est.'!D106<>\"\",'Scope and Prelim. Cost Est.'!D106,\"\")","v":""},{"$f":"IF('Scope and Prelim. Cost Est.'!E106<>\"\",'Scope and Prelim. Cost Est.'!E106,\"\")","v":""},{"$f":"IF('Scope and Prelim. Cost Est.'!F106<>\"\",'Scope and Prelim. Cost Est.'!F106,\"\")","v":""},{"$f":"IF('Scope and Prelim. Cost Est.'!G106<>\"\",'Scope and Prelim. Cost Est.'!G106,\"\")","v":""},{"$f":"IF('Scope and Prelim. Cost Est.'!H106<>\"\",'Scope and Prelim. Cost Est.'!H106,\"\")","v":""},{"$f":"IF('Scope and Prelim. Cost Est.'!I106<>\"\",'Scope and Prelim. Cost Est.'!I106,\"\")","v":""},{"$f":"IF('Scope and Prelim. Cost Est.'!J106<>\"\",'Scope and Prelim. Cost Est.'!J106,\"\")","v":""},{"$f":"IF('Scope and Prelim. Cost Est.'!K106<>\"\",'Scope and Prelim. Cost Est.'!K106,\"\")","v":""},{"$f":"IF('Scope and Prelim. Cost Est.'!L106<>\"\",'Scope and Prelim. Cost Est.'!L106,\"\")","v":""},"",{"$f":"IF('Scope and Prelim. Cost Est.'!M106<>\"\",'Scope and Prelim. Cost Est.'!M106,\"\")","v":""},{"$f":"IF('Scope and Prelim. Cost Est.'!N106<>\"\",'Scope and Prelim. Cost Est.'!N106,\"\")","v":""},{"$f":"IF('Scope and Prelim. Cost Est.'!O106<>\"\",'Scope and Prelim. Cost Est.'!O106,\"\")","v":""},{"$f":"IF('Scope and Prelim. Cost Est.'!P106<>\"\",'Scope and Prelim. Cost Est.'!P106,\"\")","v":0},null,null,{"$f":"IF('Scope and Prelim. Cost Est.'!B106<>\"\",'Scope and Prelim. Cost Est.'!B106,\"\")","v":""},{"$f":"IF('Scope and Prelim. Cost Est.'!C106<>\"\",'Scope and Prelim. Cost Est.'!C106,\"\")","v":""},{"$f":"IF('Scope and Prelim. Cost Est.'!Q106<>\"\",'Scope and Prelim. Cost Est.'!Q106,\"\")","v":""},{"$f":"IF('Scope and Prelim. Cost Est.'!R106<>\"\",'Scope and Prelim. Cost Est.'!R106,\"\")","v":""},{"$f":"IF('Scope and Prelim. Cost Est.'!S106<>\"\",'Scope and Prelim. Cost Est.'!S106,\"\")","v":""},{"$f":"IF('Scope and Prelim. Cost Est.'!T106<>\"\",'Scope and Prelim. Cost Est.'!T106,\"\")","v":""},{"$f":"IF('Scope and Prelim. Cost Est.'!U106<>\"\",'Scope and Prelim. Cost Est.'!U106,\"\")","v":""},{"$f":"IF('Scope and Prelim. Cost Est.'!V106<>\"\",'Scope and Prelim. Cost Est.'!V106,\"\")","v":""},{"$f":"IF('Scope and Prelim. Cost Est.'!W106<>\"\",'Scope and Prelim. Cost Est.'!W106,\"\")","v":""},{"$f":"IF('Scope and Prelim. Cost Est.'!X106<>\"\",'Scope and Prelim. Cost Est.'!X106,\"\")","v":""},{"$f":"IF('Scope and Prelim. Cost Est.'!Y106<>\"\",'Scope and Prelim. Cost Est.'!Y106,\"\")","v":""},{"$f":"IF('Scope and Prelim. Cost Est.'!Z106<>\"\",'Scope and Prelim. Cost Est.'!Z106,\"\")","v":""},{"$f":"IF('Scope and Prelim. Cost Est.'!AA106<>\"\",'Scope and Prelim. Cost Est.'!AA106,\"\")","v":""},"",{"$f":"IF('Scope and Prelim. Cost Est.'!AB106<>\"\",'Scope and Prelim. Cost Est.'!AB106,\"\")","v":""},{"$f":"IF('Scope and Prelim. Cost Est.'!AC106<>\"\",'Scope and Prelim. Cost Est.'!AC106,\"\")","v":""},{"$f":"IF('Scope and Prelim. Cost Est.'!AD106<>\"\",'Scope and Prelim. Cost Est.'!AD106,\"\")","v":""},{"$f":"IF('Scope and Prelim. Cost Est.'!AE106<>\"\",'Scope and Prelim. Cost Est.'!AE106,\"\")","v":""},{"$f":"IF('Scope and Prelim. Cost Est.'!AF106<>\"\",'Scope and Prelim. Cost Est.'!AF106,\"\")","v":""},{"$f":"IF('Scope and Prelim. Cost Est.'!AG106<>\"\",'Scope and Prelim. Cost Est.'!AG106,\"\")","v":""},{"$f":"IF('Scope and Prelim. Cost Est.'!AH106<>\"\",'Scope and Prelim. Cost Est.'!AH106,\"\")","v":""}]
[null,{"$f":"IF('Scope and Prelim. Cost Est.'!B107<>\"\",'Scope and Prelim. Cost Est.'!B107,\"\")","v":""},{"$f":"IF('Scope and Prelim. Cost Est.'!C107<>\"\",'Scope and Prelim. Cost Est.'!C107,\"\")","v":""},{"$f":"IF('Scope and Prelim. Cost Est.'!D107<>\"\",'Scope and Prelim. Cost Est.'!D107,\"\")","v":""},{"$f":"IF('Scope and Prelim. Cost Est.'!E107<>\"\",'Scope and Prelim. Cost Est.'!E107,\"\")","v":""},{"$f":"IF('Scope and Prelim. Cost Est.'!F107<>\"\",'Scope and Prelim. Cost Est.'!F107,\"\")","v":""},{"$f":"IF('Scope and Prelim. Cost Est.'!G107<>\"\",'Scope and Prelim. Cost Est.'!G107,\"\")","v":""},{"$f":"IF('Scope and Prelim. Cost Est.'!H107<>\"\",'Scope and Prelim. Cost Est.'!H107,\"\")","v":""},{"$f":"IF('Scope and Prelim. Cost Est.'!I107<>\"\",'Scope and Prelim. Cost Est.'!I107,\"\")","v":""},{"$f":"IF('Scope and Prelim. Cost Est.'!J107<>\"\",'Scope and Prelim. Cost Est.'!J107,\"\")","v":""},{"$f":"IF('Scope and Prelim. Cost Est.'!K107<>\"\",'Scope and Prelim. Cost Est.'!K107,\"\")","v":""},{"$f":"IF('Scope and Prelim. Cost Est.'!L107<>\"\",'Scope and Prelim. Cost Est.'!L107,\"\")","v":""},"",{"$f":"IF('Scope and Prelim. Cost Est.'!M107<>\"\",'Scope and Prelim. Cost Est.'!M107,\"\")","v":""},{"$f":"IF('Scope and Prelim. Cost Est.'!N107<>\"\",'Scope and Prelim. Cost Est.'!N107,\"\")","v":""},{"$f":"IF('Scope and Prelim. Cost Est.'!O107<>\"\",'Scope and Prelim. Cost Est.'!O107,\"\")","v":""},{"$f":"IF('Scope and Prelim. Cost Est.'!P107<>\"\",'Scope and Prelim. Cost Est.'!P107,\"\")","v":0},null,null,{"$f":"IF('Scope and Prelim. Cost Est.'!B107<>\"\",'Scope and Prelim. Cost Est.'!B107,\"\")","v":""},{"$f":"IF('Scope and Prelim. Cost Est.'!C107<>\"\",'Scope and Prelim. Cost Est.'!C107,\"\")","v":""},{"$f":"IF('Scope and Prelim. Cost Est.'!Q107<>\"\",'Scope and Prelim. Cost Est.'!Q107,\"\")","v":""},{"$f":"IF('Scope and Prelim. Cost Est.'!R107<>\"\",'Scope and Prelim. Cost Est.'!R107,\"\")","v":""},{"$f":"IF('Scope and Prelim. Cost Est.'!S107<>\"\",'Scope and Prelim. Cost Est.'!S107,\"\")","v":""},{"$f":"IF('Scope and Prelim. Cost Est.'!T107<>\"\",'Scope and Prelim. Cost Est.'!T107,\"\")","v":""},{"$f":"IF('Scope and Prelim. Cost Est.'!U107<>\"\",'Scope and Prelim. Cost Est.'!U107,\"\")","v":""},{"$f":"IF('Scope and Prelim. Cost Est.'!V107<>\"\",'Scope and Prelim. Cost Est.'!V107,\"\")","v":""},{"$f":"IF('Scope and Prelim. Cost Est.'!W107<>\"\",'Scope and Prelim. Cost Est.'!W107,\"\")","v":""},{"$f":"IF('Scope and Prelim. Cost Est.'!X107<>\"\",'Scope and Prelim. Cost Est.'!X107,\"\")","v":""},{"$f":"IF('Scope and Prelim. Cost Est.'!Y107<>\"\",'Scope and Prelim. Cost Est.'!Y107,\"\")","v":""},{"$f":"IF('Scope and Prelim. Cost Est.'!Z107<>\"\",'Scope and Prelim. Cost Est.'!Z107,\"\")","v":""},{"$f":"IF('Scope and Prelim. Cost Est.'!AA107<>\"\",'Scope and Prelim. Cost Est.'!AA107,\"\")","v":""},"",{"$f":"IF('Scope and Prelim. Cost Est.'!AB107<>\"\",'Scope and Prelim. Cost Est.'!AB107,\"\")","v":""},{"$f":"IF('Scope and Prelim. Cost Est.'!AC107<>\"\",'Scope and Prelim. Cost Est.'!AC107,\"\")","v":""},{"$f":"IF('Scope and Prelim. Cost Est.'!AD107<>\"\",'Scope and Prelim. Cost Est.'!AD107,\"\")","v":""},{"$f":"IF('Scope and Prelim. Cost Est.'!AE107<>\"\",'Scope and Prelim. Cost Est.'!AE107,\"\")","v":""},{"$f":"IF('Scope and Prelim. Cost Est.'!AF107<>\"\",'Scope and Prelim. Cost Est.'!AF107,\"\")","v":""},{"$f":"IF('Scope and Prelim. Cost Est.'!AG107<>\"\",'Scope and Prelim. Cost Est.'!AG107,\"\")","v":""},{"$f":"IF('Scope and Prelim. Cost Est.'!AH107<>\"\",'Scope and Prelim. Cost Est.'!AH107,\"\")","v":""}]
[null,{"$f":"IF('Scope and Prelim. Cost Est.'!B108<>\"\",'Scope and Prelim. Cost Est.'!B108,\"\")","v":""},{"$f":"IF('Scope and Prelim. Cost Est.'!C108<>\"\",'Scope and Prelim. Cost Est.'!C108,\"\")","v":""},{"$f":"IF('Scope and Prelim. Cost Est.'!D108<>\"\",'Scope and Prelim. Cost Est.'!D108,\"\")","v":""},{"$f":"IF('Scope and Prelim. Cost Est.'!E108<>\"\",'Scope and Prelim. Cost Est.'!E108,\"\")","v":""},{"$f":"IF('Scope and Prelim. Cost Est.'!F108<>\"\",'Scope and Prelim. Cost Est.'!F108,\"\")","v":""},{"$f":"IF('Scope and Prelim. Cost Est.'!G108<>\"\",'Scope and Prelim. Cost Est.'!G108,\"\")","v":""},{"$f":"IF('Scope and Prelim. Cost Est.'!H108<>\"\",'Scope and Prelim. Cost Est.'!H108,\"\")","v":""},{"$f":"IF('Scope and Prelim. Cost Est.'!I108<>\"\",'Scope and Prelim. Cost Est.'!I108,\"\")","v":""},{"$f":"IF('Scope and Prelim. Cost Est.'!J108<>\"\",'Scope and Prelim. Cost Est.'!J108,\"\")","v":""},{"$f":"IF('Scope and Prelim. Cost Est.'!K108<>\"\",'Scope and Prelim. Cost Est.'!K108,\"\")","v":""},{"$f":"IF('Scope and Prelim. Cost Est.'!L108<>\"\",'Scope and Prelim. Cost Est.'!L108,\"\")","v":""},"",{"$f":"IF('Scope and Prelim. Cost Est.'!M108<>\"\",'Scope and Prelim. Cost Est.'!M108,\"\")","v":""},{"$f":"IF('Scope and Prelim. Cost Est.'!N108<>\"\",'Scope and Prelim. Cost Est.'!N108,\"\")","v":""},{"$f":"IF('Scope and Prelim. Cost Est.'!O108<>\"\",'Scope and Prelim. Cost Est.'!O108,\"\")","v":""},{"$f":"IF('Scope and Prelim. Cost Est.'!P108<>\"\",'Scope and Prelim. Cost Est.'!P108,\"\")","v":0},null,null,{"$f":"IF('Scope and Prelim. Cost Est.'!B108<>\"\",'Scope and Prelim. Cost Est.'!B108,\"\")","v":""},{"$f":"IF('Scope and Prelim. Cost Est.'!C108<>\"\",'Scope and Prelim. Cost Est.'!C108,\"\")","v":""},{"$f":"IF('Scope and Prelim. Cost Est.'!Q108<>\"\",'Scope and Prelim. Cost Est.'!Q108,\"\")","v":""},{"$f":"IF('Scope and Prelim. Cost Est.'!R108<>\"\",'Scope and Prelim. Cost Est.'!R108,\"\")","v":""},{"$f":"IF('Scope and Prelim. Cost Est.'!S108<>\"\",'Scope and Prelim. Cost Est.'!S108,\"\")","v":""},{"$f":"IF('Scope and Prelim. Cost Est.'!T108<>\"\",'Scope and Prelim. Cost Est.'!T108,\"\")","v":""},{"$f":"IF('Scope and Prelim. Cost Est.'!U108<>\"\",'Scope and Prelim. Cost Est.'!U108,\"\")","v":""},{"$f":"IF('Scope and Prelim. Cost Est.'!V108<>\"\",'Scope and Prelim. Cost Est.'!V108,\"\")","v":""},{"$f":"IF('Scope and Prelim. Cost Est.'!W108<>\"\",'Scope and Prelim. Cost Est.'!W108,\"\")","v":""},{"$f":"IF('Scope and Prelim. Cost Est.'!X108<>\"\",'Scope and Prelim. Cost Est.'!X108,\"\")","v":""},{"$f":"IF('Scope and Prelim. Cost Est.'!Y108<>\"\",'Scope and Prelim. Cost Est.'!Y108,\"\")","v":""},{"$f":"IF('Scope and Prelim. Cost Est.'!Z108<>\"\",'Scope and Prelim. Cost Est.'!Z108,\"\")","v":""},{"$f":"IF('Scope and Prelim. Cost Est.'!AA108<>\"\",'Scope and Prelim. Cost Est.'!AA108,\"\")","v":""},"",{"$f":"IF('Scope and Prelim. Cost Est.'!AB108<>\"\",'Scope and Prelim. Cost Est.'!AB108,\"\")","v":""},{"$f":"IF('Scope and Prelim. Cost Est.'!AC108<>\"\",'Scope and Prelim. Cost Est.'!AC108,\"\")","v":""},{"$f":"IF('Scope and Prelim. Cost Est.'!AD108<>\"\",'Scope and Prelim. Cost Est.'!AD108,\"\")","v":""},{"$f":"IF('Scope and Prelim. Cost Est.'!AE108<>\"\",'Scope and Prelim. Cost Est.'!AE108,\"\")","v":""},{"$f":"IF('Scope and Prelim. Cost Est.'!AF108<>\"\",'Scope and Prelim. Cost Est.'!AF108,\"\")","v":""},{"$f":"IF('Scope and Prelim. Cost Est.'!AG108<>\"\",'Scope and Prelim. Cost Est.'!AG108,\"\")","v":""},{"$f":"IF('Scope and Prelim. Cost Est.'!AH108<>\"\",'Scope and Prelim. Cost Est.'!AH108,\"\")","v":""}]
[null,{"$f":"IF('Scope and Prelim. Cost Est.'!B109<>\"\",'Scope and Prelim. Cost Est.'!B109,\"\")","v":""},{"$f":"IF('Scope and Prelim. Cost Est.'!C109<>\"\",'Scope and Prelim. Cost Est.'!C109,\"\")","v":""},{"$f":"IF('Scope and Prelim. Cost Est.'!D109<>\"\",'Scope and Prelim. Cost Est.'!D109,\"\")","v":""},{"$f":"IF('Scope and Prelim. Cost Est.'!E109<>\"\",'Scope and Prelim. Cost Est.'!E109,\"\")","v":""},{"$f":"IF('Scope and Prelim. Cost Est.'!F109<>\"\",'Scope and Prelim. Cost Est.'!F109,\"\")","v":""},{"$f":"IF('Scope and Prelim. Cost Est.'!G109<>\"\",'Scope and Prelim. Cost Est.'!G109,\"\")","v":""},{"$f":"IF('Scope and Prelim. Cost Est.'!H109<>\"\",'Scope and Prelim. Cost Est.'!H109,\"\")","v":""},{"$f":"IF('Scope and Prelim. Cost Est.'!I109<>\"\",'Scope and Prelim. Cost Est.'!I109,\"\")","v":""},{"$f":"IF('Scope and Prelim. Cost Est.'!J109<>\"\",'Scope and Prelim. Cost Est.'!J109,\"\")","v":""},{"$f":"IF('Scope and Prelim. Cost Est.'!K109<>\"\",'Scope and Prelim. Cost Est.'!K109,\"\")","v":""},{"$f":"IF('Scope and Prelim. Cost Est.'!L109<>\"\",'Scope and Prelim. Cost Est.'!L109,\"\")","v":""},"",{"$f":"IF('Scope and Prelim. Cost Est.'!M109<>\"\",'Scope and Prelim. Cost Est.'!M109,\"\")","v":""},{"$f":"IF('Scope and Prelim. Cost Est.'!N109<>\"\",'Scope and Prelim. Cost Est.'!N109,\"\")","v":""},{"$f":"IF('Scope and Prelim. Cost Est.'!O109<>\"\",'Scope and Prelim. Cost Est.'!O109,\"\")","v":""},{"$f":"IF('Scope and Prelim. Cost Est.'!P109<>\"\",'Scope and Prelim. Cost Est.'!P109,\"\")","v":0},null,null,{"$f":"IF('Scope and Prelim. Cost Est.'!B109<>\"\",'Scope and Prelim. Cost Est.'!B109,\"\")","v":""},{"$f":"IF('Scope and Prelim. Cost Est.'!C109<>\"\",'Scope and Prelim. Cost Est.'!C109,\"\")","v":""},{"$f":"IF('Scope and Prelim. Cost Est.'!Q109<>\"\",'Scope and Prelim. Cost Est.'!Q109,\"\")","v":""},{"$f":"IF('Scope and Prelim. Cost Est.'!R109<>\"\",'Scope and Prelim. Cost Est.'!R109,\"\")","v":""},{"$f":"IF('Scope and Prelim. Cost Est.'!S109<>\"\",'Scope and Prelim. Cost Est.'!S109,\"\")","v":""},{"$f":"IF('Scope and Prelim. Cost Est.'!T109<>\"\",'Scope and Prelim. Cost Est.'!T109,\"\")","v":""},{"$f":"IF('Scope and Prelim. Cost Est.'!U109<>\"\",'Scope and Prelim. Cost Est.'!U109,\"\")","v":""},{"$f":"IF('Scope and Prelim. Cost Est.'!V109<>\"\",'Scope and Prelim. Cost Est.'!V109,\"\")","v":""},{"$f":"IF('Scope and Prelim. Cost Est.'!W109<>\"\",'Scope and Prelim. Cost Est.'!W109,\"\")","v":""},{"$f":"IF('Scope and Prelim. Cost Est.'!X109<>\"\",'Scope and Prelim. Cost Est.'!X109,\"\")","v":""},{"$f":"IF('Scope and Prelim. Cost Est.'!Y109<>\"\",'Scope and Prelim. Cost Est.'!Y109,\"\")","v":""},{"$f":"IF('Scope and Prelim. Cost Est.'!Z109<>\"\",'Scope and Prelim. Cost Est.'!Z109,\"\")","v":""},{"$f":"IF('Scope and Prelim. Cost Est.'!AA109<>\"\",'Scope and Prelim. Cost Est.'!AA109,\"\")","v":""},"",{"$f":"IF('Scope and Prelim. Cost Est.'!AB109<>\"\",'Scope and Prelim. Cost Est.'!AB109,\"\")","v":""},{"$f":"IF('Scope and Prelim. Cost Est.'!AC109<>\"\",'Scope and Prelim. Cost Est.'!AC109,\"\")","v":""},{"$f":"IF('Scope and Prelim. Cost Est.'!AD109<>\"\",'Scope and Prelim. Cost Est.'!AD109,\"\")","v":""},{"$f":"IF('Scope and Prelim. Cost Est.'!AE109<>\"\",'Scope and Prelim. Cost Est.'!AE109,\"\")","v":""},{"$f":"IF('Scope and Prelim. Cost Est.'!AF109<>\"\",'Scope and Prelim. Cost Est.'!AF109,\"\")","v":""},{"$f":"IF('Scope and Prelim. Cost Est.'!AG109<>\"\",'Scope and Prelim. Cost Est.'!AG109,\"\")","v":""},{"$f":"IF('Scope and Prelim. Cost Est.'!AH109<>\"\",'Scope and Prelim. Cost Est.'!AH109,\"\")","v":""}]
[null,{"$f":"IF('Scope and Prelim. Cost Est.'!B110<>\"\",'Scope and Prelim. Cost Est.'!B110,\"\")","v":""},{"$f":"IF('Scope and Prelim. Cost Est.'!C110<>\"\",'Scope and Prelim. Cost Est.'!C110,\"\")","v":""},{"$f":"IF('Scope and Prelim. Cost Est.'!D110<>\"\",'Scope and Prelim. Cost Est.'!D110,\"\")","v":""},{"$f":"IF('Scope and Prelim. Cost Est.'!E110<>\"\",'Scope and Prelim. Cost Est.'!E110,\"\")","v":""},{"$f":"IF('Scope and Prelim. Cost Est.'!F110<>\"\",'Scope and Prelim. Cost Est.'!F110,\"\")","v":""},{"$f":"IF('Scope and Prelim. Cost Est.'!G110<>\"\",'Scope and Prelim. Cost Est.'!G110,\"\")","v":""},{"$f":"IF('Scope and Prelim. Cost Est.'!H110<>\"\",'Scope and Prelim. Cost Est.'!H110,\"\")","v":""},{"$f":"IF('Scope and Prelim. Cost Est.'!I110<>\"\",'Scope and Prelim. Cost Est.'!I110,\"\")","v":""},{"$f":"IF('Scope and Prelim. Cost Est.'!J110<>\"\",'Scope and Prelim. Cost Est.'!J110,\"\")","v":""},{"$f":"IF('Scope and Prelim. Cost Est.'!K110<>\"\",'Scope and Prelim. Cost Est.'!K110,\"\")","v":""},{"$f":"IF('Scope and Prelim. Cost Est.'!L110<>\"\",'Scope and Prelim. Cost Est.'!L110,\"\")","v":""},"",{"$f":"IF('Scope and Prelim. Cost Est.'!M110<>\"\",'Scope and Prelim. Cost Est.'!M110,\"\")","v":""},{"$f":"IF('Scope and Prelim. Cost Est.'!N110<>\"\",'Scope and Prelim. Cost Est.'!N110,\"\")","v":""},{"$f":"IF('Scope and Prelim. Cost Est.'!O110<>\"\",'Scope and Prelim. Cost Est.'!O110,\"\")","v":""},{"$f":"IF('Scope and Prelim. Cost Est.'!P110<>\"\",'Scope and Prelim. Cost Est.'!P110,\"\")","v":0},null,null,{"$f":"IF('Scope and Prelim. Cost Est.'!B110<>\"\",'Scope and Prelim. Cost Est.'!B110,\"\")","v":""},{"$f":"IF('Scope and Prelim. Cost Est.'!C110<>\"\",'Scope and Prelim. Cost Est.'!C110,\"\")","v":""},{"$f":"IF('Scope and Prelim. Cost Est.'!Q110<>\"\",'Scope and Prelim. Cost Est.'!Q110,\"\")","v":""},{"$f":"IF('Scope and Prelim. Cost Est.'!R110<>\"\",'Scope and Prelim. Cost Est.'!R110,\"\")","v":""},{"$f":"IF('Scope and Prelim. Cost Est.'!S110<>\"\",'Scope and Prelim. Cost Est.'!S110,\"\")","v":""},{"$f":"IF('Scope and Prelim. Cost Est.'!T110<>\"\",'Scope and Prelim. Cost Est.'!T110,\"\")","v":""},{"$f":"IF('Scope and Prelim. Cost Est.'!U110<>\"\",'Scope and Prelim. Cost Est.'!U110,\"\")","v":""},{"$f":"IF('Scope and Prelim. Cost Est.'!V110<>\"\",'Scope and Prelim. Cost Est.'!V110,\"\")","v":""},{"$f":"IF('Scope and Prelim. Cost Est.'!W110<>\"\",'Scope and Prelim. Cost Est.'!W110,\"\")","v":""},{"$f":"IF('Scope and Prelim. Cost Est.'!X110<>\"\",'Scope and Prelim. Cost Est.'!X110,\"\")","v":""},{"$f":"IF('Scope and Prelim. Cost Est.'!Y110<>\"\",'Scope and Prelim. Cost Est.'!Y110,\"\")","v":""},{"$f":"IF('Scope and Prelim. Cost Est.'!Z110<>\"\",'Scope and Prelim. Cost Est.'!Z110,\"\")","v":""},{"$f":"IF('Scope and Prelim. Cost Est.'!AA110<>\"\",'Scope and Prelim. Cost Est.'!AA110,\"\")","v":""},"",{"$f":"IF('Scope and Prelim. Cost Est.'!AB110<>\"\",'Scope and Prelim. Cost Est.'!AB110,\"\")","v":""},{"$f":"IF('Scope and Prelim. Cost Est.'!AC110<>\"\",'Scope and Prelim. Cost Est.'!AC110,\"\")","v":""},{"$f":"IF('Scope and Prelim. Cost Est.'!AD110<>\"\",'Scope and Prelim. Cost Est.'!AD110,\"\")","v":""},{"$f":"IF('Scope and Prelim. Cost Est.'!AE110<>\"\",'Scope and Prelim. Cost Est.'!AE110,\"\")","v":""},{"$f":"IF('Scope and Prelim. Cost Est.'!AF110<>\"\",'Scope and Prelim. Cost Est.'!AF110,\"\")","v":""},{"$f":"IF('Scope and Prelim. Cost Est.'!AG110<>\"\",'Scope and Prelim. Cost Est.'!AG110,\"\")","v":""},{"$f":"IF('Scope and Prelim. Cost Est.'!AH110<>\"\",'Scope and Prelim. Cost Est.'!AH110,\"\")","v":""}]
[]
[null,"Measure Name","Measure Description","Important Assumptions (cont.)","Scope Area\n(cont.)","Energy Efficiency Measure?\n(cont.)","Measure Category\n(cont.)","Measure Classification\n(cont.)","Urgency\n(cont.)","Measure Type\n(cont.)","Unit Type\n{Default}","Unit Type {user entry}","Unit Type\n(cont.)","Qty\n(cont.)","Cost Per Unit\n(cont.)","Cost Source (e.g. 2017 R.S. Means, contractor quote, etc.)\n(cont.)","Total Cost \n(cont.)",null,null,"Measure Name\n(cont.)","Measure Description\n(cont.)","Projected Annual Electricity Savings\n (kWh/yr)\nCooling","Projected Annual Electricity Savings\n (kWh/yr)\nNon-Cooling","Project Annual Fuel Savings (MMBtu/yr)\n Heating","Project Annual Fuel Savings (MMBtu/yr)\nNon-Heating","Affected Fuel (for MMBtu Savings)","Projected Annual Cost Savings \n($/yr)","SIR","Simple Payback","Savings Accrue to Tenants?","Measure Life (years)\n{Default}","Measure Life \n(years) \n{user entry}","Measure Life","Full or Incremental Savings","Existing Equipment Year of Manufacture","Projected Annual Water Savings (gal/yr)","Potential Health Benefit Impact ","Incentive #1","Incentive #2","Incentive # 3"]
[null,{"$f":"IF('Scope and Prelim. Cost Est.'!B111<>\"\",'Scope and Prelim. Cost Est.'!B111,\"\")","v":""},{"$f":"IF('Scope and Prelim. Cost Est.'!C111<>\"\",'Scope and Prelim. Cost Est.'!C111,\"\")","v":""},{"$f":"IF('Scope and Prelim. Cost Est.'!D111<>\"\",'Scope and Prelim. Cost Est.'!D111,\"\")","v":""},{"$f":"IF('Scope and Prelim. Cost Est.'!E111<>\"\",'Scope and Prelim. Cost Est.'!E111,\"\")","v":""},{"$f":"IF('Scope and Prelim. Cost Est.'!F111<>\"\",'Scope and Prelim. Cost Est.'!F111,\"\")","v":""},{"$f":"IF('Scope and Prelim. Cost Est.'!G111<>\"\",'Scope and Prelim. Cost Est.'!G111,\"\")","v":""},{"$f":"IF('Scope and Prelim. Cost Est.'!H111<>\"\",'Scope and Prelim. Cost Est.'!H111,\"\")","v":""},{"$f":"IF('Scope and Prelim. Cost Est.'!I111<>\"\",'Scope and Prelim. Cost Est.'!I111,\"\")","v":""},{"$f":"IF('Scope and Prelim. Cost Est.'!J111<>\"\",'Scope and Prelim. Cost Est.'!J111,\"\")","v":""},{"$f":"IF('Scope and Prelim. Cost Est.'!K111<>\"\",'Scope and Prelim. Cost Est.'!K111,\"\")","v":""},{"$f":"IF('Scope and Prelim. Cost Est.'!L111<>\"\",'Scope and Prelim. Cost Est.'!L111,\"\")","v":""},"",{"$f":"IF('Scope and Prelim. Cost Est.'!M111<>\"\",'Scope and Prelim. Cost Est.'!M111,\"\")","v":""},{"$f":"IF('Scope and Prelim. Cost Est.'!N111<>\"\",'Scope and Prelim. Cost Est.'!N111,\"\")","v":""},{"$f":"IF('Scope and Prelim. Cost Est.'!O111<>\"\",'Scope and Prelim. Cost Est.'!O111,\"\")","v":""},{"$f":"IF('Scope and Prelim. Cost Est.'!P111<>\"\",'Scope and Prelim. Cost Est.'!P111,\"\")","v":0},null,null,{"$f":"IF('Scope and Prelim. Cost Est.'!B111<>\"\",'Scope and Prelim. Cost Est.'!B111,\"\")","v":""},{"$f":"IF('Scope and Prelim. Cost Est.'!C111<>\"\",'Scope and Prelim. Cost Est.'!C111,\"\")","v":""},{"$f":"IF('Scope and Prelim. Cost Est.'!Q111<>\"\",'Scope and Prelim. Cost Est.'!Q111,\"\")","v":""},{"$f":"IF('Scope and Prelim. Cost Est.'!R111<>\"\",'Scope and Prelim. Cost Est.'!R111,\"\")","v":""},{"$f":"IF('Scope and Prelim. Cost Est.'!S111<>\"\",'Scope and Prelim. Cost Est.'!S111,\"\")","v":""},{"$f":"IF('Scope and Prelim. Cost Est.'!T111<>\"\",'Scope and Prelim. Cost Est.'!T111,\"\")","v":""},{"$f":"IF('Scope and Prelim. Cost Est.'!U111<>\"\",'Scope and Prelim. Cost Est.'!U111,\"\")","v":""},{"$f":"IF('Scope and Prelim. Cost Est.'!V111<>\"\",'Scope and Prelim. Cost Est.'!V111,\"\")","v":""},{"$f":"IF('Scope and Prelim. Cost Est.'!W111<>\"\",'Scope and Prelim. Cost Est.'!W111,\"\")","v":""},{"$f":"IF('Scope and Prelim. Cost Est.'!X111<>\"\",'Scope and Prelim. Cost Est.'!X111,\"\")","v":""},{"$f":"IF('Scope and Prelim. Cost Est.'!Y111<>\"\",'Scope and Prelim. Cost Est.'!Y111,\"\")","v":""},{"$f":"IF('Scope and Prelim. Cost Est.'!Z111<>\"\",'Scope and Prelim. Cost Est.'!Z111,\"\")","v":""},{"$f":"IF('Scope and Prelim. Cost Est.'!AA111<>\"\",'Scope and Prelim. Cost Est.'!AA111,\"\")","v":""},"",{"$f":"IF('Scope and Prelim. Cost Est.'!AB111<>\"\",'Scope and Prelim. Cost Est.'!AB111,\"\")","v":""},{"$f":"IF('Scope and Prelim. Cost Est.'!AC111<>\"\",'Scope and Prelim. Cost Est.'!AC111,\"\")","v":""},{"$f":"IF('Scope and Prelim. Cost Est.'!AD111<>\"\",'Scope and Prelim. Cost Est.'!AD111,\"\")","v":""},{"$f":"IF('Scope and Prelim. Cost Est.'!AE111<>\"\",'Scope and Prelim. Cost Est.'!AE111,\"\")","v":""},{"$f":"IF('Scope and Prelim. Cost Est.'!AF111<>\"\",'Scope and Prelim. Cost Est.'!AF111,\"\")","v":""},{"$f":"IF('Scope and Prelim. Cost Est.'!AG111<>\"\",'Scope and Prelim. Cost Est.'!AG111,\"\")","v":""},{"$f":"IF('Scope and Prelim. Cost Est.'!AH111<>\"\",'Scope and Prelim. Cost Est.'!AH111,\"\")","v":""}]
[null,{"$f":"IF('Scope and Prelim. Cost Est.'!B112<>\"\",'Scope and Prelim. Cost Est.'!B112,\"\")","v":""},{"$f":"IF('Scope and Prelim. Cost Est.'!C112<>\"\",'Scope and Prelim. Cost Est.'!C112,\"\")","v":""},{"$f":"IF('Scope and Prelim. Cost Est.'!D112<>\"\",'Scope and Prelim. Cost Est.'!D112,\"\")","v":""},{"$f":"IF('Scope and Prelim. Cost Est.'!E112<>\"\",'Scope and Prelim. Cost Est.'!E112,\"\")","v":""},{"$f":"IF('Scope and Prelim. Cost Est.'!F112<>\"\",'Scope and Prelim. Cost Est.'!F112,\"\")","v":""},{"$f":"IF('Scope and Prelim. Cost Est.'!G112<>\"\",'Scope and Prelim. Cost Est.'!G112,\"\")","v":""},{"$f":"IF('Scope and Prelim. Cost Est.'!H112<>\"\",'Scope and Prelim. Cost Est.'!H112,\"\")","v":""},{"$f":"IF('Scope and Prelim. Cost Est.'!I112<>\"\",'Scope and Prelim. Cost Est.'!I112,\"\")","v":""},{"$f":"IF('Scope and Prelim. Cost Est.'!J112<>\"\",'Scope and Prelim. Cost Est.'!J112,\"\")","v":""},{"$f":"IF('Scope and Prelim. Cost Est.'!K112<>\"\",'Scope and Prelim. Cost Est.'!K112,\"\")","v":""},{"$f":"IF('Scope and Prelim. Cost Est.'!L112<>\"\",'Scope and Prelim. Cost Est.'!L112,\"\")","v":""},"",{"$f":"IF('Scope and Prelim. Cost Est.'!M112<>\"\",'Scope and Prelim. Cost Est.'!M112,\"\")","v":""},{"$f":"IF('Scope and Prelim. Cost Est.'!N112<>\"\",'Scope and Prelim. Cost Est.'!N112,\"\")","v":""},{"$f":"IF('Scope and Prelim. Cost Est.'!O112<>\"\",'Scope and Prelim. Cost Est.'!O112,\"\")","v":""},{"$f":"IF('Scope and Prelim. Cost Est.'!P112<>\"\",'Scope and Prelim. Cost Est.'!P112,\"\")","v":0},null,null,{"$f":"IF('Scope and Prelim. Cost Est.'!B112<>\"\",'Scope and Prelim. Cost Est.'!B112,\"\")","v":""},{"$f":"IF('Scope and Prelim. Cost Est.'!C112<>\"\",'Scope and Prelim. Cost Est.'!C112,\"\")","v":""},{"$f":"IF('Scope and Prelim. Cost Est.'!Q112<>\"\",'Scope and Prelim. Cost Est.'!Q112,\"\")","v":""},{"$f":"IF('Scope and Prelim. Cost Est.'!R112<>\"\",'Scope and Prelim. Cost Est.'!R112,\"\")","v":""},{"$f":"IF('Scope and Prelim. Cost Est.'!S112<>\"\",'Scope and Prelim. Cost Est.'!S112,\"\")","v":""},{"$f":"IF('Scope and Prelim. Cost Est.'!T112<>\"\",'Scope and Prelim. Cost Est.'!T112,\"\")","v":""},{"$f":"IF('Scope and Prelim. Cost Est.'!U112<>\"\",'Scope and Prelim. Cost Est.'!U112,\"\")","v":""},{"$f":"IF('Scope and Prelim. Cost Est.'!V112<>\"\",'Scope and Prelim. Cost Est.'!V112,\"\")","v":""},{"$f":"IF('Scope and Prelim. Cost Est.'!W112<>\"\",'Scope and Prelim. Cost Est.'!W112,\"\")","v":""},{"$f":"IF('Scope and Prelim. Cost Est.'!X112<>\"\",'Scope and Prelim. Cost Est.'!X112,\"\")","v":""},{"$f":"IF('Scope and Prelim. Cost Est.'!Y112<>\"\",'Scope and Prelim. Cost Est.'!Y112,\"\")","v":""},{"$f":"IF('Scope and Prelim. Cost Est.'!Z112<>\"\",'Scope and Prelim. Cost Est.'!Z112,\"\")","v":""},{"$f":"IF('Scope and Prelim. Cost Est.'!AA112<>\"\",'Scope and Prelim. Cost Est.'!AA112,\"\")","v":""},"",{"$f":"IF('Scope and Prelim. Cost Est.'!AB112<>\"\",'Scope and Prelim. Cost Est.'!AB112,\"\")","v":""},{"$f":"IF('Scope and Prelim. Cost Est.'!AC112<>\"\",'Scope and Prelim. Cost Est.'!AC112,\"\")","v":""},{"$f":"IF('Scope and Prelim. Cost Est.'!AD112<>\"\",'Scope and Prelim. Cost Est.'!AD112,\"\")","v":""},{"$f":"IF('Scope and Prelim. Cost Est.'!AE112<>\"\",'Scope and Prelim. Cost Est.'!AE112,\"\")","v":""},{"$f":"IF('Scope and Prelim. Cost Est.'!AF112<>\"\",'Scope and Prelim. Cost Est.'!AF112,\"\")","v":""},{"$f":"IF('Scope and Prelim. Cost Est.'!AG112<>\"\",'Scope and Prelim. Cost Est.'!AG112,\"\")","v":""},{"$f":"IF('Scope and Prelim. Cost Est.'!AH112<>\"\",'Scope and Prelim. Cost Est.'!AH112,\"\")","v":""}]
[null,{"$f":"IF('Scope and Prelim. Cost Est.'!B113<>\"\",'Scope and Prelim. Cost Est.'!B113,\"\")","v":""},{"$f":"IF('Scope and Prelim. Cost Est.'!C113<>\"\",'Scope and Prelim. Cost Est.'!C113,\"\")","v":""},{"$f":"IF('Scope and Prelim. Cost Est.'!D113<>\"\",'Scope and Prelim. Cost Est.'!D113,\"\")","v":""},{"$f":"IF('Scope and Prelim. Cost Est.'!E113<>\"\",'Scope and Prelim. Cost Est.'!E113,\"\")","v":""},{"$f":"IF('Scope and Prelim. Cost Est.'!F113<>\"\",'Scope and Prelim. Cost Est.'!F113,\"\")","v":""},{"$f":"IF('Scope and Prelim. Cost Est.'!G113<>\"\",'Scope and Prelim. Cost Est.'!G113,\"\")","v":""},{"$f":"IF('Scope and Prelim. Cost Est.'!H113<>\"\",'Scope and Prelim. Cost Est.'!H113,\"\")","v":""},{"$f":"IF('Scope and Prelim. Cost Est.'!I113<>\"\",'Scope and Prelim. Cost Est.'!I113,\"\")","v":""},{"$f":"IF('Scope and Prelim. Cost Est.'!J113<>\"\",'Scope and Prelim. Cost Est.'!J113,\"\")","v":""},{"$f":"IF('Scope and Prelim. Cost Est.'!K113<>\"\",'Scope and Prelim. Cost Est.'!K113,\"\")","v":""},{"$f":"IF('Scope and Prelim. Cost Est.'!L113<>\"\",'Scope and Prelim. Cost Est.'!L113,\"\")","v":""},"",{"$f":"IF('Scope and Prelim. Cost Est.'!M113<>\"\",'Scope and Prelim. Cost Est.'!M113,\"\")","v":""},{"$f":"IF('Scope and Prelim. Cost Est.'!N113<>\"\",'Scope and Prelim. Cost Est.'!N113,\"\")","v":""},{"$f":"IF('Scope and Prelim. Cost Est.'!O113<>\"\",'Scope and Prelim. Cost Est.'!O113,\"\")","v":""},{"$f":"IF('Scope and Prelim. Cost Est.'!P113<>\"\",'Scope and Prelim. Cost Est.'!P113,\"\")","v":0},null,null,{"$f":"IF('Scope and Prelim. Cost Est.'!B113<>\"\",'Scope and Prelim. Cost Est.'!B113,\"\")","v":""},{"$f":"IF('Scope and Prelim. Cost Est.'!C113<>\"\",'Scope and Prelim. Cost Est.'!C113,\"\")","v":""},{"$f":"IF('Scope and Prelim. Cost Est.'!Q113<>\"\",'Scope and Prelim. Cost Est.'!Q113,\"\")","v":""},{"$f":"IF('Scope and Prelim. Cost Est.'!R113<>\"\",'Scope and Prelim. Cost Est.'!R113,\"\")","v":""},{"$f":"IF('Scope and Prelim. Cost Est.'!S113<>\"\",'Scope and Prelim. Cost Est.'!S113,\"\")","v":""},{"$f":"IF('Scope and Prelim. Cost Est.'!T113<>\"\",'Scope and Prelim. Cost Est.'!T113,\"\")","v":""},{"$f":"IF('Scope and Prelim. Cost Est.'!U113<>\"\",'Scope and Prelim. Cost Est.'!U113,\"\")","v":""},{"$f":"IF('Scope and Prelim. Cost Est.'!V113<>\"\",'Scope and Prelim. Cost Est.'!V113,\"\")","v":""},{"$f":"IF('Scope and Prelim. Cost Est.'!W113<>\"\",'Scope and Prelim. Cost Est.'!W113,\"\")","v":""},{"$f":"IF('Scope and Prelim. Cost Est.'!X113<>\"\",'Scope and Prelim. Cost Est.'!X113,\"\")","v":""},{"$f":"IF('Scope and Prelim. Cost Est.'!Y113<>\"\",'Scope and Prelim. Cost Est.'!Y113,\"\")","v":""},{"$f":"IF('Scope and Prelim. Cost Est.'!Z113<>\"\",'Scope and Prelim. Cost Est.'!Z113,\"\")","v":""},{"$f":"IF('Scope and Prelim. Cost Est.'!AA113<>\"\",'Scope and Prelim. Cost Est.'!AA113,\"\")","v":""},"",{"$f":"IF('Scope and Prelim. Cost Est.'!AB113<>\"\",'Scope and Prelim. Cost Est.'!AB113,\"\")","v":""},{"$f":"IF('Scope and Prelim. Cost Est.'!AC113<>\"\",'Scope and Prelim. Cost Est.'!AC113,\"\")","v":""},{"$f":"IF('Scope and Prelim. Cost Est.'!AD113<>\"\",'Scope and Prelim. Cost Est.'!AD113,\"\")","v":""},{"$f":"IF('Scope and Prelim. Cost Est.'!AE113<>\"\",'Scope and Prelim. Cost Est.'!AE113,\"\")","v":""},{"$f":"IF('Scope and Prelim. Cost Est.'!AF113<>\"\",'Scope and Prelim. Cost Est.'!AF113,\"\")","v":""},{"$f":"IF('Scope and Prelim. Cost Est.'!AG113<>\"\",'Scope and Prelim. Cost Est.'!AG113,\"\")","v":""},{"$f":"IF('Scope and Prelim. Cost Est.'!AH113<>\"\",'Scope and Prelim. Cost Est.'!AH113,\"\")","v":""}]
[null,{"$f":"IF('Scope and Prelim. Cost Est.'!B114<>\"\",'Scope and Prelim. Cost Est.'!B114,\"\")","v":""},{"$f":"IF('Scope and Prelim. Cost Est.'!C114<>\"\",'Scope and Prelim. Cost Est.'!C114,\"\")","v":""},{"$f":"IF('Scope and Prelim. Cost Est.'!D114<>\"\",'Scope and Prelim. Cost Est.'!D114,\"\")","v":""},{"$f":"IF('Scope and Prelim. Cost Est.'!E114<>\"\",'Scope and Prelim. Cost Est.'!E114,\"\")","v":""},{"$f":"IF('Scope and Prelim. Cost Est.'!F114<>\"\",'Scope and Prelim. Cost Est.'!F114,\"\")","v":""},{"$f":"IF('Scope and Prelim. Cost Est.'!G114<>\"\",'Scope and Prelim. Cost Est.'!G114,\"\")","v":""},{"$f":"IF('Scope and Prelim. Cost Est.'!H114<>\"\",'Scope and Prelim. Cost Est.'!H114,\"\")","v":""},{"$f":"IF('Scope and Prelim. Cost Est.'!I114<>\"\",'Scope and Prelim. Cost Est.'!I114,\"\")","v":""},{"$f":"IF('Scope and Prelim. Cost Est.'!J114<>\"\",'Scope and Prelim. Cost Est.'!J114,\"\")","v":""},{"$f":"IF('Scope and Prelim. Cost Est.'!K114<>\"\",'Scope and Prelim. Cost Est.'!K114,\"\")","v":""},{"$f":"IF('Scope and Prelim. Cost Est.'!L114<>\"\",'Scope and Prelim. Cost Est.'!L114,\"\")","v":""},"",{"$f":"IF('Scope and Prelim. Cost Est.'!M114<>\"\",'Scope and Prelim. Cost Est.'!M114,\"\")","v":""},{"$f":"IF('Scope and Prelim. Cost Est.'!N114<>\"\",'Scope and Prelim. Cost Est.'!N114,\"\")","v":""},{"$f":"IF('Scope and Prelim. Cost Est.'!O114<>\"\",'Scope and Prelim. Cost Est.'!O114,\"\")","v":""},{"$f":"IF('Scope and Prelim. Cost Est.'!P114<>\"\",'Scope and Prelim. Cost Est.'!P114,\"\")","v":0},null,null,{"$f":"IF('Scope and Prelim. Cost Est.'!B114<>\"\",'Scope and Prelim. Cost Est.'!B114,\"\")","v":""},{"$f":"IF('Scope and Prelim. Cost Est.'!C114<>\"\",'Scope and Prelim. Cost Est.'!C114,\"\")","v":""},{"$f":"IF('Scope and Prelim. Cost Est.'!Q114<>\"\",'Scope and Prelim. Cost Est.'!Q114,\"\")","v":""},{"$f":"IF('Scope and Prelim. Cost Est.'!R114<>\"\",'Scope and Prelim. Cost Est.'!R114,\"\")","v":""},{"$f":"IF('Scope and Prelim. Cost Est.'!S114<>\"\",'Scope and Prelim. Cost Est.'!S114,\"\")","v":""},{"$f":"IF('Scope and Prelim. Cost Est.'!T114<>\"\",'Scope and Prelim. Cost Est.'!T114,\"\")","v":""},{"$f":"IF('Scope and Prelim. Cost Est.'!U114<>\"\",'Scope and Prelim. Cost Est.'!U114,\"\")","v":""},{"$f":"IF('Scope and Prelim. Cost Est.'!V114<>\"\",'Scope and Prelim. Cost Est.'!V114,\"\")","v":""},{"$f":"IF('Scope and Prelim. Cost Est.'!W114<>\"\",'Scope and Prelim. Cost Est.'!W114,\"\")","v":""},{"$f":"IF('Scope and Prelim. Cost Est.'!X114<>\"\",'Scope and Prelim. Cost Est.'!X114,\"\")","v":""},{"$f":"IF('Scope and Prelim. Cost Est.'!Y114<>\"\",'Scope and Prelim. Cost Est.'!Y114,\"\")","v":""},{"$f":"IF('Scope and Prelim. Cost Est.'!Z114<>\"\",'Scope and Prelim. Cost Est.'!Z114,\"\")","v":""},{"$f":"IF('Scope and Prelim. Cost Est.'!AA114<>\"\",'Scope and Prelim. Cost Est.'!AA114,\"\")","v":""},"",{"$f":"IF('Scope and Prelim. Cost Est.'!AB114<>\"\",'Scope and Prelim. Cost Est.'!AB114,\"\")","v":""},{"$f":"IF('Scope and Prelim. Cost Est.'!AC114<>\"\",'Scope and Prelim. Cost Est.'!AC114,\"\")","v":""},{"$f":"IF('Scope and Prelim. Cost Est.'!AD114<>\"\",'Scope and Prelim. Cost Est.'!AD114,\"\")","v":""},{"$f":"IF('Scope and Prelim. Cost Est.'!AE114<>\"\",'Scope and Prelim. Cost Est.'!AE114,\"\")","v":""},{"$f":"IF('Scope and Prelim. Cost Est.'!AF114<>\"\",'Scope and Prelim. Cost Est.'!AF114,\"\")","v":""},{"$f":"IF('Scope and Prelim. Cost Est.'!AG114<>\"\",'Scope and Prelim. Cost Est.'!AG114,\"\")","v":""},{"$f":"IF('Scope and Prelim. Cost Est.'!AH114<>\"\",'Scope and Prelim. Cost Est.'!AH114,\"\")","v":""}]
[null,{"$f":"IF('Scope and Prelim. Cost Est.'!B115<>\"\",'Scope and Prelim. Cost Est.'!B115,\"\")","v":""},{"$f":"IF('Scope and Prelim. Cost Est.'!C115<>\"\",'Scope and Prelim. Cost Est.'!C115,\"\")","v":""},{"$f":"IF('Scope and Prelim. Cost Est.'!D115<>\"\",'Scope and Prelim. Cost Est.'!D115,\"\")","v":""},{"$f":"IF('Scope and Prelim. Cost Est.'!E115<>\"\",'Scope and Prelim. Cost Est.'!E115,\"\")","v":""},{"$f":"IF('Scope and Prelim. Cost Est.'!F115<>\"\",'Scope and Prelim. Cost Est.'!F115,\"\")","v":""},{"$f":"IF('Scope and Prelim. Cost Est.'!G115<>\"\",'Scope and Prelim. Cost Est.'!G115,\"\")","v":""},{"$f":"IF('Scope and Prelim. Cost Est.'!H115<>\"\",'Scope and Prelim. Cost Est.'!H115,\"\")","v":""},{"$f":"IF('Scope and Prelim. Cost Est.'!I115<>\"\",'Scope and Prelim. Cost Est.'!I115,\"\")","v":""},{"$f":"IF('Scope and Prelim. Cost Est.'!J115<>\"\",'Scope and Prelim. Cost Est.'!J115,\"\")","v":""},{"$f":"IF('Scope and Prelim. Cost Est.'!K115<>\"\",'Scope and Prelim. Cost Est.'!K115,\"\")","v":""},{"$f":"IF('Scope and Prelim. Cost Est.'!L115<>\"\",'Scope and Prelim. Cost Est.'!L115,\"\")","v":""},"",{"$f":"IF('Scope and Prelim. Cost Est.'!M115<>\"\",'Scope and Prelim. Cost Est.'!M115,\"\")","v":""},{"$f":"IF('Scope and Prelim. Cost Est.'!N115<>\"\",'Scope and Prelim. Cost Est.'!N115,\"\")","v":""},{"$f":"IF('Scope and Prelim. Cost Est.'!O115<>\"\",'Scope and Prelim. Cost Est.'!O115,\"\")","v":""},{"$f":"IF('Scope and Prelim. Cost Est.'!P115<>\"\",'Scope and Prelim. Cost Est.'!P115,\"\")","v":0},null,null,{"$f":"IF('Scope and Prelim. Cost Est.'!B115<>\"\",'Scope and Prelim. Cost Est.'!B115,\"\")","v":""},{"$f":"IF('Scope and Prelim. Cost Est.'!C115<>\"\",'Scope and Prelim. Cost Est.'!C115,\"\")","v":""},{"$f":"IF('Scope and Prelim. Cost Est.'!Q115<>\"\",'Scope and Prelim. Cost Est.'!Q115,\"\")","v":""},{"$f":"IF('Scope and Prelim. Cost Est.'!R115<>\"\",'Scope and Prelim. Cost Est.'!R115,\"\")","v":""},{"$f":"IF('Scope and Prelim. Cost Est.'!S115<>\"\",'Scope and Prelim. Cost Est.'!S115,\"\")","v":""},{"$f":"IF('Scope and Prelim. Cost Est.'!T115<>\"\",'Scope and Prelim. Cost Est.'!T115,\"\")","v":""},{"$f":"IF('Scope and Prelim. Cost Est.'!U115<>\"\",'Scope and Prelim. Cost Est.'!U115,\"\")","v":""},{"$f":"IF('Scope and Prelim. Cost Est.'!V115<>\"\",'Scope and Prelim. Cost Est.'!V115,\"\")","v":""},{"$f":"IF('Scope and Prelim. Cost Est.'!W115<>\"\",'Scope and Prelim. Cost Est.'!W115,\"\")","v":""},{"$f":"IF('Scope and Prelim. Cost Est.'!X115<>\"\",'Scope and Prelim. Cost Est.'!X115,\"\")","v":""},{"$f":"IF('Scope and Prelim. Cost Est.'!Y115<>\"\",'Scope and Prelim. Cost Est.'!Y115,\"\")","v":""},{"$f":"IF('Scope and Prelim. Cost Est.'!Z115<>\"\",'Scope and Prelim. Cost Est.'!Z115,\"\")","v":""},{"$f":"IF('Scope and Prelim. Cost Est.'!AA115<>\"\",'Scope and Prelim. Cost Est.'!AA115,\"\")","v":""},"",{"$f":"IF('Scope and Prelim. Cost Est.'!AB115<>\"\",'Scope and Prelim. Cost Est.'!AB115,\"\")","v":""},{"$f":"IF('Scope and Prelim. Cost Est.'!AC115<>\"\",'Scope and Prelim. Cost Est.'!AC115,\"\")","v":""},{"$f":"IF('Scope and Prelim. Cost Est.'!AD115<>\"\",'Scope and Prelim. Cost Est.'!AD115,\"\")","v":""},{"$f":"IF('Scope and Prelim. Cost Est.'!AE115<>\"\",'Scope and Prelim. Cost Est.'!AE115,\"\")","v":""},{"$f":"IF('Scope and Prelim. Cost Est.'!AF115<>\"\",'Scope and Prelim. Cost Est.'!AF115,\"\")","v":""},{"$f":"IF('Scope and Prelim. Cost Est.'!AG115<>\"\",'Scope and Prelim. Cost Est.'!AG115,\"\")","v":""},{"$f":"IF('Scope and Prelim. Cost Est.'!AH115<>\"\",'Scope and Prelim. Cost Est.'!AH115,\"\")","v":""}]
[null,{"$f":"IF('Scope and Prelim. Cost Est.'!B116<>\"\",'Scope and Prelim. Cost Est.'!B116,\"\")","v":""},{"$f":"IF('Scope and Prelim. Cost Est.'!C116<>\"\",'Scope and Prelim. Cost Est.'!C116,\"\")","v":""},{"$f":"IF('Scope and Prelim. Cost Est.'!D116<>\"\",'Scope and Prelim. Cost Est.'!D116,\"\")","v":""},{"$f":"IF('Scope and Prelim. Cost Est.'!E116<>\"\",'Scope and Prelim. Cost Est.'!E116,\"\")","v":""},{"$f":"IF('Scope and Prelim. Cost Est.'!F116<>\"\",'Scope and Prelim. Cost Est.'!F116,\"\")","v":""},{"$f":"IF('Scope and Prelim. Cost Est.'!G116<>\"\",'Scope and Prelim. Cost Est.'!G116,\"\")","v":""},{"$f":"IF('Scope and Prelim. Cost Est.'!H116<>\"\",'Scope and Prelim. Cost Est.'!H116,\"\")","v":""},{"$f":"IF('Scope and Prelim. Cost Est.'!I116<>\"\",'Scope and Prelim. Cost Est.'!I116,\"\")","v":""},{"$f":"IF('Scope and Prelim. Cost Est.'!J116<>\"\",'Scope and Prelim. Cost Est.'!J116,\"\")","v":""},{"$f":"IF('Scope and Prelim. Cost Est.'!K116<>\"\",'Scope and Prelim. Cost Est.'!K116,\"\")","v":""},{"$f":"IF('Scope and Prelim. Cost Est.'!L116<>\"\",'Scope and Prelim. Cost Est.'!L116,\"\")","v":""},"",{"$f":"IF('Scope and Prelim. Cost Est.'!M116<>\"\",'Scope and Prelim. Cost Est.'!M116,\"\")","v":""},{"$f":"IF('Scope and Prelim. Cost Est.'!N116<>\"\",'Scope and Prelim. Cost Est.'!N116,\"\")","v":""},{"$f":"IF('Scope and Prelim. Cost Est.'!O116<>\"\",'Scope and Prelim. Cost Est.'!O116,\"\")","v":""},{"$f":"IF('Scope and Prelim. Cost Est.'!P116<>\"\",'Scope and Prelim. Cost Est.'!P116,\"\")","v":0},null,null,{"$f":"IF('Scope and Prelim. Cost Est.'!B116<>\"\",'Scope and Prelim. Cost Est.'!B116,\"\")","v":""},{"$f":"IF('Scope and Prelim. Cost Est.'!C116<>\"\",'Scope and Prelim. Cost Est.'!C116,\"\")","v":""},{"$f":"IF('Scope and Prelim. Cost Est.'!Q116<>\"\",'Scope and Prelim. Cost Est.'!Q116,\"\")","v":""},{"$f":"IF('Scope and Prelim. Cost Est.'!R116<>\"\",'Scope and Prelim. Cost Est.'!R116,\"\")","v":""},{"$f":"IF('Scope and Prelim. Cost Est.'!S116<>\"\",'Scope and Prelim. Cost Est.'!S116,\"\")","v":""},{"$f":"IF('Scope and Prelim. Cost Est.'!T116<>\"\",'Scope and Prelim. Cost Est.'!T116,\"\")","v":""},{"$f":"IF('Scope and Prelim. Cost Est.'!U116<>\"\",'Scope and Prelim. Cost Est.'!U116,\"\")","v":""},{"$f":"IF('Scope and Prelim. Cost Est.'!V116<>\"\",'Scope and Prelim. Cost Est.'!V116,\"\")","v":""},{"$f":"IF('Scope and Prelim. Cost Est.'!W116<>\"\",'Scope and Prelim. Cost Est.'!W116,\"\")","v":""},{"$f":"IF('Scope and Prelim. Cost Est.'!X116<>\"\",'Scope and Prelim. Cost Est.'!X116,\"\")","v":""},{"$f":"IF('Scope and Prelim. Cost Est.'!Y116<>\"\",'Scope and Prelim. Cost Est.'!Y116,\"\")","v":""},{"$f":"IF('Scope and Prelim. Cost Est.'!Z116<>\"\",'Scope and Prelim. Cost Est.'!Z116,\"\")","v":""},{"$f":"IF('Scope and Prelim. Cost Est.'!AA116<>\"\",'Scope and Prelim. Cost Est.'!AA116,\"\")","v":""},"",{"$f":"IF('Scope and Prelim. Cost Est.'!AB116<>\"\",'Scope and Prelim. Cost Est.'!AB116,\"\")","v":""},{"$f":"IF('Scope and Prelim. Cost Est.'!AC116<>\"\",'Scope and Prelim. Cost Est.'!AC116,\"\")","v":""},{"$f":"IF('Scope and Prelim. Cost Est.'!AD116<>\"\",'Scope and Prelim. Cost Est.'!AD116,\"\")","v":""},{"$f":"IF('Scope and Prelim. Cost Est.'!AE116<>\"\",'Scope and Prelim. Cost Est.'!AE116,\"\")","v":""},{"$f":"IF('Scope and Prelim. Cost Est.'!AF116<>\"\",'Scope and Prelim. Cost Est.'!AF116,\"\")","v":""},{"$f":"IF('Scope and Prelim. Cost Est.'!AG116<>\"\",'Scope and Prelim. Cost Est.'!AG116,\"\")","v":""},{"$f":"IF('Scope and Prelim. Cost Est.'!AH116<>\"\",'Scope and Prelim. Cost Est.'!AH116,\"\")","v":""}]
[null,{"$f":"IF('Scope and Prelim. Cost Est.'!B117<>\"\",'Scope and Prelim. Cost Est.'!B117,\"\")","v":""},{"$f":"IF('Scope and Prelim. Cost Est.'!C117<>\"\",'Scope and Prelim. Cost Est.'!C117,\"\")","v":""},{"$f":"IF('Scope and Prelim. Cost Est.'!D117<>\"\",'Scope and Prelim. Cost Est.'!D117,\"\")","v":""},{"$f":"IF('Scope and Prelim. Cost Est.'!E117<>\"\",'Scope and Prelim. Cost Est.'!E117,\"\")","v":""},{"$f":"IF('Scope and Prelim. Cost Est.'!F117<>\"\",'Scope and Prelim. Cost Est.'!F117,\"\")","v":""},{"$f":"IF('Scope and Prelim. Cost Est.'!G117<>\"\",'Scope and Prelim. Cost Est.'!G117,\"\")","v":""},{"$f":"IF('Scope and Prelim. Cost Est.'!H117<>\"\",'Scope and Prelim. Cost Est.'!H117,\"\")","v":""},{"$f":"IF('Scope and Prelim. Cost Est.'!I117<>\"\",'Scope and Prelim. Cost Est.'!I117,\"\")","v":""},{"$f":"IF('Scope and Prelim. Cost Est.'!J117<>\"\",'Scope and Prelim. Cost Est.'!J117,\"\")","v":""},{"$f":"IF('Scope and Prelim. Cost Est.'!K117<>\"\",'Scope and Prelim. Cost Est.'!K117,\"\")","v":""},{"$f":"IF('Scope and Prelim. Cost Est.'!L117<>\"\",'Scope and Prelim. Cost Est.'!L117,\"\")","v":""},"",{"$f":"IF('Scope and Prelim. Cost Est.'!M117<>\"\",'Scope and Prelim. Cost Est.'!M117,\"\")","v":""},{"$f":"IF('Scope and Prelim. Cost Est.'!N117<>\"\",'Scope and Prelim. Cost Est.'!N117,\"\")","v":""},{"$f":"IF('Scope and Prelim. Cost Est.'!O117<>\"\",'Scope and Prelim. Cost Est.'!O117,\"\")","v":""},{"$f":"IF('Scope and Prelim. Cost Est.'!P117<>\"\",'Scope and Prelim. Cost Est.'!P117,\"\")","v":0},null,null,{"$f":"IF('Scope and Prelim. Cost Est.'!B117<>\"\",'Scope and Prelim. Cost Est.'!B117,\"\")","v":""},{"$f":"IF('Scope and Prelim. Cost Est.'!C117<>\"\",'Scope and Prelim. Cost Est.'!C117,\"\")","v":""},{"$f":"IF('Scope and Prelim. Cost Est.'!Q117<>\"\",'Scope and Prelim. Cost Est.'!Q117,\"\")","v":""},{"$f":"IF('Scope and Prelim. Cost Est.'!R117<>\"\",'Scope and Prelim. Cost Est.'!R117,\"\")","v":""},{"$f":"IF('Scope and Prelim. Cost Est.'!S117<>\"\",'Scope and Prelim. Cost Est.'!S117,\"\")","v":""},{"$f":"IF('Scope and Prelim. Cost Est.'!T117<>\"\",'Scope and Prelim. Cost Est.'!T117,\"\")","v":""},{"$f":"IF('Scope and Prelim. Cost Est.'!U117<>\"\",'Scope and Prelim. Cost Est.'!U117,\"\")","v":""},{"$f":"IF('Scope and Prelim. Cost Est.'!V117<>\"\",'Scope and Prelim. Cost Est.'!V117,\"\")","v":""},{"$f":"IF('Scope and Prelim. Cost Est.'!W117<>\"\",'Scope and Prelim. Cost Est.'!W117,\"\")","v":""},{"$f":"IF('Scope and Prelim. Cost Est.'!X117<>\"\",'Scope and Prelim. Cost Est.'!X117,\"\")","v":""},{"$f":"IF('Scope and Prelim. Cost Est.'!Y117<>\"\",'Scope and Prelim. Cost Est.'!Y117,\"\")","v":""},{"$f":"IF('Scope and Prelim. Cost Est.'!Z117<>\"\",'Scope and Prelim. Cost Est.'!Z117,\"\")","v":""},{"$f":"IF('Scope and Prelim. Cost Est.'!AA117<>\"\",'Scope and Prelim. Cost Est.'!AA117,\"\")","v":""},"",{"$f":"IF('Scope and Prelim. Cost Est.'!AB117<>\"\",'Scope and Prelim. Cost Est.'!AB117,\"\")","v":""},{"$f":"IF('Scope and Prelim. Cost Est.'!AC117<>\"\",'Scope and Prelim. Cost Est.'!AC117,\"\")","v":""},{"$f":"IF('Scope and Prelim. Cost Est.'!AD117<>\"\",'Scope and Prelim. Cost Est.'!AD117,\"\")","v":""},{"$f":"IF('Scope and Prelim. Cost Est.'!AE117<>\"\",'Scope and Prelim. Cost Est.'!AE117,\"\")","v":""},{"$f":"IF('Scope and Prelim. Cost Est.'!AF117<>\"\",'Scope and Prelim. Cost Est.'!AF117,\"\")","v":""},{"$f":"IF('Scope and Prelim. Cost Est.'!AG117<>\"\",'Scope and Prelim. Cost Est.'!AG117,\"\")","v":""},{"$f":"IF('Scope and Prelim. Cost Est.'!AH117<>\"\",'Scope and Prelim. Cost Est.'!AH117,\"\")","v":""}]
[null,{"$f":"IF('Scope and Prelim. Cost Est.'!B118<>\"\",'Scope and Prelim. Cost Est.'!B118,\"\")","v":""},{"$f":"IF('Scope and Prelim. Cost Est.'!C118<>\"\",'Scope and Prelim. Cost Est.'!C118,\"\")","v":""},{"$f":"IF('Scope and Prelim. Cost Est.'!D118<>\"\",'Scope and Prelim. Cost Est.'!D118,\"\")","v":""},{"$f":"IF('Scope and Prelim. Cost Est.'!E118<>\"\",'Scope and Prelim. Cost Est.'!E118,\"\")","v":""},{"$f":"IF('Scope and Prelim. Cost Est.'!F118<>\"\",'Scope and Prelim. Cost Est.'!F118,\"\")","v":""},{"$f":"IF('Scope and Prelim. Cost Est.'!G118<>\"\",'Scope and Prelim. Cost Est.'!G118,\"\")","v":""},{"$f":"IF('Scope and Prelim. Cost Est.'!H118<>\"\",'Scope and Prelim. Cost Est.'!H118,\"\")","v":""},{"$f":"IF('Scope and Prelim. Cost Est.'!I118<>\"\",'Scope and Prelim. Cost Est.'!I118,\"\")","v":""},{"$f":"IF('Scope and Prelim. Cost Est.'!J118<>\"\",'Scope and Prelim. Cost Est.'!J118,\"\")","v":""},{"$f":"IF('Scope and Prelim. Cost Est.'!K118<>\"\",'Scope and Prelim. Cost Est.'!K118,\"\")","v":""},{"$f":"IF('Scope and Prelim. Cost Est.'!L118<>\"\",'Scope and Prelim. Cost Est.'!L118,\"\")","v":""},"",{"$f":"IF('Scope and Prelim. Cost Est.'!M118<>\"\",'Scope and Prelim. Cost Est.'!M118,\"\")","v":""},{"$f":"IF('Scope and Prelim. Cost Est.'!N118<>\"\",'Scope and Prelim. Cost Est.'!N118,\"\")","v":""},{"$f":"IF('Scope and Prelim. Cost Est.'!O118<>\"\",'Scope and Prelim. Cost Est.'!O118,\"\")","v":""},{"$f":"IF('Scope and Prelim. Cost Est.'!P118<>\"\",'Scope and Prelim. Cost Est.'!P118,\"\")","v":0},null,null,{"$f":"IF('Scope and Prelim. Cost Est.'!B118<>\"\",'Scope and Prelim. Cost Est.'!B118,\"\")","v":""},{"$f":"IF('Scope and Prelim. Cost Est.'!C118<>\"\",'Scope and Prelim. Cost Est.'!C118,\"\")","v":""},{"$f":"IF('Scope and Prelim. Cost Est.'!Q118<>\"\",'Scope and Prelim. Cost Est.'!Q118,\"\")","v":""},{"$f":"IF('Scope and Prelim. Cost Est.'!R118<>\"\",'Scope and Prelim. Cost Est.'!R118,\"\")","v":""},{"$f":"IF('Scope and Prelim. Cost Est.'!S118<>\"\",'Scope and Prelim. Cost Est.'!S118,\"\")","v":""},{"$f":"IF('Scope and Prelim. Cost Est.'!T118<>\"\",'Scope and Prelim. Cost Est.'!T118,\"\")","v":""},{"$f":"IF('Scope and Prelim. Cost Est.'!U118<>\"\",'Scope and Prelim. Cost Est.'!U118,\"\")","v":""},{"$f":"IF('Scope and Prelim. Cost Est.'!V118<>\"\",'Scope and Prelim. Cost Est.'!V118,\"\")","v":""},{"$f":"IF('Scope and Prelim. Cost Est.'!W118<>\"\",'Scope and Prelim. Cost Est.'!W118,\"\")","v":""},{"$f":"IF('Scope and Prelim. Cost Est.'!X118<>\"\",'Scope and Prelim. Cost Est.'!X118,\"\")","v":""},{"$f":"IF('Scope and Prelim. Cost Est.'!Y118<>\"\",'Scope and Prelim. Cost Est.'!Y118,\"\")","v":""},{"$f":"IF('Scope and Prelim. Cost Est.'!Z118<>\"\",'Scope and Prelim. Cost Est.'!Z118,\"\")","v":""},{"$f":"IF('Scope and Prelim. Cost Est.'!AA118<>\"\",'Scope and Prelim. Cost Est.'!AA118,\"\")","v":""},"",{"$f":"IF('Scope and Prelim. Cost Est.'!AB118<>\"\",'Scope and Prelim. Cost Est.'!AB118,\"\")","v":""},{"$f":"IF('Scope and Prelim. Cost Est.'!AC118<>\"\",'Scope and Prelim. Cost Est.'!AC118,\"\")","v":""},{"$f":"IF('Scope and Prelim. Cost Est.'!AD118<>\"\",'Scope and Prelim. Cost Est.'!AD118,\"\")","v":""},{"$f":"IF('Scope and Prelim. Cost Est.'!AE118<>\"\",'Scope and Prelim. Cost Est.'!AE118,\"\")","v":""},{"$f":"IF('Scope and Prelim. Cost Est.'!AF118<>\"\",'Scope and Prelim. Cost Est.'!AF118,\"\")","v":""},{"$f":"IF('Scope and Prelim. Cost Est.'!AG118<>\"\",'Scope and Prelim. Cost Est.'!AG118,\"\")","v":""},{"$f":"IF('Scope and Prelim. Cost Est.'!AH118<>\"\",'Scope and Prelim. Cost Est.'!AH118,\"\")","v":""}]
[null,{"$f":"IF('Scope and Prelim. Cost Est.'!B119<>\"\",'Scope and Prelim. Cost Est.'!B119,\"\")","v":""},{"$f":"IF('Scope and Prelim. Cost Est.'!C119<>\"\",'Scope and Prelim. Cost Est.'!C119,\"\")","v":""},{"$f":"IF('Scope and Prelim. Cost Est.'!D119<>\"\",'Scope and Prelim. Cost Est.'!D119,\"\")","v":""},{"$f":"IF('Scope and Prelim. Cost Est.'!E119<>\"\",'Scope and Prelim. Cost Est.'!E119,\"\")","v":""},{"$f":"IF('Scope and Prelim. Cost Est.'!F119<>\"\",'Scope and Prelim. Cost Est.'!F119,\"\")","v":""},{"$f":"IF('Scope and Prelim. Cost Est.'!G119<>\"\",'Scope and Prelim. Cost Est.'!G119,\"\")","v":""},{"$f":"IF('Scope and Prelim. Cost Est.'!H119<>\"\",'Scope and Prelim. Cost Est.'!H119,\"\")","v":""},{"$f":"IF('Scope and Prelim. Cost Est.'!I119<>\"\",'Scope and Prelim. Cost Est.'!I119,\"\")","v":""},{"$f":"IF('Scope and Prelim. Cost Est.'!J119<>\"\",'Scope and Prelim. Cost Est.'!J119,\"\")","v":""},{"$f":"IF('Scope and Prelim. Cost Est.'!K119<>\"\",'Scope and Prelim. Cost Est.'!K119,\"\")","v":""},{"$f":"IF('Scope and Prelim. Cost Est.'!L119<>\"\",'Scope and Prelim. Cost Est.'!L119,\"\")","v":""},"",{"$f":"IF('Scope and Prelim. Cost Est.'!M119<>\"\",'Scope and Prelim. Cost Est.'!M119,\"\")","v":""},{"$f":"IF('Scope and Prelim. Cost Est.'!N119<>\"\",'Scope and Prelim. Cost Est.'!N119,\"\")","v":""},{"$f":"IF('Scope and Prelim. Cost Est.'!O119<>\"\",'Scope and Prelim. Cost Est.'!O119,\"\")","v":""},{"$f":"IF('Scope and Prelim. Cost Est.'!P119<>\"\",'Scope and Prelim. Cost Est.'!P119,\"\")","v":0},null,null,{"$f":"IF('Scope and Prelim. Cost Est.'!B119<>\"\",'Scope and Prelim. Cost Est.'!B119,\"\")","v":""},{"$f":"IF('Scope and Prelim. Cost Est.'!C119<>\"\",'Scope and Prelim. Cost Est.'!C119,\"\")","v":""},{"$f":"IF('Scope and Prelim. Cost Est.'!Q119<>\"\",'Scope and Prelim. Cost Est.'!Q119,\"\")","v":""},{"$f":"IF('Scope and Prelim. Cost Est.'!R119<>\"\",'Scope and Prelim. Cost Est.'!R119,\"\")","v":""},{"$f":"IF('Scope and Prelim. Cost Est.'!S119<>\"\",'Scope and Prelim. Cost Est.'!S119,\"\")","v":""},{"$f":"IF('Scope and Prelim. Cost Est.'!T119<>\"\",'Scope and Prelim. Cost Est.'!T119,\"\")","v":""},{"$f":"IF('Scope and Prelim. Cost Est.'!U119<>\"\",'Scope and Prelim. Cost Est.'!U119,\"\")","v":""},{"$f":"IF('Scope and Prelim. Cost Est.'!V119<>\"\",'Scope and Prelim. Cost Est.'!V119,\"\")","v":""},{"$f":"IF('Scope and Prelim. Cost Est.'!W119<>\"\",'Scope and Prelim. Cost Est.'!W119,\"\")","v":""},{"$f":"IF('Scope and Prelim. Cost Est.'!X119<>\"\",'Scope and Prelim. Cost Est.'!X119,\"\")","v":""},{"$f":"IF('Scope and Prelim. Cost Est.'!Y119<>\"\",'Scope and Prelim. Cost Est.'!Y119,\"\")","v":""},{"$f":"IF('Scope and Prelim. Cost Est.'!Z119<>\"\",'Scope and Prelim. Cost Est.'!Z119,\"\")","v":""},{"$f":"IF('Scope and Prelim. Cost Est.'!AA119<>\"\",'Scope and Prelim. Cost Est.'!AA119,\"\")","v":""},"",{"$f":"IF('Scope and Prelim. Cost Est.'!AB119<>\"\",'Scope and Prelim. Cost Est.'!AB119,\"\")","v":""},{"$f":"IF('Scope and Prelim. Cost Est.'!AC119<>\"\",'Scope and Prelim. Cost Est.'!AC119,\"\")","v":""},{"$f":"IF('Scope and Prelim. Cost Est.'!AD119<>\"\",'Scope and Prelim. Cost Est.'!AD119,\"\")","v":""},{"$f":"IF('Scope and Prelim. Cost Est.'!AE119<>\"\",'Scope and Prelim. Cost Est.'!AE119,\"\")","v":""},{"$f":"IF('Scope and Prelim. Cost Est.'!AF119<>\"\",'Scope and Prelim. Cost Est.'!AF119,\"\")","v":""},{"$f":"IF('Scope and Prelim. Cost Est.'!AG119<>\"\",'Scope and Prelim. Cost Est.'!AG119,\"\")","v":""},{"$f":"IF('Scope and Prelim. Cost Est.'!AH119<>\"\",'Scope and Prelim. Cost Est.'!AH119,\"\")","v":""}]
[null,{"$f":"IF('Scope and Prelim. Cost Est.'!B120<>\"\",'Scope and Prelim. Cost Est.'!B120,\"\")","v":""},{"$f":"IF('Scope and Prelim. Cost Est.'!C120<>\"\",'Scope and Prelim. Cost Est.'!C120,\"\")","v":""},{"$f":"IF('Scope and Prelim. Cost Est.'!D120<>\"\",'Scope and Prelim. Cost Est.'!D120,\"\")","v":""},{"$f":"IF('Scope and Prelim. Cost Est.'!E120<>\"\",'Scope and Prelim. Cost Est.'!E120,\"\")","v":""},{"$f":"IF('Scope and Prelim. Cost Est.'!F120<>\"\",'Scope and Prelim. Cost Est.'!F120,\"\")","v":""},{"$f":"IF('Scope and Prelim. Cost Est.'!G120<>\"\",'Scope and Prelim. Cost Est.'!G120,\"\")","v":""},{"$f":"IF('Scope and Prelim. Cost Est.'!H120<>\"\",'Scope and Prelim. Cost Est.'!H120,\"\")","v":""},{"$f":"IF('Scope and Prelim. Cost Est.'!I120<>\"\",'Scope and Prelim. Cost Est.'!I120,\"\")","v":""},{"$f":"IF('Scope and Prelim. Cost Est.'!J120<>\"\",'Scope and Prelim. Cost Est.'!J120,\"\")","v":""},{"$f":"IF('Scope and Prelim. Cost Est.'!K120<>\"\",'Scope and Prelim. Cost Est.'!K120,\"\")","v":""},{"$f":"IF('Scope and Prelim. Cost Est.'!L120<>\"\",'Scope and Prelim. Cost Est.'!L120,\"\")","v":""},"",{"$f":"IF('Scope and Prelim. Cost Est.'!M120<>\"\",'Scope and Prelim. Cost Est.'!M120,\"\")","v":""},{"$f":"IF('Scope and Prelim. Cost Est.'!N120<>\"\",'Scope and Prelim. Cost Est.'!N120,\"\")","v":""},{"$f":"IF('Scope and Prelim. Cost Est.'!O120<>\"\",'Scope and Prelim. Cost Est.'!O120,\"\")","v":""},{"$f":"IF('Scope and Prelim. Cost Est.'!P120<>\"\",'Scope and Prelim. Cost Est.'!P120,\"\")","v":0},null,null,{"$f":"IF('Scope and Prelim. Cost Est.'!B120<>\"\",'Scope and Prelim. Cost Est.'!B120,\"\")","v":""},{"$f":"IF('Scope and Prelim. Cost Est.'!C120<>\"\",'Scope and Prelim. Cost Est.'!C120,\"\")","v":""},{"$f":"IF('Scope and Prelim. Cost Est.'!Q120<>\"\",'Scope and Prelim. Cost Est.'!Q120,\"\")","v":""},{"$f":"IF('Scope and Prelim. Cost Est.'!R120<>\"\",'Scope and Prelim. Cost Est.'!R120,\"\")","v":""},{"$f":"IF('Scope and Prelim. Cost Est.'!S120<>\"\",'Scope and Prelim. Cost Est.'!S120,\"\")","v":""},{"$f":"IF('Scope and Prelim. Cost Est.'!T120<>\"\",'Scope and Prelim. Cost Est.'!T120,\"\")","v":""},{"$f":"IF('Scope and Prelim. Cost Est.'!U120<>\"\",'Scope and Prelim. Cost Est.'!U120,\"\")","v":""},{"$f":"IF('Scope and Prelim. Cost Est.'!V120<>\"\",'Scope and Prelim. Cost Est.'!V120,\"\")","v":""},{"$f":"IF('Scope and Prelim. Cost Est.'!W120<>\"\",'Scope and Prelim. Cost Est.'!W120,\"\")","v":""},{"$f":"IF('Scope and Prelim. Cost Est.'!X120<>\"\",'Scope and Prelim. Cost Est.'!X120,\"\")","v":""},{"$f":"IF('Scope and Prelim. Cost Est.'!Y120<>\"\",'Scope and Prelim. Cost Est.'!Y120,\"\")","v":""},{"$f":"IF('Scope and Prelim. Cost Est.'!Z120<>\"\",'Scope and Prelim. Cost Est.'!Z120,\"\")","v":""},{"$f":"IF('Scope and Prelim. Cost Est.'!AA120<>\"\",'Scope and Prelim. Cost Est.'!AA120,\"\")","v":""},"",{"$f":"IF('Scope and Prelim. Cost Est.'!AB120<>\"\",'Scope and Prelim. Cost Est.'!AB120,\"\")","v":""},{"$f":"IF('Scope and Prelim. Cost Est.'!AC120<>\"\",'Scope and Prelim. Cost Est.'!AC120,\"\")","v":""},{"$f":"IF('Scope and Prelim. Cost Est.'!AD120<>\"\",'Scope and Prelim. Cost Est.'!AD120,\"\")","v":""},{"$f":"IF('Scope and Prelim. Cost Est.'!AE120<>\"\",'Scope and Prelim. Cost Est.'!AE120,\"\")","v":""},{"$f":"IF('Scope and Prelim. Cost Est.'!AF120<>\"\",'Scope and Prelim. Cost Est.'!AF120,\"\")","v":""},{"$f":"IF('Scope and Prelim. Cost Est.'!AG120<>\"\",'Scope and Prelim. Cost Est.'!AG120,\"\")","v":""},{"$f":"IF('Scope and Prelim. Cost Est.'!AH120<>\"\",'Scope and Prelim. Cost Est.'!AH120,\"\")","v":""}]
[null,{"$f":"IF('Scope and Prelim. Cost Est.'!B121<>\"\",'Scope and Prelim. Cost Est.'!B121,\"\")","v":""},{"$f":"IF('Scope and Prelim. Cost Est.'!C121<>\"\",'Scope and Prelim. Cost Est.'!C121,\"\")","v":""},{"$f":"IF('Scope and Prelim. Cost Est.'!D121<>\"\",'Scope and Prelim. Cost Est.'!D121,\"\")","v":""},{"$f":"IF('Scope and Prelim. Cost Est.'!E121<>\"\",'Scope and Prelim. Cost Est.'!E121,\"\")","v":""},{"$f":"IF('Scope and Prelim. Cost Est.'!F121<>\"\",'Scope and Prelim. Cost Est.'!F121,\"\")","v":""},{"$f":"IF('Scope and Prelim. Cost Est.'!G121<>\"\",'Scope and Prelim. Cost Est.'!G121,\"\")","v":""},{"$f":"IF('Scope and Prelim. Cost Est.'!H121<>\"\",'Scope and Prelim. Cost Est.'!H121,\"\")","v":""},{"$f":"IF('Scope and Prelim. Cost Est.'!I121<>\"\",'Scope and Prelim. Cost Est.'!I121,\"\")","v":""},{"$f":"IF('Scope and Prelim. Cost Est.'!J121<>\"\",'Scope and Prelim. Cost Est.'!J121,\"\")","v":""},{"$f":"IF('Scope and Prelim. Cost Est.'!K121<>\"\",'Scope and Prelim. Cost Est.'!K121,\"\")","v":""},{"$f":"IF('Scope and Prelim. Cost Est.'!L121<>\"\",'Scope and Prelim. Cost Est.'!L121,\"\")","v":""},"",{"$f":"IF('Scope and Prelim. Cost Est.'!M121<>\"\",'Scope and Prelim. Cost Est.'!M121,\"\")","v":""},{"$f":"IF('Scope and Prelim. Cost Est.'!N121<>\"\",'Scope and Prelim. Cost Est.'!N121,\"\")","v":""},{"$f":"IF('Scope and Prelim. Cost Est.'!O121<>\"\",'Scope and Prelim. Cost Est.'!O121,\"\")","v":""},{"$f":"IF('Scope and Prelim. Cost Est.'!P121<>\"\",'Scope and Prelim. Cost Est.'!P121,\"\")","v":0},null,null,{"$f":"IF('Scope and Prelim. Cost Est.'!B121<>\"\",'Scope and Prelim. Cost Est.'!B121,\"\")","v":""},{"$f":"IF('Scope and Prelim. Cost Est.'!C121<>\"\",'Scope and Prelim. Cost Est.'!C121,\"\")","v":""},{"$f":"IF('Scope and Prelim. Cost Est.'!Q121<>\"\",'Scope and Prelim. Cost Est.'!Q121,\"\")","v":""},{"$f":"IF('Scope and Prelim. Cost Est.'!R121<>\"\",'Scope and Prelim. Cost Est.'!R121,\"\")","v":""},{"$f":"IF('Scope and Prelim. Cost Est.'!S121<>\"\",'Scope and Prelim. Cost Est.'!S121,\"\")","v":""},{"$f":"IF('Scope and Prelim. Cost Est.'!T121<>\"\",'Scope and Prelim. Cost Est.'!T121,\"\")","v":""},{"$f":"IF('Scope and Prelim. Cost Est.'!U121<>\"\",'Scope and Prelim. Cost Est.'!U121,\"\")","v":""},{"$f":"IF('Scope and Prelim. Cost Est.'!V121<>\"\",'Scope and Prelim. Cost Est.'!V121,\"\")","v":""},{"$f":"IF('Scope and Prelim. Cost Est.'!W121<>\"\",'Scope and Prelim. Cost Est.'!W121,\"\")","v":""},{"$f":"IF('Scope and Prelim. Cost Est.'!X121<>\"\",'Scope and Prelim. Cost Est.'!X121,\"\")","v":""},{"$f":"IF('Scope and Prelim. Cost Est.'!Y121<>\"\",'Scope and Prelim. Cost Est.'!Y121,\"\")","v":""},{"$f":"IF('Scope and Prelim. Cost Est.'!Z121<>\"\",'Scope and Prelim. Cost Est.'!Z121,\"\")","v":""},{"$f":"IF('Scope and Prelim. Cost Est.'!AA121<>\"\",'Scope and Prelim. Cost Est.'!AA121,\"\")","v":""},"",{"$f":"IF('Scope and Prelim. Cost Est.'!AB121<>\"\",'Scope and Prelim. Cost Est.'!AB121,\"\")","v":""},{"$f":"IF('Scope and Prelim. Cost Est.'!AC121<>\"\",'Scope and Prelim. Cost Est.'!AC121,\"\")","v":""},{"$f":"IF('Scope and Prelim. Cost Est.'!AD121<>\"\",'Scope and Prelim. Cost Est.'!AD121,\"\")","v":""},{"$f":"IF('Scope and Prelim. Cost Est.'!AE121<>\"\",'Scope and Prelim. Cost Est.'!AE121,\"\")","v":""},{"$f":"IF('Scope and Prelim. Cost Est.'!AF121<>\"\",'Scope and Prelim. Cost Est.'!AF121,\"\")","v":""},{"$f":"IF('Scope and Prelim. Cost Est.'!AG121<>\"\",'Scope and Prelim. Cost Est.'!AG121,\"\")","v":""},{"$f":"IF('Scope and Prelim. Cost Est.'!AH121<>\"\",'Scope and Prelim. Cost Est.'!AH121,\"\")","v":""}]
[null,{"$f":"IF('Scope and Prelim. Cost Est.'!B122<>\"\",'Scope and Prelim. Cost Est.'!B122,\"\")","v":""},{"$f":"IF('Scope and Prelim. Cost Est.'!C122<>\"\",'Scope and Prelim. Cost Est.'!C122,\"\")","v":""},{"$f":"IF('Scope and Prelim. Cost Est.'!D122<>\"\",'Scope and Prelim. Cost Est.'!D122,\"\")","v":""},{"$f":"IF('Scope and Prelim. Cost Est.'!E122<>\"\",'Scope and Prelim. Cost Est.'!E122,\"\")","v":""},{"$f":"IF('Scope and Prelim. Cost Est.'!F122<>\"\",'Scope and Prelim. Cost Est.'!F122,\"\")","v":""},{"$f":"IF('Scope and Prelim. Cost Est.'!G122<>\"\",'Scope and Prelim. Cost Est.'!G122,\"\")","v":""},{"$f":"IF('Scope and Prelim. Cost Est.'!H122<>\"\",'Scope and Prelim. Cost Est.'!H122,\"\")","v":""},{"$f":"IF('Scope and Prelim. Cost Est.'!I122<>\"\",'Scope and Prelim. Cost Est.'!I122,\"\")","v":""},{"$f":"IF('Scope and Prelim. Cost Est.'!J122<>\"\",'Scope and Prelim. Cost Est.'!J122,\"\")","v":""},{"$f":"IF('Scope and Prelim. Cost Est.'!K122<>\"\",'Scope and Prelim. Cost Est.'!K122,\"\")","v":""},{"$f":"IF('Scope and Prelim. Cost Est.'!L122<>\"\",'Scope and Prelim. Cost Est.'!L122,\"\")","v":""},"",{"$f":"IF('Scope and Prelim. Cost Est.'!M122<>\"\",'Scope and Prelim. Cost Est.'!M122,\"\")","v":""},{"$f":"IF('Scope and Prelim. Cost Est.'!N122<>\"\",'Scope and Prelim. Cost Est.'!N122,\"\")","v":""},{"$f":"IF('Scope and Prelim. Cost Est.'!O122<>\"\",'Scope and Prelim. Cost Est.'!O122,\"\")","v":""},{"$f":"IF('Scope and Prelim. Cost Est.'!P122<>\"\",'Scope and Prelim. Cost Est.'!P122,\"\")","v":0},null,null,{"$f":"IF('Scope and Prelim. Cost Est.'!B122<>\"\",'Scope and Prelim. Cost Est.'!B122,\"\")","v":""},{"$f":"IF('Scope and Prelim. Cost Est.'!C122<>\"\",'Scope and Prelim. Cost Est.'!C122,\"\")","v":""},{"$f":"IF('Scope and Prelim. Cost Est.'!Q122<>\"\",'Scope and Prelim. Cost Est.'!Q122,\"\")","v":""},{"$f":"IF('Scope and Prelim. Cost Est.'!R122<>\"\",'Scope and Prelim. Cost Est.'!R122,\"\")","v":""},{"$f":"IF('Scope and Prelim. Cost Est.'!S122<>\"\",'Scope and Prelim. Cost Est.'!S122,\"\")","v":""},{"$f":"IF('Scope and Prelim. Cost Est.'!T122<>\"\",'Scope and Prelim. Cost Est.'!T122,\"\")","v":""},{"$f":"IF('Scope and Prelim. Cost Est.'!U122<>\"\",'Scope and Prelim. Cost Est.'!U122,\"\")","v":""},{"$f":"IF('Scope and Prelim. Cost Est.'!V122<>\"\",'Scope and Prelim. Cost Est.'!V122,\"\")","v":""},{"$f":"IF('Scope and Prelim. Cost Est.'!W122<>\"\",'Scope and Prelim. Cost Est.'!W122,\"\")","v":""},{"$f":"IF('Scope and Prelim. Cost Est.'!X122<>\"\",'Scope and Prelim. Cost Est.'!X122,\"\")","v":""},{"$f":"IF('Scope and Prelim. Cost Est.'!Y122<>\"\",'Scope and Prelim. Cost Est.'!Y122,\"\")","v":""},{"$f":"IF('Scope and Prelim. Cost Est.'!Z122<>\"\",'Scope and Prelim. Cost Est.'!Z122,\"\")","v":""},{"$f":"IF('Scope and Prelim. Cost Est.'!AA122<>\"\",'Scope and Prelim. Cost Est.'!AA122,\"\")","v":""},"",{"$f":"IF('Scope and Prelim. Cost Est.'!AB122<>\"\",'Scope and Prelim. Cost Est.'!AB122,\"\")","v":""},{"$f":"IF('Scope and Prelim. Cost Est.'!AC122<>\"\",'Scope and Prelim. Cost Est.'!AC122,\"\")","v":""},{"$f":"IF('Scope and Prelim. Cost Est.'!AD122<>\"\",'Scope and Prelim. Cost Est.'!AD122,\"\")","v":""},{"$f":"IF('Scope and Prelim. Cost Est.'!AE122<>\"\",'Scope and Prelim. Cost Est.'!AE122,\"\")","v":""},{"$f":"IF('Scope and Prelim. Cost Est.'!AF122<>\"\",'Scope and Prelim. Cost Est.'!AF122,\"\")","v":""},{"$f":"IF('Scope and Prelim. Cost Est.'!AG122<>\"\",'Scope and Prelim. Cost Est.'!AG122,\"\")","v":""},{"$f":"IF('Scope and Prelim. Cost Est.'!AH122<>\"\",'Scope and Prelim. Cost Est.'!AH122,\"\")","v":""}]
[null,{"$f":"IF('Scope and Prelim. Cost Est.'!B123<>\"\",'Scope and Prelim. Cost Est.'!B123,\"\")","v":""},{"$f":"IF('Scope and Prelim. Cost Est.'!C123<>\"\",'Scope and Prelim. Cost Est.'!C123,\"\")","v":""},{"$f":"IF('Scope and Prelim. Cost Est.'!D123<>\"\",'Scope and Prelim. Cost Est.'!D123,\"\")","v":""},{"$f":"IF('Scope and Prelim. Cost Est.'!E123<>\"\",'Scope and Prelim. Cost Est.'!E123,\"\")","v":""},{"$f":"IF('Scope and Prelim. Cost Est.'!F123<>\"\",'Scope and Prelim. Cost Est.'!F123,\"\")","v":""},{"$f":"IF('Scope and Prelim. Cost Est.'!G123<>\"\",'Scope and Prelim. Cost Est.'!G123,\"\")","v":""},{"$f":"IF('Scope and Prelim. Cost Est.'!H123<>\"\",'Scope and Prelim. Cost Est.'!H123,\"\")","v":""},{"$f":"IF('Scope and Prelim. Cost Est.'!I123<>\"\",'Scope and Prelim. Cost Est.'!I123,\"\")","v":""},{"$f":"IF('Scope and Prelim. Cost Est.'!J123<>\"\",'Scope and Prelim. Cost Est.'!J123,\"\")","v":""},{"$f":"IF('Scope and Prelim. Cost Est.'!K123<>\"\",'Scope and Prelim. Cost Est.'!K123,\"\")","v":""},{"$f":"IF('Scope and Prelim. Cost Est.'!L123<>\"\",'Scope and Prelim. Cost Est.'!L123,\"\")","v":""},"",{"$f":"IF('Scope and Prelim. Cost Est.'!M123<>\"\",'Scope and Prelim. Cost Est.'!M123,\"\")","v":""},{"$f":"IF('Scope and Prelim. Cost Est.'!N123<>\"\",'Scope and Prelim. Cost Est.'!N123,\"\")","v":""},{"$f":"IF('Scope and Prelim. Cost Est.'!O123<>\"\",'Scope and Prelim. Cost Est.'!O123,\"\")","v":""},{"$f":"IF('Scope and Prelim. Cost Est.'!P123<>\"\",'Scope and Prelim. Cost Est.'!P123,\"\")","v":0},null,null,{"$f":"IF('Scope and Prelim. Cost Est.'!B123<>\"\",'Scope and Prelim. Cost Est.'!B123,\"\")","v":""},{"$f":"IF('Scope and Prelim. Cost Est.'!C123<>\"\",'Scope and Prelim. Cost Est.'!C123,\"\")","v":""},{"$f":"IF('Scope and Prelim. Cost Est.'!Q123<>\"\",'Scope and Prelim. Cost Est.'!Q123,\"\")","v":""},{"$f":"IF('Scope and Prelim. Cost Est.'!R123<>\"\",'Scope and Prelim. Cost Est.'!R123,\"\")","v":""},{"$f":"IF('Scope and Prelim. Cost Est.'!S123<>\"\",'Scope and Prelim. Cost Est.'!S123,\"\")","v":""},{"$f":"IF('Scope and Prelim. Cost Est.'!T123<>\"\",'Scope and Prelim. Cost Est.'!T123,\"\")","v":""},{"$f":"IF('Scope and Prelim. Cost Est.'!U123<>\"\",'Scope and Prelim. Cost Est.'!U123,\"\")","v":""},{"$f":"IF('Scope and Prelim. Cost Est.'!V123<>\"\",'Scope and Prelim. Cost Est.'!V123,\"\")","v":""},{"$f":"IF('Scope and Prelim. Cost Est.'!W123<>\"\",'Scope and Prelim. Cost Est.'!W123,\"\")","v":""},{"$f":"IF('Scope and Prelim. Cost Est.'!X123<>\"\",'Scope and Prelim. Cost Est.'!X123,\"\")","v":""},{"$f":"IF('Scope and Prelim. Cost Est.'!Y123<>\"\",'Scope and Prelim. Cost Est.'!Y123,\"\")","v":""},{"$f":"IF('Scope and Prelim. Cost Est.'!Z123<>\"\",'Scope and Prelim. Cost Est.'!Z123,\"\")","v":""},{"$f":"IF('Scope and Prelim. Cost Est.'!AA123<>\"\",'Scope and Prelim. Cost Est.'!AA123,\"\")","v":""},"",{"$f":"IF('Scope and Prelim. Cost Est.'!AB123<>\"\",'Scope and Prelim. Cost Est.'!AB123,\"\")","v":""},{"$f":"IF('Scope and Prelim. Cost Est.'!AC123<>\"\",'Scope and Prelim. Cost Est.'!AC123,\"\")","v":""},{"$f":"IF('Scope and Prelim. Cost Est.'!AD123<>\"\",'Scope and Prelim. Cost Est.'!AD123,\"\")","v":""},{"$f":"IF('Scope and Prelim. Cost Est.'!AE123<>\"\",'Scope and Prelim. Cost Est.'!AE123,\"\")","v":""},{"$f":"IF('Scope and Prelim. Cost Est.'!AF123<>\"\",'Scope and Prelim. Cost Est.'!AF123,\"\")","v":""},{"$f":"IF('Scope and Prelim. Cost Est.'!AG123<>\"\",'Scope and Prelim. Cost Est.'!AG123,\"\")","v":""},{"$f":"IF('Scope and Prelim. Cost Est.'!AH123<>\"\",'Scope and Prelim. Cost Est.'!AH123,\"\")","v":""}]
[null,{"$f":"IF('Scope and Prelim. Cost Est.'!B124<>\"\",'Scope and Prelim. Cost Est.'!B124,\"\")","v":""},{"$f":"IF('Scope and Prelim. Cost Est.'!C124<>\"\",'Scope and Prelim. Cost Est.'!C124,\"\")","v":""},{"$f":"IF('Scope and Prelim. Cost Est.'!D124<>\"\",'Scope and Prelim. Cost Est.'!D124,\"\")","v":""},{"$f":"IF('Scope and Prelim. Cost Est.'!E124<>\"\",'Scope and Prelim. Cost Est.'!E124,\"\")","v":""},{"$f":"IF('Scope and Prelim. Cost Est.'!F124<>\"\",'Scope and Prelim. Cost Est.'!F124,\"\")","v":""},{"$f":"IF('Scope and Prelim. Cost Est.'!G124<>\"\",'Scope and Prelim. Cost Est.'!G124,\"\")","v":""},{"$f":"IF('Scope and Prelim. Cost Est.'!H124<>\"\",'Scope and Prelim. Cost Est.'!H124,\"\")","v":""},{"$f":"IF('Scope and Prelim. Cost Est.'!I124<>\"\",'Scope and Prelim. Cost Est.'!I124,\"\")","v":""},{"$f":"IF('Scope and Prelim. Cost Est.'!J124<>\"\",'Scope and Prelim. Cost Est.'!J124,\"\")","v":""},{"$f":"IF('Scope and Prelim. Cost Est.'!K124<>\"\",'Scope and Prelim. Cost Est.'!K124,\"\")","v":""},{"$f":"IF('Scope and Prelim. Cost Est.'!L124<>\"\",'Scope and Prelim. Cost Est.'!L124,\"\")","v":""},"",{"$f":"IF('Scope and Prelim. Cost Est.'!M124<>\"\",'Scope and Prelim. Cost Est.'!M124,\"\")","v":""},{"$f":"IF('Scope and Prelim. Cost Est.'!N124<>\"\",'Scope and Prelim. Cost Est.'!N124,\"\")","v":""},{"$f":"IF('Scope and Prelim. Cost Est.'!O124<>\"\",'Scope and Prelim. Cost Est.'!O124,\"\")","v":""},{"$f":"IF('Scope and Prelim. Cost Est.'!P124<>\"\",'Scope and Prelim. Cost Est.'!P124,\"\")","v":0},null,null,{"$f":"IF('Scope and Prelim. Cost Est.'!B124<>\"\",'Scope and Prelim. Cost Est.'!B124,\"\")","v":""},{"$f":"IF('Scope and Prelim. Cost Est.'!C124<>\"\",'Scope and Prelim. Cost Est.'!C124,\"\")","v":""},{"$f":"IF('Scope and Prelim. Cost Est.'!Q124<>\"\",'Scope and Prelim. Cost Est.'!Q124,\"\")","v":""},{"$f":"IF('Scope and Prelim. Cost Est.'!R124<>\"\",'Scope and Prelim. Cost Est.'!R124,\"\")","v":""},{"$f":"IF('Scope and Prelim. Cost Est.'!S124<>\"\",'Scope and Prelim. Cost Est.'!S124,\"\")","v":""},{"$f":"IF('Scope and Prelim. Cost Est.'!T124<>\"\",'Scope and Prelim. Cost Est.'!T124,\"\")","v":""},{"$f":"IF('Scope and Prelim. Cost Est.'!U124<>\"\",'Scope and Prelim. Cost Est.'!U124,\"\")","v":""},{"$f":"IF('Scope and Prelim. Cost Est.'!V124<>\"\",'Scope and Prelim. Cost Est.'!V124,\"\")","v":""},{"$f":"IF('Scope and Prelim. Cost Est.'!W124<>\"\",'Scope and Prelim. Cost Est.'!W124,\"\")","v":""},{"$f":"IF('Scope and Prelim. Cost Est.'!X124<>\"\",'Scope and Prelim. Cost Est.'!X124,\"\")","v":""},{"$f":"IF('Scope and Prelim. Cost Est.'!Y124<>\"\",'Scope and Prelim. Cost Est.'!Y124,\"\")","v":""},{"$f":"IF('Scope and Prelim. Cost Est.'!Z124<>\"\",'Scope and Prelim. Cost Est.'!Z124,\"\")","v":""},{"$f":"IF('Scope and Prelim. Cost Est.'!AA124<>\"\",'Scope and Prelim. Cost Est.'!AA124,\"\")","v":""},"",{"$f":"IF('Scope and Prelim. Cost Est.'!AB124<>\"\",'Scope and Prelim. Cost Est.'!AB124,\"\")","v":""},{"$f":"IF('Scope and Prelim. Cost Est.'!AC124<>\"\",'Scope and Prelim. Cost Est.'!AC124,\"\")","v":""},{"$f":"IF('Scope and Prelim. Cost Est.'!AD124<>\"\",'Scope and Prelim. Cost Est.'!AD124,\"\")","v":""},{"$f":"IF('Scope and Prelim. Cost Est.'!AE124<>\"\",'Scope and Prelim. Cost Est.'!AE124,\"\")","v":""},{"$f":"IF('Scope and Prelim. Cost Est.'!AF124<>\"\",'Scope and Prelim. Cost Est.'!AF124,\"\")","v":""},{"$f":"IF('Scope and Prelim. Cost Est.'!AG124<>\"\",'Scope and Prelim. Cost Est.'!AG124,\"\")","v":""},{"$f":"IF('Scope and Prelim. Cost Est.'!AH124<>\"\",'Scope and Prelim. Cost Est.'!AH124,\"\")","v":""}]
[null,{"$f":"IF('Scope and Prelim. Cost Est.'!B125<>\"\",'Scope and Prelim. Cost Est.'!B125,\"\")","v":""},{"$f":"IF('Scope and Prelim. Cost Est.'!C125<>\"\",'Scope and Prelim. Cost Est.'!C125,\"\")","v":""},{"$f":"IF('Scope and Prelim. Cost Est.'!D125<>\"\",'Scope and Prelim. Cost Est.'!D125,\"\")","v":""},{"$f":"IF('Scope and Prelim. Cost Est.'!E125<>\"\",'Scope and Prelim. Cost Est.'!E125,\"\")","v":""},{"$f":"IF('Scope and Prelim. Cost Est.'!F125<>\"\",'Scope and Prelim. Cost Est.'!F125,\"\")","v":""},{"$f":"IF('Scope and Prelim. Cost Est.'!G125<>\"\",'Scope and Prelim. Cost Est.'!G125,\"\")","v":""},{"$f":"IF('Scope and Prelim. Cost Est.'!H125<>\"\",'Scope and Prelim. Cost Est.'!H125,\"\")","v":""},{"$f":"IF('Scope and Prelim. Cost Est.'!I125<>\"\",'Scope and Prelim. Cost Est.'!I125,\"\")","v":""},{"$f":"IF('Scope and Prelim. Cost Est.'!J125<>\"\",'Scope and Prelim. Cost Est.'!J125,\"\")","v":""},{"$f":"IF('Scope and Prelim. Cost Est.'!K125<>\"\",'Scope and Prelim. Cost Est.'!K125,\"\")","v":""},{"$f":"IF('Scope and Prelim. Cost Est.'!L125<>\"\",'Scope and Prelim. Cost Est.'!L125,\"\")","v":""},"",{"$f":"IF('Scope and Prelim. Cost Est.'!M125<>\"\",'Scope and Prelim. Cost Est.'!M125,\"\")","v":""},{"$f":"IF('Scope and Prelim. Cost Est.'!N125<>\"\",'Scope and Prelim. Cost Est.'!N125,\"\")","v":""},{"$f":"IF('Scope and Prelim. Cost Est.'!O125<>\"\",'Scope and Prelim. Cost Est.'!O125,\"\")","v":""},{"$f":"IF('Scope and Prelim. Cost Est.'!P125<>\"\",'Scope and Prelim. Cost Est.'!P125,\"\")","v":0},null,null,{"$f":"IF('Scope and Prelim. Cost Est.'!B125<>\"\",'Scope and Prelim. Cost Est.'!B125,\"\")","v":""},{"$f":"IF('Scope and Prelim. Cost Est.'!C125<>\"\",'Scope and Prelim. Cost Est.'!C125,\"\")","v":""},{"$f":"IF('Scope and Prelim. Cost Est.'!Q125<>\"\",'Scope and Prelim. Cost Est.'!Q125,\"\")","v":""},{"$f":"IF('Scope and Prelim. Cost Est.'!R125<>\"\",'Scope and Prelim. Cost Est.'!R125,\"\")","v":""},{"$f":"IF('Scope and Prelim. Cost Est.'!S125<>\"\",'Scope and Prelim. Cost Est.'!S125,\"\")","v":""},{"$f":"IF('Scope and Prelim. Cost Est.'!T125<>\"\",'Scope and Prelim. Cost Est.'!T125,\"\")","v":""},{"$f":"IF('Scope and Prelim. Cost Est.'!U125<>\"\",'Scope and Prelim. Cost Est.'!U125,\"\")","v":""},{"$f":"IF('Scope and Prelim. Cost Est.'!V125<>\"\",'Scope and Prelim. Cost Est.'!V125,\"\")","v":""},{"$f":"IF('Scope and Prelim. Cost Est.'!W125<>\"\",'Scope and Prelim. Cost Est.'!W125,\"\")","v":""},{"$f":"IF('Scope and Prelim. Cost Est.'!X125<>\"\",'Scope and Prelim. Cost Est.'!X125,\"\")","v":""},{"$f":"IF('Scope and Prelim. Cost Est.'!Y125<>\"\",'Scope and Prelim. Cost Est.'!Y125,\"\")","v":""},{"$f":"IF('Scope and Prelim. Cost Est.'!Z125<>\"\",'Scope and Prelim. Cost Est.'!Z125,\"\")","v":""},{"$f":"IF('Scope and Prelim. Cost Est.'!AA125<>\"\",'Scope and Prelim. Cost Est.'!AA125,\"\")","v":""},"",{"$f":"IF('Scope and Prelim. Cost Est.'!AB125<>\"\",'Scope and Prelim. Cost Est.'!AB125,\"\")","v":""},{"$f":"IF('Scope and Prelim. Cost Est.'!AC125<>\"\",'Scope and Prelim. Cost Est.'!AC125,\"\")","v":""},{"$f":"IF('Scope and Prelim. Cost Est.'!AD125<>\"\",'Scope and Prelim. Cost Est.'!AD125,\"\")","v":""},{"$f":"IF('Scope and Prelim. Cost Est.'!AE125<>\"\",'Scope and Prelim. Cost Est.'!AE125,\"\")","v":""},{"$f":"IF('Scope and Prelim. Cost Est.'!AF125<>\"\",'Scope and Prelim. Cost Est.'!AF125,\"\")","v":""},{"$f":"IF('Scope and Prelim. Cost Est.'!AG125<>\"\",'Scope and Prelim. Cost Est.'!AG125,\"\")","v":""},{"$f":"IF('Scope and Prelim. Cost Est.'!AH125<>\"\",'Scope and Prelim. Cost Est.'!AH125,\"\")","v":""}]
[null,"Total",null,null,null,null,null,null,null,null,null,null,null,null,null,null,{"$f":"SUM(Q16:Q127)","v":0},null,null,"Total",null,{"$f":"SUM(V16:V127)","v":0},{"$f":"SUM(W16:W127)","v":0},{"$f":"SUM(X16:X127)","v":0},{"$f":"SUM(Y16:Y127)","v":0},null,{"$f":"SUM(AA16:AA127)","v":0},null,null,null,null,null,null,null,null,null,null,{"$f":"SUM(AL16:AL127)","v":0},{"$f":"SUM(AM16:AM127)","v":0},{"$f":"SUM(AN16:AN127)","v":0}]

{"sheet":"Replacement Cost Sched PRINT","index":27,"n_rows":117,"n_cols":35,"rows_kept":117,"cut":false,"hidden":false,"merged":[[116,2,116,9],[6,2,6,32],[7,2,7,32],[8,2,8,32],[114,2,114,9],[115,2,115,9]]}
[]
[null,"Instructions / Definitions / Notes"]
[null,1,"The white cells in the Replacement Cost Schedule below are linked to the measures listed on the Scope and Prelim. Cost Est. tab.  Make sure that ALL critical, short term, and long term capital needs and all EEWC measures are included."]
[null,2,"Fannie Mae estimated useful life tables may be used, but should be adjusted based on the Needs Assessor's observations of the building component.  See Fannie Mae Form 4099F:"]
[null,null,"https://multifamily.fanniemae.com/media/6701/display"]
[null,3,"Include exact, or as accurate as possible, measurements of each item recommended. Items that cannot be quantified can be categorized as Lump Sum (LS)."]
[null,4,"Project the estimated annual replacement expenditures for a 20 year period in columns M through AA.  Note: Y1 is year 1, Y2 is year 2, etc."]
[null,5,"The costs outlined in the replacement schedule should be total costs for each scope item, inclusive of all critical, short-term and long-term capital, EEWC incremental items, and EEWC-only items."]
[null,6,"Estimate the costs in current dollars.  Inflated costs are calculated automatically."]
[]
[null,null,"REPLACEMENT COST SCHEDULE"]
[]
[null,null,"Scope Name","Description of Work","EUL","Age","RUL","Unit Type","Qty.","Cost Per Unit","Critical Costs","Short Term Costs ","Y1","Y2","Y3","Y4","Y5","Y6","Y7",null,"Scope Name","Y8","Y9","Y10","Y11","Y12","Y13","Y14","Y15","Y16","Y17","Y18","Y19","Y20","Total Long Term"]
[null,null,{"$f":"IF('Replacement Cost Schedule'!C14<>\"\",'Replacement Cost Schedule'!C14,\"\")","v":""},{"$f":"IF('Replacement Cost Schedule'!D14<>\"\",'Replacement Cost Schedule'!D14,\"\")","v":""},{"$f":"IF('Replacement Cost Schedule'!E14<>\"\",'Replacement Cost Schedule'!E14,\"\")","v":""},{"$f":"IF('Replacement Cost Schedule'!F14<>\"\",'Replacement Cost Schedule'!F14,\"\")","v":""},{"$f":"IF('Replacement Cost Schedule'!G14<>\"\",'Replacement Cost Schedule'!G14,\"\")","v":""},{"$f":"IF('Replacement Cost Schedule'!H14<>\"\",'Replacement Cost Schedule'!H14,\"\")","v":""},{"$f":"IF('Replacement Cost Schedule'!I14<>\"\",'Replacement Cost Schedule'!I14,\"\")","v":""},{"$f":"IF('Replacement Cost Schedule'!J14<>\"\",'Replacement Cost Schedule'!J14,\"\")","v":""},{"$f":"IF('Replacement Cost Schedule'!K14<>\"\",'Replacement Cost Schedule'!K14,\"\")","v":""},{"$f":"IF('Replacement Cost Schedule'!L14<>\"\",'Replacement Cost Schedule'!L14,\"\")","v":""},{"$f":"IF('Replacement Cost Schedule'!M14<>\"\",'Replacement Cost Schedule'!M14,\"\")","v":""},{"$f":"IF('Replacement Cost Schedule'!N14<>\"\",'Replacement Cost Schedule'!N14,\"\")","v":""},{"$f":"IF('Replacement Cost Schedule'!O14<>\"\",'Replacement Cost Schedule'!O14,\"\")","v":""},{"$f":"IF('Replacement Cost Schedule'!P14<>\"\",'Replacement Cost Schedule'!P14,\"\")","v":""},{"$f":"IF('Replacement Cost Schedule'!Q14<>\"\",'Replacement Cost Schedule'!Q14,\"\")","v":""},{"$f":"IF('Replacement Cost Schedule'!R14<>\"\",'Replacement Cost Schedule'!R14,\"\")","v":""},{"$f":"IF('Replacement Cost Schedule'!S14<>\"\",'Replacement Cost Schedule'!S14,\"\")","v":""},null,{"$f":"IF('Replacement Cost Schedule'!C14<>\"\",'Replacement Cost Schedule'!C14,\"\")","v":""},{"$f":"IF('Replacement Cost Schedule'!T14<>\"\",'Replacement Cost Schedule'!T14,\"\")","v":""},{"$f":"IF('Replacement Cost Schedule'!U14<>\"\",'Replacement Cost Schedule'!U14,\"\")","v":""},{"$f":"IF('Replacement Cost Schedule'!V14<>\"\",'Replacement Cost Schedule'!V14,\"\")","v":""},{"$f":"IF('Replacement Cost Schedule'!W14<>\"\",'Replacement Cost Schedule'!W14,\"\")","v":""},{"$f":"IF('Replacement Cost Schedule'!X14<>\"\",'Replacement Cost Schedule'!X14,\"\")","v":""},{"$f":"IF('Replacement Cost Schedule'!Y14<>\"\",'Replacement Cost Schedule'!Y14,\"\")","v":""},{"$f":"IF('Replacement Cost Schedule'!Z14<>\"\",'Replacement Cost Schedule'!Z14,\"\")","v":""},{"$f":"IF('Replacement Cost Schedule'!AA14<>\"\",'Replacement Cost Schedule'!AA14,\"\")","v":""},{"$f":"IF('Replacement Cost Schedule'!AB14<>\"\",'Replacement Cost Schedule'!AB14,\"\")","v":""},{"$f":"IF('Replacement Cost Schedule'!AC14<>\"\",'Replacement Cost Schedule'!AC14,\"\")","v":""},{"$f":"IF('Replacement Cost Schedule'!AD14<>\"\",'Replacement Cost Schedule'!AD14,\"\")","v":""},{"$f":"IF('Replacement Cost Schedule'!AE14<>\"\",'Replacement Cost Schedule'!AE14,\"\")","v":""},{"$f":"IF('Replacement Cost Schedule'!AF14<>\"\",'Replacement Cost Schedule'!AF14,\"\")","v":""},{"$f":"SUM(M14:S14,V14:AH14)","v":0}]
[null,null,{"$f":"IF('Replacement Cost Schedule'!C15<>\"\",'Replacement Cost Schedule'!C15,\"\")","v":""},{"$f":"IF('Replacement Cost Schedule'!D15<>\"\",'Replacement Cost Schedule'!D15,\"\")","v":""},{"$f":"IF('Replacement Cost Schedule'!E15<>\"\",'Replacement Cost Schedule'!E15,\"\")","v":""},{"$f":"IF('Replacement Cost Schedule'!F15<>\"\",'Replacement Cost Schedule'!F15,\"\")","v":""},{"$f":"IF('Replacement Cost Schedule'!G15<>\"\",'Replacement Cost Schedule'!G15,\"\")","v":""},{"$f":"IF('Replacement Cost Schedule'!H15<>\"\",'Replacement Cost Schedule'!H15,\"\")","v":""},{"$f":"IF('Replacement Cost Schedule'!I15<>\"\",'Replacement Cost Schedule'!I15,\"\")","v":""},{"$f":"IF('Replacement Cost Schedule'!J15<>\"\",'Replacement Cost Schedule'!J15,\"\")","v":""},{"$f":"IF('Replacement Cost Schedule'!K15<>\"\",'Replacement Cost Schedule'!K15,\"\")","v":""},{"$f":"IF('Replacement Cost Schedule'!L15<>\"\",'Replacement Cost Schedule'!L15,\"\")","v":""},{"$f":"IF('Replacement Cost Schedule'!M15<>\"\",'Replacement Cost Schedule'!M15,\"\")","v":""},{"$f":"IF('Replacement Cost Schedule'!N15<>\"\",'Replacement Cost Schedule'!N15,\"\")","v":""},{"$f":"IF('Replacement Cost Schedule'!O15<>\"\",'Replacement Cost Schedule'!O15,\"\")","v":""},{"$f":"IF('Replacement Cost Schedule'!P15<>\"\",'Replacement Cost Schedule'!P15,\"\")","v":""},{"$f":"IF('Replacement Cost Schedule'!Q15<>\"\",'Replacement Cost Schedule'!Q15,\"\")","v":""},{"$f":"IF('Replacement Cost Schedule'!R15<>\"\",'Replacement Cost Schedule'!R15,\"\")","v":""},{"$f":"IF('Replacement Cost Schedule'!S15<>\"\",'Replacement Cost Schedule'!S15,\"\")","v":""},null,{"$f":"IF('Replacement Cost Schedule'!C15<>\"\",'Replacement Cost Schedule'!C15,\"\")","v":""},{"$f":"IF('Replacement Cost Schedule'!T15<>\"\",'Replacement Cost Schedule'!T15,\"\")","v":""},{"$f":"IF('Replacement Cost Schedule'!U15<>\"\",'Replacement Cost Schedule'!U15,\"\")","v":""},{"$f":"IF('Replacement Cost Schedule'!V15<>\"\",'Replacement Cost Schedule'!V15,\"\")","v":""},{"$f":"IF('Replacement Cost Schedule'!W15<>\"\",'Replacement Cost Schedule'!W15,\"\")","v":""},{"$f":"IF('Replacement Cost Schedule'!X15<>\"\",'Replacement Cost Schedule'!X15,\"\")","v":""},{"$f":"IF('Replacement Cost Schedule'!Y15<>\"\",'Replacement Cost Schedule'!Y15,\"\")","v":""},{"$f":"IF('Replacement Cost Schedule'!Z15<>\"\",'Replacement Cost Schedule'!Z15,\"\")","v":""},{"$f":"IF('Replacement Cost Schedule'!AA15<>\"\",'Replacement Cost Schedule'!AA15,\"\")","v":""},{"$f":"IF('Replacement Cost Schedule'!AB15<>\"\",'Replacement Cost Schedule'!AB15,\"\")","v":""},{"$f":"IF('Replacement Cost Schedule'!AC15<>\"\",'Replacement Cost Schedule'!AC15,\"\")","v":""},{"$f":"IF('Replacement Cost Schedule'!AD15<>\"\",'Replacement Cost Schedule'!AD15,\"\")","v":""},{"$f":"IF('Replacement Cost Schedule'!AE15<>\"\",'Replacement Cost Schedule'!AE15,\"\")","v":""},{"$f":"IF('Replacement Cost Schedule'!AF15<>\"\",'Replacement Cost Schedule'!AF15,\"\")","v":""},{"$f":"SUM(M15:S15,V15:AH15)","v":0}]
[null,null,{"$f":"IF('Replacement Cost Schedule'!C16<>\"\",'Replacement Cost Schedule'!C16,\"\")","v":""},{"$f":"IF('Replacement Cost Schedule'!D16<>\"\",'Replacement Cost Schedule'!D16,\"\")","v":""},{"$f":"IF('Replacement Cost Schedule'!E16<>\"\",'Replacement Cost Schedule'!E16,\"\")","v":""},{"$f":"IF('Replacement Cost Schedule'!F16<>\"\",'Replacement Cost Schedule'!F16,\"\")","v":""},{"$f":"IF('Replacement Cost Schedule'!G16<>\"\",'Replacement Cost Schedule'!G16,\"\")","v":""},{"$f":"IF('Replacement Cost Schedule'!H16<>\"\",'Replacement Cost Schedule'!H16,\"\")","v":""},{"$f":"IF('Replacement Cost Schedule'!I16<>\"\",'Replacement Cost Schedule'!I16,\"\")","v":""},{"$f":"IF('Replacement Cost Schedule'!J16<>\"\",'Replacement Cost Schedule'!J16,\"\")","v":""},{"$f":"IF('Replacement Cost Schedule'!K16<>\"\",'Replacement Cost Schedule'!K16,\"\")","v":""},{"$f":"IF('Replacement Cost Schedule'!L16<>\"\",'Replacement Cost Schedule'!L16,\"\")","v":""},{"$f":"IF('Replacement Cost Schedule'!M16<>\"\",'Replacement Cost Schedule'!M16,\"\")","v":""},{"$f":"IF('Replacement Cost Schedule'!N16<>\"\",'Replacement Cost Schedule'!N16,\"\")","v":""},{"$f":"IF('Replacement Cost Schedule'!O16<>\"\",'Replacement Cost Schedule'!O16,\"\")","v":""},{"$f":"IF('Replacement Cost Schedule'!P16<>\"\",'Replacement Cost Schedule'!P16,\"\")","v":""},{"$f":"IF('Replacement Cost Schedule'!Q16<>\"\",'Replacement Cost Schedule'!Q16,\"\")","v":""},{"$f":"IF('Replacement Cost Schedule'!R16<>\"\",'Replacement Cost Schedule'!R16,\"\")","v":""},{"$f":"IF('Replacement Cost Schedule'!S16<>\"\",'Replacement Cost Schedule'!S16,\"\")","v":""},null,{"$f":"IF('Replacement Cost Schedule'!C16<>\"\",'Replacement Cost Schedule'!C16,\"\")","v":""},{"$f":"IF('Replacement Cost Schedule'!T16<>\"\",'Replacement Cost Schedule'!T16,\"\")","v":""},{"$f":"IF('Replacement Cost Schedule'!U16<>\"\",'Replacement Cost Schedule'!U16,\"\")","v":""},{"$f":"IF('Replacement Cost Schedule'!V16<>\"\",'Replacement Cost Schedule'!V16,\"\")","v":""},{"$f":"IF('Replacement Cost Schedule'!W16<>\"\",'Replacement Cost Schedule'!W16,\"\")","v":""},{"$f":"IF('Replacement Cost Schedule'!X16<>\"\",'Replacement Cost Schedule'!X16,\"\")","v":""},{"$f":"IF('Replacement Cost Schedule'!Y16<>\"\",'Replacement Cost Schedule'!Y16,\"\")","v":""},{"$f":"IF('Replacement Cost Schedule'!Z16<>\"\",'Replacement Cost Schedule'!Z16,\"\")","v":""},{"$f":"IF('Replacement Cost Schedule'!AA16<>\"\",'Replacement Cost Schedule'!AA16,\"\")","v":""},{"$f":"IF('Replacement Cost Schedule'!AB16<>\"\",'Replacement Cost Schedule'!AB16,\"\")","v":""},{"$f":"IF('Replacement Cost Schedule'!AC16<>\"\",'Replacement Cost Schedule'!AC16,\"\")","v":""},{"$f":"IF('Replacement Cost Schedule'!AD16<>\"\",'Replacement Cost Schedule'!AD16,\"\")","v":""},{"$f":"IF('Replacement Cost Schedule'!AE16<>\"\",'Replacement Cost Schedule'!AE16,\"\")","v":""},{"$f":"IF('Replacement Cost Schedule'!AF16<>\"\",'Replacement Cost Schedule'!AF16,\"\")","v":""},0]
[null,null,{"$f":"IF('Replacement Cost Schedule'!C17<>\"\",'Replacement Cost Schedule'!C17,\"\")","v":""},{"$f":"IF('Replacement Cost Schedule'!D17<>\"\",'Replacement Cost Schedule'!D17,\"\")","v":""},{"$f":"IF('Replacement Cost Schedule'!E17<>\"\",'Replacement Cost Schedule'!E17,\"\")","v":""},{"$f":"IF('Replacement Cost Schedule'!F17<>\"\",'Replacement Cost Schedule'!F17,\"\")","v":""},{"$f":"IF('Replacement Cost Schedule'!G17<>\"\",'Replacement Cost Schedule'!G17,\"\")","v":""},{"$f":"IF('Replacement Cost Schedule'!H17<>\"\",'Replacement Cost Schedule'!H17,\"\")","v":""},{"$f":"IF('Replacement Cost Schedule'!I17<>\"\",'Replacement Cost Schedule'!I17,\"\")","v":""},{"$f":"IF('Replacement Cost Schedule'!J17<>\"\",'Replacement Cost Schedule'!J17,\"\")","v":""},{"$f":"IF('Replacement Cost Schedule'!K17<>\"\",'Replacement Cost Schedule'!K17,\"\")","v":""},{"$f":"IF('Replacement Cost Schedule'!L17<>\"\",'Replacement Cost Schedule'!L17,\"\")","v":""},{"$f":"IF('Replacement Cost Schedule'!M17<>\"\",'Replacement Cost Schedule'!M17,\"\")","v":""},{"$f":"IF('Replacement Cost Schedule'!N17<>\"\",'Replacement Cost Schedule'!N17,\"\")","v":""},{"$f":"IF('Replacement Cost Schedule'!O17<>\"\",'Replacement Cost Schedule'!O17,\"\")","v":""},{"$f":"IF('Replacement Cost Schedule'!P17<>\"\",'Replacement Cost Schedule'!P17,\"\")","v":""},{"$f":"IF('Replacement Cost Schedule'!Q17<>\"\",'Replacement Cost Schedule'!Q17,\"\")","v":""},{"$f":"IF('Replacement Cost Schedule'!R17<>\"\",'Replacement Cost Schedule'!R17,\"\")","v":""},{"$f":"IF('Replacement Cost Schedule'!S17<>\"\",'Replacement Cost Schedule'!S17,\"\")","v":""},null,{"$f":"IF('Replacement Cost Schedule'!C17<>\"\",'Replacement Cost Schedule'!C17,\"\")","v":""},{"$f":"IF('Replacement Cost Schedule'!T17<>\"\",'Replacement Cost Schedule'!T17,\"\")","v":""},{"$f":"IF('Replacement Cost Schedule'!U17<>\"\",'Replacement Cost Schedule'!U17,\"\")","v":""},{"$f":"IF('Replacement Cost Schedule'!V17<>\"\",'Replacement Cost Schedule'!V17,\"\")","v":""},{"$f":"IF('Replacement Cost Schedule'!W17<>\"\",'Replacement Cost Schedule'!W17,\"\")","v":""},{"$f":"IF('Replacement Cost Schedule'!X17<>\"\",'Replacement Cost Schedule'!X17,\"\")","v":""},{"$f":"IF('Replacement Cost Schedule'!Y17<>\"\",'Replacement Cost Schedule'!Y17,\"\")","v":""},{"$f":"IF('Replacement Cost Schedule'!Z17<>\"\",'Replacement Cost Schedule'!Z17,\"\")","v":""},{"$f":"IF('Replacement Cost Schedule'!AA17<>\"\",'Replacement Cost Schedule'!AA17,\"\")","v":""},{"$f":"IF('Replacement Cost Schedule'!AB17<>\"\",'Replacement Cost Schedule'!AB17,\"\")","v":""},{"$f":"IF('Replacement Cost Schedule'!AC17<>\"\",'Replacement Cost Schedule'!AC17,\"\")","v":""},{"$f":"IF('Replacement Cost Schedule'!AD17<>\"\",'Replacement Cost Schedule'!AD17,\"\")","v":""},{"$f":"IF('Replacement Cost Schedule'!AE17<>\"\",'Replacement Cost Schedule'!AE17,\"\")","v":""},{"$f":"IF('Replacement Cost Schedule'!AF17<>\"\",'Replacement Cost Schedule'!AF17,\"\")","v":""},0]
[null,null,{"$f":"IF('Replacement Cost Schedule'!C18<>\"\",'Replacement Cost Schedule'!C18,\"\")","v":""},{"$f":"IF('Replacement Cost Schedule'!D18<>\"\",'Replacement Cost Schedule'!D18,\"\")","v":""},{"$f":"IF('Replacement Cost Schedule'!E18<>\"\",'Replacement Cost Schedule'!E18,\"\")","v":""},{"$f":"IF('Replacement Cost Schedule'!F18<>\"\",'Replacement Cost Schedule'!F18,\"\")","v":""},{"$f":"IF('Replacement Cost Schedule'!G18<>\"\",'Replacement Cost Schedule'!G18,\"\")","v":""},{"$f":"IF('Replacement Cost Schedule'!H18<>\"\",'Replacement Cost Schedule'!H18,\"\")","v":""},{"$f":"IF('Replacement Cost Schedule'!I18<>\"\",'Replacement Cost Schedule'!I18,\"\")","v":""},{"$f":"IF('Replacement Cost Schedule'!J18<>\"\",'Replacement Cost Schedule'!J18,\"\")","v":""},{"$f":"IF('Replacement Cost Schedule'!K18<>\"\",'Replacement Cost Schedule'!K18,\"\")","v":""},{"$f":"IF('Replacement Cost Schedule'!L18<>\"\",'Replacement Cost Schedule'!L18,\"\")","v":""},{"$f":"IF('Replacement Cost Schedule'!M18<>\"\",'Replacement Cost Schedule'!M18,\"\")","v":""},{"$f":"IF('Replacement Cost Schedule'!N18<>\"\",'Replacement Cost Schedule'!N18,\"\")","v":""},{"$f":"IF('Replacement Cost Schedule'!O18<>\"\",'Replacement Cost Schedule'!O18,\"\")","v":""},{"$f":"IF('Replacement Cost Schedule'!P18<>\"\",'Replacement Cost Schedule'!P18,\"\")","v":""},{"$f":"IF('Replacement Cost Schedule'!Q18<>\"\",'Replacement Cost Schedule'!Q18,\"\")","v":""},{"$f":"IF('Replacement Cost Schedule'!R18<>\"\",'Replacement Cost Schedule'!R18,\"\")","v":""},{"$f":"IF('Replacement Cost Schedule'!S18<>\"\",'Replacement Cost Schedule'!S18,\"\")","v":""},null,{"$f":"IF('Replacement Cost Schedule'!C18<>\"\",'Replacement Cost Schedule'!C18,\"\")","v":""},{"$f":"IF('Replacement Cost Schedule'!T18<>\"\",'Replacement Cost Schedule'!T18,\"\")","v":""},{"$f":"IF('Replacement Cost Schedule'!U18<>\"\",'Replacement Cost Schedule'!U18,\"\")","v":""},{"$f":"IF('Replacement Cost Schedule'!V18<>\"\",'Replacement Cost Schedule'!V18,\"\")","v":""},{"$f":"IF('Replacement Cost Schedule'!W18<>\"\",'Replacement Cost Schedule'!W18,\"\")","v":""},{"$f":"IF('Replacement Cost Schedule'!X18<>\"\",'Replacement Cost Schedule'!X18,\"\")","v":""},{"$f":"IF('Replacement Cost Schedule'!Y18<>\"\",'Replacement Cost Schedule'!Y18,\"\")","v":""},{"$f":"IF('Replacement Cost Schedule'!Z18<>\"\",'Replacement Cost Schedule'!Z18,\"\")","v":""},{"$f":"IF('Replacement Cost Schedule'!AA18<>\"\",'Replacement Cost Schedule'!AA18,\"\")","v":""},{"$f":"IF('Replacement Cost Schedule'!AB18<>\"\",'Replacement Cost Schedule'!AB18,\"\")","v":""},{"$f":"IF('Replacement Cost Schedule'!AC18<>\"\",'Replacement Cost Schedule'!AC18,\"\")","v":""},{"$f":"IF('Replacement Cost Schedule'!AD18<>\"\",'Replacement Cost Schedule'!AD18,\"\")","v":""},{"$f":"IF('Replacement Cost Schedule'!AE18<>\"\",'Replacement Cost Schedule'!AE18,\"\")","v":""},{"$f":"IF('Replacement Cost Schedule'!AF18<>\"\",'Replacement Cost Schedule'!AF18,\"\")","v":""},0]
[null,null,{"$f":"IF('Replacement Cost Schedule'!C19<>\"\",'Replacement Cost Schedule'!C19,\"\")","v":""},{"$f":"IF('Replacement Cost Schedule'!D19<>\"\",'Replacement Cost Schedule'!D19,\"\")","v":""},{"$f":"IF('Replacement Cost Schedule'!E19<>\"\",'Replacement Cost Schedule'!E19,\"\")","v":""},{"$f":"IF('Replacement Cost Schedule'!F19<>\"\",'Replacement Cost Schedule'!F19,\"\")","v":""},{"$f":"IF('Replacement Cost Schedule'!G19<>\"\",'Replacement Cost Schedule'!G19,\"\")","v":""},{"$f":"IF('Replacement Cost Schedule'!H19<>\"\",'Replacement Cost Schedule'!H19,\"\")","v":""},{"$f":"IF('Replacement Cost Schedule'!I19<>\"\",'Replacement Cost Schedule'!I19,\"\")","v":""},{"$f":"IF('Replacement Cost Schedule'!J19<>\"\",'Replacement Cost Schedule'!J19,\"\")","v":""},{"$f":"IF('Replacement Cost Schedule'!K19<>\"\",'Replacement Cost Schedule'!K19,\"\")","v":""},{"$f":"IF('Replacement Cost Schedule'!L19<>\"\",'Replacement Cost Schedule'!L19,\"\")","v":""},{"$f":"IF('Replacement Cost Schedule'!M19<>\"\",'Replacement Cost Schedule'!M19,\"\")","v":""},{"$f":"IF('Replacement Cost Schedule'!N19<>\"\",'Replacement Cost Schedule'!N19,\"\")","v":""},{"$f":"IF('Replacement Cost Schedule'!O19<>\"\",'Replacement Cost Schedule'!O19,\"\")","v":""},{"$f":"IF('Replacement Cost Schedule'!P19<>\"\",'Replacement Cost Schedule'!P19,\"\")","v":""},{"$f":"IF('Replacement Cost Schedule'!Q19<>\"\",'Replacement Cost Schedule'!Q19,\"\")","v":""},{"$f":"IF('Replacement Cost Schedule'!R19<>\"\",'Replacement Cost Schedule'!R19,\"\")","v":""},{"$f":"IF('Replacement Cost Schedule'!S19<>\"\",'Replacement Cost Schedule'!S19,\"\")","v":""},null,{"$f":"IF('Replacement Cost Schedule'!C19<>\"\",'Replacement Cost Schedule'!C19,\"\")","v":""},{"$f":"IF('Replacement Cost Schedule'!T19<>\"\",'Replacement Cost Schedule'!T19,\"\")","v":""},{"$f":"IF('Replacement Cost Schedule'!U19<>\"\",'Replacement Cost Schedule'!U19,\"\")","v":""},{"$f":"IF('Replacement Cost Schedule'!V19<>\"\",'Replacement Cost Schedule'!V19,\"\")","v":""},{"$f":"IF('Replacement Cost Schedule'!W19<>\"\",'Replacement Cost Schedule'!W19,\"\")","v":""},{"$f":"IF('Replacement Cost Schedule'!X19<>\"\",'Replacement Cost Schedule'!X19,\"\")","v":""},{"$f":"IF('Replacement Cost Schedule'!Y19<>\"\",'Replacement Cost Schedule'!Y19,\"\")","v":""},{"$f":"IF('Replacement Cost Schedule'!Z19<>\"\",'Replacement Cost Schedule'!Z19,\"\")","v":""},{"$f":"IF('Replacement Cost Schedule'!AA19<>\"\",'Replacement Cost Schedule'!AA19,\"\")","v":""},{"$f":"IF('Replacement Cost Schedule'!AB19<>\"\",'Replacement Cost Schedule'!AB19,\"\")","v":""},{"$f":"IF('Replacement Cost Schedule'!AC19<>\"\",'Replacement Cost Schedule'!AC19,\"\")","v":""},{"$f":"IF('Replacement Cost Schedule'!AD19<>\"\",'Replacement Cost Schedule'!AD19,\"\")","v":""},{"$f":"IF('Replacement Cost Schedule'!AE19<>\"\",'Replacement Cost Schedule'!AE19,\"\")","v":""},{"$f":"IF('Replacement Cost Schedule'!AF19<>\"\",'Replacement Cost Schedule'!AF19,\"\")","v":""},0]
[null,null,{"$f":"IF('Replacement Cost Schedule'!C20<>\"\",'Replacement Cost Schedule'!C20,\"\")","v":""},{"$f":"IF('Replacement Cost Schedule'!D20<>\"\",'Replacement Cost Schedule'!D20,\"\")","v":""},{"$f":"IF('Replacement Cost Schedule'!E20<>\"\",'Replacement Cost Schedule'!E20,\"\")","v":""},{"$f":"IF('Replacement Cost Schedule'!F20<>\"\",'Replacement Cost Schedule'!F20,\"\")","v":""},{"$f":"IF('Replacement Cost Schedule'!G20<>\"\",'Replacement Cost Schedule'!G20,\"\")","v":""},{"$f":"IF('Replacement Cost Schedule'!H20<>\"\",'Replacement Cost Schedule'!H20,\"\")","v":""},{"$f":"IF('Replacement Cost Schedule'!I20<>\"\",'Replacement Cost Schedule'!I20,\"\")","v":""},{"$f":"IF('Replacement Cost Schedule'!J20<>\"\",'Replacement Cost Schedule'!J20,\"\")","v":""},{"$f":"IF('Replacement Cost Schedule'!K20<>\"\",'Replacement Cost Schedule'!K20,\"\")","v":""},{"$f":"IF('Replacement Cost Schedule'!L20<>\"\",'Replacement Cost Schedule'!L20,\"\")","v":""},{"$f":"IF('Replacement Cost Schedule'!M20<>\"\",'Replacement Cost Schedule'!M20,\"\")","v":""},{"$f":"IF('Replacement Cost Schedule'!N20<>\"\",'Replacement Cost Schedule'!N20,\"\")","v":""},{"$f":"IF('Replacement Cost Schedule'!O20<>\"\",'Replacement Cost Schedule'!O20,\"\")","v":""},{"$f":"IF('Replacement Cost Schedule'!P20<>\"\",'Replacement Cost Schedule'!P20,\"\")","v":""},{"$f":"IF('Replacement Cost Schedule'!Q20<>\"\",'Replacement Cost Schedule'!Q20,\"\")","v":""},{"$f":"IF('Replacement Cost Schedule'!R20<>\"\",'Replacement Cost Schedule'!R20,\"\")","v":""},{"$f":"IF('Replacement Cost Schedule'!S20<>\"\",'Replacement Cost Schedule'!S20,\"\")","v":""},null,{"$f":"IF('Replacement Cost Schedule'!C20<>\"\",'Replacement Cost Schedule'!C20,\"\")","v":""},{"$f":"IF('Replacement Cost Schedule'!T20<>\"\",'Replacement Cost Schedule'!T20,\"\")","v":""},{"$f":"IF('Replacement Cost Schedule'!U20<>\"\",'Replacement Cost Schedule'!U20,\"\")","v":""},{"$f":"IF('Replacement Cost Schedule'!V20<>\"\",'Replacement Cost Schedule'!V20,\"\")","v":""},{"$f":"IF('Replacement Cost Schedule'!W20<>\"\",'Replacement Cost Schedule'!W20,\"\")","v":""},{"$f":"IF('Replacement Cost Schedule'!X20<>\"\",'Replacement Cost Schedule'!X20,\"\")","v":""},{"$f":"IF('Replacement Cost Schedule'!Y20<>\"\",'Replacement Cost Schedule'!Y20,\"\")","v":""},{"$f":"IF('Replacement Cost Schedule'!Z20<>\"\",'Replacement Cost Schedule'!Z20,\"\")","v":""},{"$f":"IF('Replacement Cost Schedule'!AA20<>\"\",'Replacement Cost Schedule'!AA20,\"\")","v":""},{"$f":"IF('Replacement Cost Schedule'!AB20<>\"\",'Replacement Cost Schedule'!AB20,\"\")","v":""},{"$f":"IF('Replacement Cost Schedule'!AC20<>\"\",'Replacement Cost Schedule'!AC20,\"\")","v":""},{"$f":"IF('Replacement Cost Schedule'!AD20<>\"\",'Replacement Cost Schedule'!AD20,\"\")","v":""},{"$f":"IF('Replacement Cost Schedule'!AE20<>\"\",'Replacement Cost Schedule'!AE20,\"\")","v":""},{"$f":"IF('Replacement Cost Schedule'!AF20<>\"\",'Replacement Cost Schedule'!AF20,\"\")","v":""},0]
[null,null,{"$f":"IF('Replacement Cost Schedule'!C21<>\"\",'Replacement Cost Schedule'!C21,\"\")","v":""},{"$f":"IF('Replacement Cost Schedule'!D21<>\"\",'Replacement Cost Schedule'!D21,\"\")","v":""},{"$f":"IF('Replacement Cost Schedule'!E21<>\"\",'Replacement Cost Schedule'!E21,\"\")","v":""},{"$f":"IF('Replacement Cost Schedule'!F21<>\"\",'Replacement Cost Schedule'!F21,\"\")","v":""},{"$f":"IF('Replacement Cost Schedule'!G21<>\"\",'Replacement Cost Schedule'!G21,\"\")","v":""},{"$f":"IF('Replacement Cost Schedule'!H21<>\"\",'Replacement Cost Schedule'!H21,\"\")","v":""},{"$f":"IF('Replacement Cost Schedule'!I21<>\"\",'Replacement Cost Schedule'!I21,\"\")","v":""},{"$f":"IF('Replacement Cost Schedule'!J21<>\"\",'Replacement Cost Schedule'!J21,\"\")","v":""},{"$f":"IF('Replacement Cost Schedule'!K21<>\"\",'Replacement Cost Schedule'!K21,\"\")","v":""},{"$f":"IF('Replacement Cost Schedule'!L21<>\"\",'Replacement Cost Schedule'!L21,\"\")","v":""},{"$f":"IF('Replacement Cost Schedule'!M21<>\"\",'Replacement Cost Schedule'!M21,\"\")","v":""},{"$f":"IF('Replacement Cost Schedule'!N21<>\"\",'Replacement Cost Schedule'!N21,\"\")","v":""},{"$f":"IF('Replacement Cost Schedule'!O21<>\"\",'Replacement Cost Schedule'!O21,\"\")","v":""},{"$f":"IF('Replacement Cost Schedule'!P21<>\"\",'Replacement Cost Schedule'!P21,\"\")","v":""},{"$f":"IF('Replacement Cost Schedule'!Q21<>\"\",'Replacement Cost Schedule'!Q21,\"\")","v":""},{"$f":"IF('Replacement Cost Schedule'!R21<>\"\",'Replacement Cost Schedule'!R21,\"\")","v":""},{"$f":"IF('Replacement Cost Schedule'!S21<>\"\",'Replacement Cost Schedule'!S21,\"\")","v":""},null,{"$f":"IF('Replacement Cost Schedule'!C21<>\"\",'Replacement Cost Schedule'!C21,\"\")","v":""},{"$f":"IF('Replacement Cost Schedule'!T21<>\"\",'Replacement Cost Schedule'!T21,\"\")","v":""},{"$f":"IF('Replacement Cost Schedule'!U21<>\"\",'Replacement Cost Schedule'!U21,\"\")","v":""},{"$f":"IF('Replacement Cost Schedule'!V21<>\"\",'Replacement Cost Schedule'!V21,\"\")","v":""},{"$f":"IF('Replacement Cost Schedule'!W21<>\"\",'Replacement Cost Schedule'!W21,\"\")","v":""},{"$f":"IF('Replacement Cost Schedule'!X21<>\"\",'Replacement Cost Schedule'!X21,\"\")","v":""},{"$f":"IF('Replacement Cost Schedule'!Y21<>\"\",'Replacement Cost Schedule'!Y21,\"\")","v":""},{"$f":"IF('Replacement Cost Schedule'!Z21<>\"\",'Replacement Cost Schedule'!Z21,\"\")","v":""},{"$f":"IF('Replacement Cost Schedule'!AA21<>\"\",'Replacement Cost Schedule'!AA21,\"\")","v":""},{"$f":"IF('Replacement Cost Schedule'!AB21<>\"\",'Replacement Cost Schedule'!AB21,\"\")","v":""},{"$f":"IF('Replacement Cost Schedule'!AC21<>\"\",'Replacement Cost Schedule'!AC21,\"\")","v":""},{"$f":"IF('Replacement Cost Schedule'!AD21<>\"\",'Replacement Cost Schedule'!AD21,\"\")","v":""},{"$f":"IF('Replacement Cost Schedule'!AE21<>\"\",'Replacement Cost Schedule'!AE21,\"\")","v":""},{"$f":"IF('Replacement Cost Schedule'!AF21<>\"\",'Replacement Cost Schedule'!AF21,\"\")","v":""},0]
[null,null,{"$f":"IF('Replacement Cost Schedule'!C22<>\"\",'Replacement Cost Schedule'!C22,\"\")","v":""},{"$f":"IF('Replacement Cost Schedule'!D22<>\"\",'Replacement Cost Schedule'!D22,\"\")","v":""},{"$f":"IF('Replacement Cost Schedule'!E22<>\"\",'Replacement Cost Schedule'!E22,\"\")","v":""},{"$f":"IF('Replacement Cost Schedule'!F22<>\"\",'Replacement Cost Schedule'!F22,\"\")","v":""},{"$f":"IF('Replacement Cost Schedule'!G22<>\"\",'Replacement Cost Schedule'!G22,\"\")","v":""},{"$f":"IF('Replacement Cost Schedule'!H22<>\"\",'Replacement Cost Schedule'!H22,\"\")","v":""},{"$f":"IF('Replacement Cost Schedule'!I22<>\"\",'Replacement Cost Schedule'!I22,\"\")","v":""},{"$f":"IF('Replacement Cost Schedule'!J22<>\"\",'Replacement Cost Schedule'!J22,\"\")","v":""},{"$f":"IF('Replacement Cost Schedule'!K22<>\"\",'Replacement Cost Schedule'!K22,\"\")","v":""},{"$f":"IF('Replacement Cost Schedule'!L22<>\"\",'Replacement Cost Schedule'!L22,\"\")","v":""},{"$f":"IF('Replacement Cost Schedule'!M22<>\"\",'Replacement Cost Schedule'!M22,\"\")","v":""},{"$f":"IF('Replacement Cost Schedule'!N22<>\"\",'Replacement Cost Schedule'!N22,\"\")","v":""},{"$f":"IF('Replacement Cost Schedule'!O22<>\"\",'Replacement Cost Schedule'!O22,\"\")","v":""},{"$f":"IF('Replacement Cost Schedule'!P22<>\"\",'Replacement Cost Schedule'!P22,\"\")","v":""},{"$f":"IF('Replacement Cost Schedule'!Q22<>\"\",'Replacement Cost Schedule'!Q22,\"\")","v":""},{"$f":"IF('Replacement Cost Schedule'!R22<>\"\",'Replacement Cost Schedule'!R22,\"\")","v":""},{"$f":"IF('Replacement Cost Schedule'!S22<>\"\",'Replacement Cost Schedule'!S22,\"\")","v":""},null,{"$f":"IF('Replacement Cost Schedule'!C22<>\"\",'Replacement Cost Schedule'!C22,\"\")","v":""},{"$f":"IF('Replacement Cost Schedule'!T22<>\"\",'Replacement Cost Schedule'!T22,\"\")","v":""},{"$f":"IF('Replacement Cost Schedule'!U22<>\"\",'Replacement Cost Schedule'!U22,\"\")","v":""},{"$f":"IF('Replacement Cost Schedule'!V22<>\"\",'Replacement Cost Schedule'!V22,\"\")","v":""},{"$f":"IF('Replacement Cost Schedule'!W22<>\"\",'Replacement Cost Schedule'!W22,\"\")","v":""},{"$f":"IF('Replacement Cost Schedule'!X22<>\"\",'Replacement Cost Schedule'!X22,\"\")","v":""},{"$f":"IF('Replacement Cost Schedule'!Y22<>\"\",'Replacement Cost Schedule'!Y22,\"\")","v":""},{"$f":"IF('Replacement Cost Schedule'!Z22<>\"\",'Replacement Cost Schedule'!Z22,\"\")","v":""},{"$f":"IF('Replacement Cost Schedule'!AA22<>\"\",'Replacement Cost Schedule'!AA22,\"\")","v":""},{"$f":"IF('Replacement Cost Schedule'!AB22<>\"\",'Replacement Cost Schedule'!AB22,\"\")","v":""},{"$f":"IF('Replacement Cost Schedule'!AC22<>\"\",'Replacement Cost Schedule'!AC22,\"\")","v":""},{"$f":"IF('Replacement Cost Schedule'!AD22<>\"\",'Replacement Cost Schedule'!AD22,\"\")","v":""},{"$f":"IF('Replacement Cost Schedule'!AE22<>\"\",'Replacement Cost Schedule'!AE22,\"\")","v":""},{"$f":"IF('Replacement Cost Schedule'!AF22<>\"\",'Replacement Cost Schedule'!AF22,\"\")","v":""},0]
[null,null,{"$f":"IF('Replacement Cost Schedule'!C23<>\"\",'Replacement Cost Schedule'!C23,\"\")","v":""},{"$f":"IF('Replacement Cost Schedule'!D23<>\"\",'Replacement Cost Schedule'!D23,\"\")","v":""},{"$f":"IF('Replacement Cost Schedule'!E23<>\"\",'Replacement Cost Schedule'!E23,\"\")","v":""},{"$f":"IF('Replacement Cost Schedule'!F23<>\"\",'Replacement Cost Schedule'!F23,\"\")","v":""},{"$f":"IF('Replacement Cost Schedule'!G23<>\"\",'Replacement Cost Schedule'!G23,\"\")","v":""},{"$f":"IF('Replacement Cost Schedule'!H23<>\"\",'Replacement Cost Schedule'!H23,\"\")","v":""},{"$f":"IF('Replacement Cost Schedule'!I23<>\"\",'Replacement Cost Schedule'!I23,\"\")","v":""},{"$f":"IF('Replacement Cost Schedule'!J23<>\"\",'Replacement Cost Schedule'!J23,\"\")","v":""},{"$f":"IF('Replacement Cost Schedule'!K23<>\"\",'Replacement Cost Schedule'!K23,\"\")","v":""},{"$f":"IF('Replacement Cost Schedule'!L23<>\"\",'Replacement Cost Schedule'!L23,\"\")","v":""},{"$f":"IF('Replacement Cost Schedule'!M23<>\"\",'Replacement Cost Schedule'!M23,\"\")","v":""},{"$f":"IF('Replacement Cost Schedule'!N23<>\"\",'Replacement Cost Schedule'!N23,\"\")","v":""},{"$f":"IF('Replacement Cost Schedule'!O23<>\"\",'Replacement Cost Schedule'!O23,\"\")","v":""},{"$f":"IF('Replacement Cost Schedule'!P23<>\"\",'Replacement Cost Schedule'!P23,\"\")","v":""},{"$f":"IF('Replacement Cost Schedule'!Q23<>\"\",'Replacement Cost Schedule'!Q23,\"\")","v":""},{"$f":"IF('Replacement Cost Schedule'!R23<>\"\",'Replacement Cost Schedule'!R23,\"\")","v":""},{"$f":"IF('Replacement Cost Schedule'!S23<>\"\",'Replacement Cost Schedule'!S23,\"\")","v":""},null,{"$f":"IF('Replacement Cost Schedule'!C23<>\"\",'Replacement Cost Schedule'!C23,\"\")","v":""},{"$f":"IF('Replacement Cost Schedule'!T23<>\"\",'Replacement Cost Schedule'!T23,\"\")","v":""},{"$f":"IF('Replacement Cost Schedule'!U23<>\"\",'Replacement Cost Schedule'!U23,\"\")","v":""},{"$f":"IF('Replacement Cost Schedule'!V23<>\"\",'Replacement Cost Schedule'!V23,\"\")","v":""},{"$f":"IF('Replacement Cost Schedule'!W23<>\"\",'Replacement Cost Schedule'!W23,\"\")","v":""},{"$f":"IF('Replacement Cost Schedule'!X23<>\"\",'Replacement Cost Schedule'!X23,\"\")","v":""},{"$f":"IF('Replacement Cost Schedule'!Y23<>\"\",'Replacement Cost Schedule'!Y23,\"\")","v":""},{"$f":"IF('Replacement Cost Schedule'!Z23<>\"\",'Replacement Cost Schedule'!Z23,\"\")","v":""},{"$f":"IF('Replacement Cost Schedule'!AA23<>\"\",'Replacement Cost Schedule'!AA23,\"\")","v":""},{"$f":"IF('Replacement Cost Schedule'!AB23<>\"\",'Replacement Cost Schedule'!AB23,\"\")","v":""},{"$f":"IF('Replacement Cost Schedule'!AC23<>\"\",'Replacement Cost Schedule'!AC23,\"\")","v":""},{"$f":"IF('Replacement Cost Schedule'!AD23<>\"\",'Replacement Cost Schedule'!AD23,\"\")","v":""},{"$f":"IF('Replacement Cost Schedule'!AE23<>\"\",'Replacement Cost Schedule'!AE23,\"\")","v":""},{"$f":"IF('Replacement Cost Schedule'!AF23<>\"\",'Replacement Cost Schedule'!AF23,\"\")","v":""},0]
[null,null,{"$f":"IF('Replacement Cost Schedule'!C24<>\"\",'Replacement Cost Schedule'!C24,\"\")","v":""},{"$f":"IF('Replacement Cost Schedule'!D24<>\"\",'Replacement Cost Schedule'!D24,\"\")","v":""},{"$f":"IF('Replacement Cost Schedule'!E24<>\"\",'Replacement Cost Schedule'!E24,\"\")","v":""},{"$f":"IF('Replacement Cost Schedule'!F24<>\"\",'Replacement Cost Schedule'!F24,\"\")","v":""},{"$f":"IF('Replacement Cost Schedule'!G24<>\"\",'Replacement Cost Schedule'!G24,\"\")","v":""},{"$f":"IF('Replacement Cost Schedule'!H24<>\"\",'Replacement Cost Schedule'!H24,\"\")","v":""},{"$f":"IF('Replacement Cost Schedule'!I24<>\"\",'Replacement Cost Schedule'!I24,\"\")","v":""},{"$f":"IF('Replacement Cost Schedule'!J24<>\"\",'Replacement Cost Schedule'!J24,\"\")","v":""},{"$f":"IF('Replacement Cost Schedule'!K24<>\"\",'Replacement Cost Schedule'!K24,\"\")","v":""},{"$f":"IF('Replacement Cost Schedule'!L24<>\"\",'Replacement Cost Schedule'!L24,\"\")","v":""},{"$f":"IF('Replacement Cost Schedule'!M24<>\"\",'Replacement Cost Schedule'!M24,\"\")","v":""},{"$f":"IF('Replacement Cost Schedule'!N24<>\"\",'Replacement Cost Schedule'!N24,\"\")","v":""},{"$f":"IF('Replacement Cost Schedule'!O24<>\"\",'Replacement Cost Schedule'!O24,\"\")","v":""},{"$f":"IF('Replacement Cost Schedule'!P24<>\"\",'Replacement Cost Schedule'!P24,\"\")","v":""},{"$f":"IF('Replacement Cost Schedule'!Q24<>\"\",'Replacement Cost Schedule'!Q24,\"\")","v":""},{"$f":"IF('Replacement Cost Schedule'!R24<>\"\",'Replacement Cost Schedule'!R24,\"\")","v":""},{"$f":"IF('Replacement Cost Schedule'!S24<>\"\",'Replacement Cost Schedule'!S24,\"\")","v":""},null,{"$f":"IF('Replacement Cost Schedule'!C24<>\"\",'Replacement Cost Schedule'!C24,\"\")","v":""},{"$f":"IF('Replacement Cost Schedule'!T24<>\"\",'Replacement Cost Schedule'!T24,\"\")","v":""},{"$f":"IF('Replacement Cost Schedule'!U24<>\"\",'Replacement Cost Schedule'!U24,\"\")","v":""},{"$f":"IF('Replacement Cost Schedule'!V24<>\"\",'Replacement Cost Schedule'!V24,\"\")","v":""},{"$f":"IF('Replacement Cost Schedule'!W24<>\"\",'Replacement Cost Schedule'!W24,\"\")","v":""},{"$f":"IF('Replacement Cost Schedule'!X24<>\"\",'Replacement Cost Schedule'!X24,\"\")","v":""},{"$f":"IF('Replacement Cost Schedule'!Y24<>\"\",'Replacement Cost Schedule'!Y24,\"\")","v":""},{"$f":"IF('Replacement Cost Schedule'!Z24<>\"\",'Replacement Cost Schedule'!Z24,\"\")","v":""},{"$f":"IF('Replacement Cost Schedule'!AA24<>\"\",'Replacement Cost Schedule'!AA24,\"\")","v":""},{"$f":"IF('Replacement Cost Schedule'!AB24<>\"\",'Replacement Cost Schedule'!AB24,\"\")","v":""},{"$f":"IF('Replacement Cost Schedule'!AC24<>\"\",'Replacement Cost Schedule'!AC24,\"\")","v":""},{"$f":"IF('Replacement Cost Schedule'!AD24<>\"\",'Replacement Cost Schedule'!AD24,\"\")","v":""},{"$f":"IF('Replacement Cost Schedule'!AE24<>\"\",'Replacement Cost Schedule'!AE24,\"\")","v":""},{"$f":"IF('Replacement Cost Schedule'!AF24<>\"\",'Replacement Cost Schedule'!AF24,\"\")","v":""},0]
[null,null,{"$f":"IF('Replacement Cost Schedule'!C25<>\"\",'Replacement Cost Schedule'!C25,\"\")","v":""},{"$f":"IF('Replacement Cost Schedule'!D25<>\"\",'Replacement Cost Schedule'!D25,\"\")","v":""},{"$f":"IF('Replacement Cost Schedule'!E25<>\"\",'Replacement Cost Schedule'!E25,\"\")","v":""},{"$f":"IF('Replacement Cost Schedule'!F25<>\"\",'Replacement Cost Schedule'!F25,\"\")","v":""},{"$f":"IF('Replacement Cost Schedule'!G25<>\"\",'Replacement Cost Schedule'!G25,\"\")","v":""},{"$f":"IF('Replacement Cost Schedule'!H25<>\"\",'Replacement Cost Schedule'!H25,\"\")","v":""},{"$f":"IF('Replacement Cost Schedule'!I25<>\"\",'Replacement Cost Schedule'!I25,\"\")","v":""},{"$f":"IF('Replacement Cost Schedule'!J25<>\"\",'Replacement Cost Schedule'!J25,\"\")","v":""},{"$f":"IF('Replacement Cost Schedule'!K25<>\"\",'Replacement Cost Schedule'!K25,\"\")","v":""},{"$f":"IF('Replacement Cost Schedule'!L25<>\"\",'Replacement Cost Schedule'!L25,\"\")","v":""},{"$f":"IF('Replacement Cost Schedule'!M25<>\"\",'Replacement Cost Schedule'!M25,\"\")","v":""},{"$f":"IF('Replacement Cost Schedule'!N25<>\"\",'Replacement Cost Schedule'!N25,\"\")","v":""},{"$f":"IF('Replacement Cost Schedule'!O25<>\"\",'Replacement Cost Schedule'!O25,\"\")","v":""},{"$f":"IF('Replacement Cost Schedule'!P25<>\"\",'Replacement Cost Schedule'!P25,\"\")","v":""},{"$f":"IF('Replacement Cost Schedule'!Q25<>\"\",'Replacement Cost Schedule'!Q25,\"\")","v":""},{"$f":"IF('Replacement Cost Schedule'!R25<>\"\",'Replacement Cost Schedule'!R25,\"\")","v":""},{"$f":"IF('Replacement Cost Schedule'!S25<>\"\",'Replacement Cost Schedule'!S25,\"\")","v":""},null,{"$f":"IF('Replacement Cost Schedule'!C25<>\"\",'Replacement Cost Schedule'!C25,\"\")","v":""},{"$f":"IF('Replacement Cost Schedule'!T25<>\"\",'Replacement Cost Schedule'!T25,\"\")","v":""},{"$f":"IF('Replacement Cost Schedule'!U25<>\"\",'Replacement Cost Schedule'!U25,\"\")","v":""},{"$f":"IF('Replacement Cost Schedule'!V25<>\"\",'Replacement Cost Schedule'!V25,\"\")","v":""},{"$f":"IF('Replacement Cost Schedule'!W25<>\"\",'Replacement Cost Schedule'!W25,\"\")","v":""},{"$f":"IF('Replacement Cost Schedule'!X25<>\"\",'Replacement Cost Schedule'!X25,\"\")","v":""},{"$f":"IF('Replacement Cost Schedule'!Y25<>\"\",'Replacement Cost Schedule'!Y25,\"\")","v":""},{"$f":"IF('Replacement Cost Schedule'!Z25<>\"\",'Replacement Cost Schedule'!Z25,\"\")","v":""},{"$f":"IF('Replacement Cost Schedule'!AA25<>\"\",'Replacement Cost Schedule'!AA25,\"\")","v":""},{"$f":"IF('Replacement Cost Schedule'!AB25<>\"\",'Replacement Cost Schedule'!AB25,\"\")","v":""},{"$f":"IF('Replacement Cost Schedule'!AC25<>\"\",'Replacement Cost Schedule'!AC25,\"\")","v":""},{"$f":"IF('Replacement Cost Schedule'!AD25<>\"\",'Replacement Cost Schedule'!AD25,\"\")","v":""},{"$f":"IF('Replacement Cost Schedule'!AE25<>\"\",'Replacement Cost Schedule'!AE25,\"\")","v":""},{"$f":"IF('Replacement Cost Schedule'!AF25<>\"\",'Replacement Cost Schedule'!AF25,\"\")","v":""},0]
[null,null,{"$f":"IF('Replacement Cost Schedule'!C26<>\"\",'Replacement Cost Schedule'!C26,\"\")","v":""},{"$f":"IF('Replacement Cost Schedule'!D26<>\"\",'Replacement Cost Schedule'!D26,\"\")","v":""},{"$f":"IF('Replacement Cost Schedule'!E26<>\"\",'Replacement Cost Schedule'!E26,\"\")","v":""},{"$f":"IF('Replacement Cost Schedule'!F26<>\"\",'Replacement Cost Schedule'!F26,\"\")","v":""},{"$f":"IF('Replacement Cost Schedule'!G26<>\"\",'Replacement Cost Schedule'!G26,\"\")","v":""},{"$f":"IF('Replacement Cost Schedule'!H26<>\"\",'Replacement Cost Schedule'!H26,\"\")","v":""},{"$f":"IF('Replacement Cost Schedule'!I26<>\"\",'Replacement Cost Schedule'!I26,\"\")","v":""},{"$f":"IF('Replacement Cost Schedule'!J26<>\"\",'Replacement Cost Schedule'!J26,\"\")","v":""},{"$f":"IF('Replacement Cost Schedule'!K26<>\"\",'Replacement Cost Schedule'!K26,\"\")","v":""},{"$f":"IF('Replacement Cost Schedule'!L26<>\"\",'Replacement Cost Schedule'!L26,\"\")","v":""},{"$f":"IF('Replacement Cost Schedule'!M26<>\"\",'Replacement Cost Schedule'!M26,\"\")","v":""},{"$f":"IF('Replacement Cost Schedule'!N26<>\"\",'Replacement Cost Schedule'!N26,\"\")","v":""},{"$f":"IF('Replacement Cost Schedule'!O26<>\"\",'Replacement Cost Schedule'!O26,\"\")","v":""},{"$f":"IF('Replacement Cost Schedule'!P26<>\"\",'Replacement Cost Schedule'!P26,\"\")","v":""},{"$f":"IF('Replacement Cost Schedule'!Q26<>\"\",'Replacement Cost Schedule'!Q26,\"\")","v":""},{"$f":"IF('Replacement Cost Schedule'!R26<>\"\",'Replacement Cost Schedule'!R26,\"\")","v":""},{"$f":"IF('Replacement Cost Schedule'!S26<>\"\",'Replacement Cost Schedule'!S26,\"\")","v":""},null,{"$f":"IF('Replacement Cost Schedule'!C26<>\"\",'Replacement Cost Schedule'!C26,\"\")","v":""},{"$f":"IF('Replacement Cost Schedule'!T26<>\"\",'Replacement Cost Schedule'!T26,\"\")","v":""},{"$f":"IF('Replacement Cost Schedule'!U26<>\"\",'Replacement Cost Schedule'!U26,\"\")","v":""},{"$f":"IF('Replacement Cost Schedule'!V26<>\"\",'Replacement Cost Schedule'!V26,\"\")","v":""},{"$f":"IF('Replacement Cost Schedule'!W26<>\"\",'Replacement Cost Schedule'!W26,\"\")","v":""},{"$f":"IF('Replacement Cost Schedule'!X26<>\"\",'Replacement Cost Schedule'!X26,\"\")","v":""},{"$f":"IF('Replacement Cost Schedule'!Y26<>\"\",'Replacement Cost Schedule'!Y26,\"\")","v":""},{"$f":"IF('Replacement Cost Schedule'!Z26<>\"\",'Replacement Cost Schedule'!Z26,\"\")","v":""},{"$f":"IF('Replacement Cost Schedule'!AA26<>\"\",'Replacement Cost Schedule'!AA26,\"\")","v":""},{"$f":"IF('Replacement Cost Schedule'!AB26<>\"\",'Replacement Cost Schedule'!AB26,\"\")","v":""},{"$f":"IF('Replacement Cost Schedule'!AC26<>\"\",'Replacement Cost Schedule'!AC26,\"\")","v":""},{"$f":"IF('Replacement Cost Schedule'!AD26<>\"\",'Replacement Cost Schedule'!AD26,\"\")","v":""},{"$f":"IF('Replacement Cost Schedule'!AE26<>\"\",'Replacement Cost Schedule'!AE26,\"\")","v":""},{"$f":"IF('Replacement Cost Schedule'!AF26<>\"\",'Replacement Cost Schedule'!AF26,\"\")","v":""},0]
[null,null,{"$f":"IF('Replacement Cost Schedule'!C27<>\"\",'Replacement Cost Schedule'!C27,\"\")","v":""},{"$f":"IF('Replacement Cost Schedule'!D27<>\"\",'Replacement Cost Schedule'!D27,\"\")","v":""},{"$f":"IF('Replacement Cost Schedule'!E27<>\"\",'Replacement Cost Schedule'!E27,\"\")","v":""},{"$f":"IF('Replacement Cost Schedule'!F27<>\"\",'Replacement Cost Schedule'!F27,\"\")","v":""},{"$f":"IF('Replacement Cost Schedule'!G27<>\"\",'Replacement Cost Schedule'!G27,\"\")","v":""},{"$f":"IF('Replacement Cost Schedule'!H27<>\"\",'Replacement Cost Schedule'!H27,\"\")","v":""},{"$f":"IF('Replacement Cost Schedule'!I27<>\"\",'Replacement Cost Schedule'!I27,\"\")","v":""},{"$f":"IF('Replacement Cost Schedule'!J27<>\"\",'Replacement Cost Schedule'!J27,\"\")","v":""},{"$f":"IF('Replacement Cost Schedule'!K27<>\"\",'Replacement Cost Schedule'!K27,\"\")","v":""},{"$f":"IF('Replacement Cost Schedule'!L27<>\"\",'Replacement Cost Schedule'!L27,\"\")","v":""},{"$f":"IF('Replacement Cost Schedule'!M27<>\"\",'Replacement Cost Schedule'!M27,\"\")","v":""},{"$f":"IF('Replacement Cost Schedule'!N27<>\"\",'Replacement Cost Schedule'!N27,\"\")","v":""},{"$f":"IF('Replacement Cost Schedule'!O27<>\"\",'Replacement Cost Schedule'!O27,\"\")","v":""},{"$f":"IF('Replacement Cost Schedule'!P27<>\"\",'Replacement Cost Schedule'!P27,\"\")","v":""},{"$f":"IF('Replacement Cost Schedule'!Q27<>\"\",'Replacement Cost Schedule'!Q27,\"\")","v":""},{"$f":"IF('Replacement Cost Schedule'!R27<>\"\",'Replacement Cost Schedule'!R27,\"\")","v":""},{"$f":"IF('Replacement Cost Schedule'!S27<>\"\",'Replacement Cost Schedule'!S27,\"\")","v":""},null,{"$f":"IF('Replacement Cost Schedule'!C27<>\"\",'Replacement Cost Schedule'!C27,\"\")","v":""},{"$f":"IF('Replacement Cost Schedule'!T27<>\"\",'Replacement Cost Schedule'!T27,\"\")","v":""},{"$f":"IF('Replacement Cost Schedule'!U27<>\"\",'Replacement Cost Schedule'!U27,\"\")","v":""},{"$f":"IF('Replacement Cost Schedule'!V27<>\"\",'Replacement Cost Schedule'!V27,\"\")","v":""},{"$f":"IF('Replacement Cost Schedule'!W27<>\"\",'Replacement Cost Schedule'!W27,\"\")","v":""},{"$f":"IF('Replacement Cost Schedule'!X27<>\"\",'Replacement Cost Schedule'!X27,\"\")","v":""},{"$f":"IF('Replacement Cost Schedule'!Y27<>\"\",'Replacement Cost Schedule'!Y27,\"\")","v":""},{"$f":"IF('Replacement Cost Schedule'!Z27<>\"\",'Replacement Cost Schedule'!Z27,\"\")","v":""},{"$f":"IF('Replacement Cost Schedule'!AA27<>\"\",'Replacement Cost Schedule'!AA27,\"\")","v":""},{"$f":"IF('Replacement Cost Schedule'!AB27<>\"\",'Replacement Cost Schedule'!AB27,\"\")","v":""},{"$f":"IF('Replacement Cost Schedule'!AC27<>\"\",'Replacement Cost Schedule'!AC27,\"\")","v":""},{"$f":"IF('Replacement Cost Schedule'!AD27<>\"\",'Replacement Cost Schedule'!AD27,\"\")","v":""},{"$f":"IF('Replacement Cost Schedule'!AE27<>\"\",'Replacement Cost Schedule'!AE27,\"\")","v":""},{"$f":"IF('Replacement Cost Schedule'!AF27<>\"\",'Replacement Cost Schedule'!AF27,\"\")","v":""},0]
[null,null,{"$f":"IF('Replacement Cost Schedule'!C28<>\"\",'Replacement Cost Schedule'!C28,\"\")","v":""},{"$f":"IF('Replacement Cost Schedule'!D28<>\"\",'Replacement Cost Schedule'!D28,\"\")","v":""},{"$f":"IF('Replacement Cost Schedule'!E28<>\"\",'Replacement Cost Schedule'!E28,\"\")","v":""},{"$f":"IF('Replacement Cost Schedule'!F28<>\"\",'Replacement Cost Schedule'!F28,\"\")","v":""},{"$f":"IF('Replacement Cost Schedule'!G28<>\"\",'Replacement Cost Schedule'!G28,\"\")","v":""},{"$f":"IF('Replacement Cost Schedule'!H28<>\"\",'Replacement Cost Schedule'!H28,\"\")","v":""},{"$f":"IF('Replacement Cost Schedule'!I28<>\"\",'Replacement Cost Schedule'!I28,\"\")","v":""},{"$f":"IF('Replacement Cost Schedule'!J28<>\"\",'Replacement Cost Schedule'!J28,\"\")","v":""},{"$f":"IF('Replacement Cost Schedule'!K28<>\"\",'Replacement Cost Schedule'!K28,\"\")","v":""},{"$f":"IF('Replacement Cost Schedule'!L28<>\"\",'Replacement Cost Schedule'!L28,\"\")","v":""},{"$f":"IF('Replacement Cost Schedule'!M28<>\"\",'Replacement Cost Schedule'!M28,\"\")","v":""},{"$f":"IF('Replacement Cost Schedule'!N28<>\"\",'Replacement Cost Schedule'!N28,\"\")","v":""},{"$f":"IF('Replacement Cost Schedule'!O28<>\"\",'Replacement Cost Schedule'!O28,\"\")","v":""},{"$f":"IF('Replacement Cost Schedule'!P28<>\"\",'Replacement Cost Schedule'!P28,\"\")","v":""},{"$f":"IF('Replacement Cost Schedule'!Q28<>\"\",'Replacement Cost Schedule'!Q28,\"\")","v":""},{"$f":"IF('Replacement Cost Schedule'!R28<>\"\",'Replacement Cost Schedule'!R28,\"\")","v":""},{"$f":"IF('Replacement Cost Schedule'!S28<>\"\",'Replacement Cost Schedule'!S28,\"\")","v":""},null,{"$f":"IF('Replacement Cost Schedule'!C28<>\"\",'Replacement Cost Schedule'!C28,\"\")","v":""},{"$f":"IF('Replacement Cost Schedule'!T28<>\"\",'Replacement Cost Schedule'!T28,\"\")","v":""},{"$f":"IF('Replacement Cost Schedule'!U28<>\"\",'Replacement Cost Schedule'!U28,\"\")","v":""},{"$f":"IF('Replacement Cost Schedule'!V28<>\"\",'Replacement Cost Schedule'!V28,\"\")","v":""},{"$f":"IF('Replacement Cost Schedule'!W28<>\"\",'Replacement Cost Schedule'!W28,\"\")","v":""},{"$f":"IF('Replacement Cost Schedule'!X28<>\"\",'Replacement Cost Schedule'!X28,\"\")","v":""},{"$f":"IF('Replacement Cost Schedule'!Y28<>\"\",'Replacement Cost Schedule'!Y28,\"\")","v":""},{"$f":"IF('Replacement Cost Schedule'!Z28<>\"\",'Replacement Cost Schedule'!Z28,\"\")","v":""},{"$f":"IF('Replacement Cost Schedule'!AA28<>\"\",'Replacement Cost Schedule'!AA28,\"\")","v":""},{"$f":"IF('Replacement Cost Schedule'!AB28<>\"\",'Replacement Cost Schedule'!AB28,\"\")","v":""},{"$f":"IF('Replacement Cost Schedule'!AC28<>\"\",'Replacement Cost Schedule'!AC28,\"\")","v":""},{"$f":"IF('Replacement Cost Schedule'!AD28<>\"\",'Replacement Cost Schedule'!AD28,\"\")","v":""},{"$f":"IF('Replacement Cost Schedule'!AE28<>\"\",'Replacement Cost Schedule'!AE28,\"\")","v":""},{"$f":"IF('Replacement Cost Schedule'!AF28<>\"\",'Replacement Cost Schedule'!AF28,\"\")","v":""},0]
[null,null,{"$f":"IF('Replacement Cost Schedule'!C29<>\"\",'Replacement Cost Schedule'!C29,\"\")","v":""},{"$f":"IF('Replacement Cost Schedule'!D29<>\"\",'Replacement Cost Schedule'!D29,\"\")","v":""},{"$f":"IF('Replacement Cost Schedule'!E29<>\"\",'Replacement Cost Schedule'!E29,\"\")","v":""},{"$f":"IF('Replacement Cost Schedule'!F29<>\"\",'Replacement Cost Schedule'!F29,\"\")","v":""},{"$f":"IF('Replacement Cost Schedule'!G29<>\"\",'Replacement Cost Schedule'!G29,\"\")","v":""},{"$f":"IF('Replacement Cost Schedule'!H29<>\"\",'Replacement Cost Schedule'!H29,\"\")","v":""},{"$f":"IF('Replacement Cost Schedule'!I29<>\"\",'Replacement Cost Schedule'!I29,\"\")","v":""},{"$f":"IF('Replacement Cost Schedule'!J29<>\"\",'Replacement Cost Schedule'!J29,\"\")","v":""},{"$f":"IF('Replacement Cost Schedule'!K29<>\"\",'Replacement Cost Schedule'!K29,\"\")","v":""},{"$f":"IF('Replacement Cost Schedule'!L29<>\"\",'Replacement Cost Schedule'!L29,\"\")","v":""},{"$f":"IF('Replacement Cost Schedule'!M29<>\"\",'Replacement Cost Schedule'!M29,\"\")","v":""},{"$f":"IF('Replacement Cost Schedule'!N29<>\"\",'Replacement Cost Schedule'!N29,\"\")","v":""},{"$f":"IF('Replacement Cost Schedule'!O29<>\"\",'Replacement Cost Schedule'!O29,\"\")","v":""},{"$f":"IF('Replacement Cost Schedule'!P29<>\"\",'Replacement Cost Schedule'!P29,\"\")","v":""},{"$f":"IF('Replacement Cost Schedule'!Q29<>\"\",'Replacement Cost Schedule'!Q29,\"\")","v":""},{"$f":"IF('Replacement Cost Schedule'!R29<>\"\",'Replacement Cost Schedule'!R29,\"\")","v":""},{"$f":"IF('Replacement Cost Schedule'!S29<>\"\",'Replacement Cost Schedule'!S29,\"\")","v":""},null,{"$f":"IF('Replacement Cost Schedule'!C29<>\"\",'Replacement Cost Schedule'!C29,\"\")","v":""},{"$f":"IF('Replacement Cost Schedule'!T29<>\"\",'Replacement Cost Schedule'!T29,\"\")","v":""},{"$f":"IF('Replacement Cost Schedule'!U29<>\"\",'Replacement Cost Schedule'!U29,\"\")","v":""},{"$f":"IF('Replacement Cost Schedule'!V29<>\"\",'Replacement Cost Schedule'!V29,\"\")","v":""},{"$f":"IF('Replacement Cost Schedule'!W29<>\"\",'Replacement Cost Schedule'!W29,\"\")","v":""},{"$f":"IF('Replacement Cost Schedule'!X29<>\"\",'Replacement Cost Schedule'!X29,\"\")","v":""},{"$f":"IF('Replacement Cost Schedule'!Y29<>\"\",'Replacement Cost Schedule'!Y29,\"\")","v":""},{"$f":"IF('Replacement Cost Schedule'!Z29<>\"\",'Replacement Cost Schedule'!Z29,\"\")","v":""},{"$f":"IF('Replacement Cost Schedule'!AA29<>\"\",'Replacement Cost Schedule'!AA29,\"\")","v":""},{"$f":"IF('Replacement Cost Schedule'!AB29<>\"\",'Replacement Cost Schedule'!AB29,\"\")","v":""},{"$f":"IF('Replacement Cost Schedule'!AC29<>\"\",'Replacement Cost Schedule'!AC29,\"\")","v":""},{"$f":"IF('Replacement Cost Schedule'!AD29<>\"\",'Replacement Cost Schedule'!AD29,\"\")","v":""},{"$f":"IF('Replacement Cost Schedule'!AE29<>\"\",'Replacement Cost Schedule'!AE29,\"\")","v":""},{"$f":"IF('Replacement Cost Schedule'!AF29<>\"\",'Replacement Cost Schedule'!AF29,\"\")","v":""},0]
[null,null,{"$f":"IF('Replacement Cost Schedule'!C30<>\"\",'Replacement Cost Schedule'!C30,\"\")","v":""},{"$f":"IF('Replacement Cost Schedule'!D30<>\"\",'Replacement Cost Schedule'!D30,\"\")","v":""},{"$f":"IF('Replacement Cost Schedule'!E30<>\"\",'Replacement Cost Schedule'!E30,\"\")","v":""},{"$f":"IF('Replacement Cost Schedule'!F30<>\"\",'Replacement Cost Schedule'!F30,\"\")","v":""},{"$f":"IF('Replacement Cost Schedule'!G30<>\"\",'Replacement Cost Schedule'!G30,\"\")","v":""},{"$f":"IF('Replacement Cost Schedule'!H30<>\"\",'Replacement Cost Schedule'!H30,\"\")","v":""},{"$f":"IF('Replacement Cost Schedule'!I30<>\"\",'Replacement Cost Schedule'!I30,\"\")","v":""},{"$f":"IF('Replacement Cost Schedule'!J30<>\"\",'Replacement Cost Schedule'!J30,\"\")","v":""},{"$f":"IF('Replacement Cost Schedule'!K30<>\"\",'Replacement Cost Schedule'!K30,\"\")","v":""},{"$f":"IF('Replacement Cost Schedule'!L30<>\"\",'Replacement Cost Schedule'!L30,\"\")","v":""},{"$f":"IF('Replacement Cost Schedule'!M30<>\"\",'Replacement Cost Schedule'!M30,\"\")","v":""},{"$f":"IF('Replacement Cost Schedule'!N30<>\"\",'Replacement Cost Schedule'!N30,\"\")","v":""},{"$f":"IF('Replacement Cost Schedule'!O30<>\"\",'Replacement Cost Schedule'!O30,\"\")","v":""},{"$f":"IF('Replacement Cost Schedule'!P30<>\"\",'Replacement Cost Schedule'!P30,\"\")","v":""},{"$f":"IF('Replacement Cost Schedule'!Q30<>\"\",'Replacement Cost Schedule'!Q30,\"\")","v":""},{"$f":"IF('Replacement Cost Schedule'!R30<>\"\",'Replacement Cost Schedule'!R30,\"\")","v":""},{"$f":"IF('Replacement Cost Schedule'!S30<>\"\",'Replacement Cost Schedule'!S30,\"\")","v":""},null,{"$f":"IF('Replacement Cost Schedule'!C30<>\"\",'Replacement Cost Schedule'!C30,\"\")","v":""},{"$f":"IF('Replacement Cost Schedule'!T30<>\"\",'Replacement Cost Schedule'!T30,\"\")","v":""},{"$f":"IF('Replacement Cost Schedule'!U30<>\"\",'Replacement Cost Schedule'!U30,\"\")","v":""},{"$f":"IF('Replacement Cost Schedule'!V30<>\"\",'Replacement Cost Schedule'!V30,\"\")","v":""},{"$f":"IF('Replacement Cost Schedule'!W30<>\"\",'Replacement Cost Schedule'!W30,\"\")","v":""},{"$f":"IF('Replacement Cost Schedule'!X30<>\"\",'Replacement Cost Schedule'!X30,\"\")","v":""},{"$f":"IF('Replacement Cost Schedule'!Y30<>\"\",'Replacement Cost Schedule'!Y30,\"\")","v":""},{"$f":"IF('Replacement Cost Schedule'!Z30<>\"\",'Replacement Cost Schedule'!Z30,\"\")","v":""},{"$f":"IF('Replacement Cost Schedule'!AA30<>\"\",'Replacement Cost Schedule'!AA30,\"\")","v":""},{"$f":"IF('Replacement Cost Schedule'!AB30<>\"\",'Replacement Cost Schedule'!AB30,\"\")","v":""},{"$f":"IF('Replacement Cost Schedule'!AC30<>\"\",'Replacement Cost Schedule'!AC30,\"\")","v":""},{"$f":"IF('Replacement Cost Schedule'!AD30<>\"\",'Replacement Cost Schedule'!AD30,\"\")","v":""},{"$f":"IF('Replacement Cost Schedule'!AE30<>\"\",'Replacement Cost Schedule'!AE30,\"\")","v":""},{"$f":"IF('Replacement Cost Schedule'!AF30<>\"\",'Replacement Cost Schedule'!AF30,\"\")","v":""},0]
[null,null,{"$f":"IF('Replacement Cost Schedule'!C31<>\"\",'Replacement Cost Schedule'!C31,\"\")","v":""},{"$f":"IF('Replacement Cost Schedule'!D31<>\"\",'Replacement Cost Schedule'!D31,\"\")","v":""},{"$f":"IF('Replacement Cost Schedule'!E31<>\"\",'Replacement Cost Schedule'!E31,\"\")","v":""},{"$f":"IF('Replacement Cost Schedule'!F31<>\"\",'Replacement Cost Schedule'!F31,\"\")","v":""},{"$f":"IF('Replacement Cost Schedule'!G31<>\"\",'Replacement Cost Schedule'!G31,\"\")","v":""},{"$f":"IF('Replacement Cost Schedule'!H31<>\"\",'Replacement Cost Schedule'!H31,\"\")","v":""},{"$f":"IF('Replacement Cost Schedule'!I31<>\"\",'Replacement Cost Schedule'!I31,\"\")","v":""},{"$f":"IF('Replacement Cost Schedule'!J31<>\"\",'Replacement Cost Schedule'!J31,\"\")","v":""},{"$f":"IF('Replacement Cost Schedule'!K31<>\"\",'Replacement Cost Schedule'!K31,\"\")","v":""},{"$f":"IF('Replacement Cost Schedule'!L31<>\"\",'Replacement Cost Schedule'!L31,\"\")","v":""},{"$f":"IF('Replacement Cost Schedule'!M31<>\"\",'Replacement Cost Schedule'!M31,\"\")","v":""},{"$f":"IF('Replacement Cost Schedule'!N31<>\"\",'Replacement Cost Schedule'!N31,\"\")","v":""},{"$f":"IF('Replacement Cost Schedule'!O31<>\"\",'Replacement Cost Schedule'!O31,\"\")","v":""},{"$f":"IF('Replacement Cost Schedule'!P31<>\"\",'Replacement Cost Schedule'!P31,\"\")","v":""},{"$f":"IF('Replacement Cost Schedule'!Q31<>\"\",'Replacement Cost Schedule'!Q31,\"\")","v":""},{"$f":"IF('Replacement Cost Schedule'!R31<>\"\",'Replacement Cost Schedule'!R31,\"\")","v":""},{"$f":"IF('Replacement Cost Schedule'!S31<>\"\",'Replacement Cost Schedule'!S31,\"\")","v":""},null,{"$f":"IF('Replacement Cost Schedule'!C31<>\"\",'Replacement Cost Schedule'!C31,\"\")","v":""},{"$f":"IF('Replacement Cost Schedule'!T31<>\"\",'Replacement Cost Schedule'!T31,\"\")","v":""},{"$f":"IF('Replacement Cost Schedule'!U31<>\"\",'Replacement Cost Schedule'!U31,\"\")","v":""},{"$f":"IF('Replacement Cost Schedule'!V31<>\"\",'Replacement Cost Schedule'!V31,\"\")","v":""},{"$f":"IF('Replacement Cost Schedule'!W31<>\"\",'Replacement Cost Schedule'!W31,\"\")","v":""},{"$f":"IF('Replacement Cost Schedule'!X31<>\"\",'Replacement Cost Schedule'!X31,\"\")","v":""},{"$f":"IF('Replacement Cost Schedule'!Y31<>\"\",'Replacement Cost Schedule'!Y31,\"\")","v":""},{"$f":"IF('Replacement Cost Schedule'!Z31<>\"\",'Replacement Cost Schedule'!Z31,\"\")","v":""},{"$f":"IF('Replacement Cost Schedule'!AA31<>\"\",'Replacement Cost Schedule'!AA31,\"\")","v":""},{"$f":"IF('Replacement Cost Schedule'!AB31<>\"\",'Replacement Cost Schedule'!AB31,\"\")","v":""},{"$f":"IF('Replacement Cost Schedule'!AC31<>\"\",'Replacement Cost Schedule'!AC31,\"\")","v":""},{"$f":"IF('Replacement Cost Schedule'!AD31<>\"\",'Replacement Cost Schedule'!AD31,\"\")","v":""},{"$f":"IF('Replacement Cost Schedule'!AE31<>\"\",'Replacement Cost Schedule'!AE31,\"\")","v":""},{"$f":"IF('Replacement Cost Schedule'!AF31<>\"\",'Replacement Cost Schedule'!AF31,\"\")","v":""},0]
[null,null,{"$f":"IF('Replacement Cost Schedule'!C32<>\"\",'Replacement Cost Schedule'!C32,\"\")","v":""},{"$f":"IF('Replacement Cost Schedule'!D32<>\"\",'Replacement Cost Schedule'!D32,\"\")","v":""},{"$f":"IF('Replacement Cost Schedule'!E32<>\"\",'Replacement Cost Schedule'!E32,\"\")","v":""},{"$f":"IF('Replacement Cost Schedule'!F32<>\"\",'Replacement Cost Schedule'!F32,\"\")","v":""},{"$f":"IF('Replacement Cost Schedule'!G32<>\"\",'Replacement Cost Schedule'!G32,\"\")","v":""},{"$f":"IF('Replacement Cost Schedule'!H32<>\"\",'Replacement Cost Schedule'!H32,\"\")","v":""},{"$f":"IF('Replacement Cost Schedule'!I32<>\"\",'Replacement Cost Schedule'!I32,\"\")","v":""},{"$f":"IF('Replacement Cost Schedule'!J32<>\"\",'Replacement Cost Schedule'!J32,\"\")","v":""},{"$f":"IF('Replacement Cost Schedule'!K32<>\"\",'Replacement Cost Schedule'!K32,\"\")","v":""},{"$f":"IF('Replacement Cost Schedule'!L32<>\"\",'Replacement Cost Schedule'!L32,\"\")","v":""},{"$f":"IF('Replacement Cost Schedule'!M32<>\"\",'Replacement Cost Schedule'!M32,\"\")","v":""},{"$f":"IF('Replacement Cost Schedule'!N32<>\"\",'Replacement Cost Schedule'!N32,\"\")","v":""},{"$f":"IF('Replacement Cost Schedule'!O32<>\"\",'Replacement Cost Schedule'!O32,\"\")","v":""},{"$f":"IF('Replacement Cost Schedule'!P32<>\"\",'Replacement Cost Schedule'!P32,\"\")","v":""},{"$f":"IF('Replacement Cost Schedule'!Q32<>\"\",'Replacement Cost Schedule'!Q32,\"\")","v":""},{"$f":"IF('Replacement Cost Schedule'!R32<>\"\",'Replacement Cost Schedule'!R32,\"\")","v":""},{"$f":"IF('Replacement Cost Schedule'!S32<>\"\",'Replacement Cost Schedule'!S32,\"\")","v":""},null,{"$f":"IF('Replacement Cost Schedule'!C32<>\"\",'Replacement Cost Schedule'!C32,\"\")","v":""},{"$f":"IF('Replacement Cost Schedule'!T32<>\"\",'Replacement Cost Schedule'!T32,\"\")","v":""},{"$f":"IF('Replacement Cost Schedule'!U32<>\"\",'Replacement Cost Schedule'!U32,\"\")","v":""},{"$f":"IF('Replacement Cost Schedule'!V32<>\"\",'Replacement Cost Schedule'!V32,\"\")","v":""},{"$f":"IF('Replacement Cost Schedule'!W32<>\"\",'Replacement Cost Schedule'!W32,\"\")","v":""},{"$f":"IF('Replacement Cost Schedule'!X32<>\"\",'Replacement Cost Schedule'!X32,\"\")","v":""},{"$f":"IF('Replacement Cost Schedule'!Y32<>\"\",'Replacement Cost Schedule'!Y32,\"\")","v":""},{"$f":"IF('Replacement Cost Schedule'!Z32<>\"\",'Replacement Cost Schedule'!Z32,\"\")","v":""},{"$f":"IF('Replacement Cost Schedule'!AA32<>\"\",'Replacement Cost Schedule'!AA32,\"\")","v":""},{"$f":"IF('Replacement Cost Schedule'!AB32<>\"\",'Replacement Cost Schedule'!AB32,\"\")","v":""},{"$f":"IF('Replacement Cost Schedule'!AC32<>\"\",'Replacement Cost Schedule'!AC32,\"\")","v":""},{"$f":"IF('Replacement Cost Schedule'!AD32<>\"\",'Replacement Cost Schedule'!AD32,\"\")","v":""},{"$f":"IF('Replacement Cost Schedule'!AE32<>\"\",'Replacement Cost Schedule'!AE32,\"\")","v":""},{"$f":"IF('Replacement Cost Schedule'!AF32<>\"\",'Replacement Cost Schedule'!AF32,\"\")","v":""},0]
[null,null,{"$f":"IF('Replacement Cost Schedule'!C33<>\"\",'Replacement Cost Schedule'!C33,\"\")","v":""},{"$f":"IF('Replacement Cost Schedule'!D33<>\"\",'Replacement Cost Schedule'!D33,\"\")","v":""},{"$f":"IF('Replacement Cost Schedule'!E33<>\"\",'Replacement Cost Schedule'!E33,\"\")","v":""},{"$f":"IF('Replacement Cost Schedule'!F33<>\"\",'Replacement Cost Schedule'!F33,\"\")","v":""},{"$f":"IF('Replacement Cost Schedule'!G33<>\"\",'Replacement Cost Schedule'!G33,\"\")","v":""},{"$f":"IF('Replacement Cost Schedule'!H33<>\"\",'Replacement Cost Schedule'!H33,\"\")","v":""},{"$f":"IF('Replacement Cost Schedule'!I33<>\"\",'Replacement Cost Schedule'!I33,\"\")","v":""},{"$f":"IF('Replacement Cost Schedule'!J33<>\"\",'Replacement Cost Schedule'!J33,\"\")","v":""},{"$f":"IF('Replacement Cost Schedule'!K33<>\"\",'Replacement Cost Schedule'!K33,\"\")","v":""},{"$f":"IF('Replacement Cost Schedule'!L33<>\"\",'Replacement Cost Schedule'!L33,\"\")","v":""},{"$f":"IF('Replacement Cost Schedule'!M33<>\"\",'Replacement Cost Schedule'!M33,\"\")","v":""},{"$f":"IF('Replacement Cost Schedule'!N33<>\"\",'Replacement Cost Schedule'!N33,\"\")","v":""},{"$f":"IF('Replacement Cost Schedule'!O33<>\"\",'Replacement Cost Schedule'!O33,\"\")","v":""},{"$f":"IF('Replacement Cost Schedule'!P33<>\"\",'Replacement Cost Schedule'!P33,\"\")","v":""},{"$f":"IF('Replacement Cost Schedule'!Q33<>\"\",'Replacement Cost Schedule'!Q33,\"\")","v":""},{"$f":"IF('Replacement Cost Schedule'!R33<>\"\",'Replacement Cost Schedule'!R33,\"\")","v":""},{"$f":"IF('Replacement Cost Schedule'!S33<>\"\",'Replacement Cost Schedule'!S33,\"\")","v":""},null,{"$f":"IF('Replacement Cost Schedule'!C33<>\"\",'Replacement Cost Schedule'!C33,\"\")","v":""},{"$f":"IF('Replacement Cost Schedule'!T33<>\"\",'Replacement Cost Schedule'!T33,\"\")","v":""},{"$f":"IF('Replacement Cost Schedule'!U33<>\"\",'Replacement Cost Schedule'!U33,\"\")","v":""},{"$f":"IF('Replacement Cost Schedule'!V33<>\"\",'Replacement Cost Schedule'!V33,\"\")","v":""},{"$f":"IF('Replacement Cost Schedule'!W33<>\"\",'Replacement Cost Schedule'!W33,\"\")","v":""},{"$f":"IF('Replacement Cost Schedule'!X33<>\"\",'Replacement Cost Schedule'!X33,\"\")","v":""},{"$f":"IF('Replacement Cost Schedule'!Y33<>\"\",'Replacement Cost Schedule'!Y33,\"\")","v":""},{"$f":"IF('Replacement Cost Schedule'!Z33<>\"\",'Replacement Cost Schedule'!Z33,\"\")","v":""},{"$f":"IF('Replacement Cost Schedule'!AA33<>\"\",'Replacement Cost Schedule'!AA33,\"\")","v":""},{"$f":"IF('Replacement Cost Schedule'!AB33<>\"\",'Replacement Cost Schedule'!AB33,\"\")","v":""},{"$f":"IF('Replacement Cost Schedule'!AC33<>\"\",'Replacement Cost Schedule'!AC33,\"\")","v":""},{"$f":"IF('Replacement Cost Schedule'!AD33<>\"\",'Replacement Cost Schedule'!AD33,\"\")","v":""},{"$f":"IF('Replacement Cost Schedule'!AE33<>\"\",'Replacement Cost Schedule'!AE33,\"\")","v":""},{"$f":"IF('Replacement Cost Schedule'!AF33<>\"\",'Replacement Cost Schedule'!AF33,\"\")","v":""},0]
[null,null,{"$f":"IF('Replacement Cost Schedule'!C34<>\"\",'Replacement Cost Schedule'!C34,\"\")","v":""},{"$f":"IF('Replacement Cost Schedule'!D34<>\"\",'Replacement Cost Schedule'!D34,\"\")","v":""},{"$f":"IF('Replacement Cost Schedule'!E34<>\"\",'Replacement Cost Schedule'!E34,\"\")","v":""},{"$f":"IF('Replacement Cost Schedule'!F34<>\"\",'Replacement Cost Schedule'!F34,\"\")","v":""},{"$f":"IF('Replacement Cost Schedule'!G34<>\"\",'Replacement Cost Schedule'!G34,\"\")","v":""},{"$f":"IF('Replacement Cost Schedule'!H34<>\"\",'Replacement Cost Schedule'!H34,\"\")","v":""},{"$f":"IF('Replacement Cost Schedule'!I34<>\"\",'Replacement Cost Schedule'!I34,\"\")","v":""},{"$f":"IF('Replacement Cost Schedule'!J34<>\"\",'Replacement Cost Schedule'!J34,\"\")","v":""},{"$f":"IF('Replacement Cost Schedule'!K34<>\"\",'Replacement Cost Schedule'!K34,\"\")","v":""},{"$f":"IF('Replacement Cost Schedule'!L34<>\"\",'Replacement Cost Schedule'!L34,\"\")","v":""},{"$f":"IF('Replacement Cost Schedule'!M34<>\"\",'Replacement Cost Schedule'!M34,\"\")","v":""},{"$f":"IF('Replacement Cost Schedule'!N34<>\"\",'Replacement Cost Schedule'!N34,\"\")","v":""},{"$f":"IF('Replacement Cost Schedule'!O34<>\"\",'Replacement Cost Schedule'!O34,\"\")","v":""},{"$f":"IF('Replacement Cost Schedule'!P34<>\"\",'Replacement Cost Schedule'!P34,\"\")","v":""},{"$f":"IF('Replacement Cost Schedule'!Q34<>\"\",'Replacement Cost Schedule'!Q34,\"\")","v":""},{"$f":"IF('Replacement Cost Schedule'!R34<>\"\",'Replacement Cost Schedule'!R34,\"\")","v":""},{"$f":"IF('Replacement Cost Schedule'!S34<>\"\",'Replacement Cost Schedule'!S34,\"\")","v":""},null,{"$f":"IF('Replacement Cost Schedule'!C34<>\"\",'Replacement Cost Schedule'!C34,\"\")","v":""},{"$f":"IF('Replacement Cost Schedule'!T34<>\"\",'Replacement Cost Schedule'!T34,\"\")","v":""},{"$f":"IF('Replacement Cost Schedule'!U34<>\"\",'Replacement Cost Schedule'!U34,\"\")","v":""},{"$f":"IF('Replacement Cost Schedule'!V34<>\"\",'Replacement Cost Schedule'!V34,\"\")","v":""},{"$f":"IF('Replacement Cost Schedule'!W34<>\"\",'Replacement Cost Schedule'!W34,\"\")","v":""},{"$f":"IF('Replacement Cost Schedule'!X34<>\"\",'Replacement Cost Schedule'!X34,\"\")","v":""},{"$f":"IF('Replacement Cost Schedule'!Y34<>\"\",'Replacement Cost Schedule'!Y34,\"\")","v":""},{"$f":"IF('Replacement Cost Schedule'!Z34<>\"\",'Replacement Cost Schedule'!Z34,\"\")","v":""},{"$f":"IF('Replacement Cost Schedule'!AA34<>\"\",'Replacement Cost Schedule'!AA34,\"\")","v":""},{"$f":"IF('Replacement Cost Schedule'!AB34<>\"\",'Replacement Cost Schedule'!AB34,\"\")","v":""},{"$f":"IF('Replacement Cost Schedule'!AC34<>\"\",'Replacement Cost Schedule'!AC34,\"\")","v":""},{"$f":"IF('Replacement Cost Schedule'!AD34<>\"\",'Replacement Cost Schedule'!AD34,\"\")","v":""},{"$f":"IF('Replacement Cost Schedule'!AE34<>\"\",'Replacement Cost Schedule'!AE34,\"\")","v":""},{"$f":"IF('Replacement Cost Schedule'!AF34<>\"\",'Replacement Cost Schedule'!AF34,\"\")","v":""},0]
[null,null,{"$f":"IF('Replacement Cost Schedule'!C35<>\"\",'Replacement Cost Schedule'!C35,\"\")","v":""},{"$f":"IF('Replacement Cost Schedule'!D35<>\"\",'Replacement Cost Schedule'!D35,\"\")","v":""},{"$f":"IF('Replacement Cost Schedule'!E35<>\"\",'Replacement Cost Schedule'!E35,\"\")","v":""},{"$f":"IF('Replacement Cost Schedule'!F35<>\"\",'Replacement Cost Schedule'!F35,\"\")","v":""},{"$f":"IF('Replacement Cost Schedule'!G35<>\"\",'Replacement Cost Schedule'!G35,\"\")","v":""},{"$f":"IF('Replacement Cost Schedule'!H35<>\"\",'Replacement Cost Schedule'!H35,\"\")","v":""},{"$f":"IF('Replacement Cost Schedule'!I35<>\"\",'Replacement Cost Schedule'!I35,\"\")","v":""},{"$f":"IF('Replacement Cost Schedule'!J35<>\"\",'Replacement Cost Schedule'!J35,\"\")","v":""},{"$f":"IF('Replacement Cost Schedule'!K35<>\"\",'Replacement Cost Schedule'!K35,\"\")","v":""},{"$f":"IF('Replacement Cost Schedule'!L35<>\"\",'Replacement Cost Schedule'!L35,\"\")","v":""},{"$f":"IF('Replacement Cost Schedule'!M35<>\"\",'Replacement Cost Schedule'!M35,\"\")","v":""},{"$f":"IF('Replacement Cost Schedule'!N35<>\"\",'Replacement Cost Schedule'!N35,\"\")","v":""},{"$f":"IF('Replacement Cost Schedule'!O35<>\"\",'Replacement Cost Schedule'!O35,\"\")","v":""},{"$f":"IF('Replacement Cost Schedule'!P35<>\"\",'Replacement Cost Schedule'!P35,\"\")","v":""},{"$f":"IF('Replacement Cost Schedule'!Q35<>\"\",'Replacement Cost Schedule'!Q35,\"\")","v":""},{"$f":"IF('Replacement Cost Schedule'!R35<>\"\",'Replacement Cost Schedule'!R35,\"\")","v":""},{"$f":"IF('Replacement Cost Schedule'!S35<>\"\",'Replacement Cost Schedule'!S35,\"\")","v":""},null,{"$f":"IF('Replacement Cost Schedule'!C35<>\"\",'Replacement Cost Schedule'!C35,\"\")","v":""},{"$f":"IF('Replacement Cost Schedule'!T35<>\"\",'Replacement Cost Schedule'!T35,\"\")","v":""},{"$f":"IF('Replacement Cost Schedule'!U35<>\"\",'Replacement Cost Schedule'!U35,\"\")","v":""},{"$f":"IF('Replacement Cost Schedule'!V35<>\"\",'Replacement Cost Schedule'!V35,\"\")","v":""},{"$f":"IF('Replacement Cost Schedule'!W35<>\"\",'Replacement Cost Schedule'!W35,\"\")","v":""},{"$f":"IF('Replacement Cost Schedule'!X35<>\"\",'Replacement Cost Schedule'!X35,\"\")","v":""},{"$f":"IF('Replacement Cost Schedule'!Y35<>\"\",'Replacement Cost Schedule'!Y35,\"\")","v":""},{"$f":"IF('Replacement Cost Schedule'!Z35<>\"\",'Replacement Cost Schedule'!Z35,\"\")","v":""},{"$f":"IF('Replacement Cost Schedule'!AA35<>\"\",'Replacement Cost Schedule'!AA35,\"\")","v":""},{"$f":"IF('Replacement Cost Schedule'!AB35<>\"\",'Replacement Cost Schedule'!AB35,\"\")","v":""},{"$f":"IF('Replacement Cost Schedule'!AC35<>\"\",'Replacement Cost Schedule'!AC35,\"\")","v":""},{"$f":"IF('Replacement Cost Schedule'!AD35<>\"\",'Replacement Cost Schedule'!AD35,\"\")","v":""},{"$f":"IF('Replacement Cost Schedule'!AE35<>\"\",'Replacement Cost Schedule'!AE35,\"\")","v":""},{"$f":"IF('Replacement Cost Schedule'!AF35<>\"\",'Replacement Cost Schedule'!AF35,\"\")","v":""},0]
[null,null,{"$f":"IF('Replacement Cost Schedule'!C36<>\"\",'Replacement Cost Schedule'!C36,\"\")","v":""},{"$f":"IF('Replacement Cost Schedule'!D36<>\"\",'Replacement Cost Schedule'!D36,\"\")","v":""},{"$f":"IF('Replacement Cost Schedule'!E36<>\"\",'Replacement Cost Schedule'!E36,\"\")","v":""},{"$f":"IF('Replacement Cost Schedule'!F36<>\"\",'Replacement Cost Schedule'!F36,\"\")","v":""},{"$f":"IF('Replacement Cost Schedule'!G36<>\"\",'Replacement Cost Schedule'!G36,\"\")","v":""},{"$f":"IF('Replacement Cost Schedule'!H36<>\"\",'Replacement Cost Schedule'!H36,\"\")","v":""},{"$f":"IF('Replacement Cost Schedule'!I36<>\"\",'Replacement Cost Schedule'!I36,\"\")","v":""},{"$f":"IF('Replacement Cost Schedule'!J36<>\"\",'Replacement Cost Schedule'!J36,\"\")","v":""},{"$f":"IF('Replacement Cost Schedule'!K36<>\"\",'Replacement Cost Schedule'!K36,\"\")","v":""},{"$f":"IF('Replacement Cost Schedule'!L36<>\"\",'Replacement Cost Schedule'!L36,\"\")","v":""},{"$f":"IF('Replacement Cost Schedule'!M36<>\"\",'Replacement Cost Schedule'!M36,\"\")","v":""},{"$f":"IF('Replacement Cost Schedule'!N36<>\"\",'Replacement Cost Schedule'!N36,\"\")","v":""},{"$f":"IF('Replacement Cost Schedule'!O36<>\"\",'Replacement Cost Schedule'!O36,\"\")","v":""},{"$f":"IF('Replacement Cost Schedule'!P36<>\"\",'Replacement Cost Schedule'!P36,\"\")","v":""},{"$f":"IF('Replacement Cost Schedule'!Q36<>\"\",'Replacement Cost Schedule'!Q36,\"\")","v":""},{"$f":"IF('Replacement Cost Schedule'!R36<>\"\",'Replacement Cost Schedule'!R36,\"\")","v":""},{"$f":"IF('Replacement Cost Schedule'!S36<>\"\",'Replacement Cost Schedule'!S36,\"\")","v":""},null,{"$f":"IF('Replacement Cost Schedule'!C36<>\"\",'Replacement Cost Schedule'!C36,\"\")","v":""},{"$f":"IF('Replacement Cost Schedule'!T36<>\"\",'Replacement Cost Schedule'!T36,\"\")","v":""},{"$f":"IF('Replacement Cost Schedule'!U36<>\"\",'Replacement Cost Schedule'!U36,\"\")","v":""},{"$f":"IF('Replacement Cost Schedule'!V36<>\"\",'Replacement Cost Schedule'!V36,\"\")","v":""},{"$f":"IF('Replacement Cost Schedule'!W36<>\"\",'Replacement Cost Schedule'!W36,\"\")","v":""},{"$f":"IF('Replacement Cost Schedule'!X36<>\"\",'Replacement Cost Schedule'!X36,\"\")","v":""},{"$f":"IF('Replacement Cost Schedule'!Y36<>\"\",'Replacement Cost Schedule'!Y36,\"\")","v":""},{"$f":"IF('Replacement Cost Schedule'!Z36<>\"\",'Replacement Cost Schedule'!Z36,\"\")","v":""},{"$f":"IF('Replacement Cost Schedule'!AA36<>\"\",'Replacement Cost Schedule'!AA36,\"\")","v":""},{"$f":"IF('Replacement Cost Schedule'!AB36<>\"\",'Replacement Cost Schedule'!AB36,\"\")","v":""},{"$f":"IF('Replacement Cost Schedule'!AC36<>\"\",'Replacement Cost Schedule'!AC36,\"\")","v":""},{"$f":"IF('Replacement Cost Schedule'!AD36<>\"\",'Replacement Cost Schedule'!AD36,\"\")","v":""},{"$f":"IF('Replacement Cost Schedule'!AE36<>\"\",'Replacement Cost Schedule'!AE36,\"\")","v":""},{"$f":"IF('Replacement Cost Schedule'!AF36<>\"\",'Replacement Cost Schedule'!AF36,\"\")","v":""},0]
[null,null,{"$f":"IF('Replacement Cost Schedule'!C37<>\"\",'Replacement Cost Schedule'!C37,\"\")","v":""},{"$f":"IF('Replacement Cost Schedule'!D37<>\"\",'Replacement Cost Schedule'!D37,\"\")","v":""},{"$f":"IF('Replacement Cost Schedule'!E37<>\"\",'Replacement Cost Schedule'!E37,\"\")","v":""},{"$f":"IF('Replacement Cost Schedule'!F37<>\"\",'Replacement Cost Schedule'!F37,\"\")","v":""},{"$f":"IF('Replacement Cost Schedule'!G37<>\"\",'Replacement Cost Schedule'!G37,\"\")","v":""},{"$f":"IF('Replacement Cost Schedule'!H37<>\"\",'Replacement Cost Schedule'!H37,\"\")","v":""},{"$f":"IF('Replacement Cost Schedule'!I37<>\"\",'Replacement Cost Schedule'!I37,\"\")","v":""},{"$f":"IF('Replacement Cost Schedule'!J37<>\"\",'Replacement Cost Schedule'!J37,\"\")","v":""},{"$f":"IF('Replacement Cost Schedule'!K37<>\"\",'Replacement Cost Schedule'!K37,\"\")","v":""},{"$f":"IF('Replacement Cost Schedule'!L37<>\"\",'Replacement Cost Schedule'!L37,\"\")","v":""},{"$f":"IF('Replacement Cost Schedule'!M37<>\"\",'Replacement Cost Schedule'!M37,\"\")","v":""},{"$f":"IF('Replacement Cost Schedule'!N37<>\"\",'Replacement Cost Schedule'!N37,\"\")","v":""},{"$f":"IF('Replacement Cost Schedule'!O37<>\"\",'Replacement Cost Schedule'!O37,\"\")","v":""},{"$f":"IF('Replacement Cost Schedule'!P37<>\"\",'Replacement Cost Schedule'!P37,\"\")","v":""},{"$f":"IF('Replacement Cost Schedule'!Q37<>\"\",'Replacement Cost Schedule'!Q37,\"\")","v":""},{"$f":"IF('Replacement Cost Schedule'!R37<>\"\",'Replacement Cost Schedule'!R37,\"\")","v":""},{"$f":"IF('Replacement Cost Schedule'!S37<>\"\",'Replacement Cost Schedule'!S37,\"\")","v":""},null,{"$f":"IF('Replacement Cost Schedule'!C37<>\"\",'Replacement Cost Schedule'!C37,\"\")","v":""},{"$f":"IF('Replacement Cost Schedule'!T37<>\"\",'Replacement Cost Schedule'!T37,\"\")","v":""},{"$f":"IF('Replacement Cost Schedule'!U37<>\"\",'Replacement Cost Schedule'!U37,\"\")","v":""},{"$f":"IF('Replacement Cost Schedule'!V37<>\"\",'Replacement Cost Schedule'!V37,\"\")","v":""},{"$f":"IF('Replacement Cost Schedule'!W37<>\"\",'Replacement Cost Schedule'!W37,\"\")","v":""},{"$f":"IF('Replacement Cost Schedule'!X37<>\"\",'Replacement Cost Schedule'!X37,\"\")","v":""},{"$f":"IF('Replacement Cost Schedule'!Y37<>\"\",'Replacement Cost Schedule'!Y37,\"\")","v":""},{"$f":"IF('Replacement Cost Schedule'!Z37<>\"\",'Replacement Cost Schedule'!Z37,\"\")","v":""},{"$f":"IF('Replacement Cost Schedule'!AA37<>\"\",'Replacement Cost Schedule'!AA37,\"\")","v":""},{"$f":"IF('Replacement Cost Schedule'!AB37<>\"\",'Replacement Cost Schedule'!AB37,\"\")","v":""},{"$f":"IF('Replacement Cost Schedule'!AC37<>\"\",'Replacement Cost Schedule'!AC37,\"\")","v":""},{"$f":"IF('Replacement Cost Schedule'!AD37<>\"\",'Replacement Cost Schedule'!AD37,\"\")","v":""},{"$f":"IF('Replacement Cost Schedule'!AE37<>\"\",'Replacement Cost Schedule'!AE37,\"\")","v":""},{"$f":"IF('Replacement Cost Schedule'!AF37<>\"\",'Replacement Cost Schedule'!AF37,\"\")","v":""},0]
[null,null,{"$f":"IF('Replacement Cost Schedule'!C38<>\"\",'Replacement Cost Schedule'!C38,\"\")","v":""},{"$f":"IF('Replacement Cost Schedule'!D38<>\"\",'Replacement Cost Schedule'!D38,\"\")","v":""},{"$f":"IF('Replacement Cost Schedule'!E38<>\"\",'Replacement Cost Schedule'!E38,\"\")","v":""},{"$f":"IF('Replacement Cost Schedule'!F38<>\"\",'Replacement Cost Schedule'!F38,\"\")","v":""},{"$f":"IF('Replacement Cost Schedule'!G38<>\"\",'Replacement Cost Schedule'!G38,\"\")","v":""},{"$f":"IF('Replacement Cost Schedule'!H38<>\"\",'Replacement Cost Schedule'!H38,\"\")","v":""},{"$f":"IF('Replacement Cost Schedule'!I38<>\"\",'Replacement Cost Schedule'!I38,\"\")","v":""},{"$f":"IF('Replacement Cost Schedule'!J38<>\"\",'Replacement Cost Schedule'!J38,\"\")","v":""},{"$f":"IF('Replacement Cost Schedule'!K38<>\"\",'Replacement Cost Schedule'!K38,\"\")","v":""},{"$f":"IF('Replacement Cost Schedule'!L38<>\"\",'Replacement Cost Schedule'!L38,\"\")","v":""},{"$f":"IF('Replacement Cost Schedule'!M38<>\"\",'Replacement Cost Schedule'!M38,\"\")","v":""},{"$f":"IF('Replacement Cost Schedule'!N38<>\"\",'Replacement Cost Schedule'!N38,\"\")","v":""},{"$f":"IF('Replacement Cost Schedule'!O38<>\"\",'Replacement Cost Schedule'!O38,\"\")","v":""},{"$f":"IF('Replacement Cost Schedule'!P38<>\"\",'Replacement Cost Schedule'!P38,\"\")","v":""},{"$f":"IF('Replacement Cost Schedule'!Q38<>\"\",'Replacement Cost Schedule'!Q38,\"\")","v":""},{"$f":"IF('Replacement Cost Schedule'!R38<>\"\",'Replacement Cost Schedule'!R38,\"\")","v":""},{"$f":"IF('Replacement Cost Schedule'!S38<>\"\",'Replacement Cost Schedule'!S38,\"\")","v":""},null,{"$f":"IF('Replacement Cost Schedule'!C38<>\"\",'Replacement Cost Schedule'!C38,\"\")","v":""},{"$f":"IF('Replacement Cost Schedule'!T38<>\"\",'Replacement Cost Schedule'!T38,\"\")","v":""},{"$f":"IF('Replacement Cost Schedule'!U38<>\"\",'Replacement Cost Schedule'!U38,\"\")","v":""},{"$f":"IF('Replacement Cost Schedule'!V38<>\"\",'Replacement Cost Schedule'!V38,\"\")","v":""},{"$f":"IF('Replacement Cost Schedule'!W38<>\"\",'Replacement Cost Schedule'!W38,\"\")","v":""},{"$f":"IF('Replacement Cost Schedule'!X38<>\"\",'Replacement Cost Schedule'!X38,\"\")","v":""},{"$f":"IF('Replacement Cost Schedule'!Y38<>\"\",'Replacement Cost Schedule'!Y38,\"\")","v":""},{"$f":"IF('Replacement Cost Schedule'!Z38<>\"\",'Replacement Cost Schedule'!Z38,\"\")","v":""},{"$f":"IF('Replacement Cost Schedule'!AA38<>\"\",'Replacement Cost Schedule'!AA38,\"\")","v":""},{"$f":"IF('Replacement Cost Schedule'!AB38<>\"\",'Replacement Cost Schedule'!AB38,\"\")","v":""},{"$f":"IF('Replacement Cost Schedule'!AC38<>\"\",'Replacement Cost Schedule'!AC38,\"\")","v":""},{"$f":"IF('Replacement Cost Schedule'!AD38<>\"\",'Replacement Cost Schedule'!AD38,\"\")","v":""},{"$f":"IF('Replacement Cost Schedule'!AE38<>\"\",'Replacement Cost Schedule'!AE38,\"\")","v":""},{"$f":"IF('Replacement Cost Schedule'!AF38<>\"\",'Replacement Cost Schedule'!AF38,\"\")","v":""},0]
[null,null,{"$f":"IF('Replacement Cost Schedule'!C39<>\"\",'Replacement Cost Schedule'!C39,\"\")","v":""},{"$f":"IF('Replacement Cost Schedule'!D39<>\"\",'Replacement Cost Schedule'!D39,\"\")","v":""},{"$f":"IF('Replacement Cost Schedule'!E39<>\"\",'Replacement Cost Schedule'!E39,\"\")","v":""},{"$f":"IF('Replacement Cost Schedule'!F39<>\"\",'Replacement Cost Schedule'!F39,\"\")","v":""},{"$f":"IF('Replacement Cost Schedule'!G39<>\"\",'Replacement Cost Schedule'!G39,\"\")","v":""},{"$f":"IF('Replacement Cost Schedule'!H39<>\"\",'Replacement Cost Schedule'!H39,\"\")","v":""},{"$f":"IF('Replacement Cost Schedule'!I39<>\"\",'Replacement Cost Schedule'!I39,\"\")","v":""},{"$f":"IF('Replacement Cost Schedule'!J39<>\"\",'Replacement Cost Schedule'!J39,\"\")","v":""},{"$f":"IF('Replacement Cost Schedule'!K39<>\"\",'Replacement Cost Schedule'!K39,\"\")","v":""},{"$f":"IF('Replacement Cost Schedule'!L39<>\"\",'Replacement Cost Schedule'!L39,\"\")","v":""},{"$f":"IF('Replacement Cost Schedule'!M39<>\"\",'Replacement Cost Schedule'!M39,\"\")","v":""},{"$f":"IF('Replacement Cost Schedule'!N39<>\"\",'Replacement Cost Schedule'!N39,\"\")","v":""},{"$f":"IF('Replacement Cost Schedule'!O39<>\"\",'Replacement Cost Schedule'!O39,\"\")","v":""},{"$f":"IF('Replacement Cost Schedule'!P39<>\"\",'Replacement Cost Schedule'!P39,\"\")","v":""},{"$f":"IF('Replacement Cost Schedule'!Q39<>\"\",'Replacement Cost Schedule'!Q39,\"\")","v":""},{"$f":"IF('Replacement Cost Schedule'!R39<>\"\",'Replacement Cost Schedule'!R39,\"\")","v":""},{"$f":"IF('Replacement Cost Schedule'!S39<>\"\",'Replacement Cost Schedule'!S39,\"\")","v":""},null,{"$f":"IF('Replacement Cost Schedule'!C39<>\"\",'Replacement Cost Schedule'!C39,\"\")","v":""},{"$f":"IF('Replacement Cost Schedule'!T39<>\"\",'Replacement Cost Schedule'!T39,\"\")","v":""},{"$f":"IF('Replacement Cost Schedule'!U39<>\"\",'Replacement Cost Schedule'!U39,\"\")","v":""},{"$f":"IF('Replacement Cost Schedule'!V39<>\"\",'Replacement Cost Schedule'!V39,\"\")","v":""},{"$f":"IF('Replacement Cost Schedule'!W39<>\"\",'Replacement Cost Schedule'!W39,\"\")","v":""},{"$f":"IF('Replacement Cost Schedule'!X39<>\"\",'Replacement Cost Schedule'!X39,\"\")","v":""},{"$f":"IF('Replacement Cost Schedule'!Y39<>\"\",'Replacement Cost Schedule'!Y39,\"\")","v":""},{"$f":"IF('Replacement Cost Schedule'!Z39<>\"\",'Replacement Cost Schedule'!Z39,\"\")","v":""},{"$f":"IF('Replacement Cost Schedule'!AA39<>\"\",'Replacement Cost Schedule'!AA39,\"\")","v":""},{"$f":"IF('Replacement Cost Schedule'!AB39<>\"\",'Replacement Cost Schedule'!AB39,\"\")","v":""},{"$f":"IF('Replacement Cost Schedule'!AC39<>\"\",'Replacement Cost Schedule'!AC39,\"\")","v":""},{"$f":"IF('Replacement Cost Schedule'!AD39<>\"\",'Replacement Cost Schedule'!AD39,\"\")","v":""},{"$f":"IF('Replacement Cost Schedule'!AE39<>\"\",'Replacement Cost Schedule'!AE39,\"\")","v":""},{"$f":"IF('Replacement Cost Schedule'!AF39<>\"\",'Replacement Cost Schedule'!AF39,\"\")","v":""},0]
[null,null,{"$f":"IF('Replacement Cost Schedule'!C40<>\"\",'Replacement Cost Schedule'!C40,\"\")","v":""},{"$f":"IF('Replacement Cost Schedule'!D40<>\"\",'Replacement Cost Schedule'!D40,\"\")","v":""},{"$f":"IF('Replacement Cost Schedule'!E40<>\"\",'Replacement Cost Schedule'!E40,\"\")","v":""},{"$f":"IF('Replacement Cost Schedule'!F40<>\"\",'Replacement Cost Schedule'!F40,\"\")","v":""},{"$f":"IF('Replacement Cost Schedule'!G40<>\"\",'Replacement Cost Schedule'!G40,\"\")","v":""},{"$f":"IF('Replacement Cost Schedule'!H40<>\"\",'Replacement Cost Schedule'!H40,\"\")","v":""},{"$f":"IF('Replacement Cost Schedule'!I40<>\"\",'Replacement Cost Schedule'!I40,\"\")","v":""},{"$f":"IF('Replacement Cost Schedule'!J40<>\"\",'Replacement Cost Schedule'!J40,\"\")","v":""},{"$f":"IF('Replacement Cost Schedule'!K40<>\"\",'Replacement Cost Schedule'!K40,\"\")","v":""},{"$f":"IF('Replacement Cost Schedule'!L40<>\"\",'Replacement Cost Schedule'!L40,\"\")","v":""},{"$f":"IF('Replacement Cost Schedule'!M40<>\"\",'Replacement Cost Schedule'!M40,\"\")","v":""},{"$f":"IF('Replacement Cost Schedule'!N40<>\"\",'Replacement Cost Schedule'!N40,\"\")","v":""},{"$f":"IF('Replacement Cost Schedule'!O40<>\"\",'Replacement Cost Schedule'!O40,\"\")","v":""},{"$f":"IF('Replacement Cost Schedule'!P40<>\"\",'Replacement Cost Schedule'!P40,\"\")","v":""},{"$f":"IF('Replacement Cost Schedule'!Q40<>\"\",'Replacement Cost Schedule'!Q40,\"\")","v":""},{"$f":"IF('Replacement Cost Schedule'!R40<>\"\",'Replacement Cost Schedule'!R40,\"\")","v":""},{"$f":"IF('Replacement Cost Schedule'!S40<>\"\",'Replacement Cost Schedule'!S40,\"\")","v":""},null,{"$f":"IF('Replacement Cost Schedule'!C40<>\"\",'Replacement Cost Schedule'!C40,\"\")","v":""},{"$f":"IF('Replacement Cost Schedule'!T40<>\"\",'Replacement Cost Schedule'!T40,\"\")","v":""},{"$f":"IF('Replacement Cost Schedule'!U40<>\"\",'Replacement Cost Schedule'!U40,\"\")","v":""},{"$f":"IF('Replacement Cost Schedule'!V40<>\"\",'Replacement Cost Schedule'!V40,\"\")","v":""},{"$f":"IF('Replacement Cost Schedule'!W40<>\"\",'Replacement Cost Schedule'!W40,\"\")","v":""},{"$f":"IF('Replacement Cost Schedule'!X40<>\"\",'Replacement Cost Schedule'!X40,\"\")","v":""},{"$f":"IF('Replacement Cost Schedule'!Y40<>\"\",'Replacement Cost Schedule'!Y40,\"\")","v":""},{"$f":"IF('Replacement Cost Schedule'!Z40<>\"\",'Replacement Cost Schedule'!Z40,\"\")","v":""},{"$f":"IF('Replacement Cost Schedule'!AA40<>\"\",'Replacement Cost Schedule'!AA40,\"\")","v":""},{"$f":"IF('Replacement Cost Schedule'!AB40<>\"\",'Replacement Cost Schedule'!AB40,\"\")","v":""},{"$f":"IF('Replacement Cost Schedule'!AC40<>\"\",'Replacement Cost Schedule'!AC40,\"\")","v":""},{"$f":"IF('Replacement Cost Schedule'!AD40<>\"\",'Replacement Cost Schedule'!AD40,\"\")","v":""},{"$f":"IF('Replacement Cost Schedule'!AE40<>\"\",'Replacement Cost Schedule'!AE40,\"\")","v":""},{"$f":"IF('Replacement Cost Schedule'!AF40<>\"\",'Replacement Cost Schedule'!AF40,\"\")","v":""},0]
[null,null,{"$f":"IF('Replacement Cost Schedule'!C41<>\"\",'Replacement Cost Schedule'!C41,\"\")","v":""},{"$f":"IF('Replacement Cost Schedule'!D41<>\"\",'Replacement Cost Schedule'!D41,\"\")","v":""},{"$f":"IF('Replacement Cost Schedule'!E41<>\"\",'Replacement Cost Schedule'!E41,\"\")","v":""},{"$f":"IF('Replacement Cost Schedule'!F41<>\"\",'Replacement Cost Schedule'!F41,\"\")","v":""},{"$f":"IF('Replacement Cost Schedule'!G41<>\"\",'Replacement Cost Schedule'!G41,\"\")","v":""},{"$f":"IF('Replacement Cost Schedule'!H41<>\"\",'Replacement Cost Schedule'!H41,\"\")","v":""},{"$f":"IF('Replacement Cost Schedule'!I41<>\"\",'Replacement Cost Schedule'!I41,\"\")","v":""},{"$f":"IF('Replacement Cost Schedule'!J41<>\"\",'Replacement Cost Schedule'!J41,\"\")","v":""},{"$f":"IF('Replacement Cost Schedule'!K41<>\"\",'Replacement Cost Schedule'!K41,\"\")","v":""},{"$f":"IF('Replacement Cost Schedule'!L41<>\"\",'Replacement Cost Schedule'!L41,\"\")","v":""},{"$f":"IF('Replacement Cost Schedule'!M41<>\"\",'Replacement Cost Schedule'!M41,\"\")","v":""},{"$f":"IF('Replacement Cost Schedule'!N41<>\"\",'Replacement Cost Schedule'!N41,\"\")","v":""},{"$f":"IF('Replacement Cost Schedule'!O41<>\"\",'Replacement Cost Schedule'!O41,\"\")","v":""},{"$f":"IF('Replacement Cost Schedule'!P41<>\"\",'Replacement Cost Schedule'!P41,\"\")","v":""},{"$f":"IF('Replacement Cost Schedule'!Q41<>\"\",'Replacement Cost Schedule'!Q41,\"\")","v":""},{"$f":"IF('Replacement Cost Schedule'!R41<>\"\",'Replacement Cost Schedule'!R41,\"\")","v":""},{"$f":"IF('Replacement Cost Schedule'!S41<>\"\",'Replacement Cost Schedule'!S41,\"\")","v":""},null,{"$f":"IF('Replacement Cost Schedule'!C41<>\"\",'Replacement Cost Schedule'!C41,\"\")","v":""},{"$f":"IF('Replacement Cost Schedule'!T41<>\"\",'Replacement Cost Schedule'!T41,\"\")","v":""},{"$f":"IF('Replacement Cost Schedule'!U41<>\"\",'Replacement Cost Schedule'!U41,\"\")","v":""},{"$f":"IF('Replacement Cost Schedule'!V41<>\"\",'Replacement Cost Schedule'!V41,\"\")","v":""},{"$f":"IF('Replacement Cost Schedule'!W41<>\"\",'Replacement Cost Schedule'!W41,\"\")","v":""},{"$f":"IF('Replacement Cost Schedule'!X41<>\"\",'Replacement Cost Schedule'!X41,\"\")","v":""},{"$f":"IF('Replacement Cost Schedule'!Y41<>\"\",'Replacement Cost Schedule'!Y41,\"\")","v":""},{"$f":"IF('Replacement Cost Schedule'!Z41<>\"\",'Replacement Cost Schedule'!Z41,\"\")","v":""},{"$f":"IF('Replacement Cost Schedule'!AA41<>\"\",'Replacement Cost Schedule'!AA41,\"\")","v":""},{"$f":"IF('Replacement Cost Schedule'!AB41<>\"\",'Replacement Cost Schedule'!AB41,\"\")","v":""},{"$f":"IF('Replacement Cost Schedule'!AC41<>\"\",'Replacement Cost Schedule'!AC41,\"\")","v":""},{"$f":"IF('Replacement Cost Schedule'!AD41<>\"\",'Replacement Cost Schedule'!AD41,\"\")","v":""},{"$f":"IF('Replacement Cost Schedule'!AE41<>\"\",'Replacement Cost Schedule'!AE41,\"\")","v":""},{"$f":"IF('Replacement Cost Schedule'!AF41<>\"\",'Replacement Cost Schedule'!AF41,\"\")","v":""},0]
[null,null,{"$f":"IF('Replacement Cost Schedule'!C42<>\"\",'Replacement Cost Schedule'!C42,\"\")","v":""},{"$f":"IF('Replacement Cost Schedule'!D42<>\"\",'Replacement Cost Schedule'!D42,\"\")","v":""},{"$f":"IF('Replacement Cost Schedule'!E42<>\"\",'Replacement Cost Schedule'!E42,\"\")","v":""},{"$f":"IF('Replacement Cost Schedule'!F42<>\"\",'Replacement Cost Schedule'!F42,\"\")","v":""},{"$f":"IF('Replacement Cost Schedule'!G42<>\"\",'Replacement Cost Schedule'!G42,\"\")","v":""},{"$f":"IF('Replacement Cost Schedule'!H42<>\"\",'Replacement Cost Schedule'!H42,\"\")","v":""},{"$f":"IF('Replacement Cost Schedule'!I42<>\"\",'Replacement Cost Schedule'!I42,\"\")","v":""},{"$f":"IF('Replacement Cost Schedule'!J42<>\"\",'Replacement Cost Schedule'!J42,\"\")","v":""},{"$f":"IF('Replacement Cost Schedule'!K42<>\"\",'Replacement Cost Schedule'!K42,\"\")","v":""},{"$f":"IF('Replacement Cost Schedule'!L42<>\"\",'Replacement Cost Schedule'!L42,\"\")","v":""},{"$f":"IF('Replacement Cost Schedule'!M42<>\"\",'Replacement Cost Schedule'!M42,\"\")","v":""},{"$f":"IF('Replacement Cost Schedule'!N42<>\"\",'Replacement Cost Schedule'!N42,\"\")","v":""},{"$f":"IF('Replacement Cost Schedule'!O42<>\"\",'Replacement Cost Schedule'!O42,\"\")","v":""},{"$f":"IF('Replacement Cost Schedule'!P42<>\"\",'Replacement Cost Schedule'!P42,\"\")","v":""},{"$f":"IF('Replacement Cost Schedule'!Q42<>\"\",'Replacement Cost Schedule'!Q42,\"\")","v":""},{"$f":"IF('Replacement Cost Schedule'!R42<>\"\",'Replacement Cost Schedule'!R42,\"\")","v":""},{"$f":"IF('Replacement Cost Schedule'!S42<>\"\",'Replacement Cost Schedule'!S42,\"\")","v":""},null,{"$f":"IF('Replacement Cost Schedule'!C42<>\"\",'Replacement Cost Schedule'!C42,\"\")","v":""},{"$f":"IF('Replacement Cost Schedule'!T42<>\"\",'Replacement Cost Schedule'!T42,\"\")","v":""},{"$f":"IF('Replacement Cost Schedule'!U42<>\"\",'Replacement Cost Schedule'!U42,\"\")","v":""},{"$f":"IF('Replacement Cost Schedule'!V42<>\"\",'Replacement Cost Schedule'!V42,\"\")","v":""},{"$f":"IF('Replacement Cost Schedule'!W42<>\"\",'Replacement Cost Schedule'!W42,\"\")","v":""},{"$f":"IF('Replacement Cost Schedule'!X42<>\"\",'Replacement Cost Schedule'!X42,\"\")","v":""},{"$f":"IF('Replacement Cost Schedule'!Y42<>\"\",'Replacement Cost Schedule'!Y42,\"\")","v":""},{"$f":"IF('Replacement Cost Schedule'!Z42<>\"\",'Replacement Cost Schedule'!Z42,\"\")","v":""},{"$f":"IF('Replacement Cost Schedule'!AA42<>\"\",'Replacement Cost Schedule'!AA42,\"\")","v":""},{"$f":"IF('Replacement Cost Schedule'!AB42<>\"\",'Replacement Cost Schedule'!AB42,\"\")","v":""},{"$f":"IF('Replacement Cost Schedule'!AC42<>\"\",'Replacement Cost Schedule'!AC42,\"\")","v":""},{"$f":"IF('Replacement Cost Schedule'!AD42<>\"\",'Replacement Cost Schedule'!AD42,\"\")","v":""},{"$f":"IF('Replacement Cost Schedule'!AE42<>\"\",'Replacement Cost Schedule'!AE42,\"\")","v":""},{"$f":"IF('Replacement Cost Schedule'!AF42<>\"\",'Replacement Cost Schedule'!AF42,\"\")","v":""},0]
[null,null,{"$f":"IF('Replacement Cost Schedule'!C43<>\"\",'Replacement Cost Schedule'!C43,\"\")","v":""},{"$f":"IF('Replacement Cost Schedule'!D43<>\"\",'Replacement Cost Schedule'!D43,\"\")","v":""},{"$f":"IF('Replacement Cost Schedule'!E43<>\"\",'Replacement Cost Schedule'!E43,\"\")","v":""},{"$f":"IF('Replacement Cost Schedule'!F43<>\"\",'Replacement Cost Schedule'!F43,\"\")","v":""},{"$f":"IF('Replacement Cost Schedule'!G43<>\"\",'Replacement Cost Schedule'!G43,\"\")","v":""},{"$f":"IF('Replacement Cost Schedule'!H43<>\"\",'Replacement Cost Schedule'!H43,\"\")","v":""},{"$f":"IF('Replacement Cost Schedule'!I43<>\"\",'Replacement Cost Schedule'!I43,\"\")","v":""},{"$f":"IF('Replacement Cost Schedule'!J43<>\"\",'Replacement Cost Schedule'!J43,\"\")","v":""},{"$f":"IF('Replacement Cost Schedule'!K43<>\"\",'Replacement Cost Schedule'!K43,\"\")","v":""},{"$f":"IF('Replacement Cost Schedule'!L43<>\"\",'Replacement Cost Schedule'!L43,\"\")","v":""},{"$f":"IF('Replacement Cost Schedule'!M43<>\"\",'Replacement Cost Schedule'!M43,\"\")","v":""},{"$f":"IF('Replacement Cost Schedule'!N43<>\"\",'Replacement Cost Schedule'!N43,\"\")","v":""},{"$f":"IF('Replacement Cost Schedule'!O43<>\"\",'Replacement Cost Schedule'!O43,\"\")","v":""},{"$f":"IF('Replacement Cost Schedule'!P43<>\"\",'Replacement Cost Schedule'!P43,\"\")","v":""},{"$f":"IF('Replacement Cost Schedule'!Q43<>\"\",'Replacement Cost Schedule'!Q43,\"\")","v":""},{"$f":"IF('Replacement Cost Schedule'!R43<>\"\",'Replacement Cost Schedule'!R43,\"\")","v":""},{"$f":"IF('Replacement Cost Schedule'!S43<>\"\",'Replacement Cost Schedule'!S43,\"\")","v":""},null,{"$f":"IF('Replacement Cost Schedule'!C43<>\"\",'Replacement Cost Schedule'!C43,\"\")","v":""},{"$f":"IF('Replacement Cost Schedule'!T43<>\"\",'Replacement Cost Schedule'!T43,\"\")","v":""},{"$f":"IF('Replacement Cost Schedule'!U43<>\"\",'Replacement Cost Schedule'!U43,\"\")","v":""},{"$f":"IF('Replacement Cost Schedule'!V43<>\"\",'Replacement Cost Schedule'!V43,\"\")","v":""},{"$f":"IF('Replacement Cost Schedule'!W43<>\"\",'Replacement Cost Schedule'!W43,\"\")","v":""},{"$f":"IF('Replacement Cost Schedule'!X43<>\"\",'Replacement Cost Schedule'!X43,\"\")","v":""},{"$f":"IF('Replacement Cost Schedule'!Y43<>\"\",'Replacement Cost Schedule'!Y43,\"\")","v":""},{"$f":"IF('Replacement Cost Schedule'!Z43<>\"\",'Replacement Cost Schedule'!Z43,\"\")","v":""},{"$f":"IF('Replacement Cost Schedule'!AA43<>\"\",'Replacement Cost Schedule'!AA43,\"\")","v":""},{"$f":"IF('Replacement Cost Schedule'!AB43<>\"\",'Replacement Cost Schedule'!AB43,\"\")","v":""},{"$f":"IF('Replacement Cost Schedule'!AC43<>\"\",'Replacement Cost Schedule'!AC43,\"\")","v":""},{"$f":"IF('Replacement Cost Schedule'!AD43<>\"\",'Replacement Cost Schedule'!AD43,\"\")","v":""},{"$f":"IF('Replacement Cost Schedule'!AE43<>\"\",'Replacement Cost Schedule'!AE43,\"\")","v":""},{"$f":"IF('Replacement Cost Schedule'!AF43<>\"\",'Replacement Cost Schedule'!AF43,\"\")","v":""},0]
[null,null,{"$f":"IF('Replacement Cost Schedule'!C44<>\"\",'Replacement Cost Schedule'!C44,\"\")","v":""},{"$f":"IF('Replacement Cost Schedule'!D44<>\"\",'Replacement Cost Schedule'!D44,\"\")","v":""},{"$f":"IF('Replacement Cost Schedule'!E44<>\"\",'Replacement Cost Schedule'!E44,\"\")","v":""},{"$f":"IF('Replacement Cost Schedule'!F44<>\"\",'Replacement Cost Schedule'!F44,\"\")","v":""},{"$f":"IF('Replacement Cost Schedule'!G44<>\"\",'Replacement Cost Schedule'!G44,\"\")","v":""},{"$f":"IF('Replacement Cost Schedule'!H44<>\"\",'Replacement Cost Schedule'!H44,\"\")","v":""},{"$f":"IF('Replacement Cost Schedule'!I44<>\"\",'Replacement Cost Schedule'!I44,\"\")","v":""},{"$f":"IF('Replacement Cost Schedule'!J44<>\"\",'Replacement Cost Schedule'!J44,\"\")","v":""},{"$f":"IF('Replacement Cost Schedule'!K44<>\"\",'Replacement Cost Schedule'!K44,\"\")","v":""},{"$f":"IF('Replacement Cost Schedule'!L44<>\"\",'Replacement Cost Schedule'!L44,\"\")","v":""},{"$f":"IF('Replacement Cost Schedule'!M44<>\"\",'Replacement Cost Schedule'!M44,\"\")","v":""},{"$f":"IF('Replacement Cost Schedule'!N44<>\"\",'Replacement Cost Schedule'!N44,\"\")","v":""},{"$f":"IF('Replacement Cost Schedule'!O44<>\"\",'Replacement Cost Schedule'!O44,\"\")","v":""},{"$f":"IF('Replacement Cost Schedule'!P44<>\"\",'Replacement Cost Schedule'!P44,\"\")","v":""},{"$f":"IF('Replacement Cost Schedule'!Q44<>\"\",'Replacement Cost Schedule'!Q44,\"\")","v":""},{"$f":"IF('Replacement Cost Schedule'!R44<>\"\",'Replacement Cost Schedule'!R44,\"\")","v":""},{"$f":"IF('Replacement Cost Schedule'!S44<>\"\",'Replacement Cost Schedule'!S44,\"\")","v":""},null,{"$f":"IF('Replacement Cost Schedule'!C44<>\"\",'Replacement Cost Schedule'!C44,\"\")","v":""},{"$f":"IF('Replacement Cost Schedule'!T44<>\"\",'Replacement Cost Schedule'!T44,\"\")","v":""},{"$f":"IF('Replacement Cost Schedule'!U44<>\"\",'Replacement Cost Schedule'!U44,\"\")","v":""},{"$f":"IF('Replacement Cost Schedule'!V44<>\"\",'Replacement Cost Schedule'!V44,\"\")","v":""},{"$f":"IF('Replacement Cost Schedule'!W44<>\"\",'Replacement Cost Schedule'!W44,\"\")","v":""},{"$f":"IF('Replacement Cost Schedule'!X44<>\"\",'Replacement Cost Schedule'!X44,\"\")","v":""},{"$f":"IF('Replacement Cost Schedule'!Y44<>\"\",'Replacement Cost Schedule'!Y44,\"\")","v":""},{"$f":"IF('Replacement Cost Schedule'!Z44<>\"\",'Replacement Cost Schedule'!Z44,\"\")","v":""},{"$f":"IF('Replacement Cost Schedule'!AA44<>\"\",'Replacement Cost Schedule'!AA44,\"\")","v":""},{"$f":"IF('Replacement Cost Schedule'!AB44<>\"\",'Replacement Cost Schedule'!AB44,\"\")","v":""},{"$f":"IF('Replacement Cost Schedule'!AC44<>\"\",'Replacement Cost Schedule'!AC44,\"\")","v":""},{"$f":"IF('Replacement Cost Schedule'!AD44<>\"\",'Replacement Cost Schedule'!AD44,\"\")","v":""},{"$f":"IF('Replacement Cost Schedule'!AE44<>\"\",'Replacement Cost Schedule'!AE44,\"\")","v":""},{"$f":"IF('Replacement Cost Schedule'!AF44<>\"\",'Replacement Cost Schedule'!AF44,\"\")","v":""},0]
[null,null,{"$f":"IF('Replacement Cost Schedule'!C45<>\"\",'Replacement Cost Schedule'!C45,\"\")","v":""},{"$f":"IF('Replacement Cost Schedule'!D45<>\"\",'Replacement Cost Schedule'!D45,\"\")","v":""},{"$f":"IF('Replacement Cost Schedule'!E45<>\"\",'Replacement Cost Schedule'!E45,\"\")","v":""},{"$f":"IF('Replacement Cost Schedule'!F45<>\"\",'Replacement Cost Schedule'!F45,\"\")","v":""},{"$f":"IF('Replacement Cost Schedule'!G45<>\"\",'Replacement Cost Schedule'!G45,\"\")","v":""},{"$f":"IF('Replacement Cost Schedule'!H45<>\"\",'Replacement Cost Schedule'!H45,\"\")","v":""},{"$f":"IF('Replacement Cost Schedule'!I45<>\"\",'Replacement Cost Schedule'!I45,\"\")","v":""},{"$f":"IF('Replacement Cost Schedule'!J45<>\"\",'Replacement Cost Schedule'!J45,\"\")","v":""},{"$f":"IF('Replacement Cost Schedule'!K45<>\"\",'Replacement Cost Schedule'!K45,\"\")","v":""},{"$f":"IF('Replacement Cost Schedule'!L45<>\"\",'Replacement Cost Schedule'!L45,\"\")","v":""},{"$f":"IF('Replacement Cost Schedule'!M45<>\"\",'Replacement Cost Schedule'!M45,\"\")","v":""},{"$f":"IF('Replacement Cost Schedule'!N45<>\"\",'Replacement Cost Schedule'!N45,\"\")","v":""},{"$f":"IF('Replacement Cost Schedule'!O45<>\"\",'Replacement Cost Schedule'!O45,\"\")","v":""},{"$f":"IF('Replacement Cost Schedule'!P45<>\"\",'Replacement Cost Schedule'!P45,\"\")","v":""},{"$f":"IF('Replacement Cost Schedule'!Q45<>\"\",'Replacement Cost Schedule'!Q45,\"\")","v":""},{"$f":"IF('Replacement Cost Schedule'!R45<>\"\",'Replacement Cost Schedule'!R45,\"\")","v":""},{"$f":"IF('Replacement Cost Schedule'!S45<>\"\",'Replacement Cost Schedule'!S45,\"\")","v":""},null,{"$f":"IF('Replacement Cost Schedule'!C45<>\"\",'Replacement Cost Schedule'!C45,\"\")","v":""},{"$f":"IF('Replacement Cost Schedule'!T45<>\"\",'Replacement Cost Schedule'!T45,\"\")","v":""},{"$f":"IF('Replacement Cost Schedule'!U45<>\"\",'Replacement Cost Schedule'!U45,\"\")","v":""},{"$f":"IF('Replacement Cost Schedule'!V45<>\"\",'Replacement Cost Schedule'!V45,\"\")","v":""},{"$f":"IF('Replacement Cost Schedule'!W45<>\"\",'Replacement Cost Schedule'!W45,\"\")","v":""},{"$f":"IF('Replacement Cost Schedule'!X45<>\"\",'Replacement Cost Schedule'!X45,\"\")","v":""},{"$f":"IF('Replacement Cost Schedule'!Y45<>\"\",'Replacement Cost Schedule'!Y45,\"\")","v":""},{"$f":"IF('Replacement Cost Schedule'!Z45<>\"\",'Replacement Cost Schedule'!Z45,\"\")","v":""},{"$f":"IF('Replacement Cost Schedule'!AA45<>\"\",'Replacement Cost Schedule'!AA45,\"\")","v":""},{"$f":"IF('Replacement Cost Schedule'!AB45<>\"\",'Replacement Cost Schedule'!AB45,\"\")","v":""},{"$f":"IF('Replacement Cost Schedule'!AC45<>\"\",'Replacement Cost Schedule'!AC45,\"\")","v":""},{"$f":"IF('Replacement Cost Schedule'!AD45<>\"\",'Replacement Cost Schedule'!AD45,\"\")","v":""},{"$f":"IF('Replacement Cost Schedule'!AE45<>\"\",'Replacement Cost Schedule'!AE45,\"\")","v":""},{"$f":"IF('Replacement Cost Schedule'!AF45<>\"\",'Replacement Cost Schedule'!AF45,\"\")","v":""},0]
[null,null,{"$f":"IF('Replacement Cost Schedule'!C46<>\"\",'Replacement Cost Schedule'!C46,\"\")","v":""},{"$f":"IF('Replacement Cost Schedule'!D46<>\"\",'Replacement Cost Schedule'!D46,\"\")","v":""},{"$f":"IF('Replacement Cost Schedule'!E46<>\"\",'Replacement Cost Schedule'!E46,\"\")","v":""},{"$f":"IF('Replacement Cost Schedule'!F46<>\"\",'Replacement Cost Schedule'!F46,\"\")","v":""},{"$f":"IF('Replacement Cost Schedule'!G46<>\"\",'Replacement Cost Schedule'!G46,\"\")","v":""},{"$f":"IF('Replacement Cost Schedule'!H46<>\"\",'Replacement Cost Schedule'!H46,\"\")","v":""},{"$f":"IF('Replacement Cost Schedule'!I46<>\"\",'Replacement Cost Schedule'!I46,\"\")","v":""},{"$f":"IF('Replacement Cost Schedule'!J46<>\"\",'Replacement Cost Schedule'!J46,\"\")","v":""},{"$f":"IF('Replacement Cost Schedule'!K46<>\"\",'Replacement Cost Schedule'!K46,\"\")","v":""},{"$f":"IF('Replacement Cost Schedule'!L46<>\"\",'Replacement Cost Schedule'!L46,\"\")","v":""},{"$f":"IF('Replacement Cost Schedule'!M46<>\"\",'Replacement Cost Schedule'!M46,\"\")","v":""},{"$f":"IF('Replacement Cost Schedule'!N46<>\"\",'Replacement Cost Schedule'!N46,\"\")","v":""},{"$f":"IF('Replacement Cost Schedule'!O46<>\"\",'Replacement Cost Schedule'!O46,\"\")","v":""},{"$f":"IF('Replacement Cost Schedule'!P46<>\"\",'Replacement Cost Schedule'!P46,\"\")","v":""},{"$f":"IF('Replacement Cost Schedule'!Q46<>\"\",'Replacement Cost Schedule'!Q46,\"\")","v":""},{"$f":"IF('Replacement Cost Schedule'!R46<>\"\",'Replacement Cost Schedule'!R46,\"\")","v":""},{"$f":"IF('Replacement Cost Schedule'!S46<>\"\",'Replacement Cost Schedule'!S46,\"\")","v":""},null,{"$f":"IF('Replacement Cost Schedule'!C46<>\"\",'Replacement Cost Schedule'!C46,\"\")","v":""},{"$f":"IF('Replacement Cost Schedule'!T46<>\"\",'Replacement Cost Schedule'!T46,\"\")","v":""},{"$f":"IF('Replacement Cost Schedule'!U46<>\"\",'Replacement Cost Schedule'!U46,\"\")","v":""},{"$f":"IF('Replacement Cost Schedule'!V46<>\"\",'Replacement Cost Schedule'!V46,\"\")","v":""},{"$f":"IF('Replacement Cost Schedule'!W46<>\"\",'Replacement Cost Schedule'!W46,\"\")","v":""},{"$f":"IF('Replacement Cost Schedule'!X46<>\"\",'Replacement Cost Schedule'!X46,\"\")","v":""},{"$f":"IF('Replacement Cost Schedule'!Y46<>\"\",'Replacement Cost Schedule'!Y46,\"\")","v":""},{"$f":"IF('Replacement Cost Schedule'!Z46<>\"\",'Replacement Cost Schedule'!Z46,\"\")","v":""},{"$f":"IF('Replacement Cost Schedule'!AA46<>\"\",'Replacement Cost Schedule'!AA46,\"\")","v":""},{"$f":"IF('Replacement Cost Schedule'!AB46<>\"\",'Replacement Cost Schedule'!AB46,\"\")","v":""},{"$f":"IF('Replacement Cost Schedule'!AC46<>\"\",'Replacement Cost Schedule'!AC46,\"\")","v":""},{"$f":"IF('Replacement Cost Schedule'!AD46<>\"\",'Replacement Cost Schedule'!AD46,\"\")","v":""},{"$f":"IF('Replacement Cost Schedule'!AE46<>\"\",'Replacement Cost Schedule'!AE46,\"\")","v":""},{"$f":"IF('Replacement Cost Schedule'!AF46<>\"\",'Replacement Cost Schedule'!AF46,\"\")","v":""},0]
[null,null,{"$f":"IF('Replacement Cost Schedule'!C47<>\"\",'Replacement Cost Schedule'!C47,\"\")","v":""},{"$f":"IF('Replacement Cost Schedule'!D47<>\"\",'Replacement Cost Schedule'!D47,\"\")","v":""},{"$f":"IF('Replacement Cost Schedule'!E47<>\"\",'Replacement Cost Schedule'!E47,\"\")","v":""},{"$f":"IF('Replacement Cost Schedule'!F47<>\"\",'Replacement Cost Schedule'!F47,\"\")","v":""},{"$f":"IF('Replacement Cost Schedule'!G47<>\"\",'Replacement Cost Schedule'!G47,\"\")","v":""},{"$f":"IF('Replacement Cost Schedule'!H47<>\"\",'Replacement Cost Schedule'!H47,\"\")","v":""},{"$f":"IF('Replacement Cost Schedule'!I47<>\"\",'Replacement Cost Schedule'!I47,\"\")","v":""},{"$f":"IF('Replacement Cost Schedule'!J47<>\"\",'Replacement Cost Schedule'!J47,\"\")","v":""},{"$f":"IF('Replacement Cost Schedule'!K47<>\"\",'Replacement Cost Schedule'!K47,\"\")","v":""},{"$f":"IF('Replacement Cost Schedule'!L47<>\"\",'Replacement Cost Schedule'!L47,\"\")","v":""},{"$f":"IF('Replacement Cost Schedule'!M47<>\"\",'Replacement Cost Schedule'!M47,\"\")","v":""},{"$f":"IF('Replacement Cost Schedule'!N47<>\"\",'Replacement Cost Schedule'!N47,\"\")","v":""},{"$f":"IF('Replacement Cost Schedule'!O47<>\"\",'Replacement Cost Schedule'!O47,\"\")","v":""},{"$f":"IF('Replacement Cost Schedule'!P47<>\"\",'Replacement Cost Schedule'!P47,\"\")","v":""},{"$f":"IF('Replacement Cost Schedule'!Q47<>\"\",'Replacement Cost Schedule'!Q47,\"\")","v":""},{"$f":"IF('Replacement Cost Schedule'!R47<>\"\",'Replacement Cost Schedule'!R47,\"\")","v":""},{"$f":"IF('Replacement Cost Schedule'!S47<>\"\",'Replacement Cost Schedule'!S47,\"\")","v":""},null,{"$f":"IF('Replacement Cost Schedule'!C47<>\"\",'Replacement Cost Schedule'!C47,\"\")","v":""},{"$f":"IF('Replacement Cost Schedule'!T47<>\"\",'Replacement Cost Schedule'!T47,\"\")","v":""},{"$f":"IF('Replacement Cost Schedule'!U47<>\"\",'Replacement Cost Schedule'!U47,\"\")","v":""},{"$f":"IF('Replacement Cost Schedule'!V47<>\"\",'Replacement Cost Schedule'!V47,\"\")","v":""},{"$f":"IF('Replacement Cost Schedule'!W47<>\"\",'Replacement Cost Schedule'!W47,\"\")","v":""},{"$f":"IF('Replacement Cost Schedule'!X47<>\"\",'Replacement Cost Schedule'!X47,\"\")","v":""},{"$f":"IF('Replacement Cost Schedule'!Y47<>\"\",'Replacement Cost Schedule'!Y47,\"\")","v":""},{"$f":"IF('Replacement Cost Schedule'!Z47<>\"\",'Replacement Cost Schedule'!Z47,\"\")","v":""},{"$f":"IF('Replacement Cost Schedule'!AA47<>\"\",'Replacement Cost Schedule'!AA47,\"\")","v":""},{"$f":"IF('Replacement Cost Schedule'!AB47<>\"\",'Replacement Cost Schedule'!AB47,\"\")","v":""},{"$f":"IF('Replacement Cost Schedule'!AC47<>\"\",'Replacement Cost Schedule'!AC47,\"\")","v":""},{"$f":"IF('Replacement Cost Schedule'!AD47<>\"\",'Replacement Cost Schedule'!AD47,\"\")","v":""},{"$f":"IF('Replacement Cost Schedule'!AE47<>\"\",'Replacement Cost Schedule'!AE47,\"\")","v":""},{"$f":"IF('Replacement Cost Schedule'!AF47<>\"\",'Replacement Cost Schedule'!AF47,\"\")","v":""},0]
[null,null,{"$f":"IF('Replacement Cost Schedule'!C48<>\"\",'Replacement Cost Schedule'!C48,\"\")","v":""},{"$f":"IF('Replacement Cost Schedule'!D48<>\"\",'Replacement Cost Schedule'!D48,\"\")","v":""},{"$f":"IF('Replacement Cost Schedule'!E48<>\"\",'Replacement Cost Schedule'!E48,\"\")","v":""},{"$f":"IF('Replacement Cost Schedule'!F48<>\"\",'Replacement Cost Schedule'!F48,\"\")","v":""},{"$f":"IF('Replacement Cost Schedule'!G48<>\"\",'Replacement Cost Schedule'!G48,\"\")","v":""},{"$f":"IF('Replacement Cost Schedule'!H48<>\"\",'Replacement Cost Schedule'!H48,\"\")","v":""},{"$f":"IF('Replacement Cost Schedule'!I48<>\"\",'Replacement Cost Schedule'!I48,\"\")","v":""},{"$f":"IF('Replacement Cost Schedule'!J48<>\"\",'Replacement Cost Schedule'!J48,\"\")","v":""},{"$f":"IF('Replacement Cost Schedule'!K48<>\"\",'Replacement Cost Schedule'!K48,\"\")","v":""},{"$f":"IF('Replacement Cost Schedule'!L48<>\"\",'Replacement Cost Schedule'!L48,\"\")","v":""},{"$f":"IF('Replacement Cost Schedule'!M48<>\"\",'Replacement Cost Schedule'!M48,\"\")","v":""},{"$f":"IF('Replacement Cost Schedule'!N48<>\"\",'Replacement Cost Schedule'!N48,\"\")","v":""},{"$f":"IF('Replacement Cost Schedule'!O48<>\"\",'Replacement Cost Schedule'!O48,\"\")","v":""},{"$f":"IF('Replacement Cost Schedule'!P48<>\"\",'Replacement Cost Schedule'!P48,\"\")","v":""},{"$f":"IF('Replacement Cost Schedule'!Q48<>\"\",'Replacement Cost Schedule'!Q48,\"\")","v":""},{"$f":"IF('Replacement Cost Schedule'!R48<>\"\",'Replacement Cost Schedule'!R48,\"\")","v":""},{"$f":"IF('Replacement Cost Schedule'!S48<>\"\",'Replacement Cost Schedule'!S48,\"\")","v":""},null,{"$f":"IF('Replacement Cost Schedule'!C48<>\"\",'Replacement Cost Schedule'!C48,\"\")","v":""},{"$f":"IF('Replacement Cost Schedule'!T48<>\"\",'Replacement Cost Schedule'!T48,\"\")","v":""},{"$f":"IF('Replacement Cost Schedule'!U48<>\"\",'Replacement Cost Schedule'!U48,\"\")","v":""},{"$f":"IF('Replacement Cost Schedule'!V48<>\"\",'Replacement Cost Schedule'!V48,\"\")","v":""},{"$f":"IF('Replacement Cost Schedule'!W48<>\"\",'Replacement Cost Schedule'!W48,\"\")","v":""},{"$f":"IF('Replacement Cost Schedule'!X48<>\"\",'Replacement Cost Schedule'!X48,\"\")","v":""},{"$f":"IF('Replacement Cost Schedule'!Y48<>\"\",'Replacement Cost Schedule'!Y48,\"\")","v":""},{"$f":"IF('Replacement Cost Schedule'!Z48<>\"\",'Replacement Cost Schedule'!Z48,\"\")","v":""},{"$f":"IF('Replacement Cost Schedule'!AA48<>\"\",'Replacement Cost Schedule'!AA48,\"\")","v":""},{"$f":"IF('Replacement Cost Schedule'!AB48<>\"\",'Replacement Cost Schedule'!AB48,\"\")","v":""},{"$f":"IF('Replacement Cost Schedule'!AC48<>\"\",'Replacement Cost Schedule'!AC48,\"\")","v":""},{"$f":"IF('Replacement Cost Schedule'!AD48<>\"\",'Replacement Cost Schedule'!AD48,\"\")","v":""},{"$f":"IF('Replacement Cost Schedule'!AE48<>\"\",'Replacement Cost Schedule'!AE48,\"\")","v":""},{"$f":"IF('Replacement Cost Schedule'!AF48<>\"\",'Replacement Cost Schedule'!AF48,\"\")","v":""},0]
[null,null,{"$f":"IF('Replacement Cost Schedule'!C49<>\"\",'Replacement Cost Schedule'!C49,\"\")","v":""},{"$f":"IF('Replacement Cost Schedule'!D49<>\"\",'Replacement Cost Schedule'!D49,\"\")","v":""},{"$f":"IF('Replacement Cost Schedule'!E49<>\"\",'Replacement Cost Schedule'!E49,\"\")","v":""},{"$f":"IF('Replacement Cost Schedule'!F49<>\"\",'Replacement Cost Schedule'!F49,\"\")","v":""},{"$f":"IF('Replacement Cost Schedule'!G49<>\"\",'Replacement Cost Schedule'!G49,\"\")","v":""},{"$f":"IF('Replacement Cost Schedule'!H49<>\"\",'Replacement Cost Schedule'!H49,\"\")","v":""},{"$f":"IF('Replacement Cost Schedule'!I49<>\"\",'Replacement Cost Schedule'!I49,\"\")","v":""},{"$f":"IF('Replacement Cost Schedule'!J49<>\"\",'Replacement Cost Schedule'!J49,\"\")","v":""},{"$f":"IF('Replacement Cost Schedule'!K49<>\"\",'Replacement Cost Schedule'!K49,\"\")","v":""},{"$f":"IF('Replacement Cost Schedule'!L49<>\"\",'Replacement Cost Schedule'!L49,\"\")","v":""},{"$f":"IF('Replacement Cost Schedule'!M49<>\"\",'Replacement Cost Schedule'!M49,\"\")","v":""},{"$f":"IF('Replacement Cost Schedule'!N49<>\"\",'Replacement Cost Schedule'!N49,\"\")","v":""},{"$f":"IF('Replacement Cost Schedule'!O49<>\"\",'Replacement Cost Schedule'!O49,\"\")","v":""},{"$f":"IF('Replacement Cost Schedule'!P49<>\"\",'Replacement Cost Schedule'!P49,\"\")","v":""},{"$f":"IF('Replacement Cost Schedule'!Q49<>\"\",'Replacement Cost Schedule'!Q49,\"\")","v":""},{"$f":"IF('Replacement Cost Schedule'!R49<>\"\",'Replacement Cost Schedule'!R49,\"\")","v":""},{"$f":"IF('Replacement Cost Schedule'!S49<>\"\",'Replacement Cost Schedule'!S49,\"\")","v":""},null,{"$f":"IF('Replacement Cost Schedule'!C49<>\"\",'Replacement Cost Schedule'!C49,\"\")","v":""},{"$f":"IF('Replacement Cost Schedule'!T49<>\"\",'Replacement Cost Schedule'!T49,\"\")","v":""},{"$f":"IF('Replacement Cost Schedule'!U49<>\"\",'Replacement Cost Schedule'!U49,\"\")","v":""},{"$f":"IF('Replacement Cost Schedule'!V49<>\"\",'Replacement Cost Schedule'!V49,\"\")","v":""},{"$f":"IF('Replacement Cost Schedule'!W49<>\"\",'Replacement Cost Schedule'!W49,\"\")","v":""},{"$f":"IF('Replacement Cost Schedule'!X49<>\"\",'Replacement Cost Schedule'!X49,\"\")","v":""},{"$f":"IF('Replacement Cost Schedule'!Y49<>\"\",'Replacement Cost Schedule'!Y49,\"\")","v":""},{"$f":"IF('Replacement Cost Schedule'!Z49<>\"\",'Replacement Cost Schedule'!Z49,\"\")","v":""},{"$f":"IF('Replacement Cost Schedule'!AA49<>\"\",'Replacement Cost Schedule'!AA49,\"\")","v":""},{"$f":"IF('Replacement Cost Schedule'!AB49<>\"\",'Replacement Cost Schedule'!AB49,\"\")","v":""},{"$f":"IF('Replacement Cost Schedule'!AC49<>\"\",'Replacement Cost Schedule'!AC49,\"\")","v":""},{"$f":"IF('Replacement Cost Schedule'!AD49<>\"\",'Replacement Cost Schedule'!AD49,\"\")","v":""},{"$f":"IF('Replacement Cost Schedule'!AE49<>\"\",'Replacement Cost Schedule'!AE49,\"\")","v":""},{"$f":"IF('Replacement Cost Schedule'!AF49<>\"\",'Replacement Cost Schedule'!AF49,\"\")","v":""},0]
[null,null,{"$f":"IF('Replacement Cost Schedule'!C50<>\"\",'Replacement Cost Schedule'!C50,\"\")","v":""},{"$f":"IF('Replacement Cost Schedule'!D50<>\"\",'Replacement Cost Schedule'!D50,\"\")","v":""},{"$f":"IF('Replacement Cost Schedule'!E50<>\"\",'Replacement Cost Schedule'!E50,\"\")","v":""},{"$f":"IF('Replacement Cost Schedule'!F50<>\"\",'Replacement Cost Schedule'!F50,\"\")","v":""},{"$f":"IF('Replacement Cost Schedule'!G50<>\"\",'Replacement Cost Schedule'!G50,\"\")","v":""},{"$f":"IF('Replacement Cost Schedule'!H50<>\"\",'Replacement Cost Schedule'!H50,\"\")","v":""},{"$f":"IF('Replacement Cost Schedule'!I50<>\"\",'Replacement Cost Schedule'!I50,\"\")","v":""},{"$f":"IF('Replacement Cost Schedule'!J50<>\"\",'Replacement Cost Schedule'!J50,\"\")","v":""},{"$f":"IF('Replacement Cost Schedule'!K50<>\"\",'Replacement Cost Schedule'!K50,\"\")","v":""},{"$f":"IF('Replacement Cost Schedule'!L50<>\"\",'Replacement Cost Schedule'!L50,\"\")","v":""},{"$f":"IF('Replacement Cost Schedule'!M50<>\"\",'Replacement Cost Schedule'!M50,\"\")","v":""},{"$f":"IF('Replacement Cost Schedule'!N50<>\"\",'Replacement Cost Schedule'!N50,\"\")","v":""},{"$f":"IF('Replacement Cost Schedule'!O50<>\"\",'Replacement Cost Schedule'!O50,\"\")","v":""},{"$f":"IF('Replacement Cost Schedule'!P50<>\"\",'Replacement Cost Schedule'!P50,\"\")","v":""},{"$f":"IF('Replacement Cost Schedule'!Q50<>\"\",'Replacement Cost Schedule'!Q50,\"\")","v":""},{"$f":"IF('Replacement Cost Schedule'!R50<>\"\",'Replacement Cost Schedule'!R50,\"\")","v":""},{"$f":"IF('Replacement Cost Schedule'!S50<>\"\",'Replacement Cost Schedule'!S50,\"\")","v":""},null,{"$f":"IF('Replacement Cost Schedule'!C50<>\"\",'Replacement Cost Schedule'!C50,\"\")","v":""},{"$f":"IF('Replacement Cost Schedule'!T50<>\"\",'Replacement Cost Schedule'!T50,\"\")","v":""},{"$f":"IF('Replacement Cost Schedule'!U50<>\"\",'Replacement Cost Schedule'!U50,\"\")","v":""},{"$f":"IF('Replacement Cost Schedule'!V50<>\"\",'Replacement Cost Schedule'!V50,\"\")","v":""},{"$f":"IF('Replacement Cost Schedule'!W50<>\"\",'Replacement Cost Schedule'!W50,\"\")","v":""},{"$f":"IF('Replacement Cost Schedule'!X50<>\"\",'Replacement Cost Schedule'!X50,\"\")","v":""},{"$f":"IF('Replacement Cost Schedule'!Y50<>\"\",'Replacement Cost Schedule'!Y50,\"\")","v":""},{"$f":"IF('Replacement Cost Schedule'!Z50<>\"\",'Replacement Cost Schedule'!Z50,\"\")","v":""},{"$f":"IF('Replacement Cost Schedule'!AA50<>\"\",'Replacement Cost Schedule'!AA50,\"\")","v":""},{"$f":"IF('Replacement Cost Schedule'!AB50<>\"\",'Replacement Cost Schedule'!AB50,\"\")","v":""},{"$f":"IF('Replacement Cost Schedule'!AC50<>\"\",'Replacement Cost Schedule'!AC50,\"\")","v":""},{"$f":"IF('Replacement Cost Schedule'!AD50<>\"\",'Replacement Cost Schedule'!AD50,\"\")","v":""},{"$f":"IF('Replacement Cost Schedule'!AE50<>\"\",'Replacement Cost Schedule'!AE50,\"\")","v":""},{"$f":"IF('Replacement Cost Schedule'!AF50<>\"\",'Replacement Cost Schedule'!AF50,\"\")","v":""},0]
[null,null,{"$f":"IF('Replacement Cost Schedule'!C51<>\"\",'Replacement Cost Schedule'!C51,\"\")","v":""},{"$f":"IF('Replacement Cost Schedule'!D51<>\"\",'Replacement Cost Schedule'!D51,\"\")","v":""},{"$f":"IF('Replacement Cost Schedule'!E51<>\"\",'Replacement Cost Schedule'!E51,\"\")","v":""},{"$f":"IF('Replacement Cost Schedule'!F51<>\"\",'Replacement Cost Schedule'!F51,\"\")","v":""},{"$f":"IF('Replacement Cost Schedule'!G51<>\"\",'Replacement Cost Schedule'!G51,\"\")","v":""},{"$f":"IF('Replacement Cost Schedule'!H51<>\"\",'Replacement Cost Schedule'!H51,\"\")","v":""},{"$f":"IF('Replacement Cost Schedule'!I51<>\"\",'Replacement Cost Schedule'!I51,\"\")","v":""},{"$f":"IF('Replacement Cost Schedule'!J51<>\"\",'Replacement Cost Schedule'!J51,\"\")","v":""},{"$f":"IF('Replacement Cost Schedule'!K51<>\"\",'Replacement Cost Schedule'!K51,\"\")","v":""},{"$f":"IF('Replacement Cost Schedule'!L51<>\"\",'Replacement Cost Schedule'!L51,\"\")","v":""},{"$f":"IF('Replacement Cost Schedule'!M51<>\"\",'Replacement Cost Schedule'!M51,\"\")","v":""},{"$f":"IF('Replacement Cost Schedule'!N51<>\"\",'Replacement Cost Schedule'!N51,\"\")","v":""},{"$f":"IF('Replacement Cost Schedule'!O51<>\"\",'Replacement Cost Schedule'!O51,\"\")","v":""},{"$f":"IF('Replacement Cost Schedule'!P51<>\"\",'Replacement Cost Schedule'!P51,\"\")","v":""},{"$f":"IF('Replacement Cost Schedule'!Q51<>\"\",'Replacement Cost Schedule'!Q51,\"\")","v":""},{"$f":"IF('Replacement Cost Schedule'!R51<>\"\",'Replacement Cost Schedule'!R51,\"\")","v":""},{"$f":"IF('Replacement Cost Schedule'!S51<>\"\",'Replacement Cost Schedule'!S51,\"\")","v":""},null,{"$f":"IF('Replacement Cost Schedule'!C51<>\"\",'Replacement Cost Schedule'!C51,\"\")","v":""},{"$f":"IF('Replacement Cost Schedule'!T51<>\"\",'Replacement Cost Schedule'!T51,\"\")","v":""},{"$f":"IF('Replacement Cost Schedule'!U51<>\"\",'Replacement Cost Schedule'!U51,\"\")","v":""},{"$f":"IF('Replacement Cost Schedule'!V51<>\"\",'Replacement Cost Schedule'!V51,\"\")","v":""},{"$f":"IF('Replacement Cost Schedule'!W51<>\"\",'Replacement Cost Schedule'!W51,\"\")","v":""},{"$f":"IF('Replacement Cost Schedule'!X51<>\"\",'Replacement Cost Schedule'!X51,\"\")","v":""},{"$f":"IF('Replacement Cost Schedule'!Y51<>\"\",'Replacement Cost Schedule'!Y51,\"\")","v":""},{"$f":"IF('Replacement Cost Schedule'!Z51<>\"\",'Replacement Cost Schedule'!Z51,\"\")","v":""},{"$f":"IF('Replacement Cost Schedule'!AA51<>\"\",'Replacement Cost Schedule'!AA51,\"\")","v":""},{"$f":"IF('Replacement Cost Schedule'!AB51<>\"\",'Replacement Cost Schedule'!AB51,\"\")","v":""},{"$f":"IF('Replacement Cost Schedule'!AC51<>\"\",'Replacement Cost Schedule'!AC51,\"\")","v":""},{"$f":"IF('Replacement Cost Schedule'!AD51<>\"\",'Replacement Cost Schedule'!AD51,\"\")","v":""},{"$f":"IF('Replacement Cost Schedule'!AE51<>\"\",'Replacement Cost Schedule'!AE51,\"\")","v":""},{"$f":"IF('Replacement Cost Schedule'!AF51<>\"\",'Replacement Cost Schedule'!AF51,\"\")","v":""},0]
[null,null,{"$f":"IF('Replacement Cost Schedule'!C52<>\"\",'Replacement Cost Schedule'!C52,\"\")","v":""},{"$f":"IF('Replacement Cost Schedule'!D52<>\"\",'Replacement Cost Schedule'!D52,\"\")","v":""},{"$f":"IF('Replacement Cost Schedule'!E52<>\"\",'Replacement Cost Schedule'!E52,\"\")","v":""},{"$f":"IF('Replacement Cost Schedule'!F52<>\"\",'Replacement Cost Schedule'!F52,\"\")","v":""},{"$f":"IF('Replacement Cost Schedule'!G52<>\"\",'Replacement Cost Schedule'!G52,\"\")","v":""},{"$f":"IF('Replacement Cost Schedule'!H52<>\"\",'Replacement Cost Schedule'!H52,\"\")","v":""},{"$f":"IF('Replacement Cost Schedule'!I52<>\"\",'Replacement Cost Schedule'!I52,\"\")","v":""},{"$f":"IF('Replacement Cost Schedule'!J52<>\"\",'Replacement Cost Schedule'!J52,\"\")","v":""},{"$f":"IF('Replacement Cost Schedule'!K52<>\"\",'Replacement Cost Schedule'!K52,\"\")","v":""},{"$f":"IF('Replacement Cost Schedule'!L52<>\"\",'Replacement Cost Schedule'!L52,\"\")","v":""},{"$f":"IF('Replacement Cost Schedule'!M52<>\"\",'Replacement Cost Schedule'!M52,\"\")","v":""},{"$f":"IF('Replacement Cost Schedule'!N52<>\"\",'Replacement Cost Schedule'!N52,\"\")","v":""},{"$f":"IF('Replacement Cost Schedule'!O52<>\"\",'Replacement Cost Schedule'!O52,\"\")","v":""},{"$f":"IF('Replacement Cost Schedule'!P52<>\"\",'Replacement Cost Schedule'!P52,\"\")","v":""},{"$f":"IF('Replacement Cost Schedule'!Q52<>\"\",'Replacement Cost Schedule'!Q52,\"\")","v":""},{"$f":"IF('Replacement Cost Schedule'!R52<>\"\",'Replacement Cost Schedule'!R52,\"\")","v":""},{"$f":"IF('Replacement Cost Schedule'!S52<>\"\",'Replacement Cost Schedule'!S52,\"\")","v":""},null,{"$f":"IF('Replacement Cost Schedule'!C52<>\"\",'Replacement Cost Schedule'!C52,\"\")","v":""},{"$f":"IF('Replacement Cost Schedule'!T52<>\"\",'Replacement Cost Schedule'!T52,\"\")","v":""},{"$f":"IF('Replacement Cost Schedule'!U52<>\"\",'Replacement Cost Schedule'!U52,\"\")","v":""},{"$f":"IF('Replacement Cost Schedule'!V52<>\"\",'Replacement Cost Schedule'!V52,\"\")","v":""},{"$f":"IF('Replacement Cost Schedule'!W52<>\"\",'Replacement Cost Schedule'!W52,\"\")","v":""},{"$f":"IF('Replacement Cost Schedule'!X52<>\"\",'Replacement Cost Schedule'!X52,\"\")","v":""},{"$f":"IF('Replacement Cost Schedule'!Y52<>\"\",'Replacement Cost Schedule'!Y52,\"\")","v":""},{"$f":"IF('Replacement Cost Schedule'!Z52<>\"\",'Replacement Cost Schedule'!Z52,\"\")","v":""},{"$f":"IF('Replacement Cost Schedule'!AA52<>\"\",'Replacement Cost Schedule'!AA52,\"\")","v":""},{"$f":"IF('Replacement Cost Schedule'!AB52<>\"\",'Replacement Cost Schedule'!AB52,\"\")","v":""},{"$f":"IF('Replacement Cost Schedule'!AC52<>\"\",'Replacement Cost Schedule'!AC52,\"\")","v":""},{"$f":"IF('Replacement Cost Schedule'!AD52<>\"\",'Replacement Cost Schedule'!AD52,\"\")","v":""},{"$f":"IF('Replacement Cost Schedule'!AE52<>\"\",'Replacement Cost Schedule'!AE52,\"\")","v":""},{"$f":"IF('Replacement Cost Schedule'!AF52<>\"\",'Replacement Cost Schedule'!AF52,\"\")","v":""},0]
[null,null,{"$f":"IF('Replacement Cost Schedule'!C53<>\"\",'Replacement Cost Schedule'!C53,\"\")","v":""},{"$f":"IF('Replacement Cost Schedule'!D53<>\"\",'Replacement Cost Schedule'!D53,\"\")","v":""},{"$f":"IF('Replacement Cost Schedule'!E53<>\"\",'Replacement Cost Schedule'!E53,\"\")","v":""},{"$f":"IF('Replacement Cost Schedule'!F53<>\"\",'Replacement Cost Schedule'!F53,\"\")","v":""},{"$f":"IF('Replacement Cost Schedule'!G53<>\"\",'Replacement Cost Schedule'!G53,\"\")","v":""},{"$f":"IF('Replacement Cost Schedule'!H53<>\"\",'Replacement Cost Schedule'!H53,\"\")","v":""},{"$f":"IF('Replacement Cost Schedule'!I53<>\"\",'Replacement Cost Schedule'!I53,\"\")","v":""},{"$f":"IF('Replacement Cost Schedule'!J53<>\"\",'Replacement Cost Schedule'!J53,\"\")","v":""},{"$f":"IF('Replacement Cost Schedule'!K53<>\"\",'Replacement Cost Schedule'!K53,\"\")","v":""},{"$f":"IF('Replacement Cost Schedule'!L53<>\"\",'Replacement Cost Schedule'!L53,\"\")","v":""},{"$f":"IF('Replacement Cost Schedule'!M53<>\"\",'Replacement Cost Schedule'!M53,\"\")","v":""},{"$f":"IF('Replacement Cost Schedule'!N53<>\"\",'Replacement Cost Schedule'!N53,\"\")","v":""},{"$f":"IF('Replacement Cost Schedule'!O53<>\"\",'Replacement Cost Schedule'!O53,\"\")","v":""},{"$f":"IF('Replacement Cost Schedule'!P53<>\"\",'Replacement Cost Schedule'!P53,\"\")","v":""},{"$f":"IF('Replacement Cost Schedule'!Q53<>\"\",'Replacement Cost Schedule'!Q53,\"\")","v":""},{"$f":"IF('Replacement Cost Schedule'!R53<>\"\",'Replacement Cost Schedule'!R53,\"\")","v":""},{"$f":"IF('Replacement Cost Schedule'!S53<>\"\",'Replacement Cost Schedule'!S53,\"\")","v":""},null,{"$f":"IF('Replacement Cost Schedule'!C53<>\"\",'Replacement Cost Schedule'!C53,\"\")","v":""},{"$f":"IF('Replacement Cost Schedule'!T53<>\"\",'Replacement Cost Schedule'!T53,\"\")","v":""},{"$f":"IF('Replacement Cost Schedule'!U53<>\"\",'Replacement Cost Schedule'!U53,\"\")","v":""},{"$f":"IF('Replacement Cost Schedule'!V53<>\"\",'Replacement Cost Schedule'!V53,\"\")","v":""},{"$f":"IF('Replacement Cost Schedule'!W53<>\"\",'Replacement Cost Schedule'!W53,\"\")","v":""},{"$f":"IF('Replacement Cost Schedule'!X53<>\"\",'Replacement Cost Schedule'!X53,\"\")","v":""},{"$f":"IF('Replacement Cost Schedule'!Y53<>\"\",'Replacement Cost Schedule'!Y53,\"\")","v":""},{"$f":"IF('Replacement Cost Schedule'!Z53<>\"\",'Replacement Cost Schedule'!Z53,\"\")","v":""},{"$f":"IF('Replacement Cost Schedule'!AA53<>\"\",'Replacement Cost Schedule'!AA53,\"\")","v":""},{"$f":"IF('Replacement Cost Schedule'!AB53<>\"\",'Replacement Cost Schedule'!AB53,\"\")","v":""},{"$f":"IF('Replacement Cost Schedule'!AC53<>\"\",'Replacement Cost Schedule'!AC53,\"\")","v":""},{"$f":"IF('Replacement Cost Schedule'!AD53<>\"\",'Replacement Cost Schedule'!AD53,\"\")","v":""},{"$f":"IF('Replacement Cost Schedule'!AE53<>\"\",'Replacement Cost Schedule'!AE53,\"\")","v":""},{"$f":"IF('Replacement Cost Schedule'!AF53<>\"\",'Replacement Cost Schedule'!AF53,\"\")","v":""},0]
[null,null,{"$f":"IF('Replacement Cost Schedule'!C54<>\"\",'Replacement Cost Schedule'!C54,\"\")","v":""},{"$f":"IF('Replacement Cost Schedule'!D54<>\"\",'Replacement Cost Schedule'!D54,\"\")","v":""},{"$f":"IF('Replacement Cost Schedule'!E54<>\"\",'Replacement Cost Schedule'!E54,\"\")","v":""},{"$f":"IF('Replacement Cost Schedule'!F54<>\"\",'Replacement Cost Schedule'!F54,\"\")","v":""},{"$f":"IF('Replacement Cost Schedule'!G54<>\"\",'Replacement Cost Schedule'!G54,\"\")","v":""},{"$f":"IF('Replacement Cost Schedule'!H54<>\"\",'Replacement Cost Schedule'!H54,\"\")","v":""},{"$f":"IF('Replacement Cost Schedule'!I54<>\"\",'Replacement Cost Schedule'!I54,\"\")","v":""},{"$f":"IF('Replacement Cost Schedule'!J54<>\"\",'Replacement Cost Schedule'!J54,\"\")","v":""},{"$f":"IF('Replacement Cost Schedule'!K54<>\"\",'Replacement Cost Schedule'!K54,\"\")","v":""},{"$f":"IF('Replacement Cost Schedule'!L54<>\"\",'Replacement Cost Schedule'!L54,\"\")","v":""},{"$f":"IF('Replacement Cost Schedule'!M54<>\"\",'Replacement Cost Schedule'!M54,\"\")","v":""},{"$f":"IF('Replacement Cost Schedule'!N54<>\"\",'Replacement Cost Schedule'!N54,\"\")","v":""},{"$f":"IF('Replacement Cost Schedule'!O54<>\"\",'Replacement Cost Schedule'!O54,\"\")","v":""},{"$f":"IF('Replacement Cost Schedule'!P54<>\"\",'Replacement Cost Schedule'!P54,\"\")","v":""},{"$f":"IF('Replacement Cost Schedule'!Q54<>\"\",'Replacement Cost Schedule'!Q54,\"\")","v":""},{"$f":"IF('Replacement Cost Schedule'!R54<>\"\",'Replacement Cost Schedule'!R54,\"\")","v":""},{"$f":"IF('Replacement Cost Schedule'!S54<>\"\",'Replacement Cost Schedule'!S54,\"\")","v":""},null,{"$f":"IF('Replacement Cost Schedule'!C54<>\"\",'Replacement Cost Schedule'!C54,\"\")","v":""},{"$f":"IF('Replacement Cost Schedule'!T54<>\"\",'Replacement Cost Schedule'!T54,\"\")","v":""},{"$f":"IF('Replacement Cost Schedule'!U54<>\"\",'Replacement Cost Schedule'!U54,\"\")","v":""},{"$f":"IF('Replacement Cost Schedule'!V54<>\"\",'Replacement Cost Schedule'!V54,\"\")","v":""},{"$f":"IF('Replacement Cost Schedule'!W54<>\"\",'Replacement Cost Schedule'!W54,\"\")","v":""},{"$f":"IF('Replacement Cost Schedule'!X54<>\"\",'Replacement Cost Schedule'!X54,\"\")","v":""},{"$f":"IF('Replacement Cost Schedule'!Y54<>\"\",'Replacement Cost Schedule'!Y54,\"\")","v":""},{"$f":"IF('Replacement Cost Schedule'!Z54<>\"\",'Replacement Cost Schedule'!Z54,\"\")","v":""},{"$f":"IF('Replacement Cost Schedule'!AA54<>\"\",'Replacement Cost Schedule'!AA54,\"\")","v":""},{"$f":"IF('Replacement Cost Schedule'!AB54<>\"\",'Replacement Cost Schedule'!AB54,\"\")","v":""},{"$f":"IF('Replacement Cost Schedule'!AC54<>\"\",'Replacement Cost Schedule'!AC54,\"\")","v":""},{"$f":"IF('Replacement Cost Schedule'!AD54<>\"\",'Replacement Cost Schedule'!AD54,\"\")","v":""},{"$f":"IF('Replacement Cost Schedule'!AE54<>\"\",'Replacement Cost Schedule'!AE54,\"\")","v":""},{"$f":"IF('Replacement Cost Schedule'!AF54<>\"\",'Replacement Cost Schedule'!AF54,\"\")","v":""},0]
[null,null,{"$f":"IF('Replacement Cost Schedule'!C55<>\"\",'Replacement Cost Schedule'!C55,\"\")","v":""},{"$f":"IF('Replacement Cost Schedule'!D55<>\"\",'Replacement Cost Schedule'!D55,\"\")","v":""},{"$f":"IF('Replacement Cost Schedule'!E55<>\"\",'Replacement Cost Schedule'!E55,\"\")","v":""},{"$f":"IF('Replacement Cost Schedule'!F55<>\"\",'Replacement Cost Schedule'!F55,\"\")","v":""},{"$f":"IF('Replacement Cost Schedule'!G55<>\"\",'Replacement Cost Schedule'!G55,\"\")","v":""},{"$f":"IF('Replacement Cost Schedule'!H55<>\"\",'Replacement Cost Schedule'!H55,\"\")","v":""},{"$f":"IF('Replacement Cost Schedule'!I55<>\"\",'Replacement Cost Schedule'!I55,\"\")","v":""},{"$f":"IF('Replacement Cost Schedule'!J55<>\"\",'Replacement Cost Schedule'!J55,\"\")","v":""},{"$f":"IF('Replacement Cost Schedule'!K55<>\"\",'Replacement Cost Schedule'!K55,\"\")","v":""},{"$f":"IF('Replacement Cost Schedule'!L55<>\"\",'Replacement Cost Schedule'!L55,\"\")","v":""},{"$f":"IF('Replacement Cost Schedule'!M55<>\"\",'Replacement Cost Schedule'!M55,\"\")","v":""},{"$f":"IF('Replacement Cost Schedule'!N55<>\"\",'Replacement Cost Schedule'!N55,\"\")","v":""},{"$f":"IF('Replacement Cost Schedule'!O55<>\"\",'Replacement Cost Schedule'!O55,\"\")","v":""},{"$f":"IF('Replacement Cost Schedule'!P55<>\"\",'Replacement Cost Schedule'!P55,\"\")","v":""},{"$f":"IF('Replacement Cost Schedule'!Q55<>\"\",'Replacement Cost Schedule'!Q55,\"\")","v":""},{"$f":"IF('Replacement Cost Schedule'!R55<>\"\",'Replacement Cost Schedule'!R55,\"\")","v":""},{"$f":"IF('Replacement Cost Schedule'!S55<>\"\",'Replacement Cost Schedule'!S55,\"\")","v":""},null,{"$f":"IF('Replacement Cost Schedule'!C55<>\"\",'Replacement Cost Schedule'!C55,\"\")","v":""},{"$f":"IF('Replacement Cost Schedule'!T55<>\"\",'Replacement Cost Schedule'!T55,\"\")","v":""},{"$f":"IF('Replacement Cost Schedule'!U55<>\"\",'Replacement Cost Schedule'!U55,\"\")","v":""},{"$f":"IF('Replacement Cost Schedule'!V55<>\"\",'Replacement Cost Schedule'!V55,\"\")","v":""},{"$f":"IF('Replacement Cost Schedule'!W55<>\"\",'Replacement Cost Schedule'!W55,\"\")","v":""},{"$f":"IF('Replacement Cost Schedule'!X55<>\"\",'Replacement Cost Schedule'!X55,\"\")","v":""},{"$f":"IF('Replacement Cost Schedule'!Y55<>\"\",'Replacement Cost Schedule'!Y55,\"\")","v":""},{"$f":"IF('Replacement Cost Schedule'!Z55<>\"\",'Replacement Cost Schedule'!Z55,\"\")","v":""},{"$f":"IF('Replacement Cost Schedule'!AA55<>\"\",'Replacement Cost Schedule'!AA55,\"\")","v":""},{"$f":"IF('Replacement Cost Schedule'!AB55<>\"\",'Replacement Cost Schedule'!AB55,\"\")","v":""},{"$f":"IF('Replacement Cost Schedule'!AC55<>\"\",'Replacement Cost Schedule'!AC55,\"\")","v":""},{"$f":"IF('Replacement Cost Schedule'!AD55<>\"\",'Replacement Cost Schedule'!AD55,\"\")","v":""},{"$f":"IF('Replacement Cost Schedule'!AE55<>\"\",'Replacement Cost Schedule'!AE55,\"\")","v":""},{"$f":"IF('Replacement Cost Schedule'!AF55<>\"\",'Replacement Cost Schedule'!AF55,\"\")","v":""},0]
[null,null,{"$f":"IF('Replacement Cost Schedule'!C56<>\"\",'Replacement Cost Schedule'!C56,\"\")","v":""},{"$f":"IF('Replacement Cost Schedule'!D56<>\"\",'Replacement Cost Schedule'!D56,\"\")","v":""},{"$f":"IF('Replacement Cost Schedule'!E56<>\"\",'Replacement Cost Schedule'!E56,\"\")","v":""},{"$f":"IF('Replacement Cost Schedule'!F56<>\"\",'Replacement Cost Schedule'!F56,\"\")","v":""},{"$f":"IF('Replacement Cost Schedule'!G56<>\"\",'Replacement Cost Schedule'!G56,\"\")","v":""},{"$f":"IF('Replacement Cost Schedule'!H56<>\"\",'Replacement Cost Schedule'!H56,\"\")","v":""},{"$f":"IF('Replacement Cost Schedule'!I56<>\"\",'Replacement Cost Schedule'!I56,\"\")","v":""},{"$f":"IF('Replacement Cost Schedule'!J56<>\"\",'Replacement Cost Schedule'!J56,\"\")","v":""},{"$f":"IF('Replacement Cost Schedule'!K56<>\"\",'Replacement Cost Schedule'!K56,\"\")","v":""},{"$f":"IF('Replacement Cost Schedule'!L56<>\"\",'Replacement Cost Schedule'!L56,\"\")","v":""},{"$f":"IF('Replacement Cost Schedule'!M56<>\"\",'Replacement Cost Schedule'!M56,\"\")","v":""},{"$f":"IF('Replacement Cost Schedule'!N56<>\"\",'Replacement Cost Schedule'!N56,\"\")","v":""},{"$f":"IF('Replacement Cost Schedule'!O56<>\"\",'Replacement Cost Schedule'!O56,\"\")","v":""},{"$f":"IF('Replacement Cost Schedule'!P56<>\"\",'Replacement Cost Schedule'!P56,\"\")","v":""},{"$f":"IF('Replacement Cost Schedule'!Q56<>\"\",'Replacement Cost Schedule'!Q56,\"\")","v":""},{"$f":"IF('Replacement Cost Schedule'!R56<>\"\",'Replacement Cost Schedule'!R56,\"\")","v":""},{"$f":"IF('Replacement Cost Schedule'!S56<>\"\",'Replacement Cost Schedule'!S56,\"\")","v":""},null,{"$f":"IF('Replacement Cost Schedule'!C56<>\"\",'Replacement Cost Schedule'!C56,\"\")","v":""},{"$f":"IF('Replacement Cost Schedule'!T56<>\"\",'Replacement Cost Schedule'!T56,\"\")","v":""},{"$f":"IF('Replacement Cost Schedule'!U56<>\"\",'Replacement Cost Schedule'!U56,\"\")","v":""},{"$f":"IF('Replacement Cost Schedule'!V56<>\"\",'Replacement Cost Schedule'!V56,\"\")","v":""},{"$f":"IF('Replacement Cost Schedule'!W56<>\"\",'Replacement Cost Schedule'!W56,\"\")","v":""},{"$f":"IF('Replacement Cost Schedule'!X56<>\"\",'Replacement Cost Schedule'!X56,\"\")","v":""},{"$f":"IF('Replacement Cost Schedule'!Y56<>\"\",'Replacement Cost Schedule'!Y56,\"\")","v":""},{"$f":"IF('Replacement Cost Schedule'!Z56<>\"\",'Replacement Cost Schedule'!Z56,\"\")","v":""},{"$f":"IF('Replacement Cost Schedule'!AA56<>\"\",'Replacement Cost Schedule'!AA56,\"\")","v":""},{"$f":"IF('Replacement Cost Schedule'!AB56<>\"\",'Replacement Cost Schedule'!AB56,\"\")","v":""},{"$f":"IF('Replacement Cost Schedule'!AC56<>\"\",'Replacement Cost Schedule'!AC56,\"\")","v":""},{"$f":"IF('Replacement Cost Schedule'!AD56<>\"\",'Replacement Cost Schedule'!AD56,\"\")","v":""},{"$f":"IF('Replacement Cost Schedule'!AE56<>\"\",'Replacement Cost Schedule'!AE56,\"\")","v":""},{"$f":"IF('Replacement Cost Schedule'!AF56<>\"\",'Replacement Cost Schedule'!AF56,\"\")","v":""},0]
[null,null,{"$f":"IF('Replacement Cost Schedule'!C57<>\"\",'Replacement Cost Schedule'!C57,\"\")","v":""},{"$f":"IF('Replacement Cost Schedule'!D57<>\"\",'Replacement Cost Schedule'!D57,\"\")","v":""},{"$f":"IF('Replacement Cost Schedule'!E57<>\"\",'Replacement Cost Schedule'!E57,\"\")","v":""},{"$f":"IF('Replacement Cost Schedule'!F57<>\"\",'Replacement Cost Schedule'!F57,\"\")","v":""},{"$f":"IF('Replacement Cost Schedule'!G57<>\"\",'Replacement Cost Schedule'!G57,\"\")","v":""},{"$f":"IF('Replacement Cost Schedule'!H57<>\"\",'Replacement Cost Schedule'!H57,\"\")","v":""},{"$f":"IF('Replacement Cost Schedule'!I57<>\"\",'Replacement Cost Schedule'!I57,\"\")","v":""},{"$f":"IF('Replacement Cost Schedule'!J57<>\"\",'Replacement Cost Schedule'!J57,\"\")","v":""},{"$f":"IF('Replacement Cost Schedule'!K57<>\"\",'Replacement Cost Schedule'!K57,\"\")","v":""},{"$f":"IF('Replacement Cost Schedule'!L57<>\"\",'Replacement Cost Schedule'!L57,\"\")","v":""},{"$f":"IF('Replacement Cost Schedule'!M57<>\"\",'Replacement Cost Schedule'!M57,\"\")","v":""},{"$f":"IF('Replacement Cost Schedule'!N57<>\"\",'Replacement Cost Schedule'!N57,\"\")","v":""},{"$f":"IF('Replacement Cost Schedule'!O57<>\"\",'Replacement Cost Schedule'!O57,\"\")","v":""},{"$f":"IF('Replacement Cost Schedule'!P57<>\"\",'Replacement Cost Schedule'!P57,\"\")","v":""},{"$f":"IF('Replacement Cost Schedule'!Q57<>\"\",'Replacement Cost Schedule'!Q57,\"\")","v":""},{"$f":"IF('Replacement Cost Schedule'!R57<>\"\",'Replacement Cost Schedule'!R57,\"\")","v":""},{"$f":"IF('Replacement Cost Schedule'!S57<>\"\",'Replacement Cost Schedule'!S57,\"\")","v":""},null,{"$f":"IF('Replacement Cost Schedule'!C57<>\"\",'Replacement Cost Schedule'!C57,\"\")","v":""},{"$f":"IF('Replacement Cost Schedule'!T57<>\"\",'Replacement Cost Schedule'!T57,\"\")","v":""},{"$f":"IF('Replacement Cost Schedule'!U57<>\"\",'Replacement Cost Schedule'!U57,\"\")","v":""},{"$f":"IF('Replacement Cost Schedule'!V57<>\"\",'Replacement Cost Schedule'!V57,\"\")","v":""},{"$f":"IF('Replacement Cost Schedule'!W57<>\"\",'Replacement Cost Schedule'!W57,\"\")","v":""},{"$f":"IF('Replacement Cost Schedule'!X57<>\"\",'Replacement Cost Schedule'!X57,\"\")","v":""},{"$f":"IF('Replacement Cost Schedule'!Y57<>\"\",'Replacement Cost Schedule'!Y57,\"\")","v":""},{"$f":"IF('Replacement Cost Schedule'!Z57<>\"\",'Replacement Cost Schedule'!Z57,\"\")","v":""},{"$f":"IF('Replacement Cost Schedule'!AA57<>\"\",'Replacement Cost Schedule'!AA57,\"\")","v":""},{"$f":"IF('Replacement Cost Schedule'!AB57<>\"\",'Replacement Cost Schedule'!AB57,\"\")","v":""},{"$f":"IF('Replacement Cost Schedule'!AC57<>\"\",'Replacement Cost Schedule'!AC57,\"\")","v":""},{"$f":"IF('Replacement Cost Schedule'!AD57<>\"\",'Replacement Cost Schedule'!AD57,\"\")","v":""},{"$f":"IF('Replacement Cost Schedule'!AE57<>\"\",'Replacement Cost Schedule'!AE57,\"\")","v":""},{"$f":"IF('Replacement Cost Schedule'!AF57<>\"\",'Replacement Cost Schedule'!AF57,\"\")","v":""},0]
[null,null,{"$f":"IF('Replacement Cost Schedule'!C58<>\"\",'Replacement Cost Schedule'!C58,\"\")","v":""},{"$f":"IF('Replacement Cost Schedule'!D58<>\"\",'Replacement Cost Schedule'!D58,\"\")","v":""},{"$f":"IF('Replacement Cost Schedule'!E58<>\"\",'Replacement Cost Schedule'!E58,\"\")","v":""},{"$f":"IF('Replacement Cost Schedule'!F58<>\"\",'Replacement Cost Schedule'!F58,\"\")","v":""},{"$f":"IF('Replacement Cost Schedule'!G58<>\"\",'Replacement Cost Schedule'!G58,\"\")","v":""},{"$f":"IF('Replacement Cost Schedule'!H58<>\"\",'Replacement Cost Schedule'!H58,\"\")","v":""},{"$f":"IF('Replacement Cost Schedule'!I58<>\"\",'Replacement Cost Schedule'!I58,\"\")","v":""},{"$f":"IF('Replacement Cost Schedule'!J58<>\"\",'Replacement Cost Schedule'!J58,\"\")","v":""},{"$f":"IF('Replacement Cost Schedule'!K58<>\"\",'Replacement Cost Schedule'!K58,\"\")","v":""},{"$f":"IF('Replacement Cost Schedule'!L58<>\"\",'Replacement Cost Schedule'!L58,\"\")","v":""},{"$f":"IF('Replacement Cost Schedule'!M58<>\"\",'Replacement Cost Schedule'!M58,\"\")","v":""},{"$f":"IF('Replacement Cost Schedule'!N58<>\"\",'Replacement Cost Schedule'!N58,\"\")","v":""},{"$f":"IF('Replacement Cost Schedule'!O58<>\"\",'Replacement Cost Schedule'!O58,\"\")","v":""},{"$f":"IF('Replacement Cost Schedule'!P58<>\"\",'Replacement Cost Schedule'!P58,\"\")","v":""},{"$f":"IF('Replacement Cost Schedule'!Q58<>\"\",'Replacement Cost Schedule'!Q58,\"\")","v":""},{"$f":"IF('Replacement Cost Schedule'!R58<>\"\",'Replacement Cost Schedule'!R58,\"\")","v":""},{"$f":"IF('Replacement Cost Schedule'!S58<>\"\",'Replacement Cost Schedule'!S58,\"\")","v":""},null,{"$f":"IF('Replacement Cost Schedule'!C58<>\"\",'Replacement Cost Schedule'!C58,\"\")","v":""},{"$f":"IF('Replacement Cost Schedule'!T58<>\"\",'Replacement Cost Schedule'!T58,\"\")","v":""},{"$f":"IF('Replacement Cost Schedule'!U58<>\"\",'Replacement Cost Schedule'!U58,\"\")","v":""},{"$f":"IF('Replacement Cost Schedule'!V58<>\"\",'Replacement Cost Schedule'!V58,\"\")","v":""},{"$f":"IF('Replacement Cost Schedule'!W58<>\"\",'Replacement Cost Schedule'!W58,\"\")","v":""},{"$f":"IF('Replacement Cost Schedule'!X58<>\"\",'Replacement Cost Schedule'!X58,\"\")","v":""},{"$f":"IF('Replacement Cost Schedule'!Y58<>\"\",'Replacement Cost Schedule'!Y58,\"\")","v":""},{"$f":"IF('Replacement Cost Schedule'!Z58<>\"\",'Replacement Cost Schedule'!Z58,\"\")","v":""},{"$f":"IF('Replacement Cost Schedule'!AA58<>\"\",'Replacement Cost Schedule'!AA58,\"\")","v":""},{"$f":"IF('Replacement Cost Schedule'!AB58<>\"\",'Replacement Cost Schedule'!AB58,\"\")","v":""},{"$f":"IF('Replacement Cost Schedule'!AC58<>\"\",'Replacement Cost Schedule'!AC58,\"\")","v":""},{"$f":"IF('Replacement Cost Schedule'!AD58<>\"\",'Replacement Cost Schedule'!AD58,\"\")","v":""},{"$f":"IF('Replacement Cost Schedule'!AE58<>\"\",'Replacement Cost Schedule'!AE58,\"\")","v":""},{"$f":"IF('Replacement Cost Schedule'!AF58<>\"\",'Replacement Cost Schedule'!AF58,\"\")","v":""},0]
[null,null,{"$f":"IF('Replacement Cost Schedule'!C59<>\"\",'Replacement Cost Schedule'!C59,\"\")","v":""},{"$f":"IF('Replacement Cost Schedule'!D59<>\"\",'Replacement Cost Schedule'!D59,\"\")","v":""},{"$f":"IF('Replacement Cost Schedule'!E59<>\"\",'Replacement Cost Schedule'!E59,\"\")","v":""},{"$f":"IF('Replacement Cost Schedule'!F59<>\"\",'Replacement Cost Schedule'!F59,\"\")","v":""},{"$f":"IF('Replacement Cost Schedule'!G59<>\"\",'Replacement Cost Schedule'!G59,\"\")","v":""},{"$f":"IF('Replacement Cost Schedule'!H59<>\"\",'Replacement Cost Schedule'!H59,\"\")","v":""},{"$f":"IF('Replacement Cost Schedule'!I59<>\"\",'Replacement Cost Schedule'!I59,\"\")","v":""},{"$f":"IF('Replacement Cost Schedule'!J59<>\"\",'Replacement Cost Schedule'!J59,\"\")","v":""},{"$f":"IF('Replacement Cost Schedule'!K59<>\"\",'Replacement Cost Schedule'!K59,\"\")","v":""},{"$f":"IF('Replacement Cost Schedule'!L59<>\"\",'Replacement Cost Schedule'!L59,\"\")","v":""},{"$f":"IF('Replacement Cost Schedule'!M59<>\"\",'Replacement Cost Schedule'!M59,\"\")","v":""},{"$f":"IF('Replacement Cost Schedule'!N59<>\"\",'Replacement Cost Schedule'!N59,\"\")","v":""},{"$f":"IF('Replacement Cost Schedule'!O59<>\"\",'Replacement Cost Schedule'!O59,\"\")","v":""},{"$f":"IF('Replacement Cost Schedule'!P59<>\"\",'Replacement Cost Schedule'!P59,\"\")","v":""},{"$f":"IF('Replacement Cost Schedule'!Q59<>\"\",'Replacement Cost Schedule'!Q59,\"\")","v":""},{"$f":"IF('Replacement Cost Schedule'!R59<>\"\",'Replacement Cost Schedule'!R59,\"\")","v":""},{"$f":"IF('Replacement Cost Schedule'!S59<>\"\",'Replacement Cost Schedule'!S59,\"\")","v":""},null,{"$f":"IF('Replacement Cost Schedule'!C59<>\"\",'Replacement Cost Schedule'!C59,\"\")","v":""},{"$f":"IF('Replacement Cost Schedule'!T59<>\"\",'Replacement Cost Schedule'!T59,\"\")","v":""},{"$f":"IF('Replacement Cost Schedule'!U59<>\"\",'Replacement Cost Schedule'!U59,\"\")","v":""},{"$f":"IF('Replacement Cost Schedule'!V59<>\"\",'Replacement Cost Schedule'!V59,\"\")","v":""},{"$f":"IF('Replacement Cost Schedule'!W59<>\"\",'Replacement Cost Schedule'!W59,\"\")","v":""},{"$f":"IF('Replacement Cost Schedule'!X59<>\"\",'Replacement Cost Schedule'!X59,\"\")","v":""},{"$f":"IF('Replacement Cost Schedule'!Y59<>\"\",'Replacement Cost Schedule'!Y59,\"\")","v":""},{"$f":"IF('Replacement Cost Schedule'!Z59<>\"\",'Replacement Cost Schedule'!Z59,\"\")","v":""},{"$f":"IF('Replacement Cost Schedule'!AA59<>\"\",'Replacement Cost Schedule'!AA59,\"\")","v":""},{"$f":"IF('Replacement Cost Schedule'!AB59<>\"\",'Replacement Cost Schedule'!AB59,\"\")","v":""},{"$f":"IF('Replacement Cost Schedule'!AC59<>\"\",'Replacement Cost Schedule'!AC59,\"\")","v":""},{"$f":"IF('Replacement Cost Schedule'!AD59<>\"\",'Replacement Cost Schedule'!AD59,\"\")","v":""},{"$f":"IF('Replacement Cost Schedule'!AE59<>\"\",'Replacement Cost Schedule'!AE59,\"\")","v":""},{"$f":"IF('Replacement Cost Schedule'!AF59<>\"\",'Replacement Cost Schedule'!AF59,\"\")","v":""},0]
[null,null,{"$f":"IF('Replacement Cost Schedule'!C60<>\"\",'Replacement Cost Schedule'!C60,\"\")","v":""},{"$f":"IF('Replacement Cost Schedule'!D60<>\"\",'Replacement Cost Schedule'!D60,\"\")","v":""},{"$f":"IF('Replacement Cost Schedule'!E60<>\"\",'Replacement Cost Schedule'!E60,\"\")","v":""},{"$f":"IF('Replacement Cost Schedule'!F60<>\"\",'Replacement Cost Schedule'!F60,\"\")","v":""},{"$f":"IF('Replacement Cost Schedule'!G60<>\"\",'Replacement Cost Schedule'!G60,\"\")","v":""},{"$f":"IF('Replacement Cost Schedule'!H60<>\"\",'Replacement Cost Schedule'!H60,\"\")","v":""},{"$f":"IF('Replacement Cost Schedule'!I60<>\"\",'Replacement Cost Schedule'!I60,\"\")","v":""},{"$f":"IF('Replacement Cost Schedule'!J60<>\"\",'Replacement Cost Schedule'!J60,\"\")","v":""},{"$f":"IF('Replacement Cost Schedule'!K60<>\"\",'Replacement Cost Schedule'!K60,\"\")","v":""},{"$f":"IF('Replacement Cost Schedule'!L60<>\"\",'Replacement Cost Schedule'!L60,\"\")","v":""},{"$f":"IF('Replacement Cost Schedule'!M60<>\"\",'Replacement Cost Schedule'!M60,\"\")","v":""},{"$f":"IF('Replacement Cost Schedule'!N60<>\"\",'Replacement Cost Schedule'!N60,\"\")","v":""},{"$f":"IF('Replacement Cost Schedule'!O60<>\"\",'Replacement Cost Schedule'!O60,\"\")","v":""},{"$f":"IF('Replacement Cost Schedule'!P60<>\"\",'Replacement Cost Schedule'!P60,\"\")","v":""},{"$f":"IF('Replacement Cost Schedule'!Q60<>\"\",'Replacement Cost Schedule'!Q60,\"\")","v":""},{"$f":"IF('Replacement Cost Schedule'!R60<>\"\",'Replacement Cost Schedule'!R60,\"\")","v":""},{"$f":"IF('Replacement Cost Schedule'!S60<>\"\",'Replacement Cost Schedule'!S60,\"\")","v":""},null,{"$f":"IF('Replacement Cost Schedule'!C60<>\"\",'Replacement Cost Schedule'!C60,\"\")","v":""},{"$f":"IF('Replacement Cost Schedule'!T60<>\"\",'Replacement Cost Schedule'!T60,\"\")","v":""},{"$f":"IF('Replacement Cost Schedule'!U60<>\"\",'Replacement Cost Schedule'!U60,\"\")","v":""},{"$f":"IF('Replacement Cost Schedule'!V60<>\"\",'Replacement Cost Schedule'!V60,\"\")","v":""},{"$f":"IF('Replacement Cost Schedule'!W60<>\"\",'Replacement Cost Schedule'!W60,\"\")","v":""},{"$f":"IF('Replacement Cost Schedule'!X60<>\"\",'Replacement Cost Schedule'!X60,\"\")","v":""},{"$f":"IF('Replacement Cost Schedule'!Y60<>\"\",'Replacement Cost Schedule'!Y60,\"\")","v":""},{"$f":"IF('Replacement Cost Schedule'!Z60<>\"\",'Replacement Cost Schedule'!Z60,\"\")","v":""},{"$f":"IF('Replacement Cost Schedule'!AA60<>\"\",'Replacement Cost Schedule'!AA60,\"\")","v":""},{"$f":"IF('Replacement Cost Schedule'!AB60<>\"\",'Replacement Cost Schedule'!AB60,\"\")","v":""},{"$f":"IF('Replacement Cost Schedule'!AC60<>\"\",'Replacement Cost Schedule'!AC60,\"\")","v":""},{"$f":"IF('Replacement Cost Schedule'!AD60<>\"\",'Replacement Cost Schedule'!AD60,\"\")","v":""},{"$f":"IF('Replacement Cost Schedule'!AE60<>\"\",'Replacement Cost Schedule'!AE60,\"\")","v":""},{"$f":"IF('Replacement Cost Schedule'!AF60<>\"\",'Replacement Cost Schedule'!AF60,\"\")","v":""},0]
[null,null,{"$f":"IF('Replacement Cost Schedule'!C61<>\"\",'Replacement Cost Schedule'!C61,\"\")","v":""},{"$f":"IF('Replacement Cost Schedule'!D61<>\"\",'Replacement Cost Schedule'!D61,\"\")","v":""},{"$f":"IF('Replacement Cost Schedule'!E61<>\"\",'Replacement Cost Schedule'!E61,\"\")","v":""},{"$f":"IF('Replacement Cost Schedule'!F61<>\"\",'Replacement Cost Schedule'!F61,\"\")","v":""},{"$f":"IF('Replacement Cost Schedule'!G61<>\"\",'Replacement Cost Schedule'!G61,\"\")","v":""},{"$f":"IF('Replacement Cost Schedule'!H61<>\"\",'Replacement Cost Schedule'!H61,\"\")","v":""},{"$f":"IF('Replacement Cost Schedule'!I61<>\"\",'Replacement Cost Schedule'!I61,\"\")","v":""},{"$f":"IF('Replacement Cost Schedule'!J61<>\"\",'Replacement Cost Schedule'!J61,\"\")","v":""},{"$f":"IF('Replacement Cost Schedule'!K61<>\"\",'Replacement Cost Schedule'!K61,\"\")","v":""},{"$f":"IF('Replacement Cost Schedule'!L61<>\"\",'Replacement Cost Schedule'!L61,\"\")","v":""},{"$f":"IF('Replacement Cost Schedule'!M61<>\"\",'Replacement Cost Schedule'!M61,\"\")","v":""},{"$f":"IF('Replacement Cost Schedule'!N61<>\"\",'Replacement Cost Schedule'!N61,\"\")","v":""},{"$f":"IF('Replacement Cost Schedule'!O61<>\"\",'Replacement Cost Schedule'!O61,\"\")","v":""},{"$f":"IF('Replacement Cost Schedule'!P61<>\"\",'Replacement Cost Schedule'!P61,\"\")","v":""},{"$f":"IF('Replacement Cost Schedule'!Q61<>\"\",'Replacement Cost Schedule'!Q61,\"\")","v":""},{"$f":"IF('Replacement Cost Schedule'!R61<>\"\",'Replacement Cost Schedule'!R61,\"\")","v":""},{"$f":"IF('Replacement Cost Schedule'!S61<>\"\",'Replacement Cost Schedule'!S61,\"\")","v":""},null,{"$f":"IF('Replacement Cost Schedule'!C61<>\"\",'Replacement Cost Schedule'!C61,\"\")","v":""},{"$f":"IF('Replacement Cost Schedule'!T61<>\"\",'Replacement Cost Schedule'!T61,\"\")","v":""},{"$f":"IF('Replacement Cost Schedule'!U61<>\"\",'Replacement Cost Schedule'!U61,\"\")","v":""},{"$f":"IF('Replacement Cost Schedule'!V61<>\"\",'Replacement Cost Schedule'!V61,\"\")","v":""},{"$f":"IF('Replacement Cost Schedule'!W61<>\"\",'Replacement Cost Schedule'!W61,\"\")","v":""},{"$f":"IF('Replacement Cost Schedule'!X61<>\"\",'Replacement Cost Schedule'!X61,\"\")","v":""},{"$f":"IF('Replacement Cost Schedule'!Y61<>\"\",'Replacement Cost Schedule'!Y61,\"\")","v":""},{"$f":"IF('Replacement Cost Schedule'!Z61<>\"\",'Replacement Cost Schedule'!Z61,\"\")","v":""},{"$f":"IF('Replacement Cost Schedule'!AA61<>\"\",'Replacement Cost Schedule'!AA61,\"\")","v":""},{"$f":"IF('Replacement Cost Schedule'!AB61<>\"\",'Replacement Cost Schedule'!AB61,\"\")","v":""},{"$f":"IF('Replacement Cost Schedule'!AC61<>\"\",'Replacement Cost Schedule'!AC61,\"\")","v":""},{"$f":"IF('Replacement Cost Schedule'!AD61<>\"\",'Replacement Cost Schedule'!AD61,\"\")","v":""},{"$f":"IF('Replacement Cost Schedule'!AE61<>\"\",'Replacement Cost Schedule'!AE61,\"\")","v":""},{"$f":"IF('Replacement Cost Schedule'!AF61<>\"\",'Replacement Cost Schedule'!AF61,\"\")","v":""},0]
[null,null,{"$f":"IF('Replacement Cost Schedule'!C62<>\"\",'Replacement Cost Schedule'!C62,\"\")","v":""},{"$f":"IF('Replacement Cost Schedule'!D62<>\"\",'Replacement Cost Schedule'!D62,\"\")","v":""},{"$f":"IF('Replacement Cost Schedule'!E62<>\"\",'Replacement Cost Schedule'!E62,\"\")","v":""},{"$f":"IF('Replacement Cost Schedule'!F62<>\"\",'Replacement Cost Schedule'!F62,\"\")","v":""},{"$f":"IF('Replacement Cost Schedule'!G62<>\"\",'Replacement Cost Schedule'!G62,\"\")","v":""},{"$f":"IF('Replacement Cost Schedule'!H62<>\"\",'Replacement Cost Schedule'!H62,\"\")","v":""},{"$f":"IF('Replacement Cost Schedule'!I62<>\"\",'Replacement Cost Schedule'!I62,\"\")","v":""},{"$f":"IF('Replacement Cost Schedule'!J62<>\"\",'Replacement Cost Schedule'!J62,\"\")","v":""},{"$f":"IF('Replacement Cost Schedule'!K62<>\"\",'Replacement Cost Schedule'!K62,\"\")","v":""},{"$f":"IF('Replacement Cost Schedule'!L62<>\"\",'Replacement Cost Schedule'!L62,\"\")","v":""},{"$f":"IF('Replacement Cost Schedule'!M62<>\"\",'Replacement Cost Schedule'!M62,\"\")","v":""},{"$f":"IF('Replacement Cost Schedule'!N62<>\"\",'Replacement Cost Schedule'!N62,\"\")","v":""},{"$f":"IF('Replacement Cost Schedule'!O62<>\"\",'Replacement Cost Schedule'!O62,\"\")","v":""},{"$f":"IF('Replacement Cost Schedule'!P62<>\"\",'Replacement Cost Schedule'!P62,\"\")","v":""},{"$f":"IF('Replacement Cost Schedule'!Q62<>\"\",'Replacement Cost Schedule'!Q62,\"\")","v":""},{"$f":"IF('Replacement Cost Schedule'!R62<>\"\",'Replacement Cost Schedule'!R62,\"\")","v":""},{"$f":"IF('Replacement Cost Schedule'!S62<>\"\",'Replacement Cost Schedule'!S62,\"\")","v":""},null,{"$f":"IF('Replacement Cost Schedule'!C62<>\"\",'Replacement Cost Schedule'!C62,\"\")","v":""},{"$f":"IF('Replacement Cost Schedule'!T62<>\"\",'Replacement Cost Schedule'!T62,\"\")","v":""},{"$f":"IF('Replacement Cost Schedule'!U62<>\"\",'Replacement Cost Schedule'!U62,\"\")","v":""},{"$f":"IF('Replacement Cost Schedule'!V62<>\"\",'Replacement Cost Schedule'!V62,\"\")","v":""},{"$f":"IF('Replacement Cost Schedule'!W62<>\"\",'Replacement Cost Schedule'!W62,\"\")","v":""},{"$f":"IF('Replacement Cost Schedule'!X62<>\"\",'Replacement Cost Schedule'!X62,\"\")","v":""},{"$f":"IF('Replacement Cost Schedule'!Y62<>\"\",'Replacement Cost Schedule'!Y62,\"\")","v":""},{"$f":"IF('Replacement Cost Schedule'!Z62<>\"\",'Replacement Cost Schedule'!Z62,\"\")","v":""},{"$f":"IF('Replacement Cost Schedule'!AA62<>\"\",'Replacement Cost Schedule'!AA62,\"\")","v":""},{"$f":"IF('Replacement Cost Schedule'!AB62<>\"\",'Replacement Cost Schedule'!AB62,\"\")","v":""},{"$f":"IF('Replacement Cost Schedule'!AC62<>\"\",'Replacement Cost Schedule'!AC62,\"\")","v":""},{"$f":"IF('Replacement Cost Schedule'!AD62<>\"\",'Replacement Cost Schedule'!AD62,\"\")","v":""},{"$f":"IF('Replacement Cost Schedule'!AE62<>\"\",'Replacement Cost Schedule'!AE62,\"\")","v":""},{"$f":"IF('Replacement Cost Schedule'!AF62<>\"\",'Replacement Cost Schedule'!AF62,\"\")","v":""},0]
[null,null,{"$f":"IF('Replacement Cost Schedule'!C63<>\"\",'Replacement Cost Schedule'!C63,\"\")","v":""},{"$f":"IF('Replacement Cost Schedule'!D63<>\"\",'Replacement Cost Schedule'!D63,\"\")","v":""},{"$f":"IF('Replacement Cost Schedule'!E63<>\"\",'Replacement Cost Schedule'!E63,\"\")","v":""},{"$f":"IF('Replacement Cost Schedule'!F63<>\"\",'Replacement Cost Schedule'!F63,\"\")","v":""},{"$f":"IF('Replacement Cost Schedule'!G63<>\"\",'Replacement Cost Schedule'!G63,\"\")","v":""},{"$f":"IF('Replacement Cost Schedule'!H63<>\"\",'Replacement Cost Schedule'!H63,\"\")","v":""},{"$f":"IF('Replacement Cost Schedule'!I63<>\"\",'Replacement Cost Schedule'!I63,\"\")","v":""},{"$f":"IF('Replacement Cost Schedule'!J63<>\"\",'Replacement Cost Schedule'!J63,\"\")","v":""},{"$f":"IF('Replacement Cost Schedule'!K63<>\"\",'Replacement Cost Schedule'!K63,\"\")","v":""},{"$f":"IF('Replacement Cost Schedule'!L63<>\"\",'Replacement Cost Schedule'!L63,\"\")","v":""},{"$f":"IF('Replacement Cost Schedule'!M63<>\"\",'Replacement Cost Schedule'!M63,\"\")","v":""},{"$f":"IF('Replacement Cost Schedule'!N63<>\"\",'Replacement Cost Schedule'!N63,\"\")","v":""},{"$f":"IF('Replacement Cost Schedule'!O63<>\"\",'Replacement Cost Schedule'!O63,\"\")","v":""},{"$f":"IF('Replacement Cost Schedule'!P63<>\"\",'Replacement Cost Schedule'!P63,\"\")","v":""},{"$f":"IF('Replacement Cost Schedule'!Q63<>\"\",'Replacement Cost Schedule'!Q63,\"\")","v":""},{"$f":"IF('Replacement Cost Schedule'!R63<>\"\",'Replacement Cost Schedule'!R63,\"\")","v":""},{"$f":"IF('Replacement Cost Schedule'!S63<>\"\",'Replacement Cost Schedule'!S63,\"\")","v":""},null,{"$f":"IF('Replacement Cost Schedule'!C63<>\"\",'Replacement Cost Schedule'!C63,\"\")","v":""},{"$f":"IF('Replacement Cost Schedule'!T63<>\"\",'Replacement Cost Schedule'!T63,\"\")","v":""},{"$f":"IF('Replacement Cost Schedule'!U63<>\"\",'Replacement Cost Schedule'!U63,\"\")","v":""},{"$f":"IF('Replacement Cost Schedule'!V63<>\"\",'Replacement Cost Schedule'!V63,\"\")","v":""},{"$f":"IF('Replacement Cost Schedule'!W63<>\"\",'Replacement Cost Schedule'!W63,\"\")","v":""},{"$f":"IF('Replacement Cost Schedule'!X63<>\"\",'Replacement Cost Schedule'!X63,\"\")","v":""},{"$f":"IF('Replacement Cost Schedule'!Y63<>\"\",'Replacement Cost Schedule'!Y63,\"\")","v":""},{"$f":"IF('Replacement Cost Schedule'!Z63<>\"\",'Replacement Cost Schedule'!Z63,\"\")","v":""},{"$f":"IF('Replacement Cost Schedule'!AA63<>\"\",'Replacement Cost Schedule'!AA63,\"\")","v":""},{"$f":"IF('Replacement Cost Schedule'!AB63<>\"\",'Replacement Cost Schedule'!AB63,\"\")","v":""},{"$f":"IF('Replacement Cost Schedule'!AC63<>\"\",'Replacement Cost Schedule'!AC63,\"\")","v":""},{"$f":"IF('Replacement Cost Schedule'!AD63<>\"\",'Replacement Cost Schedule'!AD63,\"\")","v":""},{"$f":"IF('Replacement Cost Schedule'!AE63<>\"\",'Replacement Cost Schedule'!AE63,\"\")","v":""},{"$f":"IF('Replacement Cost Schedule'!AF63<>\"\",'Replacement Cost Schedule'!AF63,\"\")","v":""},{"$f":"SUM(M63:S63,V63:AH63)","v":0}]
[null,null,{"$f":"IF('Replacement Cost Schedule'!C64<>\"\",'Replacement Cost Schedule'!C64,\"\")","v":""},{"$f":"IF('Replacement Cost Schedule'!D64<>\"\",'Replacement Cost Schedule'!D64,\"\")","v":""},{"$f":"IF('Replacement Cost Schedule'!E64<>\"\",'Replacement Cost Schedule'!E64,\"\")","v":""},{"$f":"IF('Replacement Cost Schedule'!F64<>\"\",'Replacement Cost Schedule'!F64,\"\")","v":""},{"$f":"IF('Replacement Cost Schedule'!G64<>\"\",'Replacement Cost Schedule'!G64,\"\")","v":""},{"$f":"IF('Replacement Cost Schedule'!H64<>\"\",'Replacement Cost Schedule'!H64,\"\")","v":""},{"$f":"IF('Replacement Cost Schedule'!I64<>\"\",'Replacement Cost Schedule'!I64,\"\")","v":""},{"$f":"IF('Replacement Cost Schedule'!J64<>\"\",'Replacement Cost Schedule'!J64,\"\")","v":""},{"$f":"IF('Replacement Cost Schedule'!K64<>\"\",'Replacement Cost Schedule'!K64,\"\")","v":""},{"$f":"IF('Replacement Cost Schedule'!L64<>\"\",'Replacement Cost Schedule'!L64,\"\")","v":""},{"$f":"IF('Replacement Cost Schedule'!M64<>\"\",'Replacement Cost Schedule'!M64,\"\")","v":""},{"$f":"IF('Replacement Cost Schedule'!N64<>\"\",'Replacement Cost Schedule'!N64,\"\")","v":""},{"$f":"IF('Replacement Cost Schedule'!O64<>\"\",'Replacement Cost Schedule'!O64,\"\")","v":""},{"$f":"IF('Replacement Cost Schedule'!P64<>\"\",'Replacement Cost Schedule'!P64,\"\")","v":""},{"$f":"IF('Replacement Cost Schedule'!Q64<>\"\",'Replacement Cost Schedule'!Q64,\"\")","v":""},{"$f":"IF('Replacement Cost Schedule'!R64<>\"\",'Replacement Cost Schedule'!R64,\"\")","v":""},{"$f":"IF('Replacement Cost Schedule'!S64<>\"\",'Replacement Cost Schedule'!S64,\"\")","v":""},null,{"$f":"IF('Replacement Cost Schedule'!C64<>\"\",'Replacement Cost Schedule'!C64,\"\")","v":""},{"$f":"IF('Replacement Cost Schedule'!T64<>\"\",'Replacement Cost Schedule'!T64,\"\")","v":""},{"$f":"IF('Replacement Cost Schedule'!U64<>\"\",'Replacement Cost Schedule'!U64,\"\")","v":""},{"$f":"IF('Replacement Cost Schedule'!V64<>\"\",'Replacement Cost Schedule'!V64,\"\")","v":""},{"$f":"IF('Replacement Cost Schedule'!W64<>\"\",'Replacement Cost Schedule'!W64,\"\")","v":""},{"$f":"IF('Replacement Cost Schedule'!X64<>\"\",'Replacement Cost Schedule'!X64,\"\")","v":""},{"$f":"IF('Replacement Cost Schedule'!Y64<>\"\",'Replacement Cost Schedule'!Y64,\"\")","v":""},{"$f":"IF('Replacement Cost Schedule'!Z64<>\"\",'Replacement Cost Schedule'!Z64,\"\")","v":""},{"$f":"IF('Replacement Cost Schedule'!AA64<>\"\",'Replacement Cost Schedule'!AA64,\"\")","v":""},{"$f":"IF('Replacement Cost Schedule'!AB64<>\"\",'Replacement Cost Schedule'!AB64,\"\")","v":""},{"$f":"IF('Replacement Cost Schedule'!AC64<>\"\",'Replacement Cost Schedule'!AC64,\"\")","v":""},{"$f":"IF('Replacement Cost Schedule'!AD64<>\"\",'Replacement Cost Schedule'!AD64,\"\")","v":""},{"$f":"IF('Replacement Cost Schedule'!AE64<>\"\",'Replacement Cost Schedule'!AE64,\"\")","v":""},{"$f":"IF('Replacement Cost Schedule'!AF64<>\"\",'Replacement Cost Schedule'!AF64,\"\")","v":""},0]
[null,null,{"$f":"IF('Replacement Cost Schedule'!C65<>\"\",'Replacement Cost Schedule'!C65,\"\")","v":""},{"$f":"IF('Replacement Cost Schedule'!D65<>\"\",'Replacement Cost Schedule'!D65,\"\")","v":""},{"$f":"IF('Replacement Cost Schedule'!E65<>\"\",'Replacement Cost Schedule'!E65,\"\")","v":""},{"$f":"IF('Replacement Cost Schedule'!F65<>\"\",'Replacement Cost Schedule'!F65,\"\")","v":""},{"$f":"IF('Replacement Cost Schedule'!G65<>\"\",'Replacement Cost Schedule'!G65,\"\")","v":""},{"$f":"IF('Replacement Cost Schedule'!H65<>\"\",'Replacement Cost Schedule'!H65,\"\")","v":""},{"$f":"IF('Replacement Cost Schedule'!I65<>\"\",'Replacement Cost Schedule'!I65,\"\")","v":""},{"$f":"IF('Replacement Cost Schedule'!J65<>\"\",'Replacement Cost Schedule'!J65,\"\")","v":""},{"$f":"IF('Replacement Cost Schedule'!K65<>\"\",'Replacement Cost Schedule'!K65,\"\")","v":""},{"$f":"IF('Replacement Cost Schedule'!L65<>\"\",'Replacement Cost Schedule'!L65,\"\")","v":""},{"$f":"IF('Replacement Cost Schedule'!M65<>\"\",'Replacement Cost Schedule'!M65,\"\")","v":""},{"$f":"IF('Replacement Cost Schedule'!N65<>\"\",'Replacement Cost Schedule'!N65,\"\")","v":""},{"$f":"IF('Replacement Cost Schedule'!O65<>\"\",'Replacement Cost Schedule'!O65,\"\")","v":""},{"$f":"IF('Replacement Cost Schedule'!P65<>\"\",'Replacement Cost Schedule'!P65,\"\")","v":""},{"$f":"IF('Replacement Cost Schedule'!Q65<>\"\",'Replacement Cost Schedule'!Q65,\"\")","v":""},{"$f":"IF('Replacement Cost Schedule'!R65<>\"\",'Replacement Cost Schedule'!R65,\"\")","v":""},{"$f":"IF('Replacement Cost Schedule'!S65<>\"\",'Replacement Cost Schedule'!S65,\"\")","v":""},null,{"$f":"IF('Replacement Cost Schedule'!C65<>\"\",'Replacement Cost Schedule'!C65,\"\")","v":""},{"$f":"IF('Replacement Cost Schedule'!T65<>\"\",'Replacement Cost Schedule'!T65,\"\")","v":""},{"$f":"IF('Replacement Cost Schedule'!U65<>\"\",'Replacement Cost Schedule'!U65,\"\")","v":""},{"$f":"IF('Replacement Cost Schedule'!V65<>\"\",'Replacement Cost Schedule'!V65,\"\")","v":""},{"$f":"IF('Replacement Cost Schedule'!W65<>\"\",'Replacement Cost Schedule'!W65,\"\")","v":""},{"$f":"IF('Replacement Cost Schedule'!X65<>\"\",'Replacement Cost Schedule'!X65,\"\")","v":""},{"$f":"IF('Replacement Cost Schedule'!Y65<>\"\",'Replacement Cost Schedule'!Y65,\"\")","v":""},{"$f":"IF('Replacement Cost Schedule'!Z65<>\"\",'Replacement Cost Schedule'!Z65,\"\")","v":""},{"$f":"IF('Replacement Cost Schedule'!AA65<>\"\",'Replacement Cost Schedule'!AA65,\"\")","v":""},{"$f":"IF('Replacement Cost Schedule'!AB65<>\"\",'Replacement Cost Schedule'!AB65,\"\")","v":""},{"$f":"IF('Replacement Cost Schedule'!AC65<>\"\",'Replacement Cost Schedule'!AC65,\"\")","v":""},{"$f":"IF('Replacement Cost Schedule'!AD65<>\"\",'Replacement Cost Schedule'!AD65,\"\")","v":""},{"$f":"IF('Replacement Cost Schedule'!AE65<>\"\",'Replacement Cost Schedule'!AE65,\"\")","v":""},{"$f":"IF('Replacement Cost Schedule'!AF65<>\"\",'Replacement Cost Schedule'!AF65,\"\")","v":""},0]
[null,null,{"$f":"IF('Replacement Cost Schedule'!C66<>\"\",'Replacement Cost Schedule'!C66,\"\")","v":""},{"$f":"IF('Replacement Cost Schedule'!D66<>\"\",'Replacement Cost Schedule'!D66,\"\")","v":""},{"$f":"IF('Replacement Cost Schedule'!E66<>\"\",'Replacement Cost Schedule'!E66,\"\")","v":""},{"$f":"IF('Replacement Cost Schedule'!F66<>\"\",'Replacement Cost Schedule'!F66,\"\")","v":""},{"$f":"IF('Replacement Cost Schedule'!G66<>\"\",'Replacement Cost Schedule'!G66,\"\")","v":""},{"$f":"IF('Replacement Cost Schedule'!H66<>\"\",'Replacement Cost Schedule'!H66,\"\")","v":""},{"$f":"IF('Replacement Cost Schedule'!I66<>\"\",'Replacement Cost Schedule'!I66,\"\")","v":""},{"$f":"IF('Replacement Cost Schedule'!J66<>\"\",'Replacement Cost Schedule'!J66,\"\")","v":""},{"$f":"IF('Replacement Cost Schedule'!K66<>\"\",'Replacement Cost Schedule'!K66,\"\")","v":""},{"$f":"IF('Replacement Cost Schedule'!L66<>\"\",'Replacement Cost Schedule'!L66,\"\")","v":""},{"$f":"IF('Replacement Cost Schedule'!M66<>\"\",'Replacement Cost Schedule'!M66,\"\")","v":""},{"$f":"IF('Replacement Cost Schedule'!N66<>\"\",'Replacement Cost Schedule'!N66,\"\")","v":""},{"$f":"IF('Replacement Cost Schedule'!O66<>\"\",'Replacement Cost Schedule'!O66,\"\")","v":""},{"$f":"IF('Replacement Cost Schedule'!P66<>\"\",'Replacement Cost Schedule'!P66,\"\")","v":""},{"$f":"IF('Replacement Cost Schedule'!Q66<>\"\",'Replacement Cost Schedule'!Q66,\"\")","v":""},{"$f":"IF('Replacement Cost Schedule'!R66<>\"\",'Replacement Cost Schedule'!R66,\"\")","v":""},{"$f":"IF('Replacement Cost Schedule'!S66<>\"\",'Replacement Cost Schedule'!S66,\"\")","v":""},null,{"$f":"IF('Replacement Cost Schedule'!C66<>\"\",'Replacement Cost Schedule'!C66,\"\")","v":""},{"$f":"IF('Replacement Cost Schedule'!T66<>\"\",'Replacement Cost Schedule'!T66,\"\")","v":""},{"$f":"IF('Replacement Cost Schedule'!U66<>\"\",'Replacement Cost Schedule'!U66,\"\")","v":""},{"$f":"IF('Replacement Cost Schedule'!V66<>\"\",'Replacement Cost Schedule'!V66,\"\")","v":""},{"$f":"IF('Replacement Cost Schedule'!W66<>\"\",'Replacement Cost Schedule'!W66,\"\")","v":""},{"$f":"IF('Replacement Cost Schedule'!X66<>\"\",'Replacement Cost Schedule'!X66,\"\")","v":""},{"$f":"IF('Replacement Cost Schedule'!Y66<>\"\",'Replacement Cost Schedule'!Y66,\"\")","v":""},{"$f":"IF('Replacement Cost Schedule'!Z66<>\"\",'Replacement Cost Schedule'!Z66,\"\")","v":""},{"$f":"IF('Replacement Cost Schedule'!AA66<>\"\",'Replacement Cost Schedule'!AA66,\"\")","v":""},{"$f":"IF('Replacement Cost Schedule'!AB66<>\"\",'Replacement Cost Schedule'!AB66,\"\")","v":""},{"$f":"IF('Replacement Cost Schedule'!AC66<>\"\",'Replacement Cost Schedule'!AC66,\"\")","v":""},{"$f":"IF('Replacement Cost Schedule'!AD66<>\"\",'Replacement Cost Schedule'!AD66,\"\")","v":""},{"$f":"IF('Replacement Cost Schedule'!AE66<>\"\",'Replacement Cost Schedule'!AE66,\"\")","v":""},{"$f":"IF('Replacement Cost Schedule'!AF66<>\"\",'Replacement Cost Schedule'!AF66,\"\")","v":""},0]
[null,null,{"$f":"IF('Replacement Cost Schedule'!C67<>\"\",'Replacement Cost Schedule'!C67,\"\")","v":""},{"$f":"IF('Replacement Cost Schedule'!D67<>\"\",'Replacement Cost Schedule'!D67,\"\")","v":""},{"$f":"IF('Replacement Cost Schedule'!E67<>\"\",'Replacement Cost Schedule'!E67,\"\")","v":""},{"$f":"IF('Replacement Cost Schedule'!F67<>\"\",'Replacement Cost Schedule'!F67,\"\")","v":""},{"$f":"IF('Replacement Cost Schedule'!G67<>\"\",'Replacement Cost Schedule'!G67,\"\")","v":""},{"$f":"IF('Replacement Cost Schedule'!H67<>\"\",'Replacement Cost Schedule'!H67,\"\")","v":""},{"$f":"IF('Replacement Cost Schedule'!I67<>\"\",'Replacement Cost Schedule'!I67,\"\")","v":""},{"$f":"IF('Replacement Cost Schedule'!J67<>\"\",'Replacement Cost Schedule'!J67,\"\")","v":""},{"$f":"IF('Replacement Cost Schedule'!K67<>\"\",'Replacement Cost Schedule'!K67,\"\")","v":""},{"$f":"IF('Replacement Cost Schedule'!L67<>\"\",'Replacement Cost Schedule'!L67,\"\")","v":""},{"$f":"IF('Replacement Cost Schedule'!M67<>\"\",'Replacement Cost Schedule'!M67,\"\")","v":""},{"$f":"IF('Replacement Cost Schedule'!N67<>\"\",'Replacement Cost Schedule'!N67,\"\")","v":""},{"$f":"IF('Replacement Cost Schedule'!O67<>\"\",'Replacement Cost Schedule'!O67,\"\")","v":""},{"$f":"IF('Replacement Cost Schedule'!P67<>\"\",'Replacement Cost Schedule'!P67,\"\")","v":""},{"$f":"IF('Replacement Cost Schedule'!Q67<>\"\",'Replacement Cost Schedule'!Q67,\"\")","v":""},{"$f":"IF('Replacement Cost Schedule'!R67<>\"\",'Replacement Cost Schedule'!R67,\"\")","v":""},{"$f":"IF('Replacement Cost Schedule'!S67<>\"\",'Replacement Cost Schedule'!S67,\"\")","v":""},null,{"$f":"IF('Replacement Cost Schedule'!C67<>\"\",'Replacement Cost Schedule'!C67,\"\")","v":""},{"$f":"IF('Replacement Cost Schedule'!T67<>\"\",'Replacement Cost Schedule'!T67,\"\")","v":""},{"$f":"IF('Replacement Cost Schedule'!U67<>\"\",'Replacement Cost Schedule'!U67,\"\")","v":""},{"$f":"IF('Replacement Cost Schedule'!V67<>\"\",'Replacement Cost Schedule'!V67,\"\")","v":""},{"$f":"IF('Replacement Cost Schedule'!W67<>\"\",'Replacement Cost Schedule'!W67,\"\")","v":""},{"$f":"IF('Replacement Cost Schedule'!X67<>\"\",'Replacement Cost Schedule'!X67,\"\")","v":""},{"$f":"IF('Replacement Cost Schedule'!Y67<>\"\",'Replacement Cost Schedule'!Y67,\"\")","v":""},{"$f":"IF('Replacement Cost Schedule'!Z67<>\"\",'Replacement Cost Schedule'!Z67,\"\")","v":""},{"$f":"IF('Replacement Cost Schedule'!AA67<>\"\",'Replacement Cost Schedule'!AA67,\"\")","v":""},{"$f":"IF('Replacement Cost Schedule'!AB67<>\"\",'Replacement Cost Schedule'!AB67,\"\")","v":""},{"$f":"IF('Replacement Cost Schedule'!AC67<>\"\",'Replacement Cost Schedule'!AC67,\"\")","v":""},{"$f":"IF('Replacement Cost Schedule'!AD67<>\"\",'Replacement Cost Schedule'!AD67,\"\")","v":""},{"$f":"IF('Replacement Cost Schedule'!AE67<>\"\",'Replacement Cost Schedule'!AE67,\"\")","v":""},{"$f":"IF('Replacement Cost Schedule'!AF67<>\"\",'Replacement Cost Schedule'!AF67,\"\")","v":""},0]
[null,null,{"$f":"IF('Replacement Cost Schedule'!C68<>\"\",'Replacement Cost Schedule'!C68,\"\")","v":""},{"$f":"IF('Replacement Cost Schedule'!D68<>\"\",'Replacement Cost Schedule'!D68,\"\")","v":""},{"$f":"IF('Replacement Cost Schedule'!E68<>\"\",'Replacement Cost Schedule'!E68,\"\")","v":""},{"$f":"IF('Replacement Cost Schedule'!F68<>\"\",'Replacement Cost Schedule'!F68,\"\")","v":""},{"$f":"IF('Replacement Cost Schedule'!G68<>\"\",'Replacement Cost Schedule'!G68,\"\")","v":""},{"$f":"IF('Replacement Cost Schedule'!H68<>\"\",'Replacement Cost Schedule'!H68,\"\")","v":""},{"$f":"IF('Replacement Cost Schedule'!I68<>\"\",'Replacement Cost Schedule'!I68,\"\")","v":""},{"$f":"IF('Replacement Cost Schedule'!J68<>\"\",'Replacement Cost Schedule'!J68,\"\")","v":""},{"$f":"IF('Replacement Cost Schedule'!K68<>\"\",'Replacement Cost Schedule'!K68,\"\")","v":""},{"$f":"IF('Replacement Cost Schedule'!L68<>\"\",'Replacement Cost Schedule'!L68,\"\")","v":""},{"$f":"IF('Replacement Cost Schedule'!M68<>\"\",'Replacement Cost Schedule'!M68,\"\")","v":""},{"$f":"IF('Replacement Cost Schedule'!N68<>\"\",'Replacement Cost Schedule'!N68,\"\")","v":""},{"$f":"IF('Replacement Cost Schedule'!O68<>\"\",'Replacement Cost Schedule'!O68,\"\")","v":""},{"$f":"IF('Replacement Cost Schedule'!P68<>\"\",'Replacement Cost Schedule'!P68,\"\")","v":""},{"$f":"IF('Replacement Cost Schedule'!Q68<>\"\",'Replacement Cost Schedule'!Q68,\"\")","v":""},{"$f":"IF('Replacement Cost Schedule'!R68<>\"\",'Replacement Cost Schedule'!R68,\"\")","v":""},{"$f":"IF('Replacement Cost Schedule'!S68<>\"\",'Replacement Cost Schedule'!S68,\"\")","v":""},null,{"$f":"IF('Replacement Cost Schedule'!C68<>\"\",'Replacement Cost Schedule'!C68,\"\")","v":""},{"$f":"IF('Replacement Cost Schedule'!T68<>\"\",'Replacement Cost Schedule'!T68,\"\")","v":""},{"$f":"IF('Replacement Cost Schedule'!U68<>\"\",'Replacement Cost Schedule'!U68,\"\")","v":""},{"$f":"IF('Replacement Cost Schedule'!V68<>\"\",'Replacement Cost Schedule'!V68,\"\")","v":""},{"$f":"IF('Replacement Cost Schedule'!W68<>\"\",'Replacement Cost Schedule'!W68,\"\")","v":""},{"$f":"IF('Replacement Cost Schedule'!X68<>\"\",'Replacement Cost Schedule'!X68,\"\")","v":""},{"$f":"IF('Replacement Cost Schedule'!Y68<>\"\",'Replacement Cost Schedule'!Y68,\"\")","v":""},{"$f":"IF('Replacement Cost Schedule'!Z68<>\"\",'Replacement Cost Schedule'!Z68,\"\")","v":""},{"$f":"IF('Replacement Cost Schedule'!AA68<>\"\",'Replacement Cost Schedule'!AA68,\"\")","v":""},{"$f":"IF('Replacement Cost Schedule'!AB68<>\"\",'Replacement Cost Schedule'!AB68,\"\")","v":""},{"$f":"IF('Replacement Cost Schedule'!AC68<>\"\",'Replacement Cost Schedule'!AC68,\"\")","v":""},{"$f":"IF('Replacement Cost Schedule'!AD68<>\"\",'Replacement Cost Schedule'!AD68,\"\")","v":""},{"$f":"IF('Replacement Cost Schedule'!AE68<>\"\",'Replacement Cost Schedule'!AE68,\"\")","v":""},{"$f":"IF('Replacement Cost Schedule'!AF68<>\"\",'Replacement Cost Schedule'!AF68,\"\")","v":""},0]
[null,null,{"$f":"IF('Replacement Cost Schedule'!C69<>\"\",'Replacement Cost Schedule'!C69,\"\")","v":""},{"$f":"IF('Replacement Cost Schedule'!D69<>\"\",'Replacement Cost Schedule'!D69,\"\")","v":""},{"$f":"IF('Replacement Cost Schedule'!E69<>\"\",'Replacement Cost Schedule'!E69,\"\")","v":""},{"$f":"IF('Replacement Cost Schedule'!F69<>\"\",'Replacement Cost Schedule'!F69,\"\")","v":""},{"$f":"IF('Replacement Cost Schedule'!G69<>\"\",'Replacement Cost Schedule'!G69,\"\")","v":""},{"$f":"IF('Replacement Cost Schedule'!H69<>\"\",'Replacement Cost Schedule'!H69,\"\")","v":""},{"$f":"IF('Replacement Cost Schedule'!I69<>\"\",'Replacement Cost Schedule'!I69,\"\")","v":""},{"$f":"IF('Replacement Cost Schedule'!J69<>\"\",'Replacement Cost Schedule'!J69,\"\")","v":""},{"$f":"IF('Replacement Cost Schedule'!K69<>\"\",'Replacement Cost Schedule'!K69,\"\")","v":""},{"$f":"IF('Replacement Cost Schedule'!L69<>\"\",'Replacement Cost Schedule'!L69,\"\")","v":""},{"$f":"IF('Replacement Cost Schedule'!M69<>\"\",'Replacement Cost Schedule'!M69,\"\")","v":""},{"$f":"IF('Replacement Cost Schedule'!N69<>\"\",'Replacement Cost Schedule'!N69,\"\")","v":""},{"$f":"IF('Replacement Cost Schedule'!O69<>\"\",'Replacement Cost Schedule'!O69,\"\")","v":""},{"$f":"IF('Replacement Cost Schedule'!P69<>\"\",'Replacement Cost Schedule'!P69,\"\")","v":""},{"$f":"IF('Replacement Cost Schedule'!Q69<>\"\",'Replacement Cost Schedule'!Q69,\"\")","v":""},{"$f":"IF('Replacement Cost Schedule'!R69<>\"\",'Replacement Cost Schedule'!R69,\"\")","v":""},{"$f":"IF('Replacement Cost Schedule'!S69<>\"\",'Replacement Cost Schedule'!S69,\"\")","v":""},null,{"$f":"IF('Replacement Cost Schedule'!C69<>\"\",'Replacement Cost Schedule'!C69,\"\")","v":""},{"$f":"IF('Replacement Cost Schedule'!T69<>\"\",'Replacement Cost Schedule'!T69,\"\")","v":""},{"$f":"IF('Replacement Cost Schedule'!U69<>\"\",'Replacement Cost Schedule'!U69,\"\")","v":""},{"$f":"IF('Replacement Cost Schedule'!V69<>\"\",'Replacement Cost Schedule'!V69,\"\")","v":""},{"$f":"IF('Replacement Cost Schedule'!W69<>\"\",'Replacement Cost Schedule'!W69,\"\")","v":""},{"$f":"IF('Replacement Cost Schedule'!X69<>\"\",'Replacement Cost Schedule'!X69,\"\")","v":""},{"$f":"IF('Replacement Cost Schedule'!Y69<>\"\",'Replacement Cost Schedule'!Y69,\"\")","v":""},{"$f":"IF('Replacement Cost Schedule'!Z69<>\"\",'Replacement Cost Schedule'!Z69,\"\")","v":""},{"$f":"IF('Replacement Cost Schedule'!AA69<>\"\",'Replacement Cost Schedule'!AA69,\"\")","v":""},{"$f":"IF('Replacement Cost Schedule'!AB69<>\"\",'Replacement Cost Schedule'!AB69,\"\")","v":""},{"$f":"IF('Replacement Cost Schedule'!AC69<>\"\",'Replacement Cost Schedule'!AC69,\"\")","v":""},{"$f":"IF('Replacement Cost Schedule'!AD69<>\"\",'Replacement Cost Schedule'!AD69,\"\")","v":""},{"$f":"IF('Replacement Cost Schedule'!AE69<>\"\",'Replacement Cost Schedule'!AE69,\"\")","v":""},{"$f":"IF('Replacement Cost Schedule'!AF69<>\"\",'Replacement Cost Schedule'!AF69,\"\")","v":""},0]
[null,null,{"$f":"IF('Replacement Cost Schedule'!C70<>\"\",'Replacement Cost Schedule'!C70,\"\")","v":""},{"$f":"IF('Replacement Cost Schedule'!D70<>\"\",'Replacement Cost Schedule'!D70,\"\")","v":""},{"$f":"IF('Replacement Cost Schedule'!E70<>\"\",'Replacement Cost Schedule'!E70,\"\")","v":""},{"$f":"IF('Replacement Cost Schedule'!F70<>\"\",'Replacement Cost Schedule'!F70,\"\")","v":""},{"$f":"IF('Replacement Cost Schedule'!G70<>\"\",'Replacement Cost Schedule'!G70,\"\")","v":""},{"$f":"IF('Replacement Cost Schedule'!H70<>\"\",'Replacement Cost Schedule'!H70,\"\")","v":""},{"$f":"IF('Replacement Cost Schedule'!I70<>\"\",'Replacement Cost Schedule'!I70,\"\")","v":""},{"$f":"IF('Replacement Cost Schedule'!J70<>\"\",'Replacement Cost Schedule'!J70,\"\")","v":""},{"$f":"IF('Replacement Cost Schedule'!K70<>\"\",'Replacement Cost Schedule'!K70,\"\")","v":""},{"$f":"IF('Replacement Cost Schedule'!L70<>\"\",'Replacement Cost Schedule'!L70,\"\")","v":""},{"$f":"IF('Replacement Cost Schedule'!M70<>\"\",'Replacement Cost Schedule'!M70,\"\")","v":""},{"$f":"IF('Replacement Cost Schedule'!N70<>\"\",'Replacement Cost Schedule'!N70,\"\")","v":""},{"$f":"IF('Replacement Cost Schedule'!O70<>\"\",'Replacement Cost Schedule'!O70,\"\")","v":""},{"$f":"IF('Replacement Cost Schedule'!P70<>\"\",'Replacement Cost Schedule'!P70,\"\")","v":""},{"$f":"IF('Replacement Cost Schedule'!Q70<>\"\",'Replacement Cost Schedule'!Q70,\"\")","v":""},{"$f":"IF('Replacement Cost Schedule'!R70<>\"\",'Replacement Cost Schedule'!R70,\"\")","v":""},{"$f":"IF('Replacement Cost Schedule'!S70<>\"\",'Replacement Cost Schedule'!S70,\"\")","v":""},null,{"$f":"IF('Replacement Cost Schedule'!C70<>\"\",'Replacement Cost Schedule'!C70,\"\")","v":""},{"$f":"IF('Replacement Cost Schedule'!T70<>\"\",'Replacement Cost Schedule'!T70,\"\")","v":""},{"$f":"IF('Replacement Cost Schedule'!U70<>\"\",'Replacement Cost Schedule'!U70,\"\")","v":""},{"$f":"IF('Replacement Cost Schedule'!V70<>\"\",'Replacement Cost Schedule'!V70,\"\")","v":""},{"$f":"IF('Replacement Cost Schedule'!W70<>\"\",'Replacement Cost Schedule'!W70,\"\")","v":""},{"$f":"IF('Replacement Cost Schedule'!X70<>\"\",'Replacement Cost Schedule'!X70,\"\")","v":""},{"$f":"IF('Replacement Cost Schedule'!Y70<>\"\",'Replacement Cost Schedule'!Y70,\"\")","v":""},{"$f":"IF('Replacement Cost Schedule'!Z70<>\"\",'Replacement Cost Schedule'!Z70,\"\")","v":""},{"$f":"IF('Replacement Cost Schedule'!AA70<>\"\",'Replacement Cost Schedule'!AA70,\"\")","v":""},{"$f":"IF('Replacement Cost Schedule'!AB70<>\"\",'Replacement Cost Schedule'!AB70,\"\")","v":""},{"$f":"IF('Replacement Cost Schedule'!AC70<>\"\",'Replacement Cost Schedule'!AC70,\"\")","v":""},{"$f":"IF('Replacement Cost Schedule'!AD70<>\"\",'Replacement Cost Schedule'!AD70,\"\")","v":""},{"$f":"IF('Replacement Cost Schedule'!AE70<>\"\",'Replacement Cost Schedule'!AE70,\"\")","v":""},{"$f":"IF('Replacement Cost Schedule'!AF70<>\"\",'Replacement Cost Schedule'!AF70,\"\")","v":""},0]
[null,null,{"$f":"IF('Replacement Cost Schedule'!C71<>\"\",'Replacement Cost Schedule'!C71,\"\")","v":""},{"$f":"IF('Replacement Cost Schedule'!D71<>\"\",'Replacement Cost Schedule'!D71,\"\")","v":""},{"$f":"IF('Replacement Cost Schedule'!E71<>\"\",'Replacement Cost Schedule'!E71,\"\")","v":""},{"$f":"IF('Replacement Cost Schedule'!F71<>\"\",'Replacement Cost Schedule'!F71,\"\")","v":""},{"$f":"IF('Replacement Cost Schedule'!G71<>\"\",'Replacement Cost Schedule'!G71,\"\")","v":""},{"$f":"IF('Replacement Cost Schedule'!H71<>\"\",'Replacement Cost Schedule'!H71,\"\")","v":""},{"$f":"IF('Replacement Cost Schedule'!I71<>\"\",'Replacement Cost Schedule'!I71,\"\")","v":""},{"$f":"IF('Replacement Cost Schedule'!J71<>\"\",'Replacement Cost Schedule'!J71,\"\")","v":""},{"$f":"IF('Replacement Cost Schedule'!K71<>\"\",'Replacement Cost Schedule'!K71,\"\")","v":""},{"$f":"IF('Replacement Cost Schedule'!L71<>\"\",'Replacement Cost Schedule'!L71,\"\")","v":""},{"$f":"IF('Replacement Cost Schedule'!M71<>\"\",'Replacement Cost Schedule'!M71,\"\")","v":""},{"$f":"IF('Replacement Cost Schedule'!N71<>\"\",'Replacement Cost Schedule'!N71,\"\")","v":""},{"$f":"IF('Replacement Cost Schedule'!O71<>\"\",'Replacement Cost Schedule'!O71,\"\")","v":""},{"$f":"IF('Replacement Cost Schedule'!P71<>\"\",'Replacement Cost Schedule'!P71,\"\")","v":""},{"$f":"IF('Replacement Cost Schedule'!Q71<>\"\",'Replacement Cost Schedule'!Q71,\"\")","v":""},{"$f":"IF('Replacement Cost Schedule'!R71<>\"\",'Replacement Cost Schedule'!R71,\"\")","v":""},{"$f":"IF('Replacement Cost Schedule'!S71<>\"\",'Replacement Cost Schedule'!S71,\"\")","v":""},null,{"$f":"IF('Replacement Cost Schedule'!C71<>\"\",'Replacement Cost Schedule'!C71,\"\")","v":""},{"$f":"IF('Replacement Cost Schedule'!T71<>\"\",'Replacement Cost Schedule'!T71,\"\")","v":""},{"$f":"IF('Replacement Cost Schedule'!U71<>\"\",'Replacement Cost Schedule'!U71,\"\")","v":""},{"$f":"IF('Replacement Cost Schedule'!V71<>\"\",'Replacement Cost Schedule'!V71,\"\")","v":""},{"$f":"IF('Replacement Cost Schedule'!W71<>\"\",'Replacement Cost Schedule'!W71,\"\")","v":""},{"$f":"IF('Replacement Cost Schedule'!X71<>\"\",'Replacement Cost Schedule'!X71,\"\")","v":""},{"$f":"IF('Replacement Cost Schedule'!Y71<>\"\",'Replacement Cost Schedule'!Y71,\"\")","v":""},{"$f":"IF('Replacement Cost Schedule'!Z71<>\"\",'Replacement Cost Schedule'!Z71,\"\")","v":""},{"$f":"IF('Replacement Cost Schedule'!AA71<>\"\",'Replacement Cost Schedule'!AA71,\"\")","v":""},{"$f":"IF('Replacement Cost Schedule'!AB71<>\"\",'Replacement Cost Schedule'!AB71,\"\")","v":""},{"$f":"IF('Replacement Cost Schedule'!AC71<>\"\",'Replacement Cost Schedule'!AC71,\"\")","v":""},{"$f":"IF('Replacement Cost Schedule'!AD71<>\"\",'Replacement Cost Schedule'!AD71,\"\")","v":""},{"$f":"IF('Replacement Cost Schedule'!AE71<>\"\",'Replacement Cost Schedule'!AE71,\"\")","v":""},{"$f":"IF('Replacement Cost Schedule'!AF71<>\"\",'Replacement Cost Schedule'!AF71,\"\")","v":""},0]
[null,null,{"$f":"IF('Replacement Cost Schedule'!C72<>\"\",'Replacement Cost Schedule'!C72,\"\")","v":""},{"$f":"IF('Replacement Cost Schedule'!D72<>\"\",'Replacement Cost Schedule'!D72,\"\")","v":""},{"$f":"IF('Replacement Cost Schedule'!E72<>\"\",'Replacement Cost Schedule'!E72,\"\")","v":""},{"$f":"IF('Replacement Cost Schedule'!F72<>\"\",'Replacement Cost Schedule'!F72,\"\")","v":""},{"$f":"IF('Replacement Cost Schedule'!G72<>\"\",'Replacement Cost Schedule'!G72,\"\")","v":""},{"$f":"IF('Replacement Cost Schedule'!H72<>\"\",'Replacement Cost Schedule'!H72,\"\")","v":""},{"$f":"IF('Replacement Cost Schedule'!I72<>\"\",'Replacement Cost Schedule'!I72,\"\")","v":""},{"$f":"IF('Replacement Cost Schedule'!J72<>\"\",'Replacement Cost Schedule'!J72,\"\")","v":""},{"$f":"IF('Replacement Cost Schedule'!K72<>\"\",'Replacement Cost Schedule'!K72,\"\")","v":""},{"$f":"IF('Replacement Cost Schedule'!L72<>\"\",'Replacement Cost Schedule'!L72,\"\")","v":""},{"$f":"IF('Replacement Cost Schedule'!M72<>\"\",'Replacement Cost Schedule'!M72,\"\")","v":""},{"$f":"IF('Replacement Cost Schedule'!N72<>\"\",'Replacement Cost Schedule'!N72,\"\")","v":""},{"$f":"IF('Replacement Cost Schedule'!O72<>\"\",'Replacement Cost Schedule'!O72,\"\")","v":""},{"$f":"IF('Replacement Cost Schedule'!P72<>\"\",'Replacement Cost Schedule'!P72,\"\")","v":""},{"$f":"IF('Replacement Cost Schedule'!Q72<>\"\",'Replacement Cost Schedule'!Q72,\"\")","v":""},{"$f":"IF('Replacement Cost Schedule'!R72<>\"\",'Replacement Cost Schedule'!R72,\"\")","v":""},{"$f":"IF('Replacement Cost Schedule'!S72<>\"\",'Replacement Cost Schedule'!S72,\"\")","v":""},null,{"$f":"IF('Replacement Cost Schedule'!C72<>\"\",'Replacement Cost Schedule'!C72,\"\")","v":""},{"$f":"IF('Replacement Cost Schedule'!T72<>\"\",'Replacement Cost Schedule'!T72,\"\")","v":""},{"$f":"IF('Replacement Cost Schedule'!U72<>\"\",'Replacement Cost Schedule'!U72,\"\")","v":""},{"$f":"IF('Replacement Cost Schedule'!V72<>\"\",'Replacement Cost Schedule'!V72,\"\")","v":""},{"$f":"IF('Replacement Cost Schedule'!W72<>\"\",'Replacement Cost Schedule'!W72,\"\")","v":""},{"$f":"IF('Replacement Cost Schedule'!X72<>\"\",'Replacement Cost Schedule'!X72,\"\")","v":""},{"$f":"IF('Replacement Cost Schedule'!Y72<>\"\",'Replacement Cost Schedule'!Y72,\"\")","v":""},{"$f":"IF('Replacement Cost Schedule'!Z72<>\"\",'Replacement Cost Schedule'!Z72,\"\")","v":""},{"$f":"IF('Replacement Cost Schedule'!AA72<>\"\",'Replacement Cost Schedule'!AA72,\"\")","v":""},{"$f":"IF('Replacement Cost Schedule'!AB72<>\"\",'Replacement Cost Schedule'!AB72,\"\")","v":""},{"$f":"IF('Replacement Cost Schedule'!AC72<>\"\",'Replacement Cost Schedule'!AC72,\"\")","v":""},{"$f":"IF('Replacement Cost Schedule'!AD72<>\"\",'Replacement Cost Schedule'!AD72,\"\")","v":""},{"$f":"IF('Replacement Cost Schedule'!AE72<>\"\",'Replacement Cost Schedule'!AE72,\"\")","v":""},{"$f":"IF('Replacement Cost Schedule'!AF72<>\"\",'Replacement Cost Schedule'!AF72,\"\")","v":""},0]
[null,null,{"$f":"IF('Replacement Cost Schedule'!C73<>\"\",'Replacement Cost Schedule'!C73,\"\")","v":""},{"$f":"IF('Replacement Cost Schedule'!D73<>\"\",'Replacement Cost Schedule'!D73,\"\")","v":""},{"$f":"IF('Replacement Cost Schedule'!E73<>\"\",'Replacement Cost Schedule'!E73,\"\")","v":""},{"$f":"IF('Replacement Cost Schedule'!F73<>\"\",'Replacement Cost Schedule'!F73,\"\")","v":""},{"$f":"IF('Replacement Cost Schedule'!G73<>\"\",'Replacement Cost Schedule'!G73,\"\")","v":""},{"$f":"IF('Replacement Cost Schedule'!H73<>\"\",'Replacement Cost Schedule'!H73,\"\")","v":""},{"$f":"IF('Replacement Cost Schedule'!I73<>\"\",'Replacement Cost Schedule'!I73,\"\")","v":""},{"$f":"IF('Replacement Cost Schedule'!J73<>\"\",'Replacement Cost Schedule'!J73,\"\")","v":""},{"$f":"IF('Replacement Cost Schedule'!K73<>\"\",'Replacement Cost Schedule'!K73,\"\")","v":""},{"$f":"IF('Replacement Cost Schedule'!L73<>\"\",'Replacement Cost Schedule'!L73,\"\")","v":""},{"$f":"IF('Replacement Cost Schedule'!M73<>\"\",'Replacement Cost Schedule'!M73,\"\")","v":""},{"$f":"IF('Replacement Cost Schedule'!N73<>\"\",'Replacement Cost Schedule'!N73,\"\")","v":""},{"$f":"IF('Replacement Cost Schedule'!O73<>\"\",'Replacement Cost Schedule'!O73,\"\")","v":""},{"$f":"IF('Replacement Cost Schedule'!P73<>\"\",'Replacement Cost Schedule'!P73,\"\")","v":""},{"$f":"IF('Replacement Cost Schedule'!Q73<>\"\",'Replacement Cost Schedule'!Q73,\"\")","v":""},{"$f":"IF('Replacement Cost Schedule'!R73<>\"\",'Replacement Cost Schedule'!R73,\"\")","v":""},{"$f":"IF('Replacement Cost Schedule'!S73<>\"\",'Replacement Cost Schedule'!S73,\"\")","v":""},null,{"$f":"IF('Replacement Cost Schedule'!C73<>\"\",'Replacement Cost Schedule'!C73,\"\")","v":""},{"$f":"IF('Replacement Cost Schedule'!T73<>\"\",'Replacement Cost Schedule'!T73,\"\")","v":""},{"$f":"IF('Replacement Cost Schedule'!U73<>\"\",'Replacement Cost Schedule'!U73,\"\")","v":""},{"$f":"IF('Replacement Cost Schedule'!V73<>\"\",'Replacement Cost Schedule'!V73,\"\")","v":""},{"$f":"IF('Replacement Cost Schedule'!W73<>\"\",'Replacement Cost Schedule'!W73,\"\")","v":""},{"$f":"IF('Replacement Cost Schedule'!X73<>\"\",'Replacement Cost Schedule'!X73,\"\")","v":""},{"$f":"IF('Replacement Cost Schedule'!Y73<>\"\",'Replacement Cost Schedule'!Y73,\"\")","v":""},{"$f":"IF('Replacement Cost Schedule'!Z73<>\"\",'Replacement Cost Schedule'!Z73,\"\")","v":""},{"$f":"IF('Replacement Cost Schedule'!AA73<>\"\",'Replacement Cost Schedule'!AA73,\"\")","v":""},{"$f":"IF('Replacement Cost Schedule'!AB73<>\"\",'Replacement Cost Schedule'!AB73,\"\")","v":""},{"$f":"IF('Replacement Cost Schedule'!AC73<>\"\",'Replacement Cost Schedule'!AC73,\"\")","v":""},{"$f":"IF('Replacement Cost Schedule'!AD73<>\"\",'Replacement Cost Schedule'!AD73,\"\")","v":""},{"$f":"IF('Replacement Cost Schedule'!AE73<>\"\",'Replacement Cost Schedule'!AE73,\"\")","v":""},{"$f":"IF('Replacement Cost Schedule'!AF73<>\"\",'Replacement Cost Schedule'!AF73,\"\")","v":""},0]
[null,null,{"$f":"IF('Replacement Cost Schedule'!C74<>\"\",'Replacement Cost Schedule'!C74,\"\")","v":""},{"$f":"IF('Replacement Cost Schedule'!D74<>\"\",'Replacement Cost Schedule'!D74,\"\")","v":""},{"$f":"IF('Replacement Cost Schedule'!E74<>\"\",'Replacement Cost Schedule'!E74,\"\")","v":""},{"$f":"IF('Replacement Cost Schedule'!F74<>\"\",'Replacement Cost Schedule'!F74,\"\")","v":""},{"$f":"IF('Replacement Cost Schedule'!G74<>\"\",'Replacement Cost Schedule'!G74,\"\")","v":""},{"$f":"IF('Replacement Cost Schedule'!H74<>\"\",'Replacement Cost Schedule'!H74,\"\")","v":""},{"$f":"IF('Replacement Cost Schedule'!I74<>\"\",'Replacement Cost Schedule'!I74,\"\")","v":""},{"$f":"IF('Replacement Cost Schedule'!J74<>\"\",'Replacement Cost Schedule'!J74,\"\")","v":""},{"$f":"IF('Replacement Cost Schedule'!K74<>\"\",'Replacement Cost Schedule'!K74,\"\")","v":""},{"$f":"IF('Replacement Cost Schedule'!L74<>\"\",'Replacement Cost Schedule'!L74,\"\")","v":""},{"$f":"IF('Replacement Cost Schedule'!M74<>\"\",'Replacement Cost Schedule'!M74,\"\")","v":""},{"$f":"IF('Replacement Cost Schedule'!N74<>\"\",'Replacement Cost Schedule'!N74,\"\")","v":""},{"$f":"IF('Replacement Cost Schedule'!O74<>\"\",'Replacement Cost Schedule'!O74,\"\")","v":""},{"$f":"IF('Replacement Cost Schedule'!P74<>\"\",'Replacement Cost Schedule'!P74,\"\")","v":""},{"$f":"IF('Replacement Cost Schedule'!Q74<>\"\",'Replacement Cost Schedule'!Q74,\"\")","v":""},{"$f":"IF('Replacement Cost Schedule'!R74<>\"\",'Replacement Cost Schedule'!R74,\"\")","v":""},{"$f":"IF('Replacement Cost Schedule'!S74<>\"\",'Replacement Cost Schedule'!S74,\"\")","v":""},null,{"$f":"IF('Replacement Cost Schedule'!C74<>\"\",'Replacement Cost Schedule'!C74,\"\")","v":""},{"$f":"IF('Replacement Cost Schedule'!T74<>\"\",'Replacement Cost Schedule'!T74,\"\")","v":""},{"$f":"IF('Replacement Cost Schedule'!U74<>\"\",'Replacement Cost Schedule'!U74,\"\")","v":""},{"$f":"IF('Replacement Cost Schedule'!V74<>\"\",'Replacement Cost Schedule'!V74,\"\")","v":""},{"$f":"IF('Replacement Cost Schedule'!W74<>\"\",'Replacement Cost Schedule'!W74,\"\")","v":""},{"$f":"IF('Replacement Cost Schedule'!X74<>\"\",'Replacement Cost Schedule'!X74,\"\")","v":""},{"$f":"IF('Replacement Cost Schedule'!Y74<>\"\",'Replacement Cost Schedule'!Y74,\"\")","v":""},{"$f":"IF('Replacement Cost Schedule'!Z74<>\"\",'Replacement Cost Schedule'!Z74,\"\")","v":""},{"$f":"IF('Replacement Cost Schedule'!AA74<>\"\",'Replacement Cost Schedule'!AA74,\"\")","v":""},{"$f":"IF('Replacement Cost Schedule'!AB74<>\"\",'Replacement Cost Schedule'!AB74,\"\")","v":""},{"$f":"IF('Replacement Cost Schedule'!AC74<>\"\",'Replacement Cost Schedule'!AC74,\"\")","v":""},{"$f":"IF('Replacement Cost Schedule'!AD74<>\"\",'Replacement Cost Schedule'!AD74,\"\")","v":""},{"$f":"IF('Replacement Cost Schedule'!AE74<>\"\",'Replacement Cost Schedule'!AE74,\"\")","v":""},{"$f":"IF('Replacement Cost Schedule'!AF74<>\"\",'Replacement Cost Schedule'!AF74,\"\")","v":""},0]
[null,null,{"$f":"IF('Replacement Cost Schedule'!C75<>\"\",'Replacement Cost Schedule'!C75,\"\")","v":""},{"$f":"IF('Replacement Cost Schedule'!D75<>\"\",'Replacement Cost Schedule'!D75,\"\")","v":""},{"$f":"IF('Replacement Cost Schedule'!E75<>\"\",'Replacement Cost Schedule'!E75,\"\")","v":""},{"$f":"IF('Replacement Cost Schedule'!F75<>\"\",'Replacement Cost Schedule'!F75,\"\")","v":""},{"$f":"IF('Replacement Cost Schedule'!G75<>\"\",'Replacement Cost Schedule'!G75,\"\")","v":""},{"$f":"IF('Replacement Cost Schedule'!H75<>\"\",'Replacement Cost Schedule'!H75,\"\")","v":""},{"$f":"IF('Replacement Cost Schedule'!I75<>\"\",'Replacement Cost Schedule'!I75,\"\")","v":""},{"$f":"IF('Replacement Cost Schedule'!J75<>\"\",'Replacement Cost Schedule'!J75,\"\")","v":""},{"$f":"IF('Replacement Cost Schedule'!K75<>\"\",'Replacement Cost Schedule'!K75,\"\")","v":""},{"$f":"IF('Replacement Cost Schedule'!L75<>\"\",'Replacement Cost Schedule'!L75,\"\")","v":""},{"$f":"IF('Replacement Cost Schedule'!M75<>\"\",'Replacement Cost Schedule'!M75,\"\")","v":""},{"$f":"IF('Replacement Cost Schedule'!N75<>\"\",'Replacement Cost Schedule'!N75,\"\")","v":""},{"$f":"IF('Replacement Cost Schedule'!O75<>\"\",'Replacement Cost Schedule'!O75,\"\")","v":""},{"$f":"IF('Replacement Cost Schedule'!P75<>\"\",'Replacement Cost Schedule'!P75,\"\")","v":""},{"$f":"IF('Replacement Cost Schedule'!Q75<>\"\",'Replacement Cost Schedule'!Q75,\"\")","v":""},{"$f":"IF('Replacement Cost Schedule'!R75<>\"\",'Replacement Cost Schedule'!R75,\"\")","v":""},{"$f":"IF('Replacement Cost Schedule'!S75<>\"\",'Replacement Cost Schedule'!S75,\"\")","v":""},null,{"$f":"IF('Replacement Cost Schedule'!C75<>\"\",'Replacement Cost Schedule'!C75,\"\")","v":""},{"$f":"IF('Replacement Cost Schedule'!T75<>\"\",'Replacement Cost Schedule'!T75,\"\")","v":""},{"$f":"IF('Replacement Cost Schedule'!U75<>\"\",'Replacement Cost Schedule'!U75,\"\")","v":""},{"$f":"IF('Replacement Cost Schedule'!V75<>\"\",'Replacement Cost Schedule'!V75,\"\")","v":""},{"$f":"IF('Replacement Cost Schedule'!W75<>\"\",'Replacement Cost Schedule'!W75,\"\")","v":""},{"$f":"IF('Replacement Cost Schedule'!X75<>\"\",'Replacement Cost Schedule'!X75,\"\")","v":""},{"$f":"IF('Replacement Cost Schedule'!Y75<>\"\",'Replacement Cost Schedule'!Y75,\"\")","v":""},{"$f":"IF('Replacement Cost Schedule'!Z75<>\"\",'Replacement Cost Schedule'!Z75,\"\")","v":""},{"$f":"IF('Replacement Cost Schedule'!AA75<>\"\",'Replacement Cost Schedule'!AA75,\"\")","v":""},{"$f":"IF('Replacement Cost Schedule'!AB75<>\"\",'Replacement Cost Schedule'!AB75,\"\")","v":""},{"$f":"IF('Replacement Cost Schedule'!AC75<>\"\",'Replacement Cost Schedule'!AC75,\"\")","v":""},{"$f":"IF('Replacement Cost Schedule'!AD75<>\"\",'Replacement Cost Schedule'!AD75,\"\")","v":""},{"$f":"IF('Replacement Cost Schedule'!AE75<>\"\",'Replacement Cost Schedule'!AE75,\"\")","v":""},{"$f":"IF('Replacement Cost Schedule'!AF75<>\"\",'Replacement Cost Schedule'!AF75,\"\")","v":""},0]
[null,null,{"$f":"IF('Replacement Cost Schedule'!C76<>\"\",'Replacement Cost Schedule'!C76,\"\")","v":""},{"$f":"IF('Replacement Cost Schedule'!D76<>\"\",'Replacement Cost Schedule'!D76,\"\")","v":""},{"$f":"IF('Replacement Cost Schedule'!E76<>\"\",'Replacement Cost Schedule'!E76,\"\")","v":""},{"$f":"IF('Replacement Cost Schedule'!F76<>\"\",'Replacement Cost Schedule'!F76,\"\")","v":""},{"$f":"IF('Replacement Cost Schedule'!G76<>\"\",'Replacement Cost Schedule'!G76,\"\")","v":""},{"$f":"IF('Replacement Cost Schedule'!H76<>\"\",'Replacement Cost Schedule'!H76,\"\")","v":""},{"$f":"IF('Replacement Cost Schedule'!I76<>\"\",'Replacement Cost Schedule'!I76,\"\")","v":""},{"$f":"IF('Replacement Cost Schedule'!J76<>\"\",'Replacement Cost Schedule'!J76,\"\")","v":""},{"$f":"IF('Replacement Cost Schedule'!K76<>\"\",'Replacement Cost Schedule'!K76,\"\")","v":""},{"$f":"IF('Replacement Cost Schedule'!L76<>\"\",'Replacement Cost Schedule'!L76,\"\")","v":""},{"$f":"IF('Replacement Cost Schedule'!M76<>\"\",'Replacement Cost Schedule'!M76,\"\")","v":""},{"$f":"IF('Replacement Cost Schedule'!N76<>\"\",'Replacement Cost Schedule'!N76,\"\")","v":""},{"$f":"IF('Replacement Cost Schedule'!O76<>\"\",'Replacement Cost Schedule'!O76,\"\")","v":""},{"$f":"IF('Replacement Cost Schedule'!P76<>\"\",'Replacement Cost Schedule'!P76,\"\")","v":""},{"$f":"IF('Replacement Cost Schedule'!Q76<>\"\",'Replacement Cost Schedule'!Q76,\"\")","v":""},{"$f":"IF('Replacement Cost Schedule'!R76<>\"\",'Replacement Cost Schedule'!R76,\"\")","v":""},{"$f":"IF('Replacement Cost Schedule'!S76<>\"\",'Replacement Cost Schedule'!S76,\"\")","v":""},null,{"$f":"IF('Replacement Cost Schedule'!C76<>\"\",'Replacement Cost Schedule'!C76,\"\")","v":""},{"$f":"IF('Replacement Cost Schedule'!T76<>\"\",'Replacement Cost Schedule'!T76,\"\")","v":""},{"$f":"IF('Replacement Cost Schedule'!U76<>\"\",'Replacement Cost Schedule'!U76,\"\")","v":""},{"$f":"IF('Replacement Cost Schedule'!V76<>\"\",'Replacement Cost Schedule'!V76,\"\")","v":""},{"$f":"IF('Replacement Cost Schedule'!W76<>\"\",'Replacement Cost Schedule'!W76,\"\")","v":""},{"$f":"IF('Replacement Cost Schedule'!X76<>\"\",'Replacement Cost Schedule'!X76,\"\")","v":""},{"$f":"IF('Replacement Cost Schedule'!Y76<>\"\",'Replacement Cost Schedule'!Y76,\"\")","v":""},{"$f":"IF('Replacement Cost Schedule'!Z76<>\"\",'Replacement Cost Schedule'!Z76,\"\")","v":""},{"$f":"IF('Replacement Cost Schedule'!AA76<>\"\",'Replacement Cost Schedule'!AA76,\"\")","v":""},{"$f":"IF('Replacement Cost Schedule'!AB76<>\"\",'Replacement Cost Schedule'!AB76,\"\")","v":""},{"$f":"IF('Replacement Cost Schedule'!AC76<>\"\",'Replacement Cost Schedule'!AC76,\"\")","v":""},{"$f":"IF('Replacement Cost Schedule'!AD76<>\"\",'Replacement Cost Schedule'!AD76,\"\")","v":""},{"$f":"IF('Replacement Cost Schedule'!AE76<>\"\",'Replacement Cost Schedule'!AE76,\"\")","v":""},{"$f":"IF('Replacement Cost Schedule'!AF76<>\"\",'Replacement Cost Schedule'!AF76,\"\")","v":""},0]
[null,null,{"$f":"IF('Replacement Cost Schedule'!C77<>\"\",'Replacement Cost Schedule'!C77,\"\")","v":""},{"$f":"IF('Replacement Cost Schedule'!D77<>\"\",'Replacement Cost Schedule'!D77,\"\")","v":""},{"$f":"IF('Replacement Cost Schedule'!E77<>\"\",'Replacement Cost Schedule'!E77,\"\")","v":""},{"$f":"IF('Replacement Cost Schedule'!F77<>\"\",'Replacement Cost Schedule'!F77,\"\")","v":""},{"$f":"IF('Replacement Cost Schedule'!G77<>\"\",'Replacement Cost Schedule'!G77,\"\")","v":""},{"$f":"IF('Replacement Cost Schedule'!H77<>\"\",'Replacement Cost Schedule'!H77,\"\")","v":""},{"$f":"IF('Replacement Cost Schedule'!I77<>\"\",'Replacement Cost Schedule'!I77,\"\")","v":""},{"$f":"IF('Replacement Cost Schedule'!J77<>\"\",'Replacement Cost Schedule'!J77,\"\")","v":""},{"$f":"IF('Replacement Cost Schedule'!K77<>\"\",'Replacement Cost Schedule'!K77,\"\")","v":""},{"$f":"IF('Replacement Cost Schedule'!L77<>\"\",'Replacement Cost Schedule'!L77,\"\")","v":""},{"$f":"IF('Replacement Cost Schedule'!M77<>\"\",'Replacement Cost Schedule'!M77,\"\")","v":""},{"$f":"IF('Replacement Cost Schedule'!N77<>\"\",'Replacement Cost Schedule'!N77,\"\")","v":""},{"$f":"IF('Replacement Cost Schedule'!O77<>\"\",'Replacement Cost Schedule'!O77,\"\")","v":""},{"$f":"IF('Replacement Cost Schedule'!P77<>\"\",'Replacement Cost Schedule'!P77,\"\")","v":""},{"$f":"IF('Replacement Cost Schedule'!Q77<>\"\",'Replacement Cost Schedule'!Q77,\"\")","v":""},{"$f":"IF('Replacement Cost Schedule'!R77<>\"\",'Replacement Cost Schedule'!R77,\"\")","v":""},{"$f":"IF('Replacement Cost Schedule'!S77<>\"\",'Replacement Cost Schedule'!S77,\"\")","v":""},null,{"$f":"IF('Replacement Cost Schedule'!C77<>\"\",'Replacement Cost Schedule'!C77,\"\")","v":""},{"$f":"IF('Replacement Cost Schedule'!T77<>\"\",'Replacement Cost Schedule'!T77,\"\")","v":""},{"$f":"IF('Replacement Cost Schedule'!U77<>\"\",'Replacement Cost Schedule'!U77,\"\")","v":""},{"$f":"IF('Replacement Cost Schedule'!V77<>\"\",'Replacement Cost Schedule'!V77,\"\")","v":""},{"$f":"IF('Replacement Cost Schedule'!W77<>\"\",'Replacement Cost Schedule'!W77,\"\")","v":""},{"$f":"IF('Replacement Cost Schedule'!X77<>\"\",'Replacement Cost Schedule'!X77,\"\")","v":""},{"$f":"IF('Replacement Cost Schedule'!Y77<>\"\",'Replacement Cost Schedule'!Y77,\"\")","v":""},{"$f":"IF('Replacement Cost Schedule'!Z77<>\"\",'Replacement Cost Schedule'!Z77,\"\")","v":""},{"$f":"IF('Replacement Cost Schedule'!AA77<>\"\",'Replacement Cost Schedule'!AA77,\"\")","v":""},{"$f":"IF('Replacement Cost Schedule'!AB77<>\"\",'Replacement Cost Schedule'!AB77,\"\")","v":""},{"$f":"IF('Replacement Cost Schedule'!AC77<>\"\",'Replacement Cost Schedule'!AC77,\"\")","v":""},{"$f":"IF('Replacement Cost Schedule'!AD77<>\"\",'Replacement Cost Schedule'!AD77,\"\")","v":""},{"$f":"IF('Replacement Cost Schedule'!AE77<>\"\",'Replacement Cost Schedule'!AE77,\"\")","v":""},{"$f":"IF('Replacement Cost Schedule'!AF77<>\"\",'Replacement Cost Schedule'!AF77,\"\")","v":""},0]
[null,null,{"$f":"IF('Replacement Cost Schedule'!C78<>\"\",'Replacement Cost Schedule'!C78,\"\")","v":""},{"$f":"IF('Replacement Cost Schedule'!D78<>\"\",'Replacement Cost Schedule'!D78,\"\")","v":""},{"$f":"IF('Replacement Cost Schedule'!E78<>\"\",'Replacement Cost Schedule'!E78,\"\")","v":""},{"$f":"IF('Replacement Cost Schedule'!F78<>\"\",'Replacement Cost Schedule'!F78,\"\")","v":""},{"$f":"IF('Replacement Cost Schedule'!G78<>\"\",'Replacement Cost Schedule'!G78,\"\")","v":""},{"$f":"IF('Replacement Cost Schedule'!H78<>\"\",'Replacement Cost Schedule'!H78,\"\")","v":""},{"$f":"IF('Replacement Cost Schedule'!I78<>\"\",'Replacement Cost Schedule'!I78,\"\")","v":""},{"$f":"IF('Replacement Cost Schedule'!J78<>\"\",'Replacement Cost Schedule'!J78,\"\")","v":""},{"$f":"IF('Replacement Cost Schedule'!K78<>\"\",'Replacement Cost Schedule'!K78,\"\")","v":""},{"$f":"IF('Replacement Cost Schedule'!L78<>\"\",'Replacement Cost Schedule'!L78,\"\")","v":""},{"$f":"IF('Replacement Cost Schedule'!M78<>\"\",'Replacement Cost Schedule'!M78,\"\")","v":""},{"$f":"IF('Replacement Cost Schedule'!N78<>\"\",'Replacement Cost Schedule'!N78,\"\")","v":""},{"$f":"IF('Replacement Cost Schedule'!O78<>\"\",'Replacement Cost Schedule'!O78,\"\")","v":""},{"$f":"IF('Replacement Cost Schedule'!P78<>\"\",'Replacement Cost Schedule'!P78,\"\")","v":""},{"$f":"IF('Replacement Cost Schedule'!Q78<>\"\",'Replacement Cost Schedule'!Q78,\"\")","v":""},{"$f":"IF('Replacement Cost Schedule'!R78<>\"\",'Replacement Cost Schedule'!R78,\"\")","v":""},{"$f":"IF('Replacement Cost Schedule'!S78<>\"\",'Replacement Cost Schedule'!S78,\"\")","v":""},null,{"$f":"IF('Replacement Cost Schedule'!C78<>\"\",'Replacement Cost Schedule'!C78,\"\")","v":""},{"$f":"IF('Replacement Cost Schedule'!T78<>\"\",'Replacement Cost Schedule'!T78,\"\")","v":""},{"$f":"IF('Replacement Cost Schedule'!U78<>\"\",'Replacement Cost Schedule'!U78,\"\")","v":""},{"$f":"IF('Replacement Cost Schedule'!V78<>\"\",'Replacement Cost Schedule'!V78,\"\")","v":""},{"$f":"IF('Replacement Cost Schedule'!W78<>\"\",'Replacement Cost Schedule'!W78,\"\")","v":""},{"$f":"IF('Replacement Cost Schedule'!X78<>\"\",'Replacement Cost Schedule'!X78,\"\")","v":""},{"$f":"IF('Replacement Cost Schedule'!Y78<>\"\",'Replacement Cost Schedule'!Y78,\"\")","v":""},{"$f":"IF('Replacement Cost Schedule'!Z78<>\"\",'Replacement Cost Schedule'!Z78,\"\")","v":""},{"$f":"IF('Replacement Cost Schedule'!AA78<>\"\",'Replacement Cost Schedule'!AA78,\"\")","v":""},{"$f":"IF('Replacement Cost Schedule'!AB78<>\"\",'Replacement Cost Schedule'!AB78,\"\")","v":""},{"$f":"IF('Replacement Cost Schedule'!AC78<>\"\",'Replacement Cost Schedule'!AC78,\"\")","v":""},{"$f":"IF('Replacement Cost Schedule'!AD78<>\"\",'Replacement Cost Schedule'!AD78,\"\")","v":""},{"$f":"IF('Replacement Cost Schedule'!AE78<>\"\",'Replacement Cost Schedule'!AE78,\"\")","v":""},{"$f":"IF('Replacement Cost Schedule'!AF78<>\"\",'Replacement Cost Schedule'!AF78,\"\")","v":""},0]
[null,null,{"$f":"IF('Replacement Cost Schedule'!C79<>\"\",'Replacement Cost Schedule'!C79,\"\")","v":""},{"$f":"IF('Replacement Cost Schedule'!D79<>\"\",'Replacement Cost Schedule'!D79,\"\")","v":""},{"$f":"IF('Replacement Cost Schedule'!E79<>\"\",'Replacement Cost Schedule'!E79,\"\")","v":""},{"$f":"IF('Replacement Cost Schedule'!F79<>\"\",'Replacement Cost Schedule'!F79,\"\")","v":""},{"$f":"IF('Replacement Cost Schedule'!G79<>\"\",'Replacement Cost Schedule'!G79,\"\")","v":""},{"$f":"IF('Replacement Cost Schedule'!H79<>\"\",'Replacement Cost Schedule'!H79,\"\")","v":""},{"$f":"IF('Replacement Cost Schedule'!I79<>\"\",'Replacement Cost Schedule'!I79,\"\")","v":""},{"$f":"IF('Replacement Cost Schedule'!J79<>\"\",'Replacement Cost Schedule'!J79,\"\")","v":""},{"$f":"IF('Replacement Cost Schedule'!K79<>\"\",'Replacement Cost Schedule'!K79,\"\")","v":""},{"$f":"IF('Replacement Cost Schedule'!L79<>\"\",'Replacement Cost Schedule'!L79,\"\")","v":""},{"$f":"IF('Replacement Cost Schedule'!M79<>\"\",'Replacement Cost Schedule'!M79,\"\")","v":""},{"$f":"IF('Replacement Cost Schedule'!N79<>\"\",'Replacement Cost Schedule'!N79,\"\")","v":""},{"$f":"IF('Replacement Cost Schedule'!O79<>\"\",'Replacement Cost Schedule'!O79,\"\")","v":""},{"$f":"IF('Replacement Cost Schedule'!P79<>\"\",'Replacement Cost Schedule'!P79,\"\")","v":""},{"$f":"IF('Replacement Cost Schedule'!Q79<>\"\",'Replacement Cost Schedule'!Q79,\"\")","v":""},{"$f":"IF('Replacement Cost Schedule'!R79<>\"\",'Replacement Cost Schedule'!R79,\"\")","v":""},{"$f":"IF('Replacement Cost Schedule'!S79<>\"\",'Replacement Cost Schedule'!S79,\"\")","v":""},null,{"$f":"IF('Replacement Cost Schedule'!C79<>\"\",'Replacement Cost Schedule'!C79,\"\")","v":""},{"$f":"IF('Replacement Cost Schedule'!T79<>\"\",'Replacement Cost Schedule'!T79,\"\")","v":""},{"$f":"IF('Replacement Cost Schedule'!U79<>\"\",'Replacement Cost Schedule'!U79,\"\")","v":""},{"$f":"IF('Replacement Cost Schedule'!V79<>\"\",'Replacement Cost Schedule'!V79,\"\")","v":""},{"$f":"IF('Replacement Cost Schedule'!W79<>\"\",'Replacement Cost Schedule'!W79,\"\")","v":""},{"$f":"IF('Replacement Cost Schedule'!X79<>\"\",'Replacement Cost Schedule'!X79,\"\")","v":""},{"$f":"IF('Replacement Cost Schedule'!Y79<>\"\",'Replacement Cost Schedule'!Y79,\"\")","v":""},{"$f":"IF('Replacement Cost Schedule'!Z79<>\"\",'Replacement Cost Schedule'!Z79,\"\")","v":""},{"$f":"IF('Replacement Cost Schedule'!AA79<>\"\",'Replacement Cost Schedule'!AA79,\"\")","v":""},{"$f":"IF('Replacement Cost Schedule'!AB79<>\"\",'Replacement Cost Schedule'!AB79,\"\")","v":""},{"$f":"IF('Replacement Cost Schedule'!AC79<>\"\",'Replacement Cost Schedule'!AC79,\"\")","v":""},{"$f":"IF('Replacement Cost Schedule'!AD79<>\"\",'Replacement Cost Schedule'!AD79,\"\")","v":""},{"$f":"IF('Replacement Cost Schedule'!AE79<>\"\",'Replacement Cost Schedule'!AE79,\"\")","v":""},{"$f":"IF('Replacement Cost Schedule'!AF79<>\"\",'Replacement Cost Schedule'!AF79,\"\")","v":""},0]
[null,null,{"$f":"IF('Replacement Cost Schedule'!C80<>\"\",'Replacement Cost Schedule'!C80,\"\")","v":""},{"$f":"IF('Replacement Cost Schedule'!D80<>\"\",'Replacement Cost Schedule'!D80,\"\")","v":""},{"$f":"IF('Replacement Cost Schedule'!E80<>\"\",'Replacement Cost Schedule'!E80,\"\")","v":""},{"$f":"IF('Replacement Cost Schedule'!F80<>\"\",'Replacement Cost Schedule'!F80,\"\")","v":""},{"$f":"IF('Replacement Cost Schedule'!G80<>\"\",'Replacement Cost Schedule'!G80,\"\")","v":""},{"$f":"IF('Replacement Cost Schedule'!H80<>\"\",'Replacement Cost Schedule'!H80,\"\")","v":""},{"$f":"IF('Replacement Cost Schedule'!I80<>\"\",'Replacement Cost Schedule'!I80,\"\")","v":""},{"$f":"IF('Replacement Cost Schedule'!J80<>\"\",'Replacement Cost Schedule'!J80,\"\")","v":""},{"$f":"IF('Replacement Cost Schedule'!K80<>\"\",'Replacement Cost Schedule'!K80,\"\")","v":""},{"$f":"IF('Replacement Cost Schedule'!L80<>\"\",'Replacement Cost Schedule'!L80,\"\")","v":""},{"$f":"IF('Replacement Cost Schedule'!M80<>\"\",'Replacement Cost Schedule'!M80,\"\")","v":""},{"$f":"IF('Replacement Cost Schedule'!N80<>\"\",'Replacement Cost Schedule'!N80,\"\")","v":""},{"$f":"IF('Replacement Cost Schedule'!O80<>\"\",'Replacement Cost Schedule'!O80,\"\")","v":""},{"$f":"IF('Replacement Cost Schedule'!P80<>\"\",'Replacement Cost Schedule'!P80,\"\")","v":""},{"$f":"IF('Replacement Cost Schedule'!Q80<>\"\",'Replacement Cost Schedule'!Q80,\"\")","v":""},{"$f":"IF('Replacement Cost Schedule'!R80<>\"\",'Replacement Cost Schedule'!R80,\"\")","v":""},{"$f":"IF('Replacement Cost Schedule'!S80<>\"\",'Replacement Cost Schedule'!S80,\"\")","v":""},null,{"$f":"IF('Replacement Cost Schedule'!C80<>\"\",'Replacement Cost Schedule'!C80,\"\")","v":""},{"$f":"IF('Replacement Cost Schedule'!T80<>\"\",'Replacement Cost Schedule'!T80,\"\")","v":""},{"$f":"IF('Replacement Cost Schedule'!U80<>\"\",'Replacement Cost Schedule'!U80,\"\")","v":""},{"$f":"IF('Replacement Cost Schedule'!V80<>\"\",'Replacement Cost Schedule'!V80,\"\")","v":""},{"$f":"IF('Replacement Cost Schedule'!W80<>\"\",'Replacement Cost Schedule'!W80,\"\")","v":""},{"$f":"IF('Replacement Cost Schedule'!X80<>\"\",'Replacement Cost Schedule'!X80,\"\")","v":""},{"$f":"IF('Replacement Cost Schedule'!Y80<>\"\",'Replacement Cost Schedule'!Y80,\"\")","v":""},{"$f":"IF('Replacement Cost Schedule'!Z80<>\"\",'Replacement Cost Schedule'!Z80,\"\")","v":""},{"$f":"IF('Replacement Cost Schedule'!AA80<>\"\",'Replacement Cost Schedule'!AA80,\"\")","v":""},{"$f":"IF('Replacement Cost Schedule'!AB80<>\"\",'Replacement Cost Schedule'!AB80,\"\")","v":""},{"$f":"IF('Replacement Cost Schedule'!AC80<>\"\",'Replacement Cost Schedule'!AC80,\"\")","v":""},{"$f":"IF('Replacement Cost Schedule'!AD80<>\"\",'Replacement Cost Schedule'!AD80,\"\")","v":""},{"$f":"IF('Replacement Cost Schedule'!AE80<>\"\",'Replacement Cost Schedule'!AE80,\"\")","v":""},{"$f":"IF('Replacement Cost Schedule'!AF80<>\"\",'Replacement Cost Schedule'!AF80,\"\")","v":""},0]
[null,null,{"$f":"IF('Replacement Cost Schedule'!C81<>\"\",'Replacement Cost Schedule'!C81,\"\")","v":""},{"$f":"IF('Replacement Cost Schedule'!D81<>\"\",'Replacement Cost Schedule'!D81,\"\")","v":""},{"$f":"IF('Replacement Cost Schedule'!E81<>\"\",'Replacement Cost Schedule'!E81,\"\")","v":""},{"$f":"IF('Replacement Cost Schedule'!F81<>\"\",'Replacement Cost Schedule'!F81,\"\")","v":""},{"$f":"IF('Replacement Cost Schedule'!G81<>\"\",'Replacement Cost Schedule'!G81,\"\")","v":""},{"$f":"IF('Replacement Cost Schedule'!H81<>\"\",'Replacement Cost Schedule'!H81,\"\")","v":""},{"$f":"IF('Replacement Cost Schedule'!I81<>\"\",'Replacement Cost Schedule'!I81,\"\")","v":""},{"$f":"IF('Replacement Cost Schedule'!J81<>\"\",'Replacement Cost Schedule'!J81,\"\")","v":""},{"$f":"IF('Replacement Cost Schedule'!K81<>\"\",'Replacement Cost Schedule'!K81,\"\")","v":""},{"$f":"IF('Replacement Cost Schedule'!L81<>\"\",'Replacement Cost Schedule'!L81,\"\")","v":""},{"$f":"IF('Replacement Cost Schedule'!M81<>\"\",'Replacement Cost Schedule'!M81,\"\")","v":""},{"$f":"IF('Replacement Cost Schedule'!N81<>\"\",'Replacement Cost Schedule'!N81,\"\")","v":""},{"$f":"IF('Replacement Cost Schedule'!O81<>\"\",'Replacement Cost Schedule'!O81,\"\")","v":""},{"$f":"IF('Replacement Cost Schedule'!P81<>\"\",'Replacement Cost Schedule'!P81,\"\")","v":""},{"$f":"IF('Replacement Cost Schedule'!Q81<>\"\",'Replacement Cost Schedule'!Q81,\"\")","v":""},{"$f":"IF('Replacement Cost Schedule'!R81<>\"\",'Replacement Cost Schedule'!R81,\"\")","v":""},{"$f":"IF('Replacement Cost Schedule'!S81<>\"\",'Replacement Cost Schedule'!S81,\"\")","v":""},null,{"$f":"IF('Replacement Cost Schedule'!C81<>\"\",'Replacement Cost Schedule'!C81,\"\")","v":""},{"$f":"IF('Replacement Cost Schedule'!T81<>\"\",'Replacement Cost Schedule'!T81,\"\")","v":""},{"$f":"IF('Replacement Cost Schedule'!U81<>\"\",'Replacement Cost Schedule'!U81,\"\")","v":""},{"$f":"IF('Replacement Cost Schedule'!V81<>\"\",'Replacement Cost Schedule'!V81,\"\")","v":""},{"$f":"IF('Replacement Cost Schedule'!W81<>\"\",'Replacement Cost Schedule'!W81,\"\")","v":""},{"$f":"IF('Replacement Cost Schedule'!X81<>\"\",'Replacement Cost Schedule'!X81,\"\")","v":""},{"$f":"IF('Replacement Cost Schedule'!Y81<>\"\",'Replacement Cost Schedule'!Y81,\"\")","v":""},{"$f":"IF('Replacement Cost Schedule'!Z81<>\"\",'Replacement Cost Schedule'!Z81,\"\")","v":""},{"$f":"IF('Replacement Cost Schedule'!AA81<>\"\",'Replacement Cost Schedule'!AA81,\"\")","v":""},{"$f":"IF('Replacement Cost Schedule'!AB81<>\"\",'Replacement Cost Schedule'!AB81,\"\")","v":""},{"$f":"IF('Replacement Cost Schedule'!AC81<>\"\",'Replacement Cost Schedule'!AC81,\"\")","v":""},{"$f":"IF('Replacement Cost Schedule'!AD81<>\"\",'Replacement Cost Schedule'!AD81,\"\")","v":""},{"$f":"IF('Replacement Cost Schedule'!AE81<>\"\",'Replacement Cost Schedule'!AE81,\"\")","v":""},{"$f":"IF('Replacement Cost Schedule'!AF81<>\"\",'Replacement Cost Schedule'!AF81,\"\")","v":""},0]
[null,null,{"$f":"IF('Replacement Cost Schedule'!C82<>\"\",'Replacement Cost Schedule'!C82,\"\")","v":""},{"$f":"IF('Replacement Cost Schedule'!D82<>\"\",'Replacement Cost Schedule'!D82,\"\")","v":""},{"$f":"IF('Replacement Cost Schedule'!E82<>\"\",'Replacement Cost Schedule'!E82,\"\")","v":""},{"$f":"IF('Replacement Cost Schedule'!F82<>\"\",'Replacement Cost Schedule'!F82,\"\")","v":""},{"$f":"IF('Replacement Cost Schedule'!G82<>\"\",'Replacement Cost Schedule'!G82,\"\")","v":""},{"$f":"IF('Replacement Cost Schedule'!H82<>\"\",'Replacement Cost Schedule'!H82,\"\")","v":""},{"$f":"IF('Replacement Cost Schedule'!I82<>\"\",'Replacement Cost Schedule'!I82,\"\")","v":""},{"$f":"IF('Replacement Cost Schedule'!J82<>\"\",'Replacement Cost Schedule'!J82,\"\")","v":""},{"$f":"IF('Replacement Cost Schedule'!K82<>\"\",'Replacement Cost Schedule'!K82,\"\")","v":""},{"$f":"IF('Replacement Cost Schedule'!L82<>\"\",'Replacement Cost Schedule'!L82,\"\")","v":""},{"$f":"IF('Replacement Cost Schedule'!M82<>\"\",'Replacement Cost Schedule'!M82,\"\")","v":""},{"$f":"IF('Replacement Cost Schedule'!N82<>\"\",'Replacement Cost Schedule'!N82,\"\")","v":""},{"$f":"IF('Replacement Cost Schedule'!O82<>\"\",'Replacement Cost Schedule'!O82,\"\")","v":""},{"$f":"IF('Replacement Cost Schedule'!P82<>\"\",'Replacement Cost Schedule'!P82,\"\")","v":""},{"$f":"IF('Replacement Cost Schedule'!Q82<>\"\",'Replacement Cost Schedule'!Q82,\"\")","v":""},{"$f":"IF('Replacement Cost Schedule'!R82<>\"\",'Replacement Cost Schedule'!R82,\"\")","v":""},{"$f":"IF('Replacement Cost Schedule'!S82<>\"\",'Replacement Cost Schedule'!S82,\"\")","v":""},null,{"$f":"IF('Replacement Cost Schedule'!C82<>\"\",'Replacement Cost Schedule'!C82,\"\")","v":""},{"$f":"IF('Replacement Cost Schedule'!T82<>\"\",'Replacement Cost Schedule'!T82,\"\")","v":""},{"$f":"IF('Replacement Cost Schedule'!U82<>\"\",'Replacement Cost Schedule'!U82,\"\")","v":""},{"$f":"IF('Replacement Cost Schedule'!V82<>\"\",'Replacement Cost Schedule'!V82,\"\")","v":""},{"$f":"IF('Replacement Cost Schedule'!W82<>\"\",'Replacement Cost Schedule'!W82,\"\")","v":""},{"$f":"IF('Replacement Cost Schedule'!X82<>\"\",'Replacement Cost Schedule'!X82,\"\")","v":""},{"$f":"IF('Replacement Cost Schedule'!Y82<>\"\",'Replacement Cost Schedule'!Y82,\"\")","v":""},{"$f":"IF('Replacement Cost Schedule'!Z82<>\"\",'Replacement Cost Schedule'!Z82,\"\")","v":""},{"$f":"IF('Replacement Cost Schedule'!AA82<>\"\",'Replacement Cost Schedule'!AA82,\"\")","v":""},{"$f":"IF('Replacement Cost Schedule'!AB82<>\"\",'Replacement Cost Schedule'!AB82,\"\")","v":""},{"$f":"IF('Replacement Cost Schedule'!AC82<>\"\",'Replacement Cost Schedule'!AC82,\"\")","v":""},{"$f":"IF('Replacement Cost Schedule'!AD82<>\"\",'Replacement Cost Schedule'!AD82,\"\")","v":""},{"$f":"IF('Replacement Cost Schedule'!AE82<>\"\",'Replacement Cost Schedule'!AE82,\"\")","v":""},{"$f":"IF('Replacement Cost Schedule'!AF82<>\"\",'Replacement Cost Schedule'!AF82,\"\")","v":""},0]
[null,null,{"$f":"IF('Replacement Cost Schedule'!C83<>\"\",'Replacement Cost Schedule'!C83,\"\")","v":""},{"$f":"IF('Replacement Cost Schedule'!D83<>\"\",'Replacement Cost Schedule'!D83,\"\")","v":""},{"$f":"IF('Replacement Cost Schedule'!E83<>\"\",'Replacement Cost Schedule'!E83,\"\")","v":""},{"$f":"IF('Replacement Cost Schedule'!F83<>\"\",'Replacement Cost Schedule'!F83,\"\")","v":""},{"$f":"IF('Replacement Cost Schedule'!G83<>\"\",'Replacement Cost Schedule'!G83,\"\")","v":""},{"$f":"IF('Replacement Cost Schedule'!H83<>\"\",'Replacement Cost Schedule'!H83,\"\")","v":""},{"$f":"IF('Replacement Cost Schedule'!I83<>\"\",'Replacement Cost Schedule'!I83,\"\")","v":""},{"$f":"IF('Replacement Cost Schedule'!J83<>\"\",'Replacement Cost Schedule'!J83,\"\")","v":""},{"$f":"IF('Replacement Cost Schedule'!K83<>\"\",'Replacement Cost Schedule'!K83,\"\")","v":""},{"$f":"IF('Replacement Cost Schedule'!L83<>\"\",'Replacement Cost Schedule'!L83,\"\")","v":""},{"$f":"IF('Replacement Cost Schedule'!M83<>\"\",'Replacement Cost Schedule'!M83,\"\")","v":""},{"$f":"IF('Replacement Cost Schedule'!N83<>\"\",'Replacement Cost Schedule'!N83,\"\")","v":""},{"$f":"IF('Replacement Cost Schedule'!O83<>\"\",'Replacement Cost Schedule'!O83,\"\")","v":""},{"$f":"IF('Replacement Cost Schedule'!P83<>\"\",'Replacement Cost Schedule'!P83,\"\")","v":""},{"$f":"IF('Replacement Cost Schedule'!Q83<>\"\",'Replacement Cost Schedule'!Q83,\"\")","v":""},{"$f":"IF('Replacement Cost Schedule'!R83<>\"\",'Replacement Cost Schedule'!R83,\"\")","v":""},{"$f":"IF('Replacement Cost Schedule'!S83<>\"\",'Replacement Cost Schedule'!S83,\"\")","v":""},null,{"$f":"IF('Replacement Cost Schedule'!C83<>\"\",'Replacement Cost Schedule'!C83,\"\")","v":""},{"$f":"IF('Replacement Cost Schedule'!T83<>\"\",'Replacement Cost Schedule'!T83,\"\")","v":""},{"$f":"IF('Replacement Cost Schedule'!U83<>\"\",'Replacement Cost Schedule'!U83,\"\")","v":""},{"$f":"IF('Replacement Cost Schedule'!V83<>\"\",'Replacement Cost Schedule'!V83,\"\")","v":""},{"$f":"IF('Replacement Cost Schedule'!W83<>\"\",'Replacement Cost Schedule'!W83,\"\")","v":""},{"$f":"IF('Replacement Cost Schedule'!X83<>\"\",'Replacement Cost Schedule'!X83,\"\")","v":""},{"$f":"IF('Replacement Cost Schedule'!Y83<>\"\",'Replacement Cost Schedule'!Y83,\"\")","v":""},{"$f":"IF('Replacement Cost Schedule'!Z83<>\"\",'Replacement Cost Schedule'!Z83,\"\")","v":""},{"$f":"IF('Replacement Cost Schedule'!AA83<>\"\",'Replacement Cost Schedule'!AA83,\"\")","v":""},{"$f":"IF('Replacement Cost Schedule'!AB83<>\"\",'Replacement Cost Schedule'!AB83,\"\")","v":""},{"$f":"IF('Replacement Cost Schedule'!AC83<>\"\",'Replacement Cost Schedule'!AC83,\"\")","v":""},{"$f":"IF('Replacement Cost Schedule'!AD83<>\"\",'Replacement Cost Schedule'!AD83,\"\")","v":""},{"$f":"IF('Replacement Cost Schedule'!AE83<>\"\",'Replacement Cost Schedule'!AE83,\"\")","v":""},{"$f":"IF('Replacement Cost Schedule'!AF83<>\"\",'Replacement Cost Schedule'!AF83,\"\")","v":""},0]
[null,null,{"$f":"IF('Replacement Cost Schedule'!C84<>\"\",'Replacement Cost Schedule'!C84,\"\")","v":""},{"$f":"IF('Replacement Cost Schedule'!D84<>\"\",'Replacement Cost Schedule'!D84,\"\")","v":""},{"$f":"IF('Replacement Cost Schedule'!E84<>\"\",'Replacement Cost Schedule'!E84,\"\")","v":""},{"$f":"IF('Replacement Cost Schedule'!F84<>\"\",'Replacement Cost Schedule'!F84,\"\")","v":""},{"$f":"IF('Replacement Cost Schedule'!G84<>\"\",'Replacement Cost Schedule'!G84,\"\")","v":""},{"$f":"IF('Replacement Cost Schedule'!H84<>\"\",'Replacement Cost Schedule'!H84,\"\")","v":""},{"$f":"IF('Replacement Cost Schedule'!I84<>\"\",'Replacement Cost Schedule'!I84,\"\")","v":""},{"$f":"IF('Replacement Cost Schedule'!J84<>\"\",'Replacement Cost Schedule'!J84,\"\")","v":""},{"$f":"IF('Replacement Cost Schedule'!K84<>\"\",'Replacement Cost Schedule'!K84,\"\")","v":""},{"$f":"IF('Replacement Cost Schedule'!L84<>\"\",'Replacement Cost Schedule'!L84,\"\")","v":""},{"$f":"IF('Replacement Cost Schedule'!M84<>\"\",'Replacement Cost Schedule'!M84,\"\")","v":""},{"$f":"IF('Replacement Cost Schedule'!N84<>\"\",'Replacement Cost Schedule'!N84,\"\")","v":""},{"$f":"IF('Replacement Cost Schedule'!O84<>\"\",'Replacement Cost Schedule'!O84,\"\")","v":""},{"$f":"IF('Replacement Cost Schedule'!P84<>\"\",'Replacement Cost Schedule'!P84,\"\")","v":""},{"$f":"IF('Replacement Cost Schedule'!Q84<>\"\",'Replacement Cost Schedule'!Q84,\"\")","v":""},{"$f":"IF('Replacement Cost Schedule'!R84<>\"\",'Replacement Cost Schedule'!R84,\"\")","v":""},{"$f":"IF('Replacement Cost Schedule'!S84<>\"\",'Replacement Cost Schedule'!S84,\"\")","v":""},null,{"$f":"IF('Replacement Cost Schedule'!C84<>\"\",'Replacement Cost Schedule'!C84,\"\")","v":""},{"$f":"IF('Replacement Cost Schedule'!T84<>\"\",'Replacement Cost Schedule'!T84,\"\")","v":""},{"$f":"IF('Replacement Cost Schedule'!U84<>\"\",'Replacement Cost Schedule'!U84,\"\")","v":""},{"$f":"IF('Replacement Cost Schedule'!V84<>\"\",'Replacement Cost Schedule'!V84,\"\")","v":""},{"$f":"IF('Replacement Cost Schedule'!W84<>\"\",'Replacement Cost Schedule'!W84,\"\")","v":""},{"$f":"IF('Replacement Cost Schedule'!X84<>\"\",'Replacement Cost Schedule'!X84,\"\")","v":""},{"$f":"IF('Replacement Cost Schedule'!Y84<>\"\",'Replacement Cost Schedule'!Y84,\"\")","v":""},{"$f":"IF('Replacement Cost Schedule'!Z84<>\"\",'Replacement Cost Schedule'!Z84,\"\")","v":""},{"$f":"IF('Replacement Cost Schedule'!AA84<>\"\",'Replacement Cost Schedule'!AA84,\"\")","v":""},{"$f":"IF('Replacement Cost Schedule'!AB84<>\"\",'Replacement Cost Schedule'!AB84,\"\")","v":""},{"$f":"IF('Replacement Cost Schedule'!AC84<>\"\",'Replacement Cost Schedule'!AC84,\"\")","v":""},{"$f":"IF('Replacement Cost Schedule'!AD84<>\"\",'Replacement Cost Schedule'!AD84,\"\")","v":""},{"$f":"IF('Replacement Cost Schedule'!AE84<>\"\",'Replacement Cost Schedule'!AE84,\"\")","v":""},{"$f":"IF('Replacement Cost Schedule'!AF84<>\"\",'Replacement Cost Schedule'!AF84,\"\")","v":""},0]
[null,null,{"$f":"IF('Replacement Cost Schedule'!C85<>\"\",'Replacement Cost Schedule'!C85,\"\")","v":""},{"$f":"IF('Replacement Cost Schedule'!D85<>\"\",'Replacement Cost Schedule'!D85,\"\")","v":""},{"$f":"IF('Replacement Cost Schedule'!E85<>\"\",'Replacement Cost Schedule'!E85,\"\")","v":""},{"$f":"IF('Replacement Cost Schedule'!F85<>\"\",'Replacement Cost Schedule'!F85,\"\")","v":""},{"$f":"IF('Replacement Cost Schedule'!G85<>\"\",'Replacement Cost Schedule'!G85,\"\")","v":""},{"$f":"IF('Replacement Cost Schedule'!H85<>\"\",'Replacement Cost Schedule'!H85,\"\")","v":""},{"$f":"IF('Replacement Cost Schedule'!I85<>\"\",'Replacement Cost Schedule'!I85,\"\")","v":""},{"$f":"IF('Replacement Cost Schedule'!J85<>\"\",'Replacement Cost Schedule'!J85,\"\")","v":""},{"$f":"IF('Replacement Cost Schedule'!K85<>\"\",'Replacement Cost Schedule'!K85,\"\")","v":""},{"$f":"IF('Replacement Cost Schedule'!L85<>\"\",'Replacement Cost Schedule'!L85,\"\")","v":""},{"$f":"IF('Replacement Cost Schedule'!M85<>\"\",'Replacement Cost Schedule'!M85,\"\")","v":""},{"$f":"IF('Replacement Cost Schedule'!N85<>\"\",'Replacement Cost Schedule'!N85,\"\")","v":""},{"$f":"IF('Replacement Cost Schedule'!O85<>\"\",'Replacement Cost Schedule'!O85,\"\")","v":""},{"$f":"IF('Replacement Cost Schedule'!P85<>\"\",'Replacement Cost Schedule'!P85,\"\")","v":""},{"$f":"IF('Replacement Cost Schedule'!Q85<>\"\",'Replacement Cost Schedule'!Q85,\"\")","v":""},{"$f":"IF('Replacement Cost Schedule'!R85<>\"\",'Replacement Cost Schedule'!R85,\"\")","v":""},{"$f":"IF('Replacement Cost Schedule'!S85<>\"\",'Replacement Cost Schedule'!S85,\"\")","v":""},null,{"$f":"IF('Replacement Cost Schedule'!C85<>\"\",'Replacement Cost Schedule'!C85,\"\")","v":""},{"$f":"IF('Replacement Cost Schedule'!T85<>\"\",'Replacement Cost Schedule'!T85,\"\")","v":""},{"$f":"IF('Replacement Cost Schedule'!U85<>\"\",'Replacement Cost Schedule'!U85,\"\")","v":""},{"$f":"IF('Replacement Cost Schedule'!V85<>\"\",'Replacement Cost Schedule'!V85,\"\")","v":""},{"$f":"IF('Replacement Cost Schedule'!W85<>\"\",'Replacement Cost Schedule'!W85,\"\")","v":""},{"$f":"IF('Replacement Cost Schedule'!X85<>\"\",'Replacement Cost Schedule'!X85,\"\")","v":""},{"$f":"IF('Replacement Cost Schedule'!Y85<>\"\",'Replacement Cost Schedule'!Y85,\"\")","v":""},{"$f":"IF('Replacement Cost Schedule'!Z85<>\"\",'Replacement Cost Schedule'!Z85,\"\")","v":""},{"$f":"IF('Replacement Cost Schedule'!AA85<>\"\",'Replacement Cost Schedule'!AA85,\"\")","v":""},{"$f":"IF('Replacement Cost Schedule'!AB85<>\"\",'Replacement Cost Schedule'!AB85,\"\")","v":""},{"$f":"IF('Replacement Cost Schedule'!AC85<>\"\",'Replacement Cost Schedule'!AC85,\"\")","v":""},{"$f":"IF('Replacement Cost Schedule'!AD85<>\"\",'Replacement Cost Schedule'!AD85,\"\")","v":""},{"$f":"IF('Replacement Cost Schedule'!AE85<>\"\",'Replacement Cost Schedule'!AE85,\"\")","v":""},{"$f":"IF('Replacement Cost Schedule'!AF85<>\"\",'Replacement Cost Schedule'!AF85,\"\")","v":""},0]
[null,null,{"$f":"IF('Replacement Cost Schedule'!C86<>\"\",'Replacement Cost Schedule'!C86,\"\")","v":""},{"$f":"IF('Replacement Cost Schedule'!D86<>\"\",'Replacement Cost Schedule'!D86,\"\")","v":""},{"$f":"IF('Replacement Cost Schedule'!E86<>\"\",'Replacement Cost Schedule'!E86,\"\")","v":""},{"$f":"IF('Replacement Cost Schedule'!F86<>\"\",'Replacement Cost Schedule'!F86,\"\")","v":""},{"$f":"IF('Replacement Cost Schedule'!G86<>\"\",'Replacement Cost Schedule'!G86,\"\")","v":""},{"$f":"IF('Replacement Cost Schedule'!H86<>\"\",'Replacement Cost Schedule'!H86,\"\")","v":""},{"$f":"IF('Replacement Cost Schedule'!I86<>\"\",'Replacement Cost Schedule'!I86,\"\")","v":""},{"$f":"IF('Replacement Cost Schedule'!J86<>\"\",'Replacement Cost Schedule'!J86,\"\")","v":""},{"$f":"IF('Replacement Cost Schedule'!K86<>\"\",'Replacement Cost Schedule'!K86,\"\")","v":""},{"$f":"IF('Replacement Cost Schedule'!L86<>\"\",'Replacement Cost Schedule'!L86,\"\")","v":""},{"$f":"IF('Replacement Cost Schedule'!M86<>\"\",'Replacement Cost Schedule'!M86,\"\")","v":""},{"$f":"IF('Replacement Cost Schedule'!N86<>\"\",'Replacement Cost Schedule'!N86,\"\")","v":""},{"$f":"IF('Replacement Cost Schedule'!O86<>\"\",'Replacement Cost Schedule'!O86,\"\")","v":""},{"$f":"IF('Replacement Cost Schedule'!P86<>\"\",'Replacement Cost Schedule'!P86,\"\")","v":""},{"$f":"IF('Replacement Cost Schedule'!Q86<>\"\",'Replacement Cost Schedule'!Q86,\"\")","v":""},{"$f":"IF('Replacement Cost Schedule'!R86<>\"\",'Replacement Cost Schedule'!R86,\"\")","v":""},{"$f":"IF('Replacement Cost Schedule'!S86<>\"\",'Replacement Cost Schedule'!S86,\"\")","v":""},null,{"$f":"IF('Replacement Cost Schedule'!C86<>\"\",'Replacement Cost Schedule'!C86,\"\")","v":""},{"$f":"IF('Replacement Cost Schedule'!T86<>\"\",'Replacement Cost Schedule'!T86,\"\")","v":""},{"$f":"IF('Replacement Cost Schedule'!U86<>\"\",'Replacement Cost Schedule'!U86,\"\")","v":""},{"$f":"IF('Replacement Cost Schedule'!V86<>\"\",'Replacement Cost Schedule'!V86,\"\")","v":""},{"$f":"IF('Replacement Cost Schedule'!W86<>\"\",'Replacement Cost Schedule'!W86,\"\")","v":""},{"$f":"IF('Replacement Cost Schedule'!X86<>\"\",'Replacement Cost Schedule'!X86,\"\")","v":""},{"$f":"IF('Replacement Cost Schedule'!Y86<>\"\",'Replacement Cost Schedule'!Y86,\"\")","v":""},{"$f":"IF('Replacement Cost Schedule'!Z86<>\"\",'Replacement Cost Schedule'!Z86,\"\")","v":""},{"$f":"IF('Replacement Cost Schedule'!AA86<>\"\",'Replacement Cost Schedule'!AA86,\"\")","v":""},{"$f":"IF('Replacement Cost Schedule'!AB86<>\"\",'Replacement Cost Schedule'!AB86,\"\")","v":""},{"$f":"IF('Replacement Cost Schedule'!AC86<>\"\",'Replacement Cost Schedule'!AC86,\"\")","v":""},{"$f":"IF('Replacement Cost Schedule'!AD86<>\"\",'Replacement Cost Schedule'!AD86,\"\")","v":""},{"$f":"IF('Replacement Cost Schedule'!AE86<>\"\",'Replacement Cost Schedule'!AE86,\"\")","v":""},{"$f":"IF('Replacement Cost Schedule'!AF86<>\"\",'Replacement Cost Schedule'!AF86,\"\")","v":""},0]
[null,null,{"$f":"IF('Replacement Cost Schedule'!C87<>\"\",'Replacement Cost Schedule'!C87,\"\")","v":""},{"$f":"IF('Replacement Cost Schedule'!D87<>\"\",'Replacement Cost Schedule'!D87,\"\")","v":""},{"$f":"IF('Replacement Cost Schedule'!E87<>\"\",'Replacement Cost Schedule'!E87,\"\")","v":""},{"$f":"IF('Replacement Cost Schedule'!F87<>\"\",'Replacement Cost Schedule'!F87,\"\")","v":""},{"$f":"IF('Replacement Cost Schedule'!G87<>\"\",'Replacement Cost Schedule'!G87,\"\")","v":""},{"$f":"IF('Replacement Cost Schedule'!H87<>\"\",'Replacement Cost Schedule'!H87,\"\")","v":""},{"$f":"IF('Replacement Cost Schedule'!I87<>\"\",'Replacement Cost Schedule'!I87,\"\")","v":""},{"$f":"IF('Replacement Cost Schedule'!J87<>\"\",'Replacement Cost Schedule'!J87,\"\")","v":""},{"$f":"IF('Replacement Cost Schedule'!K87<>\"\",'Replacement Cost Schedule'!K87,\"\")","v":""},{"$f":"IF('Replacement Cost Schedule'!L87<>\"\",'Replacement Cost Schedule'!L87,\"\")","v":""},{"$f":"IF('Replacement Cost Schedule'!M87<>\"\",'Replacement Cost Schedule'!M87,\"\")","v":""},{"$f":"IF('Replacement Cost Schedule'!N87<>\"\",'Replacement Cost Schedule'!N87,\"\")","v":""},{"$f":"IF('Replacement Cost Schedule'!O87<>\"\",'Replacement Cost Schedule'!O87,\"\")","v":""},{"$f":"IF('Replacement Cost Schedule'!P87<>\"\",'Replacement Cost Schedule'!P87,\"\")","v":""},{"$f":"IF('Replacement Cost Schedule'!Q87<>\"\",'Replacement Cost Schedule'!Q87,\"\")","v":""},{"$f":"IF('Replacement Cost Schedule'!R87<>\"\",'Replacement Cost Schedule'!R87,\"\")","v":""},{"$f":"IF('Replacement Cost Schedule'!S87<>\"\",'Replacement Cost Schedule'!S87,\"\")","v":""},null,{"$f":"IF('Replacement Cost Schedule'!C87<>\"\",'Replacement Cost Schedule'!C87,\"\")","v":""},{"$f":"IF('Replacement Cost Schedule'!T87<>\"\",'Replacement Cost Schedule'!T87,\"\")","v":""},{"$f":"IF('Replacement Cost Schedule'!U87<>\"\",'Replacement Cost Schedule'!U87,\"\")","v":""},{"$f":"IF('Replacement Cost Schedule'!V87<>\"\",'Replacement Cost Schedule'!V87,\"\")","v":""},{"$f":"IF('Replacement Cost Schedule'!W87<>\"\",'Replacement Cost Schedule'!W87,\"\")","v":""},{"$f":"IF('Replacement Cost Schedule'!X87<>\"\",'Replacement Cost Schedule'!X87,\"\")","v":""},{"$f":"IF('Replacement Cost Schedule'!Y87<>\"\",'Replacement Cost Schedule'!Y87,\"\")","v":""},{"$f":"IF('Replacement Cost Schedule'!Z87<>\"\",'Replacement Cost Schedule'!Z87,\"\")","v":""},{"$f":"IF('Replacement Cost Schedule'!AA87<>\"\",'Replacement Cost Schedule'!AA87,\"\")","v":""},{"$f":"IF('Replacement Cost Schedule'!AB87<>\"\",'Replacement Cost Schedule'!AB87,\"\")","v":""},{"$f":"IF('Replacement Cost Schedule'!AC87<>\"\",'Replacement Cost Schedule'!AC87,\"\")","v":""},{"$f":"IF('Replacement Cost Schedule'!AD87<>\"\",'Replacement Cost Schedule'!AD87,\"\")","v":""},{"$f":"IF('Replacement Cost Schedule'!AE87<>\"\",'Replacement Cost Schedule'!AE87,\"\")","v":""},{"$f":"IF('Replacement Cost Schedule'!AF87<>\"\",'Replacement Cost Schedule'!AF87,\"\")","v":""},0]
[null,null,{"$f":"IF('Replacement Cost Schedule'!C88<>\"\",'Replacement Cost Schedule'!C88,\"\")","v":""},{"$f":"IF('Replacement Cost Schedule'!D88<>\"\",'Replacement Cost Schedule'!D88,\"\")","v":""},{"$f":"IF('Replacement Cost Schedule'!E88<>\"\",'Replacement Cost Schedule'!E88,\"\")","v":""},{"$f":"IF('Replacement Cost Schedule'!F88<>\"\",'Replacement Cost Schedule'!F88,\"\")","v":""},{"$f":"IF('Replacement Cost Schedule'!G88<>\"\",'Replacement Cost Schedule'!G88,\"\")","v":""},{"$f":"IF('Replacement Cost Schedule'!H88<>\"\",'Replacement Cost Schedule'!H88,\"\")","v":""},{"$f":"IF('Replacement Cost Schedule'!I88<>\"\",'Replacement Cost Schedule'!I88,\"\")","v":""},{"$f":"IF('Replacement Cost Schedule'!J88<>\"\",'Replacement Cost Schedule'!J88,\"\")","v":""},{"$f":"IF('Replacement Cost Schedule'!K88<>\"\",'Replacement Cost Schedule'!K88,\"\")","v":""},{"$f":"IF('Replacement Cost Schedule'!L88<>\"\",'Replacement Cost Schedule'!L88,\"\")","v":""},{"$f":"IF('Replacement Cost Schedule'!M88<>\"\",'Replacement Cost Schedule'!M88,\"\")","v":""},{"$f":"IF('Replacement Cost Schedule'!N88<>\"\",'Replacement Cost Schedule'!N88,\"\")","v":""},{"$f":"IF('Replacement Cost Schedule'!O88<>\"\",'Replacement Cost Schedule'!O88,\"\")","v":""},{"$f":"IF('Replacement Cost Schedule'!P88<>\"\",'Replacement Cost Schedule'!P88,\"\")","v":""},{"$f":"IF('Replacement Cost Schedule'!Q88<>\"\",'Replacement Cost Schedule'!Q88,\"\")","v":""},{"$f":"IF('Replacement Cost Schedule'!R88<>\"\",'Replacement Cost Schedule'!R88,\"\")","v":""},{"$f":"IF('Replacement Cost Schedule'!S88<>\"\",'Replacement Cost Schedule'!S88,\"\")","v":""},null,{"$f":"IF('Replacement Cost Schedule'!C88<>\"\",'Replacement Cost Schedule'!C88,\"\")","v":""},{"$f":"IF('Replacement Cost Schedule'!T88<>\"\",'Replacement Cost Schedule'!T88,\"\")","v":""},{"$f":"IF('Replacement Cost Schedule'!U88<>\"\",'Replacement Cost Schedule'!U88,\"\")","v":""},{"$f":"IF('Replacement Cost Schedule'!V88<>\"\",'Replacement Cost Schedule'!V88,\"\")","v":""},{"$f":"IF('Replacement Cost Schedule'!W88<>\"\",'Replacement Cost Schedule'!W88,\"\")","v":""},{"$f":"IF('Replacement Cost Schedule'!X88<>\"\",'Replacement Cost Schedule'!X88,\"\")","v":""},{"$f":"IF('Replacement Cost Schedule'!Y88<>\"\",'Replacement Cost Schedule'!Y88,\"\")","v":""},{"$f":"IF('Replacement Cost Schedule'!Z88<>\"\",'Replacement Cost Schedule'!Z88,\"\")","v":""},{"$f":"IF('Replacement Cost Schedule'!AA88<>\"\",'Replacement Cost Schedule'!AA88,\"\")","v":""},{"$f":"IF('Replacement Cost Schedule'!AB88<>\"\",'Replacement Cost Schedule'!AB88,\"\")","v":""},{"$f":"IF('Replacement Cost Schedule'!AC88<>\"\",'Replacement Cost Schedule'!AC88,\"\")","v":""},{"$f":"IF('Replacement Cost Schedule'!AD88<>\"\",'Replacement Cost Schedule'!AD88,\"\")","v":""},{"$f":"IF('Replacement Cost Schedule'!AE88<>\"\",'Replacement Cost Schedule'!AE88,\"\")","v":""},{"$f":"IF('Replacement Cost Schedule'!AF88<>\"\",'Replacement Cost Schedule'!AF88,\"\")","v":""},0]
[null,null,{"$f":"IF('Replacement Cost Schedule'!C89<>\"\",'Replacement Cost Schedule'!C89,\"\")","v":""},{"$f":"IF('Replacement Cost Schedule'!D89<>\"\",'Replacement Cost Schedule'!D89,\"\")","v":""},{"$f":"IF('Replacement Cost Schedule'!E89<>\"\",'Replacement Cost Schedule'!E89,\"\")","v":""},{"$f":"IF('Replacement Cost Schedule'!F89<>\"\",'Replacement Cost Schedule'!F89,\"\")","v":""},{"$f":"IF('Replacement Cost Schedule'!G89<>\"\",'Replacement Cost Schedule'!G89,\"\")","v":""},{"$f":"IF('Replacement Cost Schedule'!H89<>\"\",'Replacement Cost Schedule'!H89,\"\")","v":""},{"$f":"IF('Replacement Cost Schedule'!I89<>\"\",'Replacement Cost Schedule'!I89,\"\")","v":""},{"$f":"IF('Replacement Cost Schedule'!J89<>\"\",'Replacement Cost Schedule'!J89,\"\")","v":""},{"$f":"IF('Replacement Cost Schedule'!K89<>\"\",'Replacement Cost Schedule'!K89,\"\")","v":""},{"$f":"IF('Replacement Cost Schedule'!L89<>\"\",'Replacement Cost Schedule'!L89,\"\")","v":""},{"$f":"IF('Replacement Cost Schedule'!M89<>\"\",'Replacement Cost Schedule'!M89,\"\")","v":""},{"$f":"IF('Replacement Cost Schedule'!N89<>\"\",'Replacement Cost Schedule'!N89,\"\")","v":""},{"$f":"IF('Replacement Cost Schedule'!O89<>\"\",'Replacement Cost Schedule'!O89,\"\")","v":""},{"$f":"IF('Replacement Cost Schedule'!P89<>\"\",'Replacement Cost Schedule'!P89,\"\")","v":""},{"$f":"IF('Replacement Cost Schedule'!Q89<>\"\",'Replacement Cost Schedule'!Q89,\"\")","v":""},{"$f":"IF('Replacement Cost Schedule'!R89<>\"\",'Replacement Cost Schedule'!R89,\"\")","v":""},{"$f":"IF('Replacement Cost Schedule'!S89<>\"\",'Replacement Cost Schedule'!S89,\"\")","v":""},null,{"$f":"IF('Replacement Cost Schedule'!C89<>\"\",'Replacement Cost Schedule'!C89,\"\")","v":""},{"$f":"IF('Replacement Cost Schedule'!T89<>\"\",'Replacement Cost Schedule'!T89,\"\")","v":""},{"$f":"IF('Replacement Cost Schedule'!U89<>\"\",'Replacement Cost Schedule'!U89,\"\")","v":""},{"$f":"IF('Replacement Cost Schedule'!V89<>\"\",'Replacement Cost Schedule'!V89,\"\")","v":""},{"$f":"IF('Replacement Cost Schedule'!W89<>\"\",'Replacement Cost Schedule'!W89,\"\")","v":""},{"$f":"IF('Replacement Cost Schedule'!X89<>\"\",'Replacement Cost Schedule'!X89,\"\")","v":""},{"$f":"IF('Replacement Cost Schedule'!Y89<>\"\",'Replacement Cost Schedule'!Y89,\"\")","v":""},{"$f":"IF('Replacement Cost Schedule'!Z89<>\"\",'Replacement Cost Schedule'!Z89,\"\")","v":""},{"$f":"IF('Replacement Cost Schedule'!AA89<>\"\",'Replacement Cost Schedule'!AA89,\"\")","v":""},{"$f":"IF('Replacement Cost Schedule'!AB89<>\"\",'Replacement Cost Schedule'!AB89,\"\")","v":""},{"$f":"IF('Replacement Cost Schedule'!AC89<>\"\",'Replacement Cost Schedule'!AC89,\"\")","v":""},{"$f":"IF('Replacement Cost Schedule'!AD89<>\"\",'Replacement Cost Schedule'!AD89,\"\")","v":""},{"$f":"IF('Replacement Cost Schedule'!AE89<>\"\",'Replacement Cost Schedule'!AE89,\"\")","v":""},{"$f":"IF('Replacement Cost Schedule'!AF89<>\"\",'Replacement Cost Schedule'!AF89,\"\")","v":""},0]
[null,null,{"$f":"IF('Replacement Cost Schedule'!C90<>\"\",'Replacement Cost Schedule'!C90,\"\")","v":""},{"$f":"IF('Replacement Cost Schedule'!D90<>\"\",'Replacement Cost Schedule'!D90,\"\")","v":""},{"$f":"IF('Replacement Cost Schedule'!E90<>\"\",'Replacement Cost Schedule'!E90,\"\")","v":""},{"$f":"IF('Replacement Cost Schedule'!F90<>\"\",'Replacement Cost Schedule'!F90,\"\")","v":""},{"$f":"IF('Replacement Cost Schedule'!G90<>\"\",'Replacement Cost Schedule'!G90,\"\")","v":""},{"$f":"IF('Replacement Cost Schedule'!H90<>\"\",'Replacement Cost Schedule'!H90,\"\")","v":""},{"$f":"IF('Replacement Cost Schedule'!I90<>\"\",'Replacement Cost Schedule'!I90,\"\")","v":""},{"$f":"IF('Replacement Cost Schedule'!J90<>\"\",'Replacement Cost Schedule'!J90,\"\")","v":""},{"$f":"IF('Replacement Cost Schedule'!K90<>\"\",'Replacement Cost Schedule'!K90,\"\")","v":""},{"$f":"IF('Replacement Cost Schedule'!L90<>\"\",'Replacement Cost Schedule'!L90,\"\")","v":""},{"$f":"IF('Replacement Cost Schedule'!M90<>\"\",'Replacement Cost Schedule'!M90,\"\")","v":""},{"$f":"IF('Replacement Cost Schedule'!N90<>\"\",'Replacement Cost Schedule'!N90,\"\")","v":""},{"$f":"IF('Replacement Cost Schedule'!O90<>\"\",'Replacement Cost Schedule'!O90,\"\")","v":""},{"$f":"IF('Replacement Cost Schedule'!P90<>\"\",'Replacement Cost Schedule'!P90,\"\")","v":""},{"$f":"IF('Replacement Cost Schedule'!Q90<>\"\",'Replacement Cost Schedule'!Q90,\"\")","v":""},{"$f":"IF('Replacement Cost Schedule'!R90<>\"\",'Replacement Cost Schedule'!R90,\"\")","v":""},{"$f":"IF('Replacement Cost Schedule'!S90<>\"\",'Replacement Cost Schedule'!S90,\"\")","v":""},null,{"$f":"IF('Replacement Cost Schedule'!C90<>\"\",'Replacement Cost Schedule'!C90,\"\")","v":""},{"$f":"IF('Replacement Cost Schedule'!T90<>\"\",'Replacement Cost Schedule'!T90,\"\")","v":""},{"$f":"IF('Replacement Cost Schedule'!U90<>\"\",'Replacement Cost Schedule'!U90,\"\")","v":""},{"$f":"IF('Replacement Cost Schedule'!V90<>\"\",'Replacement Cost Schedule'!V90,\"\")","v":""},{"$f":"IF('Replacement Cost Schedule'!W90<>\"\",'Replacement Cost Schedule'!W90,\"\")","v":""},{"$f":"IF('Replacement Cost Schedule'!X90<>\"\",'Replacement Cost Schedule'!X90,\"\")","v":""},{"$f":"IF('Replacement Cost Schedule'!Y90<>\"\",'Replacement Cost Schedule'!Y90,\"\")","v":""},{"$f":"IF('Replacement Cost Schedule'!Z90<>\"\",'Replacement Cost Schedule'!Z90,\"\")","v":""},{"$f":"IF('Replacement Cost Schedule'!AA90<>\"\",'Replacement Cost Schedule'!AA90,\"\")","v":""},{"$f":"IF('Replacement Cost Schedule'!AB90<>\"\",'Replacement Cost Schedule'!AB90,\"\")","v":""},{"$f":"IF('Replacement Cost Schedule'!AC90<>\"\",'Replacement Cost Schedule'!AC90,\"\")","v":""},{"$f":"IF('Replacement Cost Schedule'!AD90<>\"\",'Replacement Cost Schedule'!AD90,\"\")","v":""},{"$f":"IF('Replacement Cost Schedule'!AE90<>\"\",'Replacement Cost Schedule'!AE90,\"\")","v":""},{"$f":"IF('Replacement Cost Schedule'!AF90<>\"\",'Replacement Cost Schedule'!AF90,\"\")","v":""},0]
[null,null,{"$f":"IF('Replacement Cost Schedule'!C91<>\"\",'Replacement Cost Schedule'!C91,\"\")","v":""},{"$f":"IF('Replacement Cost Schedule'!D91<>\"\",'Replacement Cost Schedule'!D91,\"\")","v":""},{"$f":"IF('Replacement Cost Schedule'!E91<>\"\",'Replacement Cost Schedule'!E91,\"\")","v":""},{"$f":"IF('Replacement Cost Schedule'!F91<>\"\",'Replacement Cost Schedule'!F91,\"\")","v":""},{"$f":"IF('Replacement Cost Schedule'!G91<>\"\",'Replacement Cost Schedule'!G91,\"\")","v":""},{"$f":"IF('Replacement Cost Schedule'!H91<>\"\",'Replacement Cost Schedule'!H91,\"\")","v":""},{"$f":"IF('Replacement Cost Schedule'!I91<>\"\",'Replacement Cost Schedule'!I91,\"\")","v":""},{"$f":"IF('Replacement Cost Schedule'!J91<>\"\",'Replacement Cost Schedule'!J91,\"\")","v":""},{"$f":"IF('Replacement Cost Schedule'!K91<>\"\",'Replacement Cost Schedule'!K91,\"\")","v":""},{"$f":"IF('Replacement Cost Schedule'!L91<>\"\",'Replacement Cost Schedule'!L91,\"\")","v":""},{"$f":"IF('Replacement Cost Schedule'!M91<>\"\",'Replacement Cost Schedule'!M91,\"\")","v":""},{"$f":"IF('Replacement Cost Schedule'!N91<>\"\",'Replacement Cost Schedule'!N91,\"\")","v":""},{"$f":"IF('Replacement Cost Schedule'!O91<>\"\",'Replacement Cost Schedule'!O91,\"\")","v":""},{"$f":"IF('Replacement Cost Schedule'!P91<>\"\",'Replacement Cost Schedule'!P91,\"\")","v":""},{"$f":"IF('Replacement Cost Schedule'!Q91<>\"\",'Replacement Cost Schedule'!Q91,\"\")","v":""},{"$f":"IF('Replacement Cost Schedule'!R91<>\"\",'Replacement Cost Schedule'!R91,\"\")","v":""},{"$f":"IF('Replacement Cost Schedule'!S91<>\"\",'Replacement Cost Schedule'!S91,\"\")","v":""},null,{"$f":"IF('Replacement Cost Schedule'!C91<>\"\",'Replacement Cost Schedule'!C91,\"\")","v":""},{"$f":"IF('Replacement Cost Schedule'!T91<>\"\",'Replacement Cost Schedule'!T91,\"\")","v":""},{"$f":"IF('Replacement Cost Schedule'!U91<>\"\",'Replacement Cost Schedule'!U91,\"\")","v":""},{"$f":"IF('Replacement Cost Schedule'!V91<>\"\",'Replacement Cost Schedule'!V91,\"\")","v":""},{"$f":"IF('Replacement Cost Schedule'!W91<>\"\",'Replacement Cost Schedule'!W91,\"\")","v":""},{"$f":"IF('Replacement Cost Schedule'!X91<>\"\",'Replacement Cost Schedule'!X91,\"\")","v":""},{"$f":"IF('Replacement Cost Schedule'!Y91<>\"\",'Replacement Cost Schedule'!Y91,\"\")","v":""},{"$f":"IF('Replacement Cost Schedule'!Z91<>\"\",'Replacement Cost Schedule'!Z91,\"\")","v":""},{"$f":"IF('Replacement Cost Schedule'!AA91<>\"\",'Replacement Cost Schedule'!AA91,\"\")","v":""},{"$f":"IF('Replacement Cost Schedule'!AB91<>\"\",'Replacement Cost Schedule'!AB91,\"\")","v":""},{"$f":"IF('Replacement Cost Schedule'!AC91<>\"\",'Replacement Cost Schedule'!AC91,\"\")","v":""},{"$f":"IF('Replacement Cost Schedule'!AD91<>\"\",'Replacement Cost Schedule'!AD91,\"\")","v":""},{"$f":"IF('Replacement Cost Schedule'!AE91<>\"\",'Replacement Cost Schedule'!AE91,\"\")","v":""},{"$f":"IF('Replacement Cost Schedule'!AF91<>\"\",'Replacement Cost Schedule'!AF91,\"\")","v":""},0]
[null,null,{"$f":"IF('Replacement Cost Schedule'!C92<>\"\",'Replacement Cost Schedule'!C92,\"\")","v":""},{"$f":"IF('Replacement Cost Schedule'!D92<>\"\",'Replacement Cost Schedule'!D92,\"\")","v":""},{"$f":"IF('Replacement Cost Schedule'!E92<>\"\",'Replacement Cost Schedule'!E92,\"\")","v":""},{"$f":"IF('Replacement Cost Schedule'!F92<>\"\",'Replacement Cost Schedule'!F92,\"\")","v":""},{"$f":"IF('Replacement Cost Schedule'!G92<>\"\",'Replacement Cost Schedule'!G92,\"\")","v":""},{"$f":"IF('Replacement Cost Schedule'!H92<>\"\",'Replacement Cost Schedule'!H92,\"\")","v":""},{"$f":"IF('Replacement Cost Schedule'!I92<>\"\",'Replacement Cost Schedule'!I92,\"\")","v":""},{"$f":"IF('Replacement Cost Schedule'!J92<>\"\",'Replacement Cost Schedule'!J92,\"\")","v":""},{"$f":"IF('Replacement Cost Schedule'!K92<>\"\",'Replacement Cost Schedule'!K92,\"\")","v":""},{"$f":"IF('Replacement Cost Schedule'!L92<>\"\",'Replacement Cost Schedule'!L92,\"\")","v":""},{"$f":"IF('Replacement Cost Schedule'!M92<>\"\",'Replacement Cost Schedule'!M92,\"\")","v":""},{"$f":"IF('Replacement Cost Schedule'!N92<>\"\",'Replacement Cost Schedule'!N92,\"\")","v":""},{"$f":"IF('Replacement Cost Schedule'!O92<>\"\",'Replacement Cost Schedule'!O92,\"\")","v":""},{"$f":"IF('Replacement Cost Schedule'!P92<>\"\",'Replacement Cost Schedule'!P92,\"\")","v":""},{"$f":"IF('Replacement Cost Schedule'!Q92<>\"\",'Replacement Cost Schedule'!Q92,\"\")","v":""},{"$f":"IF('Replacement Cost Schedule'!R92<>\"\",'Replacement Cost Schedule'!R92,\"\")","v":""},{"$f":"IF('Replacement Cost Schedule'!S92<>\"\",'Replacement Cost Schedule'!S92,\"\")","v":""},null,{"$f":"IF('Replacement Cost Schedule'!C92<>\"\",'Replacement Cost Schedule'!C92,\"\")","v":""},{"$f":"IF('Replacement Cost Schedule'!T92<>\"\",'Replacement Cost Schedule'!T92,\"\")","v":""},{"$f":"IF('Replacement Cost Schedule'!U92<>\"\",'Replacement Cost Schedule'!U92,\"\")","v":""},{"$f":"IF('Replacement Cost Schedule'!V92<>\"\",'Replacement Cost Schedule'!V92,\"\")","v":""},{"$f":"IF('Replacement Cost Schedule'!W92<>\"\",'Replacement Cost Schedule'!W92,\"\")","v":""},{"$f":"IF('Replacement Cost Schedule'!X92<>\"\",'Replacement Cost Schedule'!X92,\"\")","v":""},{"$f":"IF('Replacement Cost Schedule'!Y92<>\"\",'Replacement Cost Schedule'!Y92,\"\")","v":""},{"$f":"IF('Replacement Cost Schedule'!Z92<>\"\",'Replacement Cost Schedule'!Z92,\"\")","v":""},{"$f":"IF('Replacement Cost Schedule'!AA92<>\"\",'Replacement Cost Schedule'!AA92,\"\")","v":""},{"$f":"IF('Replacement Cost Schedule'!AB92<>\"\",'Replacement Cost Schedule'!AB92,\"\")","v":""},{"$f":"IF('Replacement Cost Schedule'!AC92<>\"\",'Replacement Cost Schedule'!AC92,\"\")","v":""},{"$f":"IF('Replacement Cost Schedule'!AD92<>\"\",'Replacement Cost Schedule'!AD92,\"\")","v":""},{"$f":"IF('Replacement Cost Schedule'!AE92<>\"\",'Replacement Cost Schedule'!AE92,\"\")","v":""},{"$f":"IF('Replacement Cost Schedule'!AF92<>\"\",'Replacement Cost Schedule'!AF92,\"\")","v":""},0]
[null,null,{"$f":"IF('Replacement Cost Schedule'!C93<>\"\",'Replacement Cost Schedule'!C93,\"\")","v":""},{"$f":"IF('Replacement Cost Schedule'!D93<>\"\",'Replacement Cost Schedule'!D93,\"\")","v":""},{"$f":"IF('Replacement Cost Schedule'!E93<>\"\",'Replacement Cost Schedule'!E93,\"\")","v":""},{"$f":"IF('Replacement Cost Schedule'!F93<>\"\",'Replacement Cost Schedule'!F93,\"\")","v":""},{"$f":"IF('Replacement Cost Schedule'!G93<>\"\",'Replacement Cost Schedule'!G93,\"\")","v":""},{"$f":"IF('Replacement Cost Schedule'!H93<>\"\",'Replacement Cost Schedule'!H93,\"\")","v":""},{"$f":"IF('Replacement Cost Schedule'!I93<>\"\",'Replacement Cost Schedule'!I93,\"\")","v":""},{"$f":"IF('Replacement Cost Schedule'!J93<>\"\",'Replacement Cost Schedule'!J93,\"\")","v":""},{"$f":"IF('Replacement Cost Schedule'!K93<>\"\",'Replacement Cost Schedule'!K93,\"\")","v":""},{"$f":"IF('Replacement Cost Schedule'!L93<>\"\",'Replacement Cost Schedule'!L93,\"\")","v":""},{"$f":"IF('Replacement Cost Schedule'!M93<>\"\",'Replacement Cost Schedule'!M93,\"\")","v":""},{"$f":"IF('Replacement Cost Schedule'!N93<>\"\",'Replacement Cost Schedule'!N93,\"\")","v":""},{"$f":"IF('Replacement Cost Schedule'!O93<>\"\",'Replacement Cost Schedule'!O93,\"\")","v":""},{"$f":"IF('Replacement Cost Schedule'!P93<>\"\",'Replacement Cost Schedule'!P93,\"\")","v":""},{"$f":"IF('Replacement Cost Schedule'!Q93<>\"\",'Replacement Cost Schedule'!Q93,\"\")","v":""},{"$f":"IF('Replacement Cost Schedule'!R93<>\"\",'Replacement Cost Schedule'!R93,\"\")","v":""},{"$f":"IF('Replacement Cost Schedule'!S93<>\"\",'Replacement Cost Schedule'!S93,\"\")","v":""},null,{"$f":"IF('Replacement Cost Schedule'!C93<>\"\",'Replacement Cost Schedule'!C93,\"\")","v":""},{"$f":"IF('Replacement Cost Schedule'!T93<>\"\",'Replacement Cost Schedule'!T93,\"\")","v":""},{"$f":"IF('Replacement Cost Schedule'!U93<>\"\",'Replacement Cost Schedule'!U93,\"\")","v":""},{"$f":"IF('Replacement Cost Schedule'!V93<>\"\",'Replacement Cost Schedule'!V93,\"\")","v":""},{"$f":"IF('Replacement Cost Schedule'!W93<>\"\",'Replacement Cost Schedule'!W93,\"\")","v":""},{"$f":"IF('Replacement Cost Schedule'!X93<>\"\",'Replacement Cost Schedule'!X93,\"\")","v":""},{"$f":"IF('Replacement Cost Schedule'!Y93<>\"\",'Replacement Cost Schedule'!Y93,\"\")","v":""},{"$f":"IF('Replacement Cost Schedule'!Z93<>\"\",'Replacement Cost Schedule'!Z93,\"\")","v":""},{"$f":"IF('Replacement Cost Schedule'!AA93<>\"\",'Replacement Cost Schedule'!AA93,\"\")","v":""},{"$f":"IF('Replacement Cost Schedule'!AB93<>\"\",'Replacement Cost Schedule'!AB93,\"\")","v":""},{"$f":"IF('Replacement Cost Schedule'!AC93<>\"\",'Replacement Cost Schedule'!AC93,\"\")","v":""},{"$f":"IF('Replacement Cost Schedule'!AD93<>\"\",'Replacement Cost Schedule'!AD93,\"\")","v":""},{"$f":"IF('Replacement Cost Schedule'!AE93<>\"\",'Replacement Cost Schedule'!AE93,\"\")","v":""},{"$f":"IF('Replacement Cost Schedule'!AF93<>\"\",'Replacement Cost Schedule'!AF93,\"\")","v":""},0]
[null,null,{"$f":"IF('Replacement Cost Schedule'!C94<>\"\",'Replacement Cost Schedule'!C94,\"\")","v":""},{"$f":"IF('Replacement Cost Schedule'!D94<>\"\",'Replacement Cost Schedule'!D94,\"\")","v":""},{"$f":"IF('Replacement Cost Schedule'!E94<>\"\",'Replacement Cost Schedule'!E94,\"\")","v":""},{"$f":"IF('Replacement Cost Schedule'!F94<>\"\",'Replacement Cost Schedule'!F94,\"\")","v":""},{"$f":"IF('Replacement Cost Schedule'!G94<>\"\",'Replacement Cost Schedule'!G94,\"\")","v":""},{"$f":"IF('Replacement Cost Schedule'!H94<>\"\",'Replacement Cost Schedule'!H94,\"\")","v":""},{"$f":"IF('Replacement Cost Schedule'!I94<>\"\",'Replacement Cost Schedule'!I94,\"\")","v":""},{"$f":"IF('Replacement Cost Schedule'!J94<>\"\",'Replacement Cost Schedule'!J94,\"\")","v":""},{"$f":"IF('Replacement Cost Schedule'!K94<>\"\",'Replacement Cost Schedule'!K94,\"\")","v":""},{"$f":"IF('Replacement Cost Schedule'!L94<>\"\",'Replacement Cost Schedule'!L94,\"\")","v":""},{"$f":"IF('Replacement Cost Schedule'!M94<>\"\",'Replacement Cost Schedule'!M94,\"\")","v":""},{"$f":"IF('Replacement Cost Schedule'!N94<>\"\",'Replacement Cost Schedule'!N94,\"\")","v":""},{"$f":"IF('Replacement Cost Schedule'!O94<>\"\",'Replacement Cost Schedule'!O94,\"\")","v":""},{"$f":"IF('Replacement Cost Schedule'!P94<>\"\",'Replacement Cost Schedule'!P94,\"\")","v":""},{"$f":"IF('Replacement Cost Schedule'!Q94<>\"\",'Replacement Cost Schedule'!Q94,\"\")","v":""},{"$f":"IF('Replacement Cost Schedule'!R94<>\"\",'Replacement Cost Schedule'!R94,\"\")","v":""},{"$f":"IF('Replacement Cost Schedule'!S94<>\"\",'Replacement Cost Schedule'!S94,\"\")","v":""},null,{"$f":"IF('Replacement Cost Schedule'!C94<>\"\",'Replacement Cost Schedule'!C94,\"\")","v":""},{"$f":"IF('Replacement Cost Schedule'!T94<>\"\",'Replacement Cost Schedule'!T94,\"\")","v":""},{"$f":"IF('Replacement Cost Schedule'!U94<>\"\",'Replacement Cost Schedule'!U94,\"\")","v":""},{"$f":"IF('Replacement Cost Schedule'!V94<>\"\",'Replacement Cost Schedule'!V94,\"\")","v":""},{"$f":"IF('Replacement Cost Schedule'!W94<>\"\",'Replacement Cost Schedule'!W94,\"\")","v":""},{"$f":"IF('Replacement Cost Schedule'!X94<>\"\",'Replacement Cost Schedule'!X94,\"\")","v":""},{"$f":"IF('Replacement Cost Schedule'!Y94<>\"\",'Replacement Cost Schedule'!Y94,\"\")","v":""},{"$f":"IF('Replacement Cost Schedule'!Z94<>\"\",'Replacement Cost Schedule'!Z94,\"\")","v":""},{"$f":"IF('Replacement Cost Schedule'!AA94<>\"\",'Replacement Cost Schedule'!AA94,\"\")","v":""},{"$f":"IF('Replacement Cost Schedule'!AB94<>\"\",'Replacement Cost Schedule'!AB94,\"\")","v":""},{"$f":"IF('Replacement Cost Schedule'!AC94<>\"\",'Replacement Cost Schedule'!AC94,\"\")","v":""},{"$f":"IF('Replacement Cost Schedule'!AD94<>\"\",'Replacement Cost Schedule'!AD94,\"\")","v":""},{"$f":"IF('Replacement Cost Schedule'!AE94<>\"\",'Replacement Cost Schedule'!AE94,\"\")","v":""},{"$f":"IF('Replacement Cost Schedule'!AF94<>\"\",'Replacement Cost Schedule'!AF94,\"\")","v":""},0]
[null,null,{"$f":"IF('Replacement Cost Schedule'!C95<>\"\",'Replacement Cost Schedule'!C95,\"\")","v":""},{"$f":"IF('Replacement Cost Schedule'!D95<>\"\",'Replacement Cost Schedule'!D95,\"\")","v":""},{"$f":"IF('Replacement Cost Schedule'!E95<>\"\",'Replacement Cost Schedule'!E95,\"\")","v":""},{"$f":"IF('Replacement Cost Schedule'!F95<>\"\",'Replacement Cost Schedule'!F95,\"\")","v":""},{"$f":"IF('Replacement Cost Schedule'!G95<>\"\",'Replacement Cost Schedule'!G95,\"\")","v":""},{"$f":"IF('Replacement Cost Schedule'!H95<>\"\",'Replacement Cost Schedule'!H95,\"\")","v":""},{"$f":"IF('Replacement Cost Schedule'!I95<>\"\",'Replacement Cost Schedule'!I95,\"\")","v":""},{"$f":"IF('Replacement Cost Schedule'!J95<>\"\",'Replacement Cost Schedule'!J95,\"\")","v":""},{"$f":"IF('Replacement Cost Schedule'!K95<>\"\",'Replacement Cost Schedule'!K95,\"\")","v":""},{"$f":"IF('Replacement Cost Schedule'!L95<>\"\",'Replacement Cost Schedule'!L95,\"\")","v":""},{"$f":"IF('Replacement Cost Schedule'!M95<>\"\",'Replacement Cost Schedule'!M95,\"\")","v":""},{"$f":"IF('Replacement Cost Schedule'!N95<>\"\",'Replacement Cost Schedule'!N95,\"\")","v":""},{"$f":"IF('Replacement Cost Schedule'!O95<>\"\",'Replacement Cost Schedule'!O95,\"\")","v":""},{"$f":"IF('Replacement Cost Schedule'!P95<>\"\",'Replacement Cost Schedule'!P95,\"\")","v":""},{"$f":"IF('Replacement Cost Schedule'!Q95<>\"\",'Replacement Cost Schedule'!Q95,\"\")","v":""},{"$f":"IF('Replacement Cost Schedule'!R95<>\"\",'Replacement Cost Schedule'!R95,\"\")","v":""},{"$f":"IF('Replacement Cost Schedule'!S95<>\"\",'Replacement Cost Schedule'!S95,\"\")","v":""},null,{"$f":"IF('Replacement Cost Schedule'!C95<>\"\",'Replacement Cost Schedule'!C95,\"\")","v":""},{"$f":"IF('Replacement Cost Schedule'!T95<>\"\",'Replacement Cost Schedule'!T95,\"\")","v":""},{"$f":"IF('Replacement Cost Schedule'!U95<>\"\",'Replacement Cost Schedule'!U95,\"\")","v":""},{"$f":"IF('Replacement Cost Schedule'!V95<>\"\",'Replacement Cost Schedule'!V95,\"\")","v":""},{"$f":"IF('Replacement Cost Schedule'!W95<>\"\",'Replacement Cost Schedule'!W95,\"\")","v":""},{"$f":"IF('Replacement Cost Schedule'!X95<>\"\",'Replacement Cost Schedule'!X95,\"\")","v":""},{"$f":"IF('Replacement Cost Schedule'!Y95<>\"\",'Replacement Cost Schedule'!Y95,\"\")","v":""},{"$f":"IF('Replacement Cost Schedule'!Z95<>\"\",'Replacement Cost Schedule'!Z95,\"\")","v":""},{"$f":"IF('Replacement Cost Schedule'!AA95<>\"\",'Replacement Cost Schedule'!AA95,\"\")","v":""},{"$f":"IF('Replacement Cost Schedule'!AB95<>\"\",'Replacement Cost Schedule'!AB95,\"\")","v":""},{"$f":"IF('Replacement Cost Schedule'!AC95<>\"\",'Replacement Cost Schedule'!AC95,\"\")","v":""},{"$f":"IF('Replacement Cost Schedule'!AD95<>\"\",'Replacement Cost Schedule'!AD95,\"\")","v":""},{"$f":"IF('Replacement Cost Schedule'!AE95<>\"\",'Replacement Cost Schedule'!AE95,\"\")","v":""},{"$f":"IF('Replacement Cost Schedule'!AF95<>\"\",'Replacement Cost Schedule'!AF95,\"\")","v":""},0]
[null,null,{"$f":"IF('Replacement Cost Schedule'!C96<>\"\",'Replacement Cost Schedule'!C96,\"\")","v":""},{"$f":"IF('Replacement Cost Schedule'!D96<>\"\",'Replacement Cost Schedule'!D96,\"\")","v":""},{"$f":"IF('Replacement Cost Schedule'!E96<>\"\",'Replacement Cost Schedule'!E96,\"\")","v":""},{"$f":"IF('Replacement Cost Schedule'!F96<>\"\",'Replacement Cost Schedule'!F96,\"\")","v":""},{"$f":"IF('Replacement Cost Schedule'!G96<>\"\",'Replacement Cost Schedule'!G96,\"\")","v":""},{"$f":"IF('Replacement Cost Schedule'!H96<>\"\",'Replacement Cost Schedule'!H96,\"\")","v":""},{"$f":"IF('Replacement Cost Schedule'!I96<>\"\",'Replacement Cost Schedule'!I96,\"\")","v":""},{"$f":"IF('Replacement Cost Schedule'!J96<>\"\",'Replacement Cost Schedule'!J96,\"\")","v":""},{"$f":"IF('Replacement Cost Schedule'!K96<>\"\",'Replacement Cost Schedule'!K96,\"\")","v":""},{"$f":"IF('Replacement Cost Schedule'!L96<>\"\",'Replacement Cost Schedule'!L96,\"\")","v":""},{"$f":"IF('Replacement Cost Schedule'!M96<>\"\",'Replacement Cost Schedule'!M96,\"\")","v":""},{"$f":"IF('Replacement Cost Schedule'!N96<>\"\",'Replacement Cost Schedule'!N96,\"\")","v":""},{"$f":"IF('Replacement Cost Schedule'!O96<>\"\",'Replacement Cost Schedule'!O96,\"\")","v":""},{"$f":"IF('Replacement Cost Schedule'!P96<>\"\",'Replacement Cost Schedule'!P96,\"\")","v":""},{"$f":"IF('Replacement Cost Schedule'!Q96<>\"\",'Replacement Cost Schedule'!Q96,\"\")","v":""},{"$f":"IF('Replacement Cost Schedule'!R96<>\"\",'Replacement Cost Schedule'!R96,\"\")","v":""},{"$f":"IF('Replacement Cost Schedule'!S96<>\"\",'Replacement Cost Schedule'!S96,\"\")","v":""},null,{"$f":"IF('Replacement Cost Schedule'!C96<>\"\",'Replacement Cost Schedule'!C96,\"\")","v":""},{"$f":"IF('Replacement Cost Schedule'!T96<>\"\",'Replacement Cost Schedule'!T96,\"\")","v":""},{"$f":"IF('Replacement Cost Schedule'!U96<>\"\",'Replacement Cost Schedule'!U96,\"\")","v":""},{"$f":"IF('Replacement Cost Schedule'!V96<>\"\",'Replacement Cost Schedule'!V96,\"\")","v":""},{"$f":"IF('Replacement Cost Schedule'!W96<>\"\",'Replacement Cost Schedule'!W96,\"\")","v":""},{"$f":"IF('Replacement Cost Schedule'!X96<>\"\",'Replacement Cost Schedule'!X96,\"\")","v":""},{"$f":"IF('Replacement Cost Schedule'!Y96<>\"\",'Replacement Cost Schedule'!Y96,\"\")","v":""},{"$f":"IF('Replacement Cost Schedule'!Z96<>\"\",'Replacement Cost Schedule'!Z96,\"\")","v":""},{"$f":"IF('Replacement Cost Schedule'!AA96<>\"\",'Replacement Cost Schedule'!AA96,\"\")","v":""},{"$f":"IF('Replacement Cost Schedule'!AB96<>\"\",'Replacement Cost Schedule'!AB96,\"\")","v":""},{"$f":"IF('Replacement Cost Schedule'!AC96<>\"\",'Replacement Cost Schedule'!AC96,\"\")","v":""},{"$f":"IF('Replacement Cost Schedule'!AD96<>\"\",'Replacement Cost Schedule'!AD96,\"\")","v":""},{"$f":"IF('Replacement Cost Schedule'!AE96<>\"\",'Replacement Cost Schedule'!AE96,\"\")","v":""},{"$f":"IF('Replacement Cost Schedule'!AF96<>\"\",'Replacement Cost Schedule'!AF96,\"\")","v":""},0]
[null,null,{"$f":"IF('Replacement Cost Schedule'!C97<>\"\",'Replacement Cost Schedule'!C97,\"\")","v":""},{"$f":"IF('Replacement Cost Schedule'!D97<>\"\",'Replacement Cost Schedule'!D97,\"\")","v":""},{"$f":"IF('Replacement Cost Schedule'!E97<>\"\",'Replacement Cost Schedule'!E97,\"\")","v":""},{"$f":"IF('Replacement Cost Schedule'!F97<>\"\",'Replacement Cost Schedule'!F97,\"\")","v":""},{"$f":"IF('Replacement Cost Schedule'!G97<>\"\",'Replacement Cost Schedule'!G97,\"\")","v":""},{"$f":"IF('Replacement Cost Schedule'!H97<>\"\",'Replacement Cost Schedule'!H97,\"\")","v":""},{"$f":"IF('Replacement Cost Schedule'!I97<>\"\",'Replacement Cost Schedule'!I97,\"\")","v":""},{"$f":"IF('Replacement Cost Schedule'!J97<>\"\",'Replacement Cost Schedule'!J97,\"\")","v":""},{"$f":"IF('Replacement Cost Schedule'!K97<>\"\",'Replacement Cost Schedule'!K97,\"\")","v":""},{"$f":"IF('Replacement Cost Schedule'!L97<>\"\",'Replacement Cost Schedule'!L97,\"\")","v":""},{"$f":"IF('Replacement Cost Schedule'!M97<>\"\",'Replacement Cost Schedule'!M97,\"\")","v":""},{"$f":"IF('Replacement Cost Schedule'!N97<>\"\",'Replacement Cost Schedule'!N97,\"\")","v":""},{"$f":"IF('Replacement Cost Schedule'!O97<>\"\",'Replacement Cost Schedule'!O97,\"\")","v":""},{"$f":"IF('Replacement Cost Schedule'!P97<>\"\",'Replacement Cost Schedule'!P97,\"\")","v":""},{"$f":"IF('Replacement Cost Schedule'!Q97<>\"\",'Replacement Cost Schedule'!Q97,\"\")","v":""},{"$f":"IF('Replacement Cost Schedule'!R97<>\"\",'Replacement Cost Schedule'!R97,\"\")","v":""},{"$f":"IF('Replacement Cost Schedule'!S97<>\"\",'Replacement Cost Schedule'!S97,\"\")","v":""},null,{"$f":"IF('Replacement Cost Schedule'!C97<>\"\",'Replacement Cost Schedule'!C97,\"\")","v":""},{"$f":"IF('Replacement Cost Schedule'!T97<>\"\",'Replacement Cost Schedule'!T97,\"\")","v":""},{"$f":"IF('Replacement Cost Schedule'!U97<>\"\",'Replacement Cost Schedule'!U97,\"\")","v":""},{"$f":"IF('Replacement Cost Schedule'!V97<>\"\",'Replacement Cost Schedule'!V97,\"\")","v":""},{"$f":"IF('Replacement Cost Schedule'!W97<>\"\",'Replacement Cost Schedule'!W97,\"\")","v":""},{"$f":"IF('Replacement Cost Schedule'!X97<>\"\",'Replacement Cost Schedule'!X97,\"\")","v":""},{"$f":"IF('Replacement Cost Schedule'!Y97<>\"\",'Replacement Cost Schedule'!Y97,\"\")","v":""},{"$f":"IF('Replacement Cost Schedule'!Z97<>\"\",'Replacement Cost Schedule'!Z97,\"\")","v":""},{"$f":"IF('Replacement Cost Schedule'!AA97<>\"\",'Replacement Cost Schedule'!AA97,\"\")","v":""},{"$f":"IF('Replacement Cost Schedule'!AB97<>\"\",'Replacement Cost Schedule'!AB97,\"\")","v":""},{"$f":"IF('Replacement Cost Schedule'!AC97<>\"\",'Replacement Cost Schedule'!AC97,\"\")","v":""},{"$f":"IF('Replacement Cost Schedule'!AD97<>\"\",'Replacement Cost Schedule'!AD97,\"\")","v":""},{"$f":"IF('Replacement Cost Schedule'!AE97<>\"\",'Replacement Cost Schedule'!AE97,\"\")","v":""},{"$f":"IF('Replacement Cost Schedule'!AF97<>\"\",'Replacement Cost Schedule'!AF97,\"\")","v":""},0]
[null,null,{"$f":"IF('Replacement Cost Schedule'!C98<>\"\",'Replacement Cost Schedule'!C98,\"\")","v":""},{"$f":"IF('Replacement Cost Schedule'!D98<>\"\",'Replacement Cost Schedule'!D98,\"\")","v":""},{"$f":"IF('Replacement Cost Schedule'!E98<>\"\",'Replacement Cost Schedule'!E98,\"\")","v":""},{"$f":"IF('Replacement Cost Schedule'!F98<>\"\",'Replacement Cost Schedule'!F98,\"\")","v":""},{"$f":"IF('Replacement Cost Schedule'!G98<>\"\",'Replacement Cost Schedule'!G98,\"\")","v":""},{"$f":"IF('Replacement Cost Schedule'!H98<>\"\",'Replacement Cost Schedule'!H98,\"\")","v":""},{"$f":"IF('Replacement Cost Schedule'!I98<>\"\",'Replacement Cost Schedule'!I98,\"\")","v":""},{"$f":"IF('Replacement Cost Schedule'!J98<>\"\",'Replacement Cost Schedule'!J98,\"\")","v":""},{"$f":"IF('Replacement Cost Schedule'!K98<>\"\",'Replacement Cost Schedule'!K98,\"\")","v":""},{"$f":"IF('Replacement Cost Schedule'!L98<>\"\",'Replacement Cost Schedule'!L98,\"\")","v":""},{"$f":"IF('Replacement Cost Schedule'!M98<>\"\",'Replacement Cost Schedule'!M98,\"\")","v":""},{"$f":"IF('Replacement Cost Schedule'!N98<>\"\",'Replacement Cost Schedule'!N98,\"\")","v":""},{"$f":"IF('Replacement Cost Schedule'!O98<>\"\",'Replacement Cost Schedule'!O98,\"\")","v":""},{"$f":"IF('Replacement Cost Schedule'!P98<>\"\",'Replacement Cost Schedule'!P98,\"\")","v":""},{"$f":"IF('Replacement Cost Schedule'!Q98<>\"\",'Replacement Cost Schedule'!Q98,\"\")","v":""},{"$f":"IF('Replacement Cost Schedule'!R98<>\"\",'Replacement Cost Schedule'!R98,\"\")","v":""},{"$f":"IF('Replacement Cost Schedule'!S98<>\"\",'Replacement Cost Schedule'!S98,\"\")","v":""},null,{"$f":"IF('Replacement Cost Schedule'!C98<>\"\",'Replacement Cost Schedule'!C98,\"\")","v":""},{"$f":"IF('Replacement Cost Schedule'!T98<>\"\",'Replacement Cost Schedule'!T98,\"\")","v":""},{"$f":"IF('Replacement Cost Schedule'!U98<>\"\",'Replacement Cost Schedule'!U98,\"\")","v":""},{"$f":"IF('Replacement Cost Schedule'!V98<>\"\",'Replacement Cost Schedule'!V98,\"\")","v":""},{"$f":"IF('Replacement Cost Schedule'!W98<>\"\",'Replacement Cost Schedule'!W98,\"\")","v":""},{"$f":"IF('Replacement Cost Schedule'!X98<>\"\",'Replacement Cost Schedule'!X98,\"\")","v":""},{"$f":"IF('Replacement Cost Schedule'!Y98<>\"\",'Replacement Cost Schedule'!Y98,\"\")","v":""},{"$f":"IF('Replacement Cost Schedule'!Z98<>\"\",'Replacement Cost Schedule'!Z98,\"\")","v":""},{"$f":"IF('Replacement Cost Schedule'!AA98<>\"\",'Replacement Cost Schedule'!AA98,\"\")","v":""},{"$f":"IF('Replacement Cost Schedule'!AB98<>\"\",'Replacement Cost Schedule'!AB98,\"\")","v":""},{"$f":"IF('Replacement Cost Schedule'!AC98<>\"\",'Replacement Cost Schedule'!AC98,\"\")","v":""},{"$f":"IF('Replacement Cost Schedule'!AD98<>\"\",'Replacement Cost Schedule'!AD98,\"\")","v":""},{"$f":"IF('Replacement Cost Schedule'!AE98<>\"\",'Replacement Cost Schedule'!AE98,\"\")","v":""},{"$f":"IF('Replacement Cost Schedule'!AF98<>\"\",'Replacement Cost Schedule'!AF98,\"\")","v":""},0]
[null,null,{"$f":"IF('Replacement Cost Schedule'!C99<>\"\",'Replacement Cost Schedule'!C99,\"\")","v":""},{"$f":"IF('Replacement Cost Schedule'!D99<>\"\",'Replacement Cost Schedule'!D99,\"\")","v":""},{"$f":"IF('Replacement Cost Schedule'!E99<>\"\",'Replacement Cost Schedule'!E99,\"\")","v":""},{"$f":"IF('Replacement Cost Schedule'!F99<>\"\",'Replacement Cost Schedule'!F99,\"\")","v":""},{"$f":"IF('Replacement Cost Schedule'!G99<>\"\",'Replacement Cost Schedule'!G99,\"\")","v":""},{"$f":"IF('Replacement Cost Schedule'!H99<>\"\",'Replacement Cost Schedule'!H99,\"\")","v":""},{"$f":"IF('Replacement Cost Schedule'!I99<>\"\",'Replacement Cost Schedule'!I99,\"\")","v":""},{"$f":"IF('Replacement Cost Schedule'!J99<>\"\",'Replacement Cost Schedule'!J99,\"\")","v":""},{"$f":"IF('Replacement Cost Schedule'!K99<>\"\",'Replacement Cost Schedule'!K99,\"\")","v":""},{"$f":"IF('Replacement Cost Schedule'!L99<>\"\",'Replacement Cost Schedule'!L99,\"\")","v":""},{"$f":"IF('Replacement Cost Schedule'!M99<>\"\",'Replacement Cost Schedule'!M99,\"\")","v":""},{"$f":"IF('Replacement Cost Schedule'!N99<>\"\",'Replacement Cost Schedule'!N99,\"\")","v":""},{"$f":"IF('Replacement Cost Schedule'!O99<>\"\",'Replacement Cost Schedule'!O99,\"\")","v":""},{"$f":"IF('Replacement Cost Schedule'!P99<>\"\",'Replacement Cost Schedule'!P99,\"\")","v":""},{"$f":"IF('Replacement Cost Schedule'!Q99<>\"\",'Replacement Cost Schedule'!Q99,\"\")","v":""},{"$f":"IF('Replacement Cost Schedule'!R99<>\"\",'Replacement Cost Schedule'!R99,\"\")","v":""},{"$f":"IF('Replacement Cost Schedule'!S99<>\"\",'Replacement Cost Schedule'!S99,\"\")","v":""},null,{"$f":"IF('Replacement Cost Schedule'!C99<>\"\",'Replacement Cost Schedule'!C99,\"\")","v":""},{"$f":"IF('Replacement Cost Schedule'!T99<>\"\",'Replacement Cost Schedule'!T99,\"\")","v":""},{"$f":"IF('Replacement Cost Schedule'!U99<>\"\",'Replacement Cost Schedule'!U99,\"\")","v":""},{"$f":"IF('Replacement Cost Schedule'!V99<>\"\",'Replacement Cost Schedule'!V99,\"\")","v":""},{"$f":"IF('Replacement Cost Schedule'!W99<>\"\",'Replacement Cost Schedule'!W99,\"\")","v":""},{"$f":"IF('Replacement Cost Schedule'!X99<>\"\",'Replacement Cost Schedule'!X99,\"\")","v":""},{"$f":"IF('Replacement Cost Schedule'!Y99<>\"\",'Replacement Cost Schedule'!Y99,\"\")","v":""},{"$f":"IF('Replacement Cost Schedule'!Z99<>\"\",'Replacement Cost Schedule'!Z99,\"\")","v":""},{"$f":"IF('Replacement Cost Schedule'!AA99<>\"\",'Replacement Cost Schedule'!AA99,\"\")","v":""},{"$f":"IF('Replacement Cost Schedule'!AB99<>\"\",'Replacement Cost Schedule'!AB99,\"\")","v":""},{"$f":"IF('Replacement Cost Schedule'!AC99<>\"\",'Replacement Cost Schedule'!AC99,\"\")","v":""},{"$f":"IF('Replacement Cost Schedule'!AD99<>\"\",'Replacement Cost Schedule'!AD99,\"\")","v":""},{"$f":"IF('Replacement Cost Schedule'!AE99<>\"\",'Replacement Cost Schedule'!AE99,\"\")","v":""},{"$f":"IF('Replacement Cost Schedule'!AF99<>\"\",'Replacement Cost Schedule'!AF99,\"\")","v":""},0]
[null,null,{"$f":"IF('Replacement Cost Schedule'!C100<>\"\",'Replacement Cost Schedule'!C100,\"\")","v":""},{"$f":"IF('Replacement Cost Schedule'!D100<>\"\",'Replacement Cost Schedule'!D100,\"\")","v":""},{"$f":"IF('Replacement Cost Schedule'!E100<>\"\",'Replacement Cost Schedule'!E100,\"\")","v":""},{"$f":"IF('Replacement Cost Schedule'!F100<>\"\",'Replacement Cost Schedule'!F100,\"\")","v":""},{"$f":"IF('Replacement Cost Schedule'!G100<>\"\",'Replacement Cost Schedule'!G100,\"\")","v":""},{"$f":"IF('Replacement Cost Schedule'!H100<>\"\",'Replacement Cost Schedule'!H100,\"\")","v":""},{"$f":"IF('Replacement Cost Schedule'!I100<>\"\",'Replacement Cost Schedule'!I100,\"\")","v":""},{"$f":"IF('Replacement Cost Schedule'!J100<>\"\",'Replacement Cost Schedule'!J100,\"\")","v":""},{"$f":"IF('Replacement Cost Schedule'!K100<>\"\",'Replacement Cost Schedule'!K100,\"\")","v":""},{"$f":"IF('Replacement Cost Schedule'!L100<>\"\",'Replacement Cost Schedule'!L100,\"\")","v":""},{"$f":"IF('Replacement Cost Schedule'!M100<>\"\",'Replacement Cost Schedule'!M100,\"\")","v":""},{"$f":"IF('Replacement Cost Schedule'!N100<>\"\",'Replacement Cost Schedule'!N100,\"\")","v":""},{"$f":"IF('Replacement Cost Schedule'!O100<>\"\",'Replacement Cost Schedule'!O100,\"\")","v":""},{"$f":"IF('Replacement Cost Schedule'!P100<>\"\",'Replacement Cost Schedule'!P100,\"\")","v":""},{"$f":"IF('Replacement Cost Schedule'!Q100<>\"\",'Replacement Cost Schedule'!Q100,\"\")","v":""},{"$f":"IF('Replacement Cost Schedule'!R100<>\"\",'Replacement Cost Schedule'!R100,\"\")","v":""},{"$f":"IF('Replacement Cost Schedule'!S100<>\"\",'Replacement Cost Schedule'!S100,\"\")","v":""},null,{"$f":"IF('Replacement Cost Schedule'!C100<>\"\",'Replacement Cost Schedule'!C100,\"\")","v":""},{"$f":"IF('Replacement Cost Schedule'!T100<>\"\",'Replacement Cost Schedule'!T100,\"\")","v":""},{"$f":"IF('Replacement Cost Schedule'!U100<>\"\",'Replacement Cost Schedule'!U100,\"\")","v":""},{"$f":"IF('Replacement Cost Schedule'!V100<>\"\",'Replacement Cost Schedule'!V100,\"\")","v":""},{"$f":"IF('Replacement Cost Schedule'!W100<>\"\",'Replacement Cost Schedule'!W100,\"\")","v":""},{"$f":"IF('Replacement Cost Schedule'!X100<>\"\",'Replacement Cost Schedule'!X100,\"\")","v":""},{"$f":"IF('Replacement Cost Schedule'!Y100<>\"\",'Replacement Cost Schedule'!Y100,\"\")","v":""},{"$f":"IF('Replacement Cost Schedule'!Z100<>\"\",'Replacement Cost Schedule'!Z100,\"\")","v":""},{"$f":"IF('Replacement Cost Schedule'!AA100<>\"\",'Replacement Cost Schedule'!AA100,\"\")","v":""},{"$f":"IF('Replacement Cost Schedule'!AB100<>\"\",'Replacement Cost Schedule'!AB100,\"\")","v":""},{"$f":"IF('Replacement Cost Schedule'!AC100<>\"\",'Replacement Cost Schedule'!AC100,\"\")","v":""},{"$f":"IF('Replacement Cost Schedule'!AD100<>\"\",'Replacement Cost Schedule'!AD100,\"\")","v":""},{"$f":"IF('Replacement Cost Schedule'!AE100<>\"\",'Replacement Cost Schedule'!AE100,\"\")","v":""},{"$f":"IF('Replacement Cost Schedule'!AF100<>\"\",'Replacement Cost Schedule'!AF100,\"\")","v":""},0]
[null,null,{"$f":"IF('Replacement Cost Schedule'!C101<>\"\",'Replacement Cost Schedule'!C101,\"\")","v":""},{"$f":"IF('Replacement Cost Schedule'!D101<>\"\",'Replacement Cost Schedule'!D101,\"\")","v":""},{"$f":"IF('Replacement Cost Schedule'!E101<>\"\",'Replacement Cost Schedule'!E101,\"\")","v":""},{"$f":"IF('Replacement Cost Schedule'!F101<>\"\",'Replacement Cost Schedule'!F101,\"\")","v":""},{"$f":"IF('Replacement Cost Schedule'!G101<>\"\",'Replacement Cost Schedule'!G101,\"\")","v":""},{"$f":"IF('Replacement Cost Schedule'!H101<>\"\",'Replacement Cost Schedule'!H101,\"\")","v":""},{"$f":"IF('Replacement Cost Schedule'!I101<>\"\",'Replacement Cost Schedule'!I101,\"\")","v":""},{"$f":"IF('Replacement Cost Schedule'!J101<>\"\",'Replacement Cost Schedule'!J101,\"\")","v":""},{"$f":"IF('Replacement Cost Schedule'!K101<>\"\",'Replacement Cost Schedule'!K101,\"\")","v":""},{"$f":"IF('Replacement Cost Schedule'!L101<>\"\",'Replacement Cost Schedule'!L101,\"\")","v":""},{"$f":"IF('Replacement Cost Schedule'!M101<>\"\",'Replacement Cost Schedule'!M101,\"\")","v":""},{"$f":"IF('Replacement Cost Schedule'!N101<>\"\",'Replacement Cost Schedule'!N101,\"\")","v":""},{"$f":"IF('Replacement Cost Schedule'!O101<>\"\",'Replacement Cost Schedule'!O101,\"\")","v":""},{"$f":"IF('Replacement Cost Schedule'!P101<>\"\",'Replacement Cost Schedule'!P101,\"\")","v":""},{"$f":"IF('Replacement Cost Schedule'!Q101<>\"\",'Replacement Cost Schedule'!Q101,\"\")","v":""},{"$f":"IF('Replacement Cost Schedule'!R101<>\"\",'Replacement Cost Schedule'!R101,\"\")","v":""},{"$f":"IF('Replacement Cost Schedule'!S101<>\"\",'Replacement Cost Schedule'!S101,\"\")","v":""},null,{"$f":"IF('Replacement Cost Schedule'!C101<>\"\",'Replacement Cost Schedule'!C101,\"\")","v":""},{"$f":"IF('Replacement Cost Schedule'!T101<>\"\",'Replacement Cost Schedule'!T101,\"\")","v":""},{"$f":"IF('Replacement Cost Schedule'!U101<>\"\",'Replacement Cost Schedule'!U101,\"\")","v":""},{"$f":"IF('Replacement Cost Schedule'!V101<>\"\",'Replacement Cost Schedule'!V101,\"\")","v":""},{"$f":"IF('Replacement Cost Schedule'!W101<>\"\",'Replacement Cost Schedule'!W101,\"\")","v":""},{"$f":"IF('Replacement Cost Schedule'!X101<>\"\",'Replacement Cost Schedule'!X101,\"\")","v":""},{"$f":"IF('Replacement Cost Schedule'!Y101<>\"\",'Replacement Cost Schedule'!Y101,\"\")","v":""},{"$f":"IF('Replacement Cost Schedule'!Z101<>\"\",'Replacement Cost Schedule'!Z101,\"\")","v":""},{"$f":"IF('Replacement Cost Schedule'!AA101<>\"\",'Replacement Cost Schedule'!AA101,\"\")","v":""},{"$f":"IF('Replacement Cost Schedule'!AB101<>\"\",'Replacement Cost Schedule'!AB101,\"\")","v":""},{"$f":"IF('Replacement Cost Schedule'!AC101<>\"\",'Replacement Cost Schedule'!AC101,\"\")","v":""},{"$f":"IF('Replacement Cost Schedule'!AD101<>\"\",'Replacement Cost Schedule'!AD101,\"\")","v":""},{"$f":"IF('Replacement Cost Schedule'!AE101<>\"\",'Replacement Cost Schedule'!AE101,\"\")","v":""},{"$f":"IF('Replacement Cost Schedule'!AF101<>\"\",'Replacement Cost Schedule'!AF101,\"\")","v":""},0]
[null,null,{"$f":"IF('Replacement Cost Schedule'!C102<>\"\",'Replacement Cost Schedule'!C102,\"\")","v":""},{"$f":"IF('Replacement Cost Schedule'!D102<>\"\",'Replacement Cost Schedule'!D102,\"\")","v":""},{"$f":"IF('Replacement Cost Schedule'!E102<>\"\",'Replacement Cost Schedule'!E102,\"\")","v":""},{"$f":"IF('Replacement Cost Schedule'!F102<>\"\",'Replacement Cost Schedule'!F102,\"\")","v":""},{"$f":"IF('Replacement Cost Schedule'!G102<>\"\",'Replacement Cost Schedule'!G102,\"\")","v":""},{"$f":"IF('Replacement Cost Schedule'!H102<>\"\",'Replacement Cost Schedule'!H102,\"\")","v":""},{"$f":"IF('Replacement Cost Schedule'!I102<>\"\",'Replacement Cost Schedule'!I102,\"\")","v":""},{"$f":"IF('Replacement Cost Schedule'!J102<>\"\",'Replacement Cost Schedule'!J102,\"\")","v":""},{"$f":"IF('Replacement Cost Schedule'!K102<>\"\",'Replacement Cost Schedule'!K102,\"\")","v":""},{"$f":"IF('Replacement Cost Schedule'!L102<>\"\",'Replacement Cost Schedule'!L102,\"\")","v":""},{"$f":"IF('Replacement Cost Schedule'!M102<>\"\",'Replacement Cost Schedule'!M102,\"\")","v":""},{"$f":"IF('Replacement Cost Schedule'!N102<>\"\",'Replacement Cost Schedule'!N102,\"\")","v":""},{"$f":"IF('Replacement Cost Schedule'!O102<>\"\",'Replacement Cost Schedule'!O102,\"\")","v":""},{"$f":"IF('Replacement Cost Schedule'!P102<>\"\",'Replacement Cost Schedule'!P102,\"\")","v":""},{"$f":"IF('Replacement Cost Schedule'!Q102<>\"\",'Replacement Cost Schedule'!Q102,\"\")","v":""},{"$f":"IF('Replacement Cost Schedule'!R102<>\"\",'Replacement Cost Schedule'!R102,\"\")","v":""},{"$f":"IF('Replacement Cost Schedule'!S102<>\"\",'Replacement Cost Schedule'!S102,\"\")","v":""},null,{"$f":"IF('Replacement Cost Schedule'!C102<>\"\",'Replacement Cost Schedule'!C102,\"\")","v":""},{"$f":"IF('Replacement Cost Schedule'!T102<>\"\",'Replacement Cost Schedule'!T102,\"\")","v":""},{"$f":"IF('Replacement Cost Schedule'!U102<>\"\",'Replacement Cost Schedule'!U102,\"\")","v":""},{"$f":"IF('Replacement Cost Schedule'!V102<>\"\",'Replacement Cost Schedule'!V102,\"\")","v":""},{"$f":"IF('Replacement Cost Schedule'!W102<>\"\",'Replacement Cost Schedule'!W102,\"\")","v":""},{"$f":"IF('Replacement Cost Schedule'!X102<>\"\",'Replacement Cost Schedule'!X102,\"\")","v":""},{"$f":"IF('Replacement Cost Schedule'!Y102<>\"\",'Replacement Cost Schedule'!Y102,\"\")","v":""},{"$f":"IF('Replacement Cost Schedule'!Z102<>\"\",'Replacement Cost Schedule'!Z102,\"\")","v":""},{"$f":"IF('Replacement Cost Schedule'!AA102<>\"\",'Replacement Cost Schedule'!AA102,\"\")","v":""},{"$f":"IF('Replacement Cost Schedule'!AB102<>\"\",'Replacement Cost Schedule'!AB102,\"\")","v":""},{"$f":"IF('Replacement Cost Schedule'!AC102<>\"\",'Replacement Cost Schedule'!AC102,\"\")","v":""},{"$f":"IF('Replacement Cost Schedule'!AD102<>\"\",'Replacement Cost Schedule'!AD102,\"\")","v":""},{"$f":"IF('Replacement Cost Schedule'!AE102<>\"\",'Replacement Cost Schedule'!AE102,\"\")","v":""},{"$f":"IF('Replacement Cost Schedule'!AF102<>\"\",'Replacement Cost Schedule'!AF102,\"\")","v":""},0]
[null,null,{"$f":"IF('Replacement Cost Schedule'!C103<>\"\",'Replacement Cost Schedule'!C103,\"\")","v":""},{"$f":"IF('Replacement Cost Schedule'!D103<>\"\",'Replacement Cost Schedule'!D103,\"\")","v":""},{"$f":"IF('Replacement Cost Schedule'!E103<>\"\",'Replacement Cost Schedule'!E103,\"\")","v":""},{"$f":"IF('Replacement Cost Schedule'!F103<>\"\",'Replacement Cost Schedule'!F103,\"\")","v":""},{"$f":"IF('Replacement Cost Schedule'!G103<>\"\",'Replacement Cost Schedule'!G103,\"\")","v":""},{"$f":"IF('Replacement Cost Schedule'!H103<>\"\",'Replacement Cost Schedule'!H103,\"\")","v":""},{"$f":"IF('Replacement Cost Schedule'!I103<>\"\",'Replacement Cost Schedule'!I103,\"\")","v":""},{"$f":"IF('Replacement Cost Schedule'!J103<>\"\",'Replacement Cost Schedule'!J103,\"\")","v":""},{"$f":"IF('Replacement Cost Schedule'!K103<>\"\",'Replacement Cost Schedule'!K103,\"\")","v":""},{"$f":"IF('Replacement Cost Schedule'!L103<>\"\",'Replacement Cost Schedule'!L103,\"\")","v":""},{"$f":"IF('Replacement Cost Schedule'!M103<>\"\",'Replacement Cost Schedule'!M103,\"\")","v":""},{"$f":"IF('Replacement Cost Schedule'!N103<>\"\",'Replacement Cost Schedule'!N103,\"\")","v":""},{"$f":"IF('Replacement Cost Schedule'!O103<>\"\",'Replacement Cost Schedule'!O103,\"\")","v":""},{"$f":"IF('Replacement Cost Schedule'!P103<>\"\",'Replacement Cost Schedule'!P103,\"\")","v":""},{"$f":"IF('Replacement Cost Schedule'!Q103<>\"\",'Replacement Cost Schedule'!Q103,\"\")","v":""},{"$f":"IF('Replacement Cost Schedule'!R103<>\"\",'Replacement Cost Schedule'!R103,\"\")","v":""},{"$f":"IF('Replacement Cost Schedule'!S103<>\"\",'Replacement Cost Schedule'!S103,\"\")","v":""},null,{"$f":"IF('Replacement Cost Schedule'!C103<>\"\",'Replacement Cost Schedule'!C103,\"\")","v":""},{"$f":"IF('Replacement Cost Schedule'!T103<>\"\",'Replacement Cost Schedule'!T103,\"\")","v":""},{"$f":"IF('Replacement Cost Schedule'!U103<>\"\",'Replacement Cost Schedule'!U103,\"\")","v":""},{"$f":"IF('Replacement Cost Schedule'!V103<>\"\",'Replacement Cost Schedule'!V103,\"\")","v":""},{"$f":"IF('Replacement Cost Schedule'!W103<>\"\",'Replacement Cost Schedule'!W103,\"\")","v":""},{"$f":"IF('Replacement Cost Schedule'!X103<>\"\",'Replacement Cost Schedule'!X103,\"\")","v":""},{"$f":"IF('Replacement Cost Schedule'!Y103<>\"\",'Replacement Cost Schedule'!Y103,\"\")","v":""},{"$f":"IF('Replacement Cost Schedule'!Z103<>\"\",'Replacement Cost Schedule'!Z103,\"\")","v":""},{"$f":"IF('Replacement Cost Schedule'!AA103<>\"\",'Replacement Cost Schedule'!AA103,\"\")","v":""},{"$f":"IF('Replacement Cost Schedule'!AB103<>\"\",'Replacement Cost Schedule'!AB103,\"\")","v":""},{"$f":"IF('Replacement Cost Schedule'!AC103<>\"\",'Replacement Cost Schedule'!AC103,\"\")","v":""},{"$f":"IF('Replacement Cost Schedule'!AD103<>\"\",'Replacement Cost Schedule'!AD103,\"\")","v":""},{"$f":"IF('Replacement Cost Schedule'!AE103<>\"\",'Replacement Cost Schedule'!AE103,\"\")","v":""},{"$f":"IF('Replacement Cost Schedule'!AF103<>\"\",'Replacement Cost Schedule'!AF103,\"\")","v":""},0]
[null,null,{"$f":"IF('Replacement Cost Schedule'!C104<>\"\",'Replacement Cost Schedule'!C104,\"\")","v":""},{"$f":"IF('Replacement Cost Schedule'!D104<>\"\",'Replacement Cost Schedule'!D104,\"\")","v":""},{"$f":"IF('Replacement Cost Schedule'!E104<>\"\",'Replacement Cost Schedule'!E104,\"\")","v":""},{"$f":"IF('Replacement Cost Schedule'!F104<>\"\",'Replacement Cost Schedule'!F104,\"\")","v":""},{"$f":"IF('Replacement Cost Schedule'!G104<>\"\",'Replacement Cost Schedule'!G104,\"\")","v":""},{"$f":"IF('Replacement Cost Schedule'!H104<>\"\",'Replacement Cost Schedule'!H104,\"\")","v":""},{"$f":"IF('Replacement Cost Schedule'!I104<>\"\",'Replacement Cost Schedule'!I104,\"\")","v":""},{"$f":"IF('Replacement Cost Schedule'!J104<>\"\",'Replacement Cost Schedule'!J104,\"\")","v":""},{"$f":"IF('Replacement Cost Schedule'!K104<>\"\",'Replacement Cost Schedule'!K104,\"\")","v":""},{"$f":"IF('Replacement Cost Schedule'!L104<>\"\",'Replacement Cost Schedule'!L104,\"\")","v":""},{"$f":"IF('Replacement Cost Schedule'!M104<>\"\",'Replacement Cost Schedule'!M104,\"\")","v":""},{"$f":"IF('Replacement Cost Schedule'!N104<>\"\",'Replacement Cost Schedule'!N104,\"\")","v":""},{"$f":"IF('Replacement Cost Schedule'!O104<>\"\",'Replacement Cost Schedule'!O104,\"\")","v":""},{"$f":"IF('Replacement Cost Schedule'!P104<>\"\",'Replacement Cost Schedule'!P104,\"\")","v":""},{"$f":"IF('Replacement Cost Schedule'!Q104<>\"\",'Replacement Cost Schedule'!Q104,\"\")","v":""},{"$f":"IF('Replacement Cost Schedule'!R104<>\"\",'Replacement Cost Schedule'!R104,\"\")","v":""},{"$f":"IF('Replacement Cost Schedule'!S104<>\"\",'Replacement Cost Schedule'!S104,\"\")","v":""},null,{"$f":"IF('Replacement Cost Schedule'!C104<>\"\",'Replacement Cost Schedule'!C104,\"\")","v":""},{"$f":"IF('Replacement Cost Schedule'!T104<>\"\",'Replacement Cost Schedule'!T104,\"\")","v":""},{"$f":"IF('Replacement Cost Schedule'!U104<>\"\",'Replacement Cost Schedule'!U104,\"\")","v":""},{"$f":"IF('Replacement Cost Schedule'!V104<>\"\",'Replacement Cost Schedule'!V104,\"\")","v":""},{"$f":"IF('Replacement Cost Schedule'!W104<>\"\",'Replacement Cost Schedule'!W104,\"\")","v":""},{"$f":"IF('Replacement Cost Schedule'!X104<>\"\",'Replacement Cost Schedule'!X104,\"\")","v":""},{"$f":"IF('Replacement Cost Schedule'!Y104<>\"\",'Replacement Cost Schedule'!Y104,\"\")","v":""},{"$f":"IF('Replacement Cost Schedule'!Z104<>\"\",'Replacement Cost Schedule'!Z104,\"\")","v":""},{"$f":"IF('Replacement Cost Schedule'!AA104<>\"\",'Replacement Cost Schedule'!AA104,\"\")","v":""},{"$f":"IF('Replacement Cost Schedule'!AB104<>\"\",'Replacement Cost Schedule'!AB104,\"\")","v":""},{"$f":"IF('Replacement Cost Schedule'!AC104<>\"\",'Replacement Cost Schedule'!AC104,\"\")","v":""},{"$f":"IF('Replacement Cost Schedule'!AD104<>\"\",'Replacement Cost Schedule'!AD104,\"\")","v":""},{"$f":"IF('Replacement Cost Schedule'!AE104<>\"\",'Replacement Cost Schedule'!AE104,\"\")","v":""},{"$f":"IF('Replacement Cost Schedule'!AF104<>\"\",'Replacement Cost Schedule'!AF104,\"\")","v":""},0]
[null,null,{"$f":"IF('Replacement Cost Schedule'!C105<>\"\",'Replacement Cost Schedule'!C105,\"\")","v":""},{"$f":"IF('Replacement Cost Schedule'!D105<>\"\",'Replacement Cost Schedule'!D105,\"\")","v":""},{"$f":"IF('Replacement Cost Schedule'!E105<>\"\",'Replacement Cost Schedule'!E105,\"\")","v":""},{"$f":"IF('Replacement Cost Schedule'!F105<>\"\",'Replacement Cost Schedule'!F105,\"\")","v":""},{"$f":"IF('Replacement Cost Schedule'!G105<>\"\",'Replacement Cost Schedule'!G105,\"\")","v":""},{"$f":"IF('Replacement Cost Schedule'!H105<>\"\",'Replacement Cost Schedule'!H105,\"\")","v":""},{"$f":"IF('Replacement Cost Schedule'!I105<>\"\",'Replacement Cost Schedule'!I105,\"\")","v":""},{"$f":"IF('Replacement Cost Schedule'!J105<>\"\",'Replacement Cost Schedule'!J105,\"\")","v":""},{"$f":"IF('Replacement Cost Schedule'!K105<>\"\",'Replacement Cost Schedule'!K105,\"\")","v":""},{"$f":"IF('Replacement Cost Schedule'!L105<>\"\",'Replacement Cost Schedule'!L105,\"\")","v":""},{"$f":"IF('Replacement Cost Schedule'!M105<>\"\",'Replacement Cost Schedule'!M105,\"\")","v":""},{"$f":"IF('Replacement Cost Schedule'!N105<>\"\",'Replacement Cost Schedule'!N105,\"\")","v":""},{"$f":"IF('Replacement Cost Schedule'!O105<>\"\",'Replacement Cost Schedule'!O105,\"\")","v":""},{"$f":"IF('Replacement Cost Schedule'!P105<>\"\",'Replacement Cost Schedule'!P105,\"\")","v":""},{"$f":"IF('Replacement Cost Schedule'!Q105<>\"\",'Replacement Cost Schedule'!Q105,\"\")","v":""},{"$f":"IF('Replacement Cost Schedule'!R105<>\"\",'Replacement Cost Schedule'!R105,\"\")","v":""},{"$f":"IF('Replacement Cost Schedule'!S105<>\"\",'Replacement Cost Schedule'!S105,\"\")","v":""},null,{"$f":"IF('Replacement Cost Schedule'!C105<>\"\",'Replacement Cost Schedule'!C105,\"\")","v":""},{"$f":"IF('Replacement Cost Schedule'!T105<>\"\",'Replacement Cost Schedule'!T105,\"\")","v":""},{"$f":"IF('Replacement Cost Schedule'!U105<>\"\",'Replacement Cost Schedule'!U105,\"\")","v":""},{"$f":"IF('Replacement Cost Schedule'!V105<>\"\",'Replacement Cost Schedule'!V105,\"\")","v":""},{"$f":"IF('Replacement Cost Schedule'!W105<>\"\",'Replacement Cost Schedule'!W105,\"\")","v":""},{"$f":"IF('Replacement Cost Schedule'!X105<>\"\",'Replacement Cost Schedule'!X105,\"\")","v":""},{"$f":"IF('Replacement Cost Schedule'!Y105<>\"\",'Replacement Cost Schedule'!Y105,\"\")","v":""},{"$f":"IF('Replacement Cost Schedule'!Z105<>\"\",'Replacement Cost Schedule'!Z105,\"\")","v":""},{"$f":"IF('Replacement Cost Schedule'!AA105<>\"\",'Replacement Cost Schedule'!AA105,\"\")","v":""},{"$f":"IF('Replacement Cost Schedule'!AB105<>\"\",'Replacement Cost Schedule'!AB105,\"\")","v":""},{"$f":"IF('Replacement Cost Schedule'!AC105<>\"\",'Replacement Cost Schedule'!AC105,\"\")","v":""},{"$f":"IF('Replacement Cost Schedule'!AD105<>\"\",'Replacement Cost Schedule'!AD105,\"\")","v":""},{"$f":"IF('Replacement Cost Schedule'!AE105<>\"\",'Replacement Cost Schedule'!AE105,\"\")","v":""},{"$f":"IF('Replacement Cost Schedule'!AF105<>\"\",'Replacement Cost Schedule'!AF105,\"\")","v":""},0]
[null,null,{"$f":"IF('Replacement Cost Schedule'!C106<>\"\",'Replacement Cost Schedule'!C106,\"\")","v":""},{"$f":"IF('Replacement Cost Schedule'!D106<>\"\",'Replacement Cost Schedule'!D106,\"\")","v":""},{"$f":"IF('Replacement Cost Schedule'!E106<>\"\",'Replacement Cost Schedule'!E106,\"\")","v":""},{"$f":"IF('Replacement Cost Schedule'!F106<>\"\",'Replacement Cost Schedule'!F106,\"\")","v":""},{"$f":"IF('Replacement Cost Schedule'!G106<>\"\",'Replacement Cost Schedule'!G106,\"\")","v":""},{"$f":"IF('Replacement Cost Schedule'!H106<>\"\",'Replacement Cost Schedule'!H106,\"\")","v":""},{"$f":"IF('Replacement Cost Schedule'!I106<>\"\",'Replacement Cost Schedule'!I106,\"\")","v":""},{"$f":"IF('Replacement Cost Schedule'!J106<>\"\",'Replacement Cost Schedule'!J106,\"\")","v":""},{"$f":"IF('Replacement Cost Schedule'!K106<>\"\",'Replacement Cost Schedule'!K106,\"\")","v":""},{"$f":"IF('Replacement Cost Schedule'!L106<>\"\",'Replacement Cost Schedule'!L106,\"\")","v":""},{"$f":"IF('Replacement Cost Schedule'!M106<>\"\",'Replacement Cost Schedule'!M106,\"\")","v":""},{"$f":"IF('Replacement Cost Schedule'!N106<>\"\",'Replacement Cost Schedule'!N106,\"\")","v":""},{"$f":"IF('Replacement Cost Schedule'!O106<>\"\",'Replacement Cost Schedule'!O106,\"\")","v":""},{"$f":"IF('Replacement Cost Schedule'!P106<>\"\",'Replacement Cost Schedule'!P106,\"\")","v":""},{"$f":"IF('Replacement Cost Schedule'!Q106<>\"\",'Replacement Cost Schedule'!Q106,\"\")","v":""},{"$f":"IF('Replacement Cost Schedule'!R106<>\"\",'Replacement Cost Schedule'!R106,\"\")","v":""},{"$f":"IF('Replacement Cost Schedule'!S106<>\"\",'Replacement Cost Schedule'!S106,\"\")","v":""},null,{"$f":"IF('Replacement Cost Schedule'!C106<>\"\",'Replacement Cost Schedule'!C106,\"\")","v":""},{"$f":"IF('Replacement Cost Schedule'!T106<>\"\",'Replacement Cost Schedule'!T106,\"\")","v":""},{"$f":"IF('Replacement Cost Schedule'!U106<>\"\",'Replacement Cost Schedule'!U106,\"\")","v":""},{"$f":"IF('Replacement Cost Schedule'!V106<>\"\",'Replacement Cost Schedule'!V106,\"\")","v":""},{"$f":"IF('Replacement Cost Schedule'!W106<>\"\",'Replacement Cost Schedule'!W106,\"\")","v":""},{"$f":"IF('Replacement Cost Schedule'!X106<>\"\",'Replacement Cost Schedule'!X106,\"\")","v":""},{"$f":"IF('Replacement Cost Schedule'!Y106<>\"\",'Replacement Cost Schedule'!Y106,\"\")","v":""},{"$f":"IF('Replacement Cost Schedule'!Z106<>\"\",'Replacement Cost Schedule'!Z106,\"\")","v":""},{"$f":"IF('Replacement Cost Schedule'!AA106<>\"\",'Replacement Cost Schedule'!AA106,\"\")","v":""},{"$f":"IF('Replacement Cost Schedule'!AB106<>\"\",'Replacement Cost Schedule'!AB106,\"\")","v":""},{"$f":"IF('Replacement Cost Schedule'!AC106<>\"\",'Replacement Cost Schedule'!AC106,\"\")","v":""},{"$f":"IF('Replacement Cost Schedule'!AD106<>\"\",'Replacement Cost Schedule'!AD106,\"\")","v":""},{"$f":"IF('Replacement Cost Schedule'!AE106<>\"\",'Replacement Cost Schedule'!AE106,\"\")","v":""},{"$f":"IF('Replacement Cost Schedule'!AF106<>\"\",'Replacement Cost Schedule'!AF106,\"\")","v":""},0]
[null,null,{"$f":"IF('Replacement Cost Schedule'!C107<>\"\",'Replacement Cost Schedule'!C107,\"\")","v":""},{"$f":"IF('Replacement Cost Schedule'!D107<>\"\",'Replacement Cost Schedule'!D107,\"\")","v":""},{"$f":"IF('Replacement Cost Schedule'!E107<>\"\",'Replacement Cost Schedule'!E107,\"\")","v":""},{"$f":"IF('Replacement Cost Schedule'!F107<>\"\",'Replacement Cost Schedule'!F107,\"\")","v":""},{"$f":"IF('Replacement Cost Schedule'!G107<>\"\",'Replacement Cost Schedule'!G107,\"\")","v":""},{"$f":"IF('Replacement Cost Schedule'!H107<>\"\",'Replacement Cost Schedule'!H107,\"\")","v":""},{"$f":"IF('Replacement Cost Schedule'!I107<>\"\",'Replacement Cost Schedule'!I107,\"\")","v":""},{"$f":"IF('Replacement Cost Schedule'!J107<>\"\",'Replacement Cost Schedule'!J107,\"\")","v":""},{"$f":"IF('Replacement Cost Schedule'!K107<>\"\",'Replacement Cost Schedule'!K107,\"\")","v":""},{"$f":"IF('Replacement Cost Schedule'!L107<>\"\",'Replacement Cost Schedule'!L107,\"\")","v":""},{"$f":"IF('Replacement Cost Schedule'!M107<>\"\",'Replacement Cost Schedule'!M107,\"\")","v":""},{"$f":"IF('Replacement Cost Schedule'!N107<>\"\",'Replacement Cost Schedule'!N107,\"\")","v":""},{"$f":"IF('Replacement Cost Schedule'!O107<>\"\",'Replacement Cost Schedule'!O107,\"\")","v":""},{"$f":"IF('Replacement Cost Schedule'!P107<>\"\",'Replacement Cost Schedule'!P107,\"\")","v":""},{"$f":"IF('Replacement Cost Schedule'!Q107<>\"\",'Replacement Cost Schedule'!Q107,\"\")","v":""},{"$f":"IF('Replacement Cost Schedule'!R107<>\"\",'Replacement Cost Schedule'!R107,\"\")","v":""},{"$f":"IF('Replacement Cost Schedule'!S107<>\"\",'Replacement Cost Schedule'!S107,\"\")","v":""},null,{"$f":"IF('Replacement Cost Schedule'!C107<>\"\",'Replacement Cost Schedule'!C107,\"\")","v":""},{"$f":"IF('Replacement Cost Schedule'!T107<>\"\",'Replacement Cost Schedule'!T107,\"\")","v":""},{"$f":"IF('Replacement Cost Schedule'!U107<>\"\",'Replacement Cost Schedule'!U107,\"\")","v":""},{"$f":"IF('Replacement Cost Schedule'!V107<>\"\",'Replacement Cost Schedule'!V107,\"\")","v":""},{"$f":"IF('Replacement Cost Schedule'!W107<>\"\",'Replacement Cost Schedule'!W107,\"\")","v":""},{"$f":"IF('Replacement Cost Schedule'!X107<>\"\",'Replacement Cost Schedule'!X107,\"\")","v":""},{"$f":"IF('Replacement Cost Schedule'!Y107<>\"\",'Replacement Cost Schedule'!Y107,\"\")","v":""},{"$f":"IF('Replacement Cost Schedule'!Z107<>\"\",'Replacement Cost Schedule'!Z107,\"\")","v":""},{"$f":"IF('Replacement Cost Schedule'!AA107<>\"\",'Replacement Cost Schedule'!AA107,\"\")","v":""},{"$f":"IF('Replacement Cost Schedule'!AB107<>\"\",'Replacement Cost Schedule'!AB107,\"\")","v":""},{"$f":"IF('Replacement Cost Schedule'!AC107<>\"\",'Replacement Cost Schedule'!AC107,\"\")","v":""},{"$f":"IF('Replacement Cost Schedule'!AD107<>\"\",'Replacement Cost Schedule'!AD107,\"\")","v":""},{"$f":"IF('Replacement Cost Schedule'!AE107<>\"\",'Replacement Cost Schedule'!AE107,\"\")","v":""},{"$f":"IF('Replacement Cost Schedule'!AF107<>\"\",'Replacement Cost Schedule'!AF107,\"\")","v":""},0]
[null,null,{"$f":"IF('Replacement Cost Schedule'!C108<>\"\",'Replacement Cost Schedule'!C108,\"\")","v":""},{"$f":"IF('Replacement Cost Schedule'!D108<>\"\",'Replacement Cost Schedule'!D108,\"\")","v":""},{"$f":"IF('Replacement Cost Schedule'!E108<>\"\",'Replacement Cost Schedule'!E108,\"\")","v":""},{"$f":"IF('Replacement Cost Schedule'!F108<>\"\",'Replacement Cost Schedule'!F108,\"\")","v":""},{"$f":"IF('Replacement Cost Schedule'!G108<>\"\",'Replacement Cost Schedule'!G108,\"\")","v":""},{"$f":"IF('Replacement Cost Schedule'!H108<>\"\",'Replacement Cost Schedule'!H108,\"\")","v":""},{"$f":"IF('Replacement Cost Schedule'!I108<>\"\",'Replacement Cost Schedule'!I108,\"\")","v":""},{"$f":"IF('Replacement Cost Schedule'!J108<>\"\",'Replacement Cost Schedule'!J108,\"\")","v":""},{"$f":"IF('Replacement Cost Schedule'!K108<>\"\",'Replacement Cost Schedule'!K108,\"\")","v":""},{"$f":"IF('Replacement Cost Schedule'!L108<>\"\",'Replacement Cost Schedule'!L108,\"\")","v":""},{"$f":"IF('Replacement Cost Schedule'!M108<>\"\",'Replacement Cost Schedule'!M108,\"\")","v":""},{"$f":"IF('Replacement Cost Schedule'!N108<>\"\",'Replacement Cost Schedule'!N108,\"\")","v":""},{"$f":"IF('Replacement Cost Schedule'!O108<>\"\",'Replacement Cost Schedule'!O108,\"\")","v":""},{"$f":"IF('Replacement Cost Schedule'!P108<>\"\",'Replacement Cost Schedule'!P108,\"\")","v":""},{"$f":"IF('Replacement Cost Schedule'!Q108<>\"\",'Replacement Cost Schedule'!Q108,\"\")","v":""},{"$f":"IF('Replacement Cost Schedule'!R108<>\"\",'Replacement Cost Schedule'!R108,\"\")","v":""},{"$f":"IF('Replacement Cost Schedule'!S108<>\"\",'Replacement Cost Schedule'!S108,\"\")","v":""},null,{"$f":"IF('Replacement Cost Schedule'!C108<>\"\",'Replacement Cost Schedule'!C108,\"\")","v":""},{"$f":"IF('Replacement Cost Schedule'!T108<>\"\",'Replacement Cost Schedule'!T108,\"\")","v":""},{"$f":"IF('Replacement Cost Schedule'!U108<>\"\",'Replacement Cost Schedule'!U108,\"\")","v":""},{"$f":"IF('Replacement Cost Schedule'!V108<>\"\",'Replacement Cost Schedule'!V108,\"\")","v":""},{"$f":"IF('Replacement Cost Schedule'!W108<>\"\",'Replacement Cost Schedule'!W108,\"\")","v":""},{"$f":"IF('Replacement Cost Schedule'!X108<>\"\",'Replacement Cost Schedule'!X108,\"\")","v":""},{"$f":"IF('Replacement Cost Schedule'!Y108<>\"\",'Replacement Cost Schedule'!Y108,\"\")","v":""},{"$f":"IF('Replacement Cost Schedule'!Z108<>\"\",'Replacement Cost Schedule'!Z108,\"\")","v":""},{"$f":"IF('Replacement Cost Schedule'!AA108<>\"\",'Replacement Cost Schedule'!AA108,\"\")","v":""},{"$f":"IF('Replacement Cost Schedule'!AB108<>\"\",'Replacement Cost Schedule'!AB108,\"\")","v":""},{"$f":"IF('Replacement Cost Schedule'!AC108<>\"\",'Replacement Cost Schedule'!AC108,\"\")","v":""},{"$f":"IF('Replacement Cost Schedule'!AD108<>\"\",'Replacement Cost Schedule'!AD108,\"\")","v":""},{"$f":"IF('Replacement Cost Schedule'!AE108<>\"\",'Replacement Cost Schedule'!AE108,\"\")","v":""},{"$f":"IF('Replacement Cost Schedule'!AF108<>\"\",'Replacement Cost Schedule'!AF108,\"\")","v":""},0]
[null,null,{"$f":"IF('Replacement Cost Schedule'!C109<>\"\",'Replacement Cost Schedule'!C109,\"\")","v":""},{"$f":"IF('Replacement Cost Schedule'!D109<>\"\",'Replacement Cost Schedule'!D109,\"\")","v":""},{"$f":"IF('Replacement Cost Schedule'!E109<>\"\",'Replacement Cost Schedule'!E109,\"\")","v":""},{"$f":"IF('Replacement Cost Schedule'!F109<>\"\",'Replacement Cost Schedule'!F109,\"\")","v":""},{"$f":"IF('Replacement Cost Schedule'!G109<>\"\",'Replacement Cost Schedule'!G109,\"\")","v":""},{"$f":"IF('Replacement Cost Schedule'!H109<>\"\",'Replacement Cost Schedule'!H109,\"\")","v":""},{"$f":"IF('Replacement Cost Schedule'!I109<>\"\",'Replacement Cost Schedule'!I109,\"\")","v":""},{"$f":"IF('Replacement Cost Schedule'!J109<>\"\",'Replacement Cost Schedule'!J109,\"\")","v":""},{"$f":"IF('Replacement Cost Schedule'!K109<>\"\",'Replacement Cost Schedule'!K109,\"\")","v":""},{"$f":"IF('Replacement Cost Schedule'!L109<>\"\",'Replacement Cost Schedule'!L109,\"\")","v":""},{"$f":"IF('Replacement Cost Schedule'!M109<>\"\",'Replacement Cost Schedule'!M109,\"\")","v":""},{"$f":"IF('Replacement Cost Schedule'!N109<>\"\",'Replacement Cost Schedule'!N109,\"\")","v":""},{"$f":"IF('Replacement Cost Schedule'!O109<>\"\",'Replacement Cost Schedule'!O109,\"\")","v":""},{"$f":"IF('Replacement Cost Schedule'!P109<>\"\",'Replacement Cost Schedule'!P109,\"\")","v":""},{"$f":"IF('Replacement Cost Schedule'!Q109<>\"\",'Replacement Cost Schedule'!Q109,\"\")","v":""},{"$f":"IF('Replacement Cost Schedule'!R109<>\"\",'Replacement Cost Schedule'!R109,\"\")","v":""},{"$f":"IF('Replacement Cost Schedule'!S109<>\"\",'Replacement Cost Schedule'!S109,\"\")","v":""},null,{"$f":"IF('Replacement Cost Schedule'!C109<>\"\",'Replacement Cost Schedule'!C109,\"\")","v":""},{"$f":"IF('Replacement Cost Schedule'!T109<>\"\",'Replacement Cost Schedule'!T109,\"\")","v":""},{"$f":"IF('Replacement Cost Schedule'!U109<>\"\",'Replacement Cost Schedule'!U109,\"\")","v":""},{"$f":"IF('Replacement Cost Schedule'!V109<>\"\",'Replacement Cost Schedule'!V109,\"\")","v":""},{"$f":"IF('Replacement Cost Schedule'!W109<>\"\",'Replacement Cost Schedule'!W109,\"\")","v":""},{"$f":"IF('Replacement Cost Schedule'!X109<>\"\",'Replacement Cost Schedule'!X109,\"\")","v":""},{"$f":"IF('Replacement Cost Schedule'!Y109<>\"\",'Replacement Cost Schedule'!Y109,\"\")","v":""},{"$f":"IF('Replacement Cost Schedule'!Z109<>\"\",'Replacement Cost Schedule'!Z109,\"\")","v":""},{"$f":"IF('Replacement Cost Schedule'!AA109<>\"\",'Replacement Cost Schedule'!AA109,\"\")","v":""},{"$f":"IF('Replacement Cost Schedule'!AB109<>\"\",'Replacement Cost Schedule'!AB109,\"\")","v":""},{"$f":"IF('Replacement Cost Schedule'!AC109<>\"\",'Replacement Cost Schedule'!AC109,\"\")","v":""},{"$f":"IF('Replacement Cost Schedule'!AD109<>\"\",'Replacement Cost Schedule'!AD109,\"\")","v":""},{"$f":"IF('Replacement Cost Schedule'!AE109<>\"\",'Replacement Cost Schedule'!AE109,\"\")","v":""},{"$f":"IF('Replacement Cost Schedule'!AF109<>\"\",'Replacement Cost Schedule'!AF109,\"\")","v":""},0]
[null,null,{"$f":"IF('Replacement Cost Schedule'!C110<>\"\",'Replacement Cost Schedule'!C110,\"\")","v":""},{"$f":"IF('Replacement Cost Schedule'!D110<>\"\",'Replacement Cost Schedule'!D110,\"\")","v":""},{"$f":"IF('Replacement Cost Schedule'!E110<>\"\",'Replacement Cost Schedule'!E110,\"\")","v":""},{"$f":"IF('Replacement Cost Schedule'!F110<>\"\",'Replacement Cost Schedule'!F110,\"\")","v":""},{"$f":"IF('Replacement Cost Schedule'!G110<>\"\",'Replacement Cost Schedule'!G110,\"\")","v":""},{"$f":"IF('Replacement Cost Schedule'!H110<>\"\",'Replacement Cost Schedule'!H110,\"\")","v":""},{"$f":"IF('Replacement Cost Schedule'!I110<>\"\",'Replacement Cost Schedule'!I110,\"\")","v":""},{"$f":"IF('Replacement Cost Schedule'!J110<>\"\",'Replacement Cost Schedule'!J110,\"\")","v":""},{"$f":"IF('Replacement Cost Schedule'!K110<>\"\",'Replacement Cost Schedule'!K110,\"\")","v":""},{"$f":"IF('Replacement Cost Schedule'!L110<>\"\",'Replacement Cost Schedule'!L110,\"\")","v":""},{"$f":"IF('Replacement Cost Schedule'!M110<>\"\",'Replacement Cost Schedule'!M110,\"\")","v":""},{"$f":"IF('Replacement Cost Schedule'!N110<>\"\",'Replacement Cost Schedule'!N110,\"\")","v":""},{"$f":"IF('Replacement Cost Schedule'!O110<>\"\",'Replacement Cost Schedule'!O110,\"\")","v":""},{"$f":"IF('Replacement Cost Schedule'!P110<>\"\",'Replacement Cost Schedule'!P110,\"\")","v":""},{"$f":"IF('Replacement Cost Schedule'!Q110<>\"\",'Replacement Cost Schedule'!Q110,\"\")","v":""},{"$f":"IF('Replacement Cost Schedule'!R110<>\"\",'Replacement Cost Schedule'!R110,\"\")","v":""},{"$f":"IF('Replacement Cost Schedule'!S110<>\"\",'Replacement Cost Schedule'!S110,\"\")","v":""},null,{"$f":"IF('Replacement Cost Schedule'!C110<>\"\",'Replacement Cost Schedule'!C110,\"\")","v":""},{"$f":"IF('Replacement Cost Schedule'!T110<>\"\",'Replacement Cost Schedule'!T110,\"\")","v":""},{"$f":"IF('Replacement Cost Schedule'!U110<>\"\",'Replacement Cost Schedule'!U110,\"\")","v":""},{"$f":"IF('Replacement Cost Schedule'!V110<>\"\",'Replacement Cost Schedule'!V110,\"\")","v":""},{"$f":"IF('Replacement Cost Schedule'!W110<>\"\",'Replacement Cost Schedule'!W110,\"\")","v":""},{"$f":"IF('Replacement Cost Schedule'!X110<>\"\",'Replacement Cost Schedule'!X110,\"\")","v":""},{"$f":"IF('Replacement Cost Schedule'!Y110<>\"\",'Replacement Cost Schedule'!Y110,\"\")","v":""},{"$f":"IF('Replacement Cost Schedule'!Z110<>\"\",'Replacement Cost Schedule'!Z110,\"\")","v":""},{"$f":"IF('Replacement Cost Schedule'!AA110<>\"\",'Replacement Cost Schedule'!AA110,\"\")","v":""},{"$f":"IF('Replacement Cost Schedule'!AB110<>\"\",'Replacement Cost Schedule'!AB110,\"\")","v":""},{"$f":"IF('Replacement Cost Schedule'!AC110<>\"\",'Replacement Cost Schedule'!AC110,\"\")","v":""},{"$f":"IF('Replacement Cost Schedule'!AD110<>\"\",'Replacement Cost Schedule'!AD110,\"\")","v":""},{"$f":"IF('Replacement Cost Schedule'!AE110<>\"\",'Replacement Cost Schedule'!AE110,\"\")","v":""},{"$f":"IF('Replacement Cost Schedule'!AF110<>\"\",'Replacement Cost Schedule'!AF110,\"\")","v":""},0]
[null,null,{"$f":"IF('Replacement Cost Schedule'!C111<>\"\",'Replacement Cost Schedule'!C111,\"\")","v":""},{"$f":"IF('Replacement Cost Schedule'!D111<>\"\",'Replacement Cost Schedule'!D111,\"\")","v":""},{"$f":"IF('Replacement Cost Schedule'!E111<>\"\",'Replacement Cost Schedule'!E111,\"\")","v":""},{"$f":"IF('Replacement Cost Schedule'!F111<>\"\",'Replacement Cost Schedule'!F111,\"\")","v":""},{"$f":"IF('Replacement Cost Schedule'!G111<>\"\",'Replacement Cost Schedule'!G111,\"\")","v":""},{"$f":"IF('Replacement Cost Schedule'!H111<>\"\",'Replacement Cost Schedule'!H111,\"\")","v":""},{"$f":"IF('Replacement Cost Schedule'!I111<>\"\",'Replacement Cost Schedule'!I111,\"\")","v":""},{"$f":"IF('Replacement Cost Schedule'!J111<>\"\",'Replacement Cost Schedule'!J111,\"\")","v":""},{"$f":"IF('Replacement Cost Schedule'!K111<>\"\",'Replacement Cost Schedule'!K111,\"\")","v":""},{"$f":"IF('Replacement Cost Schedule'!L111<>\"\",'Replacement Cost Schedule'!L111,\"\")","v":""},{"$f":"IF('Replacement Cost Schedule'!M111<>\"\",'Replacement Cost Schedule'!M111,\"\")","v":""},{"$f":"IF('Replacement Cost Schedule'!N111<>\"\",'Replacement Cost Schedule'!N111,\"\")","v":""},{"$f":"IF('Replacement Cost Schedule'!O111<>\"\",'Replacement Cost Schedule'!O111,\"\")","v":""},{"$f":"IF('Replacement Cost Schedule'!P111<>\"\",'Replacement Cost Schedule'!P111,\"\")","v":""},{"$f":"IF('Replacement Cost Schedule'!Q111<>\"\",'Replacement Cost Schedule'!Q111,\"\")","v":""},{"$f":"IF('Replacement Cost Schedule'!R111<>\"\",'Replacement Cost Schedule'!R111,\"\")","v":""},{"$f":"IF('Replacement Cost Schedule'!S111<>\"\",'Replacement Cost Schedule'!S111,\"\")","v":""},null,{"$f":"IF('Replacement Cost Schedule'!C111<>\"\",'Replacement Cost Schedule'!C111,\"\")","v":""},{"$f":"IF('Replacement Cost Schedule'!T111<>\"\",'Replacement Cost Schedule'!T111,\"\")","v":""},{"$f":"IF('Replacement Cost Schedule'!U111<>\"\",'Replacement Cost Schedule'!U111,\"\")","v":""},{"$f":"IF('Replacement Cost Schedule'!V111<>\"\",'Replacement Cost Schedule'!V111,\"\")","v":""},{"$f":"IF('Replacement Cost Schedule'!W111<>\"\",'Replacement Cost Schedule'!W111,\"\")","v":""},{"$f":"IF('Replacement Cost Schedule'!X111<>\"\",'Replacement Cost Schedule'!X111,\"\")","v":""},{"$f":"IF('Replacement Cost Schedule'!Y111<>\"\",'Replacement Cost Schedule'!Y111,\"\")","v":""},{"$f":"IF('Replacement Cost Schedule'!Z111<>\"\",'Replacement Cost Schedule'!Z111,\"\")","v":""},{"$f":"IF('Replacement Cost Schedule'!AA111<>\"\",'Replacement Cost Schedule'!AA111,\"\")","v":""},{"$f":"IF('Replacement Cost Schedule'!AB111<>\"\",'Replacement Cost Schedule'!AB111,\"\")","v":""},{"$f":"IF('Replacement Cost Schedule'!AC111<>\"\",'Replacement Cost Schedule'!AC111,\"\")","v":""},{"$f":"IF('Replacement Cost Schedule'!AD111<>\"\",'Replacement Cost Schedule'!AD111,\"\")","v":""},{"$f":"IF('Replacement Cost Schedule'!AE111<>\"\",'Replacement Cost Schedule'!AE111,\"\")","v":""},{"$f":"IF('Replacement Cost Schedule'!AF111<>\"\",'Replacement Cost Schedule'!AF111,\"\")","v":""},0]
[null,null,{"$f":"IF('Replacement Cost Schedule'!C112<>\"\",'Replacement Cost Schedule'!C112,\"\")","v":""},{"$f":"IF('Replacement Cost Schedule'!D112<>\"\",'Replacement Cost Schedule'!D112,\"\")","v":""},{"$f":"IF('Replacement Cost Schedule'!E112<>\"\",'Replacement Cost Schedule'!E112,\"\")","v":""},{"$f":"IF('Replacement Cost Schedule'!F112<>\"\",'Replacement Cost Schedule'!F112,\"\")","v":""},{"$f":"IF('Replacement Cost Schedule'!G112<>\"\",'Replacement Cost Schedule'!G112,\"\")","v":""},{"$f":"IF('Replacement Cost Schedule'!H112<>\"\",'Replacement Cost Schedule'!H112,\"\")","v":""},{"$f":"IF('Replacement Cost Schedule'!I112<>\"\",'Replacement Cost Schedule'!I112,\"\")","v":""},{"$f":"IF('Replacement Cost Schedule'!J112<>\"\",'Replacement Cost Schedule'!J112,\"\")","v":""},{"$f":"IF('Replacement Cost Schedule'!K112<>\"\",'Replacement Cost Schedule'!K112,\"\")","v":""},{"$f":"IF('Replacement Cost Schedule'!L112<>\"\",'Replacement Cost Schedule'!L112,\"\")","v":""},{"$f":"IF('Replacement Cost Schedule'!M112<>\"\",'Replacement Cost Schedule'!M112,\"\")","v":""},{"$f":"IF('Replacement Cost Schedule'!N112<>\"\",'Replacement Cost Schedule'!N112,\"\")","v":""},{"$f":"IF('Replacement Cost Schedule'!O112<>\"\",'Replacement Cost Schedule'!O112,\"\")","v":""},{"$f":"IF('Replacement Cost Schedule'!P112<>\"\",'Replacement Cost Schedule'!P112,\"\")","v":""},{"$f":"IF('Replacement Cost Schedule'!Q112<>\"\",'Replacement Cost Schedule'!Q112,\"\")","v":""},{"$f":"IF('Replacement Cost Schedule'!R112<>\"\",'Replacement Cost Schedule'!R112,\"\")","v":""},{"$f":"IF('Replacement Cost Schedule'!S112<>\"\",'Replacement Cost Schedule'!S112,\"\")","v":""},null,{"$f":"IF('Replacement Cost Schedule'!C112<>\"\",'Replacement Cost Schedule'!C112,\"\")","v":""},{"$f":"IF('Replacement Cost Schedule'!T112<>\"\",'Replacement Cost Schedule'!T112,\"\")","v":""},{"$f":"IF('Replacement Cost Schedule'!U112<>\"\",'Replacement Cost Schedule'!U112,\"\")","v":""},{"$f":"IF('Replacement Cost Schedule'!V112<>\"\",'Replacement Cost Schedule'!V112,\"\")","v":""},{"$f":"IF('Replacement Cost Schedule'!W112<>\"\",'Replacement Cost Schedule'!W112,\"\")","v":""},{"$f":"IF('Replacement Cost Schedule'!X112<>\"\",'Replacement Cost Schedule'!X112,\"\")","v":""},{"$f":"IF('Replacement Cost Schedule'!Y112<>\"\",'Replacement Cost Schedule'!Y112,\"\")","v":""},{"$f":"IF('Replacement Cost Schedule'!Z112<>\"\",'Replacement Cost Schedule'!Z112,\"\")","v":""},{"$f":"IF('Replacement Cost Schedule'!AA112<>\"\",'Replacement Cost Schedule'!AA112,\"\")","v":""},{"$f":"IF('Replacement Cost Schedule'!AB112<>\"\",'Replacement Cost Schedule'!AB112,\"\")","v":""},{"$f":"IF('Replacement Cost Schedule'!AC112<>\"\",'Replacement Cost Schedule'!AC112,\"\")","v":""},{"$f":"IF('Replacement Cost Schedule'!AD112<>\"\",'Replacement Cost Schedule'!AD112,\"\")","v":""},{"$f":"IF('Replacement Cost Schedule'!AE112<>\"\",'Replacement Cost Schedule'!AE112,\"\")","v":""},{"$f":"IF('Replacement Cost Schedule'!AF112<>\"\",'Replacement Cost Schedule'!AF112,\"\")","v":""},0]
[null,null,{"$f":"IF('Replacement Cost Schedule'!C113<>\"\",'Replacement Cost Schedule'!C113,\"\")","v":""},{"$f":"IF('Replacement Cost Schedule'!D113<>\"\",'Replacement Cost Schedule'!D113,\"\")","v":""},{"$f":"IF('Replacement Cost Schedule'!E113<>\"\",'Replacement Cost Schedule'!E113,\"\")","v":""},{"$f":"IF('Replacement Cost Schedule'!F113<>\"\",'Replacement Cost Schedule'!F113,\"\")","v":""},{"$f":"IF('Replacement Cost Schedule'!G113<>\"\",'Replacement Cost Schedule'!G113,\"\")","v":""},{"$f":"IF('Replacement Cost Schedule'!H113<>\"\",'Replacement Cost Schedule'!H113,\"\")","v":""},{"$f":"IF('Replacement Cost Schedule'!I113<>\"\",'Replacement Cost Schedule'!I113,\"\")","v":""},{"$f":"IF('Replacement Cost Schedule'!J113<>\"\",'Replacement Cost Schedule'!J113,\"\")","v":""},{"$f":"IF('Replacement Cost Schedule'!K113<>\"\",'Replacement Cost Schedule'!K113,\"\")","v":""},{"$f":"IF('Replacement Cost Schedule'!L113<>\"\",'Replacement Cost Schedule'!L113,\"\")","v":""},{"$f":"IF('Replacement Cost Schedule'!M113<>\"\",'Replacement Cost Schedule'!M113,\"\")","v":""},{"$f":"IF('Replacement Cost Schedule'!N113<>\"\",'Replacement Cost Schedule'!N113,\"\")","v":""},{"$f":"IF('Replacement Cost Schedule'!O113<>\"\",'Replacement Cost Schedule'!O113,\"\")","v":""},{"$f":"IF('Replacement Cost Schedule'!P113<>\"\",'Replacement Cost Schedule'!P113,\"\")","v":""},{"$f":"IF('Replacement Cost Schedule'!Q113<>\"\",'Replacement Cost Schedule'!Q113,\"\")","v":""},{"$f":"IF('Replacement Cost Schedule'!R113<>\"\",'Replacement Cost Schedule'!R113,\"\")","v":""},{"$f":"IF('Replacement Cost Schedule'!S113<>\"\",'Replacement Cost Schedule'!S113,\"\")","v":""},null,{"$f":"IF('Replacement Cost Schedule'!C113<>\"\",'Replacement Cost Schedule'!C113,\"\")","v":""},{"$f":"IF('Replacement Cost Schedule'!T113<>\"\",'Replacement Cost Schedule'!T113,\"\")","v":""},{"$f":"IF('Replacement Cost Schedule'!U113<>\"\",'Replacement Cost Schedule'!U113,\"\")","v":""},{"$f":"IF('Replacement Cost Schedule'!V113<>\"\",'Replacement Cost Schedule'!V113,\"\")","v":""},{"$f":"IF('Replacement Cost Schedule'!W113<>\"\",'Replacement Cost Schedule'!W113,\"\")","v":""},{"$f":"IF('Replacement Cost Schedule'!X113<>\"\",'Replacement Cost Schedule'!X113,\"\")","v":""},{"$f":"IF('Replacement Cost Schedule'!Y113<>\"\",'Replacement Cost Schedule'!Y113,\"\")","v":""},{"$f":"IF('Replacement Cost Schedule'!Z113<>\"\",'Replacement Cost Schedule'!Z113,\"\")","v":""},{"$f":"IF('Replacement Cost Schedule'!AA113<>\"\",'Replacement Cost Schedule'!AA113,\"\")","v":""},{"$f":"IF('Replacement Cost Schedule'!AB113<>\"\",'Replacement Cost Schedule'!AB113,\"\")","v":""},{"$f":"IF('Replacement Cost Schedule'!AC113<>\"\",'Replacement Cost Schedule'!AC113,\"\")","v":""},{"$f":"IF('Replacement Cost Schedule'!AD113<>\"\",'Replacement Cost Schedule'!AD113,\"\")","v":""},{"$f":"IF('Replacement Cost Schedule'!AE113<>\"\",'Replacement Cost Schedule'!AE113,\"\")","v":""},{"$f":"IF('Replacement Cost Schedule'!AF113<>\"\",'Replacement Cost Schedule'!AF113,\"\")","v":""},0]
[]
[null,null,"Total - Uninflated",null,null,null,null,null,null,null,null,{"$f":"SUM(L14:L113)","v":0},{"$f":"SUM(M14:M113)","v":0},0,0,0,0,0,0,null,null,0,{"$f":"SUM(W14:W113)","v":0},0,0,0,0,0,0,0,0,{"$f":"SUM(AF14:AF113)","v":0},{"$f":"SUM(AG14:AG113)","v":0},{"$f":"SUM(AH14:AH113)","v":0},{"$f":"SUM(AI14:AI113)","v":0}]
[null,null,"Factor",null,null,null,null,null,null,null,null,null,{"$f":"1","v":1},{"$f":"M116+(1*0.03)","v":1.03},{"$f":"N116+(1*0.03)","v":1.06},{"$f":"O116+(1*0.03)","v":1.0900000000000001},{"$f":"P116+(1*0.03)","v":1.1200000000000001},1.1500000000000001,1.1800000000000002,null,null,{"$f":"S116+(1*0.03)","v":1.2100000000000002},{"$f":"V116+(1*0.03)","v":1.2400000000000002},{"$f":"W116+(1*0.03)","v":1.2700000000000002},1.3000000000000003,1.3300000000000003,1.3600000000000003,1.3900000000000003,1.4200000000000004,{"$f":"AC116+(1*0.03)","v":1.4500000000000004},{"$f":"AD116+(1*0.03)","v":1.4800000000000004},{"$f":"AE116+(1*0.03)","v":1.5100000000000005},{"$f":"AF116+(1*0.03)","v":1.5400000000000005},{"$f":"AG116+(1*0.03)","v":1.5700000000000005}]
[null,null,"Total - Inflated",null,null,null,null,null,null,null,null,{"$f":"L115","v":0},{"$f":"M115*M116","v":0},{"$f":"N115*N116","v":0},0,0,0,0,0,null,null,{"$f":"V115*V116","v":0},0,0,0,0,0,0,0,0,0,0,0,0,{"$f":"SUM(L117:S117,V117:AH117)","v":0}]

{"sheet":"Project Summary Sheet (PSS)_1","index":28,"n_rows":77,"n_cols":28,"rows_kept":77,"cut":false,"hidden":false,"merged":[[73,2,73,4],[74,2,74,4],[75,2,75,5],[76,2,76,5],[67,2,67,4],[68,2,68,4],[69,2,69,4],[70,2,70,4],[71,2,71,4],[72,2,72,4],[61,2,61,4],[62,2,62,4],[63,2,63,4],[64,1,64,4],[65,2,65,4],[66,2,66,4],[55,2,55,4],[56,2,56,4],[57,2,57,4],[58,2,58,4],[59,2,59,4],[60,2,60,4],[49,2,49,4],[50,2,50,4],[51,2,51,4],[52,2,52,4],[53,2,53,4],[54,2,54,4],[43,2,43,4],[44,2,44,4],[45,2,45,4],[46,2,46,4],[47,2,47,4],[48,2,48,4],[37,2,37,4],[38,2,38,4],[39,2,39,4],[40,2,40,4],[41,2,41,4],[42,2,42,4],[31,2,31,4],[32,2,32,4],[33,2,33,4],[34,2,34,4],[35,2,35,4],[36,2,36,4],[25,2,25,4],[26,2,26,4],[27,2,27,4],[28,2,28,4],[29,2,29,4],[30,2,30,4],[22,19,23,19],[22,21,23,21],[22,22,22,23],[22,24,22,25],[22,26,22,27],[24,1,24,4],[22,13,23,13],[22,14,23,14],[22,15,23,15],[22,16,23,16],[22,17,23,17],[22,18,23,18],[22,1,23,1],[22,2,23,4],[22,5,23,5],[22,6,22,7],[22,8,22,9],[22,10,22,12],[20,1,20,19],[21,1,21,5],[21,6,21,12],[21,13,21,14],[21,18,21,19],[21,21,21,27],[17,19,17,21],[18,1,18,2],[18,3,18,4],[18,5,18,6],[18,7,18,8],[18,9,18,10],[18,11,18,12],[18,13,18,14],[18,15,18,16],[18,17,18,18],[17,1,17,2],[17,5,17,6],[17,7,17,8],[17,9,17,10],[17,11,17,12],[17,13,17,14],[17,15,17,16],[17,17,17,18],[18,19,18,21],[15,24,15,27],[16,1,16,2],[16,3,16,4],[16,5,16,6],[16,7,16,8],[16,9,16,10],[16,11,16,12],[16,13,16,14],[16,15,16,16],[16,17,16,18],[16,19,16,21],[1,2,1,6],[1,8,2,14],[1,15,2,18],[1,21,1,22],[2,2,2,6],[6,1,6,18],[12,1,12,18],[14,1,14,21],[15,3,15,4],[15,5,15,6],[15,7,15,8],[15,9,15,10],[15,11,15,12],[15,13,15,14],[15,15,15,16],[15,17,15,18],[15,19,15,21]]}
[]
[null,"PROJECT: ",{"$f":"'Building Info'!F19","v":0},null,null,null,null,null,"List any local laws or executive orders relevant to the project: \n(ex. LL87, LL97, EO88, EO166, etc.)",null,null,null,null,null,null,null,null,null,null,null,null,"v. August 2023"]
[null,"BUILDING: ",{"$f":"IF('Building Info'!D50<>\"\",'Building Info'!D50,\"\")","v":""}]
[]
[null,"Instructions:"]
[null,"∙ Complete one (1) Project Summary Sheet per building. Consult with your NYSERDA PM if baseline use cannot be broken out per building. "]
[null,"∙ Include each measure that was evaluated in the study as a separate line item within the Itemized Measures section, including measures not recommended for implementation. If the study includes measure packages, list each individual measure within the Itemized Measures section AND include a line item for each measure package evaluated within the Measure Packages section. Additional guidance on itemized and packaged measures is procided in cells B25 & B65, respectively."]
[null,"∙ Refer to the guidance notes provided throughout the spreadsheet in cells that contain red triangles in the upper right corner of the cell. "]
[null,"∙ Fill in the light blue cells, as appropriate. White cells auto-calculate."]
[null,"∙ Present energy savings as annual savings at the system’s utility meter(s) or at the source of generation for fuels."]
[null,"∙ Update the baseline energy use conversion factors in the 'References' tab, as necessary."]
[null,"∙ Unhide rows to enter more measures, as necessary. If measures are packaged in the study, report package savings starting at row 66. Refer to the note in cell B65 for additional guidance."]
[null,"∙ The Other Cost Savings in columns S & T are supplemental to the FlexTech program. These cost savings were not technically reviewed under FlexTech and are subject to change depending on factors external to NYSERDA, such as NYC Local Laws and Utility Incentive Programs. "]
[]
[null,"ANNUALIZED BASELINE ENERGY SUMMARY"]
[null,null,null,"Electric \n(kWh)",null,"Electric Demand (kW)",null,"Natural Gas \n(Therms)",null,{"$f":"_xlfn.IFS('Energy and Water Use'!F33>0,'PSS References'!K14,'Energy and Water Use'!G33>0,'PSS References'!L14,'Energy and Water Use'!H33>0,'PSS References'!M14,TRUE,'PSS References'!J14)","v":"Oil\n[Select Type]"},null,"Purchased Steam \n(Mlbs.)",null,"Propane \n(Gallons)",null,"Coal \n(Tons)",null,"Other [Indicate]\n(MMBtu)",null,"Total Baseline Use (MMBtu)",null,null,null,"Other Fuel Source(s)"]
[null,"Baseline Energy Use",null,{"$f":"'Energy and Water Use'!D33","v":0},null,null,null,{"$f":"'Energy and Water Use'!E33","v":0},null,{"$f":"_xlfn.IFS('Energy and Water Use'!F33>0,'Energy and Water Use'!F33,'Energy and Water Use'!G33>0,'Energy and Water Use'!G33,'Energy and Water Use'!H33>0,'Energy and Water Use'!H33,TRUE,\"\")","v":""},null,{"$f":"'Energy and Water Use'!I33","v":0},null,{"$f":"'Energy and Water Use'!J33","v":0},null,null,null,null,null,{"$f":"($D$17*'PSS References'!$E$11)+($H$17*'PSS References'!$E$12)+(L17*'PSS References'!$I$10)+($N$17*'PSS References'!$I$11)+($P$17*'PSS References'!$I$12)+($R$17)+_xlfn.IFS($J$16='PSS References'!$K$14,'Project Summary Sheet (PSS)_1'!$J$17*'PSS References'!$G$10,$J$16='PSS References'!$L$14,'Project Summary Sheet (PSS)_1'!$J$17*'PSS References'!$G$11,$J$16='PSS References'!$M$14,'Project Summary Sheet (PSS)_1'!$J$17*'PSS References'!$G$12,$J$16='PSS References'!$J$14,0)","v":0}]
[null,"Average Utility Rate",null,"Blended",{"$f":"'Energy and Water Use'!E58","v":0},null,null,{"$f":"'Energy and Water Use'!E59","v":0},null,{"$f":"_xlfn.IFS('Energy and Water Use'!F33>0,'Energy and Water Use'!F33,'Energy and Water Use'!G33>0,'Energy and Water Use'!G33,'Energy and Water Use'!H33>0,'Energy and Water Use'!H33,TRUE,\"\")","v":""},null,{"$f":"'Energy and Water Use'!E63","v":""},null,{"$f":"'Energy and Water Use'!E64","v":0},null,null,null,null,null,"Total Annual Cost ($)"]
[null," Baseline Annual Cost",null,{"$f":"'Energy and Water Use'!D38","v":0},null,null,null,{"$f":"'Energy and Water Use'!E38","v":0},null,{"$f":"_xlfn.IFS('Energy and Water Use'!F38>0,'Energy and Water Use'!E60,'Energy and Water Use'!G38>0,'Energy and Water Use'!E61,'Energy and Water Use'!H38>0,'Energy and Water Use'!E62,TRUE,\"\")","v":""},null,{"$f":"'Energy and Water Use'!I38","v":0},null,{"$f":"'Energy and Water Use'!J38","v":0},null,null,null,null,null,{"$f":"SUM(D19:S19)","v":0}]
[]
[null,"MEASURE SAVINGS SUMMARY"]
[null,"Measure/Package Information",null,null,null,null,"Energy Savings",null,null,null,null,null,null,"Water/ Sewer Savings",null,"O&M Savings","Project Cost","Payback","Other Cost Savings",null,null,"Fuel Savings Breakout"]
[null,"Measure/\nPackage ID","Measure/Package Name",null,null,"Measure/ Package Status","Electric/ Renewable Generation",null,"Fuel",null,"Total",null,null,"Water/ Sewer Savings\n(kGal)","Water/ Sewer Cost Savings\n(Annual)","O&M Cost Savings\n(Annual)","Project Cost","Simple Payback\n(Years)"," Other Cost Savings\n(Annual)","Simple Payback with Other Cost Savings\n(Years)",null,"Measure ID","Fuel Type 1",null,"Fuel Type 2",null,"Fuel Type 3"]
[null,null,null,null,null,null,"Supply Savings/ Renewable Generation\n(kWh)","Peak Demand Savings\n(kW)","Fuel Savings Type","Fuel Savings\n(MMBtu)","Energy Savings \nto Total Baseline Use\n(%)","Energy Cost Savings\n(Annual)","Energy Cost Savings \nto Total Annual Cost (%)",null,null,null,null,null,null,null,null,null,"Fuel Savings Type","Fuel Savings\n(MMBtu)","Fuel Savings Type","Fuel Savings\n(MMBtu)","Fuel Savings Type","Fuel Savings\n(MMBtu)"]
[null,"Itemized Measures",null,null,null,null,null,null,{"$f":"IF(COUNTIF(I26:I64,\"Multiple\"),'PSS References'!E1,\"\")","v":""}]
[null,null,{"$f":"IFERROR(INDEX('Scope and Prelim. Cost Est.'!$B$25:$B$75,SMALL(IF(('Scope and Prelim. Cost Est.'!$F$26:$F$75=\"Yes\")*1=1,ROW('Scope and Prelim. Cost Est.'!$F$26:$F$75)-ROW('Scope and Prelim. Cost Est.'!$F$25)+1),ROWS('Scope and Prelim. Cost Est.'!$F$25:F25))),\"\")","v":""},null,null,null,{"$f":"IFERROR(INDEX('Scope and Prelim. Cost Est.'!$Q$25:$Q$75,SMALL(IF(('Scope and Prelim. Cost Est.'!$F$26:$F$75=\"Yes\")*1=1,ROW('Scope and Prelim. Cost Est.'!$F$26:$F$75)-ROW('Scope and Prelim. Cost Est.'!$F$25)+1),ROWS('Scope and Prelim. Cost Est.'!C$25:$F25)))+INDEX('Scope and Prelim. Cost Est.'!$R$25:$R$75,SMALL(IF(('Scope and Prelim. Cost Est.'!$F$26:$F$75=\"Yes\")*1=1,ROW('Scope and Prelim. Cost Est.'!$F$26:$F$75)-ROW('Scope and Prelim. Cost Est.'!$F$25)+1),ROWS('Scope and Prelim. Cost Est.'!C$25:$F25))),\"\")","v":""},null,{"$f":"IFERROR(INDEX('PSS References'!$R$29:$R$38,MATCH(INDEX('Scope and Prelim. Cost Est.'!$U$25:$U$75,SMALL(IF(('Scope and Prelim. Cost Est.'!$F$26:$F$75=\"Yes\")*1=1,ROW('Scope and Prelim. Cost Est.'!$F$26:$F$75)-ROW('Scope and Prelim. Cost Est.'!$F$25)+1),ROWS('Scope and Prelim. Cost Est.'!$F$25:F25))),'PSS References'!$S$29:$S$38,0)),\"\")","v":""},{"$f":"IFERROR(INDEX('Scope and Prelim. Cost Est.'!$S$25:$S$75,SMALL(IF(('Scope and Prelim. Cost Est.'!$F$26:$F$75=\"Yes\")*1=1,ROW('Scope and Prelim. Cost Est.'!$F$26:$F$75)-ROW('Scope and Prelim. Cost Est.'!$F$25)+1),ROWS('Scope and Prelim. Cost Est.'!$F$25:F25)))+INDEX('Scope and Prelim. Cost Est.'!$T$25:$T$75,SMALL(IF(('Scope and Prelim. Cost Est.'!$F$26:$F$75=\"Yes\")*1=1,ROW('Scope and Prelim. Cost Est.'!$F$26:$F$75)-ROW('Scope and Prelim. Cost Est.'!$F$25)+1),ROWS('Scope and Prelim. Cost Est.'!$F$25:F25))),\"\")","v":""},{"$f":"IF(AND(G26=\"\",J26=\"\"),\"\",(((G26*'PSS References'!$E$11)+J26)/$T$17))","v":""},{"$f":"IFERROR(INDEX('Scope and Prelim. Cost Est.'!$V$25:$V$75,SMALL(IF(('Scope and Prelim. Cost Est.'!$F$26:$F$75=\"Yes\")*1=1,ROW('Scope and Prelim. Cost Est.'!$F$26:$F$75)-ROW('Scope and Prelim. Cost Est.'!$F$25)+1),ROWS('Scope and Prelim. Cost Est.'!$F$25:F25))),\"\")","v":""},{"$f":"IF(L26=\"\",\"\",L26/$T$19)","v":""},{"$f":"IFERROR(INDEX('Scope and Prelim. Cost Est.'!$AD$25:$AD$75,SMALL(IF(('Scope and Prelim. Cost Est.'!$F$26:$F$75=\"Yes\")*1=1,ROW('Scope and Prelim. Cost Est.'!$F$26:$F$75)-ROW('Scope and Prelim. Cost Est.'!$F$25)+1),ROWS('Scope and Prelim. Cost Est.'!$F$25:F25))),\"\")","v":""},{"$f":"IF(OR('Energy and Water Use'!$E$65=\"\",N26=\"\"),\"\",N26*'Energy and Water Use'!$E$65*1000)","v":""},null,{"$f":"IFERROR(INDEX('Scope and Prelim. Cost Est.'!$P$25:$P$75,SMALL(IF(('Scope and Prelim. Cost Est.'!$F$26:$F$75=\"Yes\")*1=1,ROW('Scope and Prelim. Cost Est.'!$F$26:$F$75)-ROW('Scope and Prelim. Cost Est.'!$F$25)+1),ROWS('Scope and Prelim. Cost Est.'!$F$25:F25))),\"\")","v":""},{"$f":"IFERROR(Q26/SUM(L26,O26,P26),\"\")","v":""},null,{"$f":"IFERROR(Q26/SUM(L26,O26,P26),\"\")","v":""},null,{"$f":"IFERROR(_xlfn.IFS(B26=\"\",\"\",I26=\"multiple\",B26),\"\")","v":""}]
[null,null,{"$f":"IFERROR(INDEX('Scope and Prelim. Cost Est.'!$B$25:$B$75,SMALL(IF(('Scope and Prelim. Cost Est.'!$F$26:$F$75=\"Yes\")*1=1,ROW('Scope and Prelim. Cost Est.'!$F$26:$F$75)-ROW('Scope and Prelim. Cost Est.'!$F$25)+1),ROWS('Scope and Prelim. Cost Est.'!$F$25:F26))),\"\")","v":""},null,null,null,{"$f":"IFERROR(INDEX('Scope and Prelim. Cost Est.'!$Q$25:$Q$75,SMALL(IF(('Scope and Prelim. Cost Est.'!$F$26:$F$75=\"Yes\")*1=1,ROW('Scope and Prelim. Cost Est.'!$F$26:$F$75)-ROW('Scope and Prelim. Cost Est.'!$F$25)+1),ROWS('Scope and Prelim. Cost Est.'!C$25:$F26)))+INDEX('Scope and Prelim. Cost Est.'!$R$25:$R$75,SMALL(IF(('Scope and Prelim. Cost Est.'!$F$26:$F$75=\"Yes\")*1=1,ROW('Scope and Prelim. Cost Est.'!$F$26:$F$75)-ROW('Scope and Prelim. Cost Est.'!$F$25)+1),ROWS('Scope and Prelim. Cost Est.'!C$25:$F26))),\"\")","v":""},null,{"$f":"IFERROR(INDEX('PSS References'!$R$29:$R$38,MATCH(INDEX('Scope and Prelim. Cost Est.'!$U$25:$U$75,SMALL(IF(('Scope and Prelim. Cost Est.'!$F$26:$F$75=\"Yes\")*1=1,ROW('Scope and Prelim. Cost Est.'!$F$26:$F$75)-ROW('Scope and Prelim. Cost Est.'!$F$25)+1),ROWS('Scope and Prelim. Cost Est.'!$F$25:F26))),'PSS References'!$S$29:$S$38,0)),\"\")","v":""},{"$f":"IFERROR(INDEX('Scope and Prelim. Cost Est.'!$S$25:$S$75,SMALL(IF(('Scope and Prelim. Cost Est.'!$F$26:$F$75=\"Yes\")*1=1,ROW('Scope and Prelim. Cost Est.'!$F$26:$F$75)-ROW('Scope and Prelim. Cost Est.'!$F$25)+1),ROWS('Scope and Prelim. Cost Est.'!$F$25:F26)))+INDEX('Scope and Prelim. Cost Est.'!$T$25:$T$75,SMALL(IF(('Scope and Prelim. Cost Est.'!$F$26:$F$75=\"Yes\")*1=1,ROW('Scope and Prelim. Cost Est.'!$F$26:$F$75)-ROW('Scope and Prelim. Cost Est.'!$F$25)+1),ROWS('Scope and Prelim. Cost Est.'!$F$25:F26))),\"\")","v":""},{"$f":"IF(AND(G27=\"\",J27=\"\"),\"\",(G27*'PSS References'!$E$11+J27)/$T$17)","v":""},{"$f":"IFERROR(INDEX('Scope and Prelim. Cost Est.'!$V$25:$V$75,SMALL(IF(('Scope and Prelim. Cost Est.'!$F$26:$F$75=\"Yes\")*1=1,ROW('Scope and Prelim. Cost Est.'!$F$26:$F$75)-ROW('Scope and Prelim. Cost Est.'!$F$25)+1),ROWS('Scope and Prelim. Cost Est.'!$F$25:F26))),\"\")","v":""},"",{"$f":"IFERROR(INDEX('Scope and Prelim. Cost Est.'!$AD$25:$AD$75,SMALL(IF(('Scope and Prelim. Cost Est.'!$F$26:$F$75=\"Yes\")*1=1,ROW('Scope and Prelim. Cost Est.'!$F$26:$F$75)-ROW('Scope and Prelim. Cost Est.'!$F$25)+1),ROWS('Scope and Prelim. Cost Est.'!$F$25:F26))),\"\")","v":""},{"$f":"IF(OR('Energy and Water Use'!$E$65=\"\",N27=\"\"),\"\",N27*'Energy and Water Use'!$E$65*1000)","v":""},null,{"$f":"IFERROR(INDEX('Scope and Prelim. Cost Est.'!$P$25:$P$75,SMALL(IF(('Scope and Prelim. Cost Est.'!$F$26:$F$75=\"Yes\")*1=1,ROW('Scope and Prelim. Cost Est.'!$F$26:$F$75)-ROW('Scope and Prelim. Cost Est.'!$F$25)+1),ROWS('Scope and Prelim. Cost Est.'!$F$25:F26))),\"\")","v":""},{"$f":"IFERROR(Q27/SUM(L27,O27,P27),\"\")","v":""},null,{"$f":"IFERROR(Q27/SUM(L27,O27,P27),\"\")","v":""},null,{"$f":"IFERROR(_xlfn.IFS(B27=\"\",\"\",I27=\"multiple\",B27),\"\")","v":""}]
[null,null,{"$f":"IFERROR(INDEX('Scope and Prelim. Cost Est.'!$B$25:$B$75,SMALL(IF(('Scope and Prelim. Cost Est.'!$F$26:$F$75=\"Yes\")*1=1,ROW('Scope and Prelim. Cost Est.'!$F$26:$F$75)-ROW('Scope and Prelim. Cost Est.'!$F$25)+1),ROWS('Scope and Prelim. Cost Est.'!$F$25:F27))),\"\")","v":""},null,null,null,{"$f":"IFERROR(INDEX('Scope and Prelim. Cost Est.'!$Q$25:$Q$75,SMALL(IF(('Scope and Prelim. Cost Est.'!$F$26:$F$75=\"Yes\")*1=1,ROW('Scope and Prelim. Cost Est.'!$F$26:$F$75)-ROW('Scope and Prelim. Cost Est.'!$F$25)+1),ROWS('Scope and Prelim. Cost Est.'!C$25:$F27)))+INDEX('Scope and Prelim. Cost Est.'!$R$25:$R$75,SMALL(IF(('Scope and Prelim. Cost Est.'!$F$26:$F$75=\"Yes\")*1=1,ROW('Scope and Prelim. Cost Est.'!$F$26:$F$75)-ROW('Scope and Prelim. Cost Est.'!$F$25)+1),ROWS('Scope and Prelim. Cost Est.'!C$25:$F27))),\"\")","v":""},null,{"$f":"IFERROR(INDEX('PSS References'!$R$29:$R$38,MATCH(INDEX('Scope and Prelim. Cost Est.'!$U$25:$U$75,SMALL(IF(('Scope and Prelim. Cost Est.'!$F$26:$F$75=\"Yes\")*1=1,ROW('Scope and Prelim. Cost Est.'!$F$26:$F$75)-ROW('Scope and Prelim. Cost Est.'!$F$25)+1),ROWS('Scope and Prelim. Cost Est.'!$F$25:F27))),'PSS References'!$S$29:$S$38,0)),\"\")","v":""},{"$f":"IFERROR(INDEX('Scope and Prelim. Cost Est.'!$S$25:$S$75,SMALL(IF(('Scope and Prelim. Cost Est.'!$F$26:$F$75=\"Yes\")*1=1,ROW('Scope and Prelim. Cost Est.'!$F$26:$F$75)-ROW('Scope and Prelim. Cost Est.'!$F$25)+1),ROWS('Scope and Prelim. Cost Est.'!$F$25:F27)))+INDEX('Scope and Prelim. Cost Est.'!$T$25:$T$75,SMALL(IF(('Scope and Prelim. Cost Est.'!$F$26:$F$75=\"Yes\")*1=1,ROW('Scope and Prelim. Cost Est.'!$F$26:$F$75)-ROW('Scope and Prelim. Cost Est.'!$F$25)+1),ROWS('Scope and Prelim. Cost Est.'!$F$25:F27))),\"\")","v":""},{"$f":"IF(AND(G28=\"\",J28=\"\"),\"\",(G28*'PSS References'!$E$11+J28)/$T$17)","v":""},{"$f":"IFERROR(INDEX('Scope and Prelim. Cost Est.'!$V$25:$V$75,SMALL(IF(('Scope and Prelim. Cost Est.'!$F$26:$F$75=\"Yes\")*1=1,ROW('Scope and Prelim. Cost Est.'!$F$26:$F$75)-ROW('Scope and Prelim. Cost Est.'!$F$25)+1),ROWS('Scope and Prelim. Cost Est.'!$F$25:F27))),\"\")","v":""},"",{"$f":"IFERROR(INDEX('Scope and Prelim. Cost Est.'!$AD$25:$AD$75,SMALL(IF(('Scope and Prelim. Cost Est.'!$F$26:$F$75=\"Yes\")*1=1,ROW('Scope and Prelim. Cost Est.'!$F$26:$F$75)-ROW('Scope and Prelim. Cost Est.'!$F$25)+1),ROWS('Scope and Prelim. Cost Est.'!$F$25:F27))),\"\")","v":""},{"$f":"IF(OR('Energy and Water Use'!$E$65=\"\",N28=\"\"),\"\",N28*'Energy and Water Use'!$E$65*1000)","v":""},null,{"$f":"IFERROR(INDEX('Scope and Prelim. Cost Est.'!$P$25:$P$75,SMALL(IF(('Scope and Prelim. Cost Est.'!$F$26:$F$75=\"Yes\")*1=1,ROW('Scope and Prelim. Cost Est.'!$F$26:$F$75)-ROW('Scope and Prelim. Cost Est.'!$F$25)+1),ROWS('Scope and Prelim. Cost Est.'!$F$25:F27))),\"\")","v":""},"",null,"",null,{"$f":"IFERROR(_xlfn.IFS(B28=\"\",\"\",I28=\"multiple\",B28),\"\")","v":""}]
[null,null,{"$f":"IFERROR(INDEX('Scope and Prelim. Cost Est.'!$B$25:$B$75,SMALL(IF(('Scope and Prelim. Cost Est.'!$F$26:$F$75=\"Yes\")*1=1,ROW('Scope and Prelim. Cost Est.'!$F$26:$F$75)-ROW('Scope and Prelim. Cost Est.'!$F$25)+1),ROWS('Scope and Prelim. Cost Est.'!$F$25:F28))),\"\")","v":""},null,null,null,{"$f":"IFERROR(INDEX('Scope and Prelim. Cost Est.'!$Q$25:$Q$75,SMALL(IF(('Scope and Prelim. Cost Est.'!$F$26:$F$75=\"Yes\")*1=1,ROW('Scope and Prelim. Cost Est.'!$F$26:$F$75)-ROW('Scope and Prelim. Cost Est.'!$F$25)+1),ROWS('Scope and Prelim. Cost Est.'!C$25:$F28)))+INDEX('Scope and Prelim. Cost Est.'!$R$25:$R$75,SMALL(IF(('Scope and Prelim. Cost Est.'!$F$26:$F$75=\"Yes\")*1=1,ROW('Scope and Prelim. Cost Est.'!$F$26:$F$75)-ROW('Scope and Prelim. Cost Est.'!$F$25)+1),ROWS('Scope and Prelim. Cost Est.'!C$25:$F28))),\"\")","v":""},null,{"$f":"IFERROR(INDEX('PSS References'!$R$29:$R$38,MATCH(INDEX('Scope and Prelim. Cost Est.'!$U$25:$U$75,SMALL(IF(('Scope and Prelim. Cost Est.'!$F$26:$F$75=\"Yes\")*1=1,ROW('Scope and Prelim. Cost Est.'!$F$26:$F$75)-ROW('Scope and Prelim. Cost Est.'!$F$25)+1),ROWS('Scope and Prelim. Cost Est.'!$F$25:F28))),'PSS References'!$S$29:$S$38,0)),\"\")","v":""},{"$f":"IFERROR(INDEX('Scope and Prelim. Cost Est.'!$S$25:$S$75,SMALL(IF(('Scope and Prelim. Cost Est.'!$F$26:$F$75=\"Yes\")*1=1,ROW('Scope and Prelim. Cost Est.'!$F$26:$F$75)-ROW('Scope and Prelim. Cost Est.'!$F$25)+1),ROWS('Scope and Prelim. Cost Est.'!$F$25:F28)))+INDEX('Scope and Prelim. Cost Est.'!$T$25:$T$75,SMALL(IF(('Scope and Prelim. Cost Est.'!$F$26:$F$75=\"Yes\")*1=1,ROW('Scope and Prelim. Cost Est.'!$F$26:$F$75)-ROW('Scope and Prelim. Cost Est.'!$F$25)+1),ROWS('Scope and Prelim. Cost Est.'!$F$25:F28))),\"\")","v":""},{"$f":"IF(AND(G29=\"\",J29=\"\"),\"\",(G29*'PSS References'!$E$11+J29)/$T$17)","v":""},{"$f":"IFERROR(INDEX('Scope and Prelim. Cost Est.'!$V$25:$V$75,SMALL(IF(('Scope and Prelim. Cost Est.'!$F$26:$F$75=\"Yes\")*1=1,ROW('Scope and Prelim. Cost Est.'!$F$26:$F$75)-ROW('Scope and Prelim. Cost Est.'!$F$25)+1),ROWS('Scope and Prelim. Cost Est.'!$F$25:F28))),\"\")","v":""},"",{"$f":"IFERROR(INDEX('Scope and Prelim. Cost Est.'!$AD$25:$AD$75,SMALL(IF(('Scope and Prelim. Cost Est.'!$F$26:$F$75=\"Yes\")*1=1,ROW('Scope and Prelim. Cost Est.'!$F$26:$F$75)-ROW('Scope and Prelim. Cost Est.'!$F$25)+1),ROWS('Scope and Prelim. Cost Est.'!$F$25:F28))),\"\")","v":""},{"$f":"IF(OR('Energy and Water Use'!$E$65=\"\",N29=\"\"),\"\",N29*'Energy and Water Use'!$E$65*1000)","v":""},null,{"$f":"IFERROR(INDEX('Scope and Prelim. Cost Est.'!$P$25:$P$75,SMALL(IF(('Scope and Prelim. Cost Est.'!$F$26:$F$75=\"Yes\")*1=1,ROW('Scope and Prelim. Cost Est.'!$F$26:$F$75)-ROW('Scope and Prelim. Cost Est.'!$F$25)+1),ROWS('Scope and Prelim. Cost Est.'!$F$25:F28))),\"\")","v":""},"",null,"",null,{"$f":"IFERROR(_xlfn.IFS(B29=\"\",\"\",I29=\"multiple\",B29),\"\")","v":""}]
[null,null,{"$f":"IFERROR(INDEX('Scope and Prelim. Cost Est.'!$B$25:$B$75,SMALL(IF(('Scope and Prelim. Cost Est.'!$F$26:$F$75=\"Yes\")*1=1,ROW('Scope and Prelim. Cost Est.'!$F$26:$F$75)-ROW('Scope and Prelim. Cost Est.'!$F$25)+1),ROWS('Scope and Prelim. Cost Est.'!$F$25:F29))),\"\")","v":""},null,null,null,{"$f":"IFERROR(INDEX('Scope and Prelim. Cost Est.'!$Q$25:$Q$75,SMALL(IF(('Scope and Prelim. Cost Est.'!$F$26:$F$75=\"Yes\")*1=1,ROW('Scope and Prelim. Cost Est.'!$F$26:$F$75)-ROW('Scope and Prelim. Cost Est.'!$F$25)+1),ROWS('Scope and Prelim. Cost Est.'!C$25:$F29)))+INDEX('Scope and Prelim. Cost Est.'!$R$25:$R$75,SMALL(IF(('Scope and Prelim. Cost Est.'!$F$26:$F$75=\"Yes\")*1=1,ROW('Scope and Prelim. Cost Est.'!$F$26:$F$75)-ROW('Scope and Prelim. Cost Est.'!$F$25)+1),ROWS('Scope and Prelim. Cost Est.'!C$25:$F29))),\"\")","v":""},null,{"$f":"IFERROR(INDEX('PSS References'!$R$29:$R$38,MATCH(INDEX('Scope and Prelim. Cost Est.'!$U$25:$U$75,SMALL(IF(('Scope and Prelim. Cost Est.'!$F$26:$F$75=\"Yes\")*1=1,ROW('Scope and Prelim. Cost Est.'!$F$26:$F$75)-ROW('Scope and Prelim. Cost Est.'!$F$25)+1),ROWS('Scope and Prelim. Cost Est.'!$F$25:F29))),'PSS References'!$S$29:$S$38,0)),\"\")","v":""},{"$f":"IFERROR(INDEX('Scope and Prelim. Cost Est.'!$S$25:$S$75,SMALL(IF(('Scope and Prelim. Cost Est.'!$F$26:$F$75=\"Yes\")*1=1,ROW('Scope and Prelim. Cost Est.'!$F$26:$F$75)-ROW('Scope and Prelim. Cost Est.'!$F$25)+1),ROWS('Scope and Prelim. Cost Est.'!$F$25:F29)))+INDEX('Scope and Prelim. Cost Est.'!$T$25:$T$75,SMALL(IF(('Scope and Prelim. Cost Est.'!$F$26:$F$75=\"Yes\")*1=1,ROW('Scope and Prelim. Cost Est.'!$F$26:$F$75)-ROW('Scope and Prelim. Cost Est.'!$F$25)+1),ROWS('Scope and Prelim. Cost Est.'!$F$25:F29))),\"\")","v":""},{"$f":"IF(AND(G30=\"\",J30=\"\"),\"\",(G30*'PSS References'!$E$11+J30)/$T$17)","v":""},{"$f":"IFERROR(INDEX('Scope and Prelim. Cost Est.'!$V$25:$V$75,SMALL(IF(('Scope and Prelim. Cost Est.'!$F$26:$F$75=\"Yes\")*1=1,ROW('Scope and Prelim. Cost Est.'!$F$26:$F$75)-ROW('Scope and Prelim. Cost Est.'!$F$25)+1),ROWS('Scope and Prelim. Cost Est.'!$F$25:F29))),\"\")","v":""},"",{"$f":"IFERROR(INDEX('Scope and Prelim. Cost Est.'!$AD$25:$AD$75,SMALL(IF(('Scope and Prelim. Cost Est.'!$F$26:$F$75=\"Yes\")*1=1,ROW('Scope and Prelim. Cost Est.'!$F$26:$F$75)-ROW('Scope and Prelim. Cost Est.'!$F$25)+1),ROWS('Scope and Prelim. Cost Est.'!$F$25:F29))),\"\")","v":""},{"$f":"IF(OR('Energy and Water Use'!$E$65=\"\",N30=\"\"),\"\",N30*'Energy and Water Use'!$E$65*1000)","v":""},null,{"$f":"IFERROR(INDEX('Scope and Prelim. Cost Est.'!$P$25:$P$75,SMALL(IF(('Scope and Prelim. Cost Est.'!$F$26:$F$75=\"Yes\")*1=1,ROW('Scope and Prelim. Cost Est.'!$F$26:$F$75)-ROW('Scope and Prelim. Cost Est.'!$F$25)+1),ROWS('Scope and Prelim. Cost Est.'!$F$25:F29))),\"\")","v":""},"",null,"",null,{"$f":"IFERROR(_xlfn.IFS(B30=\"\",\"\",I30=\"multiple\",B30),\"\")","v":""}]
[null,null,{"$f":"IFERROR(INDEX('Scope and Prelim. Cost Est.'!$B$25:$B$75,SMALL(IF(('Scope and Prelim. Cost Est.'!$F$26:$F$75=\"Yes\")*1=1,ROW('Scope and Prelim. Cost Est.'!$F$26:$F$75)-ROW('Scope and Prelim. Cost Est.'!$F$25)+1),ROWS('Scope and Prelim. Cost Est.'!$F$25:F30))),\"\")","v":""},null,null,null,{"$f":"IFERROR(INDEX('Scope and Prelim. Cost Est.'!$Q$25:$Q$75,SMALL(IF(('Scope and Prelim. Cost Est.'!$F$26:$F$75=\"Yes\")*1=1,ROW('Scope and Prelim. Cost Est.'!$F$26:$F$75)-ROW('Scope and Prelim. Cost Est.'!$F$25)+1),ROWS('Scope and Prelim. Cost Est.'!C$25:$F30)))+INDEX('Scope and Prelim. Cost Est.'!$R$25:$R$75,SMALL(IF(('Scope and Prelim. Cost Est.'!$F$26:$F$75=\"Yes\")*1=1,ROW('Scope and Prelim. Cost Est.'!$F$26:$F$75)-ROW('Scope and Prelim. Cost Est.'!$F$25)+1),ROWS('Scope and Prelim. Cost Est.'!C$25:$F30))),\"\")","v":""},null,{"$f":"IFERROR(INDEX('PSS References'!$R$29:$R$38,MATCH(INDEX('Scope and Prelim. Cost Est.'!$U$25:$U$75,SMALL(IF(('Scope and Prelim. Cost Est.'!$F$26:$F$75=\"Yes\")*1=1,ROW('Scope and Prelim. Cost Est.'!$F$26:$F$75)-ROW('Scope and Prelim. Cost Est.'!$F$25)+1),ROWS('Scope and Prelim. Cost Est.'!$F$25:F30))),'PSS References'!$S$29:$S$38,0)),\"\")","v":""},{"$f":"IFERROR(INDEX('Scope and Prelim. Cost Est.'!$S$25:$S$75,SMALL(IF(('Scope and Prelim. Cost Est.'!$F$26:$F$75=\"Yes\")*1=1,ROW('Scope and Prelim. Cost Est.'!$F$26:$F$75)-ROW('Scope and Prelim. Cost Est.'!$F$25)+1),ROWS('Scope and Prelim. Cost Est.'!$F$25:F30)))+INDEX('Scope and Prelim. Cost Est.'!$T$25:$T$75,SMALL(IF(('Scope and Prelim. Cost Est.'!$F$26:$F$75=\"Yes\")*1=1,ROW('Scope and Prelim. Cost Est.'!$F$26:$F$75)-ROW('Scope and Prelim. Cost Est.'!$F$25)+1),ROWS('Scope and Prelim. Cost Est.'!$F$25:F30))),\"\")","v":""},{"$f":"IF(AND(G31=\"\",J31=\"\"),\"\",(G31*'PSS References'!$E$11+J31)/$T$17)","v":""},{"$f":"IFERROR(INDEX('Scope and Prelim. Cost Est.'!$V$25:$V$75,SMALL(IF(('Scope and Prelim. Cost Est.'!$F$26:$F$75=\"Yes\")*1=1,ROW('Scope and Prelim. Cost Est.'!$F$26:$F$75)-ROW('Scope and Prelim. Cost Est.'!$F$25)+1),ROWS('Scope and Prelim. Cost Est.'!$F$25:F30))),\"\")","v":""},"",{"$f":"IFERROR(INDEX('Scope and Prelim. Cost Est.'!$AD$25:$AD$75,SMALL(IF(('Scope and Prelim. Cost Est.'!$F$26:$F$75=\"Yes\")*1=1,ROW('Scope and Prelim. Cost Est.'!$F$26:$F$75)-ROW('Scope and Prelim. Cost Est.'!$F$25)+1),ROWS('Scope and Prelim. Cost Est.'!$F$25:F30))),\"\")","v":""},{"$f":"IF(OR('Energy and Water Use'!$E$65=\"\",N31=\"\"),\"\",N31*'Energy and Water Use'!$E$65*1000)","v":""},null,{"$f":"IFERROR(INDEX('Scope and Prelim. Cost Est.'!$P$25:$P$75,SMALL(IF(('Scope and Prelim. Cost Est.'!$F$26:$F$75=\"Yes\")*1=1,ROW('Scope and Prelim. Cost Est.'!$F$26:$F$75)-ROW('Scope and Prelim. Cost Est.'!$F$25)+1),ROWS('Scope and Prelim. Cost Est.'!$F$25:F30))),\"\")","v":""},"",null,"",null,{"$f":"IFERROR(_xlfn.IFS(B31=\"\",\"\",I31=\"multiple\",B31),\"\")","v":""}]
[null,null,{"$f":"IFERROR(INDEX('Scope and Prelim. Cost Est.'!$B$25:$B$75,SMALL(IF(('Scope and Prelim. Cost Est.'!$F$26:$F$75=\"Yes\")*1=1,ROW('Scope and Prelim. Cost Est.'!$F$26:$F$75)-ROW('Scope and Prelim. Cost Est.'!$F$25)+1),ROWS('Scope and Prelim. Cost Est.'!$F$25:F31))),\"\")","v":""},null,null,null,{"$f":"IFERROR(INDEX('Scope and Prelim. Cost Est.'!$Q$25:$Q$75,SMALL(IF(('Scope and Prelim. Cost Est.'!$F$26:$F$75=\"Yes\")*1=1,ROW('Scope and Prelim. Cost Est.'!$F$26:$F$75)-ROW('Scope and Prelim. Cost Est.'!$F$25)+1),ROWS('Scope and Prelim. Cost Est.'!C$25:$F31)))+INDEX('Scope and Prelim. Cost Est.'!$R$25:$R$75,SMALL(IF(('Scope and Prelim. Cost Est.'!$F$26:$F$75=\"Yes\")*1=1,ROW('Scope and Prelim. Cost Est.'!$F$26:$F$75)-ROW('Scope and Prelim. Cost Est.'!$F$25)+1),ROWS('Scope and Prelim. Cost Est.'!C$25:$F31))),\"\")","v":""},null,{"$f":"IFERROR(INDEX('PSS References'!$R$29:$R$38,MATCH(INDEX('Scope and Prelim. Cost Est.'!$U$25:$U$75,SMALL(IF(('Scope and Prelim. Cost Est.'!$F$26:$F$75=\"Yes\")*1=1,ROW('Scope and Prelim. Cost Est.'!$F$26:$F$75)-ROW('Scope and Prelim. Cost Est.'!$F$25)+1),ROWS('Scope and Prelim. Cost Est.'!$F$25:F31))),'PSS References'!$S$29:$S$38,0)),\"\")","v":""},{"$f":"IFERROR(INDEX('Scope and Prelim. Cost Est.'!$S$25:$S$75,SMALL(IF(('Scope and Prelim. Cost Est.'!$F$26:$F$75=\"Yes\")*1=1,ROW('Scope and Prelim. Cost Est.'!$F$26:$F$75)-ROW('Scope and Prelim. Cost Est.'!$F$25)+1),ROWS('Scope and Prelim. Cost Est.'!$F$25:F31)))+INDEX('Scope and Prelim. Cost Est.'!$T$25:$T$75,SMALL(IF(('Scope and Prelim. Cost Est.'!$F$26:$F$75=\"Yes\")*1=1,ROW('Scope and Prelim. Cost Est.'!$F$26:$F$75)-ROW('Scope and Prelim. Cost Est.'!$F$25)+1),ROWS('Scope and Prelim. Cost Est.'!$F$25:F31))),\"\")","v":""},{"$f":"IF(AND(G32=\"\",J32=\"\"),\"\",(G32*'PSS References'!$E$11+J32)/$T$17)","v":""},{"$f":"IFERROR(INDEX('Scope and Prelim. Cost Est.'!$V$25:$V$75,SMALL(IF(('Scope and Prelim. Cost Est.'!$F$26:$F$75=\"Yes\")*1=1,ROW('Scope and Prelim. Cost Est.'!$F$26:$F$75)-ROW('Scope and Prelim. Cost Est.'!$F$25)+1),ROWS('Scope and Prelim. Cost Est.'!$F$25:F31))),\"\")","v":""},"",{"$f":"IFERROR(INDEX('Scope and Prelim. Cost Est.'!$AD$25:$AD$75,SMALL(IF(('Scope and Prelim. Cost Est.'!$F$26:$F$75=\"Yes\")*1=1,ROW('Scope and Prelim. Cost Est.'!$F$26:$F$75)-ROW('Scope and Prelim. Cost Est.'!$F$25)+1),ROWS('Scope and Prelim. Cost Est.'!$F$25:F31))),\"\")","v":""},{"$f":"IF(OR('Energy and Water Use'!$E$65=\"\",N32=\"\"),\"\",N32*'Energy and Water Use'!$E$65*1000)","v":""},null,{"$f":"IFERROR(INDEX('Scope and Prelim. Cost Est.'!$P$25:$P$75,SMALL(IF(('Scope and Prelim. Cost Est.'!$F$26:$F$75=\"Yes\")*1=1,ROW('Scope and Prelim. Cost Est.'!$F$26:$F$75)-ROW('Scope and Prelim. Cost Est.'!$F$25)+1),ROWS('Scope and Prelim. Cost Est.'!$F$25:F31))),\"\")","v":""},"",null,"",null,{"$f":"IFERROR(_xlfn.IFS(B32=\"\",\"\",I32=\"multiple\",B32),\"\")","v":""}]
[null,null,{"$f":"IFERROR(INDEX('Scope and Prelim. Cost Est.'!$B$25:$B$75,SMALL(IF(('Scope and Prelim. Cost Est.'!$F$26:$F$75=\"Yes\")*1=1,ROW('Scope and Prelim. Cost Est.'!$F$26:$F$75)-ROW('Scope and Prelim. Cost Est.'!$F$25)+1),ROWS('Scope and Prelim. Cost Est.'!$F$25:F32))),\"\")","v":""},null,null,null,{"$f":"IFERROR(INDEX('Scope and Prelim. Cost Est.'!$Q$25:$Q$75,SMALL(IF(('Scope and Prelim. Cost Est.'!$F$26:$F$75=\"Yes\")*1=1,ROW('Scope and Prelim. Cost Est.'!$F$26:$F$75)-ROW('Scope and Prelim. Cost Est.'!$F$25)+1),ROWS('Scope and Prelim. Cost Est.'!C$25:$F32)))+INDEX('Scope and Prelim. Cost Est.'!$R$25:$R$75,SMALL(IF(('Scope and Prelim. Cost Est.'!$F$26:$F$75=\"Yes\")*1=1,ROW('Scope and Prelim. Cost Est.'!$F$26:$F$75)-ROW('Scope and Prelim. Cost Est.'!$F$25)+1),ROWS('Scope and Prelim. Cost Est.'!C$25:$F32))),\"\")","v":""},null,{"$f":"IFERROR(INDEX('PSS References'!$R$29:$R$38,MATCH(INDEX('Scope and Prelim. Cost Est.'!$U$25:$U$75,SMALL(IF(('Scope and Prelim. Cost Est.'!$F$26:$F$75=\"Yes\")*1=1,ROW('Scope and Prelim. Cost Est.'!$F$26:$F$75)-ROW('Scope and Prelim. Cost Est.'!$F$25)+1),ROWS('Scope and Prelim. Cost Est.'!$F$25:F32))),'PSS References'!$S$29:$S$38,0)),\"\")","v":""},{"$f":"IFERROR(INDEX('Scope and Prelim. Cost Est.'!$S$25:$S$75,SMALL(IF(('Scope and Prelim. Cost Est.'!$F$26:$F$75=\"Yes\")*1=1,ROW('Scope and Prelim. Cost Est.'!$F$26:$F$75)-ROW('Scope and Prelim. Cost Est.'!$F$25)+1),ROWS('Scope and Prelim. Cost Est.'!$F$25:F32)))+INDEX('Scope and Prelim. Cost Est.'!$T$25:$T$75,SMALL(IF(('Scope and Prelim. Cost Est.'!$F$26:$F$75=\"Yes\")*1=1,ROW('Scope and Prelim. Cost Est.'!$F$26:$F$75)-ROW('Scope and Prelim. Cost Est.'!$F$25)+1),ROWS('Scope and Prelim. Cost Est.'!$F$25:F32))),\"\")","v":""},{"$f":"IF(AND(G33=\"\",J33=\"\"),\"\",(G33*'PSS References'!$E$11+J33)/$T$17)","v":""},{"$f":"IFERROR(INDEX('Scope and Prelim. Cost Est.'!$V$25:$V$75,SMALL(IF(('Scope and Prelim. Cost Est.'!$F$26:$F$75=\"Yes\")*1=1,ROW('Scope and Prelim. Cost Est.'!$F$26:$F$75)-ROW('Scope and Prelim. Cost Est.'!$F$25)+1),ROWS('Scope and Prelim. Cost Est.'!$F$25:F32))),\"\")","v":""},"",{"$f":"IFERROR(INDEX('Scope and Prelim. Cost Est.'!$AD$25:$AD$75,SMALL(IF(('Scope and Prelim. Cost Est.'!$F$26:$F$75=\"Yes\")*1=1,ROW('Scope and Prelim. Cost Est.'!$F$26:$F$75)-ROW('Scope and Prelim. Cost Est.'!$F$25)+1),ROWS('Scope and Prelim. Cost Est.'!$F$25:F32))),\"\")","v":""},{"$f":"IF(OR('Energy and Water Use'!$E$65=\"\",N33=\"\"),\"\",N33*'Energy and Water Use'!$E$65*1000)","v":""},null,{"$f":"IFERROR(INDEX('Scope and Prelim. Cost Est.'!$P$25:$P$75,SMALL(IF(('Scope and Prelim. Cost Est.'!$F$26:$F$75=\"Yes\")*1=1,ROW('Scope and Prelim. Cost Est.'!$F$26:$F$75)-ROW('Scope and Prelim. Cost Est.'!$F$25)+1),ROWS('Scope and Prelim. Cost Est.'!$F$25:F32))),\"\")","v":""},"",null,"",null,{"$f":"IFERROR(_xlfn.IFS(B33=\"\",\"\",I33=\"multiple\",B33),\"\")","v":""}]
[null,null,{"$f":"IFERROR(INDEX('Scope and Prelim. Cost Est.'!$B$25:$B$75,SMALL(IF(('Scope and Prelim. Cost Est.'!$F$26:$F$75=\"Yes\")*1=1,ROW('Scope and Prelim. Cost Est.'!$F$26:$F$75)-ROW('Scope and Prelim. Cost Est.'!$F$25)+1),ROWS('Scope and Prelim. Cost Est.'!$F$25:F33))),\"\")","v":""},null,null,null,{"$f":"IFERROR(INDEX('Scope and Prelim. Cost Est.'!$Q$25:$Q$75,SMALL(IF(('Scope and Prelim. Cost Est.'!$F$26:$F$75=\"Yes\")*1=1,ROW('Scope and Prelim. Cost Est.'!$F$26:$F$75)-ROW('Scope and Prelim. Cost Est.'!$F$25)+1),ROWS('Scope and Prelim. Cost Est.'!C$25:$F33)))+INDEX('Scope and Prelim. Cost Est.'!$R$25:$R$75,SMALL(IF(('Scope and Prelim. Cost Est.'!$F$26:$F$75=\"Yes\")*1=1,ROW('Scope and Prelim. Cost Est.'!$F$26:$F$75)-ROW('Scope and Prelim. Cost Est.'!$F$25)+1),ROWS('Scope and Prelim. Cost Est.'!C$25:$F33))),\"\")","v":""},null,{"$f":"IFERROR(INDEX('PSS References'!$R$29:$R$38,MATCH(INDEX('Scope and Prelim. Cost Est.'!$U$25:$U$75,SMALL(IF(('Scope and Prelim. Cost Est.'!$F$26:$F$75=\"Yes\")*1=1,ROW('Scope and Prelim. Cost Est.'!$F$26:$F$75)-ROW('Scope and Prelim. Cost Est.'!$F$25)+1),ROWS('Scope and Prelim. Cost Est.'!$F$25:F33))),'PSS References'!$S$29:$S$38,0)),\"\")","v":""},{"$f":"IFERROR(INDEX('Scope and Prelim. Cost Est.'!$S$25:$S$75,SMALL(IF(('Scope and Prelim. Cost Est.'!$F$26:$F$75=\"Yes\")*1=1,ROW('Scope and Prelim. Cost Est.'!$F$26:$F$75)-ROW('Scope and Prelim. Cost Est.'!$F$25)+1),ROWS('Scope and Prelim. Cost Est.'!$F$25:F33)))+INDEX('Scope and Prelim. Cost Est.'!$T$25:$T$75,SMALL(IF(('Scope and Prelim. Cost Est.'!$F$26:$F$75=\"Yes\")*1=1,ROW('Scope and Prelim. Cost Est.'!$F$26:$F$75)-ROW('Scope and Prelim. Cost Est.'!$F$25)+1),ROWS('Scope and Prelim. Cost Est.'!$F$25:F33))),\"\")","v":""},{"$f":"IF(AND(G34=\"\",J34=\"\"),\"\",(G34*'PSS References'!$E$11+J34)/$T$17)","v":""},{"$f":"IFERROR(INDEX('Scope and Prelim. Cost Est.'!$V$25:$V$75,SMALL(IF(('Scope and Prelim. Cost Est.'!$F$26:$F$75=\"Yes\")*1=1,ROW('Scope and Prelim. Cost Est.'!$F$26:$F$75)-ROW('Scope and Prelim. Cost Est.'!$F$25)+1),ROWS('Scope and Prelim. Cost Est.'!$F$25:F33))),\"\")","v":""},"",{"$f":"IFERROR(INDEX('Scope and Prelim. Cost Est.'!$AD$25:$AD$75,SMALL(IF(('Scope and Prelim. Cost Est.'!$F$26:$F$75=\"Yes\")*1=1,ROW('Scope and Prelim. Cost Est.'!$F$26:$F$75)-ROW('Scope and Prelim. Cost Est.'!$F$25)+1),ROWS('Scope and Prelim. Cost Est.'!$F$25:F33))),\"\")","v":""},{"$f":"IF(OR('Energy and Water Use'!$E$65=\"\",N34=\"\"),\"\",N34*'Energy and Water Use'!$E$65*1000)","v":""},null,{"$f":"IFERROR(INDEX('Scope and Prelim. Cost Est.'!$P$25:$P$75,SMALL(IF(('Scope and Prelim. Cost Est.'!$F$26:$F$75=\"Yes\")*1=1,ROW('Scope and Prelim. Cost Est.'!$F$26:$F$75)-ROW('Scope and Prelim. Cost Est.'!$F$25)+1),ROWS('Scope and Prelim. Cost Est.'!$F$25:F33))),\"\")","v":""},"",null,"",null,{"$f":"IFERROR(_xlfn.IFS(B34=\"\",\"\",I34=\"multiple\",B34),\"\")","v":""}]
[null,null,{"$f":"IFERROR(INDEX('Scope and Prelim. Cost Est.'!$B$25:$B$75,SMALL(IF(('Scope and Prelim. Cost Est.'!$F$26:$F$75=\"Yes\")*1=1,ROW('Scope and Prelim. Cost Est.'!$F$26:$F$75)-ROW('Scope and Prelim. Cost Est.'!$F$25)+1),ROWS('Scope and Prelim. Cost Est.'!$F$25:F34))),\"\")","v":""},null,null,null,{"$f":"IFERROR(INDEX('Scope and Prelim. Cost Est.'!$Q$25:$Q$75,SMALL(IF(('Scope and Prelim. Cost Est.'!$F$26:$F$75=\"Yes\")*1=1,ROW('Scope and Prelim. Cost Est.'!$F$26:$F$75)-ROW('Scope and Prelim. Cost Est.'!$F$25)+1),ROWS('Scope and Prelim. Cost Est.'!C$25:$F34)))+INDEX('Scope and Prelim. Cost Est.'!$R$25:$R$75,SMALL(IF(('Scope and Prelim. Cost Est.'!$F$26:$F$75=\"Yes\")*1=1,ROW('Scope and Prelim. Cost Est.'!$F$26:$F$75)-ROW('Scope and Prelim. Cost Est.'!$F$25)+1),ROWS('Scope and Prelim. Cost Est.'!C$25:$F34))),\"\")","v":""},null,{"$f":"IFERROR(INDEX('PSS References'!$R$29:$R$38,MATCH(INDEX('Scope and Prelim. Cost Est.'!$U$25:$U$75,SMALL(IF(('Scope and Prelim. Cost Est.'!$F$26:$F$75=\"Yes\")*1=1,ROW('Scope and Prelim. Cost Est.'!$F$26:$F$75)-ROW('Scope and Prelim. Cost Est.'!$F$25)+1),ROWS('Scope and Prelim. Cost Est.'!$F$25:F34))),'PSS References'!$S$29:$S$38,0)),\"\")","v":""},{"$f":"IFERROR(INDEX('Scope and Prelim. Cost Est.'!$S$25:$S$75,SMALL(IF(('Scope and Prelim. Cost Est.'!$F$26:$F$75=\"Yes\")*1=1,ROW('Scope and Prelim. Cost Est.'!$F$26:$F$75)-ROW('Scope and Prelim. Cost Est.'!$F$25)+1),ROWS('Scope and Prelim. Cost Est.'!$F$25:F34)))+INDEX('Scope and Prelim. Cost Est.'!$T$25:$T$75,SMALL(IF(('Scope and Prelim. Cost Est.'!$F$26:$F$75=\"Yes\")*1=1,ROW('Scope and Prelim. Cost Est.'!$F$26:$F$75)-ROW('Scope and Prelim. Cost Est.'!$F$25)+1),ROWS('Scope and Prelim. Cost Est.'!$F$25:F34))),\"\")","v":""},{"$f":"IF(AND(G35=\"\",J35=\"\"),\"\",(G35*'PSS References'!$E$11+J35)/$T$17)","v":""},{"$f":"IFERROR(INDEX('Scope and Prelim. Cost Est.'!$V$25:$V$75,SMALL(IF(('Scope and Prelim. Cost Est.'!$F$26:$F$75=\"Yes\")*1=1,ROW('Scope and Prelim. Cost Est.'!$F$26:$F$75)-ROW('Scope and Prelim. Cost Est.'!$F$25)+1),ROWS('Scope and Prelim. Cost Est.'!$F$25:F34))),\"\")","v":""},"",{"$f":"IFERROR(INDEX('Scope and Prelim. Cost Est.'!$AD$25:$AD$75,SMALL(IF(('Scope and Prelim. Cost Est.'!$F$26:$F$75=\"Yes\")*1=1,ROW('Scope and Prelim. Cost Est.'!$F$26:$F$75)-ROW('Scope and Prelim. Cost Est.'!$F$25)+1),ROWS('Scope and Prelim. Cost Est.'!$F$25:F34))),\"\")","v":""},{"$f":"IF(OR('Energy and Water Use'!$E$65=\"\",N35=\"\"),\"\",N35*'Energy and Water Use'!$E$65*1000)","v":""},null,{"$f":"IFERROR(INDEX('Scope and Prelim. Cost Est.'!$P$25:$P$75,SMALL(IF(('Scope and Prelim. Cost Est.'!$F$26:$F$75=\"Yes\")*1=1,ROW('Scope and Prelim. Cost Est.'!$F$26:$F$75)-ROW('Scope and Prelim. Cost Est.'!$F$25)+1),ROWS('Scope and Prelim. Cost Est.'!$F$25:F34))),\"\")","v":""},"",null,"",null,{"$f":"IFERROR(_xlfn.IFS(B35=\"\",\"\",I35=\"multiple\",B35),\"\")","v":""}]
[null,null,{"$f":"IFERROR(INDEX('Scope and Prelim. Cost Est.'!$B$25:$B$75,SMALL(IF(('Scope and Prelim. Cost Est.'!$F$26:$F$75=\"Yes\")*1=1,ROW('Scope and Prelim. Cost Est.'!$F$26:$F$75)-ROW('Scope and Prelim. Cost Est.'!$F$25)+1),ROWS('Scope and Prelim. Cost Est.'!$F$25:F35))),\"\")","v":""},null,null,null,{"$f":"IFERROR(INDEX('Scope and Prelim. Cost Est.'!$Q$25:$Q$75,SMALL(IF(('Scope and Prelim. Cost Est.'!$F$26:$F$75=\"Yes\")*1=1,ROW('Scope and Prelim. Cost Est.'!$F$26:$F$75)-ROW('Scope and Prelim. Cost Est.'!$F$25)+1),ROWS('Scope and Prelim. Cost Est.'!C$25:$F35)))+INDEX('Scope and Prelim. Cost Est.'!$R$25:$R$75,SMALL(IF(('Scope and Prelim. Cost Est.'!$F$26:$F$75=\"Yes\")*1=1,ROW('Scope and Prelim. Cost Est.'!$F$26:$F$75)-ROW('Scope and Prelim. Cost Est.'!$F$25)+1),ROWS('Scope and Prelim. Cost Est.'!C$25:$F35))),\"\")","v":""},null,{"$f":"IFERROR(INDEX('PSS References'!$R$29:$R$38,MATCH(INDEX('Scope and Prelim. Cost Est.'!$U$25:$U$75,SMALL(IF(('Scope and Prelim. Cost Est.'!$F$26:$F$75=\"Yes\")*1=1,ROW('Scope and Prelim. Cost Est.'!$F$26:$F$75)-ROW('Scope and Prelim. Cost Est.'!$F$25)+1),ROWS('Scope and Prelim. Cost Est.'!$F$25:F35))),'PSS References'!$S$29:$S$38,0)),\"\")","v":""},{"$f":"IFERROR(INDEX('Scope and Prelim. Cost Est.'!$S$25:$S$75,SMALL(IF(('Scope and Prelim. Cost Est.'!$F$26:$F$75=\"Yes\")*1=1,ROW('Scope and Prelim. Cost Est.'!$F$26:$F$75)-ROW('Scope and Prelim. Cost Est.'!$F$25)+1),ROWS('Scope and Prelim. Cost Est.'!$F$25:F35)))+INDEX('Scope and Prelim. Cost Est.'!$T$25:$T$75,SMALL(IF(('Scope and Prelim. Cost Est.'!$F$26:$F$75=\"Yes\")*1=1,ROW('Scope and Prelim. Cost Est.'!$F$26:$F$75)-ROW('Scope and Prelim. Cost Est.'!$F$25)+1),ROWS('Scope and Prelim. Cost Est.'!$F$25:F35))),\"\")","v":""},{"$f":"IF(AND(G36=\"\",J36=\"\"),\"\",(G36*'PSS References'!$E$11+J36)/$T$17)","v":""},{"$f":"IFERROR(INDEX('Scope and Prelim. Cost Est.'!$V$25:$V$75,SMALL(IF(('Scope and Prelim. Cost Est.'!$F$26:$F$75=\"Yes\")*1=1,ROW('Scope and Prelim. Cost Est.'!$F$26:$F$75)-ROW('Scope and Prelim. Cost Est.'!$F$25)+1),ROWS('Scope and Prelim. Cost Est.'!$F$25:F35))),\"\")","v":""},"",{"$f":"IFERROR(INDEX('Scope and Prelim. Cost Est.'!$AD$25:$AD$75,SMALL(IF(('Scope and Prelim. Cost Est.'!$F$26:$F$75=\"Yes\")*1=1,ROW('Scope and Prelim. Cost Est.'!$F$26:$F$75)-ROW('Scope and Prelim. Cost Est.'!$F$25)+1),ROWS('Scope and Prelim. Cost Est.'!$F$25:F35))),\"\")","v":""},{"$f":"IF(OR('Energy and Water Use'!$E$65=\"\",N36=\"\"),\"\",N36*'Energy and Water Use'!$E$65*1000)","v":""},null,{"$f":"IFERROR(INDEX('Scope and Prelim. Cost Est.'!$P$25:$P$75,SMALL(IF(('Scope and Prelim. Cost Est.'!$F$26:$F$75=\"Yes\")*1=1,ROW('Scope and Prelim. Cost Est.'!$F$26:$F$75)-ROW('Scope and Prelim. Cost Est.'!$F$25)+1),ROWS('Scope and Prelim. Cost Est.'!$F$25:F35))),\"\")","v":""},"",null,"",null,{"$f":"IFERROR(_xlfn.IFS(B36=\"\",\"\",I36=\"multiple\",B36),\"\")","v":""}]
[null,null,{"$f":"IFERROR(INDEX('Scope and Prelim. Cost Est.'!$B$25:$B$75,SMALL(IF(('Scope and Prelim. Cost Est.'!$F$26:$F$75=\"Yes\")*1=1,ROW('Scope and Prelim. Cost Est.'!$F$26:$F$75)-ROW('Scope and Prelim. Cost Est.'!$F$25)+1),ROWS('Scope and Prelim. Cost Est.'!$F$25:F36))),\"\")","v":""},null,null,null,{"$f":"IFERROR(INDEX('Scope and Prelim. Cost Est.'!$Q$25:$Q$75,SMALL(IF(('Scope and Prelim. Cost Est.'!$F$26:$F$75=\"Yes\")*1=1,ROW('Scope and Prelim. Cost Est.'!$F$26:$F$75)-ROW('Scope and Prelim. Cost Est.'!$F$25)+1),ROWS('Scope and Prelim. Cost Est.'!C$25:$F36)))+INDEX('Scope and Prelim. Cost Est.'!$R$25:$R$75,SMALL(IF(('Scope and Prelim. Cost Est.'!$F$26:$F$75=\"Yes\")*1=1,ROW('Scope and Prelim. Cost Est.'!$F$26:$F$75)-ROW('Scope and Prelim. Cost Est.'!$F$25)+1),ROWS('Scope and Prelim. Cost Est.'!C$25:$F36))),\"\")","v":""},null,{"$f":"IFERROR(INDEX('PSS References'!$R$29:$R$38,MATCH(INDEX('Scope and Prelim. Cost Est.'!$U$25:$U$75,SMALL(IF(('Scope and Prelim. Cost Est.'!$F$26:$F$75=\"Yes\")*1=1,ROW('Scope and Prelim. Cost Est.'!$F$26:$F$75)-ROW('Scope and Prelim. Cost Est.'!$F$25)+1),ROWS('Scope and Prelim. Cost Est.'!$F$25:F36))),'PSS References'!$S$29:$S$38,0)),\"\")","v":""},{"$f":"IFERROR(INDEX('Scope and Prelim. Cost Est.'!$S$25:$S$75,SMALL(IF(('Scope and Prelim. Cost Est.'!$F$26:$F$75=\"Yes\")*1=1,ROW('Scope and Prelim. Cost Est.'!$F$26:$F$75)-ROW('Scope and Prelim. Cost Est.'!$F$25)+1),ROWS('Scope and Prelim. Cost Est.'!$F$25:F36)))+INDEX('Scope and Prelim. Cost Est.'!$T$25:$T$75,SMALL(IF(('Scope and Prelim. Cost Est.'!$F$26:$F$75=\"Yes\")*1=1,ROW('Scope and Prelim. Cost Est.'!$F$26:$F$75)-ROW('Scope and Prelim. Cost Est.'!$F$25)+1),ROWS('Scope and Prelim. Cost Est.'!$F$25:F36))),\"\")","v":""},{"$f":"IF(AND(G37=\"\",J37=\"\"),\"\",(G37*'PSS References'!$E$11+J37)/$T$17)","v":""},{"$f":"IFERROR(INDEX('Scope and Prelim. Cost Est.'!$V$25:$V$75,SMALL(IF(('Scope and Prelim. Cost Est.'!$F$26:$F$75=\"Yes\")*1=1,ROW('Scope and Prelim. Cost Est.'!$F$26:$F$75)-ROW('Scope and Prelim. Cost Est.'!$F$25)+1),ROWS('Scope and Prelim. Cost Est.'!$F$25:F36))),\"\")","v":""},"",{"$f":"IFERROR(INDEX('Scope and Prelim. Cost Est.'!$AD$25:$AD$75,SMALL(IF(('Scope and Prelim. Cost Est.'!$F$26:$F$75=\"Yes\")*1=1,ROW('Scope and Prelim. Cost Est.'!$F$26:$F$75)-ROW('Scope and Prelim. Cost Est.'!$F$25)+1),ROWS('Scope and Prelim. Cost Est.'!$F$25:F36))),\"\")","v":""},{"$f":"IF(OR('Energy and Water Use'!$E$65=\"\",N37=\"\"),\"\",N37*'Energy and Water Use'!$E$65*1000)","v":""},null,{"$f":"IFERROR(INDEX('Scope and Prelim. Cost Est.'!$P$25:$P$75,SMALL(IF(('Scope and Prelim. Cost Est.'!$F$26:$F$75=\"Yes\")*1=1,ROW('Scope and Prelim. Cost Est.'!$F$26:$F$75)-ROW('Scope and Prelim. Cost Est.'!$F$25)+1),ROWS('Scope and Prelim. Cost Est.'!$F$25:F36))),\"\")","v":""},"",null,"",null,{"$f":"IFERROR(_xlfn.IFS(B37=\"\",\"\",I37=\"multiple\",B37),\"\")","v":""}]
[null,null,{"$f":"IFERROR(INDEX('Scope and Prelim. Cost Est.'!$B$25:$B$75,SMALL(IF(('Scope and Prelim. Cost Est.'!$F$26:$F$75=\"Yes\")*1=1,ROW('Scope and Prelim. Cost Est.'!$F$26:$F$75)-ROW('Scope and Prelim. Cost Est.'!$F$25)+1),ROWS('Scope and Prelim. Cost Est.'!$F$25:F37))),\"\")","v":""},null,null,null,{"$f":"IFERROR(INDEX('Scope and Prelim. Cost Est.'!$Q$25:$Q$75,SMALL(IF(('Scope and Prelim. Cost Est.'!$F$26:$F$75=\"Yes\")*1=1,ROW('Scope and Prelim. Cost Est.'!$F$26:$F$75)-ROW('Scope and Prelim. Cost Est.'!$F$25)+1),ROWS('Scope and Prelim. Cost Est.'!C$25:$F37)))+INDEX('Scope and Prelim. Cost Est.'!$R$25:$R$75,SMALL(IF(('Scope and Prelim. Cost Est.'!$F$26:$F$75=\"Yes\")*1=1,ROW('Scope and Prelim. Cost Est.'!$F$26:$F$75)-ROW('Scope and Prelim. Cost Est.'!$F$25)+1),ROWS('Scope and Prelim. Cost Est.'!C$25:$F37))),\"\")","v":""},null,{"$f":"IFERROR(INDEX('PSS References'!$R$29:$R$38,MATCH(INDEX('Scope and Prelim. Cost Est.'!$U$25:$U$75,SMALL(IF(('Scope and Prelim. Cost Est.'!$F$26:$F$75=\"Yes\")*1=1,ROW('Scope and Prelim. Cost Est.'!$F$26:$F$75)-ROW('Scope and Prelim. Cost Est.'!$F$25)+1),ROWS('Scope and Prelim. Cost Est.'!$F$25:F37))),'PSS References'!$S$29:$S$38,0)),\"\")","v":""},{"$f":"IFERROR(INDEX('Scope and Prelim. Cost Est.'!$S$25:$S$75,SMALL(IF(('Scope and Prelim. Cost Est.'!$F$26:$F$75=\"Yes\")*1=1,ROW('Scope and Prelim. Cost Est.'!$F$26:$F$75)-ROW('Scope and Prelim. Cost Est.'!$F$25)+1),ROWS('Scope and Prelim. Cost Est.'!$F$25:F37)))+INDEX('Scope and Prelim. Cost Est.'!$T$25:$T$75,SMALL(IF(('Scope and Prelim. Cost Est.'!$F$26:$F$75=\"Yes\")*1=1,ROW('Scope and Prelim. Cost Est.'!$F$26:$F$75)-ROW('Scope and Prelim. Cost Est.'!$F$25)+1),ROWS('Scope and Prelim. Cost Est.'!$F$25:F37))),\"\")","v":""},{"$f":"IF(AND(G38=\"\",J38=\"\"),\"\",(G38*'PSS References'!$E$11+J38)/$T$17)","v":""},{"$f":"IFERROR(INDEX('Scope and Prelim. Cost Est.'!$V$25:$V$75,SMALL(IF(('Scope and Prelim. Cost Est.'!$F$26:$F$75=\"Yes\")*1=1,ROW('Scope and Prelim. Cost Est.'!$F$26:$F$75)-ROW('Scope and Prelim. Cost Est.'!$F$25)+1),ROWS('Scope and Prelim. Cost Est.'!$F$25:F37))),\"\")","v":""},"",{"$f":"IFERROR(INDEX('Scope and Prelim. Cost Est.'!$AD$25:$AD$75,SMALL(IF(('Scope and Prelim. Cost Est.'!$F$26:$F$75=\"Yes\")*1=1,ROW('Scope and Prelim. Cost Est.'!$F$26:$F$75)-ROW('Scope and Prelim. Cost Est.'!$F$25)+1),ROWS('Scope and Prelim. Cost Est.'!$F$25:F37))),\"\")","v":""},{"$f":"IF(OR('Energy and Water Use'!$E$65=\"\",N38=\"\"),\"\",N38*'Energy and Water Use'!$E$65*1000)","v":""},null,{"$f":"IFERROR(INDEX('Scope and Prelim. Cost Est.'!$P$25:$P$75,SMALL(IF(('Scope and Prelim. Cost Est.'!$F$26:$F$75=\"Yes\")*1=1,ROW('Scope and Prelim. Cost Est.'!$F$26:$F$75)-ROW('Scope and Prelim. Cost Est.'!$F$25)+1),ROWS('Scope and Prelim. Cost Est.'!$F$25:F37))),\"\")","v":""},"",null,"",null,{"$f":"IFERROR(_xlfn.IFS(B38=\"\",\"\",I38=\"multiple\",B38),\"\")","v":""}]
[null,null,{"$f":"IFERROR(INDEX('Scope and Prelim. Cost Est.'!$B$25:$B$75,SMALL(IF(('Scope and Prelim. Cost Est.'!$F$26:$F$75=\"Yes\")*1=1,ROW('Scope and Prelim. Cost Est.'!$F$26:$F$75)-ROW('Scope and Prelim. Cost Est.'!$F$25)+1),ROWS('Scope and Prelim. Cost Est.'!$F$25:F38))),\"\")","v":""},null,null,null,{"$f":"IFERROR(INDEX('Scope and Prelim. Cost Est.'!$Q$25:$Q$75,SMALL(IF(('Scope and Prelim. Cost Est.'!$F$26:$F$75=\"Yes\")*1=1,ROW('Scope and Prelim. Cost Est.'!$F$26:$F$75)-ROW('Scope and Prelim. Cost Est.'!$F$25)+1),ROWS('Scope and Prelim. Cost Est.'!C$25:$F38)))+INDEX('Scope and Prelim. Cost Est.'!$R$25:$R$75,SMALL(IF(('Scope and Prelim. Cost Est.'!$F$26:$F$75=\"Yes\")*1=1,ROW('Scope and Prelim. Cost Est.'!$F$26:$F$75)-ROW('Scope and Prelim. Cost Est.'!$F$25)+1),ROWS('Scope and Prelim. Cost Est.'!C$25:$F38))),\"\")","v":""},null,{"$f":"IFERROR(INDEX('PSS References'!$R$29:$R$38,MATCH(INDEX('Scope and Prelim. Cost Est.'!$U$25:$U$75,SMALL(IF(('Scope and Prelim. Cost Est.'!$F$26:$F$75=\"Yes\")*1=1,ROW('Scope and Prelim. Cost Est.'!$F$26:$F$75)-ROW('Scope and Prelim. Cost Est.'!$F$25)+1),ROWS('Scope and Prelim. Cost Est.'!$F$25:F38))),'PSS References'!$S$29:$S$38,0)),\"\")","v":""},{"$f":"IFERROR(INDEX('Scope and Prelim. Cost Est.'!$S$25:$S$75,SMALL(IF(('Scope and Prelim. Cost Est.'!$F$26:$F$75=\"Yes\")*1=1,ROW('Scope and Prelim. Cost Est.'!$F$26:$F$75)-ROW('Scope and Prelim. Cost Est.'!$F$25)+1),ROWS('Scope and Prelim. Cost Est.'!$F$25:F38)))+INDEX('Scope and Prelim. Cost Est.'!$T$25:$T$75,SMALL(IF(('Scope and Prelim. Cost Est.'!$F$26:$F$75=\"Yes\")*1=1,ROW('Scope and Prelim. Cost Est.'!$F$26:$F$75)-ROW('Scope and Prelim. Cost Est.'!$F$25)+1),ROWS('Scope and Prelim. Cost Est.'!$F$25:F38))),\"\")","v":""},{"$f":"IF(AND(G39=\"\",J39=\"\"),\"\",(G39*'PSS References'!$E$11+J39)/$T$17)","v":""},{"$f":"IFERROR(INDEX('Scope and Prelim. Cost Est.'!$V$25:$V$75,SMALL(IF(('Scope and Prelim. Cost Est.'!$F$26:$F$75=\"Yes\")*1=1,ROW('Scope and Prelim. Cost Est.'!$F$26:$F$75)-ROW('Scope and Prelim. Cost Est.'!$F$25)+1),ROWS('Scope and Prelim. Cost Est.'!$F$25:F38))),\"\")","v":""},"",{"$f":"IFERROR(INDEX('Scope and Prelim. Cost Est.'!$AD$25:$AD$75,SMALL(IF(('Scope and Prelim. Cost Est.'!$F$26:$F$75=\"Yes\")*1=1,ROW('Scope and Prelim. Cost Est.'!$F$26:$F$75)-ROW('Scope and Prelim. Cost Est.'!$F$25)+1),ROWS('Scope and Prelim. Cost Est.'!$F$25:F38))),\"\")","v":""},{"$f":"IF(OR('Energy and Water Use'!$E$65=\"\",N39=\"\"),\"\",N39*'Energy and Water Use'!$E$65*1000)","v":""},null,{"$f":"IFERROR(INDEX('Scope and Prelim. Cost Est.'!$P$25:$P$75,SMALL(IF(('Scope and Prelim. Cost Est.'!$F$26:$F$75=\"Yes\")*1=1,ROW('Scope and Prelim. Cost Est.'!$F$26:$F$75)-ROW('Scope and Prelim. Cost Est.'!$F$25)+1),ROWS('Scope and Prelim. Cost Est.'!$F$25:F38))),\"\")","v":""},"",null,"",null,{"$f":"IFERROR(_xlfn.IFS(B39=\"\",\"\",I39=\"multiple\",B39),\"\")","v":""}]
[null,null,{"$f":"IFERROR(INDEX('Scope and Prelim. Cost Est.'!$B$25:$B$75,SMALL(IF(('Scope and Prelim. Cost Est.'!$F$26:$F$75=\"Yes\")*1=1,ROW('Scope and Prelim. Cost Est.'!$F$26:$F$75)-ROW('Scope and Prelim. Cost Est.'!$F$25)+1),ROWS('Scope and Prelim. Cost Est.'!$F$25:F39))),\"\")","v":""},null,null,null,{"$f":"IFERROR(INDEX('Scope and Prelim. Cost Est.'!$Q$25:$Q$75,SMALL(IF(('Scope and Prelim. Cost Est.'!$F$26:$F$75=\"Yes\")*1=1,ROW('Scope and Prelim. Cost Est.'!$F$26:$F$75)-ROW('Scope and Prelim. Cost Est.'!$F$25)+1),ROWS('Scope and Prelim. Cost Est.'!C$25:$F39)))+INDEX('Scope and Prelim. Cost Est.'!$R$25:$R$75,SMALL(IF(('Scope and Prelim. Cost Est.'!$F$26:$F$75=\"Yes\")*1=1,ROW('Scope and Prelim. Cost Est.'!$F$26:$F$75)-ROW('Scope and Prelim. Cost Est.'!$F$25)+1),ROWS('Scope and Prelim. Cost Est.'!C$25:$F39))),\"\")","v":""},null,{"$f":"IFERROR(INDEX('PSS References'!$R$29:$R$38,MATCH(INDEX('Scope and Prelim. Cost Est.'!$U$25:$U$75,SMALL(IF(('Scope and Prelim. Cost Est.'!$F$26:$F$75=\"Yes\")*1=1,ROW('Scope and Prelim. Cost Est.'!$F$26:$F$75)-ROW('Scope and Prelim. Cost Est.'!$F$25)+1),ROWS('Scope and Prelim. Cost Est.'!$F$25:F39))),'PSS References'!$S$29:$S$38,0)),\"\")","v":""},{"$f":"IFERROR(INDEX('Scope and Prelim. Cost Est.'!$S$25:$S$75,SMALL(IF(('Scope and Prelim. Cost Est.'!$F$26:$F$75=\"Yes\")*1=1,ROW('Scope and Prelim. Cost Est.'!$F$26:$F$75)-ROW('Scope and Prelim. Cost Est.'!$F$25)+1),ROWS('Scope and Prelim. Cost Est.'!$F$25:F39)))+INDEX('Scope and Prelim. Cost Est.'!$T$25:$T$75,SMALL(IF(('Scope and Prelim. Cost Est.'!$F$26:$F$75=\"Yes\")*1=1,ROW('Scope and Prelim. Cost Est.'!$F$26:$F$75)-ROW('Scope and Prelim. Cost Est.'!$F$25)+1),ROWS('Scope and Prelim. Cost Est.'!$F$25:F39))),\"\")","v":""},{"$f":"IF(AND(G40=\"\",J40=\"\"),\"\",(G40*'PSS References'!$E$11+J40)/$T$17)","v":""},{"$f":"IFERROR(INDEX('Scope and Prelim. Cost Est.'!$V$25:$V$75,SMALL(IF(('Scope and Prelim. Cost Est.'!$F$26:$F$75=\"Yes\")*1=1,ROW('Scope and Prelim. Cost Est.'!$F$26:$F$75)-ROW('Scope and Prelim. Cost Est.'!$F$25)+1),ROWS('Scope and Prelim. Cost Est.'!$F$25:F39))),\"\")","v":""},"",{"$f":"IFERROR(INDEX('Scope and Prelim. Cost Est.'!$AD$25:$AD$75,SMALL(IF(('Scope and Prelim. Cost Est.'!$F$26:$F$75=\"Yes\")*1=1,ROW('Scope and Prelim. Cost Est.'!$F$26:$F$75)-ROW('Scope and Prelim. Cost Est.'!$F$25)+1),ROWS('Scope and Prelim. Cost Est.'!$F$25:F39))),\"\")","v":""},{"$f":"IF(OR('Energy and Water Use'!$E$65=\"\",N40=\"\"),\"\",N40*'Energy and Water Use'!$E$65*1000)","v":""},null,{"$f":"IFERROR(INDEX('Scope and Prelim. Cost Est.'!$P$25:$P$75,SMALL(IF(('Scope and Prelim. Cost Est.'!$F$26:$F$75=\"Yes\")*1=1,ROW('Scope and Prelim. Cost Est.'!$F$26:$F$75)-ROW('Scope and Prelim. Cost Est.'!$F$25)+1),ROWS('Scope and Prelim. Cost Est.'!$F$25:F39))),\"\")","v":""},"",null,"",null,{"$f":"IFERROR(_xlfn.IFS(B40=\"\",\"\",I40=\"multiple\",B40),\"\")","v":""}]
[null,null,{"$f":"IFERROR(INDEX('Scope and Prelim. Cost Est.'!$B$25:$B$75,SMALL(IF(('Scope and Prelim. Cost Est.'!$F$26:$F$75=\"Yes\")*1=1,ROW('Scope and Prelim. Cost Est.'!$F$26:$F$75)-ROW('Scope and Prelim. Cost Est.'!$F$25)+1),ROWS('Scope and Prelim. Cost Est.'!$F$25:F40))),\"\")","v":""},null,null,null,{"$f":"IFERROR(INDEX('Scope and Prelim. Cost Est.'!$Q$25:$Q$75,SMALL(IF(('Scope and Prelim. Cost Est.'!$F$26:$F$75=\"Yes\")*1=1,ROW('Scope and Prelim. Cost Est.'!$F$26:$F$75)-ROW('Scope and Prelim. Cost Est.'!$F$25)+1),ROWS('Scope and Prelim. Cost Est.'!C$25:$F40)))+INDEX('Scope and Prelim. Cost Est.'!$R$25:$R$75,SMALL(IF(('Scope and Prelim. Cost Est.'!$F$26:$F$75=\"Yes\")*1=1,ROW('Scope and Prelim. Cost Est.'!$F$26:$F$75)-ROW('Scope and Prelim. Cost Est.'!$F$25)+1),ROWS('Scope and Prelim. Cost Est.'!C$25:$F40))),\"\")","v":""},null,{"$f":"IFERROR(INDEX('PSS References'!$R$29:$R$38,MATCH(INDEX('Scope and Prelim. Cost Est.'!$U$25:$U$75,SMALL(IF(('Scope and Prelim. Cost Est.'!$F$26:$F$75=\"Yes\")*1=1,ROW('Scope and Prelim. Cost Est.'!$F$26:$F$75)-ROW('Scope and Prelim. Cost Est.'!$F$25)+1),ROWS('Scope and Prelim. Cost Est.'!$F$25:F40))),'PSS References'!$S$29:$S$38,0)),\"\")","v":""},{"$f":"IFERROR(INDEX('Scope and Prelim. Cost Est.'!$S$25:$S$75,SMALL(IF(('Scope and Prelim. Cost Est.'!$F$26:$F$75=\"Yes\")*1=1,ROW('Scope and Prelim. Cost Est.'!$F$26:$F$75)-ROW('Scope and Prelim. Cost Est.'!$F$25)+1),ROWS('Scope and Prelim. Cost Est.'!$F$25:F40)))+INDEX('Scope and Prelim. Cost Est.'!$T$25:$T$75,SMALL(IF(('Scope and Prelim. Cost Est.'!$F$26:$F$75=\"Yes\")*1=1,ROW('Scope and Prelim. Cost Est.'!$F$26:$F$75)-ROW('Scope and Prelim. Cost Est.'!$F$25)+1),ROWS('Scope and Prelim. Cost Est.'!$F$25:F40))),\"\")","v":""},{"$f":"IF(AND(G41=\"\",J41=\"\"),\"\",(G41*'PSS References'!$E$11+J41)/$T$17)","v":""},{"$f":"IFERROR(INDEX('Scope and Prelim. Cost Est.'!$V$25:$V$75,SMALL(IF(('Scope and Prelim. Cost Est.'!$F$26:$F$75=\"Yes\")*1=1,ROW('Scope and Prelim. Cost Est.'!$F$26:$F$75)-ROW('Scope and Prelim. Cost Est.'!$F$25)+1),ROWS('Scope and Prelim. Cost Est.'!$F$25:F40))),\"\")","v":""},"",{"$f":"IFERROR(INDEX('Scope and Prelim. Cost Est.'!$AD$25:$AD$75,SMALL(IF(('Scope and Prelim. Cost Est.'!$F$26:$F$75=\"Yes\")*1=1,ROW('Scope and Prelim. Cost Est.'!$F$26:$F$75)-ROW('Scope and Prelim. Cost Est.'!$F$25)+1),ROWS('Scope and Prelim. Cost Est.'!$F$25:F40))),\"\")","v":""},{"$f":"IF(OR('Energy and Water Use'!$E$65=\"\",N41=\"\"),\"\",N41*'Energy and Water Use'!$E$65*1000)","v":""},null,{"$f":"IFERROR(INDEX('Scope and Prelim. Cost Est.'!$P$25:$P$75,SMALL(IF(('Scope and Prelim. Cost Est.'!$F$26:$F$75=\"Yes\")*1=1,ROW('Scope and Prelim. Cost Est.'!$F$26:$F$75)-ROW('Scope and Prelim. Cost Est.'!$F$25)+1),ROWS('Scope and Prelim. Cost Est.'!$F$25:F40))),\"\")","v":""},"",null,"",null,{"$f":"IFERROR(_xlfn.IFS(B41=\"\",\"\",I41=\"multiple\",B41),\"\")","v":""}]
[null,null,{"$f":"IFERROR(INDEX('Scope and Prelim. Cost Est.'!$B$25:$B$75,SMALL(IF(('Scope and Prelim. Cost Est.'!$F$26:$F$75=\"Yes\")*1=1,ROW('Scope and Prelim. Cost Est.'!$F$26:$F$75)-ROW('Scope and Prelim. Cost Est.'!$F$25)+1),ROWS('Scope and Prelim. Cost Est.'!$F$25:F41))),\"\")","v":""},null,null,null,{"$f":"IFERROR(INDEX('Scope and Prelim. Cost Est.'!$Q$25:$Q$75,SMALL(IF(('Scope and Prelim. Cost Est.'!$F$26:$F$75=\"Yes\")*1=1,ROW('Scope and Prelim. Cost Est.'!$F$26:$F$75)-ROW('Scope and Prelim. Cost Est.'!$F$25)+1),ROWS('Scope and Prelim. Cost Est.'!C$25:$F41)))+INDEX('Scope and Prelim. Cost Est.'!$R$25:$R$75,SMALL(IF(('Scope and Prelim. Cost Est.'!$F$26:$F$75=\"Yes\")*1=1,ROW('Scope and Prelim. Cost Est.'!$F$26:$F$75)-ROW('Scope and Prelim. Cost Est.'!$F$25)+1),ROWS('Scope and Prelim. Cost Est.'!C$25:$F41))),\"\")","v":""},null,{"$f":"IFERROR(INDEX('PSS References'!$R$29:$R$38,MATCH(INDEX('Scope and Prelim. Cost Est.'!$U$25:$U$75,SMALL(IF(('Scope and Prelim. Cost Est.'!$F$26:$F$75=\"Yes\")*1=1,ROW('Scope and Prelim. Cost Est.'!$F$26:$F$75)-ROW('Scope and Prelim. Cost Est.'!$F$25)+1),ROWS('Scope and Prelim. Cost Est.'!$F$25:F41))),'PSS References'!$S$29:$S$38,0)),\"\")","v":""},{"$f":"IFERROR(INDEX('Scope and Prelim. Cost Est.'!$S$25:$S$75,SMALL(IF(('Scope and Prelim. Cost Est.'!$F$26:$F$75=\"Yes\")*1=1,ROW('Scope and Prelim. Cost Est.'!$F$26:$F$75)-ROW('Scope and Prelim. Cost Est.'!$F$25)+1),ROWS('Scope and Prelim. Cost Est.'!$F$25:F41)))+INDEX('Scope and Prelim. Cost Est.'!$T$25:$T$75,SMALL(IF(('Scope and Prelim. Cost Est.'!$F$26:$F$75=\"Yes\")*1=1,ROW('Scope and Prelim. Cost Est.'!$F$26:$F$75)-ROW('Scope and Prelim. Cost Est.'!$F$25)+1),ROWS('Scope and Prelim. Cost Est.'!$F$25:F41))),\"\")","v":""},{"$f":"IF(AND(G42=\"\",J42=\"\"),\"\",(G42*'PSS References'!$E$11+J42)/$T$17)","v":""},{"$f":"IFERROR(INDEX('Scope and Prelim. Cost Est.'!$V$25:$V$75,SMALL(IF(('Scope and Prelim. Cost Est.'!$F$26:$F$75=\"Yes\")*1=1,ROW('Scope and Prelim. Cost Est.'!$F$26:$F$75)-ROW('Scope and Prelim. Cost Est.'!$F$25)+1),ROWS('Scope and Prelim. Cost Est.'!$F$25:F41))),\"\")","v":""},"",{"$f":"IFERROR(INDEX('Scope and Prelim. Cost Est.'!$AD$25:$AD$75,SMALL(IF(('Scope and Prelim. Cost Est.'!$F$26:$F$75=\"Yes\")*1=1,ROW('Scope and Prelim. Cost Est.'!$F$26:$F$75)-ROW('Scope and Prelim. Cost Est.'!$F$25)+1),ROWS('Scope and Prelim. Cost Est.'!$F$25:F41))),\"\")","v":""},{"$f":"IF(OR('Energy and Water Use'!$E$65=\"\",N42=\"\"),\"\",N42*'Energy and Water Use'!$E$65*1000)","v":""},null,{"$f":"IFERROR(INDEX('Scope and Prelim. Cost Est.'!$P$25:$P$75,SMALL(IF(('Scope and Prelim. Cost Est.'!$F$26:$F$75=\"Yes\")*1=1,ROW('Scope and Prelim. Cost Est.'!$F$26:$F$75)-ROW('Scope and Prelim. Cost Est.'!$F$25)+1),ROWS('Scope and Prelim. Cost Est.'!$F$25:F41))),\"\")","v":""},"",null,"",null,{"$f":"IFERROR(_xlfn.IFS(B42=\"\",\"\",I42=\"multiple\",B42),\"\")","v":""}]
[null,null,{"$f":"IFERROR(INDEX('Scope and Prelim. Cost Est.'!$B$25:$B$75,SMALL(IF(('Scope and Prelim. Cost Est.'!$F$26:$F$75=\"Yes\")*1=1,ROW('Scope and Prelim. Cost Est.'!$F$26:$F$75)-ROW('Scope and Prelim. Cost Est.'!$F$25)+1),ROWS('Scope and Prelim. Cost Est.'!$F$25:F42))),\"\")","v":""},null,null,null,{"$f":"IFERROR(INDEX('Scope and Prelim. Cost Est.'!$Q$25:$Q$75,SMALL(IF(('Scope and Prelim. Cost Est.'!$F$26:$F$75=\"Yes\")*1=1,ROW('Scope and Prelim. Cost Est.'!$F$26:$F$75)-ROW('Scope and Prelim. Cost Est.'!$F$25)+1),ROWS('Scope and Prelim. Cost Est.'!C$25:$F42)))+INDEX('Scope and Prelim. Cost Est.'!$R$25:$R$75,SMALL(IF(('Scope and Prelim. Cost Est.'!$F$26:$F$75=\"Yes\")*1=1,ROW('Scope and Prelim. Cost Est.'!$F$26:$F$75)-ROW('Scope and Prelim. Cost Est.'!$F$25)+1),ROWS('Scope and Prelim. Cost Est.'!C$25:$F42))),\"\")","v":""},null,{"$f":"IFERROR(INDEX('PSS References'!$R$29:$R$38,MATCH(INDEX('Scope and Prelim. Cost Est.'!$U$25:$U$75,SMALL(IF(('Scope and Prelim. Cost Est.'!$F$26:$F$75=\"Yes\")*1=1,ROW('Scope and Prelim. Cost Est.'!$F$26:$F$75)-ROW('Scope and Prelim. Cost Est.'!$F$25)+1),ROWS('Scope and Prelim. Cost Est.'!$F$25:F42))),'PSS References'!$S$29:$S$38,0)),\"\")","v":""},{"$f":"IFERROR(INDEX('Scope and Prelim. Cost Est.'!$S$25:$S$75,SMALL(IF(('Scope and Prelim. Cost Est.'!$F$26:$F$75=\"Yes\")*1=1,ROW('Scope and Prelim. Cost Est.'!$F$26:$F$75)-ROW('Scope and Prelim. Cost Est.'!$F$25)+1),ROWS('Scope and Prelim. Cost Est.'!$F$25:F42)))+INDEX('Scope and Prelim. Cost Est.'!$T$25:$T$75,SMALL(IF(('Scope and Prelim. Cost Est.'!$F$26:$F$75=\"Yes\")*1=1,ROW('Scope and Prelim. Cost Est.'!$F$26:$F$75)-ROW('Scope and Prelim. Cost Est.'!$F$25)+1),ROWS('Scope and Prelim. Cost Est.'!$F$25:F42))),\"\")","v":""},{"$f":"IF(AND(G43=\"\",J43=\"\"),\"\",(G43*'PSS References'!$E$11+J43)/$T$17)","v":""},{"$f":"IFERROR(INDEX('Scope and Prelim. Cost Est.'!$V$25:$V$75,SMALL(IF(('Scope and Prelim. Cost Est.'!$F$26:$F$75=\"Yes\")*1=1,ROW('Scope and Prelim. Cost Est.'!$F$26:$F$75)-ROW('Scope and Prelim. Cost Est.'!$F$25)+1),ROWS('Scope and Prelim. Cost Est.'!$F$25:F42))),\"\")","v":""},"",{"$f":"IFERROR(INDEX('Scope and Prelim. Cost Est.'!$AD$25:$AD$75,SMALL(IF(('Scope and Prelim. Cost Est.'!$F$26:$F$75=\"Yes\")*1=1,ROW('Scope and Prelim. Cost Est.'!$F$26:$F$75)-ROW('Scope and Prelim. Cost Est.'!$F$25)+1),ROWS('Scope and Prelim. Cost Est.'!$F$25:F42))),\"\")","v":""},{"$f":"IF(OR('Energy and Water Use'!$E$65=\"\",N43=\"\"),\"\",N43*'Energy and Water Use'!$E$65*1000)","v":""},null,{"$f":"IFERROR(INDEX('Scope and Prelim. Cost Est.'!$P$25:$P$75,SMALL(IF(('Scope and Prelim. Cost Est.'!$F$26:$F$75=\"Yes\")*1=1,ROW('Scope and Prelim. Cost Est.'!$F$26:$F$75)-ROW('Scope and Prelim. Cost Est.'!$F$25)+1),ROWS('Scope and Prelim. Cost Est.'!$F$25:F42))),\"\")","v":""},"",null,"",null,{"$f":"IFERROR(_xlfn.IFS(B43=\"\",\"\",I43=\"multiple\",B43),\"\")","v":""}]
[null,null,{"$f":"IFERROR(INDEX('Scope and Prelim. Cost Est.'!$B$25:$B$75,SMALL(IF(('Scope and Prelim. Cost Est.'!$F$26:$F$75=\"Yes\")*1=1,ROW('Scope and Prelim. Cost Est.'!$F$26:$F$75)-ROW('Scope and Prelim. Cost Est.'!$F$25)+1),ROWS('Scope and Prelim. Cost Est.'!$F$25:F43))),\"\")","v":""},null,null,null,{"$f":"IFERROR(INDEX('Scope and Prelim. Cost Est.'!$Q$25:$Q$75,SMALL(IF(('Scope and Prelim. Cost Est.'!$F$26:$F$75=\"Yes\")*1=1,ROW('Scope and Prelim. Cost Est.'!$F$26:$F$75)-ROW('Scope and Prelim. Cost Est.'!$F$25)+1),ROWS('Scope and Prelim. Cost Est.'!C$25:$F43)))+INDEX('Scope and Prelim. Cost Est.'!$R$25:$R$75,SMALL(IF(('Scope and Prelim. Cost Est.'!$F$26:$F$75=\"Yes\")*1=1,ROW('Scope and Prelim. Cost Est.'!$F$26:$F$75)-ROW('Scope and Prelim. Cost Est.'!$F$25)+1),ROWS('Scope and Prelim. Cost Est.'!C$25:$F43))),\"\")","v":""},null,{"$f":"IFERROR(INDEX('PSS References'!$R$29:$R$38,MATCH(INDEX('Scope and Prelim. Cost Est.'!$U$25:$U$75,SMALL(IF(('Scope and Prelim. Cost Est.'!$F$26:$F$75=\"Yes\")*1=1,ROW('Scope and Prelim. Cost Est.'!$F$26:$F$75)-ROW('Scope and Prelim. Cost Est.'!$F$25)+1),ROWS('Scope and Prelim. Cost Est.'!$F$25:F43))),'PSS References'!$S$29:$S$38,0)),\"\")","v":""},{"$f":"IFERROR(INDEX('Scope and Prelim. Cost Est.'!$S$25:$S$75,SMALL(IF(('Scope and Prelim. Cost Est.'!$F$26:$F$75=\"Yes\")*1=1,ROW('Scope and Prelim. Cost Est.'!$F$26:$F$75)-ROW('Scope and Prelim. Cost Est.'!$F$25)+1),ROWS('Scope and Prelim. Cost Est.'!$F$25:F43)))+INDEX('Scope and Prelim. Cost Est.'!$T$25:$T$75,SMALL(IF(('Scope and Prelim. Cost Est.'!$F$26:$F$75=\"Yes\")*1=1,ROW('Scope and Prelim. Cost Est.'!$F$26:$F$75)-ROW('Scope and Prelim. Cost Est.'!$F$25)+1),ROWS('Scope and Prelim. Cost Est.'!$F$25:F43))),\"\")","v":""},{"$f":"IF(AND(G44=\"\",J44=\"\"),\"\",(G44*'PSS References'!$E$11+J44)/$T$17)","v":""},{"$f":"IFERROR(INDEX('Scope and Prelim. Cost Est.'!$V$25:$V$75,SMALL(IF(('Scope and Prelim. Cost Est.'!$F$26:$F$75=\"Yes\")*1=1,ROW('Scope and Prelim. Cost Est.'!$F$26:$F$75)-ROW('Scope and Prelim. Cost Est.'!$F$25)+1),ROWS('Scope and Prelim. Cost Est.'!$F$25:F43))),\"\")","v":""},"",{"$f":"IFERROR(INDEX('Scope and Prelim. Cost Est.'!$AD$25:$AD$75,SMALL(IF(('Scope and Prelim. Cost Est.'!$F$26:$F$75=\"Yes\")*1=1,ROW('Scope and Prelim. Cost Est.'!$F$26:$F$75)-ROW('Scope and Prelim. Cost Est.'!$F$25)+1),ROWS('Scope and Prelim. Cost Est.'!$F$25:F43))),\"\")","v":""},{"$f":"IF(OR('Energy and Water Use'!$E$65=\"\",N44=\"\"),\"\",N44*'Energy and Water Use'!$E$65*1000)","v":""},null,{"$f":"IFERROR(INDEX('Scope and Prelim. Cost Est.'!$P$25:$P$75,SMALL(IF(('Scope and Prelim. Cost Est.'!$F$26:$F$75=\"Yes\")*1=1,ROW('Scope and Prelim. Cost Est.'!$F$26:$F$75)-ROW('Scope and Prelim. Cost Est.'!$F$25)+1),ROWS('Scope and Prelim. Cost Est.'!$F$25:F43))),\"\")","v":""},"",null,"",null,{"$f":"IFERROR(_xlfn.IFS(B44=\"\",\"\",I44=\"multiple\",B44),\"\")","v":""}]
[null,null,{"$f":"IFERROR(INDEX('Scope and Prelim. Cost Est.'!$B$25:$B$75,SMALL(IF(('Scope and Prelim. Cost Est.'!$F$26:$F$75=\"Yes\")*1=1,ROW('Scope and Prelim. Cost Est.'!$F$26:$F$75)-ROW('Scope and Prelim. Cost Est.'!$F$25)+1),ROWS('Scope and Prelim. Cost Est.'!$F$25:F44))),\"\")","v":""},null,null,null,{"$f":"IFERROR(INDEX('Scope and Prelim. Cost Est.'!$Q$25:$Q$75,SMALL(IF(('Scope and Prelim. Cost Est.'!$F$26:$F$75=\"Yes\")*1=1,ROW('Scope and Prelim. Cost Est.'!$F$26:$F$75)-ROW('Scope and Prelim. Cost Est.'!$F$25)+1),ROWS('Scope and Prelim. Cost Est.'!C$25:$F44)))+INDEX('Scope and Prelim. Cost Est.'!$R$25:$R$75,SMALL(IF(('Scope and Prelim. Cost Est.'!$F$26:$F$75=\"Yes\")*1=1,ROW('Scope and Prelim. Cost Est.'!$F$26:$F$75)-ROW('Scope and Prelim. Cost Est.'!$F$25)+1),ROWS('Scope and Prelim. Cost Est.'!C$25:$F44))),\"\")","v":""},null,{"$f":"IFERROR(INDEX('PSS References'!$R$29:$R$38,MATCH(INDEX('Scope and Prelim. Cost Est.'!$U$25:$U$75,SMALL(IF(('Scope and Prelim. Cost Est.'!$F$26:$F$75=\"Yes\")*1=1,ROW('Scope and Prelim. Cost Est.'!$F$26:$F$75)-ROW('Scope and Prelim. Cost Est.'!$F$25)+1),ROWS('Scope and Prelim. Cost Est.'!$F$25:F44))),'PSS References'!$S$29:$S$38,0)),\"\")","v":""},{"$f":"IFERROR(INDEX('Scope and Prelim. Cost Est.'!$S$25:$S$75,SMALL(IF(('Scope and Prelim. Cost Est.'!$F$26:$F$75=\"Yes\")*1=1,ROW('Scope and Prelim. Cost Est.'!$F$26:$F$75)-ROW('Scope and Prelim. Cost Est.'!$F$25)+1),ROWS('Scope and Prelim. Cost Est.'!$F$25:F44)))+INDEX('Scope and Prelim. Cost Est.'!$T$25:$T$75,SMALL(IF(('Scope and Prelim. Cost Est.'!$F$26:$F$75=\"Yes\")*1=1,ROW('Scope and Prelim. Cost Est.'!$F$26:$F$75)-ROW('Scope and Prelim. Cost Est.'!$F$25)+1),ROWS('Scope and Prelim. Cost Est.'!$F$25:F44))),\"\")","v":""},{"$f":"IF(AND(G45=\"\",J45=\"\"),\"\",(G45*'PSS References'!$E$11+J45)/$T$17)","v":""},{"$f":"IFERROR(INDEX('Scope and Prelim. Cost Est.'!$V$25:$V$75,SMALL(IF(('Scope and Prelim. Cost Est.'!$F$26:$F$75=\"Yes\")*1=1,ROW('Scope and Prelim. Cost Est.'!$F$26:$F$75)-ROW('Scope and Prelim. Cost Est.'!$F$25)+1),ROWS('Scope and Prelim. Cost Est.'!$F$25:F44))),\"\")","v":""},"",{"$f":"IFERROR(INDEX('Scope and Prelim. Cost Est.'!$AD$25:$AD$75,SMALL(IF(('Scope and Prelim. Cost Est.'!$F$26:$F$75=\"Yes\")*1=1,ROW('Scope and Prelim. Cost Est.'!$F$26:$F$75)-ROW('Scope and Prelim. Cost Est.'!$F$25)+1),ROWS('Scope and Prelim. Cost Est.'!$F$25:F44))),\"\")","v":""},{"$f":"IF(OR('Energy and Water Use'!$E$65=\"\",N45=\"\"),\"\",N45*'Energy and Water Use'!$E$65*1000)","v":""},null,{"$f":"IFERROR(INDEX('Scope and Prelim. Cost Est.'!$P$25:$P$75,SMALL(IF(('Scope and Prelim. Cost Est.'!$F$26:$F$75=\"Yes\")*1=1,ROW('Scope and Prelim. Cost Est.'!$F$26:$F$75)-ROW('Scope and Prelim. Cost Est.'!$F$25)+1),ROWS('Scope and Prelim. Cost Est.'!$F$25:F44))),\"\")","v":""},"",null,"",null,{"$f":"IFERROR(_xlfn.IFS(B45=\"\",\"\",I45=\"multiple\",B45),\"\")","v":""}]
[null,null,{"$f":"IFERROR(INDEX('Scope and Prelim. Cost Est.'!$B$25:$B$75,SMALL(IF(('Scope and Prelim. Cost Est.'!$F$26:$F$75=\"Yes\")*1=1,ROW('Scope and Prelim. Cost Est.'!$F$26:$F$75)-ROW('Scope and Prelim. Cost Est.'!$F$25)+1),ROWS('Scope and Prelim. Cost Est.'!$F$25:F45))),\"\")","v":""},null,null,null,{"$f":"IFERROR(INDEX('Scope and Prelim. Cost Est.'!$Q$25:$Q$75,SMALL(IF(('Scope and Prelim. Cost Est.'!$F$26:$F$75=\"Yes\")*1=1,ROW('Scope and Prelim. Cost Est.'!$F$26:$F$75)-ROW('Scope and Prelim. Cost Est.'!$F$25)+1),ROWS('Scope and Prelim. Cost Est.'!C$25:$F45)))+INDEX('Scope and Prelim. Cost Est.'!$R$25:$R$75,SMALL(IF(('Scope and Prelim. Cost Est.'!$F$26:$F$75=\"Yes\")*1=1,ROW('Scope and Prelim. Cost Est.'!$F$26:$F$75)-ROW('Scope and Prelim. Cost Est.'!$F$25)+1),ROWS('Scope and Prelim. Cost Est.'!C$25:$F45))),\"\")","v":""},null,{"$f":"IFERROR(INDEX('PSS References'!$R$29:$R$38,MATCH(INDEX('Scope and Prelim. Cost Est.'!$U$25:$U$75,SMALL(IF(('Scope and Prelim. Cost Est.'!$F$26:$F$75=\"Yes\")*1=1,ROW('Scope and Prelim. Cost Est.'!$F$26:$F$75)-ROW('Scope and Prelim. Cost Est.'!$F$25)+1),ROWS('Scope and Prelim. Cost Est.'!$F$25:F45))),'PSS References'!$S$29:$S$38,0)),\"\")","v":""},{"$f":"IFERROR(INDEX('Scope and Prelim. Cost Est.'!$S$25:$S$75,SMALL(IF(('Scope and Prelim. Cost Est.'!$F$26:$F$75=\"Yes\")*1=1,ROW('Scope and Prelim. Cost Est.'!$F$26:$F$75)-ROW('Scope and Prelim. Cost Est.'!$F$25)+1),ROWS('Scope and Prelim. Cost Est.'!$F$25:F45)))+INDEX('Scope and Prelim. Cost Est.'!$T$25:$T$75,SMALL(IF(('Scope and Prelim. Cost Est.'!$F$26:$F$75=\"Yes\")*1=1,ROW('Scope and Prelim. Cost Est.'!$F$26:$F$75)-ROW('Scope and Prelim. Cost Est.'!$F$25)+1),ROWS('Scope and Prelim. Cost Est.'!$F$25:F45))),\"\")","v":""},{"$f":"IF(AND(G46=\"\",J46=\"\"),\"\",(G46*'PSS References'!$E$11+J46)/$T$17)","v":""},{"$f":"IFERROR(INDEX('Scope and Prelim. Cost Est.'!$V$25:$V$75,SMALL(IF(('Scope and Prelim. Cost Est.'!$F$26:$F$75=\"Yes\")*1=1,ROW('Scope and Prelim. Cost Est.'!$F$26:$F$75)-ROW('Scope and Prelim. Cost Est.'!$F$25)+1),ROWS('Scope and Prelim. Cost Est.'!$F$25:F45))),\"\")","v":""},"",{"$f":"IFERROR(INDEX('Scope and Prelim. Cost Est.'!$AD$25:$AD$75,SMALL(IF(('Scope and Prelim. Cost Est.'!$F$26:$F$75=\"Yes\")*1=1,ROW('Scope and Prelim. Cost Est.'!$F$26:$F$75)-ROW('Scope and Prelim. Cost Est.'!$F$25)+1),ROWS('Scope and Prelim. Cost Est.'!$F$25:F45))),\"\")","v":""},{"$f":"IF(OR('Energy and Water Use'!$E$65=\"\",N46=\"\"),\"\",N46*'Energy and Water Use'!$E$65*1000)","v":""},null,{"$f":"IFERROR(INDEX('Scope and Prelim. Cost Est.'!$P$25:$P$75,SMALL(IF(('Scope and Prelim. Cost Est.'!$F$26:$F$75=\"Yes\")*1=1,ROW('Scope and Prelim. Cost Est.'!$F$26:$F$75)-ROW('Scope and Prelim. Cost Est.'!$F$25)+1),ROWS('Scope and Prelim. Cost Est.'!$F$25:F45))),\"\")","v":""},"",null,"",null,{"$f":"IFERROR(_xlfn.IFS(B46=\"\",\"\",I46=\"multiple\",B46),\"\")","v":""}]
[null,null,{"$f":"IFERROR(INDEX('Scope and Prelim. Cost Est.'!$B$25:$B$75,SMALL(IF(('Scope and Prelim. Cost Est.'!$F$26:$F$75=\"Yes\")*1=1,ROW('Scope and Prelim. Cost Est.'!$F$26:$F$75)-ROW('Scope and Prelim. Cost Est.'!$F$25)+1),ROWS('Scope and Prelim. Cost Est.'!$F$25:F46))),\"\")","v":""},null,null,null,{"$f":"IFERROR(INDEX('Scope and Prelim. Cost Est.'!$Q$25:$Q$75,SMALL(IF(('Scope and Prelim. Cost Est.'!$F$26:$F$75=\"Yes\")*1=1,ROW('Scope and Prelim. Cost Est.'!$F$26:$F$75)-ROW('Scope and Prelim. Cost Est.'!$F$25)+1),ROWS('Scope and Prelim. Cost Est.'!C$25:$F46)))+INDEX('Scope and Prelim. Cost Est.'!$R$25:$R$75,SMALL(IF(('Scope and Prelim. Cost Est.'!$F$26:$F$75=\"Yes\")*1=1,ROW('Scope and Prelim. Cost Est.'!$F$26:$F$75)-ROW('Scope and Prelim. Cost Est.'!$F$25)+1),ROWS('Scope and Prelim. Cost Est.'!C$25:$F46))),\"\")","v":""},null,{"$f":"IFERROR(INDEX('PSS References'!$R$29:$R$38,MATCH(INDEX('Scope and Prelim. Cost Est.'!$U$25:$U$75,SMALL(IF(('Scope and Prelim. Cost Est.'!$F$26:$F$75=\"Yes\")*1=1,ROW('Scope and Prelim. Cost Est.'!$F$26:$F$75)-ROW('Scope and Prelim. Cost Est.'!$F$25)+1),ROWS('Scope and Prelim. Cost Est.'!$F$25:F46))),'PSS References'!$S$29:$S$38,0)),\"\")","v":""},{"$f":"IFERROR(INDEX('Scope and Prelim. Cost Est.'!$S$25:$S$75,SMALL(IF(('Scope and Prelim. Cost Est.'!$F$26:$F$75=\"Yes\")*1=1,ROW('Scope and Prelim. Cost Est.'!$F$26:$F$75)-ROW('Scope and Prelim. Cost Est.'!$F$25)+1),ROWS('Scope and Prelim. Cost Est.'!$F$25:F46)))+INDEX('Scope and Prelim. Cost Est.'!$T$25:$T$75,SMALL(IF(('Scope and Prelim. Cost Est.'!$F$26:$F$75=\"Yes\")*1=1,ROW('Scope and Prelim. Cost Est.'!$F$26:$F$75)-ROW('Scope and Prelim. Cost Est.'!$F$25)+1),ROWS('Scope and Prelim. Cost Est.'!$F$25:F46))),\"\")","v":""},{"$f":"IF(AND(G47=\"\",J47=\"\"),\"\",(G47*'PSS References'!$E$11+J47)/$T$17)","v":""},{"$f":"IFERROR(INDEX('Scope and Prelim. Cost Est.'!$V$25:$V$75,SMALL(IF(('Scope and Prelim. Cost Est.'!$F$26:$F$75=\"Yes\")*1=1,ROW('Scope and Prelim. Cost Est.'!$F$26:$F$75)-ROW('Scope and Prelim. Cost Est.'!$F$25)+1),ROWS('Scope and Prelim. Cost Est.'!$F$25:F46))),\"\")","v":""},"",{"$f":"IFERROR(INDEX('Scope and Prelim. Cost Est.'!$AD$25:$AD$75,SMALL(IF(('Scope and Prelim. Cost Est.'!$F$26:$F$75=\"Yes\")*1=1,ROW('Scope and Prelim. Cost Est.'!$F$26:$F$75)-ROW('Scope and Prelim. Cost Est.'!$F$25)+1),ROWS('Scope and Prelim. Cost Est.'!$F$25:F46))),\"\")","v":""},{"$f":"IF(OR('Energy and Water Use'!$E$65=\"\",N47=\"\"),\"\",N47*'Energy and Water Use'!$E$65*1000)","v":""},null,{"$f":"IFERROR(INDEX('Scope and Prelim. Cost Est.'!$P$25:$P$75,SMALL(IF(('Scope and Prelim. Cost Est.'!$F$26:$F$75=\"Yes\")*1=1,ROW('Scope and Prelim. Cost Est.'!$F$26:$F$75)-ROW('Scope and Prelim. Cost Est.'!$F$25)+1),ROWS('Scope and Prelim. Cost Est.'!$F$25:F46))),\"\")","v":""},"",null,"",null,{"$f":"IFERROR(_xlfn.IFS(B47=\"\",\"\",I47=\"multiple\",B47),\"\")","v":""}]
[null,null,{"$f":"IFERROR(INDEX('Scope and Prelim. Cost Est.'!$B$25:$B$75,SMALL(IF(('Scope and Prelim. Cost Est.'!$F$26:$F$75=\"Yes\")*1=1,ROW('Scope and Prelim. Cost Est.'!$F$26:$F$75)-ROW('Scope and Prelim. Cost Est.'!$F$25)+1),ROWS('Scope and Prelim. Cost Est.'!$F$25:F47))),\"\")","v":""},null,null,null,{"$f":"IFERROR(INDEX('Scope and Prelim. Cost Est.'!$Q$25:$Q$75,SMALL(IF(('Scope and Prelim. Cost Est.'!$F$26:$F$75=\"Yes\")*1=1,ROW('Scope and Prelim. Cost Est.'!$F$26:$F$75)-ROW('Scope and Prelim. Cost Est.'!$F$25)+1),ROWS('Scope and Prelim. Cost Est.'!C$25:$F47)))+INDEX('Scope and Prelim. Cost Est.'!$R$25:$R$75,SMALL(IF(('Scope and Prelim. Cost Est.'!$F$26:$F$75=\"Yes\")*1=1,ROW('Scope and Prelim. Cost Est.'!$F$26:$F$75)-ROW('Scope and Prelim. Cost Est.'!$F$25)+1),ROWS('Scope and Prelim. Cost Est.'!C$25:$F47))),\"\")","v":""},null,{"$f":"IFERROR(INDEX('PSS References'!$R$29:$R$38,MATCH(INDEX('Scope and Prelim. Cost Est.'!$U$25:$U$75,SMALL(IF(('Scope and Prelim. Cost Est.'!$F$26:$F$75=\"Yes\")*1=1,ROW('Scope and Prelim. Cost Est.'!$F$26:$F$75)-ROW('Scope and Prelim. Cost Est.'!$F$25)+1),ROWS('Scope and Prelim. Cost Est.'!$F$25:F47))),'PSS References'!$S$29:$S$38,0)),\"\")","v":""},{"$f":"IFERROR(INDEX('Scope and Prelim. Cost Est.'!$S$25:$S$75,SMALL(IF(('Scope and Prelim. Cost Est.'!$F$26:$F$75=\"Yes\")*1=1,ROW('Scope and Prelim. Cost Est.'!$F$26:$F$75)-ROW('Scope and Prelim. Cost Est.'!$F$25)+1),ROWS('Scope and Prelim. Cost Est.'!$F$25:F47)))+INDEX('Scope and Prelim. Cost Est.'!$T$25:$T$75,SMALL(IF(('Scope and Prelim. Cost Est.'!$F$26:$F$75=\"Yes\")*1=1,ROW('Scope and Prelim. Cost Est.'!$F$26:$F$75)-ROW('Scope and Prelim. Cost Est.'!$F$25)+1),ROWS('Scope and Prelim. Cost Est.'!$F$25:F47))),\"\")","v":""},{"$f":"IF(AND(G48=\"\",J48=\"\"),\"\",(G48*'PSS References'!$E$11+J48)/$T$17)","v":""},{"$f":"IFERROR(INDEX('Scope and Prelim. Cost Est.'!$V$25:$V$75,SMALL(IF(('Scope and Prelim. Cost Est.'!$F$26:$F$75=\"Yes\")*1=1,ROW('Scope and Prelim. Cost Est.'!$F$26:$F$75)-ROW('Scope and Prelim. Cost Est.'!$F$25)+1),ROWS('Scope and Prelim. Cost Est.'!$F$25:F47))),\"\")","v":""},"",{"$f":"IFERROR(INDEX('Scope and Prelim. Cost Est.'!$AD$25:$AD$75,SMALL(IF(('Scope and Prelim. Cost Est.'!$F$26:$F$75=\"Yes\")*1=1,ROW('Scope and Prelim. Cost Est.'!$F$26:$F$75)-ROW('Scope and Prelim. Cost Est.'!$F$25)+1),ROWS('Scope and Prelim. Cost Est.'!$F$25:F47))),\"\")","v":""},{"$f":"IF(OR('Energy and Water Use'!$E$65=\"\",N48=\"\"),\"\",N48*'Energy and Water Use'!$E$65*1000)","v":""},null,{"$f":"IFERROR(INDEX('Scope and Prelim. Cost Est.'!$P$25:$P$75,SMALL(IF(('Scope and Prelim. Cost Est.'!$F$26:$F$75=\"Yes\")*1=1,ROW('Scope and Prelim. Cost Est.'!$F$26:$F$75)-ROW('Scope and Prelim. Cost Est.'!$F$25)+1),ROWS('Scope and Prelim. Cost Est.'!$F$25:F47))),\"\")","v":""},"",null,"",null,{"$f":"IFERROR(_xlfn.IFS(B48=\"\",\"\",I48=\"multiple\",B48),\"\")","v":""}]
[null,null,{"$f":"IFERROR(INDEX('Scope and Prelim. Cost Est.'!$B$25:$B$75,SMALL(IF(('Scope and Prelim. Cost Est.'!$F$26:$F$75=\"Yes\")*1=1,ROW('Scope and Prelim. Cost Est.'!$F$26:$F$75)-ROW('Scope and Prelim. Cost Est.'!$F$25)+1),ROWS('Scope and Prelim. Cost Est.'!$F$25:F48))),\"\")","v":""},null,null,null,{"$f":"IFERROR(INDEX('Scope and Prelim. Cost Est.'!$Q$25:$Q$75,SMALL(IF(('Scope and Prelim. Cost Est.'!$F$26:$F$75=\"Yes\")*1=1,ROW('Scope and Prelim. Cost Est.'!$F$26:$F$75)-ROW('Scope and Prelim. Cost Est.'!$F$25)+1),ROWS('Scope and Prelim. Cost Est.'!C$25:$F48)))+INDEX('Scope and Prelim. Cost Est.'!$R$25:$R$75,SMALL(IF(('Scope and Prelim. Cost Est.'!$F$26:$F$75=\"Yes\")*1=1,ROW('Scope and Prelim. Cost Est.'!$F$26:$F$75)-ROW('Scope and Prelim. Cost Est.'!$F$25)+1),ROWS('Scope and Prelim. Cost Est.'!C$25:$F48))),\"\")","v":""},null,{"$f":"IFERROR(INDEX('PSS References'!$R$29:$R$38,MATCH(INDEX('Scope and Prelim. Cost Est.'!$U$25:$U$75,SMALL(IF(('Scope and Prelim. Cost Est.'!$F$26:$F$75=\"Yes\")*1=1,ROW('Scope and Prelim. Cost Est.'!$F$26:$F$75)-ROW('Scope and Prelim. Cost Est.'!$F$25)+1),ROWS('Scope and Prelim. Cost Est.'!$F$25:F48))),'PSS References'!$S$29:$S$38,0)),\"\")","v":""},{"$f":"IFERROR(INDEX('Scope and Prelim. Cost Est.'!$S$25:$S$75,SMALL(IF(('Scope and Prelim. Cost Est.'!$F$26:$F$75=\"Yes\")*1=1,ROW('Scope and Prelim. Cost Est.'!$F$26:$F$75)-ROW('Scope and Prelim. Cost Est.'!$F$25)+1),ROWS('Scope and Prelim. Cost Est.'!$F$25:F48)))+INDEX('Scope and Prelim. Cost Est.'!$T$25:$T$75,SMALL(IF(('Scope and Prelim. Cost Est.'!$F$26:$F$75=\"Yes\")*1=1,ROW('Scope and Prelim. Cost Est.'!$F$26:$F$75)-ROW('Scope and Prelim. Cost Est.'!$F$25)+1),ROWS('Scope and Prelim. Cost Est.'!$F$25:F48))),\"\")","v":""},{"$f":"IF(AND(G49=\"\",J49=\"\"),\"\",(G49*'PSS References'!$E$11+J49)/$T$17)","v":""},{"$f":"IFERROR(INDEX('Scope and Prelim. Cost Est.'!$V$25:$V$75,SMALL(IF(('Scope and Prelim. Cost Est.'!$F$26:$F$75=\"Yes\")*1=1,ROW('Scope and Prelim. Cost Est.'!$F$26:$F$75)-ROW('Scope and Prelim. Cost Est.'!$F$25)+1),ROWS('Scope and Prelim. Cost Est.'!$F$25:F48))),\"\")","v":""},"",{"$f":"IFERROR(INDEX('Scope and Prelim. Cost Est.'!$AD$25:$AD$75,SMALL(IF(('Scope and Prelim. Cost Est.'!$F$26:$F$75=\"Yes\")*1=1,ROW('Scope and Prelim. Cost Est.'!$F$26:$F$75)-ROW('Scope and Prelim. Cost Est.'!$F$25)+1),ROWS('Scope and Prelim. Cost Est.'!$F$25:F48))),\"\")","v":""},{"$f":"IF(OR('Energy and Water Use'!$E$65=\"\",N49=\"\"),\"\",N49*'Energy and Water Use'!$E$65*1000)","v":""},null,{"$f":"IFERROR(INDEX('Scope and Prelim. Cost Est.'!$P$25:$P$75,SMALL(IF(('Scope and Prelim. Cost Est.'!$F$26:$F$75=\"Yes\")*1=1,ROW('Scope and Prelim. Cost Est.'!$F$26:$F$75)-ROW('Scope and Prelim. Cost Est.'!$F$25)+1),ROWS('Scope and Prelim. Cost Est.'!$F$25:F48))),\"\")","v":""},"",null,"",null,{"$f":"IFERROR(_xlfn.IFS(B49=\"\",\"\",I49=\"multiple\",B49),\"\")","v":""}]
[null,null,{"$f":"IFERROR(INDEX('Scope and Prelim. Cost Est.'!$B$25:$B$75,SMALL(IF(('Scope and Prelim. Cost Est.'!$F$26:$F$75=\"Yes\")*1=1,ROW('Scope and Prelim. Cost Est.'!$F$26:$F$75)-ROW('Scope and Prelim. Cost Est.'!$F$25)+1),ROWS('Scope and Prelim. Cost Est.'!$F$25:F49))),\"\")","v":""},null,null,null,{"$f":"IFERROR(INDEX('Scope and Prelim. Cost Est.'!$Q$25:$Q$75,SMALL(IF(('Scope and Prelim. Cost Est.'!$F$26:$F$75=\"Yes\")*1=1,ROW('Scope and Prelim. Cost Est.'!$F$26:$F$75)-ROW('Scope and Prelim. Cost Est.'!$F$25)+1),ROWS('Scope and Prelim. Cost Est.'!C$25:$F49)))+INDEX('Scope and Prelim. Cost Est.'!$R$25:$R$75,SMALL(IF(('Scope and Prelim. Cost Est.'!$F$26:$F$75=\"Yes\")*1=1,ROW('Scope and Prelim. Cost Est.'!$F$26:$F$75)-ROW('Scope and Prelim. Cost Est.'!$F$25)+1),ROWS('Scope and Prelim. Cost Est.'!C$25:$F49))),\"\")","v":""},null,{"$f":"IFERROR(INDEX('PSS References'!$R$29:$R$38,MATCH(INDEX('Scope and Prelim. Cost Est.'!$U$25:$U$75,SMALL(IF(('Scope and Prelim. Cost Est.'!$F$26:$F$75=\"Yes\")*1=1,ROW('Scope and Prelim. Cost Est.'!$F$26:$F$75)-ROW('Scope and Prelim. Cost Est.'!$F$25)+1),ROWS('Scope and Prelim. Cost Est.'!$F$25:F49))),'PSS References'!$S$29:$S$38,0)),\"\")","v":""},{"$f":"IFERROR(INDEX('Scope and Prelim. Cost Est.'!$S$25:$S$75,SMALL(IF(('Scope and Prelim. Cost Est.'!$F$26:$F$75=\"Yes\")*1=1,ROW('Scope and Prelim. Cost Est.'!$F$26:$F$75)-ROW('Scope and Prelim. Cost Est.'!$F$25)+1),ROWS('Scope and Prelim. Cost Est.'!$F$25:F49)))+INDEX('Scope and Prelim. Cost Est.'!$T$25:$T$75,SMALL(IF(('Scope and Prelim. Cost Est.'!$F$26:$F$75=\"Yes\")*1=1,ROW('Scope and Prelim. Cost Est.'!$F$26:$F$75)-ROW('Scope and Prelim. Cost Est.'!$F$25)+1),ROWS('Scope and Prelim. Cost Est.'!$F$25:F49))),\"\")","v":""},{"$f":"IF(AND(G50=\"\",J50=\"\"),\"\",(G50*'PSS References'!$E$11+J50)/$T$17)","v":""},{"$f":"IFERROR(INDEX('Scope and Prelim. Cost Est.'!$V$25:$V$75,SMALL(IF(('Scope and Prelim. Cost Est.'!$F$26:$F$75=\"Yes\")*1=1,ROW('Scope and Prelim. Cost Est.'!$F$26:$F$75)-ROW('Scope and Prelim. Cost Est.'!$F$25)+1),ROWS('Scope and Prelim. Cost Est.'!$F$25:F49))),\"\")","v":""},"",{"$f":"IFERROR(INDEX('Scope and Prelim. Cost Est.'!$AD$25:$AD$75,SMALL(IF(('Scope and Prelim. Cost Est.'!$F$26:$F$75=\"Yes\")*1=1,ROW('Scope and Prelim. Cost Est.'!$F$26:$F$75)-ROW('Scope and Prelim. Cost Est.'!$F$25)+1),ROWS('Scope and Prelim. Cost Est.'!$F$25:F49))),\"\")","v":""},{"$f":"IF(OR('Energy and Water Use'!$E$65=\"\",N50=\"\"),\"\",N50*'Energy and Water Use'!$E$65*1000)","v":""},null,{"$f":"IFERROR(INDEX('Scope and Prelim. Cost Est.'!$P$25:$P$75,SMALL(IF(('Scope and Prelim. Cost Est.'!$F$26:$F$75=\"Yes\")*1=1,ROW('Scope and Prelim. Cost Est.'!$F$26:$F$75)-ROW('Scope and Prelim. Cost Est.'!$F$25)+1),ROWS('Scope and Prelim. Cost Est.'!$F$25:F49))),\"\")","v":""},"",null,"",null,{"$f":"IFERROR(_xlfn.IFS(B50=\"\",\"\",I50=\"multiple\",B50),\"\")","v":""}]
[null,null,{"$f":"IFERROR(INDEX('Scope and Prelim. Cost Est.'!$B$25:$B$75,SMALL(IF(('Scope and Prelim. Cost Est.'!$F$26:$F$75=\"Yes\")*1=1,ROW('Scope and Prelim. Cost Est.'!$F$26:$F$75)-ROW('Scope and Prelim. Cost Est.'!$F$25)+1),ROWS('Scope and Prelim. Cost Est.'!$F$25:F50))),\"\")","v":""},null,null,null,{"$f":"IFERROR(INDEX('Scope and Prelim. Cost Est.'!$Q$25:$Q$75,SMALL(IF(('Scope and Prelim. Cost Est.'!$F$26:$F$75=\"Yes\")*1=1,ROW('Scope and Prelim. Cost Est.'!$F$26:$F$75)-ROW('Scope and Prelim. Cost Est.'!$F$25)+1),ROWS('Scope and Prelim. Cost Est.'!C$25:$F50)))+INDEX('Scope and Prelim. Cost Est.'!$R$25:$R$75,SMALL(IF(('Scope and Prelim. Cost Est.'!$F$26:$F$75=\"Yes\")*1=1,ROW('Scope and Prelim. Cost Est.'!$F$26:$F$75)-ROW('Scope and Prelim. Cost Est.'!$F$25)+1),ROWS('Scope and Prelim. Cost Est.'!C$25:$F50))),\"\")","v":""},null,{"$f":"IFERROR(INDEX('PSS References'!$R$29:$R$38,MATCH(INDEX('Scope and Prelim. Cost Est.'!$U$25:$U$75,SMALL(IF(('Scope and Prelim. Cost Est.'!$F$26:$F$75=\"Yes\")*1=1,ROW('Scope and Prelim. Cost Est.'!$F$26:$F$75)-ROW('Scope and Prelim. Cost Est.'!$F$25)+1),ROWS('Scope and Prelim. Cost Est.'!$F$25:F50))),'PSS References'!$S$29:$S$38,0)),\"\")","v":""},{"$f":"IFERROR(INDEX('Scope and Prelim. Cost Est.'!$S$25:$S$75,SMALL(IF(('Scope and Prelim. Cost Est.'!$F$26:$F$75=\"Yes\")*1=1,ROW('Scope and Prelim. Cost Est.'!$F$26:$F$75)-ROW('Scope and Prelim. Cost Est.'!$F$25)+1),ROWS('Scope and Prelim. Cost Est.'!$F$25:F50)))+INDEX('Scope and Prelim. Cost Est.'!$T$25:$T$75,SMALL(IF(('Scope and Prelim. Cost Est.'!$F$26:$F$75=\"Yes\")*1=1,ROW('Scope and Prelim. Cost Est.'!$F$26:$F$75)-ROW('Scope and Prelim. Cost Est.'!$F$25)+1),ROWS('Scope and Prelim. Cost Est.'!$F$25:F50))),\"\")","v":""},{"$f":"IF(AND(G51=\"\",J51=\"\"),\"\",(G51*'PSS References'!$E$11+J51)/$T$17)","v":""},{"$f":"IFERROR(INDEX('Scope and Prelim. Cost Est.'!$V$25:$V$75,SMALL(IF(('Scope and Prelim. Cost Est.'!$F$26:$F$75=\"Yes\")*1=1,ROW('Scope and Prelim. Cost Est.'!$F$26:$F$75)-ROW('Scope and Prelim. Cost Est.'!$F$25)+1),ROWS('Scope and Prelim. Cost Est.'!$F$25:F50))),\"\")","v":""},"",{"$f":"IFERROR(INDEX('Scope and Prelim. Cost Est.'!$AD$25:$AD$75,SMALL(IF(('Scope and Prelim. Cost Est.'!$F$26:$F$75=\"Yes\")*1=1,ROW('Scope and Prelim. Cost Est.'!$F$26:$F$75)-ROW('Scope and Prelim. Cost Est.'!$F$25)+1),ROWS('Scope and Prelim. Cost Est.'!$F$25:F50))),\"\")","v":""},{"$f":"IF(OR('Energy and Water Use'!$E$65=\"\",N51=\"\"),\"\",N51*'Energy and Water Use'!$E$65*1000)","v":""},null,{"$f":"IFERROR(INDEX('Scope and Prelim. Cost Est.'!$P$25:$P$75,SMALL(IF(('Scope and Prelim. Cost Est.'!$F$26:$F$75=\"Yes\")*1=1,ROW('Scope and Prelim. Cost Est.'!$F$26:$F$75)-ROW('Scope and Prelim. Cost Est.'!$F$25)+1),ROWS('Scope and Prelim. Cost Est.'!$F$25:F50))),\"\")","v":""},"",null,"",null,{"$f":"IFERROR(_xlfn.IFS(B51=\"\",\"\",I51=\"multiple\",B51),\"\")","v":""}]
[null,null,{"$f":"IFERROR(INDEX('Scope and Prelim. Cost Est.'!$B$25:$B$75,SMALL(IF(('Scope and Prelim. Cost Est.'!$F$26:$F$75=\"Yes\")*1=1,ROW('Scope and Prelim. Cost Est.'!$F$26:$F$75)-ROW('Scope and Prelim. Cost Est.'!$F$25)+1),ROWS('Scope and Prelim. Cost Est.'!$F$25:F51))),\"\")","v":""},null,null,null,{"$f":"IFERROR(INDEX('Scope and Prelim. Cost Est.'!$Q$25:$Q$75,SMALL(IF(('Scope and Prelim. Cost Est.'!$F$26:$F$75=\"Yes\")*1=1,ROW('Scope and Prelim. Cost Est.'!$F$26:$F$75)-ROW('Scope and Prelim. Cost Est.'!$F$25)+1),ROWS('Scope and Prelim. Cost Est.'!C$25:$F51)))+INDEX('Scope and Prelim. Cost Est.'!$R$25:$R$75,SMALL(IF(('Scope and Prelim. Cost Est.'!$F$26:$F$75=\"Yes\")*1=1,ROW('Scope and Prelim. Cost Est.'!$F$26:$F$75)-ROW('Scope and Prelim. Cost Est.'!$F$25)+1),ROWS('Scope and Prelim. Cost Est.'!C$25:$F51))),\"\")","v":""},null,{"$f":"IFERROR(INDEX('PSS References'!$R$29:$R$38,MATCH(INDEX('Scope and Prelim. Cost Est.'!$U$25:$U$75,SMALL(IF(('Scope and Prelim. Cost Est.'!$F$26:$F$75=\"Yes\")*1=1,ROW('Scope and Prelim. Cost Est.'!$F$26:$F$75)-ROW('Scope and Prelim. Cost Est.'!$F$25)+1),ROWS('Scope and Prelim. Cost Est.'!$F$25:F51))),'PSS References'!$S$29:$S$38,0)),\"\")","v":""},{"$f":"IFERROR(INDEX('Scope and Prelim. Cost Est.'!$S$25:$S$75,SMALL(IF(('Scope and Prelim. Cost Est.'!$F$26:$F$75=\"Yes\")*1=1,ROW('Scope and Prelim. Cost Est.'!$F$26:$F$75)-ROW('Scope and Prelim. Cost Est.'!$F$25)+1),ROWS('Scope and Prelim. Cost Est.'!$F$25:F51)))+INDEX('Scope and Prelim. Cost Est.'!$T$25:$T$75,SMALL(IF(('Scope and Prelim. Cost Est.'!$F$26:$F$75=\"Yes\")*1=1,ROW('Scope and Prelim. Cost Est.'!$F$26:$F$75)-ROW('Scope and Prelim. Cost Est.'!$F$25)+1),ROWS('Scope and Prelim. Cost Est.'!$F$25:F51))),\"\")","v":""},{"$f":"IF(AND(G52=\"\",J52=\"\"),\"\",(G52*'PSS References'!$E$11+J52)/$T$17)","v":""},{"$f":"IFERROR(INDEX('Scope and Prelim. Cost Est.'!$V$25:$V$75,SMALL(IF(('Scope and Prelim. Cost Est.'!$F$26:$F$75=\"Yes\")*1=1,ROW('Scope and Prelim. Cost Est.'!$F$26:$F$75)-ROW('Scope and Prelim. Cost Est.'!$F$25)+1),ROWS('Scope and Prelim. Cost Est.'!$F$25:F51))),\"\")","v":""},"",{"$f":"IFERROR(INDEX('Scope and Prelim. Cost Est.'!$AD$25:$AD$75,SMALL(IF(('Scope and Prelim. Cost Est.'!$F$26:$F$75=\"Yes\")*1=1,ROW('Scope and Prelim. Cost Est.'!$F$26:$F$75)-ROW('Scope and Prelim. Cost Est.'!$F$25)+1),ROWS('Scope and Prelim. Cost Est.'!$F$25:F51))),\"\")","v":""},{"$f":"IF(OR('Energy and Water Use'!$E$65=\"\",N52=\"\"),\"\",N52*'Energy and Water Use'!$E$65*1000)","v":""},null,{"$f":"IFERROR(INDEX('Scope and Prelim. Cost Est.'!$P$25:$P$75,SMALL(IF(('Scope and Prelim. Cost Est.'!$F$26:$F$75=\"Yes\")*1=1,ROW('Scope and Prelim. Cost Est.'!$F$26:$F$75)-ROW('Scope and Prelim. Cost Est.'!$F$25)+1),ROWS('Scope and Prelim. Cost Est.'!$F$25:F51))),\"\")","v":""},"",null,"",null,{"$f":"IFERROR(_xlfn.IFS(B52=\"\",\"\",I52=\"multiple\",B52),\"\")","v":""}]
[null,null,{"$f":"IFERROR(INDEX('Scope and Prelim. Cost Est.'!$B$25:$B$75,SMALL(IF(('Scope and Prelim. Cost Est.'!$F$26:$F$75=\"Yes\")*1=1,ROW('Scope and Prelim. Cost Est.'!$F$26:$F$75)-ROW('Scope and Prelim. Cost Est.'!$F$25)+1),ROWS('Scope and Prelim. Cost Est.'!$F$25:F52))),\"\")","v":""},null,null,null,{"$f":"IFERROR(INDEX('Scope and Prelim. Cost Est.'!$Q$25:$Q$75,SMALL(IF(('Scope and Prelim. Cost Est.'!$F$26:$F$75=\"Yes\")*1=1,ROW('Scope and Prelim. Cost Est.'!$F$26:$F$75)-ROW('Scope and Prelim. Cost Est.'!$F$25)+1),ROWS('Scope and Prelim. Cost Est.'!C$25:$F52)))+INDEX('Scope and Prelim. Cost Est.'!$R$25:$R$75,SMALL(IF(('Scope and Prelim. Cost Est.'!$F$26:$F$75=\"Yes\")*1=1,ROW('Scope and Prelim. Cost Est.'!$F$26:$F$75)-ROW('Scope and Prelim. Cost Est.'!$F$25)+1),ROWS('Scope and Prelim. Cost Est.'!C$25:$F52))),\"\")","v":""},null,{"$f":"IFERROR(INDEX('PSS References'!$R$29:$R$38,MATCH(INDEX('Scope and Prelim. Cost Est.'!$U$25:$U$75,SMALL(IF(('Scope and Prelim. Cost Est.'!$F$26:$F$75=\"Yes\")*1=1,ROW('Scope and Prelim. Cost Est.'!$F$26:$F$75)-ROW('Scope and Prelim. Cost Est.'!$F$25)+1),ROWS('Scope and Prelim. Cost Est.'!$F$25:F52))),'PSS References'!$S$29:$S$38,0)),\"\")","v":""},{"$f":"IFERROR(INDEX('Scope and Prelim. Cost Est.'!$S$25:$S$75,SMALL(IF(('Scope and Prelim. Cost Est.'!$F$26:$F$75=\"Yes\")*1=1,ROW('Scope and Prelim. Cost Est.'!$F$26:$F$75)-ROW('Scope and Prelim. Cost Est.'!$F$25)+1),ROWS('Scope and Prelim. Cost Est.'!$F$25:F52)))+INDEX('Scope and Prelim. Cost Est.'!$T$25:$T$75,SMALL(IF(('Scope and Prelim. Cost Est.'!$F$26:$F$75=\"Yes\")*1=1,ROW('Scope and Prelim. Cost Est.'!$F$26:$F$75)-ROW('Scope and Prelim. Cost Est.'!$F$25)+1),ROWS('Scope and Prelim. Cost Est.'!$F$25:F52))),\"\")","v":""},{"$f":"IF(AND(G53=\"\",J53=\"\"),\"\",(G53*'PSS References'!$E$11+J53)/$T$17)","v":""},{"$f":"IFERROR(INDEX('Scope and Prelim. Cost Est.'!$V$25:$V$75,SMALL(IF(('Scope and Prelim. Cost Est.'!$F$26:$F$75=\"Yes\")*1=1,ROW('Scope and Prelim. Cost Est.'!$F$26:$F$75)-ROW('Scope and Prelim. Cost Est.'!$F$25)+1),ROWS('Scope and Prelim. Cost Est.'!$F$25:F52))),\"\")","v":""},"",{"$f":"IFERROR(INDEX('Scope and Prelim. Cost Est.'!$AD$25:$AD$75,SMALL(IF(('Scope and Prelim. Cost Est.'!$F$26:$F$75=\"Yes\")*1=1,ROW('Scope and Prelim. Cost Est.'!$F$26:$F$75)-ROW('Scope and Prelim. Cost Est.'!$F$25)+1),ROWS('Scope and Prelim. Cost Est.'!$F$25:F52))),\"\")","v":""},{"$f":"IF(OR('Energy and Water Use'!$E$65=\"\",N53=\"\"),\"\",N53*'Energy and Water Use'!$E$65*1000)","v":""},null,{"$f":"IFERROR(INDEX('Scope and Prelim. Cost Est.'!$P$25:$P$75,SMALL(IF(('Scope and Prelim. Cost Est.'!$F$26:$F$75=\"Yes\")*1=1,ROW('Scope and Prelim. Cost Est.'!$F$26:$F$75)-ROW('Scope and Prelim. Cost Est.'!$F$25)+1),ROWS('Scope and Prelim. Cost Est.'!$F$25:F52))),\"\")","v":""},"",null,"",null,{"$f":"IFERROR(_xlfn.IFS(B53=\"\",\"\",I53=\"multiple\",B53),\"\")","v":""}]
[null,null,{"$f":"IFERROR(INDEX('Scope and Prelim. Cost Est.'!$B$25:$B$75,SMALL(IF(('Scope and Prelim. Cost Est.'!$F$26:$F$75=\"Yes\")*1=1,ROW('Scope and Prelim. Cost Est.'!$F$26:$F$75)-ROW('Scope and Prelim. Cost Est.'!$F$25)+1),ROWS('Scope and Prelim. Cost Est.'!$F$25:F53))),\"\")","v":""},null,null,null,{"$f":"IFERROR(INDEX('Scope and Prelim. Cost Est.'!$Q$25:$Q$75,SMALL(IF(('Scope and Prelim. Cost Est.'!$F$26:$F$75=\"Yes\")*1=1,ROW('Scope and Prelim. Cost Est.'!$F$26:$F$75)-ROW('Scope and Prelim. Cost Est.'!$F$25)+1),ROWS('Scope and Prelim. Cost Est.'!C$25:$F53)))+INDEX('Scope and Prelim. Cost Est.'!$R$25:$R$75,SMALL(IF(('Scope and Prelim. Cost Est.'!$F$26:$F$75=\"Yes\")*1=1,ROW('Scope and Prelim. Cost Est.'!$F$26:$F$75)-ROW('Scope and Prelim. Cost Est.'!$F$25)+1),ROWS('Scope and Prelim. Cost Est.'!C$25:$F53))),\"\")","v":""},null,{"$f":"IFERROR(INDEX('PSS References'!$R$29:$R$38,MATCH(INDEX('Scope and Prelim. Cost Est.'!$U$25:$U$75,SMALL(IF(('Scope and Prelim. Cost Est.'!$F$26:$F$75=\"Yes\")*1=1,ROW('Scope and Prelim. Cost Est.'!$F$26:$F$75)-ROW('Scope and Prelim. Cost Est.'!$F$25)+1),ROWS('Scope and Prelim. Cost Est.'!$F$25:F53))),'PSS References'!$S$29:$S$38,0)),\"\")","v":""},{"$f":"IFERROR(INDEX('Scope and Prelim. Cost Est.'!$S$25:$S$75,SMALL(IF(('Scope and Prelim. Cost Est.'!$F$26:$F$75=\"Yes\")*1=1,ROW('Scope and Prelim. Cost Est.'!$F$26:$F$75)-ROW('Scope and Prelim. Cost Est.'!$F$25)+1),ROWS('Scope and Prelim. Cost Est.'!$F$25:F53)))+INDEX('Scope and Prelim. Cost Est.'!$T$25:$T$75,SMALL(IF(('Scope and Prelim. Cost Est.'!$F$26:$F$75=\"Yes\")*1=1,ROW('Scope and Prelim. Cost Est.'!$F$26:$F$75)-ROW('Scope and Prelim. Cost Est.'!$F$25)+1),ROWS('Scope and Prelim. Cost Est.'!$F$25:F53))),\"\")","v":""},{"$f":"IF(AND(G54=\"\",J54=\"\"),\"\",(G54*'PSS References'!$E$11+J54)/$T$17)","v":""},{"$f":"IFERROR(INDEX('Scope and Prelim. Cost Est.'!$V$25:$V$75,SMALL(IF(('Scope and Prelim. Cost Est.'!$F$26:$F$75=\"Yes\")*1=1,ROW('Scope and Prelim. Cost Est.'!$F$26:$F$75)-ROW('Scope and Prelim. Cost Est.'!$F$25)+1),ROWS('Scope and Prelim. Cost Est.'!$F$25:F53))),\"\")","v":""},"",{"$f":"IFERROR(INDEX('Scope and Prelim. Cost Est.'!$AD$25:$AD$75,SMALL(IF(('Scope and Prelim. Cost Est.'!$F$26:$F$75=\"Yes\")*1=1,ROW('Scope and Prelim. Cost Est.'!$F$26:$F$75)-ROW('Scope and Prelim. Cost Est.'!$F$25)+1),ROWS('Scope and Prelim. Cost Est.'!$F$25:F53))),\"\")","v":""},{"$f":"IF(OR('Energy and Water Use'!$E$65=\"\",N54=\"\"),\"\",N54*'Energy and Water Use'!$E$65*1000)","v":""},null,{"$f":"IFERROR(INDEX('Scope and Prelim. Cost Est.'!$P$25:$P$75,SMALL(IF(('Scope and Prelim. Cost Est.'!$F$26:$F$75=\"Yes\")*1=1,ROW('Scope and Prelim. Cost Est.'!$F$26:$F$75)-ROW('Scope and Prelim. Cost Est.'!$F$25)+1),ROWS('Scope and Prelim. Cost Est.'!$F$25:F53))),\"\")","v":""},"",null,"",null,{"$f":"IFERROR(_xlfn.IFS(B54=\"\",\"\",I54=\"multiple\",B54),\"\")","v":""}]
[null,null,{"$f":"IFERROR(INDEX('Scope and Prelim. Cost Est.'!$B$25:$B$75,SMALL(IF(('Scope and Prelim. Cost Est.'!$F$26:$F$75=\"Yes\")*1=1,ROW('Scope and Prelim. Cost Est.'!$F$26:$F$75)-ROW('Scope and Prelim. Cost Est.'!$F$25)+1),ROWS('Scope and Prelim. Cost Est.'!$F$25:F54))),\"\")","v":""},null,null,null,{"$f":"IFERROR(INDEX('Scope and Prelim. Cost Est.'!$Q$25:$Q$75,SMALL(IF(('Scope and Prelim. Cost Est.'!$F$26:$F$75=\"Yes\")*1=1,ROW('Scope and Prelim. Cost Est.'!$F$26:$F$75)-ROW('Scope and Prelim. Cost Est.'!$F$25)+1),ROWS('Scope and Prelim. Cost Est.'!C$25:$F54)))+INDEX('Scope and Prelim. Cost Est.'!$R$25:$R$75,SMALL(IF(('Scope and Prelim. Cost Est.'!$F$26:$F$75=\"Yes\")*1=1,ROW('Scope and Prelim. Cost Est.'!$F$26:$F$75)-ROW('Scope and Prelim. Cost Est.'!$F$25)+1),ROWS('Scope and Prelim. Cost Est.'!C$25:$F54))),\"\")","v":""},null,{"$f":"IFERROR(INDEX('PSS References'!$R$29:$R$38,MATCH(INDEX('Scope and Prelim. Cost Est.'!$U$25:$U$75,SMALL(IF(('Scope and Prelim. Cost Est.'!$F$26:$F$75=\"Yes\")*1=1,ROW('Scope and Prelim. Cost Est.'!$F$26:$F$75)-ROW('Scope and Prelim. Cost Est.'!$F$25)+1),ROWS('Scope and Prelim. Cost Est.'!$F$25:F54))),'PSS References'!$S$29:$S$38,0)),\"\")","v":""},{"$f":"IFERROR(INDEX('Scope and Prelim. Cost Est.'!$S$25:$S$75,SMALL(IF(('Scope and Prelim. Cost Est.'!$F$26:$F$75=\"Yes\")*1=1,ROW('Scope and Prelim. Cost Est.'!$F$26:$F$75)-ROW('Scope and Prelim. Cost Est.'!$F$25)+1),ROWS('Scope and Prelim. Cost Est.'!$F$25:F54)))+INDEX('Scope and Prelim. Cost Est.'!$T$25:$T$75,SMALL(IF(('Scope and Prelim. Cost Est.'!$F$26:$F$75=\"Yes\")*1=1,ROW('Scope and Prelim. Cost Est.'!$F$26:$F$75)-ROW('Scope and Prelim. Cost Est.'!$F$25)+1),ROWS('Scope and Prelim. Cost Est.'!$F$25:F54))),\"\")","v":""},{"$f":"IF(AND(G55=\"\",J55=\"\"),\"\",(G55*'PSS References'!$E$11+J55)/$T$17)","v":""},{"$f":"IFERROR(INDEX('Scope and Prelim. Cost Est.'!$V$25:$V$75,SMALL(IF(('Scope and Prelim. Cost Est.'!$F$26:$F$75=\"Yes\")*1=1,ROW('Scope and Prelim. Cost Est.'!$F$26:$F$75)-ROW('Scope and Prelim. Cost Est.'!$F$25)+1),ROWS('Scope and Prelim. Cost Est.'!$F$25:F54))),\"\")","v":""},"",{"$f":"IFERROR(INDEX('Scope and Prelim. Cost Est.'!$AD$25:$AD$75,SMALL(IF(('Scope and Prelim. Cost Est.'!$F$26:$F$75=\"Yes\")*1=1,ROW('Scope and Prelim. Cost Est.'!$F$26:$F$75)-ROW('Scope and Prelim. Cost Est.'!$F$25)+1),ROWS('Scope and Prelim. Cost Est.'!$F$25:F54))),\"\")","v":""},{"$f":"IF(OR('Energy and Water Use'!$E$65=\"\",N55=\"\"),\"\",N55*'Energy and Water Use'!$E$65*1000)","v":""},null,{"$f":"IFERROR(INDEX('Scope and Prelim. Cost Est.'!$P$25:$P$75,SMALL(IF(('Scope and Prelim. Cost Est.'!$F$26:$F$75=\"Yes\")*1=1,ROW('Scope and Prelim. Cost Est.'!$F$26:$F$75)-ROW('Scope and Prelim. Cost Est.'!$F$25)+1),ROWS('Scope and Prelim. Cost Est.'!$F$25:F54))),\"\")","v":""},"",null,"",null,{"$f":"IFERROR(_xlfn.IFS(B55=\"\",\"\",I55=\"multiple\",B55),\"\")","v":""}]
[null,null,{"$f":"IFERROR(INDEX('Scope and Prelim. Cost Est.'!$B$25:$B$75,SMALL(IF(('Scope and Prelim. Cost Est.'!$F$26:$F$75=\"Yes\")*1=1,ROW('Scope and Prelim. Cost Est.'!$F$26:$F$75)-ROW('Scope and Prelim. Cost Est.'!$F$25)+1),ROWS('Scope and Prelim. Cost Est.'!$F$25:F55))),\"\")","v":""},null,null,null,{"$f":"IFERROR(INDEX('Scope and Prelim. Cost Est.'!$Q$25:$Q$75,SMALL(IF(('Scope and Prelim. Cost Est.'!$F$26:$F$75=\"Yes\")*1=1,ROW('Scope and Prelim. Cost Est.'!$F$26:$F$75)-ROW('Scope and Prelim. Cost Est.'!$F$25)+1),ROWS('Scope and Prelim. Cost Est.'!C$25:$F55)))+INDEX('Scope and Prelim. Cost Est.'!$R$25:$R$75,SMALL(IF(('Scope and Prelim. Cost Est.'!$F$26:$F$75=\"Yes\")*1=1,ROW('Scope and Prelim. Cost Est.'!$F$26:$F$75)-ROW('Scope and Prelim. Cost Est.'!$F$25)+1),ROWS('Scope and Prelim. Cost Est.'!C$25:$F55))),\"\")","v":""},null,{"$f":"IFERROR(INDEX('PSS References'!$R$29:$R$38,MATCH(INDEX('Scope and Prelim. Cost Est.'!$U$25:$U$75,SMALL(IF(('Scope and Prelim. Cost Est.'!$F$26:$F$75=\"Yes\")*1=1,ROW('Scope and Prelim. Cost Est.'!$F$26:$F$75)-ROW('Scope and Prelim. Cost Est.'!$F$25)+1),ROWS('Scope and Prelim. Cost Est.'!$F$25:F55))),'PSS References'!$S$29:$S$38,0)),\"\")","v":""},{"$f":"IFERROR(INDEX('Scope and Prelim. Cost Est.'!$S$25:$S$75,SMALL(IF(('Scope and Prelim. Cost Est.'!$F$26:$F$75=\"Yes\")*1=1,ROW('Scope and Prelim. Cost Est.'!$F$26:$F$75)-ROW('Scope and Prelim. Cost Est.'!$F$25)+1),ROWS('Scope and Prelim. Cost Est.'!$F$25:F55)))+INDEX('Scope and Prelim. Cost Est.'!$T$25:$T$75,SMALL(IF(('Scope and Prelim. Cost Est.'!$F$26:$F$75=\"Yes\")*1=1,ROW('Scope and Prelim. Cost Est.'!$F$26:$F$75)-ROW('Scope and Prelim. Cost Est.'!$F$25)+1),ROWS('Scope and Prelim. Cost Est.'!$F$25:F55))),\"\")","v":""},{"$f":"IF(AND(G56=\"\",J56=\"\"),\"\",(G56*'PSS References'!$E$11+J56)/$T$17)","v":""},{"$f":"IFERROR(INDEX('Scope and Prelim. Cost Est.'!$V$25:$V$75,SMALL(IF(('Scope and Prelim. Cost Est.'!$F$26:$F$75=\"Yes\")*1=1,ROW('Scope and Prelim. Cost Est.'!$F$26:$F$75)-ROW('Scope and Prelim. Cost Est.'!$F$25)+1),ROWS('Scope and Prelim. Cost Est.'!$F$25:F55))),\"\")","v":""},"",{"$f":"IFERROR(INDEX('Scope and Prelim. Cost Est.'!$AD$25:$AD$75,SMALL(IF(('Scope and Prelim. Cost Est.'!$F$26:$F$75=\"Yes\")*1=1,ROW('Scope and Prelim. Cost Est.'!$F$26:$F$75)-ROW('Scope and Prelim. Cost Est.'!$F$25)+1),ROWS('Scope and Prelim. Cost Est.'!$F$25:F55))),\"\")","v":""},{"$f":"IF(OR('Energy and Water Use'!$E$65=\"\",N56=\"\"),\"\",N56*'Energy and Water Use'!$E$65*1000)","v":""},null,{"$f":"IFERROR(INDEX('Scope and Prelim. Cost Est.'!$P$25:$P$75,SMALL(IF(('Scope and Prelim. Cost Est.'!$F$26:$F$75=\"Yes\")*1=1,ROW('Scope and Prelim. Cost Est.'!$F$26:$F$75)-ROW('Scope and Prelim. Cost Est.'!$F$25)+1),ROWS('Scope and Prelim. Cost Est.'!$F$25:F55))),\"\")","v":""},"",null,"",null,{"$f":"IFERROR(_xlfn.IFS(B56=\"\",\"\",I56=\"multiple\",B56),\"\")","v":""}]
[null,null,{"$f":"IFERROR(INDEX('Scope and Prelim. Cost Est.'!$B$25:$B$75,SMALL(IF(('Scope and Prelim. Cost Est.'!$F$26:$F$75=\"Yes\")*1=1,ROW('Scope and Prelim. Cost Est.'!$F$26:$F$75)-ROW('Scope and Prelim. Cost Est.'!$F$25)+1),ROWS('Scope and Prelim. Cost Est.'!$F$25:F56))),\"\")","v":""},null,null,null,{"$f":"IFERROR(INDEX('Scope and Prelim. Cost Est.'!$Q$25:$Q$75,SMALL(IF(('Scope and Prelim. Cost Est.'!$F$26:$F$75=\"Yes\")*1=1,ROW('Scope and Prelim. Cost Est.'!$F$26:$F$75)-ROW('Scope and Prelim. Cost Est.'!$F$25)+1),ROWS('Scope and Prelim. Cost Est.'!C$25:$F56)))+INDEX('Scope and Prelim. Cost Est.'!$R$25:$R$75,SMALL(IF(('Scope and Prelim. Cost Est.'!$F$26:$F$75=\"Yes\")*1=1,ROW('Scope and Prelim. Cost Est.'!$F$26:$F$75)-ROW('Scope and Prelim. Cost Est.'!$F$25)+1),ROWS('Scope and Prelim. Cost Est.'!C$25:$F56))),\"\")","v":""},null,{"$f":"IFERROR(INDEX('PSS References'!$R$29:$R$38,MATCH(INDEX('Scope and Prelim. Cost Est.'!$U$25:$U$75,SMALL(IF(('Scope and Prelim. Cost Est.'!$F$26:$F$75=\"Yes\")*1=1,ROW('Scope and Prelim. Cost Est.'!$F$26:$F$75)-ROW('Scope and Prelim. Cost Est.'!$F$25)+1),ROWS('Scope and Prelim. Cost Est.'!$F$25:F56))),'PSS References'!$S$29:$S$38,0)),\"\")","v":""},{"$f":"IFERROR(INDEX('Scope and Prelim. Cost Est.'!$S$25:$S$75,SMALL(IF(('Scope and Prelim. Cost Est.'!$F$26:$F$75=\"Yes\")*1=1,ROW('Scope and Prelim. Cost Est.'!$F$26:$F$75)-ROW('Scope and Prelim. Cost Est.'!$F$25)+1),ROWS('Scope and Prelim. Cost Est.'!$F$25:F56)))+INDEX('Scope and Prelim. Cost Est.'!$T$25:$T$75,SMALL(IF(('Scope and Prelim. Cost Est.'!$F$26:$F$75=\"Yes\")*1=1,ROW('Scope and Prelim. Cost Est.'!$F$26:$F$75)-ROW('Scope and Prelim. Cost Est.'!$F$25)+1),ROWS('Scope and Prelim. Cost Est.'!$F$25:F56))),\"\")","v":""},{"$f":"IF(AND(G57=\"\",J57=\"\"),\"\",(G57*'PSS References'!$E$11+J57)/$T$17)","v":""},{"$f":"IFERROR(INDEX('Scope and Prelim. Cost Est.'!$V$25:$V$75,SMALL(IF(('Scope and Prelim. Cost Est.'!$F$26:$F$75=\"Yes\")*1=1,ROW('Scope and Prelim. Cost Est.'!$F$26:$F$75)-ROW('Scope and Prelim. Cost Est.'!$F$25)+1),ROWS('Scope and Prelim. Cost Est.'!$F$25:F56))),\"\")","v":""},"",{"$f":"IFERROR(INDEX('Scope and Prelim. Cost Est.'!$AD$25:$AD$75,SMALL(IF(('Scope and Prelim. Cost Est.'!$F$26:$F$75=\"Yes\")*1=1,ROW('Scope and Prelim. Cost Est.'!$F$26:$F$75)-ROW('Scope and Prelim. Cost Est.'!$F$25)+1),ROWS('Scope and Prelim. Cost Est.'!$F$25:F56))),\"\")","v":""},{"$f":"IF(OR('Energy and Water Use'!$E$65=\"\",N57=\"\"),\"\",N57*'Energy and Water Use'!$E$65*1000)","v":""},null,{"$f":"IFERROR(INDEX('Scope and Prelim. Cost Est.'!$P$25:$P$75,SMALL(IF(('Scope and Prelim. Cost Est.'!$F$26:$F$75=\"Yes\")*1=1,ROW('Scope and Prelim. Cost Est.'!$F$26:$F$75)-ROW('Scope and Prelim. Cost Est.'!$F$25)+1),ROWS('Scope and Prelim. Cost Est.'!$F$25:F56))),\"\")","v":""},"",null,"",null,{"$f":"IFERROR(_xlfn.IFS(B57=\"\",\"\",I57=\"multiple\",B57),\"\")","v":""}]
[null,null,{"$f":"IFERROR(INDEX('Scope and Prelim. Cost Est.'!$B$25:$B$75,SMALL(IF(('Scope and Prelim. Cost Est.'!$F$26:$F$75=\"Yes\")*1=1,ROW('Scope and Prelim. Cost Est.'!$F$26:$F$75)-ROW('Scope and Prelim. Cost Est.'!$F$25)+1),ROWS('Scope and Prelim. Cost Est.'!$F$25:F57))),\"\")","v":""},null,null,null,{"$f":"IFERROR(INDEX('Scope and Prelim. Cost Est.'!$Q$25:$Q$75,SMALL(IF(('Scope and Prelim. Cost Est.'!$F$26:$F$75=\"Yes\")*1=1,ROW('Scope and Prelim. Cost Est.'!$F$26:$F$75)-ROW('Scope and Prelim. Cost Est.'!$F$25)+1),ROWS('Scope and Prelim. Cost Est.'!C$25:$F57)))+INDEX('Scope and Prelim. Cost Est.'!$R$25:$R$75,SMALL(IF(('Scope and Prelim. Cost Est.'!$F$26:$F$75=\"Yes\")*1=1,ROW('Scope and Prelim. Cost Est.'!$F$26:$F$75)-ROW('Scope and Prelim. Cost Est.'!$F$25)+1),ROWS('Scope and Prelim. Cost Est.'!C$25:$F57))),\"\")","v":""},null,{"$f":"IFERROR(INDEX('PSS References'!$R$29:$R$38,MATCH(INDEX('Scope and Prelim. Cost Est.'!$U$25:$U$75,SMALL(IF(('Scope and Prelim. Cost Est.'!$F$26:$F$75=\"Yes\")*1=1,ROW('Scope and Prelim. Cost Est.'!$F$26:$F$75)-ROW('Scope and Prelim. Cost Est.'!$F$25)+1),ROWS('Scope and Prelim. Cost Est.'!$F$25:F57))),'PSS References'!$S$29:$S$38,0)),\"\")","v":""},{"$f":"IFERROR(INDEX('Scope and Prelim. Cost Est.'!$S$25:$S$75,SMALL(IF(('Scope and Prelim. Cost Est.'!$F$26:$F$75=\"Yes\")*1=1,ROW('Scope and Prelim. Cost Est.'!$F$26:$F$75)-ROW('Scope and Prelim. Cost Est.'!$F$25)+1),ROWS('Scope and Prelim. Cost Est.'!$F$25:F57)))+INDEX('Scope and Prelim. Cost Est.'!$T$25:$T$75,SMALL(IF(('Scope and Prelim. Cost Est.'!$F$26:$F$75=\"Yes\")*1=1,ROW('Scope and Prelim. Cost Est.'!$F$26:$F$75)-ROW('Scope and Prelim. Cost Est.'!$F$25)+1),ROWS('Scope and Prelim. Cost Est.'!$F$25:F57))),\"\")","v":""},{"$f":"IF(AND(G58=\"\",J58=\"\"),\"\",(G58*'PSS References'!$E$11+J58)/$T$17)","v":""},{"$f":"IFERROR(INDEX('Scope and Prelim. Cost Est.'!$V$25:$V$75,SMALL(IF(('Scope and Prelim. Cost Est.'!$F$26:$F$75=\"Yes\")*1=1,ROW('Scope and Prelim. Cost Est.'!$F$26:$F$75)-ROW('Scope and Prelim. Cost Est.'!$F$25)+1),ROWS('Scope and Prelim. Cost Est.'!$F$25:F57))),\"\")","v":""},"",{"$f":"IFERROR(INDEX('Scope and Prelim. Cost Est.'!$AD$25:$AD$75,SMALL(IF(('Scope and Prelim. Cost Est.'!$F$26:$F$75=\"Yes\")*1=1,ROW('Scope and Prelim. Cost Est.'!$F$26:$F$75)-ROW('Scope and Prelim. Cost Est.'!$F$25)+1),ROWS('Scope and Prelim. Cost Est.'!$F$25:F57))),\"\")","v":""},{"$f":"IF(OR('Energy and Water Use'!$E$65=\"\",N58=\"\"),\"\",N58*'Energy and Water Use'!$E$65*1000)","v":""},null,{"$f":"IFERROR(INDEX('Scope and Prelim. Cost Est.'!$P$25:$P$75,SMALL(IF(('Scope and Prelim. Cost Est.'!$F$26:$F$75=\"Yes\")*1=1,ROW('Scope and Prelim. Cost Est.'!$F$26:$F$75)-ROW('Scope and Prelim. Cost Est.'!$F$25)+1),ROWS('Scope and Prelim. Cost Est.'!$F$25:F57))),\"\")","v":""},"",null,"",null,{"$f":"IFERROR(_xlfn.IFS(B58=\"\",\"\",I58=\"multiple\",B58),\"\")","v":""}]
[null,null,{"$f":"IFERROR(INDEX('Scope and Prelim. Cost Est.'!$B$25:$B$75,SMALL(IF(('Scope and Prelim. Cost Est.'!$F$26:$F$75=\"Yes\")*1=1,ROW('Scope and Prelim. Cost Est.'!$F$26:$F$75)-ROW('Scope and Prelim. Cost Est.'!$F$25)+1),ROWS('Scope and Prelim. Cost Est.'!$F$25:F58))),\"\")","v":""},null,null,null,{"$f":"IFERROR(INDEX('Scope and Prelim. Cost Est.'!$Q$25:$Q$75,SMALL(IF(('Scope and Prelim. Cost Est.'!$F$26:$F$75=\"Yes\")*1=1,ROW('Scope and Prelim. Cost Est.'!$F$26:$F$75)-ROW('Scope and Prelim. Cost Est.'!$F$25)+1),ROWS('Scope and Prelim. Cost Est.'!C$25:$F58)))+INDEX('Scope and Prelim. Cost Est.'!$R$25:$R$75,SMALL(IF(('Scope and Prelim. Cost Est.'!$F$26:$F$75=\"Yes\")*1=1,ROW('Scope and Prelim. Cost Est.'!$F$26:$F$75)-ROW('Scope and Prelim. Cost Est.'!$F$25)+1),ROWS('Scope and Prelim. Cost Est.'!C$25:$F58))),\"\")","v":""},null,{"$f":"IFERROR(INDEX('PSS References'!$R$29:$R$38,MATCH(INDEX('Scope and Prelim. Cost Est.'!$U$25:$U$75,SMALL(IF(('Scope and Prelim. Cost Est.'!$F$26:$F$75=\"Yes\")*1=1,ROW('Scope and Prelim. Cost Est.'!$F$26:$F$75)-ROW('Scope and Prelim. Cost Est.'!$F$25)+1),ROWS('Scope and Prelim. Cost Est.'!$F$25:F58))),'PSS References'!$S$29:$S$38,0)),\"\")","v":""},{"$f":"IFERROR(INDEX('Scope and Prelim. Cost Est.'!$S$25:$S$75,SMALL(IF(('Scope and Prelim. Cost Est.'!$F$26:$F$75=\"Yes\")*1=1,ROW('Scope and Prelim. Cost Est.'!$F$26:$F$75)-ROW('Scope and Prelim. Cost Est.'!$F$25)+1),ROWS('Scope and Prelim. Cost Est.'!$F$25:F58)))+INDEX('Scope and Prelim. Cost Est.'!$T$25:$T$75,SMALL(IF(('Scope and Prelim. Cost Est.'!$F$26:$F$75=\"Yes\")*1=1,ROW('Scope and Prelim. Cost Est.'!$F$26:$F$75)-ROW('Scope and Prelim. Cost Est.'!$F$25)+1),ROWS('Scope and Prelim. Cost Est.'!$F$25:F58))),\"\")","v":""},{"$f":"IF(AND(G59=\"\",J59=\"\"),\"\",(G59*'PSS References'!$E$11+J59)/$T$17)","v":""},{"$f":"IFERROR(INDEX('Scope and Prelim. Cost Est.'!$V$25:$V$75,SMALL(IF(('Scope and Prelim. Cost Est.'!$F$26:$F$75=\"Yes\")*1=1,ROW('Scope and Prelim. Cost Est.'!$F$26:$F$75)-ROW('Scope and Prelim. Cost Est.'!$F$25)+1),ROWS('Scope and Prelim. Cost Est.'!$F$25:F58))),\"\")","v":""},"",{"$f":"IFERROR(INDEX('Scope and Prelim. Cost Est.'!$AD$25:$AD$75,SMALL(IF(('Scope and Prelim. Cost Est.'!$F$26:$F$75=\"Yes\")*1=1,ROW('Scope and Prelim. Cost Est.'!$F$26:$F$75)-ROW('Scope and Prelim. Cost Est.'!$F$25)+1),ROWS('Scope and Prelim. Cost Est.'!$F$25:F58))),\"\")","v":""},{"$f":"IF(OR('Energy and Water Use'!$E$65=\"\",N59=\"\"),\"\",N59*'Energy and Water Use'!$E$65*1000)","v":""},null,{"$f":"IFERROR(INDEX('Scope and Prelim. Cost Est.'!$P$25:$P$75,SMALL(IF(('Scope and Prelim. Cost Est.'!$F$26:$F$75=\"Yes\")*1=1,ROW('Scope and Prelim. Cost Est.'!$F$26:$F$75)-ROW('Scope and Prelim. Cost Est.'!$F$25)+1),ROWS('Scope and Prelim. Cost Est.'!$F$25:F58))),\"\")","v":""},"",null,"",null,{"$f":"IFERROR(_xlfn.IFS(B59=\"\",\"\",I59=\"multiple\",B59),\"\")","v":""}]
[null,null,{"$f":"IFERROR(INDEX('Scope and Prelim. Cost Est.'!$B$25:$B$75,SMALL(IF(('Scope and Prelim. Cost Est.'!$F$26:$F$75=\"Yes\")*1=1,ROW('Scope and Prelim. Cost Est.'!$F$26:$F$75)-ROW('Scope and Prelim. Cost Est.'!$F$25)+1),ROWS('Scope and Prelim. Cost Est.'!$F$25:F59))),\"\")","v":""},null,null,null,{"$f":"IFERROR(INDEX('Scope and Prelim. Cost Est.'!$Q$25:$Q$75,SMALL(IF(('Scope and Prelim. Cost Est.'!$F$26:$F$75=\"Yes\")*1=1,ROW('Scope and Prelim. Cost Est.'!$F$26:$F$75)-ROW('Scope and Prelim. Cost Est.'!$F$25)+1),ROWS('Scope and Prelim. Cost Est.'!C$25:$F59)))+INDEX('Scope and Prelim. Cost Est.'!$R$25:$R$75,SMALL(IF(('Scope and Prelim. Cost Est.'!$F$26:$F$75=\"Yes\")*1=1,ROW('Scope and Prelim. Cost Est.'!$F$26:$F$75)-ROW('Scope and Prelim. Cost Est.'!$F$25)+1),ROWS('Scope and Prelim. Cost Est.'!C$25:$F59))),\"\")","v":""},null,{"$f":"IFERROR(INDEX('PSS References'!$R$29:$R$38,MATCH(INDEX('Scope and Prelim. Cost Est.'!$U$25:$U$75,SMALL(IF(('Scope and Prelim. Cost Est.'!$F$26:$F$75=\"Yes\")*1=1,ROW('Scope and Prelim. Cost Est.'!$F$26:$F$75)-ROW('Scope and Prelim. Cost Est.'!$F$25)+1),ROWS('Scope and Prelim. Cost Est.'!$F$25:F59))),'PSS References'!$S$29:$S$38,0)),\"\")","v":""},{"$f":"IFERROR(INDEX('Scope and Prelim. Cost Est.'!$S$25:$S$75,SMALL(IF(('Scope and Prelim. Cost Est.'!$F$26:$F$75=\"Yes\")*1=1,ROW('Scope and Prelim. Cost Est.'!$F$26:$F$75)-ROW('Scope and Prelim. Cost Est.'!$F$25)+1),ROWS('Scope and Prelim. Cost Est.'!$F$25:F59)))+INDEX('Scope and Prelim. Cost Est.'!$T$25:$T$75,SMALL(IF(('Scope and Prelim. Cost Est.'!$F$26:$F$75=\"Yes\")*1=1,ROW('Scope and Prelim. Cost Est.'!$F$26:$F$75)-ROW('Scope and Prelim. Cost Est.'!$F$25)+1),ROWS('Scope and Prelim. Cost Est.'!$F$25:F59))),\"\")","v":""},{"$f":"IF(AND(G60=\"\",J60=\"\"),\"\",(G60*'PSS References'!$E$11+J60)/$T$17)","v":""},{"$f":"IFERROR(INDEX('Scope and Prelim. Cost Est.'!$V$25:$V$75,SMALL(IF(('Scope and Prelim. Cost Est.'!$F$26:$F$75=\"Yes\")*1=1,ROW('Scope and Prelim. Cost Est.'!$F$26:$F$75)-ROW('Scope and Prelim. Cost Est.'!$F$25)+1),ROWS('Scope and Prelim. Cost Est.'!$F$25:F59))),\"\")","v":""},"",{"$f":"IFERROR(INDEX('Scope and Prelim. Cost Est.'!$AD$25:$AD$75,SMALL(IF(('Scope and Prelim. Cost Est.'!$F$26:$F$75=\"Yes\")*1=1,ROW('Scope and Prelim. Cost Est.'!$F$26:$F$75)-ROW('Scope and Prelim. Cost Est.'!$F$25)+1),ROWS('Scope and Prelim. Cost Est.'!$F$25:F59))),\"\")","v":""},{"$f":"IF(OR('Energy and Water Use'!$E$65=\"\",N60=\"\"),\"\",N60*'Energy and Water Use'!$E$65*1000)","v":""},null,{"$f":"IFERROR(INDEX('Scope and Prelim. Cost Est.'!$P$25:$P$75,SMALL(IF(('Scope and Prelim. Cost Est.'!$F$26:$F$75=\"Yes\")*1=1,ROW('Scope and Prelim. Cost Est.'!$F$26:$F$75)-ROW('Scope and Prelim. Cost Est.'!$F$25)+1),ROWS('Scope and Prelim. Cost Est.'!$F$25:F59))),\"\")","v":""},"",null,"",null,{"$f":"IFERROR(_xlfn.IFS(B60=\"\",\"\",I60=\"multiple\",B60),\"\")","v":""}]
[null,null,{"$f":"IFERROR(INDEX('Scope and Prelim. Cost Est.'!$B$25:$B$75,SMALL(IF(('Scope and Prelim. Cost Est.'!$F$26:$F$75=\"Yes\")*1=1,ROW('Scope and Prelim. Cost Est.'!$F$26:$F$75)-ROW('Scope and Prelim. Cost Est.'!$F$25)+1),ROWS('Scope and Prelim. Cost Est.'!$F$25:F60))),\"\")","v":""},null,null,null,{"$f":"IFERROR(INDEX('Scope and Prelim. Cost Est.'!$Q$25:$Q$75,SMALL(IF(('Scope and Prelim. Cost Est.'!$F$26:$F$75=\"Yes\")*1=1,ROW('Scope and Prelim. Cost Est.'!$F$26:$F$75)-ROW('Scope and Prelim. Cost Est.'!$F$25)+1),ROWS('Scope and Prelim. Cost Est.'!C$25:$F60)))+INDEX('Scope and Prelim. Cost Est.'!$R$25:$R$75,SMALL(IF(('Scope and Prelim. Cost Est.'!$F$26:$F$75=\"Yes\")*1=1,ROW('Scope and Prelim. Cost Est.'!$F$26:$F$75)-ROW('Scope and Prelim. Cost Est.'!$F$25)+1),ROWS('Scope and Prelim. Cost Est.'!C$25:$F60))),\"\")","v":""},null,{"$f":"IFERROR(INDEX('PSS References'!$R$29:$R$38,MATCH(INDEX('Scope and Prelim. Cost Est.'!$U$25:$U$75,SMALL(IF(('Scope and Prelim. Cost Est.'!$F$26:$F$75=\"Yes\")*1=1,ROW('Scope and Prelim. Cost Est.'!$F$26:$F$75)-ROW('Scope and Prelim. Cost Est.'!$F$25)+1),ROWS('Scope and Prelim. Cost Est.'!$F$25:F60))),'PSS References'!$S$29:$S$38,0)),\"\")","v":""},{"$f":"IFERROR(INDEX('Scope and Prelim. Cost Est.'!$S$25:$S$75,SMALL(IF(('Scope and Prelim. Cost Est.'!$F$26:$F$75=\"Yes\")*1=1,ROW('Scope and Prelim. Cost Est.'!$F$26:$F$75)-ROW('Scope and Prelim. Cost Est.'!$F$25)+1),ROWS('Scope and Prelim. Cost Est.'!$F$25:F60)))+INDEX('Scope and Prelim. Cost Est.'!$T$25:$T$75,SMALL(IF(('Scope and Prelim. Cost Est.'!$F$26:$F$75=\"Yes\")*1=1,ROW('Scope and Prelim. Cost Est.'!$F$26:$F$75)-ROW('Scope and Prelim. Cost Est.'!$F$25)+1),ROWS('Scope and Prelim. Cost Est.'!$F$25:F60))),\"\")","v":""},{"$f":"IF(AND(G61=\"\",J61=\"\"),\"\",(G61*'PSS References'!$E$11+J61)/$T$17)","v":""},{"$f":"IFERROR(INDEX('Scope and Prelim. Cost Est.'!$V$25:$V$75,SMALL(IF(('Scope and Prelim. Cost Est.'!$F$26:$F$75=\"Yes\")*1=1,ROW('Scope and Prelim. Cost Est.'!$F$26:$F$75)-ROW('Scope and Prelim. Cost Est.'!$F$25)+1),ROWS('Scope and Prelim. Cost Est.'!$F$25:F60))),\"\")","v":""},"",{"$f":"IFERROR(INDEX('Scope and Prelim. Cost Est.'!$AD$25:$AD$75,SMALL(IF(('Scope and Prelim. Cost Est.'!$F$26:$F$75=\"Yes\")*1=1,ROW('Scope and Prelim. Cost Est.'!$F$26:$F$75)-ROW('Scope and Prelim. Cost Est.'!$F$25)+1),ROWS('Scope and Prelim. Cost Est.'!$F$25:F60))),\"\")","v":""},{"$f":"IF(OR('Energy and Water Use'!$E$65=\"\",N61=\"\"),\"\",N61*'Energy and Water Use'!$E$65*1000)","v":""},null,{"$f":"IFERROR(INDEX('Scope and Prelim. Cost Est.'!$P$25:$P$75,SMALL(IF(('Scope and Prelim. Cost Est.'!$F$26:$F$75=\"Yes\")*1=1,ROW('Scope and Prelim. Cost Est.'!$F$26:$F$75)-ROW('Scope and Prelim. Cost Est.'!$F$25)+1),ROWS('Scope and Prelim. Cost Est.'!$F$25:F60))),\"\")","v":""},"",null,"",null,{"$f":"IFERROR(_xlfn.IFS(B61=\"\",\"\",I61=\"multiple\",B61),\"\")","v":""}]
[null,null,{"$f":"IFERROR(INDEX('Scope and Prelim. Cost Est.'!$B$25:$B$75,SMALL(IF(('Scope and Prelim. Cost Est.'!$F$26:$F$75=\"Yes\")*1=1,ROW('Scope and Prelim. Cost Est.'!$F$26:$F$75)-ROW('Scope and Prelim. Cost Est.'!$F$25)+1),ROWS('Scope and Prelim. Cost Est.'!$F$25:F61))),\"\")","v":""},null,null,null,{"$f":"IFERROR(INDEX('Scope and Prelim. Cost Est.'!$Q$25:$Q$75,SMALL(IF(('Scope and Prelim. Cost Est.'!$F$26:$F$75=\"Yes\")*1=1,ROW('Scope and Prelim. Cost Est.'!$F$26:$F$75)-ROW('Scope and Prelim. Cost Est.'!$F$25)+1),ROWS('Scope and Prelim. Cost Est.'!C$25:$F61)))+INDEX('Scope and Prelim. Cost Est.'!$R$25:$R$75,SMALL(IF(('Scope and Prelim. Cost Est.'!$F$26:$F$75=\"Yes\")*1=1,ROW('Scope and Prelim. Cost Est.'!$F$26:$F$75)-ROW('Scope and Prelim. Cost Est.'!$F$25)+1),ROWS('Scope and Prelim. Cost Est.'!C$25:$F61))),\"\")","v":""},null,{"$f":"IFERROR(INDEX('PSS References'!$R$29:$R$38,MATCH(INDEX('Scope and Prelim. Cost Est.'!$U$25:$U$75,SMALL(IF(('Scope and Prelim. Cost Est.'!$F$26:$F$75=\"Yes\")*1=1,ROW('Scope and Prelim. Cost Est.'!$F$26:$F$75)-ROW('Scope and Prelim. Cost Est.'!$F$25)+1),ROWS('Scope and Prelim. Cost Est.'!$F$25:F61))),'PSS References'!$S$29:$S$38,0)),\"\")","v":""},{"$f":"IFERROR(INDEX('Scope and Prelim. Cost Est.'!$S$25:$S$75,SMALL(IF(('Scope and Prelim. Cost Est.'!$F$26:$F$75=\"Yes\")*1=1,ROW('Scope and Prelim. Cost Est.'!$F$26:$F$75)-ROW('Scope and Prelim. Cost Est.'!$F$25)+1),ROWS('Scope and Prelim. Cost Est.'!$F$25:F61)))+INDEX('Scope and Prelim. Cost Est.'!$T$25:$T$75,SMALL(IF(('Scope and Prelim. Cost Est.'!$F$26:$F$75=\"Yes\")*1=1,ROW('Scope and Prelim. Cost Est.'!$F$26:$F$75)-ROW('Scope and Prelim. Cost Est.'!$F$25)+1),ROWS('Scope and Prelim. Cost Est.'!$F$25:F61))),\"\")","v":""},{"$f":"IF(AND(G62=\"\",J62=\"\"),\"\",(G62*'PSS References'!$E$11+J62)/$T$17)","v":""},{"$f":"IFERROR(INDEX('Scope and Prelim. Cost Est.'!$V$25:$V$75,SMALL(IF(('Scope and Prelim. Cost Est.'!$F$26:$F$75=\"Yes\")*1=1,ROW('Scope and Prelim. Cost Est.'!$F$26:$F$75)-ROW('Scope and Prelim. Cost Est.'!$F$25)+1),ROWS('Scope and Prelim. Cost Est.'!$F$25:F61))),\"\")","v":""},"",{"$f":"IFERROR(INDEX('Scope and Prelim. Cost Est.'!$AD$25:$AD$75,SMALL(IF(('Scope and Prelim. Cost Est.'!$F$26:$F$75=\"Yes\")*1=1,ROW('Scope and Prelim. Cost Est.'!$F$26:$F$75)-ROW('Scope and Prelim. Cost Est.'!$F$25)+1),ROWS('Scope and Prelim. Cost Est.'!$F$25:F61))),\"\")","v":""},{"$f":"IF(OR('Energy and Water Use'!$E$65=\"\",N62=\"\"),\"\",N62*'Energy and Water Use'!$E$65*1000)","v":""},null,{"$f":"IFERROR(INDEX('Scope and Prelim. Cost Est.'!$P$25:$P$75,SMALL(IF(('Scope and Prelim. Cost Est.'!$F$26:$F$75=\"Yes\")*1=1,ROW('Scope and Prelim. Cost Est.'!$F$26:$F$75)-ROW('Scope and Prelim. Cost Est.'!$F$25)+1),ROWS('Scope and Prelim. Cost Est.'!$F$25:F61))),\"\")","v":""},"",null,"",null,{"$f":"IFERROR(_xlfn.IFS(B62=\"\",\"\",I62=\"multiple\",B62),\"\")","v":""}]
[null,null,{"$f":"IFERROR(INDEX('Scope and Prelim. Cost Est.'!$B$25:$B$75,SMALL(IF(('Scope and Prelim. Cost Est.'!$F$26:$F$75=\"Yes\")*1=1,ROW('Scope and Prelim. Cost Est.'!$F$26:$F$75)-ROW('Scope and Prelim. Cost Est.'!$F$25)+1),ROWS('Scope and Prelim. Cost Est.'!$F$25:F62))),\"\")","v":""},null,null,null,{"$f":"IFERROR(INDEX('Scope and Prelim. Cost Est.'!$Q$25:$Q$75,SMALL(IF(('Scope and Prelim. Cost Est.'!$F$26:$F$75=\"Yes\")*1=1,ROW('Scope and Prelim. Cost Est.'!$F$26:$F$75)-ROW('Scope and Prelim. Cost Est.'!$F$25)+1),ROWS('Scope and Prelim. Cost Est.'!C$25:$F62)))+INDEX('Scope and Prelim. Cost Est.'!$R$25:$R$75,SMALL(IF(('Scope and Prelim. Cost Est.'!$F$26:$F$75=\"Yes\")*1=1,ROW('Scope and Prelim. Cost Est.'!$F$26:$F$75)-ROW('Scope and Prelim. Cost Est.'!$F$25)+1),ROWS('Scope and Prelim. Cost Est.'!C$25:$F62))),\"\")","v":""},null,{"$f":"IFERROR(INDEX('PSS References'!$R$29:$R$38,MATCH(INDEX('Scope and Prelim. Cost Est.'!$U$25:$U$75,SMALL(IF(('Scope and Prelim. Cost Est.'!$F$26:$F$75=\"Yes\")*1=1,ROW('Scope and Prelim. Cost Est.'!$F$26:$F$75)-ROW('Scope and Prelim. Cost Est.'!$F$25)+1),ROWS('Scope and Prelim. Cost Est.'!$F$25:F62))),'PSS References'!$S$29:$S$38,0)),\"\")","v":""},{"$f":"IFERROR(INDEX('Scope and Prelim. Cost Est.'!$S$25:$S$75,SMALL(IF(('Scope and Prelim. Cost Est.'!$F$26:$F$75=\"Yes\")*1=1,ROW('Scope and Prelim. Cost Est.'!$F$26:$F$75)-ROW('Scope and Prelim. Cost Est.'!$F$25)+1),ROWS('Scope and Prelim. Cost Est.'!$F$25:F62)))+INDEX('Scope and Prelim. Cost Est.'!$T$25:$T$75,SMALL(IF(('Scope and Prelim. Cost Est.'!$F$26:$F$75=\"Yes\")*1=1,ROW('Scope and Prelim. Cost Est.'!$F$26:$F$75)-ROW('Scope and Prelim. Cost Est.'!$F$25)+1),ROWS('Scope and Prelim. Cost Est.'!$F$25:F62))),\"\")","v":""},{"$f":"IF(AND(G63=\"\",J63=\"\"),\"\",(G63*'PSS References'!$E$11+J63)/$T$17)","v":""},{"$f":"IFERROR(INDEX('Scope and Prelim. Cost Est.'!$V$25:$V$75,SMALL(IF(('Scope and Prelim. Cost Est.'!$F$26:$F$75=\"Yes\")*1=1,ROW('Scope and Prelim. Cost Est.'!$F$26:$F$75)-ROW('Scope and Prelim. Cost Est.'!$F$25)+1),ROWS('Scope and Prelim. Cost Est.'!$F$25:F62))),\"\")","v":""},"",{"$f":"IFERROR(INDEX('Scope and Prelim. Cost Est.'!$AD$25:$AD$75,SMALL(IF(('Scope and Prelim. Cost Est.'!$F$26:$F$75=\"Yes\")*1=1,ROW('Scope and Prelim. Cost Est.'!$F$26:$F$75)-ROW('Scope and Prelim. Cost Est.'!$F$25)+1),ROWS('Scope and Prelim. Cost Est.'!$F$25:F62))),\"\")","v":""},{"$f":"IF(OR('Energy and Water Use'!$E$65=\"\",N63=\"\"),\"\",N63*'Energy and Water Use'!$E$65*1000)","v":""},null,{"$f":"IFERROR(INDEX('Scope and Prelim. Cost Est.'!$P$25:$P$75,SMALL(IF(('Scope and Prelim. Cost Est.'!$F$26:$F$75=\"Yes\")*1=1,ROW('Scope and Prelim. Cost Est.'!$F$26:$F$75)-ROW('Scope and Prelim. Cost Est.'!$F$25)+1),ROWS('Scope and Prelim. Cost Est.'!$F$25:F62))),\"\")","v":""},"",null,"",null,{"$f":"IFERROR(_xlfn.IFS(B63=\"\",\"\",I63=\"multiple\",B63),\"\")","v":""}]
[null,null,{"$f":"IFERROR(INDEX('Scope and Prelim. Cost Est.'!$B$25:$B$75,SMALL(IF(('Scope and Prelim. Cost Est.'!$F$26:$F$75=\"Yes\")*1=1,ROW('Scope and Prelim. Cost Est.'!$F$26:$F$75)-ROW('Scope and Prelim. Cost Est.'!$F$25)+1),ROWS('Scope and Prelim. Cost Est.'!$F$25:F63))),\"\")","v":""},null,null,null,{"$f":"IFERROR(INDEX('Scope and Prelim. Cost Est.'!$Q$25:$Q$75,SMALL(IF(('Scope and Prelim. Cost Est.'!$F$26:$F$75=\"Yes\")*1=1,ROW('Scope and Prelim. Cost Est.'!$F$26:$F$75)-ROW('Scope and Prelim. Cost Est.'!$F$25)+1),ROWS('Scope and Prelim. Cost Est.'!C$25:$F63)))+INDEX('Scope and Prelim. Cost Est.'!$R$25:$R$75,SMALL(IF(('Scope and Prelim. Cost Est.'!$F$26:$F$75=\"Yes\")*1=1,ROW('Scope and Prelim. Cost Est.'!$F$26:$F$75)-ROW('Scope and Prelim. Cost Est.'!$F$25)+1),ROWS('Scope and Prelim. Cost Est.'!C$25:$F63))),\"\")","v":""},null,{"$f":"IFERROR(INDEX('PSS References'!$R$29:$R$38,MATCH(INDEX('Scope and Prelim. Cost Est.'!$U$25:$U$75,SMALL(IF(('Scope and Prelim. Cost Est.'!$F$26:$F$75=\"Yes\")*1=1,ROW('Scope and Prelim. Cost Est.'!$F$26:$F$75)-ROW('Scope and Prelim. Cost Est.'!$F$25)+1),ROWS('Scope and Prelim. Cost Est.'!$F$25:F63))),'PSS References'!$S$29:$S$38,0)),\"\")","v":""},{"$f":"IFERROR(INDEX('Scope and Prelim. Cost Est.'!$S$25:$S$75,SMALL(IF(('Scope and Prelim. Cost Est.'!$F$26:$F$75=\"Yes\")*1=1,ROW('Scope and Prelim. Cost Est.'!$F$26:$F$75)-ROW('Scope and Prelim. Cost Est.'!$F$25)+1),ROWS('Scope and Prelim. Cost Est.'!$F$25:F63)))+INDEX('Scope and Prelim. Cost Est.'!$T$25:$T$75,SMALL(IF(('Scope and Prelim. Cost Est.'!$F$26:$F$75=\"Yes\")*1=1,ROW('Scope and Prelim. Cost Est.'!$F$26:$F$75)-ROW('Scope and Prelim. Cost Est.'!$F$25)+1),ROWS('Scope and Prelim. Cost Est.'!$F$25:F63))),\"\")","v":""},{"$f":"IF(AND(G64=\"\",J64=\"\"),\"\",(G64*'PSS References'!$E$11+J64)/$T$17)","v":""},{"$f":"IFERROR(INDEX('Scope and Prelim. Cost Est.'!$V$25:$V$75,SMALL(IF(('Scope and Prelim. Cost Est.'!$F$26:$F$75=\"Yes\")*1=1,ROW('Scope and Prelim. Cost Est.'!$F$26:$F$75)-ROW('Scope and Prelim. Cost Est.'!$F$25)+1),ROWS('Scope and Prelim. Cost Est.'!$F$25:F63))),\"\")","v":""},"",{"$f":"IFERROR(INDEX('Scope and Prelim. Cost Est.'!$AD$25:$AD$75,SMALL(IF(('Scope and Prelim. Cost Est.'!$F$26:$F$75=\"Yes\")*1=1,ROW('Scope and Prelim. Cost Est.'!$F$26:$F$75)-ROW('Scope and Prelim. Cost Est.'!$F$25)+1),ROWS('Scope and Prelim. Cost Est.'!$F$25:F63))),\"\")","v":""},{"$f":"IF(OR('Energy and Water Use'!$E$65=\"\",N64=\"\"),\"\",N64*'Energy and Water Use'!$E$65*1000)","v":""},null,{"$f":"IFERROR(INDEX('Scope and Prelim. Cost Est.'!$P$25:$P$75,SMALL(IF(('Scope and Prelim. Cost Est.'!$F$26:$F$75=\"Yes\")*1=1,ROW('Scope and Prelim. Cost Est.'!$F$26:$F$75)-ROW('Scope and Prelim. Cost Est.'!$F$25)+1),ROWS('Scope and Prelim. Cost Est.'!$F$25:F63))),\"\")","v":""},"",null,"",null,{"$f":"IFERROR(_xlfn.IFS(B64=\"\",\"\",I64=\"multiple\",B64),\"\")","v":""}]
[null,"Measure Packages"]
[null,null,null,null,null,null,null,null,null,null,{"$f":"IF(AND(G66=\"\",J66=\"\"),\"\",(G66*'PSS References'!$E$11+J66)/$T$17)","v":""},null,{"$f":"IF(L66=\"\",\"\",L66/$T$19)","v":""},null,null,null,null,{"$f":"IFERROR(Q66/SUM(L66,O66,P66),\"\")","v":""},null,"",null,{"$f":"IFERROR(_xlfn.IFS(B66=\"\",\"\",I66=\"multiple\",B66),\"\")","v":""}]
[null,null,null,null,null,null,null,null,null,null,{"$f":"IF(AND(G67=\"\",J67=\"\"),\"\",(G67*'PSS References'!$E$11+J67)/$T$17)","v":""},null,"",null,null,null,null,"",null,"",null,{"$f":"IFERROR(_xlfn.IFS(B67=\"\",\"\",I67=\"multiple\",B67),\"\")","v":""}]
[null,null,null,null,null,null,null,null,null,null,{"$f":"IF(AND(G68=\"\",J68=\"\"),\"\",(G68*'PSS References'!$E$11+J68)/$T$17)","v":""},null,"",null,null,null,null,"",null,"",null,{"$f":"IFERROR(_xlfn.IFS(B68=\"\",\"\",I68=\"multiple\",B68),\"\")","v":""}]
[null,null,null,null,null,null,null,null,null,null,{"$f":"IF(AND(G69=\"\",J69=\"\"),\"\",(G69*'PSS References'!$E$11+J69)/$T$17)","v":""},null,"",null,null,null,null,"",null,"",null,{"$f":"IFERROR(_xlfn.IFS(B69=\"\",\"\",I69=\"multiple\",B69),\"\")","v":""}]
[null,null,null,null,null,null,null,null,null,null,{"$f":"IF(AND(G70=\"\",J70=\"\"),\"\",(G70*'PSS References'!$E$11+J70)/$T$17)","v":""},null,"",null,null,null,null,"",null,"",null,{"$f":"IFERROR(_xlfn.IFS(B70=\"\",\"\",I70=\"multiple\",B70),\"\")","v":""}]
[null,null,null,null,null,null,null,null,null,null,{"$f":"IF(AND(G71=\"\",J71=\"\"),\"\",(G71*'PSS References'!$E$11+J71)/$T$17)","v":""},null,"",null,null,null,null,"",null,"",null,{"$f":"IFERROR(_xlfn.IFS(B71=\"\",\"\",I71=\"multiple\",B71),\"\")","v":""}]
[null,null,null,null,null,null,null,null,null,null,{"$f":"IF(AND(G72=\"\",J72=\"\"),\"\",(G72*'PSS References'!$E$11+J72)/$T$17)","v":""},null,"",null,null,null,null,"",null,"",null,{"$f":"IFERROR(_xlfn.IFS(B72=\"\",\"\",I72=\"multiple\",B72),\"\")","v":""}]
[null,null,null,null,null,null,null,null,null,null,{"$f":"IF(AND(G73=\"\",J73=\"\"),\"\",(G73*'PSS References'!$E$11+J73)/$T$17)","v":""},null,"",null,null,null,null,"",null,"",null,{"$f":"IFERROR(_xlfn.IFS(B73=\"\",\"\",I73=\"multiple\",B73),\"\")","v":""}]
[null,null,null,null,null,null,null,null,null,null,{"$f":"IF(AND(G74=\"\",J74=\"\"),\"\",(G74*'PSS References'!$E$11+J74)/$T$17)","v":""},null,"",null,null,null,null,"",null,"",null,{"$f":"IFERROR(_xlfn.IFS(B74=\"\",\"\",I74=\"multiple\",B74),\"\")","v":""}]
[null,null,null,null,null,null,null,null,null,null,{"$f":"IF(AND(G75=\"\",J75=\"\"),\"\",(G75*'PSS References'!$E$11+J75)/$T$17)","v":""},null,"",null,null,null,null,"",null,"",null,{"$f":"IFERROR(_xlfn.IFS(B75=\"\",\"\",I75=\"multiple\",B75),\"\")","v":""}]
[null,null,"TOTAL (All Itemized Measures):",null,null,null,{"$f":"SUM(G26:G64)","v":0},{"$f":"SUM(H26:H64)","v":0},null,{"$f":"SUM(J26:J64)","v":0},{"$f":"IFERROR(((G76*'PSS References'!$E$11)+J76)/T17,\"0\"%)","v":0},{"$f":"SUM(L26:L64)","v":0},{"$f":"IFERROR(L76/$T$19,\"0\"%)","v":0},{"$f":"SUM(N26:N64)","v":0},{"$f":"SUM(O26:O64)","v":0},{"$f":"SUM(P26:P64)","v":0},{"$f":"SUM(Q26:Q64)","v":0},{"$f":"IFERROR(Q76/SUM(L76,O76,P76),\"0.0\")","v":"0.0"},{"$f":"SUM(S26:S64)","v":0},{"$f":"IFERROR(S76/SUM(N76,Q76,R76),\"0.0\")","v":"0.0"},null,null,null,{"$f":"SUM(X26:X64)","v":0},null,{"$f":"SUM(Z26:Z64)","v":0},null,{"$f":"SUM(AB26:AB64)","v":0}]
[null,null,"TOTAL RECOMMENDED (Measures &/or Packages):",null,null,null,{"$f":"SUMIF($F$26:$F$75,'PSS References'!$B$2,G26:G75)+SUMIF($F$26:$F$75,'PSS References'!$B$3,G26:G75)+SUMIF($F$26:$F$75,'PSS References'!$B$5,G26:G75)+SUMIF($F$26:$F$75,'PSS References'!$B$7,G26:G75)","v":0},{"$f":"SUMIF($F$26:$F$75,'PSS References'!$B$2,H26:H75)+SUMIF($F$26:$F$75,'PSS References'!$B$3,H26:H75)+SUMIF($F$26:$F$75,'PSS References'!$B$5,H26:H75)+SUMIF($F$26:$F$75,'PSS References'!$B$7,H26:H75)","v":0},null,{"$f":"SUMIF($F$26:$F$75,'PSS References'!$B$2,J26:J75)+SUMIF($F$26:$F$75,'PSS References'!$B$3,J26:J75)+SUMIF($F$26:$F$75,'PSS References'!$B$5,J26:J75)+SUMIF($F$26:$F$75,'PSS References'!$B$7,J26:J75)","v":0},{"$f":"IFERROR(((G77*'PSS References'!$E$11)+J77)/T17,\"0\"%)","v":0},{"$f":"SUMIF($F$26:$F$75,'PSS References'!$B$2,L26:L75)+SUMIF($F$26:$F$75,'PSS References'!$B$3,L26:L75)+SUMIF($F$26:$F$75,'PSS References'!$B$5,L26:L75)+SUMIF($F$26:$F$75,'PSS References'!$B$7,L26:L75)","v":0},{"$f":"IFERROR(L77/$T$19,\"0\"%)","v":0},{"$f":"SUMIF($F$26:$F$75,'PSS References'!$B$2,N26:N75)+SUMIF($F$26:$F$75,'PSS References'!$B$3,N26:N75)+SUMIF($F$26:$F$75,'PSS References'!$B$5,N26:N75)+SUMIF($F$26:$F$75,'PSS References'!$B$7,N26:N75)","v":0},{"$f":"SUMIF($F$26:$F$75,'PSS References'!$B$2,O26:O75)+SUMIF($F$26:$F$75,'PSS References'!$B$3,O26:O75)+SUMIF($F$26:$F$75,'PSS References'!$B$5,O26:O75)+SUMIF($F$26:$F$75,'PSS References'!$B$7,O26:O75)","v":0},{"$f":"SUMIF($F$26:$F$75,'PSS References'!$B$2,P26:P75)+SUMIF($F$26:$F$75,'PSS References'!$B$3,P26:P75)+SUMIF($F$26:$F$75,'PSS References'!$B$5,P26:P75)+SUMIF($F$26:$F$75,'PSS References'!$B$7,P26:P75)","v":0},{"$f":"SUMIF($F$26:$F$75,'PSS References'!$B$2,Q26:Q75)+SUMIF($F$26:$F$75,'PSS References'!$B$3,Q26:Q75)+SUMIF($F$26:$F$75,'PSS References'!$B$5,Q26:Q75)+SUMIF($F$26:$F$75,'PSS References'!$B$7,Q26:Q75)","v":0},{"$f":"IFERROR(Q77/SUM(L77,O77,P77),\"0.0\")","v":"0.0"},{"$f":"SUMIF($F$26:$F$75,'PSS References'!$B$2,S26:S75)+SUMIF($F$26:$F$75,'PSS References'!$B$3,S26:S75)+SUMIF($F$26:$F$75,'PSS References'!$B$5,S26:S75)+SUMIF($F$26:$F$75,'PSS References'!$B$7,S26:S75)","v":0},{"$f":"IFERROR(S77/SUM(N77,Q77,R77),\"0.0\")","v":"0.0"},null,null,null,{"$f":"SUMIF($F$26:$F$75,'PSS References'!$B$2,X26:X75)+SUMIF($F$26:$F$75,'PSS References'!$B$3,X26:X75)+SUMIF($F$26:$F$75,'PSS References'!$B$5,X26:X75)+SUMIF($F$26:$F$75,'PSS References'!$B$7,X26:X75)","v":0},null,{"$f":"SUMIF($F$26:$F$75,'PSS References'!$B$2,Z26:Z75)+SUMIF($F$26:$F$75,'PSS References'!$B$3,Z26:Z75)+SUMIF($F$26:$F$75,'PSS References'!$B$5,Z26:Z75)+SUMIF($F$26:$F$75,'PSS References'!$B$7,Z26:Z75)","v":0},null,{"$f":"SUMIF($F$26:$F$75,'PSS References'!$B$2,AB26:AB75)+SUMIF($F$26:$F$75,'PSS References'!$B$3,AB26:AB75)+SUMIF($F$26:$F$75,'PSS References'!$B$5,AB26:AB75)+SUMIF($F$26:$F$75,'PSS References'!$B$7,AB26:AB75)","v":0}]

{"sheet":"PSS Savings Check_1","index":29,"n_rows":56,"n_cols":35,"rows_kept":56,"cut":false,"hidden":true,"merged":[[9,30,9,31],[9,32,9,33],[55,0,55,1],[9,17,9,18],[9,19,9,20],[9,22,9,23],[9,24,9,25],[9,26,9,27],[9,28,9,29],[8,32,8,33],[5,32,6,33],[5,34,6,35],[7,17,7,18],[7,22,7,23],[7,24,7,25],[7,26,7,27],[7,28,7,29],[7,30,7,31],[7,32,7,33],[7,34,7,35],[8,22,8,23],[8,24,8,25],[8,26,8,27],[8,28,8,29],[8,30,8,31],[3,2,3,4],[3,5,3,14],[4,16,4,33],[5,17,6,18],[5,19,6,20],[5,22,6,23],[5,24,6,25],[5,26,6,27],[5,28,6,29],[5,30,6,31]]}
[]
[]
[]
[null,null,"ENERGY SAVINGS",null,null,"COST SAVINGS"]
["Measure/\nPackage ID","Measure","Electric (kWh) \nsavings over \nElectric (kWh) baseline","Fuel (MMBtu) \nsavings over \nFuel (MMBtu) baseline","Total Project Energy savings\n(all energy sources)","Utility Rate Check","kWh","kW","MMBtu (Total)","MMBtu (Breakout 1)","MMBtu (Breakout 2)","MMBtu (Breakout 3)","Total Calculated Cost Savings","PSS Reported Cost Savings","% Difference - Calculated vs. Reported",null,"BASELINE ENERGY - \nMMBTU CONVERSIONS & RATE CHECK"]
[{"$f":"IF('Project Summary Sheet (PSS)_1'!B26=\"\",\"\",'Project Summary Sheet (PSS)_1'!B26)","v":""},{"$f":"IF('Project Summary Sheet (PSS)_1'!C26=\"\",\"\",'Project Summary Sheet (PSS)_1'!C26)","v":""},{"$f":"IFERROR(VLOOKUP(A6,'Project Summary Sheet (PSS)_1'!$B$23:$Q$75,6,FALSE)/'Project Summary Sheet (PSS)_1'!$D$17,\"\")","v":""},{"$f":"IFERROR(VLOOKUP(A6,'Project Summary Sheet (PSS)_1'!$B$23:$Q$75,9,FALSE)/('Project Summary Sheet (PSS)_1'!$T$17-('Project Summary Sheet (PSS)_1'!$D$17*'PSS References'!$E$11)),\"\")","v":""},{"$f":"IFERROR(((VLOOKUP(A6,'Project Summary Sheet (PSS)_1'!$B$23:$Q$75,6,FALSE)*'PSS References'!$E$11)+VLOOKUP(A6,'Project Summary Sheet (PSS)_1'!$B$23:$Q$75,9,FALSE))/'Project Summary Sheet (PSS)_1'!$T$17,\"\")","v":""},{"$f":"IF(A6=\"\",\"\",IF(M6<0,IF(OR(M6<'Project Summary Sheet (PSS)_1'!L26*1.1,M6>'Project Summary Sheet (PSS)_1'!L26*0.9),\"Check Rates\",\"Rate OK\"),IF(OR(M6>'Project Summary Sheet (PSS)_1'!L26*1.1,M6<'Project Summary Sheet (PSS)_1'!L26*0.9),\"Check Rates\",\"Rate OK\")))","v":""},{"$f":"IF(A6=\"\",\"\",'Project Summary Sheet (PSS)_1'!G26*'Project Summary Sheet (PSS)_1'!$E$18)","v":""},{"$f":"IF(A6=\"\",\"\",IF('Project Summary Sheet (PSS)_1'!$F$18<>\"\",('Project Summary Sheet (PSS)_1'!H26*'Project Summary Sheet (PSS)_1'!$F$18),0))","v":""},{"$f":"IF(A6=\"\",\"\",IF('Project Summary Sheet (PSS)_1'!I26=\"\",\"-\",IF('Project Summary Sheet (PSS)_1'!I26='PSS References'!$N$18,'Project Summary Sheet (PSS)_1'!J26*'PSS Savings Check_1'!$W$9,IF('Project Summary Sheet (PSS)_1'!I26='PSS References'!$N$19,'Project Summary Sheet (PSS)_1'!J26*'PSS Savings Check_1'!$AA$9,IF('Project Summary Sheet (PSS)_1'!I26='PSS References'!$N$20,'Project Summary Sheet (PSS)_1'!J26*'PSS Savings Check_1'!$Y$9,IF('Project Summary Sheet (PSS)_1'!I26='PSS References'!$N$21,'Project Summary Sheet (PSS)_1'!J26*'PSS Savings Check_1'!$Y$9,IF('Project Summary Sheet (PSS)_1'!I26='PSS References'!$N$22,'Project Summary Sheet (PSS)_1'!J26*'PSS Savings Check_1'!$Y$9,IF('Project Summary Sheet (PSS)_1'!I26='PSS References'!$N$23,'Project Summary Sheet (PSS)_1'!J26*'PSS Savings Check_1'!$AC$9,IF('Project Summary Sheet (PSS)_1'!I26='PSS References'!$N$24,'Project Summary Sheet (PSS)_1'!J26*'PSS Savings Check_1'!$AE$9,IF('Project Summary Sheet (PSS)_1'!I26='PSS References'!$N$25,'Project Summary Sheet (PSS)_1'!J26*'PSS Savings Check_1'!$AG$9,IF('Project Summary Sheet (PSS)_1'!I26='PSS References'!$N$17,\"-\")))))))))))","v":""},{"$f":"IF(A6=\"\",\"\",IF('Project Summary Sheet (PSS)_1'!I26=\"\",\"-\",IF('Project Summary Sheet (PSS)_1'!I26='PSS References'!$N$17,IF('Project Summary Sheet (PSS)_1'!W26='PSS References'!$N$18,'Project Summary Sheet (PSS)_1'!X26*'PSS Savings Check_1'!$W$9,IF('Project Summary Sheet (PSS)_1'!W26='PSS References'!$N$19,'Project Summary Sheet (PSS)_1'!X26*'PSS Savings Check_1'!$AA$9,IF('Project Summary Sheet (PSS)_1'!W26='PSS References'!$N$20,'Project Summary Sheet (PSS)_1'!X26*'PSS Savings Check_1'!$Y$9,IF('Project Summary Sheet (PSS)_1'!W26='PSS References'!$N$21,'Project Summary Sheet (PSS)_1'!X26*'PSS Savings Check_1'!$Y$9,IF('Project Summary Sheet (PSS)_1'!W26='PSS References'!$N$22,'Project Summary Sheet (PSS)_1'!X26*'PSS Savings Check_1'!$Y$9,IF('Project Summary Sheet (PSS)_1'!W26='PSS References'!$N$23,'Project Summary Sheet (PSS)_1'!X26*'PSS Savings Check_1'!$AC$9,IF('Project Summary Sheet (PSS)_1'!W26='PSS References'!$N$24,'Project Summary Sheet (PSS)_1'!X26*'PSS Savings Check_1'!$AE$9,IF('Project Summary Sheet (PSS)_1'!W26='PSS References'!$N$25,'Project Summary Sheet (PSS)_1'!X26*'PSS Savings Check_1'!$AG$9,IF('Project Summary Sheet (PSS)_1'!W26='PSS References'!$N$17,\"Can't be 'Multiple'\",))))))))),\"-\")))","v":""},{"$f":"IF(A6=\"\",\"\",IF('Project Summary Sheet (PSS)_1'!I26=\"\",\"-\",IF('Project Summary Sheet (PSS)_1'!I26='PSS References'!$N$17,IF('Project Summary Sheet (PSS)_1'!Y26='PSS References'!$N$18,'Project Summary Sheet (PSS)_1'!Z26*'PSS Savings Check_1'!$W$9,IF('Project Summary Sheet (PSS)_1'!Y26='PSS References'!$N$19,'Project Summary Sheet (PSS)_1'!Z26*'PSS Savings Check_1'!$AA$9,IF('Project Summary Sheet (PSS)_1'!Y26='PSS References'!$N$20,'Project Summary Sheet (PSS)_1'!Z26*'PSS Savings Check_1'!$Y$9,IF('Project Summary Sheet (PSS)_1'!Y26='PSS References'!$N$21,'Project Summary Sheet (PSS)_1'!Z26*'PSS Savings Check_1'!$Y$9,IF('Project Summary Sheet (PSS)_1'!Y26='PSS References'!$N$22,'Project Summary Sheet (PSS)_1'!Z26*'PSS Savings Check_1'!$Y$9,IF('Project Summary Sheet (PSS)_1'!Y26='PSS References'!$N$23,'Project Summary Sheet (PSS)_1'!Z26*'PSS Savings Check_1'!$AC$9,IF('Project Summary Sheet (PSS)_1'!Y26='PSS References'!$N$24,'Project Summary Sheet (PSS)_1'!Z26*'PSS Savings Check_1'!$AE$9,IF('Project Summary Sheet (PSS)_1'!Y26='PSS References'!$N$25,'Project Summary Sheet (PSS)_1'!Z26*'PSS Savings Check_1'!$AG$9,IF('Project Summary Sheet (PSS)_1'!Y26='PSS References'!$N$17,\"Can't be 'Multiple'\",))))))))),\"-\")))","v":""},{"$f":"IF(A6=\"\",\"\",IF('Project Summary Sheet (PSS)_1'!I26=\"\",\"-\",IF('Project Summary Sheet (PSS)_1'!I26='PSS References'!$N$17,IF('Project Summary Sheet (PSS)_1'!AA26='PSS References'!$N$18,'Project Summary Sheet (PSS)_1'!AB26*'PSS Savings Check_1'!$W$9,IF('Project Summary Sheet (PSS)_1'!AA26='PSS References'!N19,'Project Summary Sheet (PSS)_1'!AB26*'PSS Savings Check_1'!$AA$9,IF('Project Summary Sheet (PSS)_1'!AA26='PSS References'!$N$20,'Project Summary Sheet (PSS)_1'!AB26*'PSS Savings Check_1'!$Y$9,IF('Project Summary Sheet (PSS)_1'!AA26='PSS References'!$N$21,'Project Summary Sheet (PSS)_1'!AB26*'PSS Savings Check_1'!$Y$9,IF('Project Summary Sheet (PSS)_1'!AA26='PSS References'!$N$22,'Project Summary Sheet (PSS)_1'!AB26*'PSS Savings Check_1'!$Y$9,IF('Project Summary Sheet (PSS)_1'!AA26='PSS References'!$N$23,'Project Summary Sheet (PSS)_1'!AB26*'PSS Savings Check_1'!$AC$9,IF('Project Summary Sheet (PSS)_1'!AA26='PSS References'!$N$24,'Project Summary Sheet (PSS)_1'!AB26*'PSS Savings Check_1'!$AE$9,IF('Project Summary Sheet (PSS)_1'!AA26='PSS References'!$N$25,'Project Summary Sheet (PSS)_1'!AB26*'PSS Savings Check_1'!$AG$9,IF('Project Summary Sheet (PSS)_1'!AA26='PSS References'!$N$17,\"Can't be 'Multiple'\",))))))))),\"-\")))","v":""},{"$f":"IF(A6=\"\",\"\",SUM(G6:L6))","v":""},{"$f":"IF('Project Summary Sheet (PSS)_1'!L26=\"\",\"\",'Project Summary Sheet (PSS)_1'!L26)","v":""},{"$f":"IFERROR((M6-N6)/N6,\"\")","v":""},null,null,"Electric \n(MMBtu)",null,"Electric Demand\n(MMBtu)",null,null,"Natural Gas \n(MMBtu)",null,"Oil\n(MMBtu)",null,"Purchased Steam \n(MMBtu.)",null,"Propane \n(MMBtu)",null,"Coal \n(MMBtu)",null,"Other \n(MMBtu)",null,"Total Fuel\n(MMBtu)"]
[{"$f":"IF('Project Summary Sheet (PSS)_1'!B27=\"\",\"\",'Project Summary Sheet (PSS)_1'!B27)","v":""},{"$f":"IF('Project Summary Sheet (PSS)_1'!C27=\"\",\"\",'Project Summary Sheet (PSS)_1'!C27)","v":""},{"$f":"IFERROR(VLOOKUP(A7,'Project Summary Sheet (PSS)_1'!$B$23:$Q$75,6,FALSE)/'Project Summary Sheet (PSS)_1'!$D$17,\"\")","v":""},{"$f":"IFERROR(VLOOKUP(A7,'Project Summary Sheet (PSS)_1'!$B$23:$Q$75,9,FALSE)/('Project Summary Sheet (PSS)_1'!$T$17-('Project Summary Sheet (PSS)_1'!$D$17*'PSS References'!$E$11)),\"\")","v":""},{"$f":"IFERROR(((VLOOKUP(A7,'Project Summary Sheet (PSS)_1'!$B$23:$Q$75,6,FALSE)*'PSS References'!$E$11)+VLOOKUP(A7,'Project Summary Sheet (PSS)_1'!$B$23:$Q$75,9,FALSE))/'Project Summary Sheet (PSS)_1'!$T$17,\"\")","v":""},{"$f":"IF(A7=\"\",\"\",IF(M7<0,IF(OR(M7<'Project Summary Sheet (PSS)_1'!L27*1.1,M7>'Project Summary Sheet (PSS)_1'!L27*0.9),\"Check Rates\",\"Rate OK\"),IF(OR(M7>'Project Summary Sheet (PSS)_1'!L27*1.1,M7<'Project Summary Sheet (PSS)_1'!L27*0.9),\"Check Rates\",\"Rate OK\")))","v":""},{"$f":"IF(A7=\"\",\"\",'Project Summary Sheet (PSS)_1'!G27*'Project Summary Sheet (PSS)_1'!$E$18)","v":""},{"$f":"IF(A7=\"\",\"\",IF('Project Summary Sheet (PSS)_1'!$F$18<>\"\",('Project Summary Sheet (PSS)_1'!H27*'Project Summary Sheet (PSS)_1'!$F$18),0))","v":""},{"$f":"IF(A7=\"\",\"\",IF('Project Summary Sheet (PSS)_1'!I27=\"\",\"-\",IF('Project Summary Sheet (PSS)_1'!I27='PSS References'!$N$18,'Project Summary Sheet (PSS)_1'!J27*'PSS Savings Check_1'!$W$9,IF('Project Summary Sheet (PSS)_1'!I27='PSS References'!$N$19,'Project Summary Sheet (PSS)_1'!J27*'PSS Savings Check_1'!$AA$9,IF('Project Summary Sheet (PSS)_1'!I27='PSS References'!$N$20,'Project Summary Sheet (PSS)_1'!J27*'PSS Savings Check_1'!$Y$9,IF('Project Summary Sheet (PSS)_1'!I27='PSS References'!$N$21,'Project Summary Sheet (PSS)_1'!J27*'PSS Savings Check_1'!$Y$9,IF('Project Summary Sheet (PSS)_1'!I27='PSS References'!$N$22,'Project Summary Sheet (PSS)_1'!J27*'PSS Savings Check_1'!$Y$9,IF('Project Summary Sheet (PSS)_1'!I27='PSS References'!$N$23,'Project Summary Sheet (PSS)_1'!J27*'PSS Savings Check_1'!$AC$9,IF('Project Summary Sheet (PSS)_1'!I27='PSS References'!$N$24,'Project Summary Sheet (PSS)_1'!J27*'PSS Savings Check_1'!$AE$9,IF('Project Summary Sheet (PSS)_1'!I27='PSS References'!$N$25,'Project Summary Sheet (PSS)_1'!J27*'PSS Savings Check_1'!$AG$9,IF('Project Summary Sheet (PSS)_1'!I27='PSS References'!$N$17,\"-\")))))))))))","v":""},{"$f":"IF(A7=\"\",\"\",IF('Project Summary Sheet (PSS)_1'!I27=\"\",\"-\",IF('Project Summary Sheet (PSS)_1'!I27='PSS References'!$N$17,IF('Project Summary Sheet (PSS)_1'!W27='PSS References'!$N$18,'Project Summary Sheet (PSS)_1'!X27*'PSS Savings Check_1'!$W$9,IF('Project Summary Sheet (PSS)_1'!W27='PSS References'!$N$19,'Project Summary Sheet (PSS)_1'!X27*'PSS Savings Check_1'!$AA$9,IF('Project Summary Sheet (PSS)_1'!W27='PSS References'!$N$20,'Project Summary Sheet (PSS)_1'!X27*'PSS Savings Check_1'!$Y$9,IF('Project Summary Sheet (PSS)_1'!W27='PSS References'!$N$21,'Project Summary Sheet (PSS)_1'!X27*'PSS Savings Check_1'!$Y$9,IF('Project Summary Sheet (PSS)_1'!W27='PSS References'!$N$22,'Project Summary Sheet (PSS)_1'!X27*'PSS Savings Check_1'!$Y$9,IF('Project Summary Sheet (PSS)_1'!W27='PSS References'!$N$23,'Project Summary Sheet (PSS)_1'!X27*'PSS Savings Check_1'!$AC$9,IF('Project Summary Sheet (PSS)_1'!W27='PSS References'!$N$24,'Project Summary Sheet (PSS)_1'!X27*'PSS Savings Check_1'!$AE$9,IF('Project Summary Sheet (PSS)_1'!W27='PSS References'!$N$25,'Project Summary Sheet (PSS)_1'!X27*'PSS Savings Check_1'!$AG$9,IF('Project Summary Sheet (PSS)_1'!W27='PSS References'!$N$17,\"Can't be 'Multiple'\",))))))))),\"-\")))","v":""},{"$f":"IF(A7=\"\",\"\",IF('Project Summary Sheet (PSS)_1'!I27=\"\",\"-\",IF('Project Summary Sheet (PSS)_1'!I27='PSS References'!$N$17,IF('Project Summary Sheet (PSS)_1'!Y27='PSS References'!$N$18,'Project Summary Sheet (PSS)_1'!Z27*'PSS Savings Check_1'!$W$9,IF('Project Summary Sheet (PSS)_1'!Y27='PSS References'!$N$19,'Project Summary Sheet (PSS)_1'!Z27*'PSS Savings Check_1'!$AA$9,IF('Project Summary Sheet (PSS)_1'!Y27='PSS References'!$N$20,'Project Summary Sheet (PSS)_1'!Z27*'PSS Savings Check_1'!$Y$9,IF('Project Summary Sheet (PSS)_1'!Y27='PSS References'!$N$21,'Project Summary Sheet (PSS)_1'!Z27*'PSS Savings Check_1'!$Y$9,IF('Project Summary Sheet (PSS)_1'!Y27='PSS References'!$N$22,'Project Summary Sheet (PSS)_1'!Z27*'PSS Savings Check_1'!$Y$9,IF('Project Summary Sheet (PSS)_1'!Y27='PSS References'!$N$23,'Project Summary Sheet (PSS)_1'!Z27*'PSS Savings Check_1'!$AC$9,IF('Project Summary Sheet (PSS)_1'!Y27='PSS References'!$N$24,'Project Summary Sheet (PSS)_1'!Z27*'PSS Savings Check_1'!$AE$9,IF('Project Summary Sheet (PSS)_1'!Y27='PSS References'!$N$25,'Project Summary Sheet (PSS)_1'!Z27*'PSS Savings Check_1'!$AG$9,IF('Project Summary Sheet (PSS)_1'!Y27='PSS References'!$N$17,\"Can't be 'Multiple'\",))))))))),\"-\")))","v":""},{"$f":"IF(A7=\"\",\"\",IF('Project Summary Sheet (PSS)_1'!I27=\"\",\"-\",IF('Project Summary Sheet (PSS)_1'!I27='PSS References'!$N$17,IF('Project Summary Sheet (PSS)_1'!AA27='PSS References'!$N$18,'Project Summary Sheet (PSS)_1'!AB27*'PSS Savings Check_1'!$W$9,IF('Project Summary Sheet (PSS)_1'!AA27='PSS References'!N20,'Project Summary Sheet (PSS)_1'!AB27*'PSS Savings Check_1'!$AA$9,IF('Project Summary Sheet (PSS)_1'!AA27='PSS References'!$N$20,'Project Summary Sheet (PSS)_1'!AB27*'PSS Savings Check_1'!$Y$9,IF('Project Summary Sheet (PSS)_1'!AA27='PSS References'!$N$21,'Project Summary Sheet (PSS)_1'!AB27*'PSS Savings Check_1'!$Y$9,IF('Project Summary Sheet (PSS)_1'!AA27='PSS References'!$N$22,'Project Summary Sheet (PSS)_1'!AB27*'PSS Savings Check_1'!$Y$9,IF('Project Summary Sheet (PSS)_1'!AA27='PSS References'!$N$23,'Project Summary Sheet (PSS)_1'!AB27*'PSS Savings Check_1'!$AC$9,IF('Project Summary Sheet (PSS)_1'!AA27='PSS References'!$N$24,'Project Summary Sheet (PSS)_1'!AB27*'PSS Savings Check_1'!$AE$9,IF('Project Summary Sheet (PSS)_1'!AA27='PSS References'!$N$25,'Project Summary Sheet (PSS)_1'!AB27*'PSS Savings Check_1'!$AG$9,IF('Project Summary Sheet (PSS)_1'!AA27='PSS References'!$N$17,\"Can't be 'Multiple'\",))))))))),\"-\")))","v":""},{"$f":"IF(A7=\"\",\"\",SUM(G7:L7))","v":""},{"$f":"IF('Project Summary Sheet (PSS)_1'!L27=\"\",\"\",'Project Summary Sheet (PSS)_1'!L27)","v":""},{"$f":"IFERROR((M7-N7)/N7,\"\")","v":""}]
[{"$f":"IF('Project Summary Sheet (PSS)_1'!B28=\"\",\"\",'Project Summary Sheet (PSS)_1'!B28)","v":""},{"$f":"IF('Project Summary Sheet (PSS)_1'!C28=\"\",\"\",'Project Summary Sheet (PSS)_1'!C28)","v":""},{"$f":"IFERROR(VLOOKUP(A8,'Project Summary Sheet (PSS)_1'!$B$23:$Q$75,6,FALSE)/'Project Summary Sheet (PSS)_1'!$D$17,\"\")","v":""},{"$f":"IFERROR(VLOOKUP(A8,'Project Summary Sheet (PSS)_1'!$B$23:$Q$75,9,FALSE)/('Project Summary Sheet (PSS)_1'!$T$17-('Project Summary Sheet (PSS)_1'!$D$17*'PSS References'!$E$11)),\"\")","v":""},{"$f":"IFERROR(((VLOOKUP(A8,'Project Summary Sheet (PSS)_1'!$B$23:$Q$75,6,FALSE)*'PSS References'!$E$11)+VLOOKUP(A8,'Project Summary Sheet (PSS)_1'!$B$23:$Q$75,9,FALSE))/'Project Summary Sheet (PSS)_1'!$T$17,\"\")","v":""},{"$f":"IF(A8=\"\",\"\",IF(M8<0,IF(OR(M8<'Project Summary Sheet (PSS)_1'!L28*1.1,M8>'Project Summary Sheet (PSS)_1'!L28*0.9),\"Check Rates\",\"Rate OK\"),IF(OR(M8>'Project Summary Sheet (PSS)_1'!L28*1.1,M8<'Project Summary Sheet (PSS)_1'!L28*0.9),\"Check Rates\",\"Rate OK\")))","v":""},{"$f":"IF(A8=\"\",\"\",'Project Summary Sheet (PSS)_1'!G28*'Project Summary Sheet (PSS)_1'!$E$18)","v":""},{"$f":"IF(A8=\"\",\"\",IF('Project Summary Sheet (PSS)_1'!$F$18<>\"\",('Project Summary Sheet (PSS)_1'!H28*'Project Summary Sheet (PSS)_1'!$F$18),0))","v":""},{"$f":"IF(A8=\"\",\"\",IF('Project Summary Sheet (PSS)_1'!I28=\"\",\"-\",IF('Project Summary Sheet (PSS)_1'!I28='PSS References'!$N$18,'Project Summary Sheet (PSS)_1'!J28*'PSS Savings Check_1'!$W$9,IF('Project Summary Sheet (PSS)_1'!I28='PSS References'!$N$19,'Project Summary Sheet (PSS)_1'!J28*'PSS Savings Check_1'!$AA$9,IF('Project Summary Sheet (PSS)_1'!I28='PSS References'!$N$20,'Project Summary Sheet (PSS)_1'!J28*'PSS Savings Check_1'!$Y$9,IF('Project Summary Sheet (PSS)_1'!I28='PSS References'!$N$21,'Project Summary Sheet (PSS)_1'!J28*'PSS Savings Check_1'!$Y$9,IF('Project Summary Sheet (PSS)_1'!I28='PSS References'!$N$22,'Project Summary Sheet (PSS)_1'!J28*'PSS Savings Check_1'!$Y$9,IF('Project Summary Sheet (PSS)_1'!I28='PSS References'!$N$23,'Project Summary Sheet (PSS)_1'!J28*'PSS Savings Check_1'!$AC$9,IF('Project Summary Sheet (PSS)_1'!I28='PSS References'!$N$24,'Project Summary Sheet (PSS)_1'!J28*'PSS Savings Check_1'!$AE$9,IF('Project Summary Sheet (PSS)_1'!I28='PSS References'!$N$25,'Project Summary Sheet (PSS)_1'!J28*'PSS Savings Check_1'!$AG$9,IF('Project Summary Sheet (PSS)_1'!I28='PSS References'!$N$17,\"-\")))))))))))","v":""},{"$f":"IF(A8=\"\",\"\",IF('Project Summary Sheet (PSS)_1'!I28=\"\",\"-\",IF('Project Summary Sheet (PSS)_1'!I28='PSS References'!$N$17,IF('Project Summary Sheet (PSS)_1'!W28='PSS References'!$N$18,'Project Summary Sheet (PSS)_1'!X28*'PSS Savings Check_1'!$W$9,IF('Project Summary Sheet (PSS)_1'!W28='PSS References'!$N$19,'Project Summary Sheet (PSS)_1'!X28*'PSS Savings Check_1'!$AA$9,IF('Project Summary Sheet (PSS)_1'!W28='PSS References'!$N$20,'Project Summary Sheet (PSS)_1'!X28*'PSS Savings Check_1'!$Y$9,IF('Project Summary Sheet (PSS)_1'!W28='PSS References'!$N$21,'Project Summary Sheet (PSS)_1'!X28*'PSS Savings Check_1'!$Y$9,IF('Project Summary Sheet (PSS)_1'!W28='PSS References'!$N$22,'Project Summary Sheet (PSS)_1'!X28*'PSS Savings Check_1'!$Y$9,IF('Project Summary Sheet (PSS)_1'!W28='PSS References'!$N$23,'Project Summary Sheet (PSS)_1'!X28*'PSS Savings Check_1'!$AC$9,IF('Project Summary Sheet (PSS)_1'!W28='PSS References'!$N$24,'Project Summary Sheet (PSS)_1'!X28*'PSS Savings Check_1'!$AE$9,IF('Project Summary Sheet (PSS)_1'!W28='PSS References'!$N$25,'Project Summary Sheet (PSS)_1'!X28*'PSS Savings Check_1'!$AG$9,IF('Project Summary Sheet (PSS)_1'!W28='PSS References'!$N$17,\"Can't be 'Multiple'\",))))))))),\"-\")))","v":""},{"$f":"IF(A8=\"\",\"\",IF('Project Summary Sheet (PSS)_1'!I28=\"\",\"-\",IF('Project Summary Sheet (PSS)_1'!I28='PSS References'!$N$17,IF('Project Summary Sheet (PSS)_1'!Y28='PSS References'!$N$18,'Project Summary Sheet (PSS)_1'!Z28*'PSS Savings Check_1'!$W$9,IF('Project Summary Sheet (PSS)_1'!Y28='PSS References'!$N$19,'Project Summary Sheet (PSS)_1'!Z28*'PSS Savings Check_1'!$AA$9,IF('Project Summary Sheet (PSS)_1'!Y28='PSS References'!$N$20,'Project Summary Sheet (PSS)_1'!Z28*'PSS Savings Check_1'!$Y$9,IF('Project Summary Sheet (PSS)_1'!Y28='PSS References'!$N$21,'Project Summary Sheet (PSS)_1'!Z28*'PSS Savings Check_1'!$Y$9,IF('Project Summary Sheet (PSS)_1'!Y28='PSS References'!$N$22,'Project Summary Sheet (PSS)_1'!Z28*'PSS Savings Check_1'!$Y$9,IF('Project Summary Sheet (PSS)_1'!Y28='PSS References'!$N$23,'Project Summary Sheet (PSS)_1'!Z28*'PSS Savings Check_1'!$AC$9,IF('Project Summary Sheet (PSS)_1'!Y28='PSS References'!$N$24,'Project Summary Sheet (PSS)_1'!Z28*'PSS Savings Check_1'!$AE$9,IF('Project Summary Sheet (PSS)_1'!Y28='PSS References'!$N$25,'Project Summary Sheet (PSS)_1'!Z28*'PSS Savings Check_1'!$AG$9,IF('Project Summary Sheet (PSS)_1'!Y28='PSS References'!$N$17,\"Can't be 'Multiple'\",))))))))),\"-\")))","v":""},{"$f":"IF(A8=\"\",\"\",IF('Project Summary Sheet (PSS)_1'!I28=\"\",\"-\",IF('Project Summary Sheet (PSS)_1'!I28='PSS References'!$N$17,IF('Project Summary Sheet (PSS)_1'!AA28='PSS References'!$N$18,'Project Summary Sheet (PSS)_1'!AB28*'PSS Savings Check_1'!$W$9,IF('Project Summary Sheet (PSS)_1'!AA28='PSS References'!N21,'Project Summary Sheet (PSS)_1'!AB28*'PSS Savings Check_1'!$AA$9,IF('Project Summary Sheet (PSS)_1'!AA28='PSS References'!$N$20,'Project Summary Sheet (PSS)_1'!AB28*'PSS Savings Check_1'!$Y$9,IF('Project Summary Sheet (PSS)_1'!AA28='PSS References'!$N$21,'Project Summary Sheet (PSS)_1'!AB28*'PSS Savings Check_1'!$Y$9,IF('Project Summary Sheet (PSS)_1'!AA28='PSS References'!$N$22,'Project Summary Sheet (PSS)_1'!AB28*'PSS Savings Check_1'!$Y$9,IF('Project Summary Sheet (PSS)_1'!AA28='PSS References'!$N$23,'Project Summary Sheet (PSS)_1'!AB28*'PSS Savings Check_1'!$AC$9,IF('Project Summary Sheet (PSS)_1'!AA28='PSS References'!$N$24,'Project Summary Sheet (PSS)_1'!AB28*'PSS Savings Check_1'!$AE$9,IF('Project Summary Sheet (PSS)_1'!AA28='PSS References'!$N$25,'Project Summary Sheet (PSS)_1'!AB28*'PSS Savings Check_1'!$AG$9,IF('Project Summary Sheet (PSS)_1'!AA28='PSS References'!$N$17,\"Can't be 'Multiple'\",))))))))),\"-\")))","v":""},"",{"$f":"IF('Project Summary Sheet (PSS)_1'!L28=\"\",\"\",'Project Summary Sheet (PSS)_1'!L28)","v":""},"",null,"Baseline Energy Use",{"$f":"'Project Summary Sheet (PSS)_1'!D17*'PSS References'!$E$11","v":0},null,null,null,null,{"$f":"'Project Summary Sheet (PSS)_1'!H17*'PSS References'!$E$12","v":0},null,{"$f":"IF('Project Summary Sheet (PSS)_1'!J16='PSS References'!$K$14,'Project Summary Sheet (PSS)_1'!J17*'PSS References'!$G$10,IF('Project Summary Sheet (PSS)_1'!J16='PSS References'!$L$14,'Project Summary Sheet (PSS)_1'!J17*'PSS References'!$G$11,IF('Project Summary Sheet (PSS)_1'!J16='PSS References'!$M$14,'Project Summary Sheet (PSS)_1'!J17*'PSS References'!$G$12,0)))","v":0},null,{"$f":"'Project Summary Sheet (PSS)_1'!L17*'PSS References'!$I$10","v":0},null,{"$f":"'Project Summary Sheet (PSS)_1'!N17*'PSS References'!$I$11","v":0},null,{"$f":"'Project Summary Sheet (PSS)_1'!P17*'PSS References'!$I$12","v":0},null,{"$f":"'Project Summary Sheet (PSS)_1'!R17","v":0},null,{"$f":"SUM(W8:AH8)","v":0}]
[{"$f":"IF('Project Summary Sheet (PSS)_1'!B29=\"\",\"\",'Project Summary Sheet (PSS)_1'!B29)","v":""},{"$f":"IF('Project Summary Sheet (PSS)_1'!C29=\"\",\"\",'Project Summary Sheet (PSS)_1'!C29)","v":""},{"$f":"IFERROR(VLOOKUP(A9,'Project Summary Sheet (PSS)_1'!$B$23:$Q$75,6,FALSE)/'Project Summary Sheet (PSS)_1'!$D$17,\"\")","v":""},{"$f":"IFERROR(VLOOKUP(A9,'Project Summary Sheet (PSS)_1'!$B$23:$Q$75,9,FALSE)/('Project Summary Sheet (PSS)_1'!$T$17-('Project Summary Sheet (PSS)_1'!$D$17*'PSS References'!$E$11)),\"\")","v":""},{"$f":"IFERROR(((VLOOKUP(A9,'Project Summary Sheet (PSS)_1'!$B$23:$Q$75,6,FALSE)*'PSS References'!$E$11)+VLOOKUP(A9,'Project Summary Sheet (PSS)_1'!$B$23:$Q$75,9,FALSE))/'Project Summary Sheet (PSS)_1'!$T$17,\"\")","v":""},{"$f":"IF(A9=\"\",\"\",IF(M9<0,IF(OR(M9<'Project Summary Sheet (PSS)_1'!L29*1.1,M9>'Project Summary Sheet (PSS)_1'!L29*0.9),\"Check Rates\",\"Rate OK\"),IF(OR(M9>'Project Summary Sheet (PSS)_1'!L29*1.1,M9<'Project Summary Sheet (PSS)_1'!L29*0.9),\"Check Rates\",\"Rate OK\")))","v":""},{"$f":"IF(A9=\"\",\"\",'Project Summary Sheet (PSS)_1'!G29*'Project Summary Sheet (PSS)_1'!$E$18)","v":""},{"$f":"IF(A9=\"\",\"\",IF('Project Summary Sheet (PSS)_1'!$F$18<>\"\",('Project Summary Sheet (PSS)_1'!H29*'Project Summary Sheet (PSS)_1'!$F$18),0))","v":""},{"$f":"IF(A9=\"\",\"\",IF('Project Summary Sheet (PSS)_1'!I29=\"\",\"-\",IF('Project Summary Sheet (PSS)_1'!I29='PSS References'!$N$18,'Project Summary Sheet (PSS)_1'!J29*'PSS Savings Check_1'!$W$9,IF('Project Summary Sheet (PSS)_1'!I29='PSS References'!$N$19,'Project Summary Sheet (PSS)_1'!J29*'PSS Savings Check_1'!$AA$9,IF('Project Summary Sheet (PSS)_1'!I29='PSS References'!$N$20,'Project Summary Sheet (PSS)_1'!J29*'PSS Savings Check_1'!$Y$9,IF('Project Summary Sheet (PSS)_1'!I29='PSS References'!$N$21,'Project Summary Sheet (PSS)_1'!J29*'PSS Savings Check_1'!$Y$9,IF('Project Summary Sheet (PSS)_1'!I29='PSS References'!$N$22,'Project Summary Sheet (PSS)_1'!J29*'PSS Savings Check_1'!$Y$9,IF('Project Summary Sheet (PSS)_1'!I29='PSS References'!$N$23,'Project Summary Sheet (PSS)_1'!J29*'PSS Savings Check_1'!$AC$9,IF('Project Summary Sheet (PSS)_1'!I29='PSS References'!$N$24,'Project Summary Sheet (PSS)_1'!J29*'PSS Savings Check_1'!$AE$9,IF('Project Summary Sheet (PSS)_1'!I29='PSS References'!$N$25,'Project Summary Sheet (PSS)_1'!J29*'PSS Savings Check_1'!$AG$9,IF('Project Summary Sheet (PSS)_1'!I29='PSS References'!$N$17,\"-\")))))))))))","v":""},{"$f":"IF(A9=\"\",\"\",IF('Project Summary Sheet (PSS)_1'!I29=\"\",\"-\",IF('Project Summary Sheet (PSS)_1'!I29='PSS References'!$N$17,IF('Project Summary Sheet (PSS)_1'!W29='PSS References'!$N$18,'Project Summary Sheet (PSS)_1'!X29*'PSS Savings Check_1'!$W$9,IF('Project Summary Sheet (PSS)_1'!W29='PSS References'!$N$19,'Project Summary Sheet (PSS)_1'!X29*'PSS Savings Check_1'!$AA$9,IF('Project Summary Sheet (PSS)_1'!W29='PSS References'!$N$20,'Project Summary Sheet (PSS)_1'!X29*'PSS Savings Check_1'!$Y$9,IF('Project Summary Sheet (PSS)_1'!W29='PSS References'!$N$21,'Project Summary Sheet (PSS)_1'!X29*'PSS Savings Check_1'!$Y$9,IF('Project Summary Sheet (PSS)_1'!W29='PSS References'!$N$22,'Project Summary Sheet (PSS)_1'!X29*'PSS Savings Check_1'!$Y$9,IF('Project Summary Sheet (PSS)_1'!W29='PSS References'!$N$23,'Project Summary Sheet (PSS)_1'!X29*'PSS Savings Check_1'!$AC$9,IF('Project Summary Sheet (PSS)_1'!W29='PSS References'!$N$24,'Project Summary Sheet (PSS)_1'!X29*'PSS Savings Check_1'!$AE$9,IF('Project Summary Sheet (PSS)_1'!W29='PSS References'!$N$25,'Project Summary Sheet (PSS)_1'!X29*'PSS Savings Check_1'!$AG$9,IF('Project Summary Sheet (PSS)_1'!W29='PSS References'!$N$17,\"Can't be 'Multiple'\",))))))))),\"-\")))","v":""},{"$f":"IF(A9=\"\",\"\",IF('Project Summary Sheet (PSS)_1'!I29=\"\",\"-\",IF('Project Summary Sheet (PSS)_1'!I29='PSS References'!$N$17,IF('Project Summary Sheet (PSS)_1'!Y29='PSS References'!$N$18,'Project Summary Sheet (PSS)_1'!Z29*'PSS Savings Check_1'!$W$9,IF('Project Summary Sheet (PSS)_1'!Y29='PSS References'!$N$19,'Project Summary Sheet (PSS)_1'!Z29*'PSS Savings Check_1'!$AA$9,IF('Project Summary Sheet (PSS)_1'!Y29='PSS References'!$N$20,'Project Summary Sheet (PSS)_1'!Z29*'PSS Savings Check_1'!$Y$9,IF('Project Summary Sheet (PSS)_1'!Y29='PSS References'!$N$21,'Project Summary Sheet (PSS)_1'!Z29*'PSS Savings Check_1'!$Y$9,IF('Project Summary Sheet (PSS)_1'!Y29='PSS References'!$N$22,'Project Summary Sheet (PSS)_1'!Z29*'PSS Savings Check_1'!$Y$9,IF('Project Summary Sheet (PSS)_1'!Y29='PSS References'!$N$23,'Project Summary Sheet (PSS)_1'!Z29*'PSS Savings Check_1'!$AC$9,IF('Project Summary Sheet (PSS)_1'!Y29='PSS References'!$N$24,'Project Summary Sheet (PSS)_1'!Z29*'PSS Savings Check_1'!$AE$9,IF('Project Summary Sheet (PSS)_1'!Y29='PSS References'!$N$25,'Project Summary Sheet (PSS)_1'!Z29*'PSS Savings Check_1'!$AG$9,IF('Project Summary Sheet (PSS)_1'!Y29='PSS References'!$N$17,\"Can't be 'Multiple'\",))))))))),\"-\")))","v":""},{"$f":"IF(A9=\"\",\"\",IF('Project Summary Sheet (PSS)_1'!I29=\"\",\"-\",IF('Project Summary Sheet (PSS)_1'!I29='PSS References'!$N$17,IF('Project Summary Sheet (PSS)_1'!AA29='PSS References'!$N$18,'Project Summary Sheet (PSS)_1'!AB29*'PSS Savings Check_1'!$W$9,IF('Project Summary Sheet (PSS)_1'!AA29='PSS References'!N22,'Project Summary Sheet (PSS)_1'!AB29*'PSS Savings Check_1'!$AA$9,IF('Project Summary Sheet (PSS)_1'!AA29='PSS References'!$N$20,'Project Summary Sheet (PSS)_1'!AB29*'PSS Savings Check_1'!$Y$9,IF('Project Summary Sheet (PSS)_1'!AA29='PSS References'!$N$21,'Project Summary Sheet (PSS)_1'!AB29*'PSS Savings Check_1'!$Y$9,IF('Project Summary Sheet (PSS)_1'!AA29='PSS References'!$N$22,'Project Summary Sheet (PSS)_1'!AB29*'PSS Savings Check_1'!$Y$9,IF('Project Summary Sheet (PSS)_1'!AA29='PSS References'!$N$23,'Project Summary Sheet (PSS)_1'!AB29*'PSS Savings Check_1'!$AC$9,IF('Project Summary Sheet (PSS)_1'!AA29='PSS References'!$N$24,'Project Summary Sheet (PSS)_1'!AB29*'PSS Savings Check_1'!$AE$9,IF('Project Summary Sheet (PSS)_1'!AA29='PSS References'!$N$25,'Project Summary Sheet (PSS)_1'!AB29*'PSS Savings Check_1'!$AG$9,IF('Project Summary Sheet (PSS)_1'!AA29='PSS References'!$N$17,\"Can't be 'Multiple'\",))))))))),\"-\")))","v":""},"",{"$f":"IF('Project Summary Sheet (PSS)_1'!L29=\"\",\"\",'Project Summary Sheet (PSS)_1'!L29)","v":""},"",null,"Utility Rate (MMBtu)",null,null,null,null,null,{"$f":"'Project Summary Sheet (PSS)_1'!H18/'PSS References'!$E$12","v":0},null,{"$f":"IF('Project Summary Sheet (PSS)_1'!J16='PSS References'!$K$14,'Project Summary Sheet (PSS)_1'!$J$18/'PSS References'!$G$10,IF('Project Summary Sheet (PSS)_1'!J16='PSS References'!$L$14,'Project Summary Sheet (PSS)_1'!$J$18/'PSS References'!$G$11,IF('Project Summary Sheet (PSS)_1'!J16='PSS References'!$M$14,'Project Summary Sheet (PSS)_1'!$J$18/'PSS References'!$G$12,0)))","v":0},null,{"$f":"'Project Summary Sheet (PSS)_1'!$L$18/'PSS References'!$I$10","v":{"$error":"#VALUE!"}},null,{"$f":"'Project Summary Sheet (PSS)_1'!$N$18/'PSS References'!$I$11","v":0},null,{"$f":"'Project Summary Sheet (PSS)_1'!$P$18/'PSS References'!$I$12","v":0},null,{"$f":"'Project Summary Sheet (PSS)_1'!$R$18","v":0}]
[{"$f":"IF('Project Summary Sheet (PSS)_1'!B30=\"\",\"\",'Project Summary Sheet (PSS)_1'!B30)","v":""},{"$f":"IF('Project Summary Sheet (PSS)_1'!C30=\"\",\"\",'Project Summary Sheet (PSS)_1'!C30)","v":""},{"$f":"IFERROR(VLOOKUP(A10,'Project Summary Sheet (PSS)_1'!$B$23:$Q$75,6,FALSE)/'Project Summary Sheet (PSS)_1'!$D$17,\"\")","v":""},{"$f":"IFERROR(VLOOKUP(A10,'Project Summary Sheet (PSS)_1'!$B$23:$Q$75,9,FALSE)/('Project Summary Sheet (PSS)_1'!$T$17-('Project Summary Sheet (PSS)_1'!$D$17*'PSS References'!$E$11)),\"\")","v":""},{"$f":"IFERROR(((VLOOKUP(A10,'Project Summary Sheet (PSS)_1'!$B$23:$Q$75,6,FALSE)*'PSS References'!$E$11)+VLOOKUP(A10,'Project Summary Sheet (PSS)_1'!$B$23:$Q$75,9,FALSE))/'Project Summary Sheet (PSS)_1'!$T$17,\"\")","v":""},{"$f":"IF(A10=\"\",\"\",IF(M10<0,IF(OR(M10<'Project Summary Sheet (PSS)_1'!L30*1.1,M10>'Project Summary Sheet (PSS)_1'!L30*0.9),\"Check Rates\",\"Rate OK\"),IF(OR(M10>'Project Summary Sheet (PSS)_1'!L30*1.1,M10<'Project Summary Sheet (PSS)_1'!L30*0.9),\"Check Rates\",\"Rate OK\")))","v":""},{"$f":"IF(A10=\"\",\"\",'Project Summary Sheet (PSS)_1'!G30*'Project Summary Sheet (PSS)_1'!$E$18)","v":""},{"$f":"IF(A10=\"\",\"\",IF('Project Summary Sheet (PSS)_1'!$F$18<>\"\",('Project Summary Sheet (PSS)_1'!H30*'Project Summary Sheet (PSS)_1'!$F$18),0))","v":""},{"$f":"IF(A10=\"\",\"\",IF('Project Summary Sheet (PSS)_1'!I30=\"\",\"-\",IF('Project Summary Sheet (PSS)_1'!I30='PSS References'!$N$18,'Project Summary Sheet (PSS)_1'!J30*'PSS Savings Check_1'!$W$9,IF('Project Summary Sheet (PSS)_1'!I30='PSS References'!$N$19,'Project Summary Sheet (PSS)_1'!J30*'PSS Savings Check_1'!$AA$9,IF('Project Summary Sheet (PSS)_1'!I30='PSS References'!$N$20,'Project Summary Sheet (PSS)_1'!J30*'PSS Savings Check_1'!$Y$9,IF('Project Summary Sheet (PSS)_1'!I30='PSS References'!$N$21,'Project Summary Sheet (PSS)_1'!J30*'PSS Savings Check_1'!$Y$9,IF('Project Summary Sheet (PSS)_1'!I30='PSS References'!$N$22,'Project Summary Sheet (PSS)_1'!J30*'PSS Savings Check_1'!$Y$9,IF('Project Summary Sheet (PSS)_1'!I30='PSS References'!$N$23,'Project Summary Sheet (PSS)_1'!J30*'PSS Savings Check_1'!$AC$9,IF('Project Summary Sheet (PSS)_1'!I30='PSS References'!$N$24,'Project Summary Sheet (PSS)_1'!J30*'PSS Savings Check_1'!$AE$9,IF('Project Summary Sheet (PSS)_1'!I30='PSS References'!$N$25,'Project Summary Sheet (PSS)_1'!J30*'PSS Savings Check_1'!$AG$9,IF('Project Summary Sheet (PSS)_1'!I30='PSS References'!$N$17,\"-\")))))))))))","v":""},{"$f":"IF(A10=\"\",\"\",IF('Project Summary Sheet (PSS)_1'!I30=\"\",\"-\",IF('Project Summary Sheet (PSS)_1'!I30='PSS References'!$N$17,IF('Project Summary Sheet (PSS)_1'!W30='PSS References'!$N$18,'Project Summary Sheet (PSS)_1'!X30*'PSS Savings Check_1'!$W$9,IF('Project Summary Sheet (PSS)_1'!W30='PSS References'!$N$19,'Project Summary Sheet (PSS)_1'!X30*'PSS Savings Check_1'!$AA$9,IF('Project Summary Sheet (PSS)_1'!W30='PSS References'!$N$20,'Project Summary Sheet (PSS)_1'!X30*'PSS Savings Check_1'!$Y$9,IF('Project Summary Sheet (PSS)_1'!W30='PSS References'!$N$21,'Project Summary Sheet (PSS)_1'!X30*'PSS Savings Check_1'!$Y$9,IF('Project Summary Sheet (PSS)_1'!W30='PSS References'!$N$22,'Project Summary Sheet (PSS)_1'!X30*'PSS Savings Check_1'!$Y$9,IF('Project Summary Sheet (PSS)_1'!W30='PSS References'!$N$23,'Project Summary Sheet (PSS)_1'!X30*'PSS Savings Check_1'!$AC$9,IF('Project Summary Sheet (PSS)_1'!W30='PSS References'!$N$24,'Project Summary Sheet (PSS)_1'!X30*'PSS Savings Check_1'!$AE$9,IF('Project Summary Sheet (PSS)_1'!W30='PSS References'!$N$25,'Project Summary Sheet (PSS)_1'!X30*'PSS Savings Check_1'!$AG$9,IF('Project Summary Sheet (PSS)_1'!W30='PSS References'!$N$17,\"Can't be 'Multiple'\",))))))))),\"-\")))","v":""},{"$f":"IF(A10=\"\",\"\",IF('Project Summary Sheet (PSS)_1'!I30=\"\",\"-\",IF('Project Summary Sheet (PSS)_1'!I30='PSS References'!$N$17,IF('Project Summary Sheet (PSS)_1'!Y30='PSS References'!$N$18,'Project Summary Sheet (PSS)_1'!Z30*'PSS Savings Check_1'!$W$9,IF('Project Summary Sheet (PSS)_1'!Y30='PSS References'!$N$19,'Project Summary Sheet (PSS)_1'!Z30*'PSS Savings Check_1'!$AA$9,IF('Project Summary Sheet (PSS)_1'!Y30='PSS References'!$N$20,'Project Summary Sheet (PSS)_1'!Z30*'PSS Savings Check_1'!$Y$9,IF('Project Summary Sheet (PSS)_1'!Y30='PSS References'!$N$21,'Project Summary Sheet (PSS)_1'!Z30*'PSS Savings Check_1'!$Y$9,IF('Project Summary Sheet (PSS)_1'!Y30='PSS References'!$N$22,'Project Summary Sheet (PSS)_1'!Z30*'PSS Savings Check_1'!$Y$9,IF('Project Summary Sheet (PSS)_1'!Y30='PSS References'!$N$23,'Project Summary Sheet (PSS)_1'!Z30*'PSS Savings Check_1'!$AC$9,IF('Project Summary Sheet (PSS)_1'!Y30='PSS References'!$N$24,'Project Summary Sheet (PSS)_1'!Z30*'PSS Savings Check_1'!$AE$9,IF('Project Summary Sheet (PSS)_1'!Y30='PSS References'!$N$25,'Project Summary Sheet (PSS)_1'!Z30*'PSS Savings Check_1'!$AG$9,IF('Project Summary Sheet (PSS)_1'!Y30='PSS References'!$N$17,\"Can't be 'Multiple'\",))))))))),\"-\")))","v":""},{"$f":"IF(A10=\"\",\"\",IF('Project Summary Sheet (PSS)_1'!I30=\"\",\"-\",IF('Project Summary Sheet (PSS)_1'!I30='PSS References'!$N$17,IF('Project Summary Sheet (PSS)_1'!AA30='PSS References'!$N$18,'Project Summary Sheet (PSS)_1'!AB30*'PSS Savings Check_1'!$W$9,IF('Project Summary Sheet (PSS)_1'!AA30='PSS References'!N23,'Project Summary Sheet (PSS)_1'!AB30*'PSS Savings Check_1'!$AA$9,IF('Project Summary Sheet (PSS)_1'!AA30='PSS References'!$N$20,'Project Summary Sheet (PSS)_1'!AB30*'PSS Savings Check_1'!$Y$9,IF('Project Summary Sheet (PSS)_1'!AA30='PSS References'!$N$21,'Project Summary Sheet (PSS)_1'!AB30*'PSS Savings Check_1'!$Y$9,IF('Project Summary Sheet (PSS)_1'!AA30='PSS References'!$N$22,'Project Summary Sheet (PSS)_1'!AB30*'PSS Savings Check_1'!$Y$9,IF('Project Summary Sheet (PSS)_1'!AA30='PSS References'!$N$23,'Project Summary Sheet (PSS)_1'!AB30*'PSS Savings Check_1'!$AC$9,IF('Project Summary Sheet (PSS)_1'!AA30='PSS References'!$N$24,'Project Summary Sheet (PSS)_1'!AB30*'PSS Savings Check_1'!$AE$9,IF('Project Summary Sheet (PSS)_1'!AA30='PSS References'!$N$25,'Project Summary Sheet (PSS)_1'!AB30*'PSS Savings Check_1'!$AG$9,IF('Project Summary Sheet (PSS)_1'!AA30='PSS References'!$N$17,\"Can't be 'Multiple'\",))))))))),\"-\")))","v":""},"",{"$f":"IF('Project Summary Sheet (PSS)_1'!L30=\"\",\"\",'Project Summary Sheet (PSS)_1'!L30)","v":""},"",null,"Baseline Utility Check",{"$f":"IF(ROUND('Project Summary Sheet (PSS)_1'!D17*'Project Summary Sheet (PSS)_1'!E18,0)=ROUND('Project Summary Sheet (PSS)_1'!D19,0),\"OK\",\"Check Use, Rate & Cost\")","v":"OK"},null,{"$f":"IF(ROUND('Project Summary Sheet (PSS)_1'!F17*'Project Summary Sheet (PSS)_1'!F18,0)=ROUND('Project Summary Sheet (PSS)_1'!F19,0),\"OK\",\"Check Use, Rate & Cost\")","v":"OK"},null,null,{"$f":"IF(ROUND('Project Summary Sheet (PSS)_1'!H17*'Project Summary Sheet (PSS)_1'!H18,0)=ROUND('Project Summary Sheet (PSS)_1'!H19,0),\"OK\",\"Check Use, Rate & Cost\")","v":"OK"},null,{"$f":"IF(ROUND('Project Summary Sheet (PSS)_1'!J17*'Project Summary Sheet (PSS)_1'!J18,0)=ROUND('Project Summary Sheet (PSS)_1'!J19,0),\"OK\",\"Check Use, Rate & Cost\")","v":{"$error":"#VALUE!"}},null,{"$f":"IF(ROUND('Project Summary Sheet (PSS)_1'!L17*'Project Summary Sheet (PSS)_1'!L18,0)=ROUND('Project Summary Sheet (PSS)_1'!L19,0),\"OK\",\"Check Use, Rate & Cost\")","v":{"$error":"#VALUE!"}},null,{"$f":"IF(ROUND('Project Summary Sheet (PSS)_1'!N17*'Project Summary Sheet (PSS)_1'!N18,0)=ROUND('Project Summary Sheet (PSS)_1'!N19,0),\"OK\",\"Check Use, Rate & Cost\")","v":"OK"},null,{"$f":"IF(ROUND('Project Summary Sheet (PSS)_1'!P17*'Project Summary Sheet (PSS)_1'!P18,0)=ROUND('Project Summary Sheet (PSS)_1'!P19,0),\"OK\",\"Check Use, Rate & Cost\")","v":"OK"},null,{"$f":"IF(ROUND('Project Summary Sheet (PSS)_1'!R17*'Project Summary Sheet (PSS)_1'!R18,0)=ROUND('Project Summary Sheet (PSS)_1'!R19,0),\"OK\",\"Check Use, Rate & Cost\")","v":"OK"}]
[{"$f":"IF('Project Summary Sheet (PSS)_1'!B31=\"\",\"\",'Project Summary Sheet (PSS)_1'!B31)","v":""},{"$f":"IF('Project Summary Sheet (PSS)_1'!C31=\"\",\"\",'Project Summary Sheet (PSS)_1'!C31)","v":""},{"$f":"IFERROR(VLOOKUP(A11,'Project Summary Sheet (PSS)_1'!$B$23:$Q$75,6,FALSE)/'Project Summary Sheet (PSS)_1'!$D$17,\"\")","v":""},{"$f":"IFERROR(VLOOKUP(A11,'Project Summary Sheet (PSS)_1'!$B$23:$Q$75,9,FALSE)/('Project Summary Sheet (PSS)_1'!$T$17-('Project Summary Sheet (PSS)_1'!$D$17*'PSS References'!$E$11)),\"\")","v":""},{"$f":"IFERROR(((VLOOKUP(A11,'Project Summary Sheet (PSS)_1'!$B$23:$Q$75,6,FALSE)*'PSS References'!$E$11)+VLOOKUP(A11,'Project Summary Sheet (PSS)_1'!$B$23:$Q$75,9,FALSE))/'Project Summary Sheet (PSS)_1'!$T$17,\"\")","v":""},{"$f":"IF(A11=\"\",\"\",IF(M11<0,IF(OR(M11<'Project Summary Sheet (PSS)_1'!L31*1.1,M11>'Project Summary Sheet (PSS)_1'!L31*0.9),\"Check Rates\",\"Rate OK\"),IF(OR(M11>'Project Summary Sheet (PSS)_1'!L31*1.1,M11<'Project Summary Sheet (PSS)_1'!L31*0.9),\"Check Rates\",\"Rate OK\")))","v":""},{"$f":"IF(A11=\"\",\"\",'Project Summary Sheet (PSS)_1'!G31*'Project Summary Sheet (PSS)_1'!$E$18)","v":""},{"$f":"IF(A11=\"\",\"\",IF('Project Summary Sheet (PSS)_1'!$F$18<>\"\",('Project Summary Sheet (PSS)_1'!H31*'Project Summary Sheet (PSS)_1'!$F$18),0))","v":""},{"$f":"IF(A11=\"\",\"\",IF('Project Summary Sheet (PSS)_1'!I31=\"\",\"-\",IF('Project Summary Sheet (PSS)_1'!I31='PSS References'!$N$18,'Project Summary Sheet (PSS)_1'!J31*'PSS Savings Check_1'!$W$9,IF('Project Summary Sheet (PSS)_1'!I31='PSS References'!$N$19,'Project Summary Sheet (PSS)_1'!J31*'PSS Savings Check_1'!$AA$9,IF('Project Summary Sheet (PSS)_1'!I31='PSS References'!$N$20,'Project Summary Sheet (PSS)_1'!J31*'PSS Savings Check_1'!$Y$9,IF('Project Summary Sheet (PSS)_1'!I31='PSS References'!$N$21,'Project Summary Sheet (PSS)_1'!J31*'PSS Savings Check_1'!$Y$9,IF('Project Summary Sheet (PSS)_1'!I31='PSS References'!$N$22,'Project Summary Sheet (PSS)_1'!J31*'PSS Savings Check_1'!$Y$9,IF('Project Summary Sheet (PSS)_1'!I31='PSS References'!$N$23,'Project Summary Sheet (PSS)_1'!J31*'PSS Savings Check_1'!$AC$9,IF('Project Summary Sheet (PSS)_1'!I31='PSS References'!$N$24,'Project Summary Sheet (PSS)_1'!J31*'PSS Savings Check_1'!$AE$9,IF('Project Summary Sheet (PSS)_1'!I31='PSS References'!$N$25,'Project Summary Sheet (PSS)_1'!J31*'PSS Savings Check_1'!$AG$9,IF('Project Summary Sheet (PSS)_1'!I31='PSS References'!$N$17,\"-\")))))))))))","v":""},{"$f":"IF(A11=\"\",\"\",IF('Project Summary Sheet (PSS)_1'!I31=\"\",\"-\",IF('Project Summary Sheet (PSS)_1'!I31='PSS References'!$N$17,IF('Project Summary Sheet (PSS)_1'!W31='PSS References'!$N$18,'Project Summary Sheet (PSS)_1'!X31*'PSS Savings Check_1'!$W$9,IF('Project Summary Sheet (PSS)_1'!W31='PSS References'!$N$19,'Project Summary Sheet (PSS)_1'!X31*'PSS Savings Check_1'!$AA$9,IF('Project Summary Sheet (PSS)_1'!W31='PSS References'!$N$20,'Project Summary Sheet (PSS)_1'!X31*'PSS Savings Check_1'!$Y$9,IF('Project Summary Sheet (PSS)_1'!W31='PSS References'!$N$21,'Project Summary Sheet (PSS)_1'!X31*'PSS Savings Check_1'!$Y$9,IF('Project Summary Sheet (PSS)_1'!W31='PSS References'!$N$22,'Project Summary Sheet (PSS)_1'!X31*'PSS Savings Check_1'!$Y$9,IF('Project Summary Sheet (PSS)_1'!W31='PSS References'!$N$23,'Project Summary Sheet (PSS)_1'!X31*'PSS Savings Check_1'!$AC$9,IF('Project Summary Sheet (PSS)_1'!W31='PSS References'!$N$24,'Project Summary Sheet (PSS)_1'!X31*'PSS Savings Check_1'!$AE$9,IF('Project Summary Sheet (PSS)_1'!W31='PSS References'!$N$25,'Project Summary Sheet (PSS)_1'!X31*'PSS Savings Check_1'!$AG$9,IF('Project Summary Sheet (PSS)_1'!W31='PSS References'!$N$17,\"Can't be 'Multiple'\",))))))))),\"-\")))","v":""},{"$f":"IF(A11=\"\",\"\",IF('Project Summary Sheet (PSS)_1'!I31=\"\",\"-\",IF('Project Summary Sheet (PSS)_1'!I31='PSS References'!$N$17,IF('Project Summary Sheet (PSS)_1'!Y31='PSS References'!$N$18,'Project Summary Sheet (PSS)_1'!Z31*'PSS Savings Check_1'!$W$9,IF('Project Summary Sheet (PSS)_1'!Y31='PSS References'!$N$19,'Project Summary Sheet (PSS)_1'!Z31*'PSS Savings Check_1'!$AA$9,IF('Project Summary Sheet (PSS)_1'!Y31='PSS References'!$N$20,'Project Summary Sheet (PSS)_1'!Z31*'PSS Savings Check_1'!$Y$9,IF('Project Summary Sheet (PSS)_1'!Y31='PSS References'!$N$21,'Project Summary Sheet (PSS)_1'!Z31*'PSS Savings Check_1'!$Y$9,IF('Project Summary Sheet (PSS)_1'!Y31='PSS References'!$N$22,'Project Summary Sheet (PSS)_1'!Z31*'PSS Savings Check_1'!$Y$9,IF('Project Summary Sheet (PSS)_1'!Y31='PSS References'!$N$23,'Project Summary Sheet (PSS)_1'!Z31*'PSS Savings Check_1'!$AC$9,IF('Project Summary Sheet (PSS)_1'!Y31='PSS References'!$N$24,'Project Summary Sheet (PSS)_1'!Z31*'PSS Savings Check_1'!$AE$9,IF('Project Summary Sheet (PSS)_1'!Y31='PSS References'!$N$25,'Project Summary Sheet (PSS)_1'!Z31*'PSS Savings Check_1'!$AG$9,IF('Project Summary Sheet (PSS)_1'!Y31='PSS References'!$N$17,\"Can't be 'Multiple'\",))))))))),\"-\")))","v":""},{"$f":"IF(A11=\"\",\"\",IF('Project Summary Sheet (PSS)_1'!I31=\"\",\"-\",IF('Project Summary Sheet (PSS)_1'!I31='PSS References'!$N$17,IF('Project Summary Sheet (PSS)_1'!AA31='PSS References'!$N$18,'Project Summary Sheet (PSS)_1'!AB31*'PSS Savings Check_1'!$W$9,IF('Project Summary Sheet (PSS)_1'!AA31='PSS References'!N24,'Project Summary Sheet (PSS)_1'!AB31*'PSS Savings Check_1'!$AA$9,IF('Project Summary Sheet (PSS)_1'!AA31='PSS References'!$N$20,'Project Summary Sheet (PSS)_1'!AB31*'PSS Savings Check_1'!$Y$9,IF('Project Summary Sheet (PSS)_1'!AA31='PSS References'!$N$21,'Project Summary Sheet (PSS)_1'!AB31*'PSS Savings Check_1'!$Y$9,IF('Project Summary Sheet (PSS)_1'!AA31='PSS References'!$N$22,'Project Summary Sheet (PSS)_1'!AB31*'PSS Savings Check_1'!$Y$9,IF('Project Summary Sheet (PSS)_1'!AA31='PSS References'!$N$23,'Project Summary Sheet (PSS)_1'!AB31*'PSS Savings Check_1'!$AC$9,IF('Project Summary Sheet (PSS)_1'!AA31='PSS References'!$N$24,'Project Summary Sheet (PSS)_1'!AB31*'PSS Savings Check_1'!$AE$9,IF('Project Summary Sheet (PSS)_1'!AA31='PSS References'!$N$25,'Project Summary Sheet (PSS)_1'!AB31*'PSS Savings Check_1'!$AG$9,IF('Project Summary Sheet (PSS)_1'!AA31='PSS References'!$N$17,\"Can't be 'Multiple'\",))))))))),\"-\")))","v":""},"",{"$f":"IF('Project Summary Sheet (PSS)_1'!L31=\"\",\"\",'Project Summary Sheet (PSS)_1'!L31)","v":""},""]
[{"$f":"IF('Project Summary Sheet (PSS)_1'!B32=\"\",\"\",'Project Summary Sheet (PSS)_1'!B32)","v":""},{"$f":"IF('Project Summary Sheet (PSS)_1'!C32=\"\",\"\",'Project Summary Sheet (PSS)_1'!C32)","v":""},{"$f":"IFERROR(VLOOKUP(A12,'Project Summary Sheet (PSS)_1'!$B$23:$Q$75,6,FALSE)/'Project Summary Sheet (PSS)_1'!$D$17,\"\")","v":""},{"$f":"IFERROR(VLOOKUP(A12,'Project Summary Sheet (PSS)_1'!$B$23:$Q$75,9,FALSE)/('Project Summary Sheet (PSS)_1'!$T$17-('Project Summary Sheet (PSS)_1'!$D$17*'PSS References'!$E$11)),\"\")","v":""},{"$f":"IFERROR(((VLOOKUP(A12,'Project Summary Sheet (PSS)_1'!$B$23:$Q$75,6,FALSE)*'PSS References'!$E$11)+VLOOKUP(A12,'Project Summary Sheet (PSS)_1'!$B$23:$Q$75,9,FALSE))/'Project Summary Sheet (PSS)_1'!$T$17,\"\")","v":""},{"$f":"IF(A12=\"\",\"\",IF(M12<0,IF(OR(M12<'Project Summary Sheet (PSS)_1'!L32*1.1,M12>'Project Summary Sheet (PSS)_1'!L32*0.9),\"Check Rates\",\"Rate OK\"),IF(OR(M12>'Project Summary Sheet (PSS)_1'!L32*1.1,M12<'Project Summary Sheet (PSS)_1'!L32*0.9),\"Check Rates\",\"Rate OK\")))","v":""},{"$f":"IF(A12=\"\",\"\",'Project Summary Sheet (PSS)_1'!G32*'Project Summary Sheet (PSS)_1'!$E$18)","v":""},{"$f":"IF(A12=\"\",\"\",IF('Project Summary Sheet (PSS)_1'!$F$18<>\"\",('Project Summary Sheet (PSS)_1'!H32*'Project Summary Sheet (PSS)_1'!$F$18),0))","v":""},{"$f":"IF(A12=\"\",\"\",IF('Project Summary Sheet (PSS)_1'!I32=\"\",\"-\",IF('Project Summary Sheet (PSS)_1'!I32='PSS References'!$N$18,'Project Summary Sheet (PSS)_1'!J32*'PSS Savings Check_1'!$W$9,IF('Project Summary Sheet (PSS)_1'!I32='PSS References'!$N$19,'Project Summary Sheet (PSS)_1'!J32*'PSS Savings Check_1'!$AA$9,IF('Project Summary Sheet (PSS)_1'!I32='PSS References'!$N$20,'Project Summary Sheet (PSS)_1'!J32*'PSS Savings Check_1'!$Y$9,IF('Project Summary Sheet (PSS)_1'!I32='PSS References'!$N$21,'Project Summary Sheet (PSS)_1'!J32*'PSS Savings Check_1'!$Y$9,IF('Project Summary Sheet (PSS)_1'!I32='PSS References'!$N$22,'Project Summary Sheet (PSS)_1'!J32*'PSS Savings Check_1'!$Y$9,IF('Project Summary Sheet (PSS)_1'!I32='PSS References'!$N$23,'Project Summary Sheet (PSS)_1'!J32*'PSS Savings Check_1'!$AC$9,IF('Project Summary Sheet (PSS)_1'!I32='PSS References'!$N$24,'Project Summary Sheet (PSS)_1'!J32*'PSS Savings Check_1'!$AE$9,IF('Project Summary Sheet (PSS)_1'!I32='PSS References'!$N$25,'Project Summary Sheet (PSS)_1'!J32*'PSS Savings Check_1'!$AG$9,IF('Project Summary Sheet (PSS)_1'!I32='PSS References'!$N$17,\"-\")))))))))))","v":""},{"$f":"IF(A12=\"\",\"\",IF('Project Summary Sheet (PSS)_1'!I32=\"\",\"-\",IF('Project Summary Sheet (PSS)_1'!I32='PSS References'!$N$17,IF('Project Summary Sheet (PSS)_1'!W32='PSS References'!$N$18,'Project Summary Sheet (PSS)_1'!X32*'PSS Savings Check_1'!$W$9,IF('Project Summary Sheet (PSS)_1'!W32='PSS References'!$N$19,'Project Summary Sheet (PSS)_1'!X32*'PSS Savings Check_1'!$AA$9,IF('Project Summary Sheet (PSS)_1'!W32='PSS References'!$N$20,'Project Summary Sheet (PSS)_1'!X32*'PSS Savings Check_1'!$Y$9,IF('Project Summary Sheet (PSS)_1'!W32='PSS References'!$N$21,'Project Summary Sheet (PSS)_1'!X32*'PSS Savings Check_1'!$Y$9,IF('Project Summary Sheet (PSS)_1'!W32='PSS References'!$N$22,'Project Summary Sheet (PSS)_1'!X32*'PSS Savings Check_1'!$Y$9,IF('Project Summary Sheet (PSS)_1'!W32='PSS References'!$N$23,'Project Summary Sheet (PSS)_1'!X32*'PSS Savings Check_1'!$AC$9,IF('Project Summary Sheet (PSS)_1'!W32='PSS References'!$N$24,'Project Summary Sheet (PSS)_1'!X32*'PSS Savings Check_1'!$AE$9,IF('Project Summary Sheet (PSS)_1'!W32='PSS References'!$N$25,'Project Summary Sheet (PSS)_1'!X32*'PSS Savings Check_1'!$AG$9,IF('Project Summary Sheet (PSS)_1'!W32='PSS References'!$N$17,\"Can't be 'Multiple'\",))))))))),\"-\")))","v":""},{"$f":"IF(A12=\"\",\"\",IF('Project Summary Sheet (PSS)_1'!I32=\"\",\"-\",IF('Project Summary Sheet (PSS)_1'!I32='PSS References'!$N$17,IF('Project Summary Sheet (PSS)_1'!Y32='PSS References'!$N$18,'Project Summary Sheet (PSS)_1'!Z32*'PSS Savings Check_1'!$W$9,IF('Project Summary Sheet (PSS)_1'!Y32='PSS References'!$N$19,'Project Summary Sheet (PSS)_1'!Z32*'PSS Savings Check_1'!$AA$9,IF('Project Summary Sheet (PSS)_1'!Y32='PSS References'!$N$20,'Project Summary Sheet (PSS)_1'!Z32*'PSS Savings Check_1'!$Y$9,IF('Project Summary Sheet (PSS)_1'!Y32='PSS References'!$N$21,'Project Summary Sheet (PSS)_1'!Z32*'PSS Savings Check_1'!$Y$9,IF('Project Summary Sheet (PSS)_1'!Y32='PSS References'!$N$22,'Project Summary Sheet (PSS)_1'!Z32*'PSS Savings Check_1'!$Y$9,IF('Project Summary Sheet (PSS)_1'!Y32='PSS References'!$N$23,'Project Summary Sheet (PSS)_1'!Z32*'PSS Savings Check_1'!$AC$9,IF('Project Summary Sheet (PSS)_1'!Y32='PSS References'!$N$24,'Project Summary Sheet (PSS)_1'!Z32*'PSS Savings Check_1'!$AE$9,IF('Project Summary Sheet (PSS)_1'!Y32='PSS References'!$N$25,'Project Summary Sheet (PSS)_1'!Z32*'PSS Savings Check_1'!$AG$9,IF('Project Summary Sheet (PSS)_1'!Y32='PSS References'!$N$17,\"Can't be 'Multiple'\",))))))))),\"-\")))","v":""},{"$f":"IF(A12=\"\",\"\",IF('Project Summary Sheet (PSS)_1'!I32=\"\",\"-\",IF('Project Summary Sheet (PSS)_1'!I32='PSS References'!$N$17,IF('Project Summary Sheet (PSS)_1'!AA32='PSS References'!$N$18,'Project Summary Sheet (PSS)_1'!AB32*'PSS Savings Check_1'!$W$9,IF('Project Summary Sheet (PSS)_1'!AA32='PSS References'!N25,'Project Summary Sheet (PSS)_1'!AB32*'PSS Savings Check_1'!$AA$9,IF('Project Summary Sheet (PSS)_1'!AA32='PSS References'!$N$20,'Project Summary Sheet (PSS)_1'!AB32*'PSS Savings Check_1'!$Y$9,IF('Project Summary Sheet (PSS)_1'!AA32='PSS References'!$N$21,'Project Summary Sheet (PSS)_1'!AB32*'PSS Savings Check_1'!$Y$9,IF('Project Summary Sheet (PSS)_1'!AA32='PSS References'!$N$22,'Project Summary Sheet (PSS)_1'!AB32*'PSS Savings Check_1'!$Y$9,IF('Project Summary Sheet (PSS)_1'!AA32='PSS References'!$N$23,'Project Summary Sheet (PSS)_1'!AB32*'PSS Savings Check_1'!$AC$9,IF('Project Summary Sheet (PSS)_1'!AA32='PSS References'!$N$24,'Project Summary Sheet (PSS)_1'!AB32*'PSS Savings Check_1'!$AE$9,IF('Project Summary Sheet (PSS)_1'!AA32='PSS References'!$N$25,'Project Summary Sheet (PSS)_1'!AB32*'PSS Savings Check_1'!$AG$9,IF('Project Summary Sheet (PSS)_1'!AA32='PSS References'!$N$17,\"Can't be 'Multiple'\",))))))))),\"-\")))","v":""},"",{"$f":"IF('Project Summary Sheet (PSS)_1'!L32=\"\",\"\",'Project Summary Sheet (PSS)_1'!L32)","v":""},""]
[{"$f":"IF('Project Summary Sheet (PSS)_1'!B33=\"\",\"\",'Project Summary Sheet (PSS)_1'!B33)","v":""},{"$f":"IF('Project Summary Sheet (PSS)_1'!C33=\"\",\"\",'Project Summary Sheet (PSS)_1'!C33)","v":""},{"$f":"IFERROR(VLOOKUP(A13,'Project Summary Sheet (PSS)_1'!$B$23:$Q$75,6,FALSE)/'Project Summary Sheet (PSS)_1'!$D$17,\"\")","v":""},{"$f":"IFERROR(VLOOKUP(A13,'Project Summary Sheet (PSS)_1'!$B$23:$Q$75,9,FALSE)/('Project Summary Sheet (PSS)_1'!$T$17-('Project Summary Sheet (PSS)_1'!$D$17*'PSS References'!$E$11)),\"\")","v":""},{"$f":"IFERROR(((VLOOKUP(A13,'Project Summary Sheet (PSS)_1'!$B$23:$Q$75,6,FALSE)*'PSS References'!$E$11)+VLOOKUP(A13,'Project Summary Sheet (PSS)_1'!$B$23:$Q$75,9,FALSE))/'Project Summary Sheet (PSS)_1'!$T$17,\"\")","v":""},{"$f":"IF(A13=\"\",\"\",IF(M13<0,IF(OR(M13<'Project Summary Sheet (PSS)_1'!L33*1.1,M13>'Project Summary Sheet (PSS)_1'!L33*0.9),\"Check Rates\",\"Rate OK\"),IF(OR(M13>'Project Summary Sheet (PSS)_1'!L33*1.1,M13<'Project Summary Sheet (PSS)_1'!L33*0.9),\"Check Rates\",\"Rate OK\")))","v":""},{"$f":"IF(A13=\"\",\"\",'Project Summary Sheet (PSS)_1'!G33*'Project Summary Sheet (PSS)_1'!$E$18)","v":""},{"$f":"IF(A13=\"\",\"\",IF('Project Summary Sheet (PSS)_1'!$F$18<>\"\",('Project Summary Sheet (PSS)_1'!H33*'Project Summary Sheet (PSS)_1'!$F$18),0))","v":""},{"$f":"IF(A13=\"\",\"\",IF('Project Summary Sheet (PSS)_1'!I33=\"\",\"-\",IF('Project Summary Sheet (PSS)_1'!I33='PSS References'!$N$18,'Project Summary Sheet (PSS)_1'!J33*'PSS Savings Check_1'!$W$9,IF('Project Summary Sheet (PSS)_1'!I33='PSS References'!$N$19,'Project Summary Sheet (PSS)_1'!J33*'PSS Savings Check_1'!$AA$9,IF('Project Summary Sheet (PSS)_1'!I33='PSS References'!$N$20,'Project Summary Sheet (PSS)_1'!J33*'PSS Savings Check_1'!$Y$9,IF('Project Summary Sheet (PSS)_1'!I33='PSS References'!$N$21,'Project Summary Sheet (PSS)_1'!J33*'PSS Savings Check_1'!$Y$9,IF('Project Summary Sheet (PSS)_1'!I33='PSS References'!$N$22,'Project Summary Sheet (PSS)_1'!J33*'PSS Savings Check_1'!$Y$9,IF('Project Summary Sheet (PSS)_1'!I33='PSS References'!$N$23,'Project Summary Sheet (PSS)_1'!J33*'PSS Savings Check_1'!$AC$9,IF('Project Summary Sheet (PSS)_1'!I33='PSS References'!$N$24,'Project Summary Sheet (PSS)_1'!J33*'PSS Savings Check_1'!$AE$9,IF('Project Summary Sheet (PSS)_1'!I33='PSS References'!$N$25,'Project Summary Sheet (PSS)_1'!J33*'PSS Savings Check_1'!$AG$9,IF('Project Summary Sheet (PSS)_1'!I33='PSS References'!$N$17,\"-\")))))))))))","v":""},{"$f":"IF(A13=\"\",\"\",IF('Project Summary Sheet (PSS)_1'!I33=\"\",\"-\",IF('Project Summary Sheet (PSS)_1'!I33='PSS References'!$N$17,IF('Project Summary Sheet (PSS)_1'!W33='PSS References'!$N$18,'Project Summary Sheet (PSS)_1'!X33*'PSS Savings Check_1'!$W$9,IF('Project Summary Sheet (PSS)_1'!W33='PSS References'!$N$19,'Project Summary Sheet (PSS)_1'!X33*'PSS Savings Check_1'!$AA$9,IF('Project Summary Sheet (PSS)_1'!W33='PSS References'!$N$20,'Project Summary Sheet (PSS)_1'!X33*'PSS Savings Check_1'!$Y$9,IF('Project Summary Sheet (PSS)_1'!W33='PSS References'!$N$21,'Project Summary Sheet (PSS)_1'!X33*'PSS Savings Check_1'!$Y$9,IF('Project Summary Sheet (PSS)_1'!W33='PSS References'!$N$22,'Project Summary Sheet (PSS)_1'!X33*'PSS Savings Check_1'!$Y$9,IF('Project Summary Sheet (PSS)_1'!W33='PSS References'!$N$23,'Project Summary Sheet (PSS)_1'!X33*'PSS Savings Check_1'!$AC$9,IF('Project Summary Sheet (PSS)_1'!W33='PSS References'!$N$24,'Project Summary Sheet (PSS)_1'!X33*'PSS Savings Check_1'!$AE$9,IF('Project Summary Sheet (PSS)_1'!W33='PSS References'!$N$25,'Project Summary Sheet (PSS)_1'!X33*'PSS Savings Check_1'!$AG$9,IF('Project Summary Sheet (PSS)_1'!W33='PSS References'!$N$17,\"Can't be 'Multiple'\",))))))))),\"-\")))","v":""},{"$f":"IF(A13=\"\",\"\",IF('Project Summary Sheet (PSS)_1'!I33=\"\",\"-\",IF('Project Summary Sheet (PSS)_1'!I33='PSS References'!$N$17,IF('Project Summary Sheet (PSS)_1'!Y33='PSS References'!$N$18,'Project Summary Sheet (PSS)_1'!Z33*'PSS Savings Check_1'!$W$9,IF('Project Summary Sheet (PSS)_1'!Y33='PSS References'!$N$19,'Project Summary Sheet (PSS)_1'!Z33*'PSS Savings Check_1'!$AA$9,IF('Project Summary Sheet (PSS)_1'!Y33='PSS References'!$N$20,'Project Summary Sheet (PSS)_1'!Z33*'PSS Savings Check_1'!$Y$9,IF('Project Summary Sheet (PSS)_1'!Y33='PSS References'!$N$21,'Project Summary Sheet (PSS)_1'!Z33*'PSS Savings Check_1'!$Y$9,IF('Project Summary Sheet (PSS)_1'!Y33='PSS References'!$N$22,'Project Summary Sheet (PSS)_1'!Z33*'PSS Savings Check_1'!$Y$9,IF('Project Summary Sheet (PSS)_1'!Y33='PSS References'!$N$23,'Project Summary Sheet (PSS)_1'!Z33*'PSS Savings Check_1'!$AC$9,IF('Project Summary Sheet (PSS)_1'!Y33='PSS References'!$N$24,'Project Summary Sheet (PSS)_1'!Z33*'PSS Savings Check_1'!$AE$9,IF('Project Summary Sheet (PSS)_1'!Y33='PSS References'!$N$25,'Project Summary Sheet (PSS)_1'!Z33*'PSS Savings Check_1'!$AG$9,IF('Project Summary Sheet (PSS)_1'!Y33='PSS References'!$N$17,\"Can't be 'Multiple'\",))))))))),\"-\")))","v":""},{"$f":"IF(A13=\"\",\"\",IF('Project Summary Sheet (PSS)_1'!I33=\"\",\"-\",IF('Project Summary Sheet (PSS)_1'!I33='PSS References'!$N$17,IF('Project Summary Sheet (PSS)_1'!AA33='PSS References'!$N$18,'Project Summary Sheet (PSS)_1'!AB33*'PSS Savings Check_1'!$W$9,IF('Project Summary Sheet (PSS)_1'!AA33='PSS References'!N26,'Project Summary Sheet (PSS)_1'!AB33*'PSS Savings Check_1'!$AA$9,IF('Project Summary Sheet (PSS)_1'!AA33='PSS References'!$N$20,'Project Summary Sheet (PSS)_1'!AB33*'PSS Savings Check_1'!$Y$9,IF('Project Summary Sheet (PSS)_1'!AA33='PSS References'!$N$21,'Project Summary Sheet (PSS)_1'!AB33*'PSS Savings Check_1'!$Y$9,IF('Project Summary Sheet (PSS)_1'!AA33='PSS References'!$N$22,'Project Summary Sheet (PSS)_1'!AB33*'PSS Savings Check_1'!$Y$9,IF('Project Summary Sheet (PSS)_1'!AA33='PSS References'!$N$23,'Project Summary Sheet (PSS)_1'!AB33*'PSS Savings Check_1'!$AC$9,IF('Project Summary Sheet (PSS)_1'!AA33='PSS References'!$N$24,'Project Summary Sheet (PSS)_1'!AB33*'PSS Savings Check_1'!$AE$9,IF('Project Summary Sheet (PSS)_1'!AA33='PSS References'!$N$25,'Project Summary Sheet (PSS)_1'!AB33*'PSS Savings Check_1'!$AG$9,IF('Project Summary Sheet (PSS)_1'!AA33='PSS References'!$N$17,\"Can't be 'Multiple'\",))))))))),\"-\")))","v":""},"",{"$f":"IF('Project Summary Sheet (PSS)_1'!L33=\"\",\"\",'Project Summary Sheet (PSS)_1'!L33)","v":""},""]
[{"$f":"IF('Project Summary Sheet (PSS)_1'!B34=\"\",\"\",'Project Summary Sheet (PSS)_1'!B34)","v":""},{"$f":"IF('Project Summary Sheet (PSS)_1'!C34=\"\",\"\",'Project Summary Sheet (PSS)_1'!C34)","v":""},{"$f":"IFERROR(VLOOKUP(A14,'Project Summary Sheet (PSS)_1'!$B$23:$Q$75,6,FALSE)/'Project Summary Sheet (PSS)_1'!$D$17,\"\")","v":""},{"$f":"IFERROR(VLOOKUP(A14,'Project Summary Sheet (PSS)_1'!$B$23:$Q$75,9,FALSE)/('Project Summary Sheet (PSS)_1'!$T$17-('Project Summary Sheet (PSS)_1'!$D$17*'PSS References'!$E$11)),\"\")","v":""},{"$f":"IFERROR(((VLOOKUP(A14,'Project Summary Sheet (PSS)_1'!$B$23:$Q$75,6,FALSE)*'PSS References'!$E$11)+VLOOKUP(A14,'Project Summary Sheet (PSS)_1'!$B$23:$Q$75,9,FALSE))/'Project Summary Sheet (PSS)_1'!$T$17,\"\")","v":""},{"$f":"IF(A14=\"\",\"\",IF(M14<0,IF(OR(M14<'Project Summary Sheet (PSS)_1'!L34*1.1,M14>'Project Summary Sheet (PSS)_1'!L34*0.9),\"Check Rates\",\"Rate OK\"),IF(OR(M14>'Project Summary Sheet (PSS)_1'!L34*1.1,M14<'Project Summary Sheet (PSS)_1'!L34*0.9),\"Check Rates\",\"Rate OK\")))","v":""},{"$f":"IF(A14=\"\",\"\",'Project Summary Sheet (PSS)_1'!G34*'Project Summary Sheet (PSS)_1'!$E$18)","v":""},{"$f":"IF(A14=\"\",\"\",IF('Project Summary Sheet (PSS)_1'!$F$18<>\"\",('Project Summary Sheet (PSS)_1'!H34*'Project Summary Sheet (PSS)_1'!$F$18),0))","v":""},{"$f":"IF(A14=\"\",\"\",IF('Project Summary Sheet (PSS)_1'!I34=\"\",\"-\",IF('Project Summary Sheet (PSS)_1'!I34='PSS References'!$N$18,'Project Summary Sheet (PSS)_1'!J34*'PSS Savings Check_1'!$W$9,IF('Project Summary Sheet (PSS)_1'!I34='PSS References'!$N$19,'Project Summary Sheet (PSS)_1'!J34*'PSS Savings Check_1'!$AA$9,IF('Project Summary Sheet (PSS)_1'!I34='PSS References'!$N$20,'Project Summary Sheet (PSS)_1'!J34*'PSS Savings Check_1'!$Y$9,IF('Project Summary Sheet (PSS)_1'!I34='PSS References'!$N$21,'Project Summary Sheet (PSS)_1'!J34*'PSS Savings Check_1'!$Y$9,IF('Project Summary Sheet (PSS)_1'!I34='PSS References'!$N$22,'Project Summary Sheet (PSS)_1'!J34*'PSS Savings Check_1'!$Y$9,IF('Project Summary Sheet (PSS)_1'!I34='PSS References'!$N$23,'Project Summary Sheet (PSS)_1'!J34*'PSS Savings Check_1'!$AC$9,IF('Project Summary Sheet (PSS)_1'!I34='PSS References'!$N$24,'Project Summary Sheet (PSS)_1'!J34*'PSS Savings Check_1'!$AE$9,IF('Project Summary Sheet (PSS)_1'!I34='PSS References'!$N$25,'Project Summary Sheet (PSS)_1'!J34*'PSS Savings Check_1'!$AG$9,IF('Project Summary Sheet (PSS)_1'!I34='PSS References'!$N$17,\"-\")))))))))))","v":""},{"$f":"IF(A14=\"\",\"\",IF('Project Summary Sheet (PSS)_1'!I34=\"\",\"-\",IF('Project Summary Sheet (PSS)_1'!I34='PSS References'!$N$17,IF('Project Summary Sheet (PSS)_1'!W34='PSS References'!$N$18,'Project Summary Sheet (PSS)_1'!X34*'PSS Savings Check_1'!$W$9,IF('Project Summary Sheet (PSS)_1'!W34='PSS References'!$N$19,'Project Summary Sheet (PSS)_1'!X34*'PSS Savings Check_1'!$AA$9,IF('Project Summary Sheet (PSS)_1'!W34='PSS References'!$N$20,'Project Summary Sheet (PSS)_1'!X34*'PSS Savings Check_1'!$Y$9,IF('Project Summary Sheet (PSS)_1'!W34='PSS References'!$N$21,'Project Summary Sheet (PSS)_1'!X34*'PSS Savings Check_1'!$Y$9,IF('Project Summary Sheet (PSS)_1'!W34='PSS References'!$N$22,'Project Summary Sheet (PSS)_1'!X34*'PSS Savings Check_1'!$Y$9,IF('Project Summary Sheet (PSS)_1'!W34='PSS References'!$N$23,'Project Summary Sheet (PSS)_1'!X34*'PSS Savings Check_1'!$AC$9,IF('Project Summary Sheet (PSS)_1'!W34='PSS References'!$N$24,'Project Summary Sheet (PSS)_1'!X34*'PSS Savings Check_1'!$AE$9,IF('Project Summary Sheet (PSS)_1'!W34='PSS References'!$N$25,'Project Summary Sheet (PSS)_1'!X34*'PSS Savings Check_1'!$AG$9,IF('Project Summary Sheet (PSS)_1'!W34='PSS References'!$N$17,\"Can't be 'Multiple'\",))))))))),\"-\")))","v":""},{"$f":"IF(A14=\"\",\"\",IF('Project Summary Sheet (PSS)_1'!I34=\"\",\"-\",IF('Project Summary Sheet (PSS)_1'!I34='PSS References'!$N$17,IF('Project Summary Sheet (PSS)_1'!Y34='PSS References'!$N$18,'Project Summary Sheet (PSS)_1'!Z34*'PSS Savings Check_1'!$W$9,IF('Project Summary Sheet (PSS)_1'!Y34='PSS References'!$N$19,'Project Summary Sheet (PSS)_1'!Z34*'PSS Savings Check_1'!$AA$9,IF('Project Summary Sheet (PSS)_1'!Y34='PSS References'!$N$20,'Project Summary Sheet (PSS)_1'!Z34*'PSS Savings Check_1'!$Y$9,IF('Project Summary Sheet (PSS)_1'!Y34='PSS References'!$N$21,'Project Summary Sheet (PSS)_1'!Z34*'PSS Savings Check_1'!$Y$9,IF('Project Summary Sheet (PSS)_1'!Y34='PSS References'!$N$22,'Project Summary Sheet (PSS)_1'!Z34*'PSS Savings Check_1'!$Y$9,IF('Project Summary Sheet (PSS)_1'!Y34='PSS References'!$N$23,'Project Summary Sheet (PSS)_1'!Z34*'PSS Savings Check_1'!$AC$9,IF('Project Summary Sheet (PSS)_1'!Y34='PSS References'!$N$24,'Project Summary Sheet (PSS)_1'!Z34*'PSS Savings Check_1'!$AE$9,IF('Project Summary Sheet (PSS)_1'!Y34='PSS References'!$N$25,'Project Summary Sheet (PSS)_1'!Z34*'PSS Savings Check_1'!$AG$9,IF('Project Summary Sheet (PSS)_1'!Y34='PSS References'!$N$17,\"Can't be 'Multiple'\",))))))))),\"-\")))","v":""},{"$f":"IF(A14=\"\",\"\",IF('Project Summary Sheet (PSS)_1'!I34=\"\",\"-\",IF('Project Summary Sheet (PSS)_1'!I34='PSS References'!$N$17,IF('Project Summary Sheet (PSS)_1'!AA34='PSS References'!$N$18,'Project Summary Sheet (PSS)_1'!AB34*'PSS Savings Check_1'!$W$9,IF('Project Summary Sheet (PSS)_1'!AA34='PSS References'!N27,'Project Summary Sheet (PSS)_1'!AB34*'PSS Savings Check_1'!$AA$9,IF('Project Summary Sheet (PSS)_1'!AA34='PSS References'!$N$20,'Project Summary Sheet (PSS)_1'!AB34*'PSS Savings Check_1'!$Y$9,IF('Project Summary Sheet (PSS)_1'!AA34='PSS References'!$N$21,'Project Summary Sheet (PSS)_1'!AB34*'PSS Savings Check_1'!$Y$9,IF('Project Summary Sheet (PSS)_1'!AA34='PSS References'!$N$22,'Project Summary Sheet (PSS)_1'!AB34*'PSS Savings Check_1'!$Y$9,IF('Project Summary Sheet (PSS)_1'!AA34='PSS References'!$N$23,'Project Summary Sheet (PSS)_1'!AB34*'PSS Savings Check_1'!$AC$9,IF('Project Summary Sheet (PSS)_1'!AA34='PSS References'!$N$24,'Project Summary Sheet (PSS)_1'!AB34*'PSS Savings Check_1'!$AE$9,IF('Project Summary Sheet (PSS)_1'!AA34='PSS References'!$N$25,'Project Summary Sheet (PSS)_1'!AB34*'PSS Savings Check_1'!$AG$9,IF('Project Summary Sheet (PSS)_1'!AA34='PSS References'!$N$17,\"Can't be 'Multiple'\",))))))))),\"-\")))","v":""},"",{"$f":"IF('Project Summary Sheet (PSS)_1'!L34=\"\",\"\",'Project Summary Sheet (PSS)_1'!L34)","v":""},""]
[{"$f":"IF('Project Summary Sheet (PSS)_1'!B35=\"\",\"\",'Project Summary Sheet (PSS)_1'!B35)","v":""},{"$f":"IF('Project Summary Sheet (PSS)_1'!C35=\"\",\"\",'Project Summary Sheet (PSS)_1'!C35)","v":""},{"$f":"IFERROR(VLOOKUP(A15,'Project Summary Sheet (PSS)_1'!$B$23:$Q$75,6,FALSE)/'Project Summary Sheet (PSS)_1'!$D$17,\"\")","v":""},{"$f":"IFERROR(VLOOKUP(A15,'Project Summary Sheet (PSS)_1'!$B$23:$Q$75,9,FALSE)/('Project Summary Sheet (PSS)_1'!$T$17-('Project Summary Sheet (PSS)_1'!$D$17*'PSS References'!$E$11)),\"\")","v":""},{"$f":"IFERROR(((VLOOKUP(A15,'Project Summary Sheet (PSS)_1'!$B$23:$Q$75,6,FALSE)*'PSS References'!$E$11)+VLOOKUP(A15,'Project Summary Sheet (PSS)_1'!$B$23:$Q$75,9,FALSE))/'Project Summary Sheet (PSS)_1'!$T$17,\"\")","v":""},{"$f":"IF(A15=\"\",\"\",IF(M15<0,IF(OR(M15<'Project Summary Sheet (PSS)_1'!L35*1.1,M15>'Project Summary Sheet (PSS)_1'!L35*0.9),\"Check Rates\",\"Rate OK\"),IF(OR(M15>'Project Summary Sheet (PSS)_1'!L35*1.1,M15<'Project Summary Sheet (PSS)_1'!L35*0.9),\"Check Rates\",\"Rate OK\")))","v":""},{"$f":"IF(A15=\"\",\"\",'Project Summary Sheet (PSS)_1'!G35*'Project Summary Sheet (PSS)_1'!$E$18)","v":""},{"$f":"IF(A15=\"\",\"\",IF('Project Summary Sheet (PSS)_1'!$F$18<>\"\",('Project Summary Sheet (PSS)_1'!H35*'Project Summary Sheet (PSS)_1'!$F$18),0))","v":""},{"$f":"IF(A15=\"\",\"\",IF('Project Summary Sheet (PSS)_1'!I35=\"\",\"-\",IF('Project Summary Sheet (PSS)_1'!I35='PSS References'!$N$18,'Project Summary Sheet (PSS)_1'!J35*'PSS Savings Check_1'!$W$9,IF('Project Summary Sheet (PSS)_1'!I35='PSS References'!$N$19,'Project Summary Sheet (PSS)_1'!J35*'PSS Savings Check_1'!$AA$9,IF('Project Summary Sheet (PSS)_1'!I35='PSS References'!$N$20,'Project Summary Sheet (PSS)_1'!J35*'PSS Savings Check_1'!$Y$9,IF('Project Summary Sheet (PSS)_1'!I35='PSS References'!$N$21,'Project Summary Sheet (PSS)_1'!J35*'PSS Savings Check_1'!$Y$9,IF('Project Summary Sheet (PSS)_1'!I35='PSS References'!$N$22,'Project Summary Sheet (PSS)_1'!J35*'PSS Savings Check_1'!$Y$9,IF('Project Summary Sheet (PSS)_1'!I35='PSS References'!$N$23,'Project Summary Sheet (PSS)_1'!J35*'PSS Savings Check_1'!$AC$9,IF('Project Summary Sheet (PSS)_1'!I35='PSS References'!$N$24,'Project Summary Sheet (PSS)_1'!J35*'PSS Savings Check_1'!$AE$9,IF('Project Summary Sheet (PSS)_1'!I35='PSS References'!$N$25,'Project Summary Sheet (PSS)_1'!J35*'PSS Savings Check_1'!$AG$9,IF('Project Summary Sheet (PSS)_1'!I35='PSS References'!$N$17,\"-\")))))))))))","v":""},{"$f":"IF(A15=\"\",\"\",IF('Project Summary Sheet (PSS)_1'!I35=\"\",\"-\",IF('Project Summary Sheet (PSS)_1'!I35='PSS References'!$N$17,IF('Project Summary Sheet (PSS)_1'!W35='PSS References'!$N$18,'Project Summary Sheet (PSS)_1'!X35*'PSS Savings Check_1'!$W$9,IF('Project Summary Sheet (PSS)_1'!W35='PSS References'!$N$19,'Project Summary Sheet (PSS)_1'!X35*'PSS Savings Check_1'!$AA$9,IF('Project Summary Sheet (PSS)_1'!W35='PSS References'!$N$20,'Project Summary Sheet (PSS)_1'!X35*'PSS Savings Check_1'!$Y$9,IF('Project Summary Sheet (PSS)_1'!W35='PSS References'!$N$21,'Project Summary Sheet (PSS)_1'!X35*'PSS Savings Check_1'!$Y$9,IF('Project Summary Sheet (PSS)_1'!W35='PSS References'!$N$22,'Project Summary Sheet (PSS)_1'!X35*'PSS Savings Check_1'!$Y$9,IF('Project Summary Sheet (PSS)_1'!W35='PSS References'!$N$23,'Project Summary Sheet (PSS)_1'!X35*'PSS Savings Check_1'!$AC$9,IF('Project Summary Sheet (PSS)_1'!W35='PSS References'!$N$24,'Project Summary Sheet (PSS)_1'!X35*'PSS Savings Check_1'!$AE$9,IF('Project Summary Sheet (PSS)_1'!W35='PSS References'!$N$25,'Project Summary Sheet (PSS)_1'!X35*'PSS Savings Check_1'!$AG$9,IF('Project Summary Sheet (PSS)_1'!W35='PSS References'!$N$17,\"Can't be 'Multiple'\",))))))))),\"-\")))","v":""},{"$f":"IF(A15=\"\",\"\",IF('Project Summary Sheet (PSS)_1'!I35=\"\",\"-\",IF('Project Summary Sheet (PSS)_1'!I35='PSS References'!$N$17,IF('Project Summary Sheet (PSS)_1'!Y35='PSS References'!$N$18,'Project Summary Sheet (PSS)_1'!Z35*'PSS Savings Check_1'!$W$9,IF('Project Summary Sheet (PSS)_1'!Y35='PSS References'!$N$19,'Project Summary Sheet (PSS)_1'!Z35*'PSS Savings Check_1'!$AA$9,IF('Project Summary Sheet (PSS)_1'!Y35='PSS References'!$N$20,'Project Summary Sheet (PSS)_1'!Z35*'PSS Savings Check_1'!$Y$9,IF('Project Summary Sheet (PSS)_1'!Y35='PSS References'!$N$21,'Project Summary Sheet (PSS)_1'!Z35*'PSS Savings Check_1'!$Y$9,IF('Project Summary Sheet (PSS)_1'!Y35='PSS References'!$N$22,'Project Summary Sheet (PSS)_1'!Z35*'PSS Savings Check_1'!$Y$9,IF('Project Summary Sheet (PSS)_1'!Y35='PSS References'!$N$23,'Project Summary Sheet (PSS)_1'!Z35*'PSS Savings Check_1'!$AC$9,IF('Project Summary Sheet (PSS)_1'!Y35='PSS References'!$N$24,'Project Summary Sheet (PSS)_1'!Z35*'PSS Savings Check_1'!$AE$9,IF('Project Summary Sheet (PSS)_1'!Y35='PSS References'!$N$25,'Project Summary Sheet (PSS)_1'!Z35*'PSS Savings Check_1'!$AG$9,IF('Project Summary Sheet (PSS)_1'!Y35='PSS References'!$N$17,\"Can't be 'Multiple'\",))))))))),\"-\")))","v":""},{"$f":"IF(A15=\"\",\"\",IF('Project Summary Sheet (PSS)_1'!I35=\"\",\"-\",IF('Project Summary Sheet (PSS)_1'!I35='PSS References'!$N$17,IF('Project Summary Sheet (PSS)_1'!AA35='PSS References'!$N$18,'Project Summary Sheet (PSS)_1'!AB35*'PSS Savings Check_1'!$W$9,IF('Project Summary Sheet (PSS)_1'!AA35='PSS References'!N28,'Project Summary Sheet (PSS)_1'!AB35*'PSS Savings Check_1'!$AA$9,IF('Project Summary Sheet (PSS)_1'!AA35='PSS References'!$N$20,'Project Summary Sheet (PSS)_1'!AB35*'PSS Savings Check_1'!$Y$9,IF('Project Summary Sheet (PSS)_1'!AA35='PSS References'!$N$21,'Project Summary Sheet (PSS)_1'!AB35*'PSS Savings Check_1'!$Y$9,IF('Project Summary Sheet (PSS)_1'!AA35='PSS References'!$N$22,'Project Summary Sheet (PSS)_1'!AB35*'PSS Savings Check_1'!$Y$9,IF('Project Summary Sheet (PSS)_1'!AA35='PSS References'!$N$23,'Project Summary Sheet (PSS)_1'!AB35*'PSS Savings Check_1'!$AC$9,IF('Project Summary Sheet (PSS)_1'!AA35='PSS References'!$N$24,'Project Summary Sheet (PSS)_1'!AB35*'PSS Savings Check_1'!$AE$9,IF('Project Summary Sheet (PSS)_1'!AA35='PSS References'!$N$25,'Project Summary Sheet (PSS)_1'!AB35*'PSS Savings Check_1'!$AG$9,IF('Project Summary Sheet (PSS)_1'!AA35='PSS References'!$N$17,\"Can't be 'Multiple'\",))))))))),\"-\")))","v":""},"",{"$f":"IF('Project Summary Sheet (PSS)_1'!L35=\"\",\"\",'Project Summary Sheet (PSS)_1'!L35)","v":""},""]
[{"$f":"IF('Project Summary Sheet (PSS)_1'!B36=\"\",\"\",'Project Summary Sheet (PSS)_1'!B36)","v":""},{"$f":"IF('Project Summary Sheet (PSS)_1'!C36=\"\",\"\",'Project Summary Sheet (PSS)_1'!C36)","v":""},{"$f":"IFERROR(VLOOKUP(A16,'Project Summary Sheet (PSS)_1'!$B$23:$Q$75,6,FALSE)/'Project Summary Sheet (PSS)_1'!$D$17,\"\")","v":""},{"$f":"IFERROR(VLOOKUP(A16,'Project Summary Sheet (PSS)_1'!$B$23:$Q$75,9,FALSE)/('Project Summary Sheet (PSS)_1'!$T$17-('Project Summary Sheet (PSS)_1'!$D$17*'PSS References'!$E$11)),\"\")","v":""},{"$f":"IFERROR(((VLOOKUP(A16,'Project Summary Sheet (PSS)_1'!$B$23:$Q$75,6,FALSE)*'PSS References'!$E$11)+VLOOKUP(A16,'Project Summary Sheet (PSS)_1'!$B$23:$Q$75,9,FALSE))/'Project Summary Sheet (PSS)_1'!$T$17,\"\")","v":""},{"$f":"IF(A16=\"\",\"\",IF(M16<0,IF(OR(M16<'Project Summary Sheet (PSS)_1'!L36*1.1,M16>'Project Summary Sheet (PSS)_1'!L36*0.9),\"Check Rates\",\"Rate OK\"),IF(OR(M16>'Project Summary Sheet (PSS)_1'!L36*1.1,M16<'Project Summary Sheet (PSS)_1'!L36*0.9),\"Check Rates\",\"Rate OK\")))","v":""},{"$f":"IF(A16=\"\",\"\",'Project Summary Sheet (PSS)_1'!G36*'Project Summary Sheet (PSS)_1'!$E$18)","v":""},{"$f":"IF(A16=\"\",\"\",IF('Project Summary Sheet (PSS)_1'!$F$18<>\"\",('Project Summary Sheet (PSS)_1'!H36*'Project Summary Sheet (PSS)_1'!$F$18),0))","v":""},{"$f":"IF(A16=\"\",\"\",IF('Project Summary Sheet (PSS)_1'!I36=\"\",\"-\",IF('Project Summary Sheet (PSS)_1'!I36='PSS References'!$N$18,'Project Summary Sheet (PSS)_1'!J36*'PSS Savings Check_1'!$W$9,IF('Project Summary Sheet (PSS)_1'!I36='PSS References'!$N$19,'Project Summary Sheet (PSS)_1'!J36*'PSS Savings Check_1'!$AA$9,IF('Project Summary Sheet (PSS)_1'!I36='PSS References'!$N$20,'Project Summary Sheet (PSS)_1'!J36*'PSS Savings Check_1'!$Y$9,IF('Project Summary Sheet (PSS)_1'!I36='PSS References'!$N$21,'Project Summary Sheet (PSS)_1'!J36*'PSS Savings Check_1'!$Y$9,IF('Project Summary Sheet (PSS)_1'!I36='PSS References'!$N$22,'Project Summary Sheet (PSS)_1'!J36*'PSS Savings Check_1'!$Y$9,IF('Project Summary Sheet (PSS)_1'!I36='PSS References'!$N$23,'Project Summary Sheet (PSS)_1'!J36*'PSS Savings Check_1'!$AC$9,IF('Project Summary Sheet (PSS)_1'!I36='PSS References'!$N$24,'Project Summary Sheet (PSS)_1'!J36*'PSS Savings Check_1'!$AE$9,IF('Project Summary Sheet (PSS)_1'!I36='PSS References'!$N$25,'Project Summary Sheet (PSS)_1'!J36*'PSS Savings Check_1'!$AG$9,IF('Project Summary Sheet (PSS)_1'!I36='PSS References'!$N$17,\"-\")))))))))))","v":""},{"$f":"IF(A16=\"\",\"\",IF('Project Summary Sheet (PSS)_1'!I36=\"\",\"-\",IF('Project Summary Sheet (PSS)_1'!I36='PSS References'!$N$17,IF('Project Summary Sheet (PSS)_1'!W36='PSS References'!$N$18,'Project Summary Sheet (PSS)_1'!X36*'PSS Savings Check_1'!$W$9,IF('Project Summary Sheet (PSS)_1'!W36='PSS References'!$N$19,'Project Summary Sheet (PSS)_1'!X36*'PSS Savings Check_1'!$AA$9,IF('Project Summary Sheet (PSS)_1'!W36='PSS References'!$N$20,'Project Summary Sheet (PSS)_1'!X36*'PSS Savings Check_1'!$Y$9,IF('Project Summary Sheet (PSS)_1'!W36='PSS References'!$N$21,'Project Summary Sheet (PSS)_1'!X36*'PSS Savings Check_1'!$Y$9,IF('Project Summary Sheet (PSS)_1'!W36='PSS References'!$N$22,'Project Summary Sheet (PSS)_1'!X36*'PSS Savings Check_1'!$Y$9,IF('Project Summary Sheet (PSS)_1'!W36='PSS References'!$N$23,'Project Summary Sheet (PSS)_1'!X36*'PSS Savings Check_1'!$AC$9,IF('Project Summary Sheet (PSS)_1'!W36='PSS References'!$N$24,'Project Summary Sheet (PSS)_1'!X36*'PSS Savings Check_1'!$AE$9,IF('Project Summary Sheet (PSS)_1'!W36='PSS References'!$N$25,'Project Summary Sheet (PSS)_1'!X36*'PSS Savings Check_1'!$AG$9,IF('Project Summary Sheet (PSS)_1'!W36='PSS References'!$N$17,\"Can't be 'Multiple'\",))))))))),\"-\")))","v":""},{"$f":"IF(A16=\"\",\"\",IF('Project Summary Sheet (PSS)_1'!I36=\"\",\"-\",IF('Project Summary Sheet (PSS)_1'!I36='PSS References'!$N$17,IF('Project Summary Sheet (PSS)_1'!Y36='PSS References'!$N$18,'Project Summary Sheet (PSS)_1'!Z36*'PSS Savings Check_1'!$W$9,IF('Project Summary Sheet (PSS)_1'!Y36='PSS References'!$N$19,'Project Summary Sheet (PSS)_1'!Z36*'PSS Savings Check_1'!$AA$9,IF('Project Summary Sheet (PSS)_1'!Y36='PSS References'!$N$20,'Project Summary Sheet (PSS)_1'!Z36*'PSS Savings Check_1'!$Y$9,IF('Project Summary Sheet (PSS)_1'!Y36='PSS References'!$N$21,'Project Summary Sheet (PSS)_1'!Z36*'PSS Savings Check_1'!$Y$9,IF('Project Summary Sheet (PSS)_1'!Y36='PSS References'!$N$22,'Project Summary Sheet (PSS)_1'!Z36*'PSS Savings Check_1'!$Y$9,IF('Project Summary Sheet (PSS)_1'!Y36='PSS References'!$N$23,'Project Summary Sheet (PSS)_1'!Z36*'PSS Savings Check_1'!$AC$9,IF('Project Summary Sheet (PSS)_1'!Y36='PSS References'!$N$24,'Project Summary Sheet (PSS)_1'!Z36*'PSS Savings Check_1'!$AE$9,IF('Project Summary Sheet (PSS)_1'!Y36='PSS References'!$N$25,'Project Summary Sheet (PSS)_1'!Z36*'PSS Savings Check_1'!$AG$9,IF('Project Summary Sheet (PSS)_1'!Y36='PSS References'!$N$17,\"Can't be 'Multiple'\",))))))))),\"-\")))","v":""},{"$f":"IF(A16=\"\",\"\",IF('Project Summary Sheet (PSS)_1'!I36=\"\",\"-\",IF('Project Summary Sheet (PSS)_1'!I36='PSS References'!$N$17,IF('Project Summary Sheet (PSS)_1'!AA36='PSS References'!$N$18,'Project Summary Sheet (PSS)_1'!AB36*'PSS Savings Check_1'!$W$9,IF('Project Summary Sheet (PSS)_1'!AA36='PSS References'!N29,'Project Summary Sheet (PSS)_1'!AB36*'PSS Savings Check_1'!$AA$9,IF('Project Summary Sheet (PSS)_1'!AA36='PSS References'!$N$20,'Project Summary Sheet (PSS)_1'!AB36*'PSS Savings Check_1'!$Y$9,IF('Project Summary Sheet (PSS)_1'!AA36='PSS References'!$N$21,'Project Summary Sheet (PSS)_1'!AB36*'PSS Savings Check_1'!$Y$9,IF('Project Summary Sheet (PSS)_1'!AA36='PSS References'!$N$22,'Project Summary Sheet (PSS)_1'!AB36*'PSS Savings Check_1'!$Y$9,IF('Project Summary Sheet (PSS)_1'!AA36='PSS References'!$N$23,'Project Summary Sheet (PSS)_1'!AB36*'PSS Savings Check_1'!$AC$9,IF('Project Summary Sheet (PSS)_1'!AA36='PSS References'!$N$24,'Project Summary Sheet (PSS)_1'!AB36*'PSS Savings Check_1'!$AE$9,IF('Project Summary Sheet (PSS)_1'!AA36='PSS References'!$N$25,'Project Summary Sheet (PSS)_1'!AB36*'PSS Savings Check_1'!$AG$9,IF('Project Summary Sheet (PSS)_1'!AA36='PSS References'!$N$17,\"Can't be 'Multiple'\",))))))))),\"-\")))","v":""},"",{"$f":"IF('Project Summary Sheet (PSS)_1'!L36=\"\",\"\",'Project Summary Sheet (PSS)_1'!L36)","v":""},""]
[{"$f":"IF('Project Summary Sheet (PSS)_1'!B37=\"\",\"\",'Project Summary Sheet (PSS)_1'!B37)","v":""},{"$f":"IF('Project Summary Sheet (PSS)_1'!C37=\"\",\"\",'Project Summary Sheet (PSS)_1'!C37)","v":""},{"$f":"IFERROR(VLOOKUP(A17,'Project Summary Sheet (PSS)_1'!$B$23:$Q$75,6,FALSE)/'Project Summary Sheet (PSS)_1'!$D$17,\"\")","v":""},{"$f":"IFERROR(VLOOKUP(A17,'Project Summary Sheet (PSS)_1'!$B$23:$Q$75,9,FALSE)/('Project Summary Sheet (PSS)_1'!$T$17-('Project Summary Sheet (PSS)_1'!$D$17*'PSS References'!$E$11)),\"\")","v":""},{"$f":"IFERROR(((VLOOKUP(A17,'Project Summary Sheet (PSS)_1'!$B$23:$Q$75,6,FALSE)*'PSS References'!$E$11)+VLOOKUP(A17,'Project Summary Sheet (PSS)_1'!$B$23:$Q$75,9,FALSE))/'Project Summary Sheet (PSS)_1'!$T$17,\"\")","v":""},{"$f":"IF(A17=\"\",\"\",IF(M17<0,IF(OR(M17<'Project Summary Sheet (PSS)_1'!L37*1.1,M17>'Project Summary Sheet (PSS)_1'!L37*0.9),\"Check Rates\",\"Rate OK\"),IF(OR(M17>'Project Summary Sheet (PSS)_1'!L37*1.1,M17<'Project Summary Sheet (PSS)_1'!L37*0.9),\"Check Rates\",\"Rate OK\")))","v":""},{"$f":"IF(A17=\"\",\"\",'Project Summary Sheet (PSS)_1'!G37*'Project Summary Sheet (PSS)_1'!$E$18)","v":""},{"$f":"IF(A17=\"\",\"\",IF('Project Summary Sheet (PSS)_1'!$F$18<>\"\",('Project Summary Sheet (PSS)_1'!H37*'Project Summary Sheet (PSS)_1'!$F$18),0))","v":""},{"$f":"IF(A17=\"\",\"\",IF('Project Summary Sheet (PSS)_1'!I37=\"\",\"-\",IF('Project Summary Sheet (PSS)_1'!I37='PSS References'!$N$18,'Project Summary Sheet (PSS)_1'!J37*'PSS Savings Check_1'!$W$9,IF('Project Summary Sheet (PSS)_1'!I37='PSS References'!$N$19,'Project Summary Sheet (PSS)_1'!J37*'PSS Savings Check_1'!$AA$9,IF('Project Summary Sheet (PSS)_1'!I37='PSS References'!$N$20,'Project Summary Sheet (PSS)_1'!J37*'PSS Savings Check_1'!$Y$9,IF('Project Summary Sheet (PSS)_1'!I37='PSS References'!$N$21,'Project Summary Sheet (PSS)_1'!J37*'PSS Savings Check_1'!$Y$9,IF('Project Summary Sheet (PSS)_1'!I37='PSS References'!$N$22,'Project Summary Sheet (PSS)_1'!J37*'PSS Savings Check_1'!$Y$9,IF('Project Summary Sheet (PSS)_1'!I37='PSS References'!$N$23,'Project Summary Sheet (PSS)_1'!J37*'PSS Savings Check_1'!$AC$9,IF('Project Summary Sheet (PSS)_1'!I37='PSS References'!$N$24,'Project Summary Sheet (PSS)_1'!J37*'PSS Savings Check_1'!$AE$9,IF('Project Summary Sheet (PSS)_1'!I37='PSS References'!$N$25,'Project Summary Sheet (PSS)_1'!J37*'PSS Savings Check_1'!$AG$9,IF('Project Summary Sheet (PSS)_1'!I37='PSS References'!$N$17,\"-\")))))))))))","v":""},{"$f":"IF(A17=\"\",\"\",IF('Project Summary Sheet (PSS)_1'!I37=\"\",\"-\",IF('Project Summary Sheet (PSS)_1'!I37='PSS References'!$N$17,IF('Project Summary Sheet (PSS)_1'!W37='PSS References'!$N$18,'Project Summary Sheet (PSS)_1'!X37*'PSS Savings Check_1'!$W$9,IF('Project Summary Sheet (PSS)_1'!W37='PSS References'!$N$19,'Project Summary Sheet (PSS)_1'!X37*'PSS Savings Check_1'!$AA$9,IF('Project Summary Sheet (PSS)_1'!W37='PSS References'!$N$20,'Project Summary Sheet (PSS)_1'!X37*'PSS Savings Check_1'!$Y$9,IF('Project Summary Sheet (PSS)_1'!W37='PSS References'!$N$21,'Project Summary Sheet (PSS)_1'!X37*'PSS Savings Check_1'!$Y$9,IF('Project Summary Sheet (PSS)_1'!W37='PSS References'!$N$22,'Project Summary Sheet (PSS)_1'!X37*'PSS Savings Check_1'!$Y$9,IF('Project Summary Sheet (PSS)_1'!W37='PSS References'!$N$23,'Project Summary Sheet (PSS)_1'!X37*'PSS Savings Check_1'!$AC$9,IF('Project Summary Sheet (PSS)_1'!W37='PSS References'!$N$24,'Project Summary Sheet (PSS)_1'!X37*'PSS Savings Check_1'!$AE$9,IF('Project Summary Sheet (PSS)_1'!W37='PSS References'!$N$25,'Project Summary Sheet (PSS)_1'!X37*'PSS Savings Check_1'!$AG$9,IF('Project Summary Sheet (PSS)_1'!W37='PSS References'!$N$17,\"Can't be 'Multiple'\",))))))))),\"-\")))","v":""},{"$f":"IF(A17=\"\",\"\",IF('Project Summary Sheet (PSS)_1'!I37=\"\",\"-\",IF('Project Summary Sheet (PSS)_1'!I37='PSS References'!$N$17,IF('Project Summary Sheet (PSS)_1'!Y37='PSS References'!$N$18,'Project Summary Sheet (PSS)_1'!Z37*'PSS Savings Check_1'!$W$9,IF('Project Summary Sheet (PSS)_1'!Y37='PSS References'!$N$19,'Project Summary Sheet (PSS)_1'!Z37*'PSS Savings Check_1'!$AA$9,IF('Project Summary Sheet (PSS)_1'!Y37='PSS References'!$N$20,'Project Summary Sheet (PSS)_1'!Z37*'PSS Savings Check_1'!$Y$9,IF('Project Summary Sheet (PSS)_1'!Y37='PSS References'!$N$21,'Project Summary Sheet (PSS)_1'!Z37*'PSS Savings Check_1'!$Y$9,IF('Project Summary Sheet (PSS)_1'!Y37='PSS References'!$N$22,'Project Summary Sheet (PSS)_1'!Z37*'PSS Savings Check_1'!$Y$9,IF('Project Summary Sheet (PSS)_1'!Y37='PSS References'!$N$23,'Project Summary Sheet (PSS)_1'!Z37*'PSS Savings Check_1'!$AC$9,IF('Project Summary Sheet (PSS)_1'!Y37='PSS References'!$N$24,'Project Summary Sheet (PSS)_1'!Z37*'PSS Savings Check_1'!$AE$9,IF('Project Summary Sheet (PSS)_1'!Y37='PSS References'!$N$25,'Project Summary Sheet (PSS)_1'!Z37*'PSS Savings Check_1'!$AG$9,IF('Project Summary Sheet (PSS)_1'!Y37='PSS References'!$N$17,\"Can't be 'Multiple'\",))))))))),\"-\")))","v":""},{"$f":"IF(A17=\"\",\"\",IF('Project Summary Sheet (PSS)_1'!I37=\"\",\"-\",IF('Project Summary Sheet (PSS)_1'!I37='PSS References'!$N$17,IF('Project Summary Sheet (PSS)_1'!AA37='PSS References'!$N$18,'Project Summary Sheet (PSS)_1'!AB37*'PSS Savings Check_1'!$W$9,IF('Project Summary Sheet (PSS)_1'!AA37='PSS References'!N30,'Project Summary Sheet (PSS)_1'!AB37*'PSS Savings Check_1'!$AA$9,IF('Project Summary Sheet (PSS)_1'!AA37='PSS References'!$N$20,'Project Summary Sheet (PSS)_1'!AB37*'PSS Savings Check_1'!$Y$9,IF('Project Summary Sheet (PSS)_1'!AA37='PSS References'!$N$21,'Project Summary Sheet (PSS)_1'!AB37*'PSS Savings Check_1'!$Y$9,IF('Project Summary Sheet (PSS)_1'!AA37='PSS References'!$N$22,'Project Summary Sheet (PSS)_1'!AB37*'PSS Savings Check_1'!$Y$9,IF('Project Summary Sheet (PSS)_1'!AA37='PSS References'!$N$23,'Project Summary Sheet (PSS)_1'!AB37*'PSS Savings Check_1'!$AC$9,IF('Project Summary Sheet (PSS)_1'!AA37='PSS References'!$N$24,'Project Summary Sheet (PSS)_1'!AB37*'PSS Savings Check_1'!$AE$9,IF('Project Summary Sheet (PSS)_1'!AA37='PSS References'!$N$25,'Project Summary Sheet (PSS)_1'!AB37*'PSS Savings Check_1'!$AG$9,IF('Project Summary Sheet (PSS)_1'!AA37='PSS References'!$N$17,\"Can't be 'Multiple'\",))))))))),\"-\")))","v":""},"",{"$f":"IF('Project Summary Sheet (PSS)_1'!L37=\"\",\"\",'Project Summary Sheet (PSS)_1'!L37)","v":""},""]
[{"$f":"IF('Project Summary Sheet (PSS)_1'!B38=\"\",\"\",'Project Summary Sheet (PSS)_1'!B38)","v":""},{"$f":"IF('Project Summary Sheet (PSS)_1'!C38=\"\",\"\",'Project Summary Sheet (PSS)_1'!C38)","v":""},{"$f":"IFERROR(VLOOKUP(A18,'Project Summary Sheet (PSS)_1'!$B$23:$Q$75,6,FALSE)/'Project Summary Sheet (PSS)_1'!$D$17,\"\")","v":""},{"$f":"IFERROR(VLOOKUP(A18,'Project Summary Sheet (PSS)_1'!$B$23:$Q$75,9,FALSE)/('Project Summary Sheet (PSS)_1'!$T$17-('Project Summary Sheet (PSS)_1'!$D$17*'PSS References'!$E$11)),\"\")","v":""},{"$f":"IFERROR(((VLOOKUP(A18,'Project Summary Sheet (PSS)_1'!$B$23:$Q$75,6,FALSE)*'PSS References'!$E$11)+VLOOKUP(A18,'Project Summary Sheet (PSS)_1'!$B$23:$Q$75,9,FALSE))/'Project Summary Sheet (PSS)_1'!$T$17,\"\")","v":""},{"$f":"IF(A18=\"\",\"\",IF(M18<0,IF(OR(M18<'Project Summary Sheet (PSS)_1'!L38*1.1,M18>'Project Summary Sheet (PSS)_1'!L38*0.9),\"Check Rates\",\"Rate OK\"),IF(OR(M18>'Project Summary Sheet (PSS)_1'!L38*1.1,M18<'Project Summary Sheet (PSS)_1'!L38*0.9),\"Check Rates\",\"Rate OK\")))","v":""},{"$f":"IF(A18=\"\",\"\",'Project Summary Sheet (PSS)_1'!G38*'Project Summary Sheet (PSS)_1'!$E$18)","v":""},{"$f":"IF(A18=\"\",\"\",IF('Project Summary Sheet (PSS)_1'!$F$18<>\"\",('Project Summary Sheet (PSS)_1'!H38*'Project Summary Sheet (PSS)_1'!$F$18),0))","v":""},{"$f":"IF(A18=\"\",\"\",IF('Project Summary Sheet (PSS)_1'!I38=\"\",\"-\",IF('Project Summary Sheet (PSS)_1'!I38='PSS References'!$N$18,'Project Summary Sheet (PSS)_1'!J38*'PSS Savings Check_1'!$W$9,IF('Project Summary Sheet (PSS)_1'!I38='PSS References'!$N$19,'Project Summary Sheet (PSS)_1'!J38*'PSS Savings Check_1'!$AA$9,IF('Project Summary Sheet (PSS)_1'!I38='PSS References'!$N$20,'Project Summary Sheet (PSS)_1'!J38*'PSS Savings Check_1'!$Y$9,IF('Project Summary Sheet (PSS)_1'!I38='PSS References'!$N$21,'Project Summary Sheet (PSS)_1'!J38*'PSS Savings Check_1'!$Y$9,IF('Project Summary Sheet (PSS)_1'!I38='PSS References'!$N$22,'Project Summary Sheet (PSS)_1'!J38*'PSS Savings Check_1'!$Y$9,IF('Project Summary Sheet (PSS)_1'!I38='PSS References'!$N$23,'Project Summary Sheet (PSS)_1'!J38*'PSS Savings Check_1'!$AC$9,IF('Project Summary Sheet (PSS)_1'!I38='PSS References'!$N$24,'Project Summary Sheet (PSS)_1'!J38*'PSS Savings Check_1'!$AE$9,IF('Project Summary Sheet (PSS)_1'!I38='PSS References'!$N$25,'Project Summary Sheet (PSS)_1'!J38*'PSS Savings Check_1'!$AG$9,IF('Project Summary Sheet (PSS)_1'!I38='PSS References'!$N$17,\"-\")))))))))))","v":""},{"$f":"IF(A18=\"\",\"\",IF('Project Summary Sheet (PSS)_1'!I38=\"\",\"-\",IF('Project Summary Sheet (PSS)_1'!I38='PSS References'!$N$17,IF('Project Summary Sheet (PSS)_1'!W38='PSS References'!$N$18,'Project Summary Sheet (PSS)_1'!X38*'PSS Savings Check_1'!$W$9,IF('Project Summary Sheet (PSS)_1'!W38='PSS References'!$N$19,'Project Summary Sheet (PSS)_1'!X38*'PSS Savings Check_1'!$AA$9,IF('Project Summary Sheet (PSS)_1'!W38='PSS References'!$N$20,'Project Summary Sheet (PSS)_1'!X38*'PSS Savings Check_1'!$Y$9,IF('Project Summary Sheet (PSS)_1'!W38='PSS References'!$N$21,'Project Summary Sheet (PSS)_1'!X38*'PSS Savings Check_1'!$Y$9,IF('Project Summary Sheet (PSS)_1'!W38='PSS References'!$N$22,'Project Summary Sheet (PSS)_1'!X38*'PSS Savings Check_1'!$Y$9,IF('Project Summary Sheet (PSS)_1'!W38='PSS References'!$N$23,'Project Summary Sheet (PSS)_1'!X38*'PSS Savings Check_1'!$AC$9,IF('Project Summary Sheet (PSS)_1'!W38='PSS References'!$N$24,'Project Summary Sheet (PSS)_1'!X38*'PSS Savings Check_1'!$AE$9,IF('Project Summary Sheet (PSS)_1'!W38='PSS References'!$N$25,'Project Summary Sheet (PSS)_1'!X38*'PSS Savings Check_1'!$AG$9,IF('Project Summary Sheet (PSS)_1'!W38='PSS References'!$N$17,\"Can't be 'Multiple'\",))))))))),\"-\")))","v":""},{"$f":"IF(A18=\"\",\"\",IF('Project Summary Sheet (PSS)_1'!I38=\"\",\"-\",IF('Project Summary Sheet (PSS)_1'!I38='PSS References'!$N$17,IF('Project Summary Sheet (PSS)_1'!Y38='PSS References'!$N$18,'Project Summary Sheet (PSS)_1'!Z38*'PSS Savings Check_1'!$W$9,IF('Project Summary Sheet (PSS)_1'!Y38='PSS References'!$N$19,'Project Summary Sheet (PSS)_1'!Z38*'PSS Savings Check_1'!$AA$9,IF('Project Summary Sheet (PSS)_1'!Y38='PSS References'!$N$20,'Project Summary Sheet (PSS)_1'!Z38*'PSS Savings Check_1'!$Y$9,IF('Project Summary Sheet (PSS)_1'!Y38='PSS References'!$N$21,'Project Summary Sheet (PSS)_1'!Z38*'PSS Savings Check_1'!$Y$9,IF('Project Summary Sheet (PSS)_1'!Y38='PSS References'!$N$22,'Project Summary Sheet (PSS)_1'!Z38*'PSS Savings Check_1'!$Y$9,IF('Project Summary Sheet (PSS)_1'!Y38='PSS References'!$N$23,'Project Summary Sheet (PSS)_1'!Z38*'PSS Savings Check_1'!$AC$9,IF('Project Summary Sheet (PSS)_1'!Y38='PSS References'!$N$24,'Project Summary Sheet (PSS)_1'!Z38*'PSS Savings Check_1'!$AE$9,IF('Project Summary Sheet (PSS)_1'!Y38='PSS References'!$N$25,'Project Summary Sheet (PSS)_1'!Z38*'PSS Savings Check_1'!$AG$9,IF('Project Summary Sheet (PSS)_1'!Y38='PSS References'!$N$17,\"Can't be 'Multiple'\",))))))))),\"-\")))","v":""},{"$f":"IF(A18=\"\",\"\",IF('Project Summary Sheet (PSS)_1'!I38=\"\",\"-\",IF('Project Summary Sheet (PSS)_1'!I38='PSS References'!$N$17,IF('Project Summary Sheet (PSS)_1'!AA38='PSS References'!$N$18,'Project Summary Sheet (PSS)_1'!AB38*'PSS Savings Check_1'!$W$9,IF('Project Summary Sheet (PSS)_1'!AA38='PSS References'!N31,'Project Summary Sheet (PSS)_1'!AB38*'PSS Savings Check_1'!$AA$9,IF('Project Summary Sheet (PSS)_1'!AA38='PSS References'!$N$20,'Project Summary Sheet (PSS)_1'!AB38*'PSS Savings Check_1'!$Y$9,IF('Project Summary Sheet (PSS)_1'!AA38='PSS References'!$N$21,'Project Summary Sheet (PSS)_1'!AB38*'PSS Savings Check_1'!$Y$9,IF('Project Summary Sheet (PSS)_1'!AA38='PSS References'!$N$22,'Project Summary Sheet (PSS)_1'!AB38*'PSS Savings Check_1'!$Y$9,IF('Project Summary Sheet (PSS)_1'!AA38='PSS References'!$N$23,'Project Summary Sheet (PSS)_1'!AB38*'PSS Savings Check_1'!$AC$9,IF('Project Summary Sheet (PSS)_1'!AA38='PSS References'!$N$24,'Project Summary Sheet (PSS)_1'!AB38*'PSS Savings Check_1'!$AE$9,IF('Project Summary Sheet (PSS)_1'!AA38='PSS References'!$N$25,'Project Summary Sheet (PSS)_1'!AB38*'PSS Savings Check_1'!$AG$9,IF('Project Summary Sheet (PSS)_1'!AA38='PSS References'!$N$17,\"Can't be 'Multiple'\",))))))))),\"-\")))","v":""},"",{"$f":"IF('Project Summary Sheet (PSS)_1'!L38=\"\",\"\",'Project Summary Sheet (PSS)_1'!L38)","v":""},""]
[{"$f":"IF('Project Summary Sheet (PSS)_1'!B39=\"\",\"\",'Project Summary Sheet (PSS)_1'!B39)","v":""},{"$f":"IF('Project Summary Sheet (PSS)_1'!C39=\"\",\"\",'Project Summary Sheet (PSS)_1'!C39)","v":""},{"$f":"IFERROR(VLOOKUP(A19,'Project Summary Sheet (PSS)_1'!$B$23:$Q$75,6,FALSE)/'Project Summary Sheet (PSS)_1'!$D$17,\"\")","v":""},{"$f":"IFERROR(VLOOKUP(A19,'Project Summary Sheet (PSS)_1'!$B$23:$Q$75,9,FALSE)/('Project Summary Sheet (PSS)_1'!$T$17-('Project Summary Sheet (PSS)_1'!$D$17*'PSS References'!$E$11)),\"\")","v":""},{"$f":"IFERROR(((VLOOKUP(A19,'Project Summary Sheet (PSS)_1'!$B$23:$Q$75,6,FALSE)*'PSS References'!$E$11)+VLOOKUP(A19,'Project Summary Sheet (PSS)_1'!$B$23:$Q$75,9,FALSE))/'Project Summary Sheet (PSS)_1'!$T$17,\"\")","v":""},{"$f":"IF(A19=\"\",\"\",IF(M19<0,IF(OR(M19<'Project Summary Sheet (PSS)_1'!L39*1.1,M19>'Project Summary Sheet (PSS)_1'!L39*0.9),\"Check Rates\",\"Rate OK\"),IF(OR(M19>'Project Summary Sheet (PSS)_1'!L39*1.1,M19<'Project Summary Sheet (PSS)_1'!L39*0.9),\"Check Rates\",\"Rate OK\")))","v":""},{"$f":"IF(A19=\"\",\"\",'Project Summary Sheet (PSS)_1'!G39*'Project Summary Sheet (PSS)_1'!$E$18)","v":""},{"$f":"IF(A19=\"\",\"\",IF('Project Summary Sheet (PSS)_1'!$F$18<>\"\",('Project Summary Sheet (PSS)_1'!H39*'Project Summary Sheet (PSS)_1'!$F$18),0))","v":""},{"$f":"IF(A19=\"\",\"\",IF('Project Summary Sheet (PSS)_1'!I39=\"\",\"-\",IF('Project Summary Sheet (PSS)_1'!I39='PSS References'!$N$18,'Project Summary Sheet (PSS)_1'!J39*'PSS Savings Check_1'!$W$9,IF('Project Summary Sheet (PSS)_1'!I39='PSS References'!$N$19,'Project Summary Sheet (PSS)_1'!J39*'PSS Savings Check_1'!$AA$9,IF('Project Summary Sheet (PSS)_1'!I39='PSS References'!$N$20,'Project Summary Sheet (PSS)_1'!J39*'PSS Savings Check_1'!$Y$9,IF('Project Summary Sheet (PSS)_1'!I39='PSS References'!$N$21,'Project Summary Sheet (PSS)_1'!J39*'PSS Savings Check_1'!$Y$9,IF('Project Summary Sheet (PSS)_1'!I39='PSS References'!$N$22,'Project Summary Sheet (PSS)_1'!J39*'PSS Savings Check_1'!$Y$9,IF('Project Summary Sheet (PSS)_1'!I39='PSS References'!$N$23,'Project Summary Sheet (PSS)_1'!J39*'PSS Savings Check_1'!$AC$9,IF('Project Summary Sheet (PSS)_1'!I39='PSS References'!$N$24,'Project Summary Sheet (PSS)_1'!J39*'PSS Savings Check_1'!$AE$9,IF('Project Summary Sheet (PSS)_1'!I39='PSS References'!$N$25,'Project Summary Sheet (PSS)_1'!J39*'PSS Savings Check_1'!$AG$9,IF('Project Summary Sheet (PSS)_1'!I39='PSS References'!$N$17,\"-\")))))))))))","v":""},{"$f":"IF(A19=\"\",\"\",IF('Project Summary Sheet (PSS)_1'!I39=\"\",\"-\",IF('Project Summary Sheet (PSS)_1'!I39='PSS References'!$N$17,IF('Project Summary Sheet (PSS)_1'!W39='PSS References'!$N$18,'Project Summary Sheet (PSS)_1'!X39*'PSS Savings Check_1'!$W$9,IF('Project Summary Sheet (PSS)_1'!W39='PSS References'!$N$19,'Project Summary Sheet (PSS)_1'!X39*'PSS Savings Check_1'!$AA$9,IF('Project Summary Sheet (PSS)_1'!W39='PSS References'!$N$20,'Project Summary Sheet (PSS)_1'!X39*'PSS Savings Check_1'!$Y$9,IF('Project Summary Sheet (PSS)_1'!W39='PSS References'!$N$21,'Project Summary Sheet (PSS)_1'!X39*'PSS Savings Check_1'!$Y$9,IF('Project Summary Sheet (PSS)_1'!W39='PSS References'!$N$22,'Project Summary Sheet (PSS)_1'!X39*'PSS Savings Check_1'!$Y$9,IF('Project Summary Sheet (PSS)_1'!W39='PSS References'!$N$23,'Project Summary Sheet (PSS)_1'!X39*'PSS Savings Check_1'!$AC$9,IF('Project Summary Sheet (PSS)_1'!W39='PSS References'!$N$24,'Project Summary Sheet (PSS)_1'!X39*'PSS Savings Check_1'!$AE$9,IF('Project Summary Sheet (PSS)_1'!W39='PSS References'!$N$25,'Project Summary Sheet (PSS)_1'!X39*'PSS Savings Check_1'!$AG$9,IF('Project Summary Sheet (PSS)_1'!W39='PSS References'!$N$17,\"Can't be 'Multiple'\",))))))))),\"-\")))","v":""},{"$f":"IF(A19=\"\",\"\",IF('Project Summary Sheet (PSS)_1'!I39=\"\",\"-\",IF('Project Summary Sheet (PSS)_1'!I39='PSS References'!$N$17,IF('Project Summary Sheet (PSS)_1'!Y39='PSS References'!$N$18,'Project Summary Sheet (PSS)_1'!Z39*'PSS Savings Check_1'!$W$9,IF('Project Summary Sheet (PSS)_1'!Y39='PSS References'!$N$19,'Project Summary Sheet (PSS)_1'!Z39*'PSS Savings Check_1'!$AA$9,IF('Project Summary Sheet (PSS)_1'!Y39='PSS References'!$N$20,'Project Summary Sheet (PSS)_1'!Z39*'PSS Savings Check_1'!$Y$9,IF('Project Summary Sheet (PSS)_1'!Y39='PSS References'!$N$21,'Project Summary Sheet (PSS)_1'!Z39*'PSS Savings Check_1'!$Y$9,IF('Project Summary Sheet (PSS)_1'!Y39='PSS References'!$N$22,'Project Summary Sheet (PSS)_1'!Z39*'PSS Savings Check_1'!$Y$9,IF('Project Summary Sheet (PSS)_1'!Y39='PSS References'!$N$23,'Project Summary Sheet (PSS)_1'!Z39*'PSS Savings Check_1'!$AC$9,IF('Project Summary Sheet (PSS)_1'!Y39='PSS References'!$N$24,'Project Summary Sheet (PSS)_1'!Z39*'PSS Savings Check_1'!$AE$9,IF('Project Summary Sheet (PSS)_1'!Y39='PSS References'!$N$25,'Project Summary Sheet (PSS)_1'!Z39*'PSS Savings Check_1'!$AG$9,IF('Project Summary Sheet (PSS)_1'!Y39='PSS References'!$N$17,\"Can't be 'Multiple'\",))))))))),\"-\")))","v":""},{"$f":"IF(A19=\"\",\"\",IF('Project Summary Sheet (PSS)_1'!I39=\"\",\"-\",IF('Project Summary Sheet (PSS)_1'!I39='PSS References'!$N$17,IF('Project Summary Sheet (PSS)_1'!AA39='PSS References'!$N$18,'Project Summary Sheet (PSS)_1'!AB39*'PSS Savings Check_1'!$W$9,IF('Project Summary Sheet (PSS)_1'!AA39='PSS References'!N32,'Project Summary Sheet (PSS)_1'!AB39*'PSS Savings Check_1'!$AA$9,IF('Project Summary Sheet (PSS)_1'!AA39='PSS References'!$N$20,'Project Summary Sheet (PSS)_1'!AB39*'PSS Savings Check_1'!$Y$9,IF('Project Summary Sheet (PSS)_1'!AA39='PSS References'!$N$21,'Project Summary Sheet (PSS)_1'!AB39*'PSS Savings Check_1'!$Y$9,IF('Project Summary Sheet (PSS)_1'!AA39='PSS References'!$N$22,'Project Summary Sheet (PSS)_1'!AB39*'PSS Savings Check_1'!$Y$9,IF('Project Summary Sheet (PSS)_1'!AA39='PSS References'!$N$23,'Project Summary Sheet (PSS)_1'!AB39*'PSS Savings Check_1'!$AC$9,IF('Project Summary Sheet (PSS)_1'!AA39='PSS References'!$N$24,'Project Summary Sheet (PSS)_1'!AB39*'PSS Savings Check_1'!$AE$9,IF('Project Summary Sheet (PSS)_1'!AA39='PSS References'!$N$25,'Project Summary Sheet (PSS)_1'!AB39*'PSS Savings Check_1'!$AG$9,IF('Project Summary Sheet (PSS)_1'!AA39='PSS References'!$N$17,\"Can't be 'Multiple'\",))))))))),\"-\")))","v":""},{"$f":"IF(A19=\"\",\"\",SUM(G19:L19))","v":""},{"$f":"IF('Project Summary Sheet (PSS)_1'!L39=\"\",\"\",'Project Summary Sheet (PSS)_1'!L39)","v":""},{"$f":"IFERROR((M19-N19)/N19,\"\")","v":""}]
[{"$f":"IF('Project Summary Sheet (PSS)_1'!B40=\"\",\"\",'Project Summary Sheet (PSS)_1'!B40)","v":""},{"$f":"IF('Project Summary Sheet (PSS)_1'!C40=\"\",\"\",'Project Summary Sheet (PSS)_1'!C40)","v":""},{"$f":"IFERROR(VLOOKUP(A20,'Project Summary Sheet (PSS)_1'!$B$23:$Q$75,6,FALSE)/'Project Summary Sheet (PSS)_1'!$D$17,\"\")","v":""},{"$f":"IFERROR(VLOOKUP(A20,'Project Summary Sheet (PSS)_1'!$B$23:$Q$75,9,FALSE)/('Project Summary Sheet (PSS)_1'!$T$17-('Project Summary Sheet (PSS)_1'!$D$17*'PSS References'!$E$11)),\"\")","v":""},{"$f":"IFERROR(((VLOOKUP(A20,'Project Summary Sheet (PSS)_1'!$B$23:$Q$75,6,FALSE)*'PSS References'!$E$11)+VLOOKUP(A20,'Project Summary Sheet (PSS)_1'!$B$23:$Q$75,9,FALSE))/'Project Summary Sheet (PSS)_1'!$T$17,\"\")","v":""},{"$f":"IF(A20=\"\",\"\",IF(M20<0,IF(OR(M20<'Project Summary Sheet (PSS)_1'!L40*1.1,M20>'Project Summary Sheet (PSS)_1'!L40*0.9),\"Check Rates\",\"Rate OK\"),IF(OR(M20>'Project Summary Sheet (PSS)_1'!L40*1.1,M20<'Project Summary Sheet (PSS)_1'!L40*0.9),\"Check Rates\",\"Rate OK\")))","v":""},{"$f":"IF(A20=\"\",\"\",'Project Summary Sheet (PSS)_1'!G40*'Project Summary Sheet (PSS)_1'!$E$18)","v":""},{"$f":"IF(A20=\"\",\"\",IF('Project Summary Sheet (PSS)_1'!$F$18<>\"\",('Project Summary Sheet (PSS)_1'!H40*'Project Summary Sheet (PSS)_1'!$F$18),0))","v":""},{"$f":"IF(A20=\"\",\"\",IF('Project Summary Sheet (PSS)_1'!I40=\"\",\"-\",IF('Project Summary Sheet (PSS)_1'!I40='PSS References'!$N$18,'Project Summary Sheet (PSS)_1'!J40*'PSS Savings Check_1'!$W$9,IF('Project Summary Sheet (PSS)_1'!I40='PSS References'!$N$19,'Project Summary Sheet (PSS)_1'!J40*'PSS Savings Check_1'!$AA$9,IF('Project Summary Sheet (PSS)_1'!I40='PSS References'!$N$20,'Project Summary Sheet (PSS)_1'!J40*'PSS Savings Check_1'!$Y$9,IF('Project Summary Sheet (PSS)_1'!I40='PSS References'!$N$21,'Project Summary Sheet (PSS)_1'!J40*'PSS Savings Check_1'!$Y$9,IF('Project Summary Sheet (PSS)_1'!I40='PSS References'!$N$22,'Project Summary Sheet (PSS)_1'!J40*'PSS Savings Check_1'!$Y$9,IF('Project Summary Sheet (PSS)_1'!I40='PSS References'!$N$23,'Project Summary Sheet (PSS)_1'!J40*'PSS Savings Check_1'!$AC$9,IF('Project Summary Sheet (PSS)_1'!I40='PSS References'!$N$24,'Project Summary Sheet (PSS)_1'!J40*'PSS Savings Check_1'!$AE$9,IF('Project Summary Sheet (PSS)_1'!I40='PSS References'!$N$25,'Project Summary Sheet (PSS)_1'!J40*'PSS Savings Check_1'!$AG$9,IF('Project Summary Sheet (PSS)_1'!I40='PSS References'!$N$17,\"-\")))))))))))","v":""},{"$f":"IF(A20=\"\",\"\",IF('Project Summary Sheet (PSS)_1'!I40=\"\",\"-\",IF('Project Summary Sheet (PSS)_1'!I40='PSS References'!$N$17,IF('Project Summary Sheet (PSS)_1'!W40='PSS References'!$N$18,'Project Summary Sheet (PSS)_1'!X40*'PSS Savings Check_1'!$W$9,IF('Project Summary Sheet (PSS)_1'!W40='PSS References'!$N$19,'Project Summary Sheet (PSS)_1'!X40*'PSS Savings Check_1'!$AA$9,IF('Project Summary Sheet (PSS)_1'!W40='PSS References'!$N$20,'Project Summary Sheet (PSS)_1'!X40*'PSS Savings Check_1'!$Y$9,IF('Project Summary Sheet (PSS)_1'!W40='PSS References'!$N$21,'Project Summary Sheet (PSS)_1'!X40*'PSS Savings Check_1'!$Y$9,IF('Project Summary Sheet (PSS)_1'!W40='PSS References'!$N$22,'Project Summary Sheet (PSS)_1'!X40*'PSS Savings Check_1'!$Y$9,IF('Project Summary Sheet (PSS)_1'!W40='PSS References'!$N$23,'Project Summary Sheet (PSS)_1'!X40*'PSS Savings Check_1'!$AC$9,IF('Project Summary Sheet (PSS)_1'!W40='PSS References'!$N$24,'Project Summary Sheet (PSS)_1'!X40*'PSS Savings Check_1'!$AE$9,IF('Project Summary Sheet (PSS)_1'!W40='PSS References'!$N$25,'Project Summary Sheet (PSS)_1'!X40*'PSS Savings Check_1'!$AG$9,IF('Project Summary Sheet (PSS)_1'!W40='PSS References'!$N$17,\"Can't be 'Multiple'\",))))))))),\"-\")))","v":""},{"$f":"IF(A20=\"\",\"\",IF('Project Summary Sheet (PSS)_1'!I40=\"\",\"-\",IF('Project Summary Sheet (PSS)_1'!I40='PSS References'!$N$17,IF('Project Summary Sheet (PSS)_1'!Y40='PSS References'!$N$18,'Project Summary Sheet (PSS)_1'!Z40*'PSS Savings Check_1'!$W$9,IF('Project Summary Sheet (PSS)_1'!Y40='PSS References'!$N$19,'Project Summary Sheet (PSS)_1'!Z40*'PSS Savings Check_1'!$AA$9,IF('Project Summary Sheet (PSS)_1'!Y40='PSS References'!$N$20,'Project Summary Sheet (PSS)_1'!Z40*'PSS Savings Check_1'!$Y$9,IF('Project Summary Sheet (PSS)_1'!Y40='PSS References'!$N$21,'Project Summary Sheet (PSS)_1'!Z40*'PSS Savings Check_1'!$Y$9,IF('Project Summary Sheet (PSS)_1'!Y40='PSS References'!$N$22,'Project Summary Sheet (PSS)_1'!Z40*'PSS Savings Check_1'!$Y$9,IF('Project Summary Sheet (PSS)_1'!Y40='PSS References'!$N$23,'Project Summary Sheet (PSS)_1'!Z40*'PSS Savings Check_1'!$AC$9,IF('Project Summary Sheet (PSS)_1'!Y40='PSS References'!$N$24,'Project Summary Sheet (PSS)_1'!Z40*'PSS Savings Check_1'!$AE$9,IF('Project Summary Sheet (PSS)_1'!Y40='PSS References'!$N$25,'Project Summary Sheet (PSS)_1'!Z40*'PSS Savings Check_1'!$AG$9,IF('Project Summary Sheet (PSS)_1'!Y40='PSS References'!$N$17,\"Can't be 'Multiple'\",))))))))),\"-\")))","v":""},{"$f":"IF(A20=\"\",\"\",IF('Project Summary Sheet (PSS)_1'!I40=\"\",\"-\",IF('Project Summary Sheet (PSS)_1'!I40='PSS References'!$N$17,IF('Project Summary Sheet (PSS)_1'!AA40='PSS References'!$N$18,'Project Summary Sheet (PSS)_1'!AB40*'PSS Savings Check_1'!$W$9,IF('Project Summary Sheet (PSS)_1'!AA40='PSS References'!N33,'Project Summary Sheet (PSS)_1'!AB40*'PSS Savings Check_1'!$AA$9,IF('Project Summary Sheet (PSS)_1'!AA40='PSS References'!$N$20,'Project Summary Sheet (PSS)_1'!AB40*'PSS Savings Check_1'!$Y$9,IF('Project Summary Sheet (PSS)_1'!AA40='PSS References'!$N$21,'Project Summary Sheet (PSS)_1'!AB40*'PSS Savings Check_1'!$Y$9,IF('Project Summary Sheet (PSS)_1'!AA40='PSS References'!$N$22,'Project Summary Sheet (PSS)_1'!AB40*'PSS Savings Check_1'!$Y$9,IF('Project Summary Sheet (PSS)_1'!AA40='PSS References'!$N$23,'Project Summary Sheet (PSS)_1'!AB40*'PSS Savings Check_1'!$AC$9,IF('Project Summary Sheet (PSS)_1'!AA40='PSS References'!$N$24,'Project Summary Sheet (PSS)_1'!AB40*'PSS Savings Check_1'!$AE$9,IF('Project Summary Sheet (PSS)_1'!AA40='PSS References'!$N$25,'Project Summary Sheet (PSS)_1'!AB40*'PSS Savings Check_1'!$AG$9,IF('Project Summary Sheet (PSS)_1'!AA40='PSS References'!$N$17,\"Can't be 'Multiple'\",))))))))),\"-\")))","v":""},"",{"$f":"IF('Project Summary Sheet (PSS)_1'!L40=\"\",\"\",'Project Summary Sheet (PSS)_1'!L40)","v":""},""]
[{"$f":"IF('Project Summary Sheet (PSS)_1'!B41=\"\",\"\",'Project Summary Sheet (PSS)_1'!B41)","v":""},{"$f":"IF('Project Summary Sheet (PSS)_1'!C41=\"\",\"\",'Project Summary Sheet (PSS)_1'!C41)","v":""},{"$f":"IFERROR(VLOOKUP(A21,'Project Summary Sheet (PSS)_1'!$B$23:$Q$75,6,FALSE)/'Project Summary Sheet (PSS)_1'!$D$17,\"\")","v":""},{"$f":"IFERROR(VLOOKUP(A21,'Project Summary Sheet (PSS)_1'!$B$23:$Q$75,9,FALSE)/('Project Summary Sheet (PSS)_1'!$T$17-('Project Summary Sheet (PSS)_1'!$D$17*'PSS References'!$E$11)),\"\")","v":""},{"$f":"IFERROR(((VLOOKUP(A21,'Project Summary Sheet (PSS)_1'!$B$23:$Q$75,6,FALSE)*'PSS References'!$E$11)+VLOOKUP(A21,'Project Summary Sheet (PSS)_1'!$B$23:$Q$75,9,FALSE))/'Project Summary Sheet (PSS)_1'!$T$17,\"\")","v":""},{"$f":"IF(A21=\"\",\"\",IF(M21<0,IF(OR(M21<'Project Summary Sheet (PSS)_1'!L41*1.1,M21>'Project Summary Sheet (PSS)_1'!L41*0.9),\"Check Rates\",\"Rate OK\"),IF(OR(M21>'Project Summary Sheet (PSS)_1'!L41*1.1,M21<'Project Summary Sheet (PSS)_1'!L41*0.9),\"Check Rates\",\"Rate OK\")))","v":""},{"$f":"IF(A21=\"\",\"\",'Project Summary Sheet (PSS)_1'!G41*'Project Summary Sheet (PSS)_1'!$E$18)","v":""},{"$f":"IF(A21=\"\",\"\",IF('Project Summary Sheet (PSS)_1'!$F$18<>\"\",('Project Summary Sheet (PSS)_1'!H41*'Project Summary Sheet (PSS)_1'!$F$18),0))","v":""},{"$f":"IF(A21=\"\",\"\",IF('Project Summary Sheet (PSS)_1'!I41=\"\",\"-\",IF('Project Summary Sheet (PSS)_1'!I41='PSS References'!$N$18,'Project Summary Sheet (PSS)_1'!J41*'PSS Savings Check_1'!$W$9,IF('Project Summary Sheet (PSS)_1'!I41='PSS References'!$N$19,'Project Summary Sheet (PSS)_1'!J41*'PSS Savings Check_1'!$AA$9,IF('Project Summary Sheet (PSS)_1'!I41='PSS References'!$N$20,'Project Summary Sheet (PSS)_1'!J41*'PSS Savings Check_1'!$Y$9,IF('Project Summary Sheet (PSS)_1'!I41='PSS References'!$N$21,'Project Summary Sheet (PSS)_1'!J41*'PSS Savings Check_1'!$Y$9,IF('Project Summary Sheet (PSS)_1'!I41='PSS References'!$N$22,'Project Summary Sheet (PSS)_1'!J41*'PSS Savings Check_1'!$Y$9,IF('Project Summary Sheet (PSS)_1'!I41='PSS References'!$N$23,'Project Summary Sheet (PSS)_1'!J41*'PSS Savings Check_1'!$AC$9,IF('Project Summary Sheet (PSS)_1'!I41='PSS References'!$N$24,'Project Summary Sheet (PSS)_1'!J41*'PSS Savings Check_1'!$AE$9,IF('Project Summary Sheet (PSS)_1'!I41='PSS References'!$N$25,'Project Summary Sheet (PSS)_1'!J41*'PSS Savings Check_1'!$AG$9,IF('Project Summary Sheet (PSS)_1'!I41='PSS References'!$N$17,\"-\")))))))))))","v":""},{"$f":"IF(A21=\"\",\"\",IF('Project Summary Sheet (PSS)_1'!I41=\"\",\"-\",IF('Project Summary Sheet (PSS)_1'!I41='PSS References'!$N$17,IF('Project Summary Sheet (PSS)_1'!W41='PSS References'!$N$18,'Project Summary Sheet (PSS)_1'!X41*'PSS Savings Check_1'!$W$9,IF('Project Summary Sheet (PSS)_1'!W41='PSS References'!$N$19,'Project Summary Sheet (PSS)_1'!X41*'PSS Savings Check_1'!$AA$9,IF('Project Summary Sheet (PSS)_1'!W41='PSS References'!$N$20,'Project Summary Sheet (PSS)_1'!X41*'PSS Savings Check_1'!$Y$9,IF('Project Summary Sheet (PSS)_1'!W41='PSS References'!$N$21,'Project Summary Sheet (PSS)_1'!X41*'PSS Savings Check_1'!$Y$9,IF('Project Summary Sheet (PSS)_1'!W41='PSS References'!$N$22,'Project Summary Sheet (PSS)_1'!X41*'PSS Savings Check_1'!$Y$9,IF('Project Summary Sheet (PSS)_1'!W41='PSS References'!$N$23,'Project Summary Sheet (PSS)_1'!X41*'PSS Savings Check_1'!$AC$9,IF('Project Summary Sheet (PSS)_1'!W41='PSS References'!$N$24,'Project Summary Sheet (PSS)_1'!X41*'PSS Savings Check_1'!$AE$9,IF('Project Summary Sheet (PSS)_1'!W41='PSS References'!$N$25,'Project Summary Sheet (PSS)_1'!X41*'PSS Savings Check_1'!$AG$9,IF('Project Summary Sheet (PSS)_1'!W41='PSS References'!$N$17,\"Can't be 'Multiple'\",))))))))),\"-\")))","v":""},{"$f":"IF(A21=\"\",\"\",IF('Project Summary Sheet (PSS)_1'!I41=\"\",\"-\",IF('Project Summary Sheet (PSS)_1'!I41='PSS References'!$N$17,IF('Project Summary Sheet (PSS)_1'!Y41='PSS References'!$N$18,'Project Summary Sheet (PSS)_1'!Z41*'PSS Savings Check_1'!$W$9,IF('Project Summary Sheet (PSS)_1'!Y41='PSS References'!$N$19,'Project Summary Sheet (PSS)_1'!Z41*'PSS Savings Check_1'!$AA$9,IF('Project Summary Sheet (PSS)_1'!Y41='PSS References'!$N$20,'Project Summary Sheet (PSS)_1'!Z41*'PSS Savings Check_1'!$Y$9,IF('Project Summary Sheet (PSS)_1'!Y41='PSS References'!$N$21,'Project Summary Sheet (PSS)_1'!Z41*'PSS Savings Check_1'!$Y$9,IF('Project Summary Sheet (PSS)_1'!Y41='PSS References'!$N$22,'Project Summary Sheet (PSS)_1'!Z41*'PSS Savings Check_1'!$Y$9,IF('Project Summary Sheet (PSS)_1'!Y41='PSS References'!$N$23,'Project Summary Sheet (PSS)_1'!Z41*'PSS Savings Check_1'!$AC$9,IF('Project Summary Sheet (PSS)_1'!Y41='PSS References'!$N$24,'Project Summary Sheet (PSS)_1'!Z41*'PSS Savings Check_1'!$AE$9,IF('Project Summary Sheet (PSS)_1'!Y41='PSS References'!$N$25,'Project Summary Sheet (PSS)_1'!Z41*'PSS Savings Check_1'!$AG$9,IF('Project Summary Sheet (PSS)_1'!Y41='PSS References'!$N$17,\"Can't be 'Multiple'\",))))))))),\"-\")))","v":""},{"$f":"IF(A21=\"\",\"\",IF('Project Summary Sheet (PSS)_1'!I41=\"\",\"-\",IF('Project Summary Sheet (PSS)_1'!I41='PSS References'!$N$17,IF('Project Summary Sheet (PSS)_1'!AA41='PSS References'!$N$18,'Project Summary Sheet (PSS)_1'!AB41*'PSS Savings Check_1'!$W$9,IF('Project Summary Sheet (PSS)_1'!AA41='PSS References'!N34,'Project Summary Sheet (PSS)_1'!AB41*'PSS Savings Check_1'!$AA$9,IF('Project Summary Sheet (PSS)_1'!AA41='PSS References'!$N$20,'Project Summary Sheet (PSS)_1'!AB41*'PSS Savings Check_1'!$Y$9,IF('Project Summary Sheet (PSS)_1'!AA41='PSS References'!$N$21,'Project Summary Sheet (PSS)_1'!AB41*'PSS Savings Check_1'!$Y$9,IF('Project Summary Sheet (PSS)_1'!AA41='PSS References'!$N$22,'Project Summary Sheet (PSS)_1'!AB41*'PSS Savings Check_1'!$Y$9,IF('Project Summary Sheet (PSS)_1'!AA41='PSS References'!$N$23,'Project Summary Sheet (PSS)_1'!AB41*'PSS Savings Check_1'!$AC$9,IF('Project Summary Sheet (PSS)_1'!AA41='PSS References'!$N$24,'Project Summary Sheet (PSS)_1'!AB41*'PSS Savings Check_1'!$AE$9,IF('Project Summary Sheet (PSS)_1'!AA41='PSS References'!$N$25,'Project Summary Sheet (PSS)_1'!AB41*'PSS Savings Check_1'!$AG$9,IF('Project Summary Sheet (PSS)_1'!AA41='PSS References'!$N$17,\"Can't be 'Multiple'\",))))))))),\"-\")))","v":""},"",{"$f":"IF('Project Summary Sheet (PSS)_1'!L41=\"\",\"\",'Project Summary Sheet (PSS)_1'!L41)","v":""},""]
[{"$f":"IF('Project Summary Sheet (PSS)_1'!B42=\"\",\"\",'Project Summary Sheet (PSS)_1'!B42)","v":""},{"$f":"IF('Project Summary Sheet (PSS)_1'!C42=\"\",\"\",'Project Summary Sheet (PSS)_1'!C42)","v":""},{"$f":"IFERROR(VLOOKUP(A22,'Project Summary Sheet (PSS)_1'!$B$23:$Q$75,6,FALSE)/'Project Summary Sheet (PSS)_1'!$D$17,\"\")","v":""},{"$f":"IFERROR(VLOOKUP(A22,'Project Summary Sheet (PSS)_1'!$B$23:$Q$75,9,FALSE)/('Project Summary Sheet (PSS)_1'!$T$17-('Project Summary Sheet (PSS)_1'!$D$17*'PSS References'!$E$11)),\"\")","v":""},{"$f":"IFERROR(((VLOOKUP(A22,'Project Summary Sheet (PSS)_1'!$B$23:$Q$75,6,FALSE)*'PSS References'!$E$11)+VLOOKUP(A22,'Project Summary Sheet (PSS)_1'!$B$23:$Q$75,9,FALSE))/'Project Summary Sheet (PSS)_1'!$T$17,\"\")","v":""},{"$f":"IF(A22=\"\",\"\",IF(M22<0,IF(OR(M22<'Project Summary Sheet (PSS)_1'!L42*1.1,M22>'Project Summary Sheet (PSS)_1'!L42*0.9),\"Check Rates\",\"Rate OK\"),IF(OR(M22>'Project Summary Sheet (PSS)_1'!L42*1.1,M22<'Project Summary Sheet (PSS)_1'!L42*0.9),\"Check Rates\",\"Rate OK\")))","v":""},{"$f":"IF(A22=\"\",\"\",'Project Summary Sheet (PSS)_1'!G42*'Project Summary Sheet (PSS)_1'!$E$18)","v":""},{"$f":"IF(A22=\"\",\"\",IF('Project Summary Sheet (PSS)_1'!$F$18<>\"\",('Project Summary Sheet (PSS)_1'!H42*'Project Summary Sheet (PSS)_1'!$F$18),0))","v":""},{"$f":"IF(A22=\"\",\"\",IF('Project Summary Sheet (PSS)_1'!I42=\"\",\"-\",IF('Project Summary Sheet (PSS)_1'!I42='PSS References'!$N$18,'Project Summary Sheet (PSS)_1'!J42*'PSS Savings Check_1'!$W$9,IF('Project Summary Sheet (PSS)_1'!I42='PSS References'!$N$19,'Project Summary Sheet (PSS)_1'!J42*'PSS Savings Check_1'!$AA$9,IF('Project Summary Sheet (PSS)_1'!I42='PSS References'!$N$20,'Project Summary Sheet (PSS)_1'!J42*'PSS Savings Check_1'!$Y$9,IF('Project Summary Sheet (PSS)_1'!I42='PSS References'!$N$21,'Project Summary Sheet (PSS)_1'!J42*'PSS Savings Check_1'!$Y$9,IF('Project Summary Sheet (PSS)_1'!I42='PSS References'!$N$22,'Project Summary Sheet (PSS)_1'!J42*'PSS Savings Check_1'!$Y$9,IF('Project Summary Sheet (PSS)_1'!I42='PSS References'!$N$23,'Project Summary Sheet (PSS)_1'!J42*'PSS Savings Check_1'!$AC$9,IF('Project Summary Sheet (PSS)_1'!I42='PSS References'!$N$24,'Project Summary Sheet (PSS)_1'!J42*'PSS Savings Check_1'!$AE$9,IF('Project Summary Sheet (PSS)_1'!I42='PSS References'!$N$25,'Project Summary Sheet (PSS)_1'!J42*'PSS Savings Check_1'!$AG$9,IF('Project Summary Sheet (PSS)_1'!I42='PSS References'!$N$17,\"-\")))))))))))","v":""},{"$f":"IF(A22=\"\",\"\",IF('Project Summary Sheet (PSS)_1'!I42=\"\",\"-\",IF('Project Summary Sheet (PSS)_1'!I42='PSS References'!$N$17,IF('Project Summary Sheet (PSS)_1'!W42='PSS References'!$N$18,'Project Summary Sheet (PSS)_1'!X42*'PSS Savings Check_1'!$W$9,IF('Project Summary Sheet (PSS)_1'!W42='PSS References'!$N$19,'Project Summary Sheet (PSS)_1'!X42*'PSS Savings Check_1'!$AA$9,IF('Project Summary Sheet (PSS)_1'!W42='PSS References'!$N$20,'Project Summary Sheet (PSS)_1'!X42*'PSS Savings Check_1'!$Y$9,IF('Project Summary Sheet (PSS)_1'!W42='PSS References'!$N$21,'Project Summary Sheet (PSS)_1'!X42*'PSS Savings Check_1'!$Y$9,IF('Project Summary Sheet (PSS)_1'!W42='PSS References'!$N$22,'Project Summary Sheet (PSS)_1'!X42*'PSS Savings Check_1'!$Y$9,IF('Project Summary Sheet (PSS)_1'!W42='PSS References'!$N$23,'Project Summary Sheet (PSS)_1'!X42*'PSS Savings Check_1'!$AC$9,IF('Project Summary Sheet (PSS)_1'!W42='PSS References'!$N$24,'Project Summary Sheet (PSS)_1'!X42*'PSS Savings Check_1'!$AE$9,IF('Project Summary Sheet (PSS)_1'!W42='PSS References'!$N$25,'Project Summary Sheet (PSS)_1'!X42*'PSS Savings Check_1'!$AG$9,IF('Project Summary Sheet (PSS)_1'!W42='PSS References'!$N$17,\"Can't be 'Multiple'\",))))))))),\"-\")))","v":""},{"$f":"IF(A22=\"\",\"\",IF('Project Summary Sheet (PSS)_1'!I42=\"\",\"-\",IF('Project Summary Sheet (PSS)_1'!I42='PSS References'!$N$17,IF('Project Summary Sheet (PSS)_1'!Y42='PSS References'!$N$18,'Project Summary Sheet (PSS)_1'!Z42*'PSS Savings Check_1'!$W$9,IF('Project Summary Sheet (PSS)_1'!Y42='PSS References'!$N$19,'Project Summary Sheet (PSS)_1'!Z42*'PSS Savings Check_1'!$AA$9,IF('Project Summary Sheet (PSS)_1'!Y42='PSS References'!$N$20,'Project Summary Sheet (PSS)_1'!Z42*'PSS Savings Check_1'!$Y$9,IF('Project Summary Sheet (PSS)_1'!Y42='PSS References'!$N$21,'Project Summary Sheet (PSS)_1'!Z42*'PSS Savings Check_1'!$Y$9,IF('Project Summary Sheet (PSS)_1'!Y42='PSS References'!$N$22,'Project Summary Sheet (PSS)_1'!Z42*'PSS Savings Check_1'!$Y$9,IF('Project Summary Sheet (PSS)_1'!Y42='PSS References'!$N$23,'Project Summary Sheet (PSS)_1'!Z42*'PSS Savings Check_1'!$AC$9,IF('Project Summary Sheet (PSS)_1'!Y42='PSS References'!$N$24,'Project Summary Sheet (PSS)_1'!Z42*'PSS Savings Check_1'!$AE$9,IF('Project Summary Sheet (PSS)_1'!Y42='PSS References'!$N$25,'Project Summary Sheet (PSS)_1'!Z42*'PSS Savings Check_1'!$AG$9,IF('Project Summary Sheet (PSS)_1'!Y42='PSS References'!$N$17,\"Can't be 'Multiple'\",))))))))),\"-\")))","v":""},{"$f":"IF(A22=\"\",\"\",IF('Project Summary Sheet (PSS)_1'!I42=\"\",\"-\",IF('Project Summary Sheet (PSS)_1'!I42='PSS References'!$N$17,IF('Project Summary Sheet (PSS)_1'!AA42='PSS References'!$N$18,'Project Summary Sheet (PSS)_1'!AB42*'PSS Savings Check_1'!$W$9,IF('Project Summary Sheet (PSS)_1'!AA42='PSS References'!N35,'Project Summary Sheet (PSS)_1'!AB42*'PSS Savings Check_1'!$AA$9,IF('Project Summary Sheet (PSS)_1'!AA42='PSS References'!$N$20,'Project Summary Sheet (PSS)_1'!AB42*'PSS Savings Check_1'!$Y$9,IF('Project Summary Sheet (PSS)_1'!AA42='PSS References'!$N$21,'Project Summary Sheet (PSS)_1'!AB42*'PSS Savings Check_1'!$Y$9,IF('Project Summary Sheet (PSS)_1'!AA42='PSS References'!$N$22,'Project Summary Sheet (PSS)_1'!AB42*'PSS Savings Check_1'!$Y$9,IF('Project Summary Sheet (PSS)_1'!AA42='PSS References'!$N$23,'Project Summary Sheet (PSS)_1'!AB42*'PSS Savings Check_1'!$AC$9,IF('Project Summary Sheet (PSS)_1'!AA42='PSS References'!$N$24,'Project Summary Sheet (PSS)_1'!AB42*'PSS Savings Check_1'!$AE$9,IF('Project Summary Sheet (PSS)_1'!AA42='PSS References'!$N$25,'Project Summary Sheet (PSS)_1'!AB42*'PSS Savings Check_1'!$AG$9,IF('Project Summary Sheet (PSS)_1'!AA42='PSS References'!$N$17,\"Can't be 'Multiple'\",))))))))),\"-\")))","v":""},"",{"$f":"IF('Project Summary Sheet (PSS)_1'!L42=\"\",\"\",'Project Summary Sheet (PSS)_1'!L42)","v":""},""]
[{"$f":"IF('Project Summary Sheet (PSS)_1'!B43=\"\",\"\",'Project Summary Sheet (PSS)_1'!B43)","v":""},{"$f":"IF('Project Summary Sheet (PSS)_1'!C43=\"\",\"\",'Project Summary Sheet (PSS)_1'!C43)","v":""},{"$f":"IFERROR(VLOOKUP(A23,'Project Summary Sheet (PSS)_1'!$B$23:$Q$75,6,FALSE)/'Project Summary Sheet (PSS)_1'!$D$17,\"\")","v":""},{"$f":"IFERROR(VLOOKUP(A23,'Project Summary Sheet (PSS)_1'!$B$23:$Q$75,9,FALSE)/('Project Summary Sheet (PSS)_1'!$T$17-('Project Summary Sheet (PSS)_1'!$D$17*'PSS References'!$E$11)),\"\")","v":""},{"$f":"IFERROR(((VLOOKUP(A23,'Project Summary Sheet (PSS)_1'!$B$23:$Q$75,6,FALSE)*'PSS References'!$E$11)+VLOOKUP(A23,'Project Summary Sheet (PSS)_1'!$B$23:$Q$75,9,FALSE))/'Project Summary Sheet (PSS)_1'!$T$17,\"\")","v":""},{"$f":"IF(A23=\"\",\"\",IF(M23<0,IF(OR(M23<'Project Summary Sheet (PSS)_1'!L43*1.1,M23>'Project Summary Sheet (PSS)_1'!L43*0.9),\"Check Rates\",\"Rate OK\"),IF(OR(M23>'Project Summary Sheet (PSS)_1'!L43*1.1,M23<'Project Summary Sheet (PSS)_1'!L43*0.9),\"Check Rates\",\"Rate OK\")))","v":""},{"$f":"IF(A23=\"\",\"\",'Project Summary Sheet (PSS)_1'!G43*'Project Summary Sheet (PSS)_1'!$E$18)","v":""},{"$f":"IF(A23=\"\",\"\",IF('Project Summary Sheet (PSS)_1'!$F$18<>\"\",('Project Summary Sheet (PSS)_1'!H43*'Project Summary Sheet (PSS)_1'!$F$18),0))","v":""},{"$f":"IF(A23=\"\",\"\",IF('Project Summary Sheet (PSS)_1'!I43=\"\",\"-\",IF('Project Summary Sheet (PSS)_1'!I43='PSS References'!$N$18,'Project Summary Sheet (PSS)_1'!J43*'PSS Savings Check_1'!$W$9,IF('Project Summary Sheet (PSS)_1'!I43='PSS References'!$N$19,'Project Summary Sheet (PSS)_1'!J43*'PSS Savings Check_1'!$AA$9,IF('Project Summary Sheet (PSS)_1'!I43='PSS References'!$N$20,'Project Summary Sheet (PSS)_1'!J43*'PSS Savings Check_1'!$Y$9,IF('Project Summary Sheet (PSS)_1'!I43='PSS References'!$N$21,'Project Summary Sheet (PSS)_1'!J43*'PSS Savings Check_1'!$Y$9,IF('Project Summary Sheet (PSS)_1'!I43='PSS References'!$N$22,'Project Summary Sheet (PSS)_1'!J43*'PSS Savings Check_1'!$Y$9,IF('Project Summary Sheet (PSS)_1'!I43='PSS References'!$N$23,'Project Summary Sheet (PSS)_1'!J43*'PSS Savings Check_1'!$AC$9,IF('Project Summary Sheet (PSS)_1'!I43='PSS References'!$N$24,'Project Summary Sheet (PSS)_1'!J43*'PSS Savings Check_1'!$AE$9,IF('Project Summary Sheet (PSS)_1'!I43='PSS References'!$N$25,'Project Summary Sheet (PSS)_1'!J43*'PSS Savings Check_1'!$AG$9,IF('Project Summary Sheet (PSS)_1'!I43='PSS References'!$N$17,\"-\")))))))))))","v":""},{"$f":"IF(A23=\"\",\"\",IF('Project Summary Sheet (PSS)_1'!I43=\"\",\"-\",IF('Project Summary Sheet (PSS)_1'!I43='PSS References'!$N$17,IF('Project Summary Sheet (PSS)_1'!W43='PSS References'!$N$18,'Project Summary Sheet (PSS)_1'!X43*'PSS Savings Check_1'!$W$9,IF('Project Summary Sheet (PSS)_1'!W43='PSS References'!$N$19,'Project Summary Sheet (PSS)_1'!X43*'PSS Savings Check_1'!$AA$9,IF('Project Summary Sheet (PSS)_1'!W43='PSS References'!$N$20,'Project Summary Sheet (PSS)_1'!X43*'PSS Savings Check_1'!$Y$9,IF('Project Summary Sheet (PSS)_1'!W43='PSS References'!$N$21,'Project Summary Sheet (PSS)_1'!X43*'PSS Savings Check_1'!$Y$9,IF('Project Summary Sheet (PSS)_1'!W43='PSS References'!$N$22,'Project Summary Sheet (PSS)_1'!X43*'PSS Savings Check_1'!$Y$9,IF('Project Summary Sheet (PSS)_1'!W43='PSS References'!$N$23,'Project Summary Sheet (PSS)_1'!X43*'PSS Savings Check_1'!$AC$9,IF('Project Summary Sheet (PSS)_1'!W43='PSS References'!$N$24,'Project Summary Sheet (PSS)_1'!X43*'PSS Savings Check_1'!$AE$9,IF('Project Summary Sheet (PSS)_1'!W43='PSS References'!$N$25,'Project Summary Sheet (PSS)_1'!X43*'PSS Savings Check_1'!$AG$9,IF('Project Summary Sheet (PSS)_1'!W43='PSS References'!$N$17,\"Can't be 'Multiple'\",))))))))),\"-\")))","v":""},{"$f":"IF(A23=\"\",\"\",IF('Project Summary Sheet (PSS)_1'!I43=\"\",\"-\",IF('Project Summary Sheet (PSS)_1'!I43='PSS References'!$N$17,IF('Project Summary Sheet (PSS)_1'!Y43='PSS References'!$N$18,'Project Summary Sheet (PSS)_1'!Z43*'PSS Savings Check_1'!$W$9,IF('Project Summary Sheet (PSS)_1'!Y43='PSS References'!$N$19,'Project Summary Sheet (PSS)_1'!Z43*'PSS Savings Check_1'!$AA$9,IF('Project Summary Sheet (PSS)_1'!Y43='PSS References'!$N$20,'Project Summary Sheet (PSS)_1'!Z43*'PSS Savings Check_1'!$Y$9,IF('Project Summary Sheet (PSS)_1'!Y43='PSS References'!$N$21,'Project Summary Sheet (PSS)_1'!Z43*'PSS Savings Check_1'!$Y$9,IF('Project Summary Sheet (PSS)_1'!Y43='PSS References'!$N$22,'Project Summary Sheet (PSS)_1'!Z43*'PSS Savings Check_1'!$Y$9,IF('Project Summary Sheet (PSS)_1'!Y43='PSS References'!$N$23,'Project Summary Sheet (PSS)_1'!Z43*'PSS Savings Check_1'!$AC$9,IF('Project Summary Sheet (PSS)_1'!Y43='PSS References'!$N$24,'Project Summary Sheet (PSS)_1'!Z43*'PSS Savings Check_1'!$AE$9,IF('Project Summary Sheet (PSS)_1'!Y43='PSS References'!$N$25,'Project Summary Sheet (PSS)_1'!Z43*'PSS Savings Check_1'!$AG$9,IF('Project Summary Sheet (PSS)_1'!Y43='PSS References'!$N$17,\"Can't be 'Multiple'\",))))))))),\"-\")))","v":""},{"$f":"IF(A23=\"\",\"\",IF('Project Summary Sheet (PSS)_1'!I43=\"\",\"-\",IF('Project Summary Sheet (PSS)_1'!I43='PSS References'!$N$17,IF('Project Summary Sheet (PSS)_1'!AA43='PSS References'!$N$18,'Project Summary Sheet (PSS)_1'!AB43*'PSS Savings Check_1'!$W$9,IF('Project Summary Sheet (PSS)_1'!AA43='PSS References'!N36,'Project Summary Sheet (PSS)_1'!AB43*'PSS Savings Check_1'!$AA$9,IF('Project Summary Sheet (PSS)_1'!AA43='PSS References'!$N$20,'Project Summary Sheet (PSS)_1'!AB43*'PSS Savings Check_1'!$Y$9,IF('Project Summary Sheet (PSS)_1'!AA43='PSS References'!$N$21,'Project Summary Sheet (PSS)_1'!AB43*'PSS Savings Check_1'!$Y$9,IF('Project Summary Sheet (PSS)_1'!AA43='PSS References'!$N$22,'Project Summary Sheet (PSS)_1'!AB43*'PSS Savings Check_1'!$Y$9,IF('Project Summary Sheet (PSS)_1'!AA43='PSS References'!$N$23,'Project Summary Sheet (PSS)_1'!AB43*'PSS Savings Check_1'!$AC$9,IF('Project Summary Sheet (PSS)_1'!AA43='PSS References'!$N$24,'Project Summary Sheet (PSS)_1'!AB43*'PSS Savings Check_1'!$AE$9,IF('Project Summary Sheet (PSS)_1'!AA43='PSS References'!$N$25,'Project Summary Sheet (PSS)_1'!AB43*'PSS Savings Check_1'!$AG$9,IF('Project Summary Sheet (PSS)_1'!AA43='PSS References'!$N$17,\"Can't be 'Multiple'\",))))))))),\"-\")))","v":""},"",{"$f":"IF('Project Summary Sheet (PSS)_1'!L43=\"\",\"\",'Project Summary Sheet (PSS)_1'!L43)","v":""},""]
[{"$f":"IF('Project Summary Sheet (PSS)_1'!B44=\"\",\"\",'Project Summary Sheet (PSS)_1'!B44)","v":""},{"$f":"IF('Project Summary Sheet (PSS)_1'!C44=\"\",\"\",'Project Summary Sheet (PSS)_1'!C44)","v":""},{"$f":"IFERROR(VLOOKUP(A24,'Project Summary Sheet (PSS)_1'!$B$23:$Q$75,6,FALSE)/'Project Summary Sheet (PSS)_1'!$D$17,\"\")","v":""},{"$f":"IFERROR(VLOOKUP(A24,'Project Summary Sheet (PSS)_1'!$B$23:$Q$75,9,FALSE)/('Project Summary Sheet (PSS)_1'!$T$17-('Project Summary Sheet (PSS)_1'!$D$17*'PSS References'!$E$11)),\"\")","v":""},{"$f":"IFERROR(((VLOOKUP(A24,'Project Summary Sheet (PSS)_1'!$B$23:$Q$75,6,FALSE)*'PSS References'!$E$11)+VLOOKUP(A24,'Project Summary Sheet (PSS)_1'!$B$23:$Q$75,9,FALSE))/'Project Summary Sheet (PSS)_1'!$T$17,\"\")","v":""},{"$f":"IF(A24=\"\",\"\",IF(M24<0,IF(OR(M24<'Project Summary Sheet (PSS)_1'!L44*1.1,M24>'Project Summary Sheet (PSS)_1'!L44*0.9),\"Check Rates\",\"Rate OK\"),IF(OR(M24>'Project Summary Sheet (PSS)_1'!L44*1.1,M24<'Project Summary Sheet (PSS)_1'!L44*0.9),\"Check Rates\",\"Rate OK\")))","v":""},{"$f":"IF(A24=\"\",\"\",'Project Summary Sheet (PSS)_1'!G44*'Project Summary Sheet (PSS)_1'!$E$18)","v":""},{"$f":"IF(A24=\"\",\"\",IF('Project Summary Sheet (PSS)_1'!$F$18<>\"\",('Project Summary Sheet (PSS)_1'!H44*'Project Summary Sheet (PSS)_1'!$F$18),0))","v":""},{"$f":"IF(A24=\"\",\"\",IF('Project Summary Sheet (PSS)_1'!I44=\"\",\"-\",IF('Project Summary Sheet (PSS)_1'!I44='PSS References'!$N$18,'Project Summary Sheet (PSS)_1'!J44*'PSS Savings Check_1'!$W$9,IF('Project Summary Sheet (PSS)_1'!I44='PSS References'!$N$19,'Project Summary Sheet (PSS)_1'!J44*'PSS Savings Check_1'!$AA$9,IF('Project Summary Sheet (PSS)_1'!I44='PSS References'!$N$20,'Project Summary Sheet (PSS)_1'!J44*'PSS Savings Check_1'!$Y$9,IF('Project Summary Sheet (PSS)_1'!I44='PSS References'!$N$21,'Project Summary Sheet (PSS)_1'!J44*'PSS Savings Check_1'!$Y$9,IF('Project Summary Sheet (PSS)_1'!I44='PSS References'!$N$22,'Project Summary Sheet (PSS)_1'!J44*'PSS Savings Check_1'!$Y$9,IF('Project Summary Sheet (PSS)_1'!I44='PSS References'!$N$23,'Project Summary Sheet (PSS)_1'!J44*'PSS Savings Check_1'!$AC$9,IF('Project Summary Sheet (PSS)_1'!I44='PSS References'!$N$24,'Project Summary Sheet (PSS)_1'!J44*'PSS Savings Check_1'!$AE$9,IF('Project Summary Sheet (PSS)_1'!I44='PSS References'!$N$25,'Project Summary Sheet (PSS)_1'!J44*'PSS Savings Check_1'!$AG$9,IF('Project Summary Sheet (PSS)_1'!I44='PSS References'!$N$17,\"-\")))))))))))","v":""},{"$f":"IF(A24=\"\",\"\",IF('Project Summary Sheet (PSS)_1'!I44=\"\",\"-\",IF('Project Summary Sheet (PSS)_1'!I44='PSS References'!$N$17,IF('Project Summary Sheet (PSS)_1'!W44='PSS References'!$N$18,'Project Summary Sheet (PSS)_1'!X44*'PSS Savings Check_1'!$W$9,IF('Project Summary Sheet (PSS)_1'!W44='PSS References'!$N$19,'Project Summary Sheet (PSS)_1'!X44*'PSS Savings Check_1'!$AA$9,IF('Project Summary Sheet (PSS)_1'!W44='PSS References'!$N$20,'Project Summary Sheet (PSS)_1'!X44*'PSS Savings Check_1'!$Y$9,IF('Project Summary Sheet (PSS)_1'!W44='PSS References'!$N$21,'Project Summary Sheet (PSS)_1'!X44*'PSS Savings Check_1'!$Y$9,IF('Project Summary Sheet (PSS)_1'!W44='PSS References'!$N$22,'Project Summary Sheet (PSS)_1'!X44*'PSS Savings Check_1'!$Y$9,IF('Project Summary Sheet (PSS)_1'!W44='PSS References'!$N$23,'Project Summary Sheet (PSS)_1'!X44*'PSS Savings Check_1'!$AC$9,IF('Project Summary Sheet (PSS)_1'!W44='PSS References'!$N$24,'Project Summary Sheet (PSS)_1'!X44*'PSS Savings Check_1'!$AE$9,IF('Project Summary Sheet (PSS)_1'!W44='PSS References'!$N$25,'Project Summary Sheet (PSS)_1'!X44*'PSS Savings Check_1'!$AG$9,IF('Project Summary Sheet (PSS)_1'!W44='PSS References'!$N$17,\"Can't be 'Multiple'\",))))))))),\"-\")))","v":""},{"$f":"IF(A24=\"\",\"\",IF('Project Summary Sheet (PSS)_1'!I44=\"\",\"-\",IF('Project Summary Sheet (PSS)_1'!I44='PSS References'!$N$17,IF('Project Summary Sheet (PSS)_1'!Y44='PSS References'!$N$18,'Project Summary Sheet (PSS)_1'!Z44*'PSS Savings Check_1'!$W$9,IF('Project Summary Sheet (PSS)_1'!Y44='PSS References'!$N$19,'Project Summary Sheet (PSS)_1'!Z44*'PSS Savings Check_1'!$AA$9,IF('Project Summary Sheet (PSS)_1'!Y44='PSS References'!$N$20,'Project Summary Sheet (PSS)_1'!Z44*'PSS Savings Check_1'!$Y$9,IF('Project Summary Sheet (PSS)_1'!Y44='PSS References'!$N$21,'Project Summary Sheet (PSS)_1'!Z44*'PSS Savings Check_1'!$Y$9,IF('Project Summary Sheet (PSS)_1'!Y44='PSS References'!$N$22,'Project Summary Sheet (PSS)_1'!Z44*'PSS Savings Check_1'!$Y$9,IF('Project Summary Sheet (PSS)_1'!Y44='PSS References'!$N$23,'Project Summary Sheet (PSS)_1'!Z44*'PSS Savings Check_1'!$AC$9,IF('Project Summary Sheet (PSS)_1'!Y44='PSS References'!$N$24,'Project Summary Sheet (PSS)_1'!Z44*'PSS Savings Check_1'!$AE$9,IF('Project Summary Sheet (PSS)_1'!Y44='PSS References'!$N$25,'Project Summary Sheet (PSS)_1'!Z44*'PSS Savings Check_1'!$AG$9,IF('Project Summary Sheet (PSS)_1'!Y44='PSS References'!$N$17,\"Can't be 'Multiple'\",))))))))),\"-\")))","v":""},{"$f":"IF(A24=\"\",\"\",IF('Project Summary Sheet (PSS)_1'!I44=\"\",\"-\",IF('Project Summary Sheet (PSS)_1'!I44='PSS References'!$N$17,IF('Project Summary Sheet (PSS)_1'!AA44='PSS References'!$N$18,'Project Summary Sheet (PSS)_1'!AB44*'PSS Savings Check_1'!$W$9,IF('Project Summary Sheet (PSS)_1'!AA44='PSS References'!N37,'Project Summary Sheet (PSS)_1'!AB44*'PSS Savings Check_1'!$AA$9,IF('Project Summary Sheet (PSS)_1'!AA44='PSS References'!$N$20,'Project Summary Sheet (PSS)_1'!AB44*'PSS Savings Check_1'!$Y$9,IF('Project Summary Sheet (PSS)_1'!AA44='PSS References'!$N$21,'Project Summary Sheet (PSS)_1'!AB44*'PSS Savings Check_1'!$Y$9,IF('Project Summary Sheet (PSS)_1'!AA44='PSS References'!$N$22,'Project Summary Sheet (PSS)_1'!AB44*'PSS Savings Check_1'!$Y$9,IF('Project Summary Sheet (PSS)_1'!AA44='PSS References'!$N$23,'Project Summary Sheet (PSS)_1'!AB44*'PSS Savings Check_1'!$AC$9,IF('Project Summary Sheet (PSS)_1'!AA44='PSS References'!$N$24,'Project Summary Sheet (PSS)_1'!AB44*'PSS Savings Check_1'!$AE$9,IF('Project Summary Sheet (PSS)_1'!AA44='PSS References'!$N$25,'Project Summary Sheet (PSS)_1'!AB44*'PSS Savings Check_1'!$AG$9,IF('Project Summary Sheet (PSS)_1'!AA44='PSS References'!$N$17,\"Can't be 'Multiple'\",))))))))),\"-\")))","v":""},"",{"$f":"IF('Project Summary Sheet (PSS)_1'!L44=\"\",\"\",'Project Summary Sheet (PSS)_1'!L44)","v":""},""]
[{"$f":"IF('Project Summary Sheet (PSS)_1'!B45=\"\",\"\",'Project Summary Sheet (PSS)_1'!B45)","v":""},{"$f":"IF('Project Summary Sheet (PSS)_1'!C45=\"\",\"\",'Project Summary Sheet (PSS)_1'!C45)","v":""},{"$f":"IFERROR(VLOOKUP(A25,'Project Summary Sheet (PSS)_1'!$B$23:$Q$75,6,FALSE)/'Project Summary Sheet (PSS)_1'!$D$17,\"\")","v":""},{"$f":"IFERROR(VLOOKUP(A25,'Project Summary Sheet (PSS)_1'!$B$23:$Q$75,9,FALSE)/('Project Summary Sheet (PSS)_1'!$T$17-('Project Summary Sheet (PSS)_1'!$D$17*'PSS References'!$E$11)),\"\")","v":""},{"$f":"IFERROR(((VLOOKUP(A25,'Project Summary Sheet (PSS)_1'!$B$23:$Q$75,6,FALSE)*'PSS References'!$E$11)+VLOOKUP(A25,'Project Summary Sheet (PSS)_1'!$B$23:$Q$75,9,FALSE))/'Project Summary Sheet (PSS)_1'!$T$17,\"\")","v":""},{"$f":"IF(A25=\"\",\"\",IF(M25<0,IF(OR(M25<'Project Summary Sheet (PSS)_1'!L45*1.1,M25>'Project Summary Sheet (PSS)_1'!L45*0.9),\"Check Rates\",\"Rate OK\"),IF(OR(M25>'Project Summary Sheet (PSS)_1'!L45*1.1,M25<'Project Summary Sheet (PSS)_1'!L45*0.9),\"Check Rates\",\"Rate OK\")))","v":""},{"$f":"IF(A25=\"\",\"\",'Project Summary Sheet (PSS)_1'!G45*'Project Summary Sheet (PSS)_1'!$E$18)","v":""},{"$f":"IF(A25=\"\",\"\",IF('Project Summary Sheet (PSS)_1'!$F$18<>\"\",('Project Summary Sheet (PSS)_1'!H45*'Project Summary Sheet (PSS)_1'!$F$18),0))","v":""},{"$f":"IF(A25=\"\",\"\",IF('Project Summary Sheet (PSS)_1'!I45=\"\",\"-\",IF('Project Summary Sheet (PSS)_1'!I45='PSS References'!$N$18,'Project Summary Sheet (PSS)_1'!J45*'PSS Savings Check_1'!$W$9,IF('Project Summary Sheet (PSS)_1'!I45='PSS References'!$N$19,'Project Summary Sheet (PSS)_1'!J45*'PSS Savings Check_1'!$AA$9,IF('Project Summary Sheet (PSS)_1'!I45='PSS References'!$N$20,'Project Summary Sheet (PSS)_1'!J45*'PSS Savings Check_1'!$Y$9,IF('Project Summary Sheet (PSS)_1'!I45='PSS References'!$N$21,'Project Summary Sheet (PSS)_1'!J45*'PSS Savings Check_1'!$Y$9,IF('Project Summary Sheet (PSS)_1'!I45='PSS References'!$N$22,'Project Summary Sheet (PSS)_1'!J45*'PSS Savings Check_1'!$Y$9,IF('Project Summary Sheet (PSS)_1'!I45='PSS References'!$N$23,'Project Summary Sheet (PSS)_1'!J45*'PSS Savings Check_1'!$AC$9,IF('Project Summary Sheet (PSS)_1'!I45='PSS References'!$N$24,'Project Summary Sheet (PSS)_1'!J45*'PSS Savings Check_1'!$AE$9,IF('Project Summary Sheet (PSS)_1'!I45='PSS References'!$N$25,'Project Summary Sheet (PSS)_1'!J45*'PSS Savings Check_1'!$AG$9,IF('Project Summary Sheet (PSS)_1'!I45='PSS References'!$N$17,\"-\")))))))))))","v":""},{"$f":"IF(A25=\"\",\"\",IF('Project Summary Sheet (PSS)_1'!I45=\"\",\"-\",IF('Project Summary Sheet (PSS)_1'!I45='PSS References'!$N$17,IF('Project Summary Sheet (PSS)_1'!W45='PSS References'!$N$18,'Project Summary Sheet (PSS)_1'!X45*'PSS Savings Check_1'!$W$9,IF('Project Summary Sheet (PSS)_1'!W45='PSS References'!$N$19,'Project Summary Sheet (PSS)_1'!X45*'PSS Savings Check_1'!$AA$9,IF('Project Summary Sheet (PSS)_1'!W45='PSS References'!$N$20,'Project Summary Sheet (PSS)_1'!X45*'PSS Savings Check_1'!$Y$9,IF('Project Summary Sheet (PSS)_1'!W45='PSS References'!$N$21,'Project Summary Sheet (PSS)_1'!X45*'PSS Savings Check_1'!$Y$9,IF('Project Summary Sheet (PSS)_1'!W45='PSS References'!$N$22,'Project Summary Sheet (PSS)_1'!X45*'PSS Savings Check_1'!$Y$9,IF('Project Summary Sheet (PSS)_1'!W45='PSS References'!$N$23,'Project Summary Sheet (PSS)_1'!X45*'PSS Savings Check_1'!$AC$9,IF('Project Summary Sheet (PSS)_1'!W45='PSS References'!$N$24,'Project Summary Sheet (PSS)_1'!X45*'PSS Savings Check_1'!$AE$9,IF('Project Summary Sheet (PSS)_1'!W45='PSS References'!$N$25,'Project Summary Sheet (PSS)_1'!X45*'PSS Savings Check_1'!$AG$9,IF('Project Summary Sheet (PSS)_1'!W45='PSS References'!$N$17,\"Can't be 'Multiple'\",))))))))),\"-\")))","v":""},{"$f":"IF(A25=\"\",\"\",IF('Project Summary Sheet (PSS)_1'!I45=\"\",\"-\",IF('Project Summary Sheet (PSS)_1'!I45='PSS References'!$N$17,IF('Project Summary Sheet (PSS)_1'!Y45='PSS References'!$N$18,'Project Summary Sheet (PSS)_1'!Z45*'PSS Savings Check_1'!$W$9,IF('Project Summary Sheet (PSS)_1'!Y45='PSS References'!$N$19,'Project Summary Sheet (PSS)_1'!Z45*'PSS Savings Check_1'!$AA$9,IF('Project Summary Sheet (PSS)_1'!Y45='PSS References'!$N$20,'Project Summary Sheet (PSS)_1'!Z45*'PSS Savings Check_1'!$Y$9,IF('Project Summary Sheet (PSS)_1'!Y45='PSS References'!$N$21,'Project Summary Sheet (PSS)_1'!Z45*'PSS Savings Check_1'!$Y$9,IF('Project Summary Sheet (PSS)_1'!Y45='PSS References'!$N$22,'Project Summary Sheet (PSS)_1'!Z45*'PSS Savings Check_1'!$Y$9,IF('Project Summary Sheet (PSS)_1'!Y45='PSS References'!$N$23,'Project Summary Sheet (PSS)_1'!Z45*'PSS Savings Check_1'!$AC$9,IF('Project Summary Sheet (PSS)_1'!Y45='PSS References'!$N$24,'Project Summary Sheet (PSS)_1'!Z45*'PSS Savings Check_1'!$AE$9,IF('Project Summary Sheet (PSS)_1'!Y45='PSS References'!$N$25,'Project Summary Sheet (PSS)_1'!Z45*'PSS Savings Check_1'!$AG$9,IF('Project Summary Sheet (PSS)_1'!Y45='PSS References'!$N$17,\"Can't be 'Multiple'\",))))))))),\"-\")))","v":""},{"$f":"IF(A25=\"\",\"\",IF('Project Summary Sheet (PSS)_1'!I45=\"\",\"-\",IF('Project Summary Sheet (PSS)_1'!I45='PSS References'!$N$17,IF('Project Summary Sheet (PSS)_1'!AA45='PSS References'!$N$18,'Project Summary Sheet (PSS)_1'!AB45*'PSS Savings Check_1'!$W$9,IF('Project Summary Sheet (PSS)_1'!AA45='PSS References'!N38,'Project Summary Sheet (PSS)_1'!AB45*'PSS Savings Check_1'!$AA$9,IF('Project Summary Sheet (PSS)_1'!AA45='PSS References'!$N$20,'Project Summary Sheet (PSS)_1'!AB45*'PSS Savings Check_1'!$Y$9,IF('Project Summary Sheet (PSS)_1'!AA45='PSS References'!$N$21,'Project Summary Sheet (PSS)_1'!AB45*'PSS Savings Check_1'!$Y$9,IF('Project Summary Sheet (PSS)_1'!AA45='PSS References'!$N$22,'Project Summary Sheet (PSS)_1'!AB45*'PSS Savings Check_1'!$Y$9,IF('Project Summary Sheet (PSS)_1'!AA45='PSS References'!$N$23,'Project Summary Sheet (PSS)_1'!AB45*'PSS Savings Check_1'!$AC$9,IF('Project Summary Sheet (PSS)_1'!AA45='PSS References'!$N$24,'Project Summary Sheet (PSS)_1'!AB45*'PSS Savings Check_1'!$AE$9,IF('Project Summary Sheet (PSS)_1'!AA45='PSS References'!$N$25,'Project Summary Sheet (PSS)_1'!AB45*'PSS Savings Check_1'!$AG$9,IF('Project Summary Sheet (PSS)_1'!AA45='PSS References'!$N$17,\"Can't be 'Multiple'\",))))))))),\"-\")))","v":""},"",{"$f":"IF('Project Summary Sheet (PSS)_1'!L45=\"\",\"\",'Project Summary Sheet (PSS)_1'!L45)","v":""},""]
[{"$f":"IF('Project Summary Sheet (PSS)_1'!B46=\"\",\"\",'Project Summary Sheet (PSS)_1'!B46)","v":""},{"$f":"IF('Project Summary Sheet (PSS)_1'!C46=\"\",\"\",'Project Summary Sheet (PSS)_1'!C46)","v":""},{"$f":"IFERROR(VLOOKUP(A26,'Project Summary Sheet (PSS)_1'!$B$23:$Q$75,6,FALSE)/'Project Summary Sheet (PSS)_1'!$D$17,\"\")","v":""},{"$f":"IFERROR(VLOOKUP(A26,'Project Summary Sheet (PSS)_1'!$B$23:$Q$75,9,FALSE)/('Project Summary Sheet (PSS)_1'!$T$17-('Project Summary Sheet (PSS)_1'!$D$17*'PSS References'!$E$11)),\"\")","v":""},{"$f":"IFERROR(((VLOOKUP(A26,'Project Summary Sheet (PSS)_1'!$B$23:$Q$75,6,FALSE)*'PSS References'!$E$11)+VLOOKUP(A26,'Project Summary Sheet (PSS)_1'!$B$23:$Q$75,9,FALSE))/'Project Summary Sheet (PSS)_1'!$T$17,\"\")","v":""},{"$f":"IF(A26=\"\",\"\",IF(M26<0,IF(OR(M26<'Project Summary Sheet (PSS)_1'!L46*1.1,M26>'Project Summary Sheet (PSS)_1'!L46*0.9),\"Check Rates\",\"Rate OK\"),IF(OR(M26>'Project Summary Sheet (PSS)_1'!L46*1.1,M26<'Project Summary Sheet (PSS)_1'!L46*0.9),\"Check Rates\",\"Rate OK\")))","v":""},{"$f":"IF(A26=\"\",\"\",'Project Summary Sheet (PSS)_1'!G46*'Project Summary Sheet (PSS)_1'!$E$18)","v":""},{"$f":"IF(A26=\"\",\"\",IF('Project Summary Sheet (PSS)_1'!$F$18<>\"\",('Project Summary Sheet (PSS)_1'!H46*'Project Summary Sheet (PSS)_1'!$F$18),0))","v":""},{"$f":"IF(A26=\"\",\"\",IF('Project Summary Sheet (PSS)_1'!I46=\"\",\"-\",IF('Project Summary Sheet (PSS)_1'!I46='PSS References'!$N$18,'Project Summary Sheet (PSS)_1'!J46*'PSS Savings Check_1'!$W$9,IF('Project Summary Sheet (PSS)_1'!I46='PSS References'!$N$19,'Project Summary Sheet (PSS)_1'!J46*'PSS Savings Check_1'!$AA$9,IF('Project Summary Sheet (PSS)_1'!I46='PSS References'!$N$20,'Project Summary Sheet (PSS)_1'!J46*'PSS Savings Check_1'!$Y$9,IF('Project Summary Sheet (PSS)_1'!I46='PSS References'!$N$21,'Project Summary Sheet (PSS)_1'!J46*'PSS Savings Check_1'!$Y$9,IF('Project Summary Sheet (PSS)_1'!I46='PSS References'!$N$22,'Project Summary Sheet (PSS)_1'!J46*'PSS Savings Check_1'!$Y$9,IF('Project Summary Sheet (PSS)_1'!I46='PSS References'!$N$23,'Project Summary Sheet (PSS)_1'!J46*'PSS Savings Check_1'!$AC$9,IF('Project Summary Sheet (PSS)_1'!I46='PSS References'!$N$24,'Project Summary Sheet (PSS)_1'!J46*'PSS Savings Check_1'!$AE$9,IF('Project Summary Sheet (PSS)_1'!I46='PSS References'!$N$25,'Project Summary Sheet (PSS)_1'!J46*'PSS Savings Check_1'!$AG$9,IF('Project Summary Sheet (PSS)_1'!I46='PSS References'!$N$17,\"-\")))))))))))","v":""},{"$f":"IF(A26=\"\",\"\",IF('Project Summary Sheet (PSS)_1'!I46=\"\",\"-\",IF('Project Summary Sheet (PSS)_1'!I46='PSS References'!$N$17,IF('Project Summary Sheet (PSS)_1'!W46='PSS References'!$N$18,'Project Summary Sheet (PSS)_1'!X46*'PSS Savings Check_1'!$W$9,IF('Project Summary Sheet (PSS)_1'!W46='PSS References'!$N$19,'Project Summary Sheet (PSS)_1'!X46*'PSS Savings Check_1'!$AA$9,IF('Project Summary Sheet (PSS)_1'!W46='PSS References'!$N$20,'Project Summary Sheet (PSS)_1'!X46*'PSS Savings Check_1'!$Y$9,IF('Project Summary Sheet (PSS)_1'!W46='PSS References'!$N$21,'Project Summary Sheet (PSS)_1'!X46*'PSS Savings Check_1'!$Y$9,IF('Project Summary Sheet (PSS)_1'!W46='PSS References'!$N$22,'Project Summary Sheet (PSS)_1'!X46*'PSS Savings Check_1'!$Y$9,IF('Project Summary Sheet (PSS)_1'!W46='PSS References'!$N$23,'Project Summary Sheet (PSS)_1'!X46*'PSS Savings Check_1'!$AC$9,IF('Project Summary Sheet (PSS)_1'!W46='PSS References'!$N$24,'Project Summary Sheet (PSS)_1'!X46*'PSS Savings Check_1'!$AE$9,IF('Project Summary Sheet (PSS)_1'!W46='PSS References'!$N$25,'Project Summary Sheet (PSS)_1'!X46*'PSS Savings Check_1'!$AG$9,IF('Project Summary Sheet (PSS)_1'!W46='PSS References'!$N$17,\"Can't be 'Multiple'\",))))))))),\"-\")))","v":""},{"$f":"IF(A26=\"\",\"\",IF('Project Summary Sheet (PSS)_1'!I46=\"\",\"-\",IF('Project Summary Sheet (PSS)_1'!I46='PSS References'!$N$17,IF('Project Summary Sheet (PSS)_1'!Y46='PSS References'!$N$18,'Project Summary Sheet (PSS)_1'!Z46*'PSS Savings Check_1'!$W$9,IF('Project Summary Sheet (PSS)_1'!Y46='PSS References'!$N$19,'Project Summary Sheet (PSS)_1'!Z46*'PSS Savings Check_1'!$AA$9,IF('Project Summary Sheet (PSS)_1'!Y46='PSS References'!$N$20,'Project Summary Sheet (PSS)_1'!Z46*'PSS Savings Check_1'!$Y$9,IF('Project Summary Sheet (PSS)_1'!Y46='PSS References'!$N$21,'Project Summary Sheet (PSS)_1'!Z46*'PSS Savings Check_1'!$Y$9,IF('Project Summary Sheet (PSS)_1'!Y46='PSS References'!$N$22,'Project Summary Sheet (PSS)_1'!Z46*'PSS Savings Check_1'!$Y$9,IF('Project Summary Sheet (PSS)_1'!Y46='PSS References'!$N$23,'Project Summary Sheet (PSS)_1'!Z46*'PSS Savings Check_1'!$AC$9,IF('Project Summary Sheet (PSS)_1'!Y46='PSS References'!$N$24,'Project Summary Sheet (PSS)_1'!Z46*'PSS Savings Check_1'!$AE$9,IF('Project Summary Sheet (PSS)_1'!Y46='PSS References'!$N$25,'Project Summary Sheet (PSS)_1'!Z46*'PSS Savings Check_1'!$AG$9,IF('Project Summary Sheet (PSS)_1'!Y46='PSS References'!$N$17,\"Can't be 'Multiple'\",))))))))),\"-\")))","v":""},{"$f":"IF(A26=\"\",\"\",IF('Project Summary Sheet (PSS)_1'!I46=\"\",\"-\",IF('Project Summary Sheet (PSS)_1'!I46='PSS References'!$N$17,IF('Project Summary Sheet (PSS)_1'!AA46='PSS References'!$N$18,'Project Summary Sheet (PSS)_1'!AB46*'PSS Savings Check_1'!$W$9,IF('Project Summary Sheet (PSS)_1'!AA46='PSS References'!N39,'Project Summary Sheet (PSS)_1'!AB46*'PSS Savings Check_1'!$AA$9,IF('Project Summary Sheet (PSS)_1'!AA46='PSS References'!$N$20,'Project Summary Sheet (PSS)_1'!AB46*'PSS Savings Check_1'!$Y$9,IF('Project Summary Sheet (PSS)_1'!AA46='PSS References'!$N$21,'Project Summary Sheet (PSS)_1'!AB46*'PSS Savings Check_1'!$Y$9,IF('Project Summary Sheet (PSS)_1'!AA46='PSS References'!$N$22,'Project Summary Sheet (PSS)_1'!AB46*'PSS Savings Check_1'!$Y$9,IF('Project Summary Sheet (PSS)_1'!AA46='PSS References'!$N$23,'Project Summary Sheet (PSS)_1'!AB46*'PSS Savings Check_1'!$AC$9,IF('Project Summary Sheet (PSS)_1'!AA46='PSS References'!$N$24,'Project Summary Sheet (PSS)_1'!AB46*'PSS Savings Check_1'!$AE$9,IF('Project Summary Sheet (PSS)_1'!AA46='PSS References'!$N$25,'Project Summary Sheet (PSS)_1'!AB46*'PSS Savings Check_1'!$AG$9,IF('Project Summary Sheet (PSS)_1'!AA46='PSS References'!$N$17,\"Can't be 'Multiple'\",))))))))),\"-\")))","v":""},"",{"$f":"IF('Project Summary Sheet (PSS)_1'!L46=\"\",\"\",'Project Summary Sheet (PSS)_1'!L46)","v":""},""]
[{"$f":"IF('Project Summary Sheet (PSS)_1'!B47=\"\",\"\",'Project Summary Sheet (PSS)_1'!B47)","v":""},{"$f":"IF('Project Summary Sheet (PSS)_1'!C47=\"\",\"\",'Project Summary Sheet (PSS)_1'!C47)","v":""},{"$f":"IFERROR(VLOOKUP(A27,'Project Summary Sheet (PSS)_1'!$B$23:$Q$75,6,FALSE)/'Project Summary Sheet (PSS)_1'!$D$17,\"\")","v":""},{"$f":"IFERROR(VLOOKUP(A27,'Project Summary Sheet (PSS)_1'!$B$23:$Q$75,9,FALSE)/('Project Summary Sheet (PSS)_1'!$T$17-('Project Summary Sheet (PSS)_1'!$D$17*'PSS References'!$E$11)),\"\")","v":""},{"$f":"IFERROR(((VLOOKUP(A27,'Project Summary Sheet (PSS)_1'!$B$23:$Q$75,6,FALSE)*'PSS References'!$E$11)+VLOOKUP(A27,'Project Summary Sheet (PSS)_1'!$B$23:$Q$75,9,FALSE))/'Project Summary Sheet (PSS)_1'!$T$17,\"\")","v":""},{"$f":"IF(A27=\"\",\"\",IF(M27<0,IF(OR(M27<'Project Summary Sheet (PSS)_1'!L47*1.1,M27>'Project Summary Sheet (PSS)_1'!L47*0.9),\"Check Rates\",\"Rate OK\"),IF(OR(M27>'Project Summary Sheet (PSS)_1'!L47*1.1,M27<'Project Summary Sheet (PSS)_1'!L47*0.9),\"Check Rates\",\"Rate OK\")))","v":""},{"$f":"IF(A27=\"\",\"\",'Project Summary Sheet (PSS)_1'!G47*'Project Summary Sheet (PSS)_1'!$E$18)","v":""},{"$f":"IF(A27=\"\",\"\",IF('Project Summary Sheet (PSS)_1'!$F$18<>\"\",('Project Summary Sheet (PSS)_1'!H47*'Project Summary Sheet (PSS)_1'!$F$18),0))","v":""},{"$f":"IF(A27=\"\",\"\",IF('Project Summary Sheet (PSS)_1'!I47=\"\",\"-\",IF('Project Summary Sheet (PSS)_1'!I47='PSS References'!$N$18,'Project Summary Sheet (PSS)_1'!J47*'PSS Savings Check_1'!$W$9,IF('Project Summary Sheet (PSS)_1'!I47='PSS References'!$N$19,'Project Summary Sheet (PSS)_1'!J47*'PSS Savings Check_1'!$AA$9,IF('Project Summary Sheet (PSS)_1'!I47='PSS References'!$N$20,'Project Summary Sheet (PSS)_1'!J47*'PSS Savings Check_1'!$Y$9,IF('Project Summary Sheet (PSS)_1'!I47='PSS References'!$N$21,'Project Summary Sheet (PSS)_1'!J47*'PSS Savings Check_1'!$Y$9,IF('Project Summary Sheet (PSS)_1'!I47='PSS References'!$N$22,'Project Summary Sheet (PSS)_1'!J47*'PSS Savings Check_1'!$Y$9,IF('Project Summary Sheet (PSS)_1'!I47='PSS References'!$N$23,'Project Summary Sheet (PSS)_1'!J47*'PSS Savings Check_1'!$AC$9,IF('Project Summary Sheet (PSS)_1'!I47='PSS References'!$N$24,'Project Summary Sheet (PSS)_1'!J47*'PSS Savings Check_1'!$AE$9,IF('Project Summary Sheet (PSS)_1'!I47='PSS References'!$N$25,'Project Summary Sheet (PSS)_1'!J47*'PSS Savings Check_1'!$AG$9,IF('Project Summary Sheet (PSS)_1'!I47='PSS References'!$N$17,\"-\")))))))))))","v":""},{"$f":"IF(A27=\"\",\"\",IF('Project Summary Sheet (PSS)_1'!I47=\"\",\"-\",IF('Project Summary Sheet (PSS)_1'!I47='PSS References'!$N$17,IF('Project Summary Sheet (PSS)_1'!W47='PSS References'!$N$18,'Project Summary Sheet (PSS)_1'!X47*'PSS Savings Check_1'!$W$9,IF('Project Summary Sheet (PSS)_1'!W47='PSS References'!$N$19,'Project Summary Sheet (PSS)_1'!X47*'PSS Savings Check_1'!$AA$9,IF('Project Summary Sheet (PSS)_1'!W47='PSS References'!$N$20,'Project Summary Sheet (PSS)_1'!X47*'PSS Savings Check_1'!$Y$9,IF('Project Summary Sheet (PSS)_1'!W47='PSS References'!$N$21,'Project Summary Sheet (PSS)_1'!X47*'PSS Savings Check_1'!$Y$9,IF('Project Summary Sheet (PSS)_1'!W47='PSS References'!$N$22,'Project Summary Sheet (PSS)_1'!X47*'PSS Savings Check_1'!$Y$9,IF('Project Summary Sheet (PSS)_1'!W47='PSS References'!$N$23,'Project Summary Sheet (PSS)_1'!X47*'PSS Savings Check_1'!$AC$9,IF('Project Summary Sheet (PSS)_1'!W47='PSS References'!$N$24,'Project Summary Sheet (PSS)_1'!X47*'PSS Savings Check_1'!$AE$9,IF('Project Summary Sheet (PSS)_1'!W47='PSS References'!$N$25,'Project Summary Sheet (PSS)_1'!X47*'PSS Savings Check_1'!$AG$9,IF('Project Summary Sheet (PSS)_1'!W47='PSS References'!$N$17,\"Can't be 'Multiple'\",))))))))),\"-\")))","v":""},{"$f":"IF(A27=\"\",\"\",IF('Project Summary Sheet (PSS)_1'!I47=\"\",\"-\",IF('Project Summary Sheet (PSS)_1'!I47='PSS References'!$N$17,IF('Project Summary Sheet (PSS)_1'!Y47='PSS References'!$N$18,'Project Summary Sheet (PSS)_1'!Z47*'PSS Savings Check_1'!$W$9,IF('Project Summary Sheet (PSS)_1'!Y47='PSS References'!$N$19,'Project Summary Sheet (PSS)_1'!Z47*'PSS Savings Check_1'!$AA$9,IF('Project Summary Sheet (PSS)_1'!Y47='PSS References'!$N$20,'Project Summary Sheet (PSS)_1'!Z47*'PSS Savings Check_1'!$Y$9,IF('Project Summary Sheet (PSS)_1'!Y47='PSS References'!$N$21,'Project Summary Sheet (PSS)_1'!Z47*'PSS Savings Check_1'!$Y$9,IF('Project Summary Sheet (PSS)_1'!Y47='PSS References'!$N$22,'Project Summary Sheet (PSS)_1'!Z47*'PSS Savings Check_1'!$Y$9,IF('Project Summary Sheet (PSS)_1'!Y47='PSS References'!$N$23,'Project Summary Sheet (PSS)_1'!Z47*'PSS Savings Check_1'!$AC$9,IF('Project Summary Sheet (PSS)_1'!Y47='PSS References'!$N$24,'Project Summary Sheet (PSS)_1'!Z47*'PSS Savings Check_1'!$AE$9,IF('Project Summary Sheet (PSS)_1'!Y47='PSS References'!$N$25,'Project Summary Sheet (PSS)_1'!Z47*'PSS Savings Check_1'!$AG$9,IF('Project Summary Sheet (PSS)_1'!Y47='PSS References'!$N$17,\"Can't be 'Multiple'\",))))))))),\"-\")))","v":""},{"$f":"IF(A27=\"\",\"\",IF('Project Summary Sheet (PSS)_1'!I47=\"\",\"-\",IF('Project Summary Sheet (PSS)_1'!I47='PSS References'!$N$17,IF('Project Summary Sheet (PSS)_1'!AA47='PSS References'!$N$18,'Project Summary Sheet (PSS)_1'!AB47*'PSS Savings Check_1'!$W$9,IF('Project Summary Sheet (PSS)_1'!AA47='PSS References'!N40,'Project Summary Sheet (PSS)_1'!AB47*'PSS Savings Check_1'!$AA$9,IF('Project Summary Sheet (PSS)_1'!AA47='PSS References'!$N$20,'Project Summary Sheet (PSS)_1'!AB47*'PSS Savings Check_1'!$Y$9,IF('Project Summary Sheet (PSS)_1'!AA47='PSS References'!$N$21,'Project Summary Sheet (PSS)_1'!AB47*'PSS Savings Check_1'!$Y$9,IF('Project Summary Sheet (PSS)_1'!AA47='PSS References'!$N$22,'Project Summary Sheet (PSS)_1'!AB47*'PSS Savings Check_1'!$Y$9,IF('Project Summary Sheet (PSS)_1'!AA47='PSS References'!$N$23,'Project Summary Sheet (PSS)_1'!AB47*'PSS Savings Check_1'!$AC$9,IF('Project Summary Sheet (PSS)_1'!AA47='PSS References'!$N$24,'Project Summary Sheet (PSS)_1'!AB47*'PSS Savings Check_1'!$AE$9,IF('Project Summary Sheet (PSS)_1'!AA47='PSS References'!$N$25,'Project Summary Sheet (PSS)_1'!AB47*'PSS Savings Check_1'!$AG$9,IF('Project Summary Sheet (PSS)_1'!AA47='PSS References'!$N$17,\"Can't be 'Multiple'\",))))))))),\"-\")))","v":""},"",{"$f":"IF('Project Summary Sheet (PSS)_1'!L47=\"\",\"\",'Project Summary Sheet (PSS)_1'!L47)","v":""},""]
[{"$f":"IF('Project Summary Sheet (PSS)_1'!B48=\"\",\"\",'Project Summary Sheet (PSS)_1'!B48)","v":""},{"$f":"IF('Project Summary Sheet (PSS)_1'!C48=\"\",\"\",'Project Summary Sheet (PSS)_1'!C48)","v":""},{"$f":"IFERROR(VLOOKUP(A28,'Project Summary Sheet (PSS)_1'!$B$23:$Q$75,6,FALSE)/'Project Summary Sheet (PSS)_1'!$D$17,\"\")","v":""},{"$f":"IFERROR(VLOOKUP(A28,'Project Summary Sheet (PSS)_1'!$B$23:$Q$75,9,FALSE)/('Project Summary Sheet (PSS)_1'!$T$17-('Project Summary Sheet (PSS)_1'!$D$17*'PSS References'!$E$11)),\"\")","v":""},{"$f":"IFERROR(((VLOOKUP(A28,'Project Summary Sheet (PSS)_1'!$B$23:$Q$75,6,FALSE)*'PSS References'!$E$11)+VLOOKUP(A28,'Project Summary Sheet (PSS)_1'!$B$23:$Q$75,9,FALSE))/'Project Summary Sheet (PSS)_1'!$T$17,\"\")","v":""},{"$f":"IF(A28=\"\",\"\",IF(M28<0,IF(OR(M28<'Project Summary Sheet (PSS)_1'!L48*1.1,M28>'Project Summary Sheet (PSS)_1'!L48*0.9),\"Check Rates\",\"Rate OK\"),IF(OR(M28>'Project Summary Sheet (PSS)_1'!L48*1.1,M28<'Project Summary Sheet (PSS)_1'!L48*0.9),\"Check Rates\",\"Rate OK\")))","v":""},{"$f":"IF(A28=\"\",\"\",'Project Summary Sheet (PSS)_1'!G48*'Project Summary Sheet (PSS)_1'!$E$18)","v":""},{"$f":"IF(A28=\"\",\"\",IF('Project Summary Sheet (PSS)_1'!$F$18<>\"\",('Project Summary Sheet (PSS)_1'!H48*'Project Summary Sheet (PSS)_1'!$F$18),0))","v":""},{"$f":"IF(A28=\"\",\"\",IF('Project Summary Sheet (PSS)_1'!I48=\"\",\"-\",IF('Project Summary Sheet (PSS)_1'!I48='PSS References'!$N$18,'Project Summary Sheet (PSS)_1'!J48*'PSS Savings Check_1'!$W$9,IF('Project Summary Sheet (PSS)_1'!I48='PSS References'!$N$19,'Project Summary Sheet (PSS)_1'!J48*'PSS Savings Check_1'!$AA$9,IF('Project Summary Sheet (PSS)_1'!I48='PSS References'!$N$20,'Project Summary Sheet (PSS)_1'!J48*'PSS Savings Check_1'!$Y$9,IF('Project Summary Sheet (PSS)_1'!I48='PSS References'!$N$21,'Project Summary Sheet (PSS)_1'!J48*'PSS Savings Check_1'!$Y$9,IF('Project Summary Sheet (PSS)_1'!I48='PSS References'!$N$22,'Project Summary Sheet (PSS)_1'!J48*'PSS Savings Check_1'!$Y$9,IF('Project Summary Sheet (PSS)_1'!I48='PSS References'!$N$23,'Project Summary Sheet (PSS)_1'!J48*'PSS Savings Check_1'!$AC$9,IF('Project Summary Sheet (PSS)_1'!I48='PSS References'!$N$24,'Project Summary Sheet (PSS)_1'!J48*'PSS Savings Check_1'!$AE$9,IF('Project Summary Sheet (PSS)_1'!I48='PSS References'!$N$25,'Project Summary Sheet (PSS)_1'!J48*'PSS Savings Check_1'!$AG$9,IF('Project Summary Sheet (PSS)_1'!I48='PSS References'!$N$17,\"-\")))))))))))","v":""},{"$f":"IF(A28=\"\",\"\",IF('Project Summary Sheet (PSS)_1'!I48=\"\",\"-\",IF('Project Summary Sheet (PSS)_1'!I48='PSS References'!$N$17,IF('Project Summary Sheet (PSS)_1'!W48='PSS References'!$N$18,'Project Summary Sheet (PSS)_1'!X48*'PSS Savings Check_1'!$W$9,IF('Project Summary Sheet (PSS)_1'!W48='PSS References'!$N$19,'Project Summary Sheet (PSS)_1'!X48*'PSS Savings Check_1'!$AA$9,IF('Project Summary Sheet (PSS)_1'!W48='PSS References'!$N$20,'Project Summary Sheet (PSS)_1'!X48*'PSS Savings Check_1'!$Y$9,IF('Project Summary Sheet (PSS)_1'!W48='PSS References'!$N$21,'Project Summary Sheet (PSS)_1'!X48*'PSS Savings Check_1'!$Y$9,IF('Project Summary Sheet (PSS)_1'!W48='PSS References'!$N$22,'Project Summary Sheet (PSS)_1'!X48*'PSS Savings Check_1'!$Y$9,IF('Project Summary Sheet (PSS)_1'!W48='PSS References'!$N$23,'Project Summary Sheet (PSS)_1'!X48*'PSS Savings Check_1'!$AC$9,IF('Project Summary Sheet (PSS)_1'!W48='PSS References'!$N$24,'Project Summary Sheet (PSS)_1'!X48*'PSS Savings Check_1'!$AE$9,IF('Project Summary Sheet (PSS)_1'!W48='PSS References'!$N$25,'Project Summary Sheet (PSS)_1'!X48*'PSS Savings Check_1'!$AG$9,IF('Project Summary Sheet (PSS)_1'!W48='PSS References'!$N$17,\"Can't be 'Multiple'\",))))))))),\"-\")))","v":""},{"$f":"IF(A28=\"\",\"\",IF('Project Summary Sheet (PSS)_1'!I48=\"\",\"-\",IF('Project Summary Sheet (PSS)_1'!I48='PSS References'!$N$17,IF('Project Summary Sheet (PSS)_1'!Y48='PSS References'!$N$18,'Project Summary Sheet (PSS)_1'!Z48*'PSS Savings Check_1'!$W$9,IF('Project Summary Sheet (PSS)_1'!Y48='PSS References'!$N$19,'Project Summary Sheet (PSS)_1'!Z48*'PSS Savings Check_1'!$AA$9,IF('Project Summary Sheet (PSS)_1'!Y48='PSS References'!$N$20,'Project Summary Sheet (PSS)_1'!Z48*'PSS Savings Check_1'!$Y$9,IF('Project Summary Sheet (PSS)_1'!Y48='PSS References'!$N$21,'Project Summary Sheet (PSS)_1'!Z48*'PSS Savings Check_1'!$Y$9,IF('Project Summary Sheet (PSS)_1'!Y48='PSS References'!$N$22,'Project Summary Sheet (PSS)_1'!Z48*'PSS Savings Check_1'!$Y$9,IF('Project Summary Sheet (PSS)_1'!Y48='PSS References'!$N$23,'Project Summary Sheet (PSS)_1'!Z48*'PSS Savings Check_1'!$AC$9,IF('Project Summary Sheet (PSS)_1'!Y48='PSS References'!$N$24,'Project Summary Sheet (PSS)_1'!Z48*'PSS Savings Check_1'!$AE$9,IF('Project Summary Sheet (PSS)_1'!Y48='PSS References'!$N$25,'Project Summary Sheet (PSS)_1'!Z48*'PSS Savings Check_1'!$AG$9,IF('Project Summary Sheet (PSS)_1'!Y48='PSS References'!$N$17,\"Can't be 'Multiple'\",))))))))),\"-\")))","v":""},{"$f":"IF(A28=\"\",\"\",IF('Project Summary Sheet (PSS)_1'!I48=\"\",\"-\",IF('Project Summary Sheet (PSS)_1'!I48='PSS References'!$N$17,IF('Project Summary Sheet (PSS)_1'!AA48='PSS References'!$N$18,'Project Summary Sheet (PSS)_1'!AB48*'PSS Savings Check_1'!$W$9,IF('Project Summary Sheet (PSS)_1'!AA48='PSS References'!N41,'Project Summary Sheet (PSS)_1'!AB48*'PSS Savings Check_1'!$AA$9,IF('Project Summary Sheet (PSS)_1'!AA48='PSS References'!$N$20,'Project Summary Sheet (PSS)_1'!AB48*'PSS Savings Check_1'!$Y$9,IF('Project Summary Sheet (PSS)_1'!AA48='PSS References'!$N$21,'Project Summary Sheet (PSS)_1'!AB48*'PSS Savings Check_1'!$Y$9,IF('Project Summary Sheet (PSS)_1'!AA48='PSS References'!$N$22,'Project Summary Sheet (PSS)_1'!AB48*'PSS Savings Check_1'!$Y$9,IF('Project Summary Sheet (PSS)_1'!AA48='PSS References'!$N$23,'Project Summary Sheet (PSS)_1'!AB48*'PSS Savings Check_1'!$AC$9,IF('Project Summary Sheet (PSS)_1'!AA48='PSS References'!$N$24,'Project Summary Sheet (PSS)_1'!AB48*'PSS Savings Check_1'!$AE$9,IF('Project Summary Sheet (PSS)_1'!AA48='PSS References'!$N$25,'Project Summary Sheet (PSS)_1'!AB48*'PSS Savings Check_1'!$AG$9,IF('Project Summary Sheet (PSS)_1'!AA48='PSS References'!$N$17,\"Can't be 'Multiple'\",))))))))),\"-\")))","v":""},"",{"$f":"IF('Project Summary Sheet (PSS)_1'!L48=\"\",\"\",'Project Summary Sheet (PSS)_1'!L48)","v":""},""]
[{"$f":"IF('Project Summary Sheet (PSS)_1'!B49=\"\",\"\",'Project Summary Sheet (PSS)_1'!B49)","v":""},{"$f":"IF('Project Summary Sheet (PSS)_1'!C49=\"\",\"\",'Project Summary Sheet (PSS)_1'!C49)","v":""},{"$f":"IFERROR(VLOOKUP(A29,'Project Summary Sheet (PSS)_1'!$B$23:$Q$75,6,FALSE)/'Project Summary Sheet (PSS)_1'!$D$17,\"\")","v":""},{"$f":"IFERROR(VLOOKUP(A29,'Project Summary Sheet (PSS)_1'!$B$23:$Q$75,9,FALSE)/('Project Summary Sheet (PSS)_1'!$T$17-('Project Summary Sheet (PSS)_1'!$D$17*'PSS References'!$E$11)),\"\")","v":""},{"$f":"IFERROR(((VLOOKUP(A29,'Project Summary Sheet (PSS)_1'!$B$23:$Q$75,6,FALSE)*'PSS References'!$E$11)+VLOOKUP(A29,'Project Summary Sheet (PSS)_1'!$B$23:$Q$75,9,FALSE))/'Project Summary Sheet (PSS)_1'!$T$17,\"\")","v":""},{"$f":"IF(A29=\"\",\"\",IF(M29<0,IF(OR(M29<'Project Summary Sheet (PSS)_1'!L49*1.1,M29>'Project Summary Sheet (PSS)_1'!L49*0.9),\"Check Rates\",\"Rate OK\"),IF(OR(M29>'Project Summary Sheet (PSS)_1'!L49*1.1,M29<'Project Summary Sheet (PSS)_1'!L49*0.9),\"Check Rates\",\"Rate OK\")))","v":""},{"$f":"IF(A29=\"\",\"\",'Project Summary Sheet (PSS)_1'!G49*'Project Summary Sheet (PSS)_1'!$E$18)","v":""},{"$f":"IF(A29=\"\",\"\",IF('Project Summary Sheet (PSS)_1'!$F$18<>\"\",('Project Summary Sheet (PSS)_1'!H49*'Project Summary Sheet (PSS)_1'!$F$18),0))","v":""},{"$f":"IF(A29=\"\",\"\",IF('Project Summary Sheet (PSS)_1'!I49=\"\",\"-\",IF('Project Summary Sheet (PSS)_1'!I49='PSS References'!$N$18,'Project Summary Sheet (PSS)_1'!J49*'PSS Savings Check_1'!$W$9,IF('Project Summary Sheet (PSS)_1'!I49='PSS References'!$N$19,'Project Summary Sheet (PSS)_1'!J49*'PSS Savings Check_1'!$AA$9,IF('Project Summary Sheet (PSS)_1'!I49='PSS References'!$N$20,'Project Summary Sheet (PSS)_1'!J49*'PSS Savings Check_1'!$Y$9,IF('Project Summary Sheet (PSS)_1'!I49='PSS References'!$N$21,'Project Summary Sheet (PSS)_1'!J49*'PSS Savings Check_1'!$Y$9,IF('Project Summary Sheet (PSS)_1'!I49='PSS References'!$N$22,'Project Summary Sheet (PSS)_1'!J49*'PSS Savings Check_1'!$Y$9,IF('Project Summary Sheet (PSS)_1'!I49='PSS References'!$N$23,'Project Summary Sheet (PSS)_1'!J49*'PSS Savings Check_1'!$AC$9,IF('Project Summary Sheet (PSS)_1'!I49='PSS References'!$N$24,'Project Summary Sheet (PSS)_1'!J49*'PSS Savings Check_1'!$AE$9,IF('Project Summary Sheet (PSS)_1'!I49='PSS References'!$N$25,'Project Summary Sheet (PSS)_1'!J49*'PSS Savings Check_1'!$AG$9,IF('Project Summary Sheet (PSS)_1'!I49='PSS References'!$N$17,\"-\")))))))))))","v":""},{"$f":"IF(A29=\"\",\"\",IF('Project Summary Sheet (PSS)_1'!I49=\"\",\"-\",IF('Project Summary Sheet (PSS)_1'!I49='PSS References'!$N$17,IF('Project Summary Sheet (PSS)_1'!W49='PSS References'!$N$18,'Project Summary Sheet (PSS)_1'!X49*'PSS Savings Check_1'!$W$9,IF('Project Summary Sheet (PSS)_1'!W49='PSS References'!$N$19,'Project Summary Sheet (PSS)_1'!X49*'PSS Savings Check_1'!$AA$9,IF('Project Summary Sheet (PSS)_1'!W49='PSS References'!$N$20,'Project Summary Sheet (PSS)_1'!X49*'PSS Savings Check_1'!$Y$9,IF('Project Summary Sheet (PSS)_1'!W49='PSS References'!$N$21,'Project Summary Sheet (PSS)_1'!X49*'PSS Savings Check_1'!$Y$9,IF('Project Summary Sheet (PSS)_1'!W49='PSS References'!$N$22,'Project Summary Sheet (PSS)_1'!X49*'PSS Savings Check_1'!$Y$9,IF('Project Summary Sheet (PSS)_1'!W49='PSS References'!$N$23,'Project Summary Sheet (PSS)_1'!X49*'PSS Savings Check_1'!$AC$9,IF('Project Summary Sheet (PSS)_1'!W49='PSS References'!$N$24,'Project Summary Sheet (PSS)_1'!X49*'PSS Savings Check_1'!$AE$9,IF('Project Summary Sheet (PSS)_1'!W49='PSS References'!$N$25,'Project Summary Sheet (PSS)_1'!X49*'PSS Savings Check_1'!$AG$9,IF('Project Summary Sheet (PSS)_1'!W49='PSS References'!$N$17,\"Can't be 'Multiple'\",))))))))),\"-\")))","v":""},{"$f":"IF(A29=\"\",\"\",IF('Project Summary Sheet (PSS)_1'!I49=\"\",\"-\",IF('Project Summary Sheet (PSS)_1'!I49='PSS References'!$N$17,IF('Project Summary Sheet (PSS)_1'!Y49='PSS References'!$N$18,'Project Summary Sheet (PSS)_1'!Z49*'PSS Savings Check_1'!$W$9,IF('Project Summary Sheet (PSS)_1'!Y49='PSS References'!$N$19,'Project Summary Sheet (PSS)_1'!Z49*'PSS Savings Check_1'!$AA$9,IF('Project Summary Sheet (PSS)_1'!Y49='PSS References'!$N$20,'Project Summary Sheet (PSS)_1'!Z49*'PSS Savings Check_1'!$Y$9,IF('Project Summary Sheet (PSS)_1'!Y49='PSS References'!$N$21,'Project Summary Sheet (PSS)_1'!Z49*'PSS Savings Check_1'!$Y$9,IF('Project Summary Sheet (PSS)_1'!Y49='PSS References'!$N$22,'Project Summary Sheet (PSS)_1'!Z49*'PSS Savings Check_1'!$Y$9,IF('Project Summary Sheet (PSS)_1'!Y49='PSS References'!$N$23,'Project Summary Sheet (PSS)_1'!Z49*'PSS Savings Check_1'!$AC$9,IF('Project Summary Sheet (PSS)_1'!Y49='PSS References'!$N$24,'Project Summary Sheet (PSS)_1'!Z49*'PSS Savings Check_1'!$AE$9,IF('Project Summary Sheet (PSS)_1'!Y49='PSS References'!$N$25,'Project Summary Sheet (PSS)_1'!Z49*'PSS Savings Check_1'!$AG$9,IF('Project Summary Sheet (PSS)_1'!Y49='PSS References'!$N$17,\"Can't be 'Multiple'\",))))))))),\"-\")))","v":""},{"$f":"IF(A29=\"\",\"\",IF('Project Summary Sheet (PSS)_1'!I49=\"\",\"-\",IF('Project Summary Sheet (PSS)_1'!I49='PSS References'!$N$17,IF('Project Summary Sheet (PSS)_1'!AA49='PSS References'!$N$18,'Project Summary Sheet (PSS)_1'!AB49*'PSS Savings Check_1'!$W$9,IF('Project Summary Sheet (PSS)_1'!AA49='PSS References'!N42,'Project Summary Sheet (PSS)_1'!AB49*'PSS Savings Check_1'!$AA$9,IF('Project Summary Sheet (PSS)_1'!AA49='PSS References'!$N$20,'Project Summary Sheet (PSS)_1'!AB49*'PSS Savings Check_1'!$Y$9,IF('Project Summary Sheet (PSS)_1'!AA49='PSS References'!$N$21,'Project Summary Sheet (PSS)_1'!AB49*'PSS Savings Check_1'!$Y$9,IF('Project Summary Sheet (PSS)_1'!AA49='PSS References'!$N$22,'Project Summary Sheet (PSS)_1'!AB49*'PSS Savings Check_1'!$Y$9,IF('Project Summary Sheet (PSS)_1'!AA49='PSS References'!$N$23,'Project Summary Sheet (PSS)_1'!AB49*'PSS Savings Check_1'!$AC$9,IF('Project Summary Sheet (PSS)_1'!AA49='PSS References'!$N$24,'Project Summary Sheet (PSS)_1'!AB49*'PSS Savings Check_1'!$AE$9,IF('Project Summary Sheet (PSS)_1'!AA49='PSS References'!$N$25,'Project Summary Sheet (PSS)_1'!AB49*'PSS Savings Check_1'!$AG$9,IF('Project Summary Sheet (PSS)_1'!AA49='PSS References'!$N$17,\"Can't be 'Multiple'\",))))))))),\"-\")))","v":""},"",{"$f":"IF('Project Summary Sheet (PSS)_1'!L49=\"\",\"\",'Project Summary Sheet (PSS)_1'!L49)","v":""},""]
[{"$f":"IF('Project Summary Sheet (PSS)_1'!B50=\"\",\"\",'Project Summary Sheet (PSS)_1'!B50)","v":""},{"$f":"IF('Project Summary Sheet (PSS)_1'!C50=\"\",\"\",'Project Summary Sheet (PSS)_1'!C50)","v":""},{"$f":"IFERROR(VLOOKUP(A30,'Project Summary Sheet (PSS)_1'!$B$23:$Q$75,6,FALSE)/'Project Summary Sheet (PSS)_1'!$D$17,\"\")","v":""},{"$f":"IFERROR(VLOOKUP(A30,'Project Summary Sheet (PSS)_1'!$B$23:$Q$75,9,FALSE)/('Project Summary Sheet (PSS)_1'!$T$17-('Project Summary Sheet (PSS)_1'!$D$17*'PSS References'!$E$11)),\"\")","v":""},{"$f":"IFERROR(((VLOOKUP(A30,'Project Summary Sheet (PSS)_1'!$B$23:$Q$75,6,FALSE)*'PSS References'!$E$11)+VLOOKUP(A30,'Project Summary Sheet (PSS)_1'!$B$23:$Q$75,9,FALSE))/'Project Summary Sheet (PSS)_1'!$T$17,\"\")","v":""},{"$f":"IF(A30=\"\",\"\",IF(M30<0,IF(OR(M30<'Project Summary Sheet (PSS)_1'!L50*1.1,M30>'Project Summary Sheet (PSS)_1'!L50*0.9),\"Check Rates\",\"Rate OK\"),IF(OR(M30>'Project Summary Sheet (PSS)_1'!L50*1.1,M30<'Project Summary Sheet (PSS)_1'!L50*0.9),\"Check Rates\",\"Rate OK\")))","v":""},{"$f":"IF(A30=\"\",\"\",'Project Summary Sheet (PSS)_1'!G50*'Project Summary Sheet (PSS)_1'!$E$18)","v":""},{"$f":"IF(A30=\"\",\"\",IF('Project Summary Sheet (PSS)_1'!$F$18<>\"\",('Project Summary Sheet (PSS)_1'!H50*'Project Summary Sheet (PSS)_1'!$F$18),0))","v":""},{"$f":"IF(A30=\"\",\"\",IF('Project Summary Sheet (PSS)_1'!I50=\"\",\"-\",IF('Project Summary Sheet (PSS)_1'!I50='PSS References'!$N$18,'Project Summary Sheet (PSS)_1'!J50*'PSS Savings Check_1'!$W$9,IF('Project Summary Sheet (PSS)_1'!I50='PSS References'!$N$19,'Project Summary Sheet (PSS)_1'!J50*'PSS Savings Check_1'!$AA$9,IF('Project Summary Sheet (PSS)_1'!I50='PSS References'!$N$20,'Project Summary Sheet (PSS)_1'!J50*'PSS Savings Check_1'!$Y$9,IF('Project Summary Sheet (PSS)_1'!I50='PSS References'!$N$21,'Project Summary Sheet (PSS)_1'!J50*'PSS Savings Check_1'!$Y$9,IF('Project Summary Sheet (PSS)_1'!I50='PSS References'!$N$22,'Project Summary Sheet (PSS)_1'!J50*'PSS Savings Check_1'!$Y$9,IF('Project Summary Sheet (PSS)_1'!I50='PSS References'!$N$23,'Project Summary Sheet (PSS)_1'!J50*'PSS Savings Check_1'!$AC$9,IF('Project Summary Sheet (PSS)_1'!I50='PSS References'!$N$24,'Project Summary Sheet (PSS)_1'!J50*'PSS Savings Check_1'!$AE$9,IF('Project Summary Sheet (PSS)_1'!I50='PSS References'!$N$25,'Project Summary Sheet (PSS)_1'!J50*'PSS Savings Check_1'!$AG$9,IF('Project Summary Sheet (PSS)_1'!I50='PSS References'!$N$17,\"-\")))))))))))","v":""},{"$f":"IF(A30=\"\",\"\",IF('Project Summary Sheet (PSS)_1'!I50=\"\",\"-\",IF('Project Summary Sheet (PSS)_1'!I50='PSS References'!$N$17,IF('Project Summary Sheet (PSS)_1'!W50='PSS References'!$N$18,'Project Summary Sheet (PSS)_1'!X50*'PSS Savings Check_1'!$W$9,IF('Project Summary Sheet (PSS)_1'!W50='PSS References'!$N$19,'Project Summary Sheet (PSS)_1'!X50*'PSS Savings Check_1'!$AA$9,IF('Project Summary Sheet (PSS)_1'!W50='PSS References'!$N$20,'Project Summary Sheet (PSS)_1'!X50*'PSS Savings Check_1'!$Y$9,IF('Project Summary Sheet (PSS)_1'!W50='PSS References'!$N$21,'Project Summary Sheet (PSS)_1'!X50*'PSS Savings Check_1'!$Y$9,IF('Project Summary Sheet (PSS)_1'!W50='PSS References'!$N$22,'Project Summary Sheet (PSS)_1'!X50*'PSS Savings Check_1'!$Y$9,IF('Project Summary Sheet (PSS)_1'!W50='PSS References'!$N$23,'Project Summary Sheet (PSS)_1'!X50*'PSS Savings Check_1'!$AC$9,IF('Project Summary Sheet (PSS)_1'!W50='PSS References'!$N$24,'Project Summary Sheet (PSS)_1'!X50*'PSS Savings Check_1'!$AE$9,IF('Project Summary Sheet (PSS)_1'!W50='PSS References'!$N$25,'Project Summary Sheet (PSS)_1'!X50*'PSS Savings Check_1'!$AG$9,IF('Project Summary Sheet (PSS)_1'!W50='PSS References'!$N$17,\"Can't be 'Multiple'\",))))))))),\"-\")))","v":""},{"$f":"IF(A30=\"\",\"\",IF('Project Summary Sheet (PSS)_1'!I50=\"\",\"-\",IF('Project Summary Sheet (PSS)_1'!I50='PSS References'!$N$17,IF('Project Summary Sheet (PSS)_1'!Y50='PSS References'!$N$18,'Project Summary Sheet (PSS)_1'!Z50*'PSS Savings Check_1'!$W$9,IF('Project Summary Sheet (PSS)_1'!Y50='PSS References'!$N$19,'Project Summary Sheet (PSS)_1'!Z50*'PSS Savings Check_1'!$AA$9,IF('Project Summary Sheet (PSS)_1'!Y50='PSS References'!$N$20,'Project Summary Sheet (PSS)_1'!Z50*'PSS Savings Check_1'!$Y$9,IF('Project Summary Sheet (PSS)_1'!Y50='PSS References'!$N$21,'Project Summary Sheet (PSS)_1'!Z50*'PSS Savings Check_1'!$Y$9,IF('Project Summary Sheet (PSS)_1'!Y50='PSS References'!$N$22,'Project Summary Sheet (PSS)_1'!Z50*'PSS Savings Check_1'!$Y$9,IF('Project Summary Sheet (PSS)_1'!Y50='PSS References'!$N$23,'Project Summary Sheet (PSS)_1'!Z50*'PSS Savings Check_1'!$AC$9,IF('Project Summary Sheet (PSS)_1'!Y50='PSS References'!$N$24,'Project Summary Sheet (PSS)_1'!Z50*'PSS Savings Check_1'!$AE$9,IF('Project Summary Sheet (PSS)_1'!Y50='PSS References'!$N$25,'Project Summary Sheet (PSS)_1'!Z50*'PSS Savings Check_1'!$AG$9,IF('Project Summary Sheet (PSS)_1'!Y50='PSS References'!$N$17,\"Can't be 'Multiple'\",))))))))),\"-\")))","v":""},{"$f":"IF(A30=\"\",\"\",IF('Project Summary Sheet (PSS)_1'!I50=\"\",\"-\",IF('Project Summary Sheet (PSS)_1'!I50='PSS References'!$N$17,IF('Project Summary Sheet (PSS)_1'!AA50='PSS References'!$N$18,'Project Summary Sheet (PSS)_1'!AB50*'PSS Savings Check_1'!$W$9,IF('Project Summary Sheet (PSS)_1'!AA50='PSS References'!N43,'Project Summary Sheet (PSS)_1'!AB50*'PSS Savings Check_1'!$AA$9,IF('Project Summary Sheet (PSS)_1'!AA50='PSS References'!$N$20,'Project Summary Sheet (PSS)_1'!AB50*'PSS Savings Check_1'!$Y$9,IF('Project Summary Sheet (PSS)_1'!AA50='PSS References'!$N$21,'Project Summary Sheet (PSS)_1'!AB50*'PSS Savings Check_1'!$Y$9,IF('Project Summary Sheet (PSS)_1'!AA50='PSS References'!$N$22,'Project Summary Sheet (PSS)_1'!AB50*'PSS Savings Check_1'!$Y$9,IF('Project Summary Sheet (PSS)_1'!AA50='PSS References'!$N$23,'Project Summary Sheet (PSS)_1'!AB50*'PSS Savings Check_1'!$AC$9,IF('Project Summary Sheet (PSS)_1'!AA50='PSS References'!$N$24,'Project Summary Sheet (PSS)_1'!AB50*'PSS Savings Check_1'!$AE$9,IF('Project Summary Sheet (PSS)_1'!AA50='PSS References'!$N$25,'Project Summary Sheet (PSS)_1'!AB50*'PSS Savings Check_1'!$AG$9,IF('Project Summary Sheet (PSS)_1'!AA50='PSS References'!$N$17,\"Can't be 'Multiple'\",))))))))),\"-\")))","v":""},"",{"$f":"IF('Project Summary Sheet (PSS)_1'!L50=\"\",\"\",'Project Summary Sheet (PSS)_1'!L50)","v":""},""]
[{"$f":"IF('Project Summary Sheet (PSS)_1'!B51=\"\",\"\",'Project Summary Sheet (PSS)_1'!B51)","v":""},{"$f":"IF('Project Summary Sheet (PSS)_1'!C51=\"\",\"\",'Project Summary Sheet (PSS)_1'!C51)","v":""},{"$f":"IFERROR(VLOOKUP(A31,'Project Summary Sheet (PSS)_1'!$B$23:$Q$75,6,FALSE)/'Project Summary Sheet (PSS)_1'!$D$17,\"\")","v":""},{"$f":"IFERROR(VLOOKUP(A31,'Project Summary Sheet (PSS)_1'!$B$23:$Q$75,9,FALSE)/('Project Summary Sheet (PSS)_1'!$T$17-('Project Summary Sheet (PSS)_1'!$D$17*'PSS References'!$E$11)),\"\")","v":""},{"$f":"IFERROR(((VLOOKUP(A31,'Project Summary Sheet (PSS)_1'!$B$23:$Q$75,6,FALSE)*'PSS References'!$E$11)+VLOOKUP(A31,'Project Summary Sheet (PSS)_1'!$B$23:$Q$75,9,FALSE))/'Project Summary Sheet (PSS)_1'!$T$17,\"\")","v":""},{"$f":"IF(A31=\"\",\"\",IF(M31<0,IF(OR(M31<'Project Summary Sheet (PSS)_1'!L51*1.1,M31>'Project Summary Sheet (PSS)_1'!L51*0.9),\"Check Rates\",\"Rate OK\"),IF(OR(M31>'Project Summary Sheet (PSS)_1'!L51*1.1,M31<'Project Summary Sheet (PSS)_1'!L51*0.9),\"Check Rates\",\"Rate OK\")))","v":""},{"$f":"IF(A31=\"\",\"\",'Project Summary Sheet (PSS)_1'!G51*'Project Summary Sheet (PSS)_1'!$E$18)","v":""},{"$f":"IF(A31=\"\",\"\",IF('Project Summary Sheet (PSS)_1'!$F$18<>\"\",('Project Summary Sheet (PSS)_1'!H51*'Project Summary Sheet (PSS)_1'!$F$18),0))","v":""},{"$f":"IF(A31=\"\",\"\",IF('Project Summary Sheet (PSS)_1'!I51=\"\",\"-\",IF('Project Summary Sheet (PSS)_1'!I51='PSS References'!$N$18,'Project Summary Sheet (PSS)_1'!J51*'PSS Savings Check_1'!$W$9,IF('Project Summary Sheet (PSS)_1'!I51='PSS References'!$N$19,'Project Summary Sheet (PSS)_1'!J51*'PSS Savings Check_1'!$AA$9,IF('Project Summary Sheet (PSS)_1'!I51='PSS References'!$N$20,'Project Summary Sheet (PSS)_1'!J51*'PSS Savings Check_1'!$Y$9,IF('Project Summary Sheet (PSS)_1'!I51='PSS References'!$N$21,'Project Summary Sheet (PSS)_1'!J51*'PSS Savings Check_1'!$Y$9,IF('Project Summary Sheet (PSS)_1'!I51='PSS References'!$N$22,'Project Summary Sheet (PSS)_1'!J51*'PSS Savings Check_1'!$Y$9,IF('Project Summary Sheet (PSS)_1'!I51='PSS References'!$N$23,'Project Summary Sheet (PSS)_1'!J51*'PSS Savings Check_1'!$AC$9,IF('Project Summary Sheet (PSS)_1'!I51='PSS References'!$N$24,'Project Summary Sheet (PSS)_1'!J51*'PSS Savings Check_1'!$AE$9,IF('Project Summary Sheet (PSS)_1'!I51='PSS References'!$N$25,'Project Summary Sheet (PSS)_1'!J51*'PSS Savings Check_1'!$AG$9,IF('Project Summary Sheet (PSS)_1'!I51='PSS References'!$N$17,\"-\")))))))))))","v":""},{"$f":"IF(A31=\"\",\"\",IF('Project Summary Sheet (PSS)_1'!I51=\"\",\"-\",IF('Project Summary Sheet (PSS)_1'!I51='PSS References'!$N$17,IF('Project Summary Sheet (PSS)_1'!W51='PSS References'!$N$18,'Project Summary Sheet (PSS)_1'!X51*'PSS Savings Check_1'!$W$9,IF('Project Summary Sheet (PSS)_1'!W51='PSS References'!$N$19,'Project Summary Sheet (PSS)_1'!X51*'PSS Savings Check_1'!$AA$9,IF('Project Summary Sheet (PSS)_1'!W51='PSS References'!$N$20,'Project Summary Sheet (PSS)_1'!X51*'PSS Savings Check_1'!$Y$9,IF('Project Summary Sheet (PSS)_1'!W51='PSS References'!$N$21,'Project Summary Sheet (PSS)_1'!X51*'PSS Savings Check_1'!$Y$9,IF('Project Summary Sheet (PSS)_1'!W51='PSS References'!$N$22,'Project Summary Sheet (PSS)_1'!X51*'PSS Savings Check_1'!$Y$9,IF('Project Summary Sheet (PSS)_1'!W51='PSS References'!$N$23,'Project Summary Sheet (PSS)_1'!X51*'PSS Savings Check_1'!$AC$9,IF('Project Summary Sheet (PSS)_1'!W51='PSS References'!$N$24,'Project Summary Sheet (PSS)_1'!X51*'PSS Savings Check_1'!$AE$9,IF('Project Summary Sheet (PSS)_1'!W51='PSS References'!$N$25,'Project Summary Sheet (PSS)_1'!X51*'PSS Savings Check_1'!$AG$9,IF('Project Summary Sheet (PSS)_1'!W51='PSS References'!$N$17,\"Can't be 'Multiple'\",))))))))),\"-\")))","v":""},{"$f":"IF(A31=\"\",\"\",IF('Project Summary Sheet (PSS)_1'!I51=\"\",\"-\",IF('Project Summary Sheet (PSS)_1'!I51='PSS References'!$N$17,IF('Project Summary Sheet (PSS)_1'!Y51='PSS References'!$N$18,'Project Summary Sheet (PSS)_1'!Z51*'PSS Savings Check_1'!$W$9,IF('Project Summary Sheet (PSS)_1'!Y51='PSS References'!$N$19,'Project Summary Sheet (PSS)_1'!Z51*'PSS Savings Check_1'!$AA$9,IF('Project Summary Sheet (PSS)_1'!Y51='PSS References'!$N$20,'Project Summary Sheet (PSS)_1'!Z51*'PSS Savings Check_1'!$Y$9,IF('Project Summary Sheet (PSS)_1'!Y51='PSS References'!$N$21,'Project Summary Sheet (PSS)_1'!Z51*'PSS Savings Check_1'!$Y$9,IF('Project Summary Sheet (PSS)_1'!Y51='PSS References'!$N$22,'Project Summary Sheet (PSS)_1'!Z51*'PSS Savings Check_1'!$Y$9,IF('Project Summary Sheet (PSS)_1'!Y51='PSS References'!$N$23,'Project Summary Sheet (PSS)_1'!Z51*'PSS Savings Check_1'!$AC$9,IF('Project Summary Sheet (PSS)_1'!Y51='PSS References'!$N$24,'Project Summary Sheet (PSS)_1'!Z51*'PSS Savings Check_1'!$AE$9,IF('Project Summary Sheet (PSS)_1'!Y51='PSS References'!$N$25,'Project Summary Sheet (PSS)_1'!Z51*'PSS Savings Check_1'!$AG$9,IF('Project Summary Sheet (PSS)_1'!Y51='PSS References'!$N$17,\"Can't be 'Multiple'\",))))))))),\"-\")))","v":""},{"$f":"IF(A31=\"\",\"\",IF('Project Summary Sheet (PSS)_1'!I51=\"\",\"-\",IF('Project Summary Sheet (PSS)_1'!I51='PSS References'!$N$17,IF('Project Summary Sheet (PSS)_1'!AA51='PSS References'!$N$18,'Project Summary Sheet (PSS)_1'!AB51*'PSS Savings Check_1'!$W$9,IF('Project Summary Sheet (PSS)_1'!AA51='PSS References'!N44,'Project Summary Sheet (PSS)_1'!AB51*'PSS Savings Check_1'!$AA$9,IF('Project Summary Sheet (PSS)_1'!AA51='PSS References'!$N$20,'Project Summary Sheet (PSS)_1'!AB51*'PSS Savings Check_1'!$Y$9,IF('Project Summary Sheet (PSS)_1'!AA51='PSS References'!$N$21,'Project Summary Sheet (PSS)_1'!AB51*'PSS Savings Check_1'!$Y$9,IF('Project Summary Sheet (PSS)_1'!AA51='PSS References'!$N$22,'Project Summary Sheet (PSS)_1'!AB51*'PSS Savings Check_1'!$Y$9,IF('Project Summary Sheet (PSS)_1'!AA51='PSS References'!$N$23,'Project Summary Sheet (PSS)_1'!AB51*'PSS Savings Check_1'!$AC$9,IF('Project Summary Sheet (PSS)_1'!AA51='PSS References'!$N$24,'Project Summary Sheet (PSS)_1'!AB51*'PSS Savings Check_1'!$AE$9,IF('Project Summary Sheet (PSS)_1'!AA51='PSS References'!$N$25,'Project Summary Sheet (PSS)_1'!AB51*'PSS Savings Check_1'!$AG$9,IF('Project Summary Sheet (PSS)_1'!AA51='PSS References'!$N$17,\"Can't be 'Multiple'\",))))))))),\"-\")))","v":""},"",{"$f":"IF('Project Summary Sheet (PSS)_1'!L51=\"\",\"\",'Project Summary Sheet (PSS)_1'!L51)","v":""},""]
[{"$f":"IF('Project Summary Sheet (PSS)_1'!B52=\"\",\"\",'Project Summary Sheet (PSS)_1'!B52)","v":""},{"$f":"IF('Project Summary Sheet (PSS)_1'!C52=\"\",\"\",'Project Summary Sheet (PSS)_1'!C52)","v":""},{"$f":"IFERROR(VLOOKUP(A32,'Project Summary Sheet (PSS)_1'!$B$23:$Q$75,6,FALSE)/'Project Summary Sheet (PSS)_1'!$D$17,\"\")","v":""},{"$f":"IFERROR(VLOOKUP(A32,'Project Summary Sheet (PSS)_1'!$B$23:$Q$75,9,FALSE)/('Project Summary Sheet (PSS)_1'!$T$17-('Project Summary Sheet (PSS)_1'!$D$17*'PSS References'!$E$11)),\"\")","v":""},{"$f":"IFERROR(((VLOOKUP(A32,'Project Summary Sheet (PSS)_1'!$B$23:$Q$75,6,FALSE)*'PSS References'!$E$11)+VLOOKUP(A32,'Project Summary Sheet (PSS)_1'!$B$23:$Q$75,9,FALSE))/'Project Summary Sheet (PSS)_1'!$T$17,\"\")","v":""},{"$f":"IF(A32=\"\",\"\",IF(M32<0,IF(OR(M32<'Project Summary Sheet (PSS)_1'!L52*1.1,M32>'Project Summary Sheet (PSS)_1'!L52*0.9),\"Check Rates\",\"Rate OK\"),IF(OR(M32>'Project Summary Sheet (PSS)_1'!L52*1.1,M32<'Project Summary Sheet (PSS)_1'!L52*0.9),\"Check Rates\",\"Rate OK\")))","v":""},{"$f":"IF(A32=\"\",\"\",'Project Summary Sheet (PSS)_1'!G52*'Project Summary Sheet (PSS)_1'!$E$18)","v":""},{"$f":"IF(A32=\"\",\"\",IF('Project Summary Sheet (PSS)_1'!$F$18<>\"\",('Project Summary Sheet (PSS)_1'!H52*'Project Summary Sheet (PSS)_1'!$F$18),0))","v":""},{"$f":"IF(A32=\"\",\"\",IF('Project Summary Sheet (PSS)_1'!I52=\"\",\"-\",IF('Project Summary Sheet (PSS)_1'!I52='PSS References'!$N$18,'Project Summary Sheet (PSS)_1'!J52*'PSS Savings Check_1'!$W$9,IF('Project Summary Sheet (PSS)_1'!I52='PSS References'!$N$19,'Project Summary Sheet (PSS)_1'!J52*'PSS Savings Check_1'!$AA$9,IF('Project Summary Sheet (PSS)_1'!I52='PSS References'!$N$20,'Project Summary Sheet (PSS)_1'!J52*'PSS Savings Check_1'!$Y$9,IF('Project Summary Sheet (PSS)_1'!I52='PSS References'!$N$21,'Project Summary Sheet (PSS)_1'!J52*'PSS Savings Check_1'!$Y$9,IF('Project Summary Sheet (PSS)_1'!I52='PSS References'!$N$22,'Project Summary Sheet (PSS)_1'!J52*'PSS Savings Check_1'!$Y$9,IF('Project Summary Sheet (PSS)_1'!I52='PSS References'!$N$23,'Project Summary Sheet (PSS)_1'!J52*'PSS Savings Check_1'!$AC$9,IF('Project Summary Sheet (PSS)_1'!I52='PSS References'!$N$24,'Project Summary Sheet (PSS)_1'!J52*'PSS Savings Check_1'!$AE$9,IF('Project Summary Sheet (PSS)_1'!I52='PSS References'!$N$25,'Project Summary Sheet (PSS)_1'!J52*'PSS Savings Check_1'!$AG$9,IF('Project Summary Sheet (PSS)_1'!I52='PSS References'!$N$17,\"-\")))))))))))","v":""},{"$f":"IF(A32=\"\",\"\",IF('Project Summary Sheet (PSS)_1'!I52=\"\",\"-\",IF('Project Summary Sheet (PSS)_1'!I52='PSS References'!$N$17,IF('Project Summary Sheet (PSS)_1'!W52='PSS References'!$N$18,'Project Summary Sheet (PSS)_1'!X52*'PSS Savings Check_1'!$W$9,IF('Project Summary Sheet (PSS)_1'!W52='PSS References'!$N$19,'Project Summary Sheet (PSS)_1'!X52*'PSS Savings Check_1'!$AA$9,IF('Project Summary Sheet (PSS)_1'!W52='PSS References'!$N$20,'Project Summary Sheet (PSS)_1'!X52*'PSS Savings Check_1'!$Y$9,IF('Project Summary Sheet (PSS)_1'!W52='PSS References'!$N$21,'Project Summary Sheet (PSS)_1'!X52*'PSS Savings Check_1'!$Y$9,IF('Project Summary Sheet (PSS)_1'!W52='PSS References'!$N$22,'Project Summary Sheet (PSS)_1'!X52*'PSS Savings Check_1'!$Y$9,IF('Project Summary Sheet (PSS)_1'!W52='PSS References'!$N$23,'Project Summary Sheet (PSS)_1'!X52*'PSS Savings Check_1'!$AC$9,IF('Project Summary Sheet (PSS)_1'!W52='PSS References'!$N$24,'Project Summary Sheet (PSS)_1'!X52*'PSS Savings Check_1'!$AE$9,IF('Project Summary Sheet (PSS)_1'!W52='PSS References'!$N$25,'Project Summary Sheet (PSS)_1'!X52*'PSS Savings Check_1'!$AG$9,IF('Project Summary Sheet (PSS)_1'!W52='PSS References'!$N$17,\"Can't be 'Multiple'\",))))))))),\"-\")))","v":""},{"$f":"IF(A32=\"\",\"\",IF('Project Summary Sheet (PSS)_1'!I52=\"\",\"-\",IF('Project Summary Sheet (PSS)_1'!I52='PSS References'!$N$17,IF('Project Summary Sheet (PSS)_1'!Y52='PSS References'!$N$18,'Project Summary Sheet (PSS)_1'!Z52*'PSS Savings Check_1'!$W$9,IF('Project Summary Sheet (PSS)_1'!Y52='PSS References'!$N$19,'Project Summary Sheet (PSS)_1'!Z52*'PSS Savings Check_1'!$AA$9,IF('Project Summary Sheet (PSS)_1'!Y52='PSS References'!$N$20,'Project Summary Sheet (PSS)_1'!Z52*'PSS Savings Check_1'!$Y$9,IF('Project Summary Sheet (PSS)_1'!Y52='PSS References'!$N$21,'Project Summary Sheet (PSS)_1'!Z52*'PSS Savings Check_1'!$Y$9,IF('Project Summary Sheet (PSS)_1'!Y52='PSS References'!$N$22,'Project Summary Sheet (PSS)_1'!Z52*'PSS Savings Check_1'!$Y$9,IF('Project Summary Sheet (PSS)_1'!Y52='PSS References'!$N$23,'Project Summary Sheet (PSS)_1'!Z52*'PSS Savings Check_1'!$AC$9,IF('Project Summary Sheet (PSS)_1'!Y52='PSS References'!$N$24,'Project Summary Sheet (PSS)_1'!Z52*'PSS Savings Check_1'!$AE$9,IF('Project Summary Sheet (PSS)_1'!Y52='PSS References'!$N$25,'Project Summary Sheet (PSS)_1'!Z52*'PSS Savings Check_1'!$AG$9,IF('Project Summary Sheet (PSS)_1'!Y52='PSS References'!$N$17,\"Can't be 'Multiple'\",))))))))),\"-\")))","v":""},{"$f":"IF(A32=\"\",\"\",IF('Project Summary Sheet (PSS)_1'!I52=\"\",\"-\",IF('Project Summary Sheet (PSS)_1'!I52='PSS References'!$N$17,IF('Project Summary Sheet (PSS)_1'!AA52='PSS References'!$N$18,'Project Summary Sheet (PSS)_1'!AB52*'PSS Savings Check_1'!$W$9,IF('Project Summary Sheet (PSS)_1'!AA52='PSS References'!N45,'Project Summary Sheet (PSS)_1'!AB52*'PSS Savings Check_1'!$AA$9,IF('Project Summary Sheet (PSS)_1'!AA52='PSS References'!$N$20,'Project Summary Sheet (PSS)_1'!AB52*'PSS Savings Check_1'!$Y$9,IF('Project Summary Sheet (PSS)_1'!AA52='PSS References'!$N$21,'Project Summary Sheet (PSS)_1'!AB52*'PSS Savings Check_1'!$Y$9,IF('Project Summary Sheet (PSS)_1'!AA52='PSS References'!$N$22,'Project Summary Sheet (PSS)_1'!AB52*'PSS Savings Check_1'!$Y$9,IF('Project Summary Sheet (PSS)_1'!AA52='PSS References'!$N$23,'Project Summary Sheet (PSS)_1'!AB52*'PSS Savings Check_1'!$AC$9,IF('Project Summary Sheet (PSS)_1'!AA52='PSS References'!$N$24,'Project Summary Sheet (PSS)_1'!AB52*'PSS Savings Check_1'!$AE$9,IF('Project Summary Sheet (PSS)_1'!AA52='PSS References'!$N$25,'Project Summary Sheet (PSS)_1'!AB52*'PSS Savings Check_1'!$AG$9,IF('Project Summary Sheet (PSS)_1'!AA52='PSS References'!$N$17,\"Can't be 'Multiple'\",))))))))),\"-\")))","v":""},"",{"$f":"IF('Project Summary Sheet (PSS)_1'!L52=\"\",\"\",'Project Summary Sheet (PSS)_1'!L52)","v":""},""]
[{"$f":"IF('Project Summary Sheet (PSS)_1'!B53=\"\",\"\",'Project Summary Sheet (PSS)_1'!B53)","v":""},{"$f":"IF('Project Summary Sheet (PSS)_1'!C53=\"\",\"\",'Project Summary Sheet (PSS)_1'!C53)","v":""},{"$f":"IFERROR(VLOOKUP(A33,'Project Summary Sheet (PSS)_1'!$B$23:$Q$75,6,FALSE)/'Project Summary Sheet (PSS)_1'!$D$17,\"\")","v":""},{"$f":"IFERROR(VLOOKUP(A33,'Project Summary Sheet (PSS)_1'!$B$23:$Q$75,9,FALSE)/('Project Summary Sheet (PSS)_1'!$T$17-('Project Summary Sheet (PSS)_1'!$D$17*'PSS References'!$E$11)),\"\")","v":""},{"$f":"IFERROR(((VLOOKUP(A33,'Project Summary Sheet (PSS)_1'!$B$23:$Q$75,6,FALSE)*'PSS References'!$E$11)+VLOOKUP(A33,'Project Summary Sheet (PSS)_1'!$B$23:$Q$75,9,FALSE))/'Project Summary Sheet (PSS)_1'!$T$17,\"\")","v":""},{"$f":"IF(A33=\"\",\"\",IF(M33<0,IF(OR(M33<'Project Summary Sheet (PSS)_1'!L53*1.1,M33>'Project Summary Sheet (PSS)_1'!L53*0.9),\"Check Rates\",\"Rate OK\"),IF(OR(M33>'Project Summary Sheet (PSS)_1'!L53*1.1,M33<'Project Summary Sheet (PSS)_1'!L53*0.9),\"Check Rates\",\"Rate OK\")))","v":""},{"$f":"IF(A33=\"\",\"\",'Project Summary Sheet (PSS)_1'!G53*'Project Summary Sheet (PSS)_1'!$E$18)","v":""},{"$f":"IF(A33=\"\",\"\",IF('Project Summary Sheet (PSS)_1'!$F$18<>\"\",('Project Summary Sheet (PSS)_1'!H53*'Project Summary Sheet (PSS)_1'!$F$18),0))","v":""},{"$f":"IF(A33=\"\",\"\",IF('Project Summary Sheet (PSS)_1'!I53=\"\",\"-\",IF('Project Summary Sheet (PSS)_1'!I53='PSS References'!$N$18,'Project Summary Sheet (PSS)_1'!J53*'PSS Savings Check_1'!$W$9,IF('Project Summary Sheet (PSS)_1'!I53='PSS References'!$N$19,'Project Summary Sheet (PSS)_1'!J53*'PSS Savings Check_1'!$AA$9,IF('Project Summary Sheet (PSS)_1'!I53='PSS References'!$N$20,'Project Summary Sheet (PSS)_1'!J53*'PSS Savings Check_1'!$Y$9,IF('Project Summary Sheet (PSS)_1'!I53='PSS References'!$N$21,'Project Summary Sheet (PSS)_1'!J53*'PSS Savings Check_1'!$Y$9,IF('Project Summary Sheet (PSS)_1'!I53='PSS References'!$N$22,'Project Summary Sheet (PSS)_1'!J53*'PSS Savings Check_1'!$Y$9,IF('Project Summary Sheet (PSS)_1'!I53='PSS References'!$N$23,'Project Summary Sheet (PSS)_1'!J53*'PSS Savings Check_1'!$AC$9,IF('Project Summary Sheet (PSS)_1'!I53='PSS References'!$N$24,'Project Summary Sheet (PSS)_1'!J53*'PSS Savings Check_1'!$AE$9,IF('Project Summary Sheet (PSS)_1'!I53='PSS References'!$N$25,'Project Summary Sheet (PSS)_1'!J53*'PSS Savings Check_1'!$AG$9,IF('Project Summary Sheet (PSS)_1'!I53='PSS References'!$N$17,\"-\")))))))))))","v":""},{"$f":"IF(A33=\"\",\"\",IF('Project Summary Sheet (PSS)_1'!I53=\"\",\"-\",IF('Project Summary Sheet (PSS)_1'!I53='PSS References'!$N$17,IF('Project Summary Sheet (PSS)_1'!W53='PSS References'!$N$18,'Project Summary Sheet (PSS)_1'!X53*'PSS Savings Check_1'!$W$9,IF('Project Summary Sheet (PSS)_1'!W53='PSS References'!$N$19,'Project Summary Sheet (PSS)_1'!X53*'PSS Savings Check_1'!$AA$9,IF('Project Summary Sheet (PSS)_1'!W53='PSS References'!$N$20,'Project Summary Sheet (PSS)_1'!X53*'PSS Savings Check_1'!$Y$9,IF('Project Summary Sheet (PSS)_1'!W53='PSS References'!$N$21,'Project Summary Sheet (PSS)_1'!X53*'PSS Savings Check_1'!$Y$9,IF('Project Summary Sheet (PSS)_1'!W53='PSS References'!$N$22,'Project Summary Sheet (PSS)_1'!X53*'PSS Savings Check_1'!$Y$9,IF('Project Summary Sheet (PSS)_1'!W53='PSS References'!$N$23,'Project Summary Sheet (PSS)_1'!X53*'PSS Savings Check_1'!$AC$9,IF('Project Summary Sheet (PSS)_1'!W53='PSS References'!$N$24,'Project Summary Sheet (PSS)_1'!X53*'PSS Savings Check_1'!$AE$9,IF('Project Summary Sheet (PSS)_1'!W53='PSS References'!$N$25,'Project Summary Sheet (PSS)_1'!X53*'PSS Savings Check_1'!$AG$9,IF('Project Summary Sheet (PSS)_1'!W53='PSS References'!$N$17,\"Can't be 'Multiple'\",))))))))),\"-\")))","v":""},{"$f":"IF(A33=\"\",\"\",IF('Project Summary Sheet (PSS)_1'!I53=\"\",\"-\",IF('Project Summary Sheet (PSS)_1'!I53='PSS References'!$N$17,IF('Project Summary Sheet (PSS)_1'!Y53='PSS References'!$N$18,'Project Summary Sheet (PSS)_1'!Z53*'PSS Savings Check_1'!$W$9,IF('Project Summary Sheet (PSS)_1'!Y53='PSS References'!$N$19,'Project Summary Sheet (PSS)_1'!Z53*'PSS Savings Check_1'!$AA$9,IF('Project Summary Sheet (PSS)_1'!Y53='PSS References'!$N$20,'Project Summary Sheet (PSS)_1'!Z53*'PSS Savings Check_1'!$Y$9,IF('Project Summary Sheet (PSS)_1'!Y53='PSS References'!$N$21,'Project Summary Sheet (PSS)_1'!Z53*'PSS Savings Check_1'!$Y$9,IF('Project Summary Sheet (PSS)_1'!Y53='PSS References'!$N$22,'Project Summary Sheet (PSS)_1'!Z53*'PSS Savings Check_1'!$Y$9,IF('Project Summary Sheet (PSS)_1'!Y53='PSS References'!$N$23,'Project Summary Sheet (PSS)_1'!Z53*'PSS Savings Check_1'!$AC$9,IF('Project Summary Sheet (PSS)_1'!Y53='PSS References'!$N$24,'Project Summary Sheet (PSS)_1'!Z53*'PSS Savings Check_1'!$AE$9,IF('Project Summary Sheet (PSS)_1'!Y53='PSS References'!$N$25,'Project Summary Sheet (PSS)_1'!Z53*'PSS Savings Check_1'!$AG$9,IF('Project Summary Sheet (PSS)_1'!Y53='PSS References'!$N$17,\"Can't be 'Multiple'\",))))))))),\"-\")))","v":""},{"$f":"IF(A33=\"\",\"\",IF('Project Summary Sheet (PSS)_1'!I53=\"\",\"-\",IF('Project Summary Sheet (PSS)_1'!I53='PSS References'!$N$17,IF('Project Summary Sheet (PSS)_1'!AA53='PSS References'!$N$18,'Project Summary Sheet (PSS)_1'!AB53*'PSS Savings Check_1'!$W$9,IF('Project Summary Sheet (PSS)_1'!AA53='PSS References'!N46,'Project Summary Sheet (PSS)_1'!AB53*'PSS Savings Check_1'!$AA$9,IF('Project Summary Sheet (PSS)_1'!AA53='PSS References'!$N$20,'Project Summary Sheet (PSS)_1'!AB53*'PSS Savings Check_1'!$Y$9,IF('Project Summary Sheet (PSS)_1'!AA53='PSS References'!$N$21,'Project Summary Sheet (PSS)_1'!AB53*'PSS Savings Check_1'!$Y$9,IF('Project Summary Sheet (PSS)_1'!AA53='PSS References'!$N$22,'Project Summary Sheet (PSS)_1'!AB53*'PSS Savings Check_1'!$Y$9,IF('Project Summary Sheet (PSS)_1'!AA53='PSS References'!$N$23,'Project Summary Sheet (PSS)_1'!AB53*'PSS Savings Check_1'!$AC$9,IF('Project Summary Sheet (PSS)_1'!AA53='PSS References'!$N$24,'Project Summary Sheet (PSS)_1'!AB53*'PSS Savings Check_1'!$AE$9,IF('Project Summary Sheet (PSS)_1'!AA53='PSS References'!$N$25,'Project Summary Sheet (PSS)_1'!AB53*'PSS Savings Check_1'!$AG$9,IF('Project Summary Sheet (PSS)_1'!AA53='PSS References'!$N$17,\"Can't be 'Multiple'\",))))))))),\"-\")))","v":""},"",{"$f":"IF('Project Summary Sheet (PSS)_1'!L53=\"\",\"\",'Project Summary Sheet (PSS)_1'!L53)","v":""},""]
[{"$f":"IF('Project Summary Sheet (PSS)_1'!B54=\"\",\"\",'Project Summary Sheet (PSS)_1'!B54)","v":""},{"$f":"IF('Project Summary Sheet (PSS)_1'!C54=\"\",\"\",'Project Summary Sheet (PSS)_1'!C54)","v":""},{"$f":"IFERROR(VLOOKUP(A34,'Project Summary Sheet (PSS)_1'!$B$23:$Q$75,6,FALSE)/'Project Summary Sheet (PSS)_1'!$D$17,\"\")","v":""},{"$f":"IFERROR(VLOOKUP(A34,'Project Summary Sheet (PSS)_1'!$B$23:$Q$75,9,FALSE)/('Project Summary Sheet (PSS)_1'!$T$17-('Project Summary Sheet (PSS)_1'!$D$17*'PSS References'!$E$11)),\"\")","v":""},{"$f":"IFERROR(((VLOOKUP(A34,'Project Summary Sheet (PSS)_1'!$B$23:$Q$75,6,FALSE)*'PSS References'!$E$11)+VLOOKUP(A34,'Project Summary Sheet (PSS)_1'!$B$23:$Q$75,9,FALSE))/'Project Summary Sheet (PSS)_1'!$T$17,\"\")","v":""},{"$f":"IF(A34=\"\",\"\",IF(M34<0,IF(OR(M34<'Project Summary Sheet (PSS)_1'!L54*1.1,M34>'Project Summary Sheet (PSS)_1'!L54*0.9),\"Check Rates\",\"Rate OK\"),IF(OR(M34>'Project Summary Sheet (PSS)_1'!L54*1.1,M34<'Project Summary Sheet (PSS)_1'!L54*0.9),\"Check Rates\",\"Rate OK\")))","v":""},{"$f":"IF(A34=\"\",\"\",'Project Summary Sheet (PSS)_1'!G54*'Project Summary Sheet (PSS)_1'!$E$18)","v":""},{"$f":"IF(A34=\"\",\"\",IF('Project Summary Sheet (PSS)_1'!$F$18<>\"\",('Project Summary Sheet (PSS)_1'!H54*'Project Summary Sheet (PSS)_1'!$F$18),0))","v":""},{"$f":"IF(A34=\"\",\"\",IF('Project Summary Sheet (PSS)_1'!I54=\"\",\"-\",IF('Project Summary Sheet (PSS)_1'!I54='PSS References'!$N$18,'Project Summary Sheet (PSS)_1'!J54*'PSS Savings Check_1'!$W$9,IF('Project Summary Sheet (PSS)_1'!I54='PSS References'!$N$19,'Project Summary Sheet (PSS)_1'!J54*'PSS Savings Check_1'!$AA$9,IF('Project Summary Sheet (PSS)_1'!I54='PSS References'!$N$20,'Project Summary Sheet (PSS)_1'!J54*'PSS Savings Check_1'!$Y$9,IF('Project Summary Sheet (PSS)_1'!I54='PSS References'!$N$21,'Project Summary Sheet (PSS)_1'!J54*'PSS Savings Check_1'!$Y$9,IF('Project Summary Sheet (PSS)_1'!I54='PSS References'!$N$22,'Project Summary Sheet (PSS)_1'!J54*'PSS Savings Check_1'!$Y$9,IF('Project Summary Sheet (PSS)_1'!I54='PSS References'!$N$23,'Project Summary Sheet (PSS)_1'!J54*'PSS Savings Check_1'!$AC$9,IF('Project Summary Sheet (PSS)_1'!I54='PSS References'!$N$24,'Project Summary Sheet (PSS)_1'!J54*'PSS Savings Check_1'!$AE$9,IF('Project Summary Sheet (PSS)_1'!I54='PSS References'!$N$25,'Project Summary Sheet (PSS)_1'!J54*'PSS Savings Check_1'!$AG$9,IF('Project Summary Sheet (PSS)_1'!I54='PSS References'!$N$17,\"-\")))))))))))","v":""},{"$f":"IF(A34=\"\",\"\",IF('Project Summary Sheet (PSS)_1'!I54=\"\",\"-\",IF('Project Summary Sheet (PSS)_1'!I54='PSS References'!$N$17,IF('Project Summary Sheet (PSS)_1'!W54='PSS References'!$N$18,'Project Summary Sheet (PSS)_1'!X54*'PSS Savings Check_1'!$W$9,IF('Project Summary Sheet (PSS)_1'!W54='PSS References'!$N$19,'Project Summary Sheet (PSS)_1'!X54*'PSS Savings Check_1'!$AA$9,IF('Project Summary Sheet (PSS)_1'!W54='PSS References'!$N$20,'Project Summary Sheet (PSS)_1'!X54*'PSS Savings Check_1'!$Y$9,IF('Project Summary Sheet (PSS)_1'!W54='PSS References'!$N$21,'Project Summary Sheet (PSS)_1'!X54*'PSS Savings Check_1'!$Y$9,IF('Project Summary Sheet (PSS)_1'!W54='PSS References'!$N$22,'Project Summary Sheet (PSS)_1'!X54*'PSS Savings Check_1'!$Y$9,IF('Project Summary Sheet (PSS)_1'!W54='PSS References'!$N$23,'Project Summary Sheet (PSS)_1'!X54*'PSS Savings Check_1'!$AC$9,IF('Project Summary Sheet (PSS)_1'!W54='PSS References'!$N$24,'Project Summary Sheet (PSS)_1'!X54*'PSS Savings Check_1'!$AE$9,IF('Project Summary Sheet (PSS)_1'!W54='PSS References'!$N$25,'Project Summary Sheet (PSS)_1'!X54*'PSS Savings Check_1'!$AG$9,IF('Project Summary Sheet (PSS)_1'!W54='PSS References'!$N$17,\"Can't be 'Multiple'\",))))))))),\"-\")))","v":""},{"$f":"IF(A34=\"\",\"\",IF('Project Summary Sheet (PSS)_1'!I54=\"\",\"-\",IF('Project Summary Sheet (PSS)_1'!I54='PSS References'!$N$17,IF('Project Summary Sheet (PSS)_1'!Y54='PSS References'!$N$18,'Project Summary Sheet (PSS)_1'!Z54*'PSS Savings Check_1'!$W$9,IF('Project Summary Sheet (PSS)_1'!Y54='PSS References'!$N$19,'Project Summary Sheet (PSS)_1'!Z54*'PSS Savings Check_1'!$AA$9,IF('Project Summary Sheet (PSS)_1'!Y54='PSS References'!$N$20,'Project Summary Sheet (PSS)_1'!Z54*'PSS Savings Check_1'!$Y$9,IF('Project Summary Sheet (PSS)_1'!Y54='PSS References'!$N$21,'Project Summary Sheet (PSS)_1'!Z54*'PSS Savings Check_1'!$Y$9,IF('Project Summary Sheet (PSS)_1'!Y54='PSS References'!$N$22,'Project Summary Sheet (PSS)_1'!Z54*'PSS Savings Check_1'!$Y$9,IF('Project Summary Sheet (PSS)_1'!Y54='PSS References'!$N$23,'Project Summary Sheet (PSS)_1'!Z54*'PSS Savings Check_1'!$AC$9,IF('Project Summary Sheet (PSS)_1'!Y54='PSS References'!$N$24,'Project Summary Sheet (PSS)_1'!Z54*'PSS Savings Check_1'!$AE$9,IF('Project Summary Sheet (PSS)_1'!Y54='PSS References'!$N$25,'Project Summary Sheet (PSS)_1'!Z54*'PSS Savings Check_1'!$AG$9,IF('Project Summary Sheet (PSS)_1'!Y54='PSS References'!$N$17,\"Can't be 'Multiple'\",))))))))),\"-\")))","v":""},{"$f":"IF(A34=\"\",\"\",IF('Project Summary Sheet (PSS)_1'!I54=\"\",\"-\",IF('Project Summary Sheet (PSS)_1'!I54='PSS References'!$N$17,IF('Project Summary Sheet (PSS)_1'!AA54='PSS References'!$N$18,'Project Summary Sheet (PSS)_1'!AB54*'PSS Savings Check_1'!$W$9,IF('Project Summary Sheet (PSS)_1'!AA54='PSS References'!N47,'Project Summary Sheet (PSS)_1'!AB54*'PSS Savings Check_1'!$AA$9,IF('Project Summary Sheet (PSS)_1'!AA54='PSS References'!$N$20,'Project Summary Sheet (PSS)_1'!AB54*'PSS Savings Check_1'!$Y$9,IF('Project Summary Sheet (PSS)_1'!AA54='PSS References'!$N$21,'Project Summary Sheet (PSS)_1'!AB54*'PSS Savings Check_1'!$Y$9,IF('Project Summary Sheet (PSS)_1'!AA54='PSS References'!$N$22,'Project Summary Sheet (PSS)_1'!AB54*'PSS Savings Check_1'!$Y$9,IF('Project Summary Sheet (PSS)_1'!AA54='PSS References'!$N$23,'Project Summary Sheet (PSS)_1'!AB54*'PSS Savings Check_1'!$AC$9,IF('Project Summary Sheet (PSS)_1'!AA54='PSS References'!$N$24,'Project Summary Sheet (PSS)_1'!AB54*'PSS Savings Check_1'!$AE$9,IF('Project Summary Sheet (PSS)_1'!AA54='PSS References'!$N$25,'Project Summary Sheet (PSS)_1'!AB54*'PSS Savings Check_1'!$AG$9,IF('Project Summary Sheet (PSS)_1'!AA54='PSS References'!$N$17,\"Can't be 'Multiple'\",))))))))),\"-\")))","v":""},"",{"$f":"IF('Project Summary Sheet (PSS)_1'!L54=\"\",\"\",'Project Summary Sheet (PSS)_1'!L54)","v":""},""]
[{"$f":"IF('Project Summary Sheet (PSS)_1'!B55=\"\",\"\",'Project Summary Sheet (PSS)_1'!B55)","v":""},{"$f":"IF('Project Summary Sheet (PSS)_1'!C55=\"\",\"\",'Project Summary Sheet (PSS)_1'!C55)","v":""},{"$f":"IFERROR(VLOOKUP(A35,'Project Summary Sheet (PSS)_1'!$B$23:$Q$75,6,FALSE)/'Project Summary Sheet (PSS)_1'!$D$17,\"\")","v":""},{"$f":"IFERROR(VLOOKUP(A35,'Project Summary Sheet (PSS)_1'!$B$23:$Q$75,9,FALSE)/('Project Summary Sheet (PSS)_1'!$T$17-('Project Summary Sheet (PSS)_1'!$D$17*'PSS References'!$E$11)),\"\")","v":""},{"$f":"IFERROR(((VLOOKUP(A35,'Project Summary Sheet (PSS)_1'!$B$23:$Q$75,6,FALSE)*'PSS References'!$E$11)+VLOOKUP(A35,'Project Summary Sheet (PSS)_1'!$B$23:$Q$75,9,FALSE))/'Project Summary Sheet (PSS)_1'!$T$17,\"\")","v":""},{"$f":"IF(A35=\"\",\"\",IF(M35<0,IF(OR(M35<'Project Summary Sheet (PSS)_1'!L55*1.1,M35>'Project Summary Sheet (PSS)_1'!L55*0.9),\"Check Rates\",\"Rate OK\"),IF(OR(M35>'Project Summary Sheet (PSS)_1'!L55*1.1,M35<'Project Summary Sheet (PSS)_1'!L55*0.9),\"Check Rates\",\"Rate OK\")))","v":""},{"$f":"IF(A35=\"\",\"\",'Project Summary Sheet (PSS)_1'!G55*'Project Summary Sheet (PSS)_1'!$E$18)","v":""},{"$f":"IF(A35=\"\",\"\",IF('Project Summary Sheet (PSS)_1'!$F$18<>\"\",('Project Summary Sheet (PSS)_1'!H55*'Project Summary Sheet (PSS)_1'!$F$18),0))","v":""},{"$f":"IF(A35=\"\",\"\",IF('Project Summary Sheet (PSS)_1'!I55=\"\",\"-\",IF('Project Summary Sheet (PSS)_1'!I55='PSS References'!$N$18,'Project Summary Sheet (PSS)_1'!J55*'PSS Savings Check_1'!$W$9,IF('Project Summary Sheet (PSS)_1'!I55='PSS References'!$N$19,'Project Summary Sheet (PSS)_1'!J55*'PSS Savings Check_1'!$AA$9,IF('Project Summary Sheet (PSS)_1'!I55='PSS References'!$N$20,'Project Summary Sheet (PSS)_1'!J55*'PSS Savings Check_1'!$Y$9,IF('Project Summary Sheet (PSS)_1'!I55='PSS References'!$N$21,'Project Summary Sheet (PSS)_1'!J55*'PSS Savings Check_1'!$Y$9,IF('Project Summary Sheet (PSS)_1'!I55='PSS References'!$N$22,'Project Summary Sheet (PSS)_1'!J55*'PSS Savings Check_1'!$Y$9,IF('Project Summary Sheet (PSS)_1'!I55='PSS References'!$N$23,'Project Summary Sheet (PSS)_1'!J55*'PSS Savings Check_1'!$AC$9,IF('Project Summary Sheet (PSS)_1'!I55='PSS References'!$N$24,'Project Summary Sheet (PSS)_1'!J55*'PSS Savings Check_1'!$AE$9,IF('Project Summary Sheet (PSS)_1'!I55='PSS References'!$N$25,'Project Summary Sheet (PSS)_1'!J55*'PSS Savings Check_1'!$AG$9,IF('Project Summary Sheet (PSS)_1'!I55='PSS References'!$N$17,\"-\")))))))))))","v":""},{"$f":"IF(A35=\"\",\"\",IF('Project Summary Sheet (PSS)_1'!I55=\"\",\"-\",IF('Project Summary Sheet (PSS)_1'!I55='PSS References'!$N$17,IF('Project Summary Sheet (PSS)_1'!W55='PSS References'!$N$18,'Project Summary Sheet (PSS)_1'!X55*'PSS Savings Check_1'!$W$9,IF('Project Summary Sheet (PSS)_1'!W55='PSS References'!$N$19,'Project Summary Sheet (PSS)_1'!X55*'PSS Savings Check_1'!$AA$9,IF('Project Summary Sheet (PSS)_1'!W55='PSS References'!$N$20,'Project Summary Sheet (PSS)_1'!X55*'PSS Savings Check_1'!$Y$9,IF('Project Summary Sheet (PSS)_1'!W55='PSS References'!$N$21,'Project Summary Sheet (PSS)_1'!X55*'PSS Savings Check_1'!$Y$9,IF('Project Summary Sheet (PSS)_1'!W55='PSS References'!$N$22,'Project Summary Sheet (PSS)_1'!X55*'PSS Savings Check_1'!$Y$9,IF('Project Summary Sheet (PSS)_1'!W55='PSS References'!$N$23,'Project Summary Sheet (PSS)_1'!X55*'PSS Savings Check_1'!$AC$9,IF('Project Summary Sheet (PSS)_1'!W55='PSS References'!$N$24,'Project Summary Sheet (PSS)_1'!X55*'PSS Savings Check_1'!$AE$9,IF('Project Summary Sheet (PSS)_1'!W55='PSS References'!$N$25,'Project Summary Sheet (PSS)_1'!X55*'PSS Savings Check_1'!$AG$9,IF('Project Summary Sheet (PSS)_1'!W55='PSS References'!$N$17,\"Can't be 'Multiple'\",))))))))),\"-\")))","v":""},{"$f":"IF(A35=\"\",\"\",IF('Project Summary Sheet (PSS)_1'!I55=\"\",\"-\",IF('Project Summary Sheet (PSS)_1'!I55='PSS References'!$N$17,IF('Project Summary Sheet (PSS)_1'!Y55='PSS References'!$N$18,'Project Summary Sheet (PSS)_1'!Z55*'PSS Savings Check_1'!$W$9,IF('Project Summary Sheet (PSS)_1'!Y55='PSS References'!$N$19,'Project Summary Sheet (PSS)_1'!Z55*'PSS Savings Check_1'!$AA$9,IF('Project Summary Sheet (PSS)_1'!Y55='PSS References'!$N$20,'Project Summary Sheet (PSS)_1'!Z55*'PSS Savings Check_1'!$Y$9,IF('Project Summary Sheet (PSS)_1'!Y55='PSS References'!$N$21,'Project Summary Sheet (PSS)_1'!Z55*'PSS Savings Check_1'!$Y$9,IF('Project Summary Sheet (PSS)_1'!Y55='PSS References'!$N$22,'Project Summary Sheet (PSS)_1'!Z55*'PSS Savings Check_1'!$Y$9,IF('Project Summary Sheet (PSS)_1'!Y55='PSS References'!$N$23,'Project Summary Sheet (PSS)_1'!Z55*'PSS Savings Check_1'!$AC$9,IF('Project Summary Sheet (PSS)_1'!Y55='PSS References'!$N$24,'Project Summary Sheet (PSS)_1'!Z55*'PSS Savings Check_1'!$AE$9,IF('Project Summary Sheet (PSS)_1'!Y55='PSS References'!$N$25,'Project Summary Sheet (PSS)_1'!Z55*'PSS Savings Check_1'!$AG$9,IF('Project Summary Sheet (PSS)_1'!Y55='PSS References'!$N$17,\"Can't be 'Multiple'\",))))))))),\"-\")))","v":""},{"$f":"IF(A35=\"\",\"\",IF('Project Summary Sheet (PSS)_1'!I55=\"\",\"-\",IF('Project Summary Sheet (PSS)_1'!I55='PSS References'!$N$17,IF('Project Summary Sheet (PSS)_1'!AA55='PSS References'!$N$18,'Project Summary Sheet (PSS)_1'!AB55*'PSS Savings Check_1'!$W$9,IF('Project Summary Sheet (PSS)_1'!AA55='PSS References'!N48,'Project Summary Sheet (PSS)_1'!AB55*'PSS Savings Check_1'!$AA$9,IF('Project Summary Sheet (PSS)_1'!AA55='PSS References'!$N$20,'Project Summary Sheet (PSS)_1'!AB55*'PSS Savings Check_1'!$Y$9,IF('Project Summary Sheet (PSS)_1'!AA55='PSS References'!$N$21,'Project Summary Sheet (PSS)_1'!AB55*'PSS Savings Check_1'!$Y$9,IF('Project Summary Sheet (PSS)_1'!AA55='PSS References'!$N$22,'Project Summary Sheet (PSS)_1'!AB55*'PSS Savings Check_1'!$Y$9,IF('Project Summary Sheet (PSS)_1'!AA55='PSS References'!$N$23,'Project Summary Sheet (PSS)_1'!AB55*'PSS Savings Check_1'!$AC$9,IF('Project Summary Sheet (PSS)_1'!AA55='PSS References'!$N$24,'Project Summary Sheet (PSS)_1'!AB55*'PSS Savings Check_1'!$AE$9,IF('Project Summary Sheet (PSS)_1'!AA55='PSS References'!$N$25,'Project Summary Sheet (PSS)_1'!AB55*'PSS Savings Check_1'!$AG$9,IF('Project Summary Sheet (PSS)_1'!AA55='PSS References'!$N$17,\"Can't be 'Multiple'\",))))))))),\"-\")))","v":""},"",{"$f":"IF('Project Summary Sheet (PSS)_1'!L55=\"\",\"\",'Project Summary Sheet (PSS)_1'!L55)","v":""},""]
[{"$f":"IF('Project Summary Sheet (PSS)_1'!B56=\"\",\"\",'Project Summary Sheet (PSS)_1'!B56)","v":""},{"$f":"IF('Project Summary Sheet (PSS)_1'!C56=\"\",\"\",'Project Summary Sheet (PSS)_1'!C56)","v":""},{"$f":"IFERROR(VLOOKUP(A36,'Project Summary Sheet (PSS)_1'!$B$23:$Q$75,6,FALSE)/'Project Summary Sheet (PSS)_1'!$D$17,\"\")","v":""},{"$f":"IFERROR(VLOOKUP(A36,'Project Summary Sheet (PSS)_1'!$B$23:$Q$75,9,FALSE)/('Project Summary Sheet (PSS)_1'!$T$17-('Project Summary Sheet (PSS)_1'!$D$17*'PSS References'!$E$11)),\"\")","v":""},{"$f":"IFERROR(((VLOOKUP(A36,'Project Summary Sheet (PSS)_1'!$B$23:$Q$75,6,FALSE)*'PSS References'!$E$11)+VLOOKUP(A36,'Project Summary Sheet (PSS)_1'!$B$23:$Q$75,9,FALSE))/'Project Summary Sheet (PSS)_1'!$T$17,\"\")","v":""},{"$f":"IF(A36=\"\",\"\",IF(M36<0,IF(OR(M36<'Project Summary Sheet (PSS)_1'!L56*1.1,M36>'Project Summary Sheet (PSS)_1'!L56*0.9),\"Check Rates\",\"Rate OK\"),IF(OR(M36>'Project Summary Sheet (PSS)_1'!L56*1.1,M36<'Project Summary Sheet (PSS)_1'!L56*0.9),\"Check Rates\",\"Rate OK\")))","v":""},{"$f":"IF(A36=\"\",\"\",'Project Summary Sheet (PSS)_1'!G56*'Project Summary Sheet (PSS)_1'!$E$18)","v":""},{"$f":"IF(A36=\"\",\"\",IF('Project Summary Sheet (PSS)_1'!$F$18<>\"\",('Project Summary Sheet (PSS)_1'!H56*'Project Summary Sheet (PSS)_1'!$F$18),0))","v":""},{"$f":"IF(A36=\"\",\"\",IF('Project Summary Sheet (PSS)_1'!I56=\"\",\"-\",IF('Project Summary Sheet (PSS)_1'!I56='PSS References'!$N$18,'Project Summary Sheet (PSS)_1'!J56*'PSS Savings Check_1'!$W$9,IF('Project Summary Sheet (PSS)_1'!I56='PSS References'!$N$19,'Project Summary Sheet (PSS)_1'!J56*'PSS Savings Check_1'!$AA$9,IF('Project Summary Sheet (PSS)_1'!I56='PSS References'!$N$20,'Project Summary Sheet (PSS)_1'!J56*'PSS Savings Check_1'!$Y$9,IF('Project Summary Sheet (PSS)_1'!I56='PSS References'!$N$21,'Project Summary Sheet (PSS)_1'!J56*'PSS Savings Check_1'!$Y$9,IF('Project Summary Sheet (PSS)_1'!I56='PSS References'!$N$22,'Project Summary Sheet (PSS)_1'!J56*'PSS Savings Check_1'!$Y$9,IF('Project Summary Sheet (PSS)_1'!I56='PSS References'!$N$23,'Project Summary Sheet (PSS)_1'!J56*'PSS Savings Check_1'!$AC$9,IF('Project Summary Sheet (PSS)_1'!I56='PSS References'!$N$24,'Project Summary Sheet (PSS)_1'!J56*'PSS Savings Check_1'!$AE$9,IF('Project Summary Sheet (PSS)_1'!I56='PSS References'!$N$25,'Project Summary Sheet (PSS)_1'!J56*'PSS Savings Check_1'!$AG$9,IF('Project Summary Sheet (PSS)_1'!I56='PSS References'!$N$17,\"-\")))))))))))","v":""},{"$f":"IF(A36=\"\",\"\",IF('Project Summary Sheet (PSS)_1'!I56=\"\",\"-\",IF('Project Summary Sheet (PSS)_1'!I56='PSS References'!$N$17,IF('Project Summary Sheet (PSS)_1'!W56='PSS References'!$N$18,'Project Summary Sheet (PSS)_1'!X56*'PSS Savings Check_1'!$W$9,IF('Project Summary Sheet (PSS)_1'!W56='PSS References'!$N$19,'Project Summary Sheet (PSS)_1'!X56*'PSS Savings Check_1'!$AA$9,IF('Project Summary Sheet (PSS)_1'!W56='PSS References'!$N$20,'Project Summary Sheet (PSS)_1'!X56*'PSS Savings Check_1'!$Y$9,IF('Project Summary Sheet (PSS)_1'!W56='PSS References'!$N$21,'Project Summary Sheet (PSS)_1'!X56*'PSS Savings Check_1'!$Y$9,IF('Project Summary Sheet (PSS)_1'!W56='PSS References'!$N$22,'Project Summary Sheet (PSS)_1'!X56*'PSS Savings Check_1'!$Y$9,IF('Project Summary Sheet (PSS)_1'!W56='PSS References'!$N$23,'Project Summary Sheet (PSS)_1'!X56*'PSS Savings Check_1'!$AC$9,IF('Project Summary Sheet (PSS)_1'!W56='PSS References'!$N$24,'Project Summary Sheet (PSS)_1'!X56*'PSS Savings Check_1'!$AE$9,IF('Project Summary Sheet (PSS)_1'!W56='PSS References'!$N$25,'Project Summary Sheet (PSS)_1'!X56*'PSS Savings Check_1'!$AG$9,IF('Project Summary Sheet (PSS)_1'!W56='PSS References'!$N$17,\"Can't be 'Multiple'\",))))))))),\"-\")))","v":""},{"$f":"IF(A36=\"\",\"\",IF('Project Summary Sheet (PSS)_1'!I56=\"\",\"-\",IF('Project Summary Sheet (PSS)_1'!I56='PSS References'!$N$17,IF('Project Summary Sheet (PSS)_1'!Y56='PSS References'!$N$18,'Project Summary Sheet (PSS)_1'!Z56*'PSS Savings Check_1'!$W$9,IF('Project Summary Sheet (PSS)_1'!Y56='PSS References'!$N$19,'Project Summary Sheet (PSS)_1'!Z56*'PSS Savings Check_1'!$AA$9,IF('Project Summary Sheet (PSS)_1'!Y56='PSS References'!$N$20,'Project Summary Sheet (PSS)_1'!Z56*'PSS Savings Check_1'!$Y$9,IF('Project Summary Sheet (PSS)_1'!Y56='PSS References'!$N$21,'Project Summary Sheet (PSS)_1'!Z56*'PSS Savings Check_1'!$Y$9,IF('Project Summary Sheet (PSS)_1'!Y56='PSS References'!$N$22,'Project Summary Sheet (PSS)_1'!Z56*'PSS Savings Check_1'!$Y$9,IF('Project Summary Sheet (PSS)_1'!Y56='PSS References'!$N$23,'Project Summary Sheet (PSS)_1'!Z56*'PSS Savings Check_1'!$AC$9,IF('Project Summary Sheet (PSS)_1'!Y56='PSS References'!$N$24,'Project Summary Sheet (PSS)_1'!Z56*'PSS Savings Check_1'!$AE$9,IF('Project Summary Sheet (PSS)_1'!Y56='PSS References'!$N$25,'Project Summary Sheet (PSS)_1'!Z56*'PSS Savings Check_1'!$AG$9,IF('Project Summary Sheet (PSS)_1'!Y56='PSS References'!$N$17,\"Can't be 'Multiple'\",))))))))),\"-\")))","v":""},{"$f":"IF(A36=\"\",\"\",IF('Project Summary Sheet (PSS)_1'!I56=\"\",\"-\",IF('Project Summary Sheet (PSS)_1'!I56='PSS References'!$N$17,IF('Project Summary Sheet (PSS)_1'!AA56='PSS References'!$N$18,'Project Summary Sheet (PSS)_1'!AB56*'PSS Savings Check_1'!$W$9,IF('Project Summary Sheet (PSS)_1'!AA56='PSS References'!N49,'Project Summary Sheet (PSS)_1'!AB56*'PSS Savings Check_1'!$AA$9,IF('Project Summary Sheet (PSS)_1'!AA56='PSS References'!$N$20,'Project Summary Sheet (PSS)_1'!AB56*'PSS Savings Check_1'!$Y$9,IF('Project Summary Sheet (PSS)_1'!AA56='PSS References'!$N$21,'Project Summary Sheet (PSS)_1'!AB56*'PSS Savings Check_1'!$Y$9,IF('Project Summary Sheet (PSS)_1'!AA56='PSS References'!$N$22,'Project Summary Sheet (PSS)_1'!AB56*'PSS Savings Check_1'!$Y$9,IF('Project Summary Sheet (PSS)_1'!AA56='PSS References'!$N$23,'Project Summary Sheet (PSS)_1'!AB56*'PSS Savings Check_1'!$AC$9,IF('Project Summary Sheet (PSS)_1'!AA56='PSS References'!$N$24,'Project Summary Sheet (PSS)_1'!AB56*'PSS Savings Check_1'!$AE$9,IF('Project Summary Sheet (PSS)_1'!AA56='PSS References'!$N$25,'Project Summary Sheet (PSS)_1'!AB56*'PSS Savings Check_1'!$AG$9,IF('Project Summary Sheet (PSS)_1'!AA56='PSS References'!$N$17,\"Can't be 'Multiple'\",))))))))),\"-\")))","v":""},"",{"$f":"IF('Project Summary Sheet (PSS)_1'!L56=\"\",\"\",'Project Summary Sheet (PSS)_1'!L56)","v":""},""]
[{"$f":"IF('Project Summary Sheet (PSS)_1'!B57=\"\",\"\",'Project Summary Sheet (PSS)_1'!B57)","v":""},{"$f":"IF('Project Summary Sheet (PSS)_1'!C57=\"\",\"\",'Project Summary Sheet (PSS)_1'!C57)","v":""},{"$f":"IFERROR(VLOOKUP(A37,'Project Summary Sheet (PSS)_1'!$B$23:$Q$75,6,FALSE)/'Project Summary Sheet (PSS)_1'!$D$17,\"\")","v":""},{"$f":"IFERROR(VLOOKUP(A37,'Project Summary Sheet (PSS)_1'!$B$23:$Q$75,9,FALSE)/('Project Summary Sheet (PSS)_1'!$T$17-('Project Summary Sheet (PSS)_1'!$D$17*'PSS References'!$E$11)),\"\")","v":""},{"$f":"IFERROR(((VLOOKUP(A37,'Project Summary Sheet (PSS)_1'!$B$23:$Q$75,6,FALSE)*'PSS References'!$E$11)+VLOOKUP(A37,'Project Summary Sheet (PSS)_1'!$B$23:$Q$75,9,FALSE))/'Project Summary Sheet (PSS)_1'!$T$17,\"\")","v":""},{"$f":"IF(A37=\"\",\"\",IF(M37<0,IF(OR(M37<'Project Summary Sheet (PSS)_1'!L57*1.1,M37>'Project Summary Sheet (PSS)_1'!L57*0.9),\"Check Rates\",\"Rate OK\"),IF(OR(M37>'Project Summary Sheet (PSS)_1'!L57*1.1,M37<'Project Summary Sheet (PSS)_1'!L57*0.9),\"Check Rates\",\"Rate OK\")))","v":""},{"$f":"IF(A37=\"\",\"\",'Project Summary Sheet (PSS)_1'!G57*'Project Summary Sheet (PSS)_1'!$E$18)","v":""},{"$f":"IF(A37=\"\",\"\",IF('Project Summary Sheet (PSS)_1'!$F$18<>\"\",('Project Summary Sheet (PSS)_1'!H57*'Project Summary Sheet (PSS)_1'!$F$18),0))","v":""},{"$f":"IF(A37=\"\",\"\",IF('Project Summary Sheet (PSS)_1'!I57=\"\",\"-\",IF('Project Summary Sheet (PSS)_1'!I57='PSS References'!$N$18,'Project Summary Sheet (PSS)_1'!J57*'PSS Savings Check_1'!$W$9,IF('Project Summary Sheet (PSS)_1'!I57='PSS References'!$N$19,'Project Summary Sheet (PSS)_1'!J57*'PSS Savings Check_1'!$AA$9,IF('Project Summary Sheet (PSS)_1'!I57='PSS References'!$N$20,'Project Summary Sheet (PSS)_1'!J57*'PSS Savings Check_1'!$Y$9,IF('Project Summary Sheet (PSS)_1'!I57='PSS References'!$N$21,'Project Summary Sheet (PSS)_1'!J57*'PSS Savings Check_1'!$Y$9,IF('Project Summary Sheet (PSS)_1'!I57='PSS References'!$N$22,'Project Summary Sheet (PSS)_1'!J57*'PSS Savings Check_1'!$Y$9,IF('Project Summary Sheet (PSS)_1'!I57='PSS References'!$N$23,'Project Summary Sheet (PSS)_1'!J57*'PSS Savings Check_1'!$AC$9,IF('Project Summary Sheet (PSS)_1'!I57='PSS References'!$N$24,'Project Summary Sheet (PSS)_1'!J57*'PSS Savings Check_1'!$AE$9,IF('Project Summary Sheet (PSS)_1'!I57='PSS References'!$N$25,'Project Summary Sheet (PSS)_1'!J57*'PSS Savings Check_1'!$AG$9,IF('Project Summary Sheet (PSS)_1'!I57='PSS References'!$N$17,\"-\")))))))))))","v":""},{"$f":"IF(A37=\"\",\"\",IF('Project Summary Sheet (PSS)_1'!I57=\"\",\"-\",IF('Project Summary Sheet (PSS)_1'!I57='PSS References'!$N$17,IF('Project Summary Sheet (PSS)_1'!W57='PSS References'!$N$18,'Project Summary Sheet (PSS)_1'!X57*'PSS Savings Check_1'!$W$9,IF('Project Summary Sheet (PSS)_1'!W57='PSS References'!$N$19,'Project Summary Sheet (PSS)_1'!X57*'PSS Savings Check_1'!$AA$9,IF('Project Summary Sheet (PSS)_1'!W57='PSS References'!$N$20,'Project Summary Sheet (PSS)_1'!X57*'PSS Savings Check_1'!$Y$9,IF('Project Summary Sheet (PSS)_1'!W57='PSS References'!$N$21,'Project Summary Sheet (PSS)_1'!X57*'PSS Savings Check_1'!$Y$9,IF('Project Summary Sheet (PSS)_1'!W57='PSS References'!$N$22,'Project Summary Sheet (PSS)_1'!X57*'PSS Savings Check_1'!$Y$9,IF('Project Summary Sheet (PSS)_1'!W57='PSS References'!$N$23,'Project Summary Sheet (PSS)_1'!X57*'PSS Savings Check_1'!$AC$9,IF('Project Summary Sheet (PSS)_1'!W57='PSS References'!$N$24,'Project Summary Sheet (PSS)_1'!X57*'PSS Savings Check_1'!$AE$9,IF('Project Summary Sheet (PSS)_1'!W57='PSS References'!$N$25,'Project Summary Sheet (PSS)_1'!X57*'PSS Savings Check_1'!$AG$9,IF('Project Summary Sheet (PSS)_1'!W57='PSS References'!$N$17,\"Can't be 'Multiple'\",))))))))),\"-\")))","v":""},{"$f":"IF(A37=\"\",\"\",IF('Project Summary Sheet (PSS)_1'!I57=\"\",\"-\",IF('Project Summary Sheet (PSS)_1'!I57='PSS References'!$N$17,IF('Project Summary Sheet (PSS)_1'!Y57='PSS References'!$N$18,'Project Summary Sheet (PSS)_1'!Z57*'PSS Savings Check_1'!$W$9,IF('Project Summary Sheet (PSS)_1'!Y57='PSS References'!$N$19,'Project Summary Sheet (PSS)_1'!Z57*'PSS Savings Check_1'!$AA$9,IF('Project Summary Sheet (PSS)_1'!Y57='PSS References'!$N$20,'Project Summary Sheet (PSS)_1'!Z57*'PSS Savings Check_1'!$Y$9,IF('Project Summary Sheet (PSS)_1'!Y57='PSS References'!$N$21,'Project Summary Sheet (PSS)_1'!Z57*'PSS Savings Check_1'!$Y$9,IF('Project Summary Sheet (PSS)_1'!Y57='PSS References'!$N$22,'Project Summary Sheet (PSS)_1'!Z57*'PSS Savings Check_1'!$Y$9,IF('Project Summary Sheet (PSS)_1'!Y57='PSS References'!$N$23,'Project Summary Sheet (PSS)_1'!Z57*'PSS Savings Check_1'!$AC$9,IF('Project Summary Sheet (PSS)_1'!Y57='PSS References'!$N$24,'Project Summary Sheet (PSS)_1'!Z57*'PSS Savings Check_1'!$AE$9,IF('Project Summary Sheet (PSS)_1'!Y57='PSS References'!$N$25,'Project Summary Sheet (PSS)_1'!Z57*'PSS Savings Check_1'!$AG$9,IF('Project Summary Sheet (PSS)_1'!Y57='PSS References'!$N$17,\"Can't be 'Multiple'\",))))))))),\"-\")))","v":""},{"$f":"IF(A37=\"\",\"\",IF('Project Summary Sheet (PSS)_1'!I57=\"\",\"-\",IF('Project Summary Sheet (PSS)_1'!I57='PSS References'!$N$17,IF('Project Summary Sheet (PSS)_1'!AA57='PSS References'!$N$18,'Project Summary Sheet (PSS)_1'!AB57*'PSS Savings Check_1'!$W$9,IF('Project Summary Sheet (PSS)_1'!AA57='PSS References'!N50,'Project Summary Sheet (PSS)_1'!AB57*'PSS Savings Check_1'!$AA$9,IF('Project Summary Sheet (PSS)_1'!AA57='PSS References'!$N$20,'Project Summary Sheet (PSS)_1'!AB57*'PSS Savings Check_1'!$Y$9,IF('Project Summary Sheet (PSS)_1'!AA57='PSS References'!$N$21,'Project Summary Sheet (PSS)_1'!AB57*'PSS Savings Check_1'!$Y$9,IF('Project Summary Sheet (PSS)_1'!AA57='PSS References'!$N$22,'Project Summary Sheet (PSS)_1'!AB57*'PSS Savings Check_1'!$Y$9,IF('Project Summary Sheet (PSS)_1'!AA57='PSS References'!$N$23,'Project Summary Sheet (PSS)_1'!AB57*'PSS Savings Check_1'!$AC$9,IF('Project Summary Sheet (PSS)_1'!AA57='PSS References'!$N$24,'Project Summary Sheet (PSS)_1'!AB57*'PSS Savings Check_1'!$AE$9,IF('Project Summary Sheet (PSS)_1'!AA57='PSS References'!$N$25,'Project Summary Sheet (PSS)_1'!AB57*'PSS Savings Check_1'!$AG$9,IF('Project Summary Sheet (PSS)_1'!AA57='PSS References'!$N$17,\"Can't be 'Multiple'\",))))))))),\"-\")))","v":""},"",{"$f":"IF('Project Summary Sheet (PSS)_1'!L57=\"\",\"\",'Project Summary Sheet (PSS)_1'!L57)","v":""},""]
[{"$f":"IF('Project Summary Sheet (PSS)_1'!B58=\"\",\"\",'Project Summary Sheet (PSS)_1'!B58)","v":""},{"$f":"IF('Project Summary Sheet (PSS)_1'!C58=\"\",\"\",'Project Summary Sheet (PSS)_1'!C58)","v":""},{"$f":"IFERROR(VLOOKUP(A38,'Project Summary Sheet (PSS)_1'!$B$23:$Q$75,6,FALSE)/'Project Summary Sheet (PSS)_1'!$D$17,\"\")","v":""},{"$f":"IFERROR(VLOOKUP(A38,'Project Summary Sheet (PSS)_1'!$B$23:$Q$75,9,FALSE)/('Project Summary Sheet (PSS)_1'!$T$17-('Project Summary Sheet (PSS)_1'!$D$17*'PSS References'!$E$11)),\"\")","v":""},{"$f":"IFERROR(((VLOOKUP(A38,'Project Summary Sheet (PSS)_1'!$B$23:$Q$75,6,FALSE)*'PSS References'!$E$11)+VLOOKUP(A38,'Project Summary Sheet (PSS)_1'!$B$23:$Q$75,9,FALSE))/'Project Summary Sheet (PSS)_1'!$T$17,\"\")","v":""},{"$f":"IF(A38=\"\",\"\",IF(M38<0,IF(OR(M38<'Project Summary Sheet (PSS)_1'!L58*1.1,M38>'Project Summary Sheet (PSS)_1'!L58*0.9),\"Check Rates\",\"Rate OK\"),IF(OR(M38>'Project Summary Sheet (PSS)_1'!L58*1.1,M38<'Project Summary Sheet (PSS)_1'!L58*0.9),\"Check Rates\",\"Rate OK\")))","v":""},{"$f":"IF(A38=\"\",\"\",'Project Summary Sheet (PSS)_1'!G58*'Project Summary Sheet (PSS)_1'!$E$18)","v":""},{"$f":"IF(A38=\"\",\"\",IF('Project Summary Sheet (PSS)_1'!$F$18<>\"\",('Project Summary Sheet (PSS)_1'!H58*'Project Summary Sheet (PSS)_1'!$F$18),0))","v":""},{"$f":"IF(A38=\"\",\"\",IF('Project Summary Sheet (PSS)_1'!I58=\"\",\"-\",IF('Project Summary Sheet (PSS)_1'!I58='PSS References'!$N$18,'Project Summary Sheet (PSS)_1'!J58*'PSS Savings Check_1'!$W$9,IF('Project Summary Sheet (PSS)_1'!I58='PSS References'!$N$19,'Project Summary Sheet (PSS)_1'!J58*'PSS Savings Check_1'!$AA$9,IF('Project Summary Sheet (PSS)_1'!I58='PSS References'!$N$20,'Project Summary Sheet (PSS)_1'!J58*'PSS Savings Check_1'!$Y$9,IF('Project Summary Sheet (PSS)_1'!I58='PSS References'!$N$21,'Project Summary Sheet (PSS)_1'!J58*'PSS Savings Check_1'!$Y$9,IF('Project Summary Sheet (PSS)_1'!I58='PSS References'!$N$22,'Project Summary Sheet (PSS)_1'!J58*'PSS Savings Check_1'!$Y$9,IF('Project Summary Sheet (PSS)_1'!I58='PSS References'!$N$23,'Project Summary Sheet (PSS)_1'!J58*'PSS Savings Check_1'!$AC$9,IF('Project Summary Sheet (PSS)_1'!I58='PSS References'!$N$24,'Project Summary Sheet (PSS)_1'!J58*'PSS Savings Check_1'!$AE$9,IF('Project Summary Sheet (PSS)_1'!I58='PSS References'!$N$25,'Project Summary Sheet (PSS)_1'!J58*'PSS Savings Check_1'!$AG$9,IF('Project Summary Sheet (PSS)_1'!I58='PSS References'!$N$17,\"-\")))))))))))","v":""},{"$f":"IF(A38=\"\",\"\",IF('Project Summary Sheet (PSS)_1'!I58=\"\",\"-\",IF('Project Summary Sheet (PSS)_1'!I58='PSS References'!$N$17,IF('Project Summary Sheet (PSS)_1'!W58='PSS References'!$N$18,'Project Summary Sheet (PSS)_1'!X58*'PSS Savings Check_1'!$W$9,IF('Project Summary Sheet (PSS)_1'!W58='PSS References'!$N$19,'Project Summary Sheet (PSS)_1'!X58*'PSS Savings Check_1'!$AA$9,IF('Project Summary Sheet (PSS)_1'!W58='PSS References'!$N$20,'Project Summary Sheet (PSS)_1'!X58*'PSS Savings Check_1'!$Y$9,IF('Project Summary Sheet (PSS)_1'!W58='PSS References'!$N$21,'Project Summary Sheet (PSS)_1'!X58*'PSS Savings Check_1'!$Y$9,IF('Project Summary Sheet (PSS)_1'!W58='PSS References'!$N$22,'Project Summary Sheet (PSS)_1'!X58*'PSS Savings Check_1'!$Y$9,IF('Project Summary Sheet (PSS)_1'!W58='PSS References'!$N$23,'Project Summary Sheet (PSS)_1'!X58*'PSS Savings Check_1'!$AC$9,IF('Project Summary Sheet (PSS)_1'!W58='PSS References'!$N$24,'Project Summary Sheet (PSS)_1'!X58*'PSS Savings Check_1'!$AE$9,IF('Project Summary Sheet (PSS)_1'!W58='PSS References'!$N$25,'Project Summary Sheet (PSS)_1'!X58*'PSS Savings Check_1'!$AG$9,IF('Project Summary Sheet (PSS)_1'!W58='PSS References'!$N$17,\"Can't be 'Multiple'\",))))))))),\"-\")))","v":""},{"$f":"IF(A38=\"\",\"\",IF('Project Summary Sheet (PSS)_1'!I58=\"\",\"-\",IF('Project Summary Sheet (PSS)_1'!I58='PSS References'!$N$17,IF('Project Summary Sheet (PSS)_1'!Y58='PSS References'!$N$18,'Project Summary Sheet (PSS)_1'!Z58*'PSS Savings Check_1'!$W$9,IF('Project Summary Sheet (PSS)_1'!Y58='PSS References'!$N$19,'Project Summary Sheet (PSS)_1'!Z58*'PSS Savings Check_1'!$AA$9,IF('Project Summary Sheet (PSS)_1'!Y58='PSS References'!$N$20,'Project Summary Sheet (PSS)_1'!Z58*'PSS Savings Check_1'!$Y$9,IF('Project Summary Sheet (PSS)_1'!Y58='PSS References'!$N$21,'Project Summary Sheet (PSS)_1'!Z58*'PSS Savings Check_1'!$Y$9,IF('Project Summary Sheet (PSS)_1'!Y58='PSS References'!$N$22,'Project Summary Sheet (PSS)_1'!Z58*'PSS Savings Check_1'!$Y$9,IF('Project Summary Sheet (PSS)_1'!Y58='PSS References'!$N$23,'Project Summary Sheet (PSS)_1'!Z58*'PSS Savings Check_1'!$AC$9,IF('Project Summary Sheet (PSS)_1'!Y58='PSS References'!$N$24,'Project Summary Sheet (PSS)_1'!Z58*'PSS Savings Check_1'!$AE$9,IF('Project Summary Sheet (PSS)_1'!Y58='PSS References'!$N$25,'Project Summary Sheet (PSS)_1'!Z58*'PSS Savings Check_1'!$AG$9,IF('Project Summary Sheet (PSS)_1'!Y58='PSS References'!$N$17,\"Can't be 'Multiple'\",))))))))),\"-\")))","v":""},{"$f":"IF(A38=\"\",\"\",IF('Project Summary Sheet (PSS)_1'!I58=\"\",\"-\",IF('Project Summary Sheet (PSS)_1'!I58='PSS References'!$N$17,IF('Project Summary Sheet (PSS)_1'!AA58='PSS References'!$N$18,'Project Summary Sheet (PSS)_1'!AB58*'PSS Savings Check_1'!$W$9,IF('Project Summary Sheet (PSS)_1'!AA58='PSS References'!N51,'Project Summary Sheet (PSS)_1'!AB58*'PSS Savings Check_1'!$AA$9,IF('Project Summary Sheet (PSS)_1'!AA58='PSS References'!$N$20,'Project Summary Sheet (PSS)_1'!AB58*'PSS Savings Check_1'!$Y$9,IF('Project Summary Sheet (PSS)_1'!AA58='PSS References'!$N$21,'Project Summary Sheet (PSS)_1'!AB58*'PSS Savings Check_1'!$Y$9,IF('Project Summary Sheet (PSS)_1'!AA58='PSS References'!$N$22,'Project Summary Sheet (PSS)_1'!AB58*'PSS Savings Check_1'!$Y$9,IF('Project Summary Sheet (PSS)_1'!AA58='PSS References'!$N$23,'Project Summary Sheet (PSS)_1'!AB58*'PSS Savings Check_1'!$AC$9,IF('Project Summary Sheet (PSS)_1'!AA58='PSS References'!$N$24,'Project Summary Sheet (PSS)_1'!AB58*'PSS Savings Check_1'!$AE$9,IF('Project Summary Sheet (PSS)_1'!AA58='PSS References'!$N$25,'Project Summary Sheet (PSS)_1'!AB58*'PSS Savings Check_1'!$AG$9,IF('Project Summary Sheet (PSS)_1'!AA58='PSS References'!$N$17,\"Can't be 'Multiple'\",))))))))),\"-\")))","v":""},"",{"$f":"IF('Project Summary Sheet (PSS)_1'!L58=\"\",\"\",'Project Summary Sheet (PSS)_1'!L58)","v":""},""]
[{"$f":"IF('Project Summary Sheet (PSS)_1'!B59=\"\",\"\",'Project Summary Sheet (PSS)_1'!B59)","v":""},{"$f":"IF('Project Summary Sheet (PSS)_1'!C59=\"\",\"\",'Project Summary Sheet (PSS)_1'!C59)","v":""},{"$f":"IFERROR(VLOOKUP(A39,'Project Summary Sheet (PSS)_1'!$B$23:$Q$75,6,FALSE)/'Project Summary Sheet (PSS)_1'!$D$17,\"\")","v":""},{"$f":"IFERROR(VLOOKUP(A39,'Project Summary Sheet (PSS)_1'!$B$23:$Q$75,9,FALSE)/('Project Summary Sheet (PSS)_1'!$T$17-('Project Summary Sheet (PSS)_1'!$D$17*'PSS References'!$E$11)),\"\")","v":""},{"$f":"IFERROR(((VLOOKUP(A39,'Project Summary Sheet (PSS)_1'!$B$23:$Q$75,6,FALSE)*'PSS References'!$E$11)+VLOOKUP(A39,'Project Summary Sheet (PSS)_1'!$B$23:$Q$75,9,FALSE))/'Project Summary Sheet (PSS)_1'!$T$17,\"\")","v":""},{"$f":"IF(A39=\"\",\"\",IF(M39<0,IF(OR(M39<'Project Summary Sheet (PSS)_1'!L59*1.1,M39>'Project Summary Sheet (PSS)_1'!L59*0.9),\"Check Rates\",\"Rate OK\"),IF(OR(M39>'Project Summary Sheet (PSS)_1'!L59*1.1,M39<'Project Summary Sheet (PSS)_1'!L59*0.9),\"Check Rates\",\"Rate OK\")))","v":""},{"$f":"IF(A39=\"\",\"\",'Project Summary Sheet (PSS)_1'!G59*'Project Summary Sheet (PSS)_1'!$E$18)","v":""},{"$f":"IF(A39=\"\",\"\",IF('Project Summary Sheet (PSS)_1'!$F$18<>\"\",('Project Summary Sheet (PSS)_1'!H59*'Project Summary Sheet (PSS)_1'!$F$18),0))","v":""},{"$f":"IF(A39=\"\",\"\",IF('Project Summary Sheet (PSS)_1'!I59=\"\",\"-\",IF('Project Summary Sheet (PSS)_1'!I59='PSS References'!$N$18,'Project Summary Sheet (PSS)_1'!J59*'PSS Savings Check_1'!$W$9,IF('Project Summary Sheet (PSS)_1'!I59='PSS References'!$N$19,'Project Summary Sheet (PSS)_1'!J59*'PSS Savings Check_1'!$AA$9,IF('Project Summary Sheet (PSS)_1'!I59='PSS References'!$N$20,'Project Summary Sheet (PSS)_1'!J59*'PSS Savings Check_1'!$Y$9,IF('Project Summary Sheet (PSS)_1'!I59='PSS References'!$N$21,'Project Summary Sheet (PSS)_1'!J59*'PSS Savings Check_1'!$Y$9,IF('Project Summary Sheet (PSS)_1'!I59='PSS References'!$N$22,'Project Summary Sheet (PSS)_1'!J59*'PSS Savings Check_1'!$Y$9,IF('Project Summary Sheet (PSS)_1'!I59='PSS References'!$N$23,'Project Summary Sheet (PSS)_1'!J59*'PSS Savings Check_1'!$AC$9,IF('Project Summary Sheet (PSS)_1'!I59='PSS References'!$N$24,'Project Summary Sheet (PSS)_1'!J59*'PSS Savings Check_1'!$AE$9,IF('Project Summary Sheet (PSS)_1'!I59='PSS References'!$N$25,'Project Summary Sheet (PSS)_1'!J59*'PSS Savings Check_1'!$AG$9,IF('Project Summary Sheet (PSS)_1'!I59='PSS References'!$N$17,\"-\")))))))))))","v":""},{"$f":"IF(A39=\"\",\"\",IF('Project Summary Sheet (PSS)_1'!I59=\"\",\"-\",IF('Project Summary Sheet (PSS)_1'!I59='PSS References'!$N$17,IF('Project Summary Sheet (PSS)_1'!W59='PSS References'!$N$18,'Project Summary Sheet (PSS)_1'!X59*'PSS Savings Check_1'!$W$9,IF('Project Summary Sheet (PSS)_1'!W59='PSS References'!$N$19,'Project Summary Sheet (PSS)_1'!X59*'PSS Savings Check_1'!$AA$9,IF('Project Summary Sheet (PSS)_1'!W59='PSS References'!$N$20,'Project Summary Sheet (PSS)_1'!X59*'PSS Savings Check_1'!$Y$9,IF('Project Summary Sheet (PSS)_1'!W59='PSS References'!$N$21,'Project Summary Sheet (PSS)_1'!X59*'PSS Savings Check_1'!$Y$9,IF('Project Summary Sheet (PSS)_1'!W59='PSS References'!$N$22,'Project Summary Sheet (PSS)_1'!X59*'PSS Savings Check_1'!$Y$9,IF('Project Summary Sheet (PSS)_1'!W59='PSS References'!$N$23,'Project Summary Sheet (PSS)_1'!X59*'PSS Savings Check_1'!$AC$9,IF('Project Summary Sheet (PSS)_1'!W59='PSS References'!$N$24,'Project Summary Sheet (PSS)_1'!X59*'PSS Savings Check_1'!$AE$9,IF('Project Summary Sheet (PSS)_1'!W59='PSS References'!$N$25,'Project Summary Sheet (PSS)_1'!X59*'PSS Savings Check_1'!$AG$9,IF('Project Summary Sheet (PSS)_1'!W59='PSS References'!$N$17,\"Can't be 'Multiple'\",))))))))),\"-\")))","v":""},{"$f":"IF(A39=\"\",\"\",IF('Project Summary Sheet (PSS)_1'!I59=\"\",\"-\",IF('Project Summary Sheet (PSS)_1'!I59='PSS References'!$N$17,IF('Project Summary Sheet (PSS)_1'!Y59='PSS References'!$N$18,'Project Summary Sheet (PSS)_1'!Z59*'PSS Savings Check_1'!$W$9,IF('Project Summary Sheet (PSS)_1'!Y59='PSS References'!$N$19,'Project Summary Sheet (PSS)_1'!Z59*'PSS Savings Check_1'!$AA$9,IF('Project Summary Sheet (PSS)_1'!Y59='PSS References'!$N$20,'Project Summary Sheet (PSS)_1'!Z59*'PSS Savings Check_1'!$Y$9,IF('Project Summary Sheet (PSS)_1'!Y59='PSS References'!$N$21,'Project Summary Sheet (PSS)_1'!Z59*'PSS Savings Check_1'!$Y$9,IF('Project Summary Sheet (PSS)_1'!Y59='PSS References'!$N$22,'Project Summary Sheet (PSS)_1'!Z59*'PSS Savings Check_1'!$Y$9,IF('Project Summary Sheet (PSS)_1'!Y59='PSS References'!$N$23,'Project Summary Sheet (PSS)_1'!Z59*'PSS Savings Check_1'!$AC$9,IF('Project Summary Sheet (PSS)_1'!Y59='PSS References'!$N$24,'Project Summary Sheet (PSS)_1'!Z59*'PSS Savings Check_1'!$AE$9,IF('Project Summary Sheet (PSS)_1'!Y59='PSS References'!$N$25,'Project Summary Sheet (PSS)_1'!Z59*'PSS Savings Check_1'!$AG$9,IF('Project Summary Sheet (PSS)_1'!Y59='PSS References'!$N$17,\"Can't be 'Multiple'\",))))))))),\"-\")))","v":""},{"$f":"IF(A39=\"\",\"\",IF('Project Summary Sheet (PSS)_1'!I59=\"\",\"-\",IF('Project Summary Sheet (PSS)_1'!I59='PSS References'!$N$17,IF('Project Summary Sheet (PSS)_1'!AA59='PSS References'!$N$18,'Project Summary Sheet (PSS)_1'!AB59*'PSS Savings Check_1'!$W$9,IF('Project Summary Sheet (PSS)_1'!AA59='PSS References'!N52,'Project Summary Sheet (PSS)_1'!AB59*'PSS Savings Check_1'!$AA$9,IF('Project Summary Sheet (PSS)_1'!AA59='PSS References'!$N$20,'Project Summary Sheet (PSS)_1'!AB59*'PSS Savings Check_1'!$Y$9,IF('Project Summary Sheet (PSS)_1'!AA59='PSS References'!$N$21,'Project Summary Sheet (PSS)_1'!AB59*'PSS Savings Check_1'!$Y$9,IF('Project Summary Sheet (PSS)_1'!AA59='PSS References'!$N$22,'Project Summary Sheet (PSS)_1'!AB59*'PSS Savings Check_1'!$Y$9,IF('Project Summary Sheet (PSS)_1'!AA59='PSS References'!$N$23,'Project Summary Sheet (PSS)_1'!AB59*'PSS Savings Check_1'!$AC$9,IF('Project Summary Sheet (PSS)_1'!AA59='PSS References'!$N$24,'Project Summary Sheet (PSS)_1'!AB59*'PSS Savings Check_1'!$AE$9,IF('Project Summary Sheet (PSS)_1'!AA59='PSS References'!$N$25,'Project Summary Sheet (PSS)_1'!AB59*'PSS Savings Check_1'!$AG$9,IF('Project Summary Sheet (PSS)_1'!AA59='PSS References'!$N$17,\"Can't be 'Multiple'\",))))))))),\"-\")))","v":""},"",{"$f":"IF('Project Summary Sheet (PSS)_1'!L59=\"\",\"\",'Project Summary Sheet (PSS)_1'!L59)","v":""},""]
[{"$f":"IF('Project Summary Sheet (PSS)_1'!B60=\"\",\"\",'Project Summary Sheet (PSS)_1'!B60)","v":""},{"$f":"IF('Project Summary Sheet (PSS)_1'!C60=\"\",\"\",'Project Summary Sheet (PSS)_1'!C60)","v":""},{"$f":"IFERROR(VLOOKUP(A40,'Project Summary Sheet (PSS)_1'!$B$23:$Q$75,6,FALSE)/'Project Summary Sheet (PSS)_1'!$D$17,\"\")","v":""},{"$f":"IFERROR(VLOOKUP(A40,'Project Summary Sheet (PSS)_1'!$B$23:$Q$75,9,FALSE)/('Project Summary Sheet (PSS)_1'!$T$17-('Project Summary Sheet (PSS)_1'!$D$17*'PSS References'!$E$11)),\"\")","v":""},{"$f":"IFERROR(((VLOOKUP(A40,'Project Summary Sheet (PSS)_1'!$B$23:$Q$75,6,FALSE)*'PSS References'!$E$11)+VLOOKUP(A40,'Project Summary Sheet (PSS)_1'!$B$23:$Q$75,9,FALSE))/'Project Summary Sheet (PSS)_1'!$T$17,\"\")","v":""},{"$f":"IF(A40=\"\",\"\",IF(M40<0,IF(OR(M40<'Project Summary Sheet (PSS)_1'!L60*1.1,M40>'Project Summary Sheet (PSS)_1'!L60*0.9),\"Check Rates\",\"Rate OK\"),IF(OR(M40>'Project Summary Sheet (PSS)_1'!L60*1.1,M40<'Project Summary Sheet (PSS)_1'!L60*0.9),\"Check Rates\",\"Rate OK\")))","v":""},{"$f":"IF(A40=\"\",\"\",'Project Summary Sheet (PSS)_1'!G60*'Project Summary Sheet (PSS)_1'!$E$18)","v":""},{"$f":"IF(A40=\"\",\"\",IF('Project Summary Sheet (PSS)_1'!$F$18<>\"\",('Project Summary Sheet (PSS)_1'!H60*'Project Summary Sheet (PSS)_1'!$F$18),0))","v":""},{"$f":"IF(A40=\"\",\"\",IF('Project Summary Sheet (PSS)_1'!I60=\"\",\"-\",IF('Project Summary Sheet (PSS)_1'!I60='PSS References'!$N$18,'Project Summary Sheet (PSS)_1'!J60*'PSS Savings Check_1'!$W$9,IF('Project Summary Sheet (PSS)_1'!I60='PSS References'!$N$19,'Project Summary Sheet (PSS)_1'!J60*'PSS Savings Check_1'!$AA$9,IF('Project Summary Sheet (PSS)_1'!I60='PSS References'!$N$20,'Project Summary Sheet (PSS)_1'!J60*'PSS Savings Check_1'!$Y$9,IF('Project Summary Sheet (PSS)_1'!I60='PSS References'!$N$21,'Project Summary Sheet (PSS)_1'!J60*'PSS Savings Check_1'!$Y$9,IF('Project Summary Sheet (PSS)_1'!I60='PSS References'!$N$22,'Project Summary Sheet (PSS)_1'!J60*'PSS Savings Check_1'!$Y$9,IF('Project Summary Sheet (PSS)_1'!I60='PSS References'!$N$23,'Project Summary Sheet (PSS)_1'!J60*'PSS Savings Check_1'!$AC$9,IF('Project Summary Sheet (PSS)_1'!I60='PSS References'!$N$24,'Project Summary Sheet (PSS)_1'!J60*'PSS Savings Check_1'!$AE$9,IF('Project Summary Sheet (PSS)_1'!I60='PSS References'!$N$25,'Project Summary Sheet (PSS)_1'!J60*'PSS Savings Check_1'!$AG$9,IF('Project Summary Sheet (PSS)_1'!I60='PSS References'!$N$17,\"-\")))))))))))","v":""},{"$f":"IF(A40=\"\",\"\",IF('Project Summary Sheet (PSS)_1'!I60=\"\",\"-\",IF('Project Summary Sheet (PSS)_1'!I60='PSS References'!$N$17,IF('Project Summary Sheet (PSS)_1'!W60='PSS References'!$N$18,'Project Summary Sheet (PSS)_1'!X60*'PSS Savings Check_1'!$W$9,IF('Project Summary Sheet (PSS)_1'!W60='PSS References'!$N$19,'Project Summary Sheet (PSS)_1'!X60*'PSS Savings Check_1'!$AA$9,IF('Project Summary Sheet (PSS)_1'!W60='PSS References'!$N$20,'Project Summary Sheet (PSS)_1'!X60*'PSS Savings Check_1'!$Y$9,IF('Project Summary Sheet (PSS)_1'!W60='PSS References'!$N$21,'Project Summary Sheet (PSS)_1'!X60*'PSS Savings Check_1'!$Y$9,IF('Project Summary Sheet (PSS)_1'!W60='PSS References'!$N$22,'Project Summary Sheet (PSS)_1'!X60*'PSS Savings Check_1'!$Y$9,IF('Project Summary Sheet (PSS)_1'!W60='PSS References'!$N$23,'Project Summary Sheet (PSS)_1'!X60*'PSS Savings Check_1'!$AC$9,IF('Project Summary Sheet (PSS)_1'!W60='PSS References'!$N$24,'Project Summary Sheet (PSS)_1'!X60*'PSS Savings Check_1'!$AE$9,IF('Project Summary Sheet (PSS)_1'!W60='PSS References'!$N$25,'Project Summary Sheet (PSS)_1'!X60*'PSS Savings Check_1'!$AG$9,IF('Project Summary Sheet (PSS)_1'!W60='PSS References'!$N$17,\"Can't be 'Multiple'\",))))))))),\"-\")))","v":""},{"$f":"IF(A40=\"\",\"\",IF('Project Summary Sheet (PSS)_1'!I60=\"\",\"-\",IF('Project Summary Sheet (PSS)_1'!I60='PSS References'!$N$17,IF('Project Summary Sheet (PSS)_1'!Y60='PSS References'!$N$18,'Project Summary Sheet (PSS)_1'!Z60*'PSS Savings Check_1'!$W$9,IF('Project Summary Sheet (PSS)_1'!Y60='PSS References'!$N$19,'Project Summary Sheet (PSS)_1'!Z60*'PSS Savings Check_1'!$AA$9,IF('Project Summary Sheet (PSS)_1'!Y60='PSS References'!$N$20,'Project Summary Sheet (PSS)_1'!Z60*'PSS Savings Check_1'!$Y$9,IF('Project Summary Sheet (PSS)_1'!Y60='PSS References'!$N$21,'Project Summary Sheet (PSS)_1'!Z60*'PSS Savings Check_1'!$Y$9,IF('Project Summary Sheet (PSS)_1'!Y60='PSS References'!$N$22,'Project Summary Sheet (PSS)_1'!Z60*'PSS Savings Check_1'!$Y$9,IF('Project Summary Sheet (PSS)_1'!Y60='PSS References'!$N$23,'Project Summary Sheet (PSS)_1'!Z60*'PSS Savings Check_1'!$AC$9,IF('Project Summary Sheet (PSS)_1'!Y60='PSS References'!$N$24,'Project Summary Sheet (PSS)_1'!Z60*'PSS Savings Check_1'!$AE$9,IF('Project Summary Sheet (PSS)_1'!Y60='PSS References'!$N$25,'Project Summary Sheet (PSS)_1'!Z60*'PSS Savings Check_1'!$AG$9,IF('Project Summary Sheet (PSS)_1'!Y60='PSS References'!$N$17,\"Can't be 'Multiple'\",))))))))),\"-\")))","v":""},{"$f":"IF(A40=\"\",\"\",IF('Project Summary Sheet (PSS)_1'!I60=\"\",\"-\",IF('Project Summary Sheet (PSS)_1'!I60='PSS References'!$N$17,IF('Project Summary Sheet (PSS)_1'!AA60='PSS References'!$N$18,'Project Summary Sheet (PSS)_1'!AB60*'PSS Savings Check_1'!$W$9,IF('Project Summary Sheet (PSS)_1'!AA60='PSS References'!N53,'Project Summary Sheet (PSS)_1'!AB60*'PSS Savings Check_1'!$AA$9,IF('Project Summary Sheet (PSS)_1'!AA60='PSS References'!$N$20,'Project Summary Sheet (PSS)_1'!AB60*'PSS Savings Check_1'!$Y$9,IF('Project Summary Sheet (PSS)_1'!AA60='PSS References'!$N$21,'Project Summary Sheet (PSS)_1'!AB60*'PSS Savings Check_1'!$Y$9,IF('Project Summary Sheet (PSS)_1'!AA60='PSS References'!$N$22,'Project Summary Sheet (PSS)_1'!AB60*'PSS Savings Check_1'!$Y$9,IF('Project Summary Sheet (PSS)_1'!AA60='PSS References'!$N$23,'Project Summary Sheet (PSS)_1'!AB60*'PSS Savings Check_1'!$AC$9,IF('Project Summary Sheet (PSS)_1'!AA60='PSS References'!$N$24,'Project Summary Sheet (PSS)_1'!AB60*'PSS Savings Check_1'!$AE$9,IF('Project Summary Sheet (PSS)_1'!AA60='PSS References'!$N$25,'Project Summary Sheet (PSS)_1'!AB60*'PSS Savings Check_1'!$AG$9,IF('Project Summary Sheet (PSS)_1'!AA60='PSS References'!$N$17,\"Can't be 'Multiple'\",))))))))),\"-\")))","v":""},"",{"$f":"IF('Project Summary Sheet (PSS)_1'!L60=\"\",\"\",'Project Summary Sheet (PSS)_1'!L60)","v":""},""]
[{"$f":"IF('Project Summary Sheet (PSS)_1'!B61=\"\",\"\",'Project Summary Sheet (PSS)_1'!B61)","v":""},{"$f":"IF('Project Summary Sheet (PSS)_1'!C61=\"\",\"\",'Project Summary Sheet (PSS)_1'!C61)","v":""},{"$f":"IFERROR(VLOOKUP(A41,'Project Summary Sheet (PSS)_1'!$B$23:$Q$75,6,FALSE)/'Project Summary Sheet (PSS)_1'!$D$17,\"\")","v":""},{"$f":"IFERROR(VLOOKUP(A41,'Project Summary Sheet (PSS)_1'!$B$23:$Q$75,9,FALSE)/('Project Summary Sheet (PSS)_1'!$T$17-('Project Summary Sheet (PSS)_1'!$D$17*'PSS References'!$E$11)),\"\")","v":""},{"$f":"IFERROR(((VLOOKUP(A41,'Project Summary Sheet (PSS)_1'!$B$23:$Q$75,6,FALSE)*'PSS References'!$E$11)+VLOOKUP(A41,'Project Summary Sheet (PSS)_1'!$B$23:$Q$75,9,FALSE))/'Project Summary Sheet (PSS)_1'!$T$17,\"\")","v":""},{"$f":"IF(A41=\"\",\"\",IF(M41<0,IF(OR(M41<'Project Summary Sheet (PSS)_1'!L61*1.1,M41>'Project Summary Sheet (PSS)_1'!L61*0.9),\"Check Rates\",\"Rate OK\"),IF(OR(M41>'Project Summary Sheet (PSS)_1'!L61*1.1,M41<'Project Summary Sheet (PSS)_1'!L61*0.9),\"Check Rates\",\"Rate OK\")))","v":""},{"$f":"IF(A41=\"\",\"\",'Project Summary Sheet (PSS)_1'!G61*'Project Summary Sheet (PSS)_1'!$E$18)","v":""},{"$f":"IF(A41=\"\",\"\",IF('Project Summary Sheet (PSS)_1'!$F$18<>\"\",('Project Summary Sheet (PSS)_1'!H61*'Project Summary Sheet (PSS)_1'!$F$18),0))","v":""},{"$f":"IF(A41=\"\",\"\",IF('Project Summary Sheet (PSS)_1'!I61=\"\",\"-\",IF('Project Summary Sheet (PSS)_1'!I61='PSS References'!$N$18,'Project Summary Sheet (PSS)_1'!J61*'PSS Savings Check_1'!$W$9,IF('Project Summary Sheet (PSS)_1'!I61='PSS References'!$N$19,'Project Summary Sheet (PSS)_1'!J61*'PSS Savings Check_1'!$AA$9,IF('Project Summary Sheet (PSS)_1'!I61='PSS References'!$N$20,'Project Summary Sheet (PSS)_1'!J61*'PSS Savings Check_1'!$Y$9,IF('Project Summary Sheet (PSS)_1'!I61='PSS References'!$N$21,'Project Summary Sheet (PSS)_1'!J61*'PSS Savings Check_1'!$Y$9,IF('Project Summary Sheet (PSS)_1'!I61='PSS References'!$N$22,'Project Summary Sheet (PSS)_1'!J61*'PSS Savings Check_1'!$Y$9,IF('Project Summary Sheet (PSS)_1'!I61='PSS References'!$N$23,'Project Summary Sheet (PSS)_1'!J61*'PSS Savings Check_1'!$AC$9,IF('Project Summary Sheet (PSS)_1'!I61='PSS References'!$N$24,'Project Summary Sheet (PSS)_1'!J61*'PSS Savings Check_1'!$AE$9,IF('Project Summary Sheet (PSS)_1'!I61='PSS References'!$N$25,'Project Summary Sheet (PSS)_1'!J61*'PSS Savings Check_1'!$AG$9,IF('Project Summary Sheet (PSS)_1'!I61='PSS References'!$N$17,\"-\")))))))))))","v":""},{"$f":"IF(A41=\"\",\"\",IF('Project Summary Sheet (PSS)_1'!I61=\"\",\"-\",IF('Project Summary Sheet (PSS)_1'!I61='PSS References'!$N$17,IF('Project Summary Sheet (PSS)_1'!W61='PSS References'!$N$18,'Project Summary Sheet (PSS)_1'!X61*'PSS Savings Check_1'!$W$9,IF('Project Summary Sheet (PSS)_1'!W61='PSS References'!$N$19,'Project Summary Sheet (PSS)_1'!X61*'PSS Savings Check_1'!$AA$9,IF('Project Summary Sheet (PSS)_1'!W61='PSS References'!$N$20,'Project Summary Sheet (PSS)_1'!X61*'PSS Savings Check_1'!$Y$9,IF('Project Summary Sheet (PSS)_1'!W61='PSS References'!$N$21,'Project Summary Sheet (PSS)_1'!X61*'PSS Savings Check_1'!$Y$9,IF('Project Summary Sheet (PSS)_1'!W61='PSS References'!$N$22,'Project Summary Sheet (PSS)_1'!X61*'PSS Savings Check_1'!$Y$9,IF('Project Summary Sheet (PSS)_1'!W61='PSS References'!$N$23,'Project Summary Sheet (PSS)_1'!X61*'PSS Savings Check_1'!$AC$9,IF('Project Summary Sheet (PSS)_1'!W61='PSS References'!$N$24,'Project Summary Sheet (PSS)_1'!X61*'PSS Savings Check_1'!$AE$9,IF('Project Summary Sheet (PSS)_1'!W61='PSS References'!$N$25,'Project Summary Sheet (PSS)_1'!X61*'PSS Savings Check_1'!$AG$9,IF('Project Summary Sheet (PSS)_1'!W61='PSS References'!$N$17,\"Can't be 'Multiple'\",))))))))),\"-\")))","v":""},{"$f":"IF(A41=\"\",\"\",IF('Project Summary Sheet (PSS)_1'!I61=\"\",\"-\",IF('Project Summary Sheet (PSS)_1'!I61='PSS References'!$N$17,IF('Project Summary Sheet (PSS)_1'!Y61='PSS References'!$N$18,'Project Summary Sheet (PSS)_1'!Z61*'PSS Savings Check_1'!$W$9,IF('Project Summary Sheet (PSS)_1'!Y61='PSS References'!$N$19,'Project Summary Sheet (PSS)_1'!Z61*'PSS Savings Check_1'!$AA$9,IF('Project Summary Sheet (PSS)_1'!Y61='PSS References'!$N$20,'Project Summary Sheet (PSS)_1'!Z61*'PSS Savings Check_1'!$Y$9,IF('Project Summary Sheet (PSS)_1'!Y61='PSS References'!$N$21,'Project Summary Sheet (PSS)_1'!Z61*'PSS Savings Check_1'!$Y$9,IF('Project Summary Sheet (PSS)_1'!Y61='PSS References'!$N$22,'Project Summary Sheet (PSS)_1'!Z61*'PSS Savings Check_1'!$Y$9,IF('Project Summary Sheet (PSS)_1'!Y61='PSS References'!$N$23,'Project Summary Sheet (PSS)_1'!Z61*'PSS Savings Check_1'!$AC$9,IF('Project Summary Sheet (PSS)_1'!Y61='PSS References'!$N$24,'Project Summary Sheet (PSS)_1'!Z61*'PSS Savings Check_1'!$AE$9,IF('Project Summary Sheet (PSS)_1'!Y61='PSS References'!$N$25,'Project Summary Sheet (PSS)_1'!Z61*'PSS Savings Check_1'!$AG$9,IF('Project Summary Sheet (PSS)_1'!Y61='PSS References'!$N$17,\"Can't be 'Multiple'\",))))))))),\"-\")))","v":""},{"$f":"IF(A41=\"\",\"\",IF('Project Summary Sheet (PSS)_1'!I61=\"\",\"-\",IF('Project Summary Sheet (PSS)_1'!I61='PSS References'!$N$17,IF('Project Summary Sheet (PSS)_1'!AA61='PSS References'!$N$18,'Project Summary Sheet (PSS)_1'!AB61*'PSS Savings Check_1'!$W$9,IF('Project Summary Sheet (PSS)_1'!AA61='PSS References'!N54,'Project Summary Sheet (PSS)_1'!AB61*'PSS Savings Check_1'!$AA$9,IF('Project Summary Sheet (PSS)_1'!AA61='PSS References'!$N$20,'Project Summary Sheet (PSS)_1'!AB61*'PSS Savings Check_1'!$Y$9,IF('Project Summary Sheet (PSS)_1'!AA61='PSS References'!$N$21,'Project Summary Sheet (PSS)_1'!AB61*'PSS Savings Check_1'!$Y$9,IF('Project Summary Sheet (PSS)_1'!AA61='PSS References'!$N$22,'Project Summary Sheet (PSS)_1'!AB61*'PSS Savings Check_1'!$Y$9,IF('Project Summary Sheet (PSS)_1'!AA61='PSS References'!$N$23,'Project Summary Sheet (PSS)_1'!AB61*'PSS Savings Check_1'!$AC$9,IF('Project Summary Sheet (PSS)_1'!AA61='PSS References'!$N$24,'Project Summary Sheet (PSS)_1'!AB61*'PSS Savings Check_1'!$AE$9,IF('Project Summary Sheet (PSS)_1'!AA61='PSS References'!$N$25,'Project Summary Sheet (PSS)_1'!AB61*'PSS Savings Check_1'!$AG$9,IF('Project Summary Sheet (PSS)_1'!AA61='PSS References'!$N$17,\"Can't be 'Multiple'\",))))))))),\"-\")))","v":""},"",{"$f":"IF('Project Summary Sheet (PSS)_1'!L61=\"\",\"\",'Project Summary Sheet (PSS)_1'!L61)","v":""},""]
[{"$f":"IF('Project Summary Sheet (PSS)_1'!B62=\"\",\"\",'Project Summary Sheet (PSS)_1'!B62)","v":""},{"$f":"IF('Project Summary Sheet (PSS)_1'!C62=\"\",\"\",'Project Summary Sheet (PSS)_1'!C62)","v":""},{"$f":"IFERROR(VLOOKUP(A42,'Project Summary Sheet (PSS)_1'!$B$23:$Q$75,6,FALSE)/'Project Summary Sheet (PSS)_1'!$D$17,\"\")","v":""},{"$f":"IFERROR(VLOOKUP(A42,'Project Summary Sheet (PSS)_1'!$B$23:$Q$75,9,FALSE)/('Project Summary Sheet (PSS)_1'!$T$17-('Project Summary Sheet (PSS)_1'!$D$17*'PSS References'!$E$11)),\"\")","v":""},{"$f":"IFERROR(((VLOOKUP(A42,'Project Summary Sheet (PSS)_1'!$B$23:$Q$75,6,FALSE)*'PSS References'!$E$11)+VLOOKUP(A42,'Project Summary Sheet (PSS)_1'!$B$23:$Q$75,9,FALSE))/'Project Summary Sheet (PSS)_1'!$T$17,\"\")","v":""},{"$f":"IF(A42=\"\",\"\",IF(M42<0,IF(OR(M42<'Project Summary Sheet (PSS)_1'!L62*1.1,M42>'Project Summary Sheet (PSS)_1'!L62*0.9),\"Check Rates\",\"Rate OK\"),IF(OR(M42>'Project Summary Sheet (PSS)_1'!L62*1.1,M42<'Project Summary Sheet (PSS)_1'!L62*0.9),\"Check Rates\",\"Rate OK\")))","v":""},{"$f":"IF(A42=\"\",\"\",'Project Summary Sheet (PSS)_1'!G62*'Project Summary Sheet (PSS)_1'!$E$18)","v":""},{"$f":"IF(A42=\"\",\"\",IF('Project Summary Sheet (PSS)_1'!$F$18<>\"\",('Project Summary Sheet (PSS)_1'!H62*'Project Summary Sheet (PSS)_1'!$F$18),0))","v":""},{"$f":"IF(A42=\"\",\"\",IF('Project Summary Sheet (PSS)_1'!I62=\"\",\"-\",IF('Project Summary Sheet (PSS)_1'!I62='PSS References'!$N$18,'Project Summary Sheet (PSS)_1'!J62*'PSS Savings Check_1'!$W$9,IF('Project Summary Sheet (PSS)_1'!I62='PSS References'!$N$19,'Project Summary Sheet (PSS)_1'!J62*'PSS Savings Check_1'!$AA$9,IF('Project Summary Sheet (PSS)_1'!I62='PSS References'!$N$20,'Project Summary Sheet (PSS)_1'!J62*'PSS Savings Check_1'!$Y$9,IF('Project Summary Sheet (PSS)_1'!I62='PSS References'!$N$21,'Project Summary Sheet (PSS)_1'!J62*'PSS Savings Check_1'!$Y$9,IF('Project Summary Sheet (PSS)_1'!I62='PSS References'!$N$22,'Project Summary Sheet (PSS)_1'!J62*'PSS Savings Check_1'!$Y$9,IF('Project Summary Sheet (PSS)_1'!I62='PSS References'!$N$23,'Project Summary Sheet (PSS)_1'!J62*'PSS Savings Check_1'!$AC$9,IF('Project Summary Sheet (PSS)_1'!I62='PSS References'!$N$24,'Project Summary Sheet (PSS)_1'!J62*'PSS Savings Check_1'!$AE$9,IF('Project Summary Sheet (PSS)_1'!I62='PSS References'!$N$25,'Project Summary Sheet (PSS)_1'!J62*'PSS Savings Check_1'!$AG$9,IF('Project Summary Sheet (PSS)_1'!I62='PSS References'!$N$17,\"-\")))))))))))","v":""},{"$f":"IF(A42=\"\",\"\",IF('Project Summary Sheet (PSS)_1'!I62=\"\",\"-\",IF('Project Summary Sheet (PSS)_1'!I62='PSS References'!$N$17,IF('Project Summary Sheet (PSS)_1'!W62='PSS References'!$N$18,'Project Summary Sheet (PSS)_1'!X62*'PSS Savings Check_1'!$W$9,IF('Project Summary Sheet (PSS)_1'!W62='PSS References'!$N$19,'Project Summary Sheet (PSS)_1'!X62*'PSS Savings Check_1'!$AA$9,IF('Project Summary Sheet (PSS)_1'!W62='PSS References'!$N$20,'Project Summary Sheet (PSS)_1'!X62*'PSS Savings Check_1'!$Y$9,IF('Project Summary Sheet (PSS)_1'!W62='PSS References'!$N$21,'Project Summary Sheet (PSS)_1'!X62*'PSS Savings Check_1'!$Y$9,IF('Project Summary Sheet (PSS)_1'!W62='PSS References'!$N$22,'Project Summary Sheet (PSS)_1'!X62*'PSS Savings Check_1'!$Y$9,IF('Project Summary Sheet (PSS)_1'!W62='PSS References'!$N$23,'Project Summary Sheet (PSS)_1'!X62*'PSS Savings Check_1'!$AC$9,IF('Project Summary Sheet (PSS)_1'!W62='PSS References'!$N$24,'Project Summary Sheet (PSS)_1'!X62*'PSS Savings Check_1'!$AE$9,IF('Project Summary Sheet (PSS)_1'!W62='PSS References'!$N$25,'Project Summary Sheet (PSS)_1'!X62*'PSS Savings Check_1'!$AG$9,IF('Project Summary Sheet (PSS)_1'!W62='PSS References'!$N$17,\"Can't be 'Multiple'\",))))))))),\"-\")))","v":""},{"$f":"IF(A42=\"\",\"\",IF('Project Summary Sheet (PSS)_1'!I62=\"\",\"-\",IF('Project Summary Sheet (PSS)_1'!I62='PSS References'!$N$17,IF('Project Summary Sheet (PSS)_1'!Y62='PSS References'!$N$18,'Project Summary Sheet (PSS)_1'!Z62*'PSS Savings Check_1'!$W$9,IF('Project Summary Sheet (PSS)_1'!Y62='PSS References'!$N$19,'Project Summary Sheet (PSS)_1'!Z62*'PSS Savings Check_1'!$AA$9,IF('Project Summary Sheet (PSS)_1'!Y62='PSS References'!$N$20,'Project Summary Sheet (PSS)_1'!Z62*'PSS Savings Check_1'!$Y$9,IF('Project Summary Sheet (PSS)_1'!Y62='PSS References'!$N$21,'Project Summary Sheet (PSS)_1'!Z62*'PSS Savings Check_1'!$Y$9,IF('Project Summary Sheet (PSS)_1'!Y62='PSS References'!$N$22,'Project Summary Sheet (PSS)_1'!Z62*'PSS Savings Check_1'!$Y$9,IF('Project Summary Sheet (PSS)_1'!Y62='PSS References'!$N$23,'Project Summary Sheet (PSS)_1'!Z62*'PSS Savings Check_1'!$AC$9,IF('Project Summary Sheet (PSS)_1'!Y62='PSS References'!$N$24,'Project Summary Sheet (PSS)_1'!Z62*'PSS Savings Check_1'!$AE$9,IF('Project Summary Sheet (PSS)_1'!Y62='PSS References'!$N$25,'Project Summary Sheet (PSS)_1'!Z62*'PSS Savings Check_1'!$AG$9,IF('Project Summary Sheet (PSS)_1'!Y62='PSS References'!$N$17,\"Can't be 'Multiple'\",))))))))),\"-\")))","v":""},{"$f":"IF(A42=\"\",\"\",IF('Project Summary Sheet (PSS)_1'!I62=\"\",\"-\",IF('Project Summary Sheet (PSS)_1'!I62='PSS References'!$N$17,IF('Project Summary Sheet (PSS)_1'!AA62='PSS References'!$N$18,'Project Summary Sheet (PSS)_1'!AB62*'PSS Savings Check_1'!$W$9,IF('Project Summary Sheet (PSS)_1'!AA62='PSS References'!N55,'Project Summary Sheet (PSS)_1'!AB62*'PSS Savings Check_1'!$AA$9,IF('Project Summary Sheet (PSS)_1'!AA62='PSS References'!$N$20,'Project Summary Sheet (PSS)_1'!AB62*'PSS Savings Check_1'!$Y$9,IF('Project Summary Sheet (PSS)_1'!AA62='PSS References'!$N$21,'Project Summary Sheet (PSS)_1'!AB62*'PSS Savings Check_1'!$Y$9,IF('Project Summary Sheet (PSS)_1'!AA62='PSS References'!$N$22,'Project Summary Sheet (PSS)_1'!AB62*'PSS Savings Check_1'!$Y$9,IF('Project Summary Sheet (PSS)_1'!AA62='PSS References'!$N$23,'Project Summary Sheet (PSS)_1'!AB62*'PSS Savings Check_1'!$AC$9,IF('Project Summary Sheet (PSS)_1'!AA62='PSS References'!$N$24,'Project Summary Sheet (PSS)_1'!AB62*'PSS Savings Check_1'!$AE$9,IF('Project Summary Sheet (PSS)_1'!AA62='PSS References'!$N$25,'Project Summary Sheet (PSS)_1'!AB62*'PSS Savings Check_1'!$AG$9,IF('Project Summary Sheet (PSS)_1'!AA62='PSS References'!$N$17,\"Can't be 'Multiple'\",))))))))),\"-\")))","v":""},"",{"$f":"IF('Project Summary Sheet (PSS)_1'!L62=\"\",\"\",'Project Summary Sheet (PSS)_1'!L62)","v":""},""]
[{"$f":"IF('Project Summary Sheet (PSS)_1'!B63=\"\",\"\",'Project Summary Sheet (PSS)_1'!B63)","v":""},{"$f":"IF('Project Summary Sheet (PSS)_1'!C63=\"\",\"\",'Project Summary Sheet (PSS)_1'!C63)","v":""},{"$f":"IFERROR(VLOOKUP(A43,'Project Summary Sheet (PSS)_1'!$B$23:$Q$75,6,FALSE)/'Project Summary Sheet (PSS)_1'!$D$17,\"\")","v":""},{"$f":"IFERROR(VLOOKUP(A43,'Project Summary Sheet (PSS)_1'!$B$23:$Q$75,9,FALSE)/('Project Summary Sheet (PSS)_1'!$T$17-('Project Summary Sheet (PSS)_1'!$D$17*'PSS References'!$E$11)),\"\")","v":""},{"$f":"IFERROR(((VLOOKUP(A43,'Project Summary Sheet (PSS)_1'!$B$23:$Q$75,6,FALSE)*'PSS References'!$E$11)+VLOOKUP(A43,'Project Summary Sheet (PSS)_1'!$B$23:$Q$75,9,FALSE))/'Project Summary Sheet (PSS)_1'!$T$17,\"\")","v":""},{"$f":"IF(A43=\"\",\"\",IF(M43<0,IF(OR(M43<'Project Summary Sheet (PSS)_1'!L63*1.1,M43>'Project Summary Sheet (PSS)_1'!L63*0.9),\"Check Rates\",\"Rate OK\"),IF(OR(M43>'Project Summary Sheet (PSS)_1'!L63*1.1,M43<'Project Summary Sheet (PSS)_1'!L63*0.9),\"Check Rates\",\"Rate OK\")))","v":""},{"$f":"IF(A43=\"\",\"\",'Project Summary Sheet (PSS)_1'!G63*'Project Summary Sheet (PSS)_1'!$E$18)","v":""},{"$f":"IF(A43=\"\",\"\",IF('Project Summary Sheet (PSS)_1'!$F$18<>\"\",('Project Summary Sheet (PSS)_1'!H63*'Project Summary Sheet (PSS)_1'!$F$18),0))","v":""},{"$f":"IF(A43=\"\",\"\",IF('Project Summary Sheet (PSS)_1'!I63=\"\",\"-\",IF('Project Summary Sheet (PSS)_1'!I63='PSS References'!$N$18,'Project Summary Sheet (PSS)_1'!J63*'PSS Savings Check_1'!$W$9,IF('Project Summary Sheet (PSS)_1'!I63='PSS References'!$N$19,'Project Summary Sheet (PSS)_1'!J63*'PSS Savings Check_1'!$AA$9,IF('Project Summary Sheet (PSS)_1'!I63='PSS References'!$N$20,'Project Summary Sheet (PSS)_1'!J63*'PSS Savings Check_1'!$Y$9,IF('Project Summary Sheet (PSS)_1'!I63='PSS References'!$N$21,'Project Summary Sheet (PSS)_1'!J63*'PSS Savings Check_1'!$Y$9,IF('Project Summary Sheet (PSS)_1'!I63='PSS References'!$N$22,'Project Summary Sheet (PSS)_1'!J63*'PSS Savings Check_1'!$Y$9,IF('Project Summary Sheet (PSS)_1'!I63='PSS References'!$N$23,'Project Summary Sheet (PSS)_1'!J63*'PSS Savings Check_1'!$AC$9,IF('Project Summary Sheet (PSS)_1'!I63='PSS References'!$N$24,'Project Summary Sheet (PSS)_1'!J63*'PSS Savings Check_1'!$AE$9,IF('Project Summary Sheet (PSS)_1'!I63='PSS References'!$N$25,'Project Summary Sheet (PSS)_1'!J63*'PSS Savings Check_1'!$AG$9,IF('Project Summary Sheet (PSS)_1'!I63='PSS References'!$N$17,\"-\")))))))))))","v":""},{"$f":"IF(A43=\"\",\"\",IF('Project Summary Sheet (PSS)_1'!I63=\"\",\"-\",IF('Project Summary Sheet (PSS)_1'!I63='PSS References'!$N$17,IF('Project Summary Sheet (PSS)_1'!W63='PSS References'!$N$18,'Project Summary Sheet (PSS)_1'!X63*'PSS Savings Check_1'!$W$9,IF('Project Summary Sheet (PSS)_1'!W63='PSS References'!$N$19,'Project Summary Sheet (PSS)_1'!X63*'PSS Savings Check_1'!$AA$9,IF('Project Summary Sheet (PSS)_1'!W63='PSS References'!$N$20,'Project Summary Sheet (PSS)_1'!X63*'PSS Savings Check_1'!$Y$9,IF('Project Summary Sheet (PSS)_1'!W63='PSS References'!$N$21,'Project Summary Sheet (PSS)_1'!X63*'PSS Savings Check_1'!$Y$9,IF('Project Summary Sheet (PSS)_1'!W63='PSS References'!$N$22,'Project Summary Sheet (PSS)_1'!X63*'PSS Savings Check_1'!$Y$9,IF('Project Summary Sheet (PSS)_1'!W63='PSS References'!$N$23,'Project Summary Sheet (PSS)_1'!X63*'PSS Savings Check_1'!$AC$9,IF('Project Summary Sheet (PSS)_1'!W63='PSS References'!$N$24,'Project Summary Sheet (PSS)_1'!X63*'PSS Savings Check_1'!$AE$9,IF('Project Summary Sheet (PSS)_1'!W63='PSS References'!$N$25,'Project Summary Sheet (PSS)_1'!X63*'PSS Savings Check_1'!$AG$9,IF('Project Summary Sheet (PSS)_1'!W63='PSS References'!$N$17,\"Can't be 'Multiple'\",))))))))),\"-\")))","v":""},{"$f":"IF(A43=\"\",\"\",IF('Project Summary Sheet (PSS)_1'!I63=\"\",\"-\",IF('Project Summary Sheet (PSS)_1'!I63='PSS References'!$N$17,IF('Project Summary Sheet (PSS)_1'!Y63='PSS References'!$N$18,'Project Summary Sheet (PSS)_1'!Z63*'PSS Savings Check_1'!$W$9,IF('Project Summary Sheet (PSS)_1'!Y63='PSS References'!$N$19,'Project Summary Sheet (PSS)_1'!Z63*'PSS Savings Check_1'!$AA$9,IF('Project Summary Sheet (PSS)_1'!Y63='PSS References'!$N$20,'Project Summary Sheet (PSS)_1'!Z63*'PSS Savings Check_1'!$Y$9,IF('Project Summary Sheet (PSS)_1'!Y63='PSS References'!$N$21,'Project Summary Sheet (PSS)_1'!Z63*'PSS Savings Check_1'!$Y$9,IF('Project Summary Sheet (PSS)_1'!Y63='PSS References'!$N$22,'Project Summary Sheet (PSS)_1'!Z63*'PSS Savings Check_1'!$Y$9,IF('Project Summary Sheet (PSS)_1'!Y63='PSS References'!$N$23,'Project Summary Sheet (PSS)_1'!Z63*'PSS Savings Check_1'!$AC$9,IF('Project Summary Sheet (PSS)_1'!Y63='PSS References'!$N$24,'Project Summary Sheet (PSS)_1'!Z63*'PSS Savings Check_1'!$AE$9,IF('Project Summary Sheet (PSS)_1'!Y63='PSS References'!$N$25,'Project Summary Sheet (PSS)_1'!Z63*'PSS Savings Check_1'!$AG$9,IF('Project Summary Sheet (PSS)_1'!Y63='PSS References'!$N$17,\"Can't be 'Multiple'\",))))))))),\"-\")))","v":""},{"$f":"IF(A43=\"\",\"\",IF('Project Summary Sheet (PSS)_1'!I63=\"\",\"-\",IF('Project Summary Sheet (PSS)_1'!I63='PSS References'!$N$17,IF('Project Summary Sheet (PSS)_1'!AA63='PSS References'!$N$18,'Project Summary Sheet (PSS)_1'!AB63*'PSS Savings Check_1'!$W$9,IF('Project Summary Sheet (PSS)_1'!AA63='PSS References'!N56,'Project Summary Sheet (PSS)_1'!AB63*'PSS Savings Check_1'!$AA$9,IF('Project Summary Sheet (PSS)_1'!AA63='PSS References'!$N$20,'Project Summary Sheet (PSS)_1'!AB63*'PSS Savings Check_1'!$Y$9,IF('Project Summary Sheet (PSS)_1'!AA63='PSS References'!$N$21,'Project Summary Sheet (PSS)_1'!AB63*'PSS Savings Check_1'!$Y$9,IF('Project Summary Sheet (PSS)_1'!AA63='PSS References'!$N$22,'Project Summary Sheet (PSS)_1'!AB63*'PSS Savings Check_1'!$Y$9,IF('Project Summary Sheet (PSS)_1'!AA63='PSS References'!$N$23,'Project Summary Sheet (PSS)_1'!AB63*'PSS Savings Check_1'!$AC$9,IF('Project Summary Sheet (PSS)_1'!AA63='PSS References'!$N$24,'Project Summary Sheet (PSS)_1'!AB63*'PSS Savings Check_1'!$AE$9,IF('Project Summary Sheet (PSS)_1'!AA63='PSS References'!$N$25,'Project Summary Sheet (PSS)_1'!AB63*'PSS Savings Check_1'!$AG$9,IF('Project Summary Sheet (PSS)_1'!AA63='PSS References'!$N$17,\"Can't be 'Multiple'\",))))))))),\"-\")))","v":""},"",{"$f":"IF('Project Summary Sheet (PSS)_1'!L63=\"\",\"\",'Project Summary Sheet (PSS)_1'!L63)","v":""},""]
[{"$f":"IF('Project Summary Sheet (PSS)_1'!B64=\"\",\"\",'Project Summary Sheet (PSS)_1'!B64)","v":""},{"$f":"IF('Project Summary Sheet (PSS)_1'!C64=\"\",\"\",'Project Summary Sheet (PSS)_1'!C64)","v":""},{"$f":"IFERROR(VLOOKUP(A44,'Project Summary Sheet (PSS)_1'!$B$23:$Q$75,6,FALSE)/'Project Summary Sheet (PSS)_1'!$D$17,\"\")","v":""},{"$f":"IFERROR(VLOOKUP(A44,'Project Summary Sheet (PSS)_1'!$B$23:$Q$75,9,FALSE)/('Project Summary Sheet (PSS)_1'!$T$17-('Project Summary Sheet (PSS)_1'!$D$17*'PSS References'!$E$11)),\"\")","v":""},{"$f":"IFERROR(((VLOOKUP(A44,'Project Summary Sheet (PSS)_1'!$B$23:$Q$75,6,FALSE)*'PSS References'!$E$11)+VLOOKUP(A44,'Project Summary Sheet (PSS)_1'!$B$23:$Q$75,9,FALSE))/'Project Summary Sheet (PSS)_1'!$T$17,\"\")","v":""},{"$f":"IF(A44=\"\",\"\",IF(M44<0,IF(OR(M44<'Project Summary Sheet (PSS)_1'!L64*1.1,M44>'Project Summary Sheet (PSS)_1'!L64*0.9),\"Check Rates\",\"Rate OK\"),IF(OR(M44>'Project Summary Sheet (PSS)_1'!L64*1.1,M44<'Project Summary Sheet (PSS)_1'!L64*0.9),\"Check Rates\",\"Rate OK\")))","v":""},{"$f":"IF(A44=\"\",\"\",'Project Summary Sheet (PSS)_1'!G64*'Project Summary Sheet (PSS)_1'!$E$18)","v":""},{"$f":"IF(A44=\"\",\"\",IF('Project Summary Sheet (PSS)_1'!$F$18<>\"\",('Project Summary Sheet (PSS)_1'!H64*'Project Summary Sheet (PSS)_1'!$F$18),0))","v":""},{"$f":"IF(A44=\"\",\"\",IF('Project Summary Sheet (PSS)_1'!I64=\"\",\"-\",IF('Project Summary Sheet (PSS)_1'!I64='PSS References'!$N$18,'Project Summary Sheet (PSS)_1'!J64*'PSS Savings Check_1'!$W$9,IF('Project Summary Sheet (PSS)_1'!I64='PSS References'!$N$19,'Project Summary Sheet (PSS)_1'!J64*'PSS Savings Check_1'!$AA$9,IF('Project Summary Sheet (PSS)_1'!I64='PSS References'!$N$20,'Project Summary Sheet (PSS)_1'!J64*'PSS Savings Check_1'!$Y$9,IF('Project Summary Sheet (PSS)_1'!I64='PSS References'!$N$21,'Project Summary Sheet (PSS)_1'!J64*'PSS Savings Check_1'!$Y$9,IF('Project Summary Sheet (PSS)_1'!I64='PSS References'!$N$22,'Project Summary Sheet (PSS)_1'!J64*'PSS Savings Check_1'!$Y$9,IF('Project Summary Sheet (PSS)_1'!I64='PSS References'!$N$23,'Project Summary Sheet (PSS)_1'!J64*'PSS Savings Check_1'!$AC$9,IF('Project Summary Sheet (PSS)_1'!I64='PSS References'!$N$24,'Project Summary Sheet (PSS)_1'!J64*'PSS Savings Check_1'!$AE$9,IF('Project Summary Sheet (PSS)_1'!I64='PSS References'!$N$25,'Project Summary Sheet (PSS)_1'!J64*'PSS Savings Check_1'!$AG$9,IF('Project Summary Sheet (PSS)_1'!I64='PSS References'!$N$17,\"-\")))))))))))","v":""},{"$f":"IF(A44=\"\",\"\",IF('Project Summary Sheet (PSS)_1'!I64=\"\",\"-\",IF('Project Summary Sheet (PSS)_1'!I64='PSS References'!$N$17,IF('Project Summary Sheet (PSS)_1'!W64='PSS References'!$N$18,'Project Summary Sheet (PSS)_1'!X64*'PSS Savings Check_1'!$W$9,IF('Project Summary Sheet (PSS)_1'!W64='PSS References'!$N$19,'Project Summary Sheet (PSS)_1'!X64*'PSS Savings Check_1'!$AA$9,IF('Project Summary Sheet (PSS)_1'!W64='PSS References'!$N$20,'Project Summary Sheet (PSS)_1'!X64*'PSS Savings Check_1'!$Y$9,IF('Project Summary Sheet (PSS)_1'!W64='PSS References'!$N$21,'Project Summary Sheet (PSS)_1'!X64*'PSS Savings Check_1'!$Y$9,IF('Project Summary Sheet (PSS)_1'!W64='PSS References'!$N$22,'Project Summary Sheet (PSS)_1'!X64*'PSS Savings Check_1'!$Y$9,IF('Project Summary Sheet (PSS)_1'!W64='PSS References'!$N$23,'Project Summary Sheet (PSS)_1'!X64*'PSS Savings Check_1'!$AC$9,IF('Project Summary Sheet (PSS)_1'!W64='PSS References'!$N$24,'Project Summary Sheet (PSS)_1'!X64*'PSS Savings Check_1'!$AE$9,IF('Project Summary Sheet (PSS)_1'!W64='PSS References'!$N$25,'Project Summary Sheet (PSS)_1'!X64*'PSS Savings Check_1'!$AG$9,IF('Project Summary Sheet (PSS)_1'!W64='PSS References'!$N$17,\"Can't be 'Multiple'\",))))))))),\"-\")))","v":""},{"$f":"IF(A44=\"\",\"\",IF('Project Summary Sheet (PSS)_1'!I64=\"\",\"-\",IF('Project Summary Sheet (PSS)_1'!I64='PSS References'!$N$17,IF('Project Summary Sheet (PSS)_1'!Y64='PSS References'!$N$18,'Project Summary Sheet (PSS)_1'!Z64*'PSS Savings Check_1'!$W$9,IF('Project Summary Sheet (PSS)_1'!Y64='PSS References'!$N$19,'Project Summary Sheet (PSS)_1'!Z64*'PSS Savings Check_1'!$AA$9,IF('Project Summary Sheet (PSS)_1'!Y64='PSS References'!$N$20,'Project Summary Sheet (PSS)_1'!Z64*'PSS Savings Check_1'!$Y$9,IF('Project Summary Sheet (PSS)_1'!Y64='PSS References'!$N$21,'Project Summary Sheet (PSS)_1'!Z64*'PSS Savings Check_1'!$Y$9,IF('Project Summary Sheet (PSS)_1'!Y64='PSS References'!$N$22,'Project Summary Sheet (PSS)_1'!Z64*'PSS Savings Check_1'!$Y$9,IF('Project Summary Sheet (PSS)_1'!Y64='PSS References'!$N$23,'Project Summary Sheet (PSS)_1'!Z64*'PSS Savings Check_1'!$AC$9,IF('Project Summary Sheet (PSS)_1'!Y64='PSS References'!$N$24,'Project Summary Sheet (PSS)_1'!Z64*'PSS Savings Check_1'!$AE$9,IF('Project Summary Sheet (PSS)_1'!Y64='PSS References'!$N$25,'Project Summary Sheet (PSS)_1'!Z64*'PSS Savings Check_1'!$AG$9,IF('Project Summary Sheet (PSS)_1'!Y64='PSS References'!$N$17,\"Can't be 'Multiple'\",))))))))),\"-\")))","v":""},{"$f":"IF(A44=\"\",\"\",IF('Project Summary Sheet (PSS)_1'!I64=\"\",\"-\",IF('Project Summary Sheet (PSS)_1'!I64='PSS References'!$N$17,IF('Project Summary Sheet (PSS)_1'!AA64='PSS References'!$N$18,'Project Summary Sheet (PSS)_1'!AB64*'PSS Savings Check_1'!$W$9,IF('Project Summary Sheet (PSS)_1'!AA64='PSS References'!N57,'Project Summary Sheet (PSS)_1'!AB64*'PSS Savings Check_1'!$AA$9,IF('Project Summary Sheet (PSS)_1'!AA64='PSS References'!$N$20,'Project Summary Sheet (PSS)_1'!AB64*'PSS Savings Check_1'!$Y$9,IF('Project Summary Sheet (PSS)_1'!AA64='PSS References'!$N$21,'Project Summary Sheet (PSS)_1'!AB64*'PSS Savings Check_1'!$Y$9,IF('Project Summary Sheet (PSS)_1'!AA64='PSS References'!$N$22,'Project Summary Sheet (PSS)_1'!AB64*'PSS Savings Check_1'!$Y$9,IF('Project Summary Sheet (PSS)_1'!AA64='PSS References'!$N$23,'Project Summary Sheet (PSS)_1'!AB64*'PSS Savings Check_1'!$AC$9,IF('Project Summary Sheet (PSS)_1'!AA64='PSS References'!$N$24,'Project Summary Sheet (PSS)_1'!AB64*'PSS Savings Check_1'!$AE$9,IF('Project Summary Sheet (PSS)_1'!AA64='PSS References'!$N$25,'Project Summary Sheet (PSS)_1'!AB64*'PSS Savings Check_1'!$AG$9,IF('Project Summary Sheet (PSS)_1'!AA64='PSS References'!$N$17,\"Can't be 'Multiple'\",))))))))),\"-\")))","v":""},"",{"$f":"IF('Project Summary Sheet (PSS)_1'!L64=\"\",\"\",'Project Summary Sheet (PSS)_1'!L64)","v":""},""]
[{"$f":"IF('Project Summary Sheet (PSS)_1'!A65=\"\",\"\",'Project Summary Sheet (PSS)_1'!A65)","v":""}]
[{"$f":"IF('Project Summary Sheet (PSS)_1'!B66=\"\",\"\",'Project Summary Sheet (PSS)_1'!B66)","v":""},{"$f":"IF('Project Summary Sheet (PSS)_1'!C66=\"\",\"\",'Project Summary Sheet (PSS)_1'!C66)","v":""},{"$f":"IFERROR(VLOOKUP(A46,'Project Summary Sheet (PSS)_1'!$B$23:$Q$75,6,FALSE)/'Project Summary Sheet (PSS)_1'!$D$17,\"\")","v":""},{"$f":"IFERROR(VLOOKUP(A46,'Project Summary Sheet (PSS)_1'!$B$23:$Q$75,9,FALSE)/('Project Summary Sheet (PSS)_1'!$T$17-('Project Summary Sheet (PSS)_1'!$D$17*'PSS References'!$E$11)),\"\")","v":""},{"$f":"IFERROR(((VLOOKUP(A46,'Project Summary Sheet (PSS)_1'!$B$23:$Q$75,6,FALSE)*'PSS References'!$E$11)+VLOOKUP(A46,'Project Summary Sheet (PSS)_1'!$B$23:$Q$75,9,FALSE))/'Project Summary Sheet (PSS)_1'!$T$17,\"\")","v":""},{"$f":"IF(A46=\"\",\"\",IF(M46<0,IF(OR(M46<'Project Summary Sheet (PSS)_1'!L66*1.1,M46>'Project Summary Sheet (PSS)_1'!L66*0.9),\"Check Rates\",\"Rate OK\"),IF(OR(M46>'Project Summary Sheet (PSS)_1'!L66*1.1,M46<'Project Summary Sheet (PSS)_1'!L66*0.9),\"Check Rates\",\"Rate OK\")))","v":""},{"$f":"IF(A46=\"\",\"\",'Project Summary Sheet (PSS)_1'!G66*'Project Summary Sheet (PSS)_1'!$E$18)","v":""},{"$f":"IF(A46=\"\",\"\",IF('Project Summary Sheet (PSS)_1'!$F$18<>\"\",('Project Summary Sheet (PSS)_1'!H66*'Project Summary Sheet (PSS)_1'!$F$18),0))","v":""},{"$f":"IF(A46=\"\",\"\",IF('Project Summary Sheet (PSS)_1'!I66=\"\",\"-\",IF('Project Summary Sheet (PSS)_1'!I66='PSS References'!$N$18,'Project Summary Sheet (PSS)_1'!J66*'PSS Savings Check_1'!$W$9,IF('Project Summary Sheet (PSS)_1'!I66='PSS References'!$N$19,'Project Summary Sheet (PSS)_1'!J66*'PSS Savings Check_1'!$AA$9,IF('Project Summary Sheet (PSS)_1'!I66='PSS References'!$N$20,'Project Summary Sheet (PSS)_1'!J66*'PSS Savings Check_1'!$Y$9,IF('Project Summary Sheet (PSS)_1'!I66='PSS References'!$N$21,'Project Summary Sheet (PSS)_1'!J66*'PSS Savings Check_1'!$Y$9,IF('Project Summary Sheet (PSS)_1'!I66='PSS References'!$N$22,'Project Summary Sheet (PSS)_1'!J66*'PSS Savings Check_1'!$Y$9,IF('Project Summary Sheet (PSS)_1'!I66='PSS References'!$N$23,'Project Summary Sheet (PSS)_1'!J66*'PSS Savings Check_1'!$AC$9,IF('Project Summary Sheet (PSS)_1'!I66='PSS References'!$N$24,'Project Summary Sheet (PSS)_1'!J66*'PSS Savings Check_1'!$AE$9,IF('Project Summary Sheet (PSS)_1'!I66='PSS References'!$N$25,'Project Summary Sheet (PSS)_1'!J66*'PSS Savings Check_1'!$AG$9,IF('Project Summary Sheet (PSS)_1'!I66='PSS References'!$N$17,\"-\")))))))))))","v":""},{"$f":"IF(A46=\"\",\"\",IF('Project Summary Sheet (PSS)_1'!I66=\"\",\"-\",IF('Project Summary Sheet (PSS)_1'!I66='PSS References'!$N$17,IF('Project Summary Sheet (PSS)_1'!W66='PSS References'!$N$18,'Project Summary Sheet (PSS)_1'!X66*'PSS Savings Check_1'!$W$9,IF('Project Summary Sheet (PSS)_1'!W66='PSS References'!$N$19,'Project Summary Sheet (PSS)_1'!X66*'PSS Savings Check_1'!$AA$9,IF('Project Summary Sheet (PSS)_1'!W66='PSS References'!$N$20,'Project Summary Sheet (PSS)_1'!X66*'PSS Savings Check_1'!$Y$9,IF('Project Summary Sheet (PSS)_1'!W66='PSS References'!$N$21,'Project Summary Sheet (PSS)_1'!X66*'PSS Savings Check_1'!$Y$9,IF('Project Summary Sheet (PSS)_1'!W66='PSS References'!$N$22,'Project Summary Sheet (PSS)_1'!X66*'PSS Savings Check_1'!$Y$9,IF('Project Summary Sheet (PSS)_1'!W66='PSS References'!$N$23,'Project Summary Sheet (PSS)_1'!X66*'PSS Savings Check_1'!$AC$9,IF('Project Summary Sheet (PSS)_1'!W66='PSS References'!$N$24,'Project Summary Sheet (PSS)_1'!X66*'PSS Savings Check_1'!$AE$9,IF('Project Summary Sheet (PSS)_1'!W66='PSS References'!$N$25,'Project Summary Sheet (PSS)_1'!X66*'PSS Savings Check_1'!$AG$9,IF('Project Summary Sheet (PSS)_1'!W66='PSS References'!$N$17,\"Can't be 'Multiple'\",))))))))),\"-\")))","v":""},{"$f":"IF(A46=\"\",\"\",IF('Project Summary Sheet (PSS)_1'!I66=\"\",\"-\",IF('Project Summary Sheet (PSS)_1'!I66='PSS References'!$N$17,IF('Project Summary Sheet (PSS)_1'!Y66='PSS References'!$N$18,'Project Summary Sheet (PSS)_1'!Z66*'PSS Savings Check_1'!$W$9,IF('Project Summary Sheet (PSS)_1'!Y66='PSS References'!$N$19,'Project Summary Sheet (PSS)_1'!Z66*'PSS Savings Check_1'!$AA$9,IF('Project Summary Sheet (PSS)_1'!Y66='PSS References'!$N$20,'Project Summary Sheet (PSS)_1'!Z66*'PSS Savings Check_1'!$Y$9,IF('Project Summary Sheet (PSS)_1'!Y66='PSS References'!$N$21,'Project Summary Sheet (PSS)_1'!Z66*'PSS Savings Check_1'!$Y$9,IF('Project Summary Sheet (PSS)_1'!Y66='PSS References'!$N$22,'Project Summary Sheet (PSS)_1'!Z66*'PSS Savings Check_1'!$Y$9,IF('Project Summary Sheet (PSS)_1'!Y66='PSS References'!$N$23,'Project Summary Sheet (PSS)_1'!Z66*'PSS Savings Check_1'!$AC$9,IF('Project Summary Sheet (PSS)_1'!Y66='PSS References'!$N$24,'Project Summary Sheet (PSS)_1'!Z66*'PSS Savings Check_1'!$AE$9,IF('Project Summary Sheet (PSS)_1'!Y66='PSS References'!$N$25,'Project Summary Sheet (PSS)_1'!Z66*'PSS Savings Check_1'!$AG$9,IF('Project Summary Sheet (PSS)_1'!Y66='PSS References'!$N$17,\"Can't be 'Multiple'\",))))))))),\"-\")))","v":""},{"$f":"IF(A46=\"\",\"\",IF('Project Summary Sheet (PSS)_1'!I66=\"\",\"-\",IF('Project Summary Sheet (PSS)_1'!I66='PSS References'!$N$17,IF('Project Summary Sheet (PSS)_1'!AA66='PSS References'!$N$18,'Project Summary Sheet (PSS)_1'!AB66*'PSS Savings Check_1'!$W$9,IF('Project Summary Sheet (PSS)_1'!AA66='PSS References'!N59,'Project Summary Sheet (PSS)_1'!AB66*'PSS Savings Check_1'!$AA$9,IF('Project Summary Sheet (PSS)_1'!AA66='PSS References'!$N$20,'Project Summary Sheet (PSS)_1'!AB66*'PSS Savings Check_1'!$Y$9,IF('Project Summary Sheet (PSS)_1'!AA66='PSS References'!$N$21,'Project Summary Sheet (PSS)_1'!AB66*'PSS Savings Check_1'!$Y$9,IF('Project Summary Sheet (PSS)_1'!AA66='PSS References'!$N$22,'Project Summary Sheet (PSS)_1'!AB66*'PSS Savings Check_1'!$Y$9,IF('Project Summary Sheet (PSS)_1'!AA66='PSS References'!$N$23,'Project Summary Sheet (PSS)_1'!AB66*'PSS Savings Check_1'!$AC$9,IF('Project Summary Sheet (PSS)_1'!AA66='PSS References'!$N$24,'Project Summary Sheet (PSS)_1'!AB66*'PSS Savings Check_1'!$AE$9,IF('Project Summary Sheet (PSS)_1'!AA66='PSS References'!$N$25,'Project Summary Sheet (PSS)_1'!AB66*'PSS Savings Check_1'!$AG$9,IF('Project Summary Sheet (PSS)_1'!AA66='PSS References'!$N$17,\"Can't be 'Multiple'\",))))))))),\"-\")))","v":""},{"$f":"IF(A46=\"\",\"\",SUM(G46:L46))","v":""},{"$f":"IF('Project Summary Sheet (PSS)_1'!L66=\"\",\"\",'Project Summary Sheet (PSS)_1'!L66)","v":""},{"$f":"IFERROR((M46-N46)/N46,\"\")","v":""}]
[{"$f":"IF('Project Summary Sheet (PSS)_1'!B67=\"\",\"\",'Project Summary Sheet (PSS)_1'!B67)","v":""},{"$f":"IF('Project Summary Sheet (PSS)_1'!C67=\"\",\"\",'Project Summary Sheet (PSS)_1'!C67)","v":""},{"$f":"IFERROR(VLOOKUP(A47,'Project Summary Sheet (PSS)_1'!$B$23:$Q$75,6,FALSE)/'Project Summary Sheet (PSS)_1'!$D$17,\"\")","v":""},{"$f":"IFERROR(VLOOKUP(A47,'Project Summary Sheet (PSS)_1'!$B$23:$Q$75,9,FALSE)/('Project Summary Sheet (PSS)_1'!$T$17-('Project Summary Sheet (PSS)_1'!$D$17*'PSS References'!$E$11)),\"\")","v":""},{"$f":"IFERROR(((VLOOKUP(A47,'Project Summary Sheet (PSS)_1'!$B$23:$Q$75,6,FALSE)*'PSS References'!$E$11)+VLOOKUP(A47,'Project Summary Sheet (PSS)_1'!$B$23:$Q$75,9,FALSE))/'Project Summary Sheet (PSS)_1'!$T$17,\"\")","v":""},{"$f":"IF(A47=\"\",\"\",IF(M47<0,IF(OR(M47<'Project Summary Sheet (PSS)_1'!L67*1.1,M47>'Project Summary Sheet (PSS)_1'!L67*0.9),\"Check Rates\",\"Rate OK\"),IF(OR(M47>'Project Summary Sheet (PSS)_1'!L67*1.1,M47<'Project Summary Sheet (PSS)_1'!L67*0.9),\"Check Rates\",\"Rate OK\")))","v":""},{"$f":"IF(A47=\"\",\"\",'Project Summary Sheet (PSS)_1'!G67*'Project Summary Sheet (PSS)_1'!$E$18)","v":""},{"$f":"IF(A47=\"\",\"\",IF('Project Summary Sheet (PSS)_1'!$F$18<>\"\",('Project Summary Sheet (PSS)_1'!H67*'Project Summary Sheet (PSS)_1'!$F$18),0))","v":""},{"$f":"IF(A47=\"\",\"\",IF('Project Summary Sheet (PSS)_1'!I67=\"\",\"-\",IF('Project Summary Sheet (PSS)_1'!I67='PSS References'!$N$18,'Project Summary Sheet (PSS)_1'!J67*'PSS Savings Check_1'!$W$9,IF('Project Summary Sheet (PSS)_1'!I67='PSS References'!$N$19,'Project Summary Sheet (PSS)_1'!J67*'PSS Savings Check_1'!$AA$9,IF('Project Summary Sheet (PSS)_1'!I67='PSS References'!$N$20,'Project Summary Sheet (PSS)_1'!J67*'PSS Savings Check_1'!$Y$9,IF('Project Summary Sheet (PSS)_1'!I67='PSS References'!$N$21,'Project Summary Sheet (PSS)_1'!J67*'PSS Savings Check_1'!$Y$9,IF('Project Summary Sheet (PSS)_1'!I67='PSS References'!$N$22,'Project Summary Sheet (PSS)_1'!J67*'PSS Savings Check_1'!$Y$9,IF('Project Summary Sheet (PSS)_1'!I67='PSS References'!$N$23,'Project Summary Sheet (PSS)_1'!J67*'PSS Savings Check_1'!$AC$9,IF('Project Summary Sheet (PSS)_1'!I67='PSS References'!$N$24,'Project Summary Sheet (PSS)_1'!J67*'PSS Savings Check_1'!$AE$9,IF('Project Summary Sheet (PSS)_1'!I67='PSS References'!$N$25,'Project Summary Sheet (PSS)_1'!J67*'PSS Savings Check_1'!$AG$9,IF('Project Summary Sheet (PSS)_1'!I67='PSS References'!$N$17,\"-\")))))))))))","v":""},{"$f":"IF(A47=\"\",\"\",IF('Project Summary Sheet (PSS)_1'!I67=\"\",\"-\",IF('Project Summary Sheet (PSS)_1'!I67='PSS References'!$N$17,IF('Project Summary Sheet (PSS)_1'!W67='PSS References'!$N$18,'Project Summary Sheet (PSS)_1'!X67*'PSS Savings Check_1'!$W$9,IF('Project Summary Sheet (PSS)_1'!W67='PSS References'!$N$19,'Project Summary Sheet (PSS)_1'!X67*'PSS Savings Check_1'!$AA$9,IF('Project Summary Sheet (PSS)_1'!W67='PSS References'!$N$20,'Project Summary Sheet (PSS)_1'!X67*'PSS Savings Check_1'!$Y$9,IF('Project Summary Sheet (PSS)_1'!W67='PSS References'!$N$21,'Project Summary Sheet (PSS)_1'!X67*'PSS Savings Check_1'!$Y$9,IF('Project Summary Sheet (PSS)_1'!W67='PSS References'!$N$22,'Project Summary Sheet (PSS)_1'!X67*'PSS Savings Check_1'!$Y$9,IF('Project Summary Sheet (PSS)_1'!W67='PSS References'!$N$23,'Project Summary Sheet (PSS)_1'!X67*'PSS Savings Check_1'!$AC$9,IF('Project Summary Sheet (PSS)_1'!W67='PSS References'!$N$24,'Project Summary Sheet (PSS)_1'!X67*'PSS Savings Check_1'!$AE$9,IF('Project Summary Sheet (PSS)_1'!W67='PSS References'!$N$25,'Project Summary Sheet (PSS)_1'!X67*'PSS Savings Check_1'!$AG$9,IF('Project Summary Sheet (PSS)_1'!W67='PSS References'!$N$17,\"Can't be 'Multiple'\",))))))))),\"-\")))","v":""},{"$f":"IF(A47=\"\",\"\",IF('Project Summary Sheet (PSS)_1'!I67=\"\",\"-\",IF('Project Summary Sheet (PSS)_1'!I67='PSS References'!$N$17,IF('Project Summary Sheet (PSS)_1'!Y67='PSS References'!$N$18,'Project Summary Sheet (PSS)_1'!Z67*'PSS Savings Check_1'!$W$9,IF('Project Summary Sheet (PSS)_1'!Y67='PSS References'!$N$19,'Project Summary Sheet (PSS)_1'!Z67*'PSS Savings Check_1'!$AA$9,IF('Project Summary Sheet (PSS)_1'!Y67='PSS References'!$N$20,'Project Summary Sheet (PSS)_1'!Z67*'PSS Savings Check_1'!$Y$9,IF('Project Summary Sheet (PSS)_1'!Y67='PSS References'!$N$21,'Project Summary Sheet (PSS)_1'!Z67*'PSS Savings Check_1'!$Y$9,IF('Project Summary Sheet (PSS)_1'!Y67='PSS References'!$N$22,'Project Summary Sheet (PSS)_1'!Z67*'PSS Savings Check_1'!$Y$9,IF('Project Summary Sheet (PSS)_1'!Y67='PSS References'!$N$23,'Project Summary Sheet (PSS)_1'!Z67*'PSS Savings Check_1'!$AC$9,IF('Project Summary Sheet (PSS)_1'!Y67='PSS References'!$N$24,'Project Summary Sheet (PSS)_1'!Z67*'PSS Savings Check_1'!$AE$9,IF('Project Summary Sheet (PSS)_1'!Y67='PSS References'!$N$25,'Project Summary Sheet (PSS)_1'!Z67*'PSS Savings Check_1'!$AG$9,IF('Project Summary Sheet (PSS)_1'!Y67='PSS References'!$N$17,\"Can't be 'Multiple'\",))))))))),\"-\")))","v":""},{"$f":"IF(A47=\"\",\"\",IF('Project Summary Sheet (PSS)_1'!I67=\"\",\"-\",IF('Project Summary Sheet (PSS)_1'!I67='PSS References'!$N$17,IF('Project Summary Sheet (PSS)_1'!AA67='PSS References'!$N$18,'Project Summary Sheet (PSS)_1'!AB67*'PSS Savings Check_1'!$W$9,IF('Project Summary Sheet (PSS)_1'!AA67='PSS References'!N60,'Project Summary Sheet (PSS)_1'!AB67*'PSS Savings Check_1'!$AA$9,IF('Project Summary Sheet (PSS)_1'!AA67='PSS References'!$N$20,'Project Summary Sheet (PSS)_1'!AB67*'PSS Savings Check_1'!$Y$9,IF('Project Summary Sheet (PSS)_1'!AA67='PSS References'!$N$21,'Project Summary Sheet (PSS)_1'!AB67*'PSS Savings Check_1'!$Y$9,IF('Project Summary Sheet (PSS)_1'!AA67='PSS References'!$N$22,'Project Summary Sheet (PSS)_1'!AB67*'PSS Savings Check_1'!$Y$9,IF('Project Summary Sheet (PSS)_1'!AA67='PSS References'!$N$23,'Project Summary Sheet (PSS)_1'!AB67*'PSS Savings Check_1'!$AC$9,IF('Project Summary Sheet (PSS)_1'!AA67='PSS References'!$N$24,'Project Summary Sheet (PSS)_1'!AB67*'PSS Savings Check_1'!$AE$9,IF('Project Summary Sheet (PSS)_1'!AA67='PSS References'!$N$25,'Project Summary Sheet (PSS)_1'!AB67*'PSS Savings Check_1'!$AG$9,IF('Project Summary Sheet (PSS)_1'!AA67='PSS References'!$N$17,\"Can't be 'Multiple'\",))))))))),\"-\")))","v":""},"",{"$f":"IF('Project Summary Sheet (PSS)_1'!L67=\"\",\"\",'Project Summary Sheet (PSS)_1'!L67)","v":""},""]
[{"$f":"IF('Project Summary Sheet (PSS)_1'!B68=\"\",\"\",'Project Summary Sheet (PSS)_1'!B68)","v":""},{"$f":"IF('Project Summary Sheet (PSS)_1'!C68=\"\",\"\",'Project Summary Sheet (PSS)_1'!C68)","v":""},{"$f":"IFERROR(VLOOKUP(A48,'Project Summary Sheet (PSS)_1'!$B$23:$Q$75,6,FALSE)/'Project Summary Sheet (PSS)_1'!$D$17,\"\")","v":""},{"$f":"IFERROR(VLOOKUP(A48,'Project Summary Sheet (PSS)_1'!$B$23:$Q$75,9,FALSE)/('Project Summary Sheet (PSS)_1'!$T$17-('Project Summary Sheet (PSS)_1'!$D$17*'PSS References'!$E$11)),\"\")","v":""},{"$f":"IFERROR(((VLOOKUP(A48,'Project Summary Sheet (PSS)_1'!$B$23:$Q$75,6,FALSE)*'PSS References'!$E$11)+VLOOKUP(A48,'Project Summary Sheet (PSS)_1'!$B$23:$Q$75,9,FALSE))/'Project Summary Sheet (PSS)_1'!$T$17,\"\")","v":""},{"$f":"IF(A48=\"\",\"\",IF(M48<0,IF(OR(M48<'Project Summary Sheet (PSS)_1'!L68*1.1,M48>'Project Summary Sheet (PSS)_1'!L68*0.9),\"Check Rates\",\"Rate OK\"),IF(OR(M48>'Project Summary Sheet (PSS)_1'!L68*1.1,M48<'Project Summary Sheet (PSS)_1'!L68*0.9),\"Check Rates\",\"Rate OK\")))","v":""},{"$f":"IF(A48=\"\",\"\",'Project Summary Sheet (PSS)_1'!G68*'Project Summary Sheet (PSS)_1'!$E$18)","v":""},{"$f":"IF(A48=\"\",\"\",IF('Project Summary Sheet (PSS)_1'!$F$18<>\"\",('Project Summary Sheet (PSS)_1'!H68*'Project Summary Sheet (PSS)_1'!$F$18),0))","v":""},{"$f":"IF(A48=\"\",\"\",IF('Project Summary Sheet (PSS)_1'!I68=\"\",\"-\",IF('Project Summary Sheet (PSS)_1'!I68='PSS References'!$N$18,'Project Summary Sheet (PSS)_1'!J68*'PSS Savings Check_1'!$W$9,IF('Project Summary Sheet (PSS)_1'!I68='PSS References'!$N$19,'Project Summary Sheet (PSS)_1'!J68*'PSS Savings Check_1'!$AA$9,IF('Project Summary Sheet (PSS)_1'!I68='PSS References'!$N$20,'Project Summary Sheet (PSS)_1'!J68*'PSS Savings Check_1'!$Y$9,IF('Project Summary Sheet (PSS)_1'!I68='PSS References'!$N$21,'Project Summary Sheet (PSS)_1'!J68*'PSS Savings Check_1'!$Y$9,IF('Project Summary Sheet (PSS)_1'!I68='PSS References'!$N$22,'Project Summary Sheet (PSS)_1'!J68*'PSS Savings Check_1'!$Y$9,IF('Project Summary Sheet (PSS)_1'!I68='PSS References'!$N$23,'Project Summary Sheet (PSS)_1'!J68*'PSS Savings Check_1'!$AC$9,IF('Project Summary Sheet (PSS)_1'!I68='PSS References'!$N$24,'Project Summary Sheet (PSS)_1'!J68*'PSS Savings Check_1'!$AE$9,IF('Project Summary Sheet (PSS)_1'!I68='PSS References'!$N$25,'Project Summary Sheet (PSS)_1'!J68*'PSS Savings Check_1'!$AG$9,IF('Project Summary Sheet (PSS)_1'!I68='PSS References'!$N$17,\"-\")))))))))))","v":""},{"$f":"IF(A48=\"\",\"\",IF('Project Summary Sheet (PSS)_1'!I68=\"\",\"-\",IF('Project Summary Sheet (PSS)_1'!I68='PSS References'!$N$17,IF('Project Summary Sheet (PSS)_1'!W68='PSS References'!$N$18,'Project Summary Sheet (PSS)_1'!X68*'PSS Savings Check_1'!$W$9,IF('Project Summary Sheet (PSS)_1'!W68='PSS References'!$N$19,'Project Summary Sheet (PSS)_1'!X68*'PSS Savings Check_1'!$AA$9,IF('Project Summary Sheet (PSS)_1'!W68='PSS References'!$N$20,'Project Summary Sheet (PSS)_1'!X68*'PSS Savings Check_1'!$Y$9,IF('Project Summary Sheet (PSS)_1'!W68='PSS References'!$N$21,'Project Summary Sheet (PSS)_1'!X68*'PSS Savings Check_1'!$Y$9,IF('Project Summary Sheet (PSS)_1'!W68='PSS References'!$N$22,'Project Summary Sheet (PSS)_1'!X68*'PSS Savings Check_1'!$Y$9,IF('Project Summary Sheet (PSS)_1'!W68='PSS References'!$N$23,'Project Summary Sheet (PSS)_1'!X68*'PSS Savings Check_1'!$AC$9,IF('Project Summary Sheet (PSS)_1'!W68='PSS References'!$N$24,'Project Summary Sheet (PSS)_1'!X68*'PSS Savings Check_1'!$AE$9,IF('Project Summary Sheet (PSS)_1'!W68='PSS References'!$N$25,'Project Summary Sheet (PSS)_1'!X68*'PSS Savings Check_1'!$AG$9,IF('Project Summary Sheet (PSS)_1'!W68='PSS References'!$N$17,\"Can't be 'Multiple'\",))))))))),\"-\")))","v":""},{"$f":"IF(A48=\"\",\"\",IF('Project Summary Sheet (PSS)_1'!I68=\"\",\"-\",IF('Project Summary Sheet (PSS)_1'!I68='PSS References'!$N$17,IF('Project Summary Sheet (PSS)_1'!Y68='PSS References'!$N$18,'Project Summary Sheet (PSS)_1'!Z68*'PSS Savings Check_1'!$W$9,IF('Project Summary Sheet (PSS)_1'!Y68='PSS References'!$N$19,'Project Summary Sheet (PSS)_1'!Z68*'PSS Savings Check_1'!$AA$9,IF('Project Summary Sheet (PSS)_1'!Y68='PSS References'!$N$20,'Project Summary Sheet (PSS)_1'!Z68*'PSS Savings Check_1'!$Y$9,IF('Project Summary Sheet (PSS)_1'!Y68='PSS References'!$N$21,'Project Summary Sheet (PSS)_1'!Z68*'PSS Savings Check_1'!$Y$9,IF('Project Summary Sheet (PSS)_1'!Y68='PSS References'!$N$22,'Project Summary Sheet (PSS)_1'!Z68*'PSS Savings Check_1'!$Y$9,IF('Project Summary Sheet (PSS)_1'!Y68='PSS References'!$N$23,'Project Summary Sheet (PSS)_1'!Z68*'PSS Savings Check_1'!$AC$9,IF('Project Summary Sheet (PSS)_1'!Y68='PSS References'!$N$24,'Project Summary Sheet (PSS)_1'!Z68*'PSS Savings Check_1'!$AE$9,IF('Project Summary Sheet (PSS)_1'!Y68='PSS References'!$N$25,'Project Summary Sheet (PSS)_1'!Z68*'PSS Savings Check_1'!$AG$9,IF('Project Summary Sheet (PSS)_1'!Y68='PSS References'!$N$17,\"Can't be 'Multiple'\",))))))))),\"-\")))","v":""},{"$f":"IF(A48=\"\",\"\",IF('Project Summary Sheet (PSS)_1'!I68=\"\",\"-\",IF('Project Summary Sheet (PSS)_1'!I68='PSS References'!$N$17,IF('Project Summary Sheet (PSS)_1'!AA68='PSS References'!$N$18,'Project Summary Sheet (PSS)_1'!AB68*'PSS Savings Check_1'!$W$9,IF('Project Summary Sheet (PSS)_1'!AA68='PSS References'!N61,'Project Summary Sheet (PSS)_1'!AB68*'PSS Savings Check_1'!$AA$9,IF('Project Summary Sheet (PSS)_1'!AA68='PSS References'!$N$20,'Project Summary Sheet (PSS)_1'!AB68*'PSS Savings Check_1'!$Y$9,IF('Project Summary Sheet (PSS)_1'!AA68='PSS References'!$N$21,'Project Summary Sheet (PSS)_1'!AB68*'PSS Savings Check_1'!$Y$9,IF('Project Summary Sheet (PSS)_1'!AA68='PSS References'!$N$22,'Project Summary Sheet (PSS)_1'!AB68*'PSS Savings Check_1'!$Y$9,IF('Project Summary Sheet (PSS)_1'!AA68='PSS References'!$N$23,'Project Summary Sheet (PSS)_1'!AB68*'PSS Savings Check_1'!$AC$9,IF('Project Summary Sheet (PSS)_1'!AA68='PSS References'!$N$24,'Project Summary Sheet (PSS)_1'!AB68*'PSS Savings Check_1'!$AE$9,IF('Project Summary Sheet (PSS)_1'!AA68='PSS References'!$N$25,'Project Summary Sheet (PSS)_1'!AB68*'PSS Savings Check_1'!$AG$9,IF('Project Summary Sheet (PSS)_1'!AA68='PSS References'!$N$17,\"Can't be 'Multiple'\",))))))))),\"-\")))","v":""},"",{"$f":"IF('Project Summary Sheet (PSS)_1'!L68=\"\",\"\",'Project Summary Sheet (PSS)_1'!L68)","v":""},""]
[{"$f":"IF('Project Summary Sheet (PSS)_1'!B69=\"\",\"\",'Project Summary Sheet (PSS)_1'!B69)","v":""},{"$f":"IF('Project Summary Sheet (PSS)_1'!C69=\"\",\"\",'Project Summary Sheet (PSS)_1'!C69)","v":""},{"$f":"IFERROR(VLOOKUP(A49,'Project Summary Sheet (PSS)_1'!$B$23:$Q$75,6,FALSE)/'Project Summary Sheet (PSS)_1'!$D$17,\"\")","v":""},{"$f":"IFERROR(VLOOKUP(A49,'Project Summary Sheet (PSS)_1'!$B$23:$Q$75,9,FALSE)/('Project Summary Sheet (PSS)_1'!$T$17-('Project Summary Sheet (PSS)_1'!$D$17*'PSS References'!$E$11)),\"\")","v":""},{"$f":"IFERROR(((VLOOKUP(A49,'Project Summary Sheet (PSS)_1'!$B$23:$Q$75,6,FALSE)*'PSS References'!$E$11)+VLOOKUP(A49,'Project Summary Sheet (PSS)_1'!$B$23:$Q$75,9,FALSE))/'Project Summary Sheet (PSS)_1'!$T$17,\"\")","v":""},{"$f":"IF(A49=\"\",\"\",IF(M49<0,IF(OR(M49<'Project Summary Sheet (PSS)_1'!L69*1.1,M49>'Project Summary Sheet (PSS)_1'!L69*0.9),\"Check Rates\",\"Rate OK\"),IF(OR(M49>'Project Summary Sheet (PSS)_1'!L69*1.1,M49<'Project Summary Sheet (PSS)_1'!L69*0.9),\"Check Rates\",\"Rate OK\")))","v":""},{"$f":"IF(A49=\"\",\"\",'Project Summary Sheet (PSS)_1'!G69*'Project Summary Sheet (PSS)_1'!$E$18)","v":""},{"$f":"IF(A49=\"\",\"\",IF('Project Summary Sheet (PSS)_1'!$F$18<>\"\",('Project Summary Sheet (PSS)_1'!H69*'Project Summary Sheet (PSS)_1'!$F$18),0))","v":""},{"$f":"IF(A49=\"\",\"\",IF('Project Summary Sheet (PSS)_1'!I69=\"\",\"-\",IF('Project Summary Sheet (PSS)_1'!I69='PSS References'!$N$18,'Project Summary Sheet (PSS)_1'!J69*'PSS Savings Check_1'!$W$9,IF('Project Summary Sheet (PSS)_1'!I69='PSS References'!$N$19,'Project Summary Sheet (PSS)_1'!J69*'PSS Savings Check_1'!$AA$9,IF('Project Summary Sheet (PSS)_1'!I69='PSS References'!$N$20,'Project Summary Sheet (PSS)_1'!J69*'PSS Savings Check_1'!$Y$9,IF('Project Summary Sheet (PSS)_1'!I69='PSS References'!$N$21,'Project Summary Sheet (PSS)_1'!J69*'PSS Savings Check_1'!$Y$9,IF('Project Summary Sheet (PSS)_1'!I69='PSS References'!$N$22,'Project Summary Sheet (PSS)_1'!J69*'PSS Savings Check_1'!$Y$9,IF('Project Summary Sheet (PSS)_1'!I69='PSS References'!$N$23,'Project Summary Sheet (PSS)_1'!J69*'PSS Savings Check_1'!$AC$9,IF('Project Summary Sheet (PSS)_1'!I69='PSS References'!$N$24,'Project Summary Sheet (PSS)_1'!J69*'PSS Savings Check_1'!$AE$9,IF('Project Summary Sheet (PSS)_1'!I69='PSS References'!$N$25,'Project Summary Sheet (PSS)_1'!J69*'PSS Savings Check_1'!$AG$9,IF('Project Summary Sheet (PSS)_1'!I69='PSS References'!$N$17,\"-\")))))))))))","v":""},{"$f":"IF(A49=\"\",\"\",IF('Project Summary Sheet (PSS)_1'!I69=\"\",\"-\",IF('Project Summary Sheet (PSS)_1'!I69='PSS References'!$N$17,IF('Project Summary Sheet (PSS)_1'!W69='PSS References'!$N$18,'Project Summary Sheet (PSS)_1'!X69*'PSS Savings Check_1'!$W$9,IF('Project Summary Sheet (PSS)_1'!W69='PSS References'!$N$19,'Project Summary Sheet (PSS)_1'!X69*'PSS Savings Check_1'!$AA$9,IF('Project Summary Sheet (PSS)_1'!W69='PSS References'!$N$20,'Project Summary Sheet (PSS)_1'!X69*'PSS Savings Check_1'!$Y$9,IF('Project Summary Sheet (PSS)_1'!W69='PSS References'!$N$21,'Project Summary Sheet (PSS)_1'!X69*'PSS Savings Check_1'!$Y$9,IF('Project Summary Sheet (PSS)_1'!W69='PSS References'!$N$22,'Project Summary Sheet (PSS)_1'!X69*'PSS Savings Check_1'!$Y$9,IF('Project Summary Sheet (PSS)_1'!W69='PSS References'!$N$23,'Project Summary Sheet (PSS)_1'!X69*'PSS Savings Check_1'!$AC$9,IF('Project Summary Sheet (PSS)_1'!W69='PSS References'!$N$24,'Project Summary Sheet (PSS)_1'!X69*'PSS Savings Check_1'!$AE$9,IF('Project Summary Sheet (PSS)_1'!W69='PSS References'!$N$25,'Project Summary Sheet (PSS)_1'!X69*'PSS Savings Check_1'!$AG$9,IF('Project Summary Sheet (PSS)_1'!W69='PSS References'!$N$17,\"Can't be 'Multiple'\",))))))))),\"-\")))","v":""},{"$f":"IF(A49=\"\",\"\",IF('Project Summary Sheet (PSS)_1'!I69=\"\",\"-\",IF('Project Summary Sheet (PSS)_1'!I69='PSS References'!$N$17,IF('Project Summary Sheet (PSS)_1'!Y69='PSS References'!$N$18,'Project Summary Sheet (PSS)_1'!Z69*'PSS Savings Check_1'!$W$9,IF('Project Summary Sheet (PSS)_1'!Y69='PSS References'!$N$19,'Project Summary Sheet (PSS)_1'!Z69*'PSS Savings Check_1'!$AA$9,IF('Project Summary Sheet (PSS)_1'!Y69='PSS References'!$N$20,'Project Summary Sheet (PSS)_1'!Z69*'PSS Savings Check_1'!$Y$9,IF('Project Summary Sheet (PSS)_1'!Y69='PSS References'!$N$21,'Project Summary Sheet (PSS)_1'!Z69*'PSS Savings Check_1'!$Y$9,IF('Project Summary Sheet (PSS)_1'!Y69='PSS References'!$N$22,'Project Summary Sheet (PSS)_1'!Z69*'PSS Savings Check_1'!$Y$9,IF('Project Summary Sheet (PSS)_1'!Y69='PSS References'!$N$23,'Project Summary Sheet (PSS)_1'!Z69*'PSS Savings Check_1'!$AC$9,IF('Project Summary Sheet (PSS)_1'!Y69='PSS References'!$N$24,'Project Summary Sheet (PSS)_1'!Z69*'PSS Savings Check_1'!$AE$9,IF('Project Summary Sheet (PSS)_1'!Y69='PSS References'!$N$25,'Project Summary Sheet (PSS)_1'!Z69*'PSS Savings Check_1'!$AG$9,IF('Project Summary Sheet (PSS)_1'!Y69='PSS References'!$N$17,\"Can't be 'Multiple'\",))))))))),\"-\")))","v":""},{"$f":"IF(A49=\"\",\"\",IF('Project Summary Sheet (PSS)_1'!I69=\"\",\"-\",IF('Project Summary Sheet (PSS)_1'!I69='PSS References'!$N$17,IF('Project Summary Sheet (PSS)_1'!AA69='PSS References'!$N$18,'Project Summary Sheet (PSS)_1'!AB69*'PSS Savings Check_1'!$W$9,IF('Project Summary Sheet (PSS)_1'!AA69='PSS References'!N62,'Project Summary Sheet (PSS)_1'!AB69*'PSS Savings Check_1'!$AA$9,IF('Project Summary Sheet (PSS)_1'!AA69='PSS References'!$N$20,'Project Summary Sheet (PSS)_1'!AB69*'PSS Savings Check_1'!$Y$9,IF('Project Summary Sheet (PSS)_1'!AA69='PSS References'!$N$21,'Project Summary Sheet (PSS)_1'!AB69*'PSS Savings Check_1'!$Y$9,IF('Project Summary Sheet (PSS)_1'!AA69='PSS References'!$N$22,'Project Summary Sheet (PSS)_1'!AB69*'PSS Savings Check_1'!$Y$9,IF('Project Summary Sheet (PSS)_1'!AA69='PSS References'!$N$23,'Project Summary Sheet (PSS)_1'!AB69*'PSS Savings Check_1'!$AC$9,IF('Project Summary Sheet (PSS)_1'!AA69='PSS References'!$N$24,'Project Summary Sheet (PSS)_1'!AB69*'PSS Savings Check_1'!$AE$9,IF('Project Summary Sheet (PSS)_1'!AA69='PSS References'!$N$25,'Project Summary Sheet (PSS)_1'!AB69*'PSS Savings Check_1'!$AG$9,IF('Project Summary Sheet (PSS)_1'!AA69='PSS References'!$N$17,\"Can't be 'Multiple'\",))))))))),\"-\")))","v":""},"",{"$f":"IF('Project Summary Sheet (PSS)_1'!L69=\"\",\"\",'Project Summary Sheet (PSS)_1'!L69)","v":""},""]
[{"$f":"IF('Project Summary Sheet (PSS)_1'!B70=\"\",\"\",'Project Summary Sheet (PSS)_1'!B70)","v":""},{"$f":"IF('Project Summary Sheet (PSS)_1'!C70=\"\",\"\",'Project Summary Sheet (PSS)_1'!C70)","v":""},{"$f":"IFERROR(VLOOKUP(A50,'Project Summary Sheet (PSS)_1'!$B$23:$Q$75,6,FALSE)/'Project Summary Sheet (PSS)_1'!$D$17,\"\")","v":""},{"$f":"IFERROR(VLOOKUP(A50,'Project Summary Sheet (PSS)_1'!$B$23:$Q$75,9,FALSE)/('Project Summary Sheet (PSS)_1'!$T$17-('Project Summary Sheet (PSS)_1'!$D$17*'PSS References'!$E$11)),\"\")","v":""},{"$f":"IFERROR(((VLOOKUP(A50,'Project Summary Sheet (PSS)_1'!$B$23:$Q$75,6,FALSE)*'PSS References'!$E$11)+VLOOKUP(A50,'Project Summary Sheet (PSS)_1'!$B$23:$Q$75,9,FALSE))/'Project Summary Sheet (PSS)_1'!$T$17,\"\")","v":""},{"$f":"IF(A50=\"\",\"\",IF(M50<0,IF(OR(M50<'Project Summary Sheet (PSS)_1'!L70*1.1,M50>'Project Summary Sheet (PSS)_1'!L70*0.9),\"Check Rates\",\"Rate OK\"),IF(OR(M50>'Project Summary Sheet (PSS)_1'!L70*1.1,M50<'Project Summary Sheet (PSS)_1'!L70*0.9),\"Check Rates\",\"Rate OK\")))","v":""},{"$f":"IF(A50=\"\",\"\",'Project Summary Sheet (PSS)_1'!G70*'Project Summary Sheet (PSS)_1'!$E$18)","v":""},{"$f":"IF(A50=\"\",\"\",IF('Project Summary Sheet (PSS)_1'!$F$18<>\"\",('Project Summary Sheet (PSS)_1'!H70*'Project Summary Sheet (PSS)_1'!$F$18),0))","v":""},{"$f":"IF(A50=\"\",\"\",IF('Project Summary Sheet (PSS)_1'!I70=\"\",\"-\",IF('Project Summary Sheet (PSS)_1'!I70='PSS References'!$N$18,'Project Summary Sheet (PSS)_1'!J70*'PSS Savings Check_1'!$W$9,IF('Project Summary Sheet (PSS)_1'!I70='PSS References'!$N$19,'Project Summary Sheet (PSS)_1'!J70*'PSS Savings Check_1'!$AA$9,IF('Project Summary Sheet (PSS)_1'!I70='PSS References'!$N$20,'Project Summary Sheet (PSS)_1'!J70*'PSS Savings Check_1'!$Y$9,IF('Project Summary Sheet (PSS)_1'!I70='PSS References'!$N$21,'Project Summary Sheet (PSS)_1'!J70*'PSS Savings Check_1'!$Y$9,IF('Project Summary Sheet (PSS)_1'!I70='PSS References'!$N$22,'Project Summary Sheet (PSS)_1'!J70*'PSS Savings Check_1'!$Y$9,IF('Project Summary Sheet (PSS)_1'!I70='PSS References'!$N$23,'Project Summary Sheet (PSS)_1'!J70*'PSS Savings Check_1'!$AC$9,IF('Project Summary Sheet (PSS)_1'!I70='PSS References'!$N$24,'Project Summary Sheet (PSS)_1'!J70*'PSS Savings Check_1'!$AE$9,IF('Project Summary Sheet (PSS)_1'!I70='PSS References'!$N$25,'Project Summary Sheet (PSS)_1'!J70*'PSS Savings Check_1'!$AG$9,IF('Project Summary Sheet (PSS)_1'!I70='PSS References'!$N$17,\"-\")))))))))))","v":""},{"$f":"IF(A50=\"\",\"\",IF('Project Summary Sheet (PSS)_1'!I70=\"\",\"-\",IF('Project Summary Sheet (PSS)_1'!I70='PSS References'!$N$17,IF('Project Summary Sheet (PSS)_1'!W70='PSS References'!$N$18,'Project Summary Sheet (PSS)_1'!X70*'PSS Savings Check_1'!$W$9,IF('Project Summary Sheet (PSS)_1'!W70='PSS References'!$N$19,'Project Summary Sheet (PSS)_1'!X70*'PSS Savings Check_1'!$AA$9,IF('Project Summary Sheet (PSS)_1'!W70='PSS References'!$N$20,'Project Summary Sheet (PSS)_1'!X70*'PSS Savings Check_1'!$Y$9,IF('Project Summary Sheet (PSS)_1'!W70='PSS References'!$N$21,'Project Summary Sheet (PSS)_1'!X70*'PSS Savings Check_1'!$Y$9,IF('Project Summary Sheet (PSS)_1'!W70='PSS References'!$N$22,'Project Summary Sheet (PSS)_1'!X70*'PSS Savings Check_1'!$Y$9,IF('Project Summary Sheet (PSS)_1'!W70='PSS References'!$N$23,'Project Summary Sheet (PSS)_1'!X70*'PSS Savings Check_1'!$AC$9,IF('Project Summary Sheet (PSS)_1'!W70='PSS References'!$N$24,'Project Summary Sheet (PSS)_1'!X70*'PSS Savings Check_1'!$AE$9,IF('Project Summary Sheet (PSS)_1'!W70='PSS References'!$N$25,'Project Summary Sheet (PSS)_1'!X70*'PSS Savings Check_1'!$AG$9,IF('Project Summary Sheet (PSS)_1'!W70='PSS References'!$N$17,\"Can't be 'Multiple'\",))))))))),\"-\")))","v":""},{"$f":"IF(A50=\"\",\"\",IF('Project Summary Sheet (PSS)_1'!I70=\"\",\"-\",IF('Project Summary Sheet (PSS)_1'!I70='PSS References'!$N$17,IF('Project Summary Sheet (PSS)_1'!Y70='PSS References'!$N$18,'Project Summary Sheet (PSS)_1'!Z70*'PSS Savings Check_1'!$W$9,IF('Project Summary Sheet (PSS)_1'!Y70='PSS References'!$N$19,'Project Summary Sheet (PSS)_1'!Z70*'PSS Savings Check_1'!$AA$9,IF('Project Summary Sheet (PSS)_1'!Y70='PSS References'!$N$20,'Project Summary Sheet (PSS)_1'!Z70*'PSS Savings Check_1'!$Y$9,IF('Project Summary Sheet (PSS)_1'!Y70='PSS References'!$N$21,'Project Summary Sheet (PSS)_1'!Z70*'PSS Savings Check_1'!$Y$9,IF('Project Summary Sheet (PSS)_1'!Y70='PSS References'!$N$22,'Project Summary Sheet (PSS)_1'!Z70*'PSS Savings Check_1'!$Y$9,IF('Project Summary Sheet (PSS)_1'!Y70='PSS References'!$N$23,'Project Summary Sheet (PSS)_1'!Z70*'PSS Savings Check_1'!$AC$9,IF('Project Summary Sheet (PSS)_1'!Y70='PSS References'!$N$24,'Project Summary Sheet (PSS)_1'!Z70*'PSS Savings Check_1'!$AE$9,IF('Project Summary Sheet (PSS)_1'!Y70='PSS References'!$N$25,'Project Summary Sheet (PSS)_1'!Z70*'PSS Savings Check_1'!$AG$9,IF('Project Summary Sheet (PSS)_1'!Y70='PSS References'!$N$17,\"Can't be 'Multiple'\",))))))))),\"-\")))","v":""},{"$f":"IF(A50=\"\",\"\",IF('Project Summary Sheet (PSS)_1'!I70=\"\",\"-\",IF('Project Summary Sheet (PSS)_1'!I70='PSS References'!$N$17,IF('Project Summary Sheet (PSS)_1'!AA70='PSS References'!$N$18,'Project Summary Sheet (PSS)_1'!AB70*'PSS Savings Check_1'!$W$9,IF('Project Summary Sheet (PSS)_1'!AA70='PSS References'!N63,'Project Summary Sheet (PSS)_1'!AB70*'PSS Savings Check_1'!$AA$9,IF('Project Summary Sheet (PSS)_1'!AA70='PSS References'!$N$20,'Project Summary Sheet (PSS)_1'!AB70*'PSS Savings Check_1'!$Y$9,IF('Project Summary Sheet (PSS)_1'!AA70='PSS References'!$N$21,'Project Summary Sheet (PSS)_1'!AB70*'PSS Savings Check_1'!$Y$9,IF('Project Summary Sheet (PSS)_1'!AA70='PSS References'!$N$22,'Project Summary Sheet (PSS)_1'!AB70*'PSS Savings Check_1'!$Y$9,IF('Project Summary Sheet (PSS)_1'!AA70='PSS References'!$N$23,'Project Summary Sheet (PSS)_1'!AB70*'PSS Savings Check_1'!$AC$9,IF('Project Summary Sheet (PSS)_1'!AA70='PSS References'!$N$24,'Project Summary Sheet (PSS)_1'!AB70*'PSS Savings Check_1'!$AE$9,IF('Project Summary Sheet (PSS)_1'!AA70='PSS References'!$N$25,'Project Summary Sheet (PSS)_1'!AB70*'PSS Savings Check_1'!$AG$9,IF('Project Summary Sheet (PSS)_1'!AA70='PSS References'!$N$17,\"Can't be 'Multiple'\",))))))))),\"-\")))","v":""},"",{"$f":"IF('Project Summary Sheet (PSS)_1'!L70=\"\",\"\",'Project Summary Sheet (PSS)_1'!L70)","v":""},""]
[{"$f":"IF('Project Summary Sheet (PSS)_1'!B71=\"\",\"\",'Project Summary Sheet (PSS)_1'!B71)","v":""},{"$f":"IF('Project Summary Sheet (PSS)_1'!C71=\"\",\"\",'Project Summary Sheet (PSS)_1'!C71)","v":""},{"$f":"IFERROR(VLOOKUP(A51,'Project Summary Sheet (PSS)_1'!$B$23:$Q$75,6,FALSE)/'Project Summary Sheet (PSS)_1'!$D$17,\"\")","v":""},{"$f":"IFERROR(VLOOKUP(A51,'Project Summary Sheet (PSS)_1'!$B$23:$Q$75,9,FALSE)/('Project Summary Sheet (PSS)_1'!$T$17-('Project Summary Sheet (PSS)_1'!$D$17*'PSS References'!$E$11)),\"\")","v":""},{"$f":"IFERROR(((VLOOKUP(A51,'Project Summary Sheet (PSS)_1'!$B$23:$Q$75,6,FALSE)*'PSS References'!$E$11)+VLOOKUP(A51,'Project Summary Sheet (PSS)_1'!$B$23:$Q$75,9,FALSE))/'Project Summary Sheet (PSS)_1'!$T$17,\"\")","v":""},{"$f":"IF(A51=\"\",\"\",IF(M51<0,IF(OR(M51<'Project Summary Sheet (PSS)_1'!L71*1.1,M51>'Project Summary Sheet (PSS)_1'!L71*0.9),\"Check Rates\",\"Rate OK\"),IF(OR(M51>'Project Summary Sheet (PSS)_1'!L71*1.1,M51<'Project Summary Sheet (PSS)_1'!L71*0.9),\"Check Rates\",\"Rate OK\")))","v":""},{"$f":"IF(A51=\"\",\"\",'Project Summary Sheet (PSS)_1'!G71*'Project Summary Sheet (PSS)_1'!$E$18)","v":""},{"$f":"IF(A51=\"\",\"\",IF('Project Summary Sheet (PSS)_1'!$F$18<>\"\",('Project Summary Sheet (PSS)_1'!H71*'Project Summary Sheet (PSS)_1'!$F$18),0))","v":""},{"$f":"IF(A51=\"\",\"\",IF('Project Summary Sheet (PSS)_1'!I71=\"\",\"-\",IF('Project Summary Sheet (PSS)_1'!I71='PSS References'!$N$18,'Project Summary Sheet (PSS)_1'!J71*'PSS Savings Check_1'!$W$9,IF('Project Summary Sheet (PSS)_1'!I71='PSS References'!$N$19,'Project Summary Sheet (PSS)_1'!J71*'PSS Savings Check_1'!$AA$9,IF('Project Summary Sheet (PSS)_1'!I71='PSS References'!$N$20,'Project Summary Sheet (PSS)_1'!J71*'PSS Savings Check_1'!$Y$9,IF('Project Summary Sheet (PSS)_1'!I71='PSS References'!$N$21,'Project Summary Sheet (PSS)_1'!J71*'PSS Savings Check_1'!$Y$9,IF('Project Summary Sheet (PSS)_1'!I71='PSS References'!$N$22,'Project Summary Sheet (PSS)_1'!J71*'PSS Savings Check_1'!$Y$9,IF('Project Summary Sheet (PSS)_1'!I71='PSS References'!$N$23,'Project Summary Sheet (PSS)_1'!J71*'PSS Savings Check_1'!$AC$9,IF('Project Summary Sheet (PSS)_1'!I71='PSS References'!$N$24,'Project Summary Sheet (PSS)_1'!J71*'PSS Savings Check_1'!$AE$9,IF('Project Summary Sheet (PSS)_1'!I71='PSS References'!$N$25,'Project Summary Sheet (PSS)_1'!J71*'PSS Savings Check_1'!$AG$9,IF('Project Summary Sheet (PSS)_1'!I71='PSS References'!$N$17,\"-\")))))))))))","v":""},{"$f":"IF(A51=\"\",\"\",IF('Project Summary Sheet (PSS)_1'!I71=\"\",\"-\",IF('Project Summary Sheet (PSS)_1'!I71='PSS References'!$N$17,IF('Project Summary Sheet (PSS)_1'!W71='PSS References'!$N$18,'Project Summary Sheet (PSS)_1'!X71*'PSS Savings Check_1'!$W$9,IF('Project Summary Sheet (PSS)_1'!W71='PSS References'!$N$19,'Project Summary Sheet (PSS)_1'!X71*'PSS Savings Check_1'!$AA$9,IF('Project Summary Sheet (PSS)_1'!W71='PSS References'!$N$20,'Project Summary Sheet (PSS)_1'!X71*'PSS Savings Check_1'!$Y$9,IF('Project Summary Sheet (PSS)_1'!W71='PSS References'!$N$21,'Project Summary Sheet (PSS)_1'!X71*'PSS Savings Check_1'!$Y$9,IF('Project Summary Sheet (PSS)_1'!W71='PSS References'!$N$22,'Project Summary Sheet (PSS)_1'!X71*'PSS Savings Check_1'!$Y$9,IF('Project Summary Sheet (PSS)_1'!W71='PSS References'!$N$23,'Project Summary Sheet (PSS)_1'!X71*'PSS Savings Check_1'!$AC$9,IF('Project Summary Sheet (PSS)_1'!W71='PSS References'!$N$24,'Project Summary Sheet (PSS)_1'!X71*'PSS Savings Check_1'!$AE$9,IF('Project Summary Sheet (PSS)_1'!W71='PSS References'!$N$25,'Project Summary Sheet (PSS)_1'!X71*'PSS Savings Check_1'!$AG$9,IF('Project Summary Sheet (PSS)_1'!W71='PSS References'!$N$17,\"Can't be 'Multiple'\",))))))))),\"-\")))","v":""},{"$f":"IF(A51=\"\",\"\",IF('Project Summary Sheet (PSS)_1'!I71=\"\",\"-\",IF('Project Summary Sheet (PSS)_1'!I71='PSS References'!$N$17,IF('Project Summary Sheet (PSS)_1'!Y71='PSS References'!$N$18,'Project Summary Sheet (PSS)_1'!Z71*'PSS Savings Check_1'!$W$9,IF('Project Summary Sheet (PSS)_1'!Y71='PSS References'!$N$19,'Project Summary Sheet (PSS)_1'!Z71*'PSS Savings Check_1'!$AA$9,IF('Project Summary Sheet (PSS)_1'!Y71='PSS References'!$N$20,'Project Summary Sheet (PSS)_1'!Z71*'PSS Savings Check_1'!$Y$9,IF('Project Summary Sheet (PSS)_1'!Y71='PSS References'!$N$21,'Project Summary Sheet (PSS)_1'!Z71*'PSS Savings Check_1'!$Y$9,IF('Project Summary Sheet (PSS)_1'!Y71='PSS References'!$N$22,'Project Summary Sheet (PSS)_1'!Z71*'PSS Savings Check_1'!$Y$9,IF('Project Summary Sheet (PSS)_1'!Y71='PSS References'!$N$23,'Project Summary Sheet (PSS)_1'!Z71*'PSS Savings Check_1'!$AC$9,IF('Project Summary Sheet (PSS)_1'!Y71='PSS References'!$N$24,'Project Summary Sheet (PSS)_1'!Z71*'PSS Savings Check_1'!$AE$9,IF('Project Summary Sheet (PSS)_1'!Y71='PSS References'!$N$25,'Project Summary Sheet (PSS)_1'!Z71*'PSS Savings Check_1'!$AG$9,IF('Project Summary Sheet (PSS)_1'!Y71='PSS References'!$N$17,\"Can't be 'Multiple'\",))))))))),\"-\")))","v":""},{"$f":"IF(A51=\"\",\"\",IF('Project Summary Sheet (PSS)_1'!I71=\"\",\"-\",IF('Project Summary Sheet (PSS)_1'!I71='PSS References'!$N$17,IF('Project Summary Sheet (PSS)_1'!AA71='PSS References'!$N$18,'Project Summary Sheet (PSS)_1'!AB71*'PSS Savings Check_1'!$W$9,IF('Project Summary Sheet (PSS)_1'!AA71='PSS References'!N64,'Project Summary Sheet (PSS)_1'!AB71*'PSS Savings Check_1'!$AA$9,IF('Project Summary Sheet (PSS)_1'!AA71='PSS References'!$N$20,'Project Summary Sheet (PSS)_1'!AB71*'PSS Savings Check_1'!$Y$9,IF('Project Summary Sheet (PSS)_1'!AA71='PSS References'!$N$21,'Project Summary Sheet (PSS)_1'!AB71*'PSS Savings Check_1'!$Y$9,IF('Project Summary Sheet (PSS)_1'!AA71='PSS References'!$N$22,'Project Summary Sheet (PSS)_1'!AB71*'PSS Savings Check_1'!$Y$9,IF('Project Summary Sheet (PSS)_1'!AA71='PSS References'!$N$23,'Project Summary Sheet (PSS)_1'!AB71*'PSS Savings Check_1'!$AC$9,IF('Project Summary Sheet (PSS)_1'!AA71='PSS References'!$N$24,'Project Summary Sheet (PSS)_1'!AB71*'PSS Savings Check_1'!$AE$9,IF('Project Summary Sheet (PSS)_1'!AA71='PSS References'!$N$25,'Project Summary Sheet (PSS)_1'!AB71*'PSS Savings Check_1'!$AG$9,IF('Project Summary Sheet (PSS)_1'!AA71='PSS References'!$N$17,\"Can't be 'Multiple'\",))))))))),\"-\")))","v":""},"",{"$f":"IF('Project Summary Sheet (PSS)_1'!L71=\"\",\"\",'Project Summary Sheet (PSS)_1'!L71)","v":""},""]
[{"$f":"IF('Project Summary Sheet (PSS)_1'!B72=\"\",\"\",'Project Summary Sheet (PSS)_1'!B72)","v":""},{"$f":"IF('Project Summary Sheet (PSS)_1'!C72=\"\",\"\",'Project Summary Sheet (PSS)_1'!C72)","v":""},{"$f":"IFERROR(VLOOKUP(A52,'Project Summary Sheet (PSS)_1'!$B$23:$Q$75,6,FALSE)/'Project Summary Sheet (PSS)_1'!$D$17,\"\")","v":""},{"$f":"IFERROR(VLOOKUP(A52,'Project Summary Sheet (PSS)_1'!$B$23:$Q$75,9,FALSE)/('Project Summary Sheet (PSS)_1'!$T$17-('Project Summary Sheet (PSS)_1'!$D$17*'PSS References'!$E$11)),\"\")","v":""},{"$f":"IFERROR(((VLOOKUP(A52,'Project Summary Sheet (PSS)_1'!$B$23:$Q$75,6,FALSE)*'PSS References'!$E$11)+VLOOKUP(A52,'Project Summary Sheet (PSS)_1'!$B$23:$Q$75,9,FALSE))/'Project Summary Sheet (PSS)_1'!$T$17,\"\")","v":""},{"$f":"IF(A52=\"\",\"\",IF(M52<0,IF(OR(M52<'Project Summary Sheet (PSS)_1'!L72*1.1,M52>'Project Summary Sheet (PSS)_1'!L72*0.9),\"Check Rates\",\"Rate OK\"),IF(OR(M52>'Project Summary Sheet (PSS)_1'!L72*1.1,M52<'Project Summary Sheet (PSS)_1'!L72*0.9),\"Check Rates\",\"Rate OK\")))","v":""},{"$f":"IF(A52=\"\",\"\",'Project Summary Sheet (PSS)_1'!G72*'Project Summary Sheet (PSS)_1'!$E$18)","v":""},{"$f":"IF(A52=\"\",\"\",IF('Project Summary Sheet (PSS)_1'!$F$18<>\"\",('Project Summary Sheet (PSS)_1'!H72*'Project Summary Sheet (PSS)_1'!$F$18),0))","v":""},{"$f":"IF(A52=\"\",\"\",IF('Project Summary Sheet (PSS)_1'!I72=\"\",\"-\",IF('Project Summary Sheet (PSS)_1'!I72='PSS References'!$N$18,'Project Summary Sheet (PSS)_1'!J72*'PSS Savings Check_1'!$W$9,IF('Project Summary Sheet (PSS)_1'!I72='PSS References'!$N$19,'Project Summary Sheet (PSS)_1'!J72*'PSS Savings Check_1'!$AA$9,IF('Project Summary Sheet (PSS)_1'!I72='PSS References'!$N$20,'Project Summary Sheet (PSS)_1'!J72*'PSS Savings Check_1'!$Y$9,IF('Project Summary Sheet (PSS)_1'!I72='PSS References'!$N$21,'Project Summary Sheet (PSS)_1'!J72*'PSS Savings Check_1'!$Y$9,IF('Project Summary Sheet (PSS)_1'!I72='PSS References'!$N$22,'Project Summary Sheet (PSS)_1'!J72*'PSS Savings Check_1'!$Y$9,IF('Project Summary Sheet (PSS)_1'!I72='PSS References'!$N$23,'Project Summary Sheet (PSS)_1'!J72*'PSS Savings Check_1'!$AC$9,IF('Project Summary Sheet (PSS)_1'!I72='PSS References'!$N$24,'Project Summary Sheet (PSS)_1'!J72*'PSS Savings Check_1'!$AE$9,IF('Project Summary Sheet (PSS)_1'!I72='PSS References'!$N$25,'Project Summary Sheet (PSS)_1'!J72*'PSS Savings Check_1'!$AG$9,IF('Project Summary Sheet (PSS)_1'!I72='PSS References'!$N$17,\"-\")))))))))))","v":""},{"$f":"IF(A52=\"\",\"\",IF('Project Summary Sheet (PSS)_1'!I72=\"\",\"-\",IF('Project Summary Sheet (PSS)_1'!I72='PSS References'!$N$17,IF('Project Summary Sheet (PSS)_1'!W72='PSS References'!$N$18,'Project Summary Sheet (PSS)_1'!X72*'PSS Savings Check_1'!$W$9,IF('Project Summary Sheet (PSS)_1'!W72='PSS References'!$N$19,'Project Summary Sheet (PSS)_1'!X72*'PSS Savings Check_1'!$AA$9,IF('Project Summary Sheet (PSS)_1'!W72='PSS References'!$N$20,'Project Summary Sheet (PSS)_1'!X72*'PSS Savings Check_1'!$Y$9,IF('Project Summary Sheet (PSS)_1'!W72='PSS References'!$N$21,'Project Summary Sheet (PSS)_1'!X72*'PSS Savings Check_1'!$Y$9,IF('Project Summary Sheet (PSS)_1'!W72='PSS References'!$N$22,'Project Summary Sheet (PSS)_1'!X72*'PSS Savings Check_1'!$Y$9,IF('Project Summary Sheet (PSS)_1'!W72='PSS References'!$N$23,'Project Summary Sheet (PSS)_1'!X72*'PSS Savings Check_1'!$AC$9,IF('Project Summary Sheet (PSS)_1'!W72='PSS References'!$N$24,'Project Summary Sheet (PSS)_1'!X72*'PSS Savings Check_1'!$AE$9,IF('Project Summary Sheet (PSS)_1'!W72='PSS References'!$N$25,'Project Summary Sheet (PSS)_1'!X72*'PSS Savings Check_1'!$AG$9,IF('Project Summary Sheet (PSS)_1'!W72='PSS References'!$N$17,\"Can't be 'Multiple'\",))))))))),\"-\")))","v":""},{"$f":"IF(A52=\"\",\"\",IF('Project Summary Sheet (PSS)_1'!I72=\"\",\"-\",IF('Project Summary Sheet (PSS)_1'!I72='PSS References'!$N$17,IF('Project Summary Sheet (PSS)_1'!Y72='PSS References'!$N$18,'Project Summary Sheet (PSS)_1'!Z72*'PSS Savings Check_1'!$W$9,IF('Project Summary Sheet (PSS)_1'!Y72='PSS References'!$N$19,'Project Summary Sheet (PSS)_1'!Z72*'PSS Savings Check_1'!$AA$9,IF('Project Summary Sheet (PSS)_1'!Y72='PSS References'!$N$20,'Project Summary Sheet (PSS)_1'!Z72*'PSS Savings Check_1'!$Y$9,IF('Project Summary Sheet (PSS)_1'!Y72='PSS References'!$N$21,'Project Summary Sheet (PSS)_1'!Z72*'PSS Savings Check_1'!$Y$9,IF('Project Summary Sheet (PSS)_1'!Y72='PSS References'!$N$22,'Project Summary Sheet (PSS)_1'!Z72*'PSS Savings Check_1'!$Y$9,IF('Project Summary Sheet (PSS)_1'!Y72='PSS References'!$N$23,'Project Summary Sheet (PSS)_1'!Z72*'PSS Savings Check_1'!$AC$9,IF('Project Summary Sheet (PSS)_1'!Y72='PSS References'!$N$24,'Project Summary Sheet (PSS)_1'!Z72*'PSS Savings Check_1'!$AE$9,IF('Project Summary Sheet (PSS)_1'!Y72='PSS References'!$N$25,'Project Summary Sheet (PSS)_1'!Z72*'PSS Savings Check_1'!$AG$9,IF('Project Summary Sheet (PSS)_1'!Y72='PSS References'!$N$17,\"Can't be 'Multiple'\",))))))))),\"-\")))","v":""},{"$f":"IF(A52=\"\",\"\",IF('Project Summary Sheet (PSS)_1'!I72=\"\",\"-\",IF('Project Summary Sheet (PSS)_1'!I72='PSS References'!$N$17,IF('Project Summary Sheet (PSS)_1'!AA72='PSS References'!$N$18,'Project Summary Sheet (PSS)_1'!AB72*'PSS Savings Check_1'!$W$9,IF('Project Summary Sheet (PSS)_1'!AA72='PSS References'!N65,'Project Summary Sheet (PSS)_1'!AB72*'PSS Savings Check_1'!$AA$9,IF('Project Summary Sheet (PSS)_1'!AA72='PSS References'!$N$20,'Project Summary Sheet (PSS)_1'!AB72*'PSS Savings Check_1'!$Y$9,IF('Project Summary Sheet (PSS)_1'!AA72='PSS References'!$N$21,'Project Summary Sheet (PSS)_1'!AB72*'PSS Savings Check_1'!$Y$9,IF('Project Summary Sheet (PSS)_1'!AA72='PSS References'!$N$22,'Project Summary Sheet (PSS)_1'!AB72*'PSS Savings Check_1'!$Y$9,IF('Project Summary Sheet (PSS)_1'!AA72='PSS References'!$N$23,'Project Summary Sheet (PSS)_1'!AB72*'PSS Savings Check_1'!$AC$9,IF('Project Summary Sheet (PSS)_1'!AA72='PSS References'!$N$24,'Project Summary Sheet (PSS)_1'!AB72*'PSS Savings Check_1'!$AE$9,IF('Project Summary Sheet (PSS)_1'!AA72='PSS References'!$N$25,'Project Summary Sheet (PSS)_1'!AB72*'PSS Savings Check_1'!$AG$9,IF('Project Summary Sheet (PSS)_1'!AA72='PSS References'!$N$17,\"Can't be 'Multiple'\",))))))))),\"-\")))","v":""},"",{"$f":"IF('Project Summary Sheet (PSS)_1'!L72=\"\",\"\",'Project Summary Sheet (PSS)_1'!L72)","v":""},""]
[{"$f":"IF('Project Summary Sheet (PSS)_1'!B73=\"\",\"\",'Project Summary Sheet (PSS)_1'!B73)","v":""},{"$f":"IF('Project Summary Sheet (PSS)_1'!C73=\"\",\"\",'Project Summary Sheet (PSS)_1'!C73)","v":""},{"$f":"IFERROR(VLOOKUP(A53,'Project Summary Sheet (PSS)_1'!$B$23:$Q$75,6,FALSE)/'Project Summary Sheet (PSS)_1'!$D$17,\"\")","v":""},{"$f":"IFERROR(VLOOKUP(A53,'Project Summary Sheet (PSS)_1'!$B$23:$Q$75,9,FALSE)/('Project Summary Sheet (PSS)_1'!$T$17-('Project Summary Sheet (PSS)_1'!$D$17*'PSS References'!$E$11)),\"\")","v":""},{"$f":"IFERROR(((VLOOKUP(A53,'Project Summary Sheet (PSS)_1'!$B$23:$Q$75,6,FALSE)*'PSS References'!$E$11)+VLOOKUP(A53,'Project Summary Sheet (PSS)_1'!$B$23:$Q$75,9,FALSE))/'Project Summary Sheet (PSS)_1'!$T$17,\"\")","v":""},{"$f":"IF(A53=\"\",\"\",IF(M53<0,IF(OR(M53<'Project Summary Sheet (PSS)_1'!L73*1.1,M53>'Project Summary Sheet (PSS)_1'!L73*0.9),\"Check Rates\",\"Rate OK\"),IF(OR(M53>'Project Summary Sheet (PSS)_1'!L73*1.1,M53<'Project Summary Sheet (PSS)_1'!L73*0.9),\"Check Rates\",\"Rate OK\")))","v":""},{"$f":"IF(A53=\"\",\"\",'Project Summary Sheet (PSS)_1'!G73*'Project Summary Sheet (PSS)_1'!$E$18)","v":""},{"$f":"IF(A53=\"\",\"\",IF('Project Summary Sheet (PSS)_1'!$F$18<>\"\",('Project Summary Sheet (PSS)_1'!H73*'Project Summary Sheet (PSS)_1'!$F$18),0))","v":""},{"$f":"IF(A53=\"\",\"\",IF('Project Summary Sheet (PSS)_1'!I73=\"\",\"-\",IF('Project Summary Sheet (PSS)_1'!I73='PSS References'!$N$18,'Project Summary Sheet (PSS)_1'!J73*'PSS Savings Check_1'!$W$9,IF('Project Summary Sheet (PSS)_1'!I73='PSS References'!$N$19,'Project Summary Sheet (PSS)_1'!J73*'PSS Savings Check_1'!$AA$9,IF('Project Summary Sheet (PSS)_1'!I73='PSS References'!$N$20,'Project Summary Sheet (PSS)_1'!J73*'PSS Savings Check_1'!$Y$9,IF('Project Summary Sheet (PSS)_1'!I73='PSS References'!$N$21,'Project Summary Sheet (PSS)_1'!J73*'PSS Savings Check_1'!$Y$9,IF('Project Summary Sheet (PSS)_1'!I73='PSS References'!$N$22,'Project Summary Sheet (PSS)_1'!J73*'PSS Savings Check_1'!$Y$9,IF('Project Summary Sheet (PSS)_1'!I73='PSS References'!$N$23,'Project Summary Sheet (PSS)_1'!J73*'PSS Savings Check_1'!$AC$9,IF('Project Summary Sheet (PSS)_1'!I73='PSS References'!$N$24,'Project Summary Sheet (PSS)_1'!J73*'PSS Savings Check_1'!$AE$9,IF('Project Summary Sheet (PSS)_1'!I73='PSS References'!$N$25,'Project Summary Sheet (PSS)_1'!J73*'PSS Savings Check_1'!$AG$9,IF('Project Summary Sheet (PSS)_1'!I73='PSS References'!$N$17,\"-\")))))))))))","v":""},{"$f":"IF(A53=\"\",\"\",IF('Project Summary Sheet (PSS)_1'!I73=\"\",\"-\",IF('Project Summary Sheet (PSS)_1'!I73='PSS References'!$N$17,IF('Project Summary Sheet (PSS)_1'!W73='PSS References'!$N$18,'Project Summary Sheet (PSS)_1'!X73*'PSS Savings Check_1'!$W$9,IF('Project Summary Sheet (PSS)_1'!W73='PSS References'!$N$19,'Project Summary Sheet (PSS)_1'!X73*'PSS Savings Check_1'!$AA$9,IF('Project Summary Sheet (PSS)_1'!W73='PSS References'!$N$20,'Project Summary Sheet (PSS)_1'!X73*'PSS Savings Check_1'!$Y$9,IF('Project Summary Sheet (PSS)_1'!W73='PSS References'!$N$21,'Project Summary Sheet (PSS)_1'!X73*'PSS Savings Check_1'!$Y$9,IF('Project Summary Sheet (PSS)_1'!W73='PSS References'!$N$22,'Project Summary Sheet (PSS)_1'!X73*'PSS Savings Check_1'!$Y$9,IF('Project Summary Sheet (PSS)_1'!W73='PSS References'!$N$23,'Project Summary Sheet (PSS)_1'!X73*'PSS Savings Check_1'!$AC$9,IF('Project Summary Sheet (PSS)_1'!W73='PSS References'!$N$24,'Project Summary Sheet (PSS)_1'!X73*'PSS Savings Check_1'!$AE$9,IF('Project Summary Sheet (PSS)_1'!W73='PSS References'!$N$25,'Project Summary Sheet (PSS)_1'!X73*'PSS Savings Check_1'!$AG$9,IF('Project Summary Sheet (PSS)_1'!W73='PSS References'!$N$17,\"Can't be 'Multiple'\",))))))))),\"-\")))","v":""},{"$f":"IF(A53=\"\",\"\",IF('Project Summary Sheet (PSS)_1'!I73=\"\",\"-\",IF('Project Summary Sheet (PSS)_1'!I73='PSS References'!$N$17,IF('Project Summary Sheet (PSS)_1'!Y73='PSS References'!$N$18,'Project Summary Sheet (PSS)_1'!Z73*'PSS Savings Check_1'!$W$9,IF('Project Summary Sheet (PSS)_1'!Y73='PSS References'!$N$19,'Project Summary Sheet (PSS)_1'!Z73*'PSS Savings Check_1'!$AA$9,IF('Project Summary Sheet (PSS)_1'!Y73='PSS References'!$N$20,'Project Summary Sheet (PSS)_1'!Z73*'PSS Savings Check_1'!$Y$9,IF('Project Summary Sheet (PSS)_1'!Y73='PSS References'!$N$21,'Project Summary Sheet (PSS)_1'!Z73*'PSS Savings Check_1'!$Y$9,IF('Project Summary Sheet (PSS)_1'!Y73='PSS References'!$N$22,'Project Summary Sheet (PSS)_1'!Z73*'PSS Savings Check_1'!$Y$9,IF('Project Summary Sheet (PSS)_1'!Y73='PSS References'!$N$23,'Project Summary Sheet (PSS)_1'!Z73*'PSS Savings Check_1'!$AC$9,IF('Project Summary Sheet (PSS)_1'!Y73='PSS References'!$N$24,'Project Summary Sheet (PSS)_1'!Z73*'PSS Savings Check_1'!$AE$9,IF('Project Summary Sheet (PSS)_1'!Y73='PSS References'!$N$25,'Project Summary Sheet (PSS)_1'!Z73*'PSS Savings Check_1'!$AG$9,IF('Project Summary Sheet (PSS)_1'!Y73='PSS References'!$N$17,\"Can't be 'Multiple'\",))))))))),\"-\")))","v":""},{"$f":"IF(A53=\"\",\"\",IF('Project Summary Sheet (PSS)_1'!I73=\"\",\"-\",IF('Project Summary Sheet (PSS)_1'!I73='PSS References'!$N$17,IF('Project Summary Sheet (PSS)_1'!AA73='PSS References'!$N$18,'Project Summary Sheet (PSS)_1'!AB73*'PSS Savings Check_1'!$W$9,IF('Project Summary Sheet (PSS)_1'!AA73='PSS References'!N66,'Project Summary Sheet (PSS)_1'!AB73*'PSS Savings Check_1'!$AA$9,IF('Project Summary Sheet (PSS)_1'!AA73='PSS References'!$N$20,'Project Summary Sheet (PSS)_1'!AB73*'PSS Savings Check_1'!$Y$9,IF('Project Summary Sheet (PSS)_1'!AA73='PSS References'!$N$21,'Project Summary Sheet (PSS)_1'!AB73*'PSS Savings Check_1'!$Y$9,IF('Project Summary Sheet (PSS)_1'!AA73='PSS References'!$N$22,'Project Summary Sheet (PSS)_1'!AB73*'PSS Savings Check_1'!$Y$9,IF('Project Summary Sheet (PSS)_1'!AA73='PSS References'!$N$23,'Project Summary Sheet (PSS)_1'!AB73*'PSS Savings Check_1'!$AC$9,IF('Project Summary Sheet (PSS)_1'!AA73='PSS References'!$N$24,'Project Summary Sheet (PSS)_1'!AB73*'PSS Savings Check_1'!$AE$9,IF('Project Summary Sheet (PSS)_1'!AA73='PSS References'!$N$25,'Project Summary Sheet (PSS)_1'!AB73*'PSS Savings Check_1'!$AG$9,IF('Project Summary Sheet (PSS)_1'!AA73='PSS References'!$N$17,\"Can't be 'Multiple'\",))))))))),\"-\")))","v":""},"",{"$f":"IF('Project Summary Sheet (PSS)_1'!L73=\"\",\"\",'Project Summary Sheet (PSS)_1'!L73)","v":""},""]
[{"$f":"IF('Project Summary Sheet (PSS)_1'!B74=\"\",\"\",'Project Summary Sheet (PSS)_1'!B74)","v":""},{"$f":"IF('Project Summary Sheet (PSS)_1'!C74=\"\",\"\",'Project Summary Sheet (PSS)_1'!C74)","v":""},{"$f":"IFERROR(VLOOKUP(A54,'Project Summary Sheet (PSS)_1'!$B$23:$Q$75,6,FALSE)/'Project Summary Sheet (PSS)_1'!$D$17,\"\")","v":""},{"$f":"IFERROR(VLOOKUP(A54,'Project Summary Sheet (PSS)_1'!$B$23:$Q$75,9,FALSE)/('Project Summary Sheet (PSS)_1'!$T$17-('Project Summary Sheet (PSS)_1'!$D$17*'PSS References'!$E$11)),\"\")","v":""},{"$f":"IFERROR(((VLOOKUP(A54,'Project Summary Sheet (PSS)_1'!$B$23:$Q$75,6,FALSE)*'PSS References'!$E$11)+VLOOKUP(A54,'Project Summary Sheet (PSS)_1'!$B$23:$Q$75,9,FALSE))/'Project Summary Sheet (PSS)_1'!$T$17,\"\")","v":""},{"$f":"IF(A54=\"\",\"\",IF(M54<0,IF(OR(M54<'Project Summary Sheet (PSS)_1'!L74*1.1,M54>'Project Summary Sheet (PSS)_1'!L74*0.9),\"Check Rates\",\"Rate OK\"),IF(OR(M54>'Project Summary Sheet (PSS)_1'!L74*1.1,M54<'Project Summary Sheet (PSS)_1'!L74*0.9),\"Check Rates\",\"Rate OK\")))","v":""},{"$f":"IF(A54=\"\",\"\",'Project Summary Sheet (PSS)_1'!G74*'Project Summary Sheet (PSS)_1'!$E$18)","v":""},{"$f":"IF(A54=\"\",\"\",IF('Project Summary Sheet (PSS)_1'!$F$18<>\"\",('Project Summary Sheet (PSS)_1'!H74*'Project Summary Sheet (PSS)_1'!$F$18),0))","v":""},{"$f":"IF(A54=\"\",\"\",IF('Project Summary Sheet (PSS)_1'!I74=\"\",\"-\",IF('Project Summary Sheet (PSS)_1'!I74='PSS References'!$N$18,'Project Summary Sheet (PSS)_1'!J74*'PSS Savings Check_1'!$W$9,IF('Project Summary Sheet (PSS)_1'!I74='PSS References'!$N$19,'Project Summary Sheet (PSS)_1'!J74*'PSS Savings Check_1'!$AA$9,IF('Project Summary Sheet (PSS)_1'!I74='PSS References'!$N$20,'Project Summary Sheet (PSS)_1'!J74*'PSS Savings Check_1'!$Y$9,IF('Project Summary Sheet (PSS)_1'!I74='PSS References'!$N$21,'Project Summary Sheet (PSS)_1'!J74*'PSS Savings Check_1'!$Y$9,IF('Project Summary Sheet (PSS)_1'!I74='PSS References'!$N$22,'Project Summary Sheet (PSS)_1'!J74*'PSS Savings Check_1'!$Y$9,IF('Project Summary Sheet (PSS)_1'!I74='PSS References'!$N$23,'Project Summary Sheet (PSS)_1'!J74*'PSS Savings Check_1'!$AC$9,IF('Project Summary Sheet (PSS)_1'!I74='PSS References'!$N$24,'Project Summary Sheet (PSS)_1'!J74*'PSS Savings Check_1'!$AE$9,IF('Project Summary Sheet (PSS)_1'!I74='PSS References'!$N$25,'Project Summary Sheet (PSS)_1'!J74*'PSS Savings Check_1'!$AG$9,IF('Project Summary Sheet (PSS)_1'!I74='PSS References'!$N$17,\"-\")))))))))))","v":""},{"$f":"IF(A54=\"\",\"\",IF('Project Summary Sheet (PSS)_1'!I74=\"\",\"-\",IF('Project Summary Sheet (PSS)_1'!I74='PSS References'!$N$17,IF('Project Summary Sheet (PSS)_1'!W74='PSS References'!$N$18,'Project Summary Sheet (PSS)_1'!X74*'PSS Savings Check_1'!$W$9,IF('Project Summary Sheet (PSS)_1'!W74='PSS References'!$N$19,'Project Summary Sheet (PSS)_1'!X74*'PSS Savings Check_1'!$AA$9,IF('Project Summary Sheet (PSS)_1'!W74='PSS References'!$N$20,'Project Summary Sheet (PSS)_1'!X74*'PSS Savings Check_1'!$Y$9,IF('Project Summary Sheet (PSS)_1'!W74='PSS References'!$N$21,'Project Summary Sheet (PSS)_1'!X74*'PSS Savings Check_1'!$Y$9,IF('Project Summary Sheet (PSS)_1'!W74='PSS References'!$N$22,'Project Summary Sheet (PSS)_1'!X74*'PSS Savings Check_1'!$Y$9,IF('Project Summary Sheet (PSS)_1'!W74='PSS References'!$N$23,'Project Summary Sheet (PSS)_1'!X74*'PSS Savings Check_1'!$AC$9,IF('Project Summary Sheet (PSS)_1'!W74='PSS References'!$N$24,'Project Summary Sheet (PSS)_1'!X74*'PSS Savings Check_1'!$AE$9,IF('Project Summary Sheet (PSS)_1'!W74='PSS References'!$N$25,'Project Summary Sheet (PSS)_1'!X74*'PSS Savings Check_1'!$AG$9,IF('Project Summary Sheet (PSS)_1'!W74='PSS References'!$N$17,\"Can't be 'Multiple'\",))))))))),\"-\")))","v":""},{"$f":"IF(A54=\"\",\"\",IF('Project Summary Sheet (PSS)_1'!I74=\"\",\"-\",IF('Project Summary Sheet (PSS)_1'!I74='PSS References'!$N$17,IF('Project Summary Sheet (PSS)_1'!Y74='PSS References'!$N$18,'Project Summary Sheet (PSS)_1'!Z74*'PSS Savings Check_1'!$W$9,IF('Project Summary Sheet (PSS)_1'!Y74='PSS References'!$N$19,'Project Summary Sheet (PSS)_1'!Z74*'PSS Savings Check_1'!$AA$9,IF('Project Summary Sheet (PSS)_1'!Y74='PSS References'!$N$20,'Project Summary Sheet (PSS)_1'!Z74*'PSS Savings Check_1'!$Y$9,IF('Project Summary Sheet (PSS)_1'!Y74='PSS References'!$N$21,'Project Summary Sheet (PSS)_1'!Z74*'PSS Savings Check_1'!$Y$9,IF('Project Summary Sheet (PSS)_1'!Y74='PSS References'!$N$22,'Project Summary Sheet (PSS)_1'!Z74*'PSS Savings Check_1'!$Y$9,IF('Project Summary Sheet (PSS)_1'!Y74='PSS References'!$N$23,'Project Summary Sheet (PSS)_1'!Z74*'PSS Savings Check_1'!$AC$9,IF('Project Summary Sheet (PSS)_1'!Y74='PSS References'!$N$24,'Project Summary Sheet (PSS)_1'!Z74*'PSS Savings Check_1'!$AE$9,IF('Project Summary Sheet (PSS)_1'!Y74='PSS References'!$N$25,'Project Summary Sheet (PSS)_1'!Z74*'PSS Savings Check_1'!$AG$9,IF('Project Summary Sheet (PSS)_1'!Y74='PSS References'!$N$17,\"Can't be 'Multiple'\",))))))))),\"-\")))","v":""},{"$f":"IF(A54=\"\",\"\",IF('Project Summary Sheet (PSS)_1'!I74=\"\",\"-\",IF('Project Summary Sheet (PSS)_1'!I74='PSS References'!$N$17,IF('Project Summary Sheet (PSS)_1'!AA74='PSS References'!$N$18,'Project Summary Sheet (PSS)_1'!AB74*'PSS Savings Check_1'!$W$9,IF('Project Summary Sheet (PSS)_1'!AA74='PSS References'!N67,'Project Summary Sheet (PSS)_1'!AB74*'PSS Savings Check_1'!$AA$9,IF('Project Summary Sheet (PSS)_1'!AA74='PSS References'!$N$20,'Project Summary Sheet (PSS)_1'!AB74*'PSS Savings Check_1'!$Y$9,IF('Project Summary Sheet (PSS)_1'!AA74='PSS References'!$N$21,'Project Summary Sheet (PSS)_1'!AB74*'PSS Savings Check_1'!$Y$9,IF('Project Summary Sheet (PSS)_1'!AA74='PSS References'!$N$22,'Project Summary Sheet (PSS)_1'!AB74*'PSS Savings Check_1'!$Y$9,IF('Project Summary Sheet (PSS)_1'!AA74='PSS References'!$N$23,'Project Summary Sheet (PSS)_1'!AB74*'PSS Savings Check_1'!$AC$9,IF('Project Summary Sheet (PSS)_1'!AA74='PSS References'!$N$24,'Project Summary Sheet (PSS)_1'!AB74*'PSS Savings Check_1'!$AE$9,IF('Project Summary Sheet (PSS)_1'!AA74='PSS References'!$N$25,'Project Summary Sheet (PSS)_1'!AB74*'PSS Savings Check_1'!$AG$9,IF('Project Summary Sheet (PSS)_1'!AA74='PSS References'!$N$17,\"Can't be 'Multiple'\",))))))))),\"-\")))","v":""},"",{"$f":"IF('Project Summary Sheet (PSS)_1'!L74=\"\",\"\",'Project Summary Sheet (PSS)_1'!L74)","v":""},""]
[{"$f":"IF('Project Summary Sheet (PSS)_1'!B75=\"\",\"\",'Project Summary Sheet (PSS)_1'!B75)","v":""},{"$f":"IF('Project Summary Sheet (PSS)_1'!C75=\"\",\"\",'Project Summary Sheet (PSS)_1'!C75)","v":""},{"$f":"IFERROR(VLOOKUP(A55,'Project Summary Sheet (PSS)_1'!$B$23:$Q$75,6,FALSE)/'Project Summary Sheet (PSS)_1'!$D$17,\"\")","v":""},{"$f":"IFERROR(VLOOKUP(A55,'Project Summary Sheet (PSS)_1'!$B$23:$Q$75,9,FALSE)/('Project Summary Sheet (PSS)_1'!$T$17-('Project Summary Sheet (PSS)_1'!$D$17*'PSS References'!$E$11)),\"\")","v":""},{"$f":"IFERROR(((VLOOKUP(A55,'Project Summary Sheet (PSS)_1'!$B$23:$Q$75,6,FALSE)*'PSS References'!$E$11)+VLOOKUP(A55,'Project Summary Sheet (PSS)_1'!$B$23:$Q$75,9,FALSE))/'Project Summary Sheet (PSS)_1'!$T$17,\"\")","v":""},{"$f":"IF(A55=\"\",\"\",IF(M55<0,IF(OR(M55<'Project Summary Sheet (PSS)_1'!L75*1.1,M55>'Project Summary Sheet (PSS)_1'!L75*0.9),\"Check Rates\",\"Rate OK\"),IF(OR(M55>'Project Summary Sheet (PSS)_1'!L75*1.1,M55<'Project Summary Sheet (PSS)_1'!L75*0.9),\"Check Rates\",\"Rate OK\")))","v":""},{"$f":"IF(A55=\"\",\"\",'Project Summary Sheet (PSS)_1'!G75*'Project Summary Sheet (PSS)_1'!$E$18)","v":""},{"$f":"IF(A55=\"\",\"\",IF('Project Summary Sheet (PSS)_1'!$F$18<>\"\",('Project Summary Sheet (PSS)_1'!H75*'Project Summary Sheet (PSS)_1'!$F$18),0))","v":""},{"$f":"IF(A55=\"\",\"\",IF('Project Summary Sheet (PSS)_1'!I75=\"\",\"-\",IF('Project Summary Sheet (PSS)_1'!I75='PSS References'!$N$18,'Project Summary Sheet (PSS)_1'!J75*'PSS Savings Check_1'!$W$9,IF('Project Summary Sheet (PSS)_1'!I75='PSS References'!$N$19,'Project Summary Sheet (PSS)_1'!J75*'PSS Savings Check_1'!$AA$9,IF('Project Summary Sheet (PSS)_1'!I75='PSS References'!$N$20,'Project Summary Sheet (PSS)_1'!J75*'PSS Savings Check_1'!$Y$9,IF('Project Summary Sheet (PSS)_1'!I75='PSS References'!$N$21,'Project Summary Sheet (PSS)_1'!J75*'PSS Savings Check_1'!$Y$9,IF('Project Summary Sheet (PSS)_1'!I75='PSS References'!$N$22,'Project Summary Sheet (PSS)_1'!J75*'PSS Savings Check_1'!$Y$9,IF('Project Summary Sheet (PSS)_1'!I75='PSS References'!$N$23,'Project Summary Sheet (PSS)_1'!J75*'PSS Savings Check_1'!$AC$9,IF('Project Summary Sheet (PSS)_1'!I75='PSS References'!$N$24,'Project Summary Sheet (PSS)_1'!J75*'PSS Savings Check_1'!$AE$9,IF('Project Summary Sheet (PSS)_1'!I75='PSS References'!$N$25,'Project Summary Sheet (PSS)_1'!J75*'PSS Savings Check_1'!$AG$9,IF('Project Summary Sheet (PSS)_1'!I75='PSS References'!$N$17,\"-\")))))))))))","v":""},{"$f":"IF(A55=\"\",\"\",IF('Project Summary Sheet (PSS)_1'!I75=\"\",\"-\",IF('Project Summary Sheet (PSS)_1'!I75='PSS References'!$N$17,IF('Project Summary Sheet (PSS)_1'!W75='PSS References'!$N$18,'Project Summary Sheet (PSS)_1'!X75*'PSS Savings Check_1'!$W$9,IF('Project Summary Sheet (PSS)_1'!W75='PSS References'!$N$19,'Project Summary Sheet (PSS)_1'!X75*'PSS Savings Check_1'!$AA$9,IF('Project Summary Sheet (PSS)_1'!W75='PSS References'!$N$20,'Project Summary Sheet (PSS)_1'!X75*'PSS Savings Check_1'!$Y$9,IF('Project Summary Sheet (PSS)_1'!W75='PSS References'!$N$21,'Project Summary Sheet (PSS)_1'!X75*'PSS Savings Check_1'!$Y$9,IF('Project Summary Sheet (PSS)_1'!W75='PSS References'!$N$22,'Project Summary Sheet (PSS)_1'!X75*'PSS Savings Check_1'!$Y$9,IF('Project Summary Sheet (PSS)_1'!W75='PSS References'!$N$23,'Project Summary Sheet (PSS)_1'!X75*'PSS Savings Check_1'!$AC$9,IF('Project Summary Sheet (PSS)_1'!W75='PSS References'!$N$24,'Project Summary Sheet (PSS)_1'!X75*'PSS Savings Check_1'!$AE$9,IF('Project Summary Sheet (PSS)_1'!W75='PSS References'!$N$25,'Project Summary Sheet (PSS)_1'!X75*'PSS Savings Check_1'!$AG$9,IF('Project Summary Sheet (PSS)_1'!W75='PSS References'!$N$17,\"Can't be 'Multiple'\",))))))))),\"-\")))","v":""},{"$f":"IF(A55=\"\",\"\",IF('Project Summary Sheet (PSS)_1'!I75=\"\",\"-\",IF('Project Summary Sheet (PSS)_1'!I75='PSS References'!$N$17,IF('Project Summary Sheet (PSS)_1'!Y75='PSS References'!$N$18,'Project Summary Sheet (PSS)_1'!Z75*'PSS Savings Check_1'!$W$9,IF('Project Summary Sheet (PSS)_1'!Y75='PSS References'!$N$19,'Project Summary Sheet (PSS)_1'!Z75*'PSS Savings Check_1'!$AA$9,IF('Project Summary Sheet (PSS)_1'!Y75='PSS References'!$N$20,'Project Summary Sheet (PSS)_1'!Z75*'PSS Savings Check_1'!$Y$9,IF('Project Summary Sheet (PSS)_1'!Y75='PSS References'!$N$21,'Project Summary Sheet (PSS)_1'!Z75*'PSS Savings Check_1'!$Y$9,IF('Project Summary Sheet (PSS)_1'!Y75='PSS References'!$N$22,'Project Summary Sheet (PSS)_1'!Z75*'PSS Savings Check_1'!$Y$9,IF('Project Summary Sheet (PSS)_1'!Y75='PSS References'!$N$23,'Project Summary Sheet (PSS)_1'!Z75*'PSS Savings Check_1'!$AC$9,IF('Project Summary Sheet (PSS)_1'!Y75='PSS References'!$N$24,'Project Summary Sheet (PSS)_1'!Z75*'PSS Savings Check_1'!$AE$9,IF('Project Summary Sheet (PSS)_1'!Y75='PSS References'!$N$25,'Project Summary Sheet (PSS)_1'!Z75*'PSS Savings Check_1'!$AG$9,IF('Project Summary Sheet (PSS)_1'!Y75='PSS References'!$N$17,\"Can't be 'Multiple'\",))))))))),\"-\")))","v":""},{"$f":"IF(A55=\"\",\"\",IF('Project Summary Sheet (PSS)_1'!I75=\"\",\"-\",IF('Project Summary Sheet (PSS)_1'!I75='PSS References'!$N$17,IF('Project Summary Sheet (PSS)_1'!AA75='PSS References'!$N$18,'Project Summary Sheet (PSS)_1'!AB75*'PSS Savings Check_1'!$W$9,IF('Project Summary Sheet (PSS)_1'!AA75='PSS References'!N68,'Project Summary Sheet (PSS)_1'!AB75*'PSS Savings Check_1'!$AA$9,IF('Project Summary Sheet (PSS)_1'!AA75='PSS References'!$N$20,'Project Summary Sheet (PSS)_1'!AB75*'PSS Savings Check_1'!$Y$9,IF('Project Summary Sheet (PSS)_1'!AA75='PSS References'!$N$21,'Project Summary Sheet (PSS)_1'!AB75*'PSS Savings Check_1'!$Y$9,IF('Project Summary Sheet (PSS)_1'!AA75='PSS References'!$N$22,'Project Summary Sheet (PSS)_1'!AB75*'PSS Savings Check_1'!$Y$9,IF('Project Summary Sheet (PSS)_1'!AA75='PSS References'!$N$23,'Project Summary Sheet (PSS)_1'!AB75*'PSS Savings Check_1'!$AC$9,IF('Project Summary Sheet (PSS)_1'!AA75='PSS References'!$N$24,'Project Summary Sheet (PSS)_1'!AB75*'PSS Savings Check_1'!$AE$9,IF('Project Summary Sheet (PSS)_1'!AA75='PSS References'!$N$25,'Project Summary Sheet (PSS)_1'!AB75*'PSS Savings Check_1'!$AG$9,IF('Project Summary Sheet (PSS)_1'!AA75='PSS References'!$N$17,\"Can't be 'Multiple'\",))))))))),\"-\")))","v":""},"",{"$f":"IF('Project Summary Sheet (PSS)_1'!L75=\"\",\"\",'Project Summary Sheet (PSS)_1'!L75)","v":""},""]
[{"$f":"'Project Summary Sheet (PSS)_1'!C77","v":"TOTAL RECOMMENDED (Measures &/or Packages):"},null,{"$f":"IFERROR(VLOOKUP(A56,'Project Summary Sheet (PSS)_1'!$C$23:$S$77,5,FALSE)/'Project Summary Sheet (PSS)_1'!$D$17,\"\")","v":""},{"$f":"IFERROR(VLOOKUP(A56,'Project Summary Sheet (PSS)_1'!$C$23:$S$77,8,FALSE)/('Project Summary Sheet (PSS)_1'!T17-('Project Summary Sheet (PSS)_1'!D17*0.003412)),\"\")","v":""},{"$f":"IFERROR((('Project Summary Sheet (PSS)_1'!$G$77*'PSS References'!$E$11)+'Project Summary Sheet (PSS)_1'!$J$77)/'Project Summary Sheet (PSS)_1'!$T$17,\"\")","v":""}]

{"sheet":"PSS Notes List","index":30,"n_rows":39,"n_cols":3,"rows_kept":39,"cut":false,"hidden":false,"merged":[]}
["Cell #","Cell Contents","Note"]
["B23","Measure/ Package ID","Assign a reference ID"]
["B25","Itemized Measures","∙ Enter each measure that was evaluated in the study, including measures not recommended for implementation\n∙ If additional rows are needed, click the + symbol next to row 64 below\n∙ If the study includes packaged measures, \n          ∙ list each individual measure here AND\n           ∙ unhide the Packaged Measures section below (at row 76) and include a line item for each package option. Additional packaged measure guidance is in a note in cell A65"]
["B65","Measure Packages","∙ If applicable, list each package of measures that were evaluated in the study as separate line items, including packages not recommended for implementation \n∙ Include interactive savings effects of the measures within each packaged line item\n∙ Also list all individual measures that were evaluated in the study in the Itemized Measures section above. Exclude interactive savings from the individual measures \n\nMeasure Status designation guidance for studies that include packaged measures: \n∙ Mark the recommended package as RME (recommended mutually exclusive)\n∙ Mark the not recommended package or packages as NR (not recommended)\n∙ In the Itemized Measures section above, mark the measures that are included in the recommended package(s) as ME (mutually exclusive)\n∙ In the Itemized Measures section above, mark the measures that are not included in the recommended package(s) with the most appropriate measure status  from these options: I, R, NR, RNE, or RS (see the note in cell F23)"]
["C2","PROJECT:","Enter project identifier (NYSERDA Project Number, Project Name, Address, Client, ETC.)"]
["C3","BUILDING:","Enter building identifier (Building Name, Address, ETC.)"]
["C23","Measure/Package Name","Provide a concise description of the measure. For measure packages, summarize the measures within the package"]
["D17","Electric (kWh) Baseline Energy Use","∙ Report value in kWh"]
["D18","Electric (kWh) Rate Type","∙ Use the dropdown to select the rate type used in the analysis\n\nMarginal/Itemized Rate Analysis:\nTotal electric cost savings = kWh cost savings + kW cost savings\n• Measure cost savings are isolated by kWh and kW and then added together\n• kWh cost savings = kWh rate * kWh savings\n• kW cost savings = kW rate * kW savings\n• kWh rate = kWh cost (including kWh associated taxes, fees, etc.) / kWh consumption\n• kW rate = kW cost (including kW associated taxes, fees, etc.) / kW consumption\n• Use case: preferred for all energy studies, required for studies other than Level 1+\n\nBlended Rate Analysis: \nTotal electric cost savings = kWh rate * kWh savings\n• Measure cost savings are not isolated by kWh and kW\n• kWh rate = Total electric cost / kWh consumption\n• This method implies that any measure with kWh energy impacts will also have a direct impact on utility demand charges (kW).\n• Use case: acceptable for Level I studies or when there are no demand charges on an electric utility bill"]
["E18","Electric (kWh) Average Utility Rate","∙ Enter the electric rate used in the calculations"]
["F17","Electric Demand (kW) Baseline Energy Use","∙ Report value in kW"]
["F18","Electric Demand (kW) Average Utility Rate","∙ Report as the rate per kW"]
["F23","Measure/Package Status","I: Installed\nNR: Not Recommended \nR: Recommended \nRNE: Recommended Non-Energy is for measure(s) that are recommended for a justifiable reason other than energy savings and/or a favorable financial payback (ex. equipment end of life, compliance/code requirement, comfort, measures without energy savings, etc.) \nRME: Recommended Mutually Exclusive is a recommended measure that is mutually exclusive to an alternative analyzed option(s) that directly impacts the same system(s)/equipment (i.e. the RME measure is the best option compared to the other analyzed option(s). A RME measure must be accompanied by one or more mutually exclusive (ME) measures. \nME: Mutually Exclusive is a not recommended measure(s) that has a corresponding alternative option that was analyzed and recommended over the mutually exclusive option(s). ME measure(s) must be accompanied by a RME measure.\nRS: Recommended for Further Study is a measure that requires additional analysis beyond the project's approved scope of work in order to fully evaluate the merits of the measure.  "]
["G22","Energy Savings","All savings should be reported as ANNUAL savings, including kW."]
["G24","Supply Savings (kWh)","Report any and all electric savings in kWh"]
["H17","Natural Gas (Therms) Baseline Energy Use","∙ Report value in Therms"]
["H18","Natural Gas (Therms) Average Utility Rate","∙ Report as the rate per Therm"]
["I24","Fuel Savings Type","If the fuel savings derive from more than one fuel source (electric excluded), select 'Multiple' and complete the breakout section to the right (columns V:AB)"]
["J16","Oil [Select Type]","Use the dropdown to select the type of Oil (#2, #4, #6)"]
["J17","Oil [Select Type] Baseline Energy Use","∙ Select the Oil Type in cell J16\n∙ Report value in Gallons"]
["J18","Oil [Select Type] Average Utility Rate","∙ Report as the rate per Gallon"]
["J24","Fuel Savings (MMBtu)","∙Convert savings to MMBtu\n∙Do not include electric savings. Report electric savings in column F\n∙If the Fuel Savings Type is \"Multiple\", this cell will auto calculate from the Fuel Savings Breakout section."]
["K24","Energy Savings to Total Baseline Use (%)","Energy Savings to Total Fuel Baseline Use is a comparison of the total electric & fuel savings to the total baseline energy use"]
["L17","Purchased Steam (Mlbs.) Baseline Energy Use","∙ Report value in Mlbs."]
["L18","Purchased Steam (Mlbs.) Average Utility Rate","∙ Report as the rate per Mlbs."]
["M24","Energy Cost Savings to Total Annual Cost (%)","Energy Cost Savings to Total Annual Cost is a comparison of the total annual cost savings to the total baseline annual energy cost"]
["N17","Propane (Gallons) Baseline Energy Use","∙ Report value in Gallons"]
["N18","Propane (Gallons) Average Utility Rate","∙ Report as the rate per Gallon"]
["P17","Coal (Tons) Baseline Energy Use","∙ Report value in Tons"]
["P18","Coal (Tons) Average Utility Rate","∙ Report as the rate per Ton"]
["R16","Other [Indicate] (MMBtu)","ex. Chilled water from a central plant with unknown fuel source. Indicate the other fuel source(s) in cell Y16."]
["R17","Other (MMBtu) Baseline Energy Use","∙ Report value in MMBtu"]
["R18","Other (MMBtu) Average Utility Rate","∙ Report as the rate per MMBtu"]
["S23"," Other Cost Savings (Annual)","Include any additional cost savings desired such as potential incentives/rebates, avoided penalties, etc."]
["T16","Total Baseline Use (MMBtu)","∙ Includes all electric and fuel baseline use\n∙ MMBtu conversion factors used are indicated to the right"]
["X24","Fuel Type 1 Fuel Savings (MMBtu)","∙Convert all fuel source savings to MMBtu\n∙Do not include electric savings. Report electric savings in column F"]
["Z24","Fuel Type 2 Fuel Savings (MMBtu)","∙Convert all fuel source savings to MMBtu\n∙Do not include electric savings. Report electric savings in column F"]
["X16","Other Fuel Source(s)","See the note in cell R16"]
["AB24","Fuel Type 3 Fuel Savings (MMBtu)","∙Convert all fuel source savings to MMBtu\n∙Do not include electric savings. Report electric savings in column F"]

{"sheet":"PSS References","index":31,"n_rows":38,"n_cols":19,"rows_kept":38,"cut":false,"hidden":true,"merged":[[18,1,18,2],[19,1,19,2],[20,1,20,2],[21,1,21,2],[25,14,25,16],[12,9,12,12],[0,1,0,2],[8,3,8,8],[9,0,9,2],[10,0,10,2],[11,0,11,2]]}
[null,"Measure Status",null,null,"Enter Fuel Savings in the Breakout section to the RIGHT for measures with savings from Multiple fuel sources  → → → → → → →"]
[null,"I","Implemented"]
[null,"R","Recommended"]
[null,"NR","Not Recommended"]
[null,"RME","Recommeded Mutually Exclusive"]
[null,"ME","Mutually Exclusive to Recommended Option"]
[null,"RNE","Recommended Non-Energy"]
[null,"RS","Recommended for Further Study"]
[null,null,null,"MMBtu Conversion Factors"]
[null,null,null,"Btu",1000000,"#2 gallon",0.13900000000000001,"Steam Mlbs.",1.194]
[null,null,null,"kWh",3.4120000000000001E-3,"#4 gallon",0.1467,"LPG gallon",9.1499999999999998E-2]
[null,null,null,"therms",0.1,"#6 gallon",0.15,"Coal tons",24]
[null,null,null,null,null,null,null,null,null,"Oil Types"]
[null,null,null,null,null,null,null,null,null,"Oil\n[Select Type]","#2 Oil\n(Gallons)","#4 Oil\n(Gallons)","#6 Oil\n(Gallons)"]
[null,null,null,null,null,null,null,null,null,null,null,null,null,"Fuel Type"]
[null,null,null,null,null,null,null,null,null,null,null,null,null,"N/A"]
[null,null,null,null,null,null,null,null,null,null,null,null,null,"Multiple"]
[null,null,null,null,null,null,null,null,null,null,null,null,null,"NGas"]
[null,null,null,null,null,null,null,null,null,null,null,null,null,"Steam"]
[null,null,null,null,null,null,null,null,null,null,null,null,null,"Oil2"]
[null,null,null,null,null,null,null,null,null,null,null,null,null,"Oil4"]
[null,null,null,null,null,null,null,null,null,null,null,null,null,"Oil6"]
[null,null,null,null,null,null,null,null,null,null,null,null,null,"Propane"]
[null,null,null,null,null,null,null,null,null,null,null,null,null,"Coal"]
[null,null,null,null,null,null,null,null,null,null,null,null,null,"Other"]
[null,null,null,null,null,null,null,null,null,null,null,null,null,null,"Rate Types"]
[null,null,null,null,null,null,null,null,null,null,null,null,null,null," [Select Rate Type] ","Marginal","Blended"]
[null,null,null,null,null,null,null,null,null,null,null,null,null,null,null,null,null,"Fuel Type","Scope and Prelim Cost Est Fuel Type"]
[null,null,null,null,null,null,null,null,null,null,null,null,null,null,null,null,null,"N/A"]
[null,null,null,null,null,null,null,null,null,null,null,null,null,null,null,null,null,"Multiple"]
[null,null,null,null,null,null,null,null,null,null,null,null,null,null,null,null,null,"NGas","Natural Gas"]
[null,null,null,null,null,null,null,null,null,null,null,null,null,null,null,null,null,"Steam","District Steam"]
[null,null,null,null,null,null,null,null,null,null,null,null,null,null,null,null,null,"Oil2","Oil #2"]
[null,null,null,null,null,null,null,null,null,null,null,null,null,null,null,null,null,"Oil4","Oil #4"]
[null,null,null,null,null,null,null,null,null,null,null,null,null,null,null,null,null,"Oil6","Oil #6"]
[null,null,null,null,null,null,null,null,null,null,null,null,null,null,null,null,null,"Propane","Propane"]
[null,null,null,null,null,null,null,null,null,null,null,null,null,null,null,null,null,"Coal"]
[null,null,null,null,null,null,null,null,null,null,null,null,null,null,null,null,null,"Other"]

{"sheet":"References","index":32,"n_rows":23,"n_cols":9,"rows_kept":23,"cut":false,"hidden":true,"merged":[[19,0,19,8],[20,0,20,9],[21,0,21,8],[22,0,22,8],[1,1,1,2],[1,4,1,5],[1,7,1,8],[14,0,14,9],[15,0,15,9],[16,0,16,9]]}
[]
[null,"Measure Status1",null,null,"Fuel Saved",null,null,"MMBtu Conversion Factors"]
[null,"I","Implemented",null,"Elec","Electric",null,"Btu",1000000]
[null,"R","Recommended",null,"NGas","Natural Gas",null,"kWh",3.4120000000000001E-3]
[null,"RS","Further Study Recommended",null,"Oil2","Oil #2",null,"therms",0.1]
[null,"NR","Not Recommended",null,"Oil4","Oil #4",null,"#2 gallon",0.13900000000000001]
[null,"RME","Recommeded Mutually Exclusive",null,"Oil6","Oil #6",null,"#4 gallon",0.1467]
[null,"ME","Mutually Exclusive to Recommended Option",null,"Steam","District Steam",null,"#6 gallon",0.15]
[null,"RNE","Recommended Non-Energy",null,"LPG","Propane",null,"Steam lbs.",1.1999999999999999E-3]
[null,null,null,null,"Coal","Coal",null,"LPG gallon",9.1499999999999998E-2]
[null,null,null,null,"Other","Other",null,"Coal tons",24]
[]
[]
["Notes:"]
["2 Fuel Savings Type: Indicate the reported MMBtu savings fuel type. Select the predominant fuel type if there are MMBtu \n  savings from multiple fuel sources"]
["3 Energy Savings to Total Fuel Baseline Use is a comparison of the total electric & fuel savings to the total baseline energy use"]
["4 Cost Savings to Total Annual Cost is a comparison of the total annual cost savings to the total baseline annual energy cost"]
[]
["Instructions:"]
["* Fill in the light blue cells, as appropriate. White cells will auto-calculate."]
["* Energy savings must be presented as savings at the customer’s utility meter(s), not at the individual building or tenant space"]
["* Update the baseline energy use conversion factors in the 'References' tab, as necessary"]
["* Unhide rows to enter more measures, as necessary"]

{"sheet":"drop down tables","index":33,"n_rows":56,"n_cols":20,"rows_kept":56,"cut":false,"hidden":true,"merged":[]}
[]
[]
["Executive Summary Tab"]
["Potential Health Benefit",null,"Urgency",null,null,null,null,null,null,null,"Y/N",null,"Burner Control Type",null,"Burner Setting"]
["High",null,"Critical",null,null,null,null,null,null,null,"Yes",null,"Fixed ",null,"Automatic","FurnaceTypes","ChillerTypes","ACTypes"]
["Medium",null,"Short Term (< 3 years)",null,null,null,null,null,null,null,"No",null,"Modulating",null,"Manual","<Select One>","<Select One>","<Select One>"]
["Low",null,"Long Term (3 to 20 years)",null,null,null,null,null,null,null,"N/A",null,null,null,null,"90 AFUE","Air Cooled, Reciprocal/Screw","SEER 14"]
["None",null,null,null,null,null,null,null,null,null,null,null,null,null,null,"92 AFUE","Water Cooled Recriprocal","SEER 15"]
[null,null,null,null,null,null,null,null,null,null,null,null,null,null,null,"94 AFUE","Water Cooled Screw, <150 ton","SEER 16"]
[null,null,null,null,null,null,null,null,null,null,null,null,null,null,null,"96 AFUE","Water Cooled Screw, 150-300 ton","SEER 17"]
[null,null,null,null,null,null,null,null,null,null,null,null,null,null,null,null,"Water Cooled Screw, >300 ton","SEER 18"]
["Apartment Metering Type",null,"Apartment Utility Bills Paid By",null,null,null,"Owner-Paid Electric Rate",null,null,"Motor Phases",null,"Motor Type",null,null,null,null,"Water Cooled Centrifugal, <150 ton"]
["Direct Metered",null,"Tenant (directly)",null,null,null,"EL2",null,null,"Single phase",null,"Single speed",null,null,null,null,"Water Cooled Centrifugal, 150-300 ton"]
["Submetered",null,"Tenant (indirectly through rent/common charges)",null,null,null,"EL8",null,null,"Three phase",null,"Variable speed",null,null,null,null,"Water Cooled Centrifugal, >300 ton"]
["Master Metered",null,"Owner",null,null,null,"EL9"]
[null,null,null,null,null,null,"N/A"]
[]
[]
["Measure Type",null,"Apt Sizes",null,null,null,"Ductwork type"]
["Capital",null,"Studio",null,null,null,"Sheet metal"]
["EEWC-Incremental",null,"1 Bedroom",null,null,null,"Drywall shafts"]
["EEWC-Only",null,"2 Bedroom",null,null,null,"Masonry"]
["Health",null,"3 Bedroom",null,null,null,"Other"]
[null,null,"4 Bedroom"]
[null,null,"5 Bedroom"]
["CFM Source",null,"Commercial Spaces",null,null,null,null,null,null,"MeasureCategory","Appliance","DHW","Envelope","Heating_Cooling","Lighting","Motors","Ventilation","Renewables","Other","DHW Controls"]
["Tested",null,"Other",null,null,null,null,null,null,"Appliance","Dishwasher, Install Energy Star","Controls","Air Sealing","Boiler, Replace (Central)","Exterior Lighting, Upgrade","Elevator Motors and Controls, Upgrade","Constant Air Regulators, Install","CHP","Other","N/A"]
["Drawings",null,null,null,null,null,null,null,null,"DHW","Gas-fired Dryers, Replace Electric","Low-flow Devices","Exterior Doors, Replace","Boiler, Replace (In-Unit)","High Efficiency Fluorescent, Apt, Install","Exhaust Fans, Replace","Duct Sealing","Photovoltaic System","Submetering","Timer"]
["Manufacturer Rating",null,null,null,null,null,null,null,null,"Envelope","Other Appliances, Install Energy Star","Other DHW Measure","Insulation, Above Grade Walls","Boiler/Burner Clean and Tune","High Efficiency Fluorescent, CA, Install","Motors, Install NEMA Premium Efficiency","Exhaust Fan Demand Control","Solar Hot Water",null,"Demand"]
["Estimated",null,null,null,null,null,null,null,null,"Heating/Cooling","Refrigerators, install Energy Star","Piping, DHW, Insulate","Insulation, Below Grade Walls","Burner, Replace","LED Exit Signs","Other Motor Measure","Fan/Air Handlers, Upgrade","Wind Turbine",null,"Aquastat"]
["Other",null,null,null,null,null,null,null,null,"Lighting","Washing Machines, Install Energy Star","Replace DHW Heater (Central)","Insulation, Other Shell","Central AC/HP","LED Fixtures & Screw-Ins","Pumps, Upgrade","Heat/Energy Recovery",null,null,"None"]
[null,null,null,null,null,null,null,null,null,"Motors",null,"Replace DHW Heater (In-Unit)","Insulation, Roof Deck or Attic","Chiller, Replace","Other Lighting Measure","Var. Speed Drive","Other Ventilation Measure"]
[null,null,null,null,null,null,null,null,null,"Renewables",null,"Replace DHW Indirect-fired Heater","Insulation, Slab","Distribution System, Upgrade","Timers/Sensors, Install",null,"Ventilation Central Controls"]
["Flood Zone","Borough","Applies to this Building",null,null,null,null,null,null,"Ventilation",null,null,"Other Envelope Measure","Economizer, Install"]
["Yes","Manhattan","Yes",null,null,null,null,null,null,"Other",null,null,"Smoke-Driven Louver, Install","Energy Management System (EMS), Install"]
["No","Brooklyn","No",null,null,null,null,null,null,null,null,null,"Vertical Shafts, Seal","Furnace, Replace"]
[null,"Bronx",null,null,null,null,null,null,null,null,null,null,"Windows, Replace","Geothermal Heat Pump"]
[null,"Staten Island",null,null,null,null,null,null,null,null,null,null,"Windows, Weatherstrip or Airseal","Other Cooling Measure"]
[null,"Queens",null,null,null,null,null,null,null,null,null,null,null,"Other Heating Measure"]
[null,null,null,null,null,null,null,null,null,null,null,null,null,"Outdoor Reset Control, Install"]
[null,null,null,null,null,null,null,null,null,null,null,null,null,"PTAC"]
["Areas?",null,"O&M intervention type",null,null,null,"Fuel Type",null,null,null,null,null,null,"Piping, Heating, Insulate"]
["Site Work",null,"Heating and Cooling",null,null,null,"Natural Gas",null,null,null,null,null,null,"Programmable Thermostats, Common Area"]
["Building Envelope",null,"Appliances",null,null,null,"Oil #2",null,null,null,null,null,null,"Split System AC/HP"]
["Interior Common Space",null,"Lighting",null,null,null,"Oil #4",null,null,null,null,null,null,"Steam Traps, Replace"]
["Apartments",null,"Existing Maintenance",null,null,null,"Oil #6",null,null,null,null,null,null,"Thermostatic Radiator Valves, install"]
["Building Systems",null,"Water Conservation",null,null,null,"District Steam",null,null,null,null,null,null,"Water Source AC/HP"]
["Environmental",null,"Recycling/Waste Management",null,null,null,null,null,null,null,null,null,null,"Window Air Conditioners, Install"]
["Special Considerations",null,"Other"]
["Healthy/Pest Management"]
[]
[]
["Condition"]
["Good"]
["Average"]
["Poor"]